{"text_format":"1","workbook":"xlsx","n_sheets":11,"sheets":["ReadMe","Base Values","HVI & Yield Entry","Premiums & Discounts","Yield & Return","Mic","Str","Staple Lookup","G&S","Uni","Ext"],"not_rendered":{"charts":0,"images":1,"macros":1,"external_links":1,"defined_names":2,"comments":0,"pivot_tables":0},"unopened":[],"bounds":{"document_bytes":16777216,"sheet_cells":100000,"rows_first":2000,"rows_last":500,"rows_between":2000,"halvings":0,"cell_chars":16384,"cell_head_chars":4096},"cells_cut":0,"cells_raw":0,"read":"whole","date_system":"1900"}

{"sheet":"ReadMe","index":0,"n_rows":35,"n_cols":1,"rows_kept":35,"cut":false,"hidden":false,"merged":[]}
[]
[]
[]
["Two data entry sheets (Base Values and HVI & Yield Entry)"]
["Two output sheets (Premiums & Discounts and Yield & Return)"]
[]
["Step 1 - Base Values sheet"]
["Check/enter cells of base data for the loan value, seed value, costs, and turnout."]
["These values are applied to Yield & Return calculations."]
[]
["Step 2 - HVI & Yield Entry sheet"]
["HVI Option 1 - Import"]
["The Loan Calculator can import data from sources with known formatting (i.e., USDA, Texas Tech FBRI, and Cotton Incorporated).  After importing, the HVI data are automatically fed into the Premiums & Discounts sheet."]
["If the import option is not working for one of the known formats, please email us (address below) so we can de-bug it for you."]
["HVI Option 2 - Paste HVI data"]
["As in previous versions, HVI data can also be pasted into columns on the HVI Data sheet.  After pasting, click send button to push HVI data through to the Premiums & Discounts sheet."]
["Paste Extraneous Matter and Yield & Turnout"]
["Extraneous matter readings are assumed to be zero.  Non-zero values have to be entered manually.  Press one of the send buttons to push data to Premiums & Discounts sheet."]
[]
["Step 3 - Optional Yield & Return Data"]
["Yield & Turnout data have to be entered manually (columns N & O on HVI & Yield Entry sheet)"]
["Press the send button to feed these values to the Yield & Return sheet."]
[]
["Sorting buttons on all sheets"]
["Sort a = sort ascending (smallest values at top)"]
["Sort d = sort descending (largest values at top)"]
[]
["For more detailed instructions, please visit Cotton Incorporated's website."]
["link to Loan Calculator page"]
[]
["Source Premium & Discount Values"]
["Premium and Discount values are updated each year from the USDA."]
["link to USDA source tables"]
[]
["Please email any questions, suggestions or issues to Jon Devine jdevine@cottoninc.com"]

{"sheet":"Base Values","index":1,"n_rows":14,"n_cols":3,"rows_kept":14,"cut":false,"hidden":false,"merged":[]}
["Enter Base Values"]
[]
[null,"Base Values","Value Units"]
["Study/Test Title","2023/24 Sample Loan Values","n/a"]
[]
["Base Quality Price (41 Color, 4 Leaf, 34 Staple)",52,"cents/lb"]
[]
["Cottonseed Value (USD/ton)",185,"USD/ton"]
[]
["Picking/Stripping & Moduling Cost per Cwt of Seed Cotton",3.2,"USD/Cwt"]
[]
["Ginning Cost per Pound of Lint",0.12,"USD/lb"]
[]
["Pounds of Seed per Pound of Lint",1.4119999999999999,"lb of seed per lb of lint"]

{"sheet":"HVI & Yield Entry","index":2,"n_rows":34,"n_cols":15,"rows_kept":34,"cut":false,"hidden":false,"merged":[[4,9,4,12]]}
["Enter HVI Data"]
["HVI data can either be imported or pasted"]
[]
["Import HVI Data"]
["HVI data from sources/labs with known formatting can be",null,null,null,null,null,null,null,null,"Extraneous Matter (blanks treated as 0)"]
["imported with the buttons below.  After you locate the file, the",null,null,null,null,null,null,null,null,"Bark",null,null,null,"Lint Yield","Turnout"]
["data will appear here and on the Premiums & Discount sheet.",null,"Sample Name/Code","Color","Leaf","Mic","Length","Strength","Uniformity","TX/NM/OK/KS","Prep","Other","Plastic","(lbs acre)","(%)"]
[]
[]
[]
[]
[]
[]
[]
[]
[]
[]
["Paste HVI Data"]
["HVI data can also be pasted in.  After pasting data,"]
["hit the button below and the columns will be"]
["fed into the Premiums & Discounts sheet."]
[]
[]
[]
[]
["Extraneous Matter"]
["These data have to pasted in.  Column C (Sample Name/Code)"]
["can be sorted to help with data entry.  Pushing \"Send HVI Data ...\" "]
["buttons (A29 or D1) will fill in values on Premiums & Discounts sheet."]
[]
["Yield & Turnout"]
["These data have to pasted in.  Column C (Sample Name/Code)"]
["can be sorted to help with data entry.  Pushing \"Send Yield & Turnout ...\" "]
["button (N1) will fill in values on Yield & Return sheet."]

{"sheet":"Premiums & Discounts","index":3,"n_rows":364,"n_cols":34,"rows_kept":364,"cut":false,"hidden":false,"merged":[[4,7,4,10],[4,13,4,17],[5,22,5,25]]}
["Premiums & Discounts"]
["Uses HVI data from HVI & Yield Entry sheet",null,null,null,null,null,null,null,null,null,null,null,null,null,null,null,null,null,null,null,null,null,null,null,null,null,null,null,null,null,null,null,null,"MATCH(TRUE,'Staple Lookup'!$B$3:$B$100>=ROUND(E8,2),0)"]
[null,null,null,null,null,null,null,null,null,null,null,null,null,null,null,null,null,null,null,null,null,null,null,null,null,null,null,null,null,null,null,null,null,{"$f":"MATCH(TRUE,Mic!$B$1:$B$100>=ROUND(D8,2),0)","v":1}]
[]
[null,null,null,null,null,null,null,"Extraneous Matter (blanks treated as 0)",null,null,null,null,null,"Premiums & Discounts",null,null,null,null,null,"Net ","Loan",null,"These columns break out the discount for extraneous matter by type",null,null,null,null,null,null,null,null,null,"Mic Premium Eligibility"]
[null,null,null,null,null,null,null,"Bark",null,null,null,null,null,"Grade & ",null,null,"Ext",null,null,"Premium","Value",null,"Extraneous Matter Breakout",null,null,null,null,null,null,null,null,null,"Micronaire only eligible for certain windows of color/leaf"]
["Sample Name/Code","Color","Leaf","Mic","Length","Strength","Uniformity","TX/NM/OK/KS","Prep","Other","Plastic","Staple",null,"Length","Strength","Mic","Matter","Uniformity",null,"(points)","(cents/lb)",null,"TX/NM/OK/KS","Prep","Other","Plastic",null,"38+","26-31","n/a","Normal",null,"a/ Premium applies only to white grades 11-41, leaf 1-6; 51, leaf 1-5; light spotted grades 12-32, leaf 1-5; 42, leaf 1-4; and 52, leaf 1-3.","Raw Mic PD"]
[null,null,null,null,null,null,null,null,null,null,null,{"$f":"IF(LEN(A8)=0,\"\",IF(LEN(E8)=0,\"HVI data needed\",INDEX('Staple Lookup'!$C$3:$C$100,MATCH(TRUE,'Staple Lookup'!$B$3:$B$100>=ROUND(E8,2),0))))","v":""},null,{"$f":"IF(OR(LEN(B8)=0,LEN(C8)=0,LEN(D8)=0),\"\",IF(AND(RIGHT(B8,1)*1=1,C8=8),-2000,IF(L8>=38,AB8,IF(L8<=31,AC8,AE8))))","v":""},{"$f":"IF(LEN(A8)=0,\"\",INDEX(Str!$C$1:$C$20,MATCH(ROUND(F8,1),Str!$A$1:$A$20,1)))","v":""},{"$f":"IF(LEN(A8)=0,\"\",IF(AND(AG8=1,AH8>0),AH8,IF(AND(AG8=0,AH8>0),0,AH8)))","v":""},{"$f":"IF(LEN(A8)=0,\"\",SUM(W8:Z8))","v":""},{"$f":"IF(LEN(A8)=0,\"\",INDEX(Uni!$C$1:$C$20,MATCH(ROUND($G8,1),Uni!$A$1:$A$20,1)))","v":""},null,{"$f":"IF(LEN(A8)=0,\"\",IF(OR(LEN(B8)=0,LEN(C8)=0,LEN(D8)=0,LEN(E8)=0,LEN(F8)=0,LEN(G8)=0),\"no HVI data\",SUM(N8:R8)))","v":""},{"$f":"IF(LEN(A8)=0,\"\",IF(OR(LEN(B8)=0,LEN(C8)=0,LEN(D8)=0,LEN(E8)=0,LEN(F8)=0,LEN(G8)=0),\"no HVI data\",IF('Base Values'!$B$6+(SUM($N8:$R8)/100)<0,0,'Base Values'!$B$6+(SUM(N8:R8)/100))))","v":""},null,{"$f":"IF(LEN(A8)=0,\"\",IF(LEN(H8)=0,INDEX(Ext!$A$1:$G$5,MATCH(0,Ext!$A$1:$A$5,0),MATCH(H$7,Ext!$A$2:$E$2,0)),IF(AND(H8>=0,H8<3),INDEX(Ext!$A$1:$G$5,MATCH(H8,Ext!$A$1:$A$5,0),MATCH(H$7,Ext!$A$2:$E$2,0)),\"invalid entry\")))","v":""},{"$f":"IF(LEN(B8)=0,\"\",IF(LEN(I8)=0,INDEX(Ext!$A$1:$G$5,MATCH(0,Ext!$A$1:$A$5,0),MATCH(I$7,Ext!$A$2:$E$2,0)),IF(AND(I8>=0,I8<3),INDEX(Ext!$A$1:$G$5,MATCH(I8,Ext!$A$1:$A$5,0),MATCH(I$7,Ext!$A$2:$E$2,0)),\"invalid entry\")))","v":""},{"$f":"IF(LEN(C8)=0,\"\",IF(LEN(J8)=0,INDEX(Ext!$A$1:$G$5,MATCH(0,Ext!$A$1:$A$5,0),MATCH(J$7,Ext!$A$2:$E$2,0)),IF(AND(J8>=0,J8<3),INDEX(Ext!$A$1:$G$5,MATCH(J8,Ext!$A$1:$A$5,0),MATCH(J$7,Ext!$A$2:$E$2,0)),\"invalid entry\")))","v":""}]
[null,null,null,null,null,null,null,null,null,null,null,{"$f":"IF(LEN(A9)=0,\"\",IF(LEN(E9)=0,\"HVI data needed\",INDEX('Staple Lookup'!$C$3:$C$100,MATCH(TRUE,'Staple Lookup'!$B$3:$B$100>=ROUND(E9,2),0))))","v":""},null,{"$f":"IF(OR(LEN(B9)=0,LEN(C9)=0,LEN(D9)=0),\"\",IF(AND(RIGHT(B9,1)*1=1,C9=8),-2000,IF(L9>=38,AB9,IF(L9<=31,AC9,AE9))))","v":""},{"$f":"IF(LEN(A9)=0,\"\",INDEX(Str!$C$1:$C$20,MATCH(ROUND(F9,1),Str!$A$1:$A$20,1)))","v":""},{"$f":"IF(LEN(A9)=0,\"\",IF(AND(AG9=1,AH9>0),AH9,IF(AND(AG9=0,AH9>0),0,AH9)))","v":""},{"$f":"IF(LEN(A9)=0,\"\",SUM(W9:Z9))","v":""},{"$f":"IF(LEN(A9)=0,\"\",INDEX(Uni!$C$1:$C$20,MATCH(ROUND($G9,1),Uni!$A$1:$A$20,1)))","v":""},null,{"$f":"IF(LEN(A9)=0,\"\",IF(OR(LEN(B9)=0,LEN(C9)=0,LEN(D9)=0,LEN(E9)=0,LEN(F9)=0,LEN(G9)=0),\"no HVI data\",SUM(N9:R9)))","v":""},{"$f":"IF(LEN(A9)=0,\"\",IF(OR(LEN(B9)=0,LEN(C9)=0,LEN(D9)=0,LEN(E9)=0,LEN(F9)=0,LEN(G9)=0),\"no HVI data\",IF('Base Values'!$B$6+(SUM($N9:$R9)/100)<0,0,'Base Values'!$B$6+(SUM(N9:R9)/100))))","v":""},null,{"$f":"IF(LEN(A9)=0,\"\",IF(LEN(H9)=0,INDEX(Ext!$A$1:$G$5,MATCH(0,Ext!$A$1:$A$5,0),MATCH(H$7,Ext!$A$2:$E$2,0)),IF(AND(H9>=0,H9<3),INDEX(Ext!$A$1:$G$5,MATCH(H9,Ext!$A$1:$A$5,0),MATCH(H$7,Ext!$A$2:$E$2,0)),\"invalid entry\")))","v":""},{"$f":"IF(LEN(B9)=0,\"\",IF(LEN(I9)=0,INDEX(Ext!$A$1:$G$5,MATCH(0,Ext!$A$1:$A$5,0),MATCH(I$7,Ext!$A$2:$E$2,0)),IF(AND(I9>=0,I9<3),INDEX(Ext!$A$1:$G$5,MATCH(I9,Ext!$A$1:$A$5,0),MATCH(I$7,Ext!$A$2:$E$2,0)),\"invalid entry\")))","v":""},{"$f":"IF(LEN(C9)=0,\"\",IF(LEN(J9)=0,INDEX(Ext!$A$1:$G$5,MATCH(0,Ext!$A$1:$A$5,0),MATCH(J$7,Ext!$A$2:$E$2,0)),IF(AND(J9>=0,J9<3),INDEX(Ext!$A$1:$G$5,MATCH(J9,Ext!$A$1:$A$5,0),MATCH(J$7,Ext!$A$2:$E$2,0)),\"invalid entry\")))","v":""}]
[null,null,null,null,null,null,null,null,null,null,null,{"$f":"IF(LEN(A10)=0,\"\",IF(LEN(E10)=0,\"HVI data needed\",INDEX('Staple Lookup'!$C$3:$C$100,MATCH(TRUE,'Staple Lookup'!$B$3:$B$100>=ROUND(E10,2),0))))","v":""},null,{"$f":"IF(OR(LEN(B10)=0,LEN(C10)=0,LEN(D10)=0),\"\",IF(AND(RIGHT(B10,1)*1=1,C10=8),-2000,IF(L10>=38,AB10,IF(L10<=31,AC10,AE10))))","v":""},{"$f":"IF(LEN(A10)=0,\"\",INDEX(Str!$C$1:$C$20,MATCH(ROUND(F10,1),Str!$A$1:$A$20,1)))","v":""},"","",{"$f":"IF(LEN(A10)=0,\"\",INDEX(Uni!$C$1:$C$20,MATCH(ROUND($G10,1),Uni!$A$1:$A$20,1)))","v":""},null,"",{"$f":"IF(LEN(A10)=0,\"\",IF(OR(LEN(B10)=0,LEN(C10)=0,LEN(D10)=0,LEN(E10)=0,LEN(F10)=0,LEN(G10)=0),\"no HVI data\",IF('Base Values'!$B$6+(SUM($N10:$R10)/100)<0,0,'Base Values'!$B$6+(SUM(N10:R10)/100))))","v":""},null,{"$f":"IF(LEN(A10)=0,\"\",IF(LEN(H10)=0,INDEX(Ext!$A$1:$G$5,MATCH(0,Ext!$A$1:$A$5,0),MATCH(H$7,Ext!$A$2:$E$2,0)),IF(AND(H10>=0,H10<3),INDEX(Ext!$A$1:$G$5,MATCH(H10,Ext!$A$1:$A$5,0),MATCH(H$7,Ext!$A$2:$E$2,0)),\"invalid entry\")))","v":""},{"$f":"IF(LEN(B10)=0,\"\",IF(LEN(I10)=0,INDEX(Ext!$A$1:$G$5,MATCH(0,Ext!$A$1:$A$5,0),MATCH(I$7,Ext!$A$2:$E$2,0)),IF(AND(I10>=0,I10<3),INDEX(Ext!$A$1:$G$5,MATCH(I10,Ext!$A$1:$A$5,0),MATCH(I$7,Ext!$A$2:$E$2,0)),\"invalid entry\")))","v":""},{"$f":"IF(LEN(C10)=0,\"\",IF(LEN(J10)=0,INDEX(Ext!$A$1:$G$5,MATCH(0,Ext!$A$1:$A$5,0),MATCH(J$7,Ext!$A$2:$E$2,0)),IF(AND(J10>=0,J10<3),INDEX(Ext!$A$1:$G$5,MATCH(J10,Ext!$A$1:$A$5,0),MATCH(J$7,Ext!$A$2:$E$2,0)),\"invalid entry\")))","v":""}]
[null,null,null,null,null,null,null,null,null,null,null,{"$f":"IF(LEN(A11)=0,\"\",IF(LEN(E11)=0,\"HVI data needed\",INDEX('Staple Lookup'!$C$3:$C$100,MATCH(TRUE,'Staple Lookup'!$B$3:$B$100>=ROUND(E11,2),0))))","v":""},null,{"$f":"IF(OR(LEN(B11)=0,LEN(C11)=0,LEN(D11)=0),\"\",IF(AND(RIGHT(B11,1)*1=1,C11=8),-2000,IF(L11>=38,AB11,IF(L11<=31,AC11,AE11))))","v":""},{"$f":"IF(LEN(A11)=0,\"\",INDEX(Str!$C$1:$C$20,MATCH(ROUND(F11,1),Str!$A$1:$A$20,1)))","v":""},"","",{"$f":"IF(LEN(A11)=0,\"\",INDEX(Uni!$C$1:$C$20,MATCH(ROUND($G11,1),Uni!$A$1:$A$20,1)))","v":""},null,"",{"$f":"IF(LEN(A11)=0,\"\",IF(OR(LEN(B11)=0,LEN(C11)=0,LEN(D11)=0,LEN(E11)=0,LEN(F11)=0,LEN(G11)=0),\"no HVI data\",IF('Base Values'!$B$6+(SUM($N11:$R11)/100)<0,0,'Base Values'!$B$6+(SUM(N11:R11)/100))))","v":""},null,{"$f":"IF(LEN(A11)=0,\"\",IF(LEN(H11)=0,INDEX(Ext!$A$1:$G$5,MATCH(0,Ext!$A$1:$A$5,0),MATCH(H$7,Ext!$A$2:$E$2,0)),IF(AND(H11>=0,H11<3),INDEX(Ext!$A$1:$G$5,MATCH(H11,Ext!$A$1:$A$5,0),MATCH(H$7,Ext!$A$2:$E$2,0)),\"invalid entry\")))","v":""},{"$f":"IF(LEN(B11)=0,\"\",IF(LEN(I11)=0,INDEX(Ext!$A$1:$G$5,MATCH(0,Ext!$A$1:$A$5,0),MATCH(I$7,Ext!$A$2:$E$2,0)),IF(AND(I11>=0,I11<3),INDEX(Ext!$A$1:$G$5,MATCH(I11,Ext!$A$1:$A$5,0),MATCH(I$7,Ext!$A$2:$E$2,0)),\"invalid entry\")))","v":""},{"$f":"IF(LEN(C11)=0,\"\",IF(LEN(J11)=0,INDEX(Ext!$A$1:$G$5,MATCH(0,Ext!$A$1:$A$5,0),MATCH(J$7,Ext!$A$2:$E$2,0)),IF(AND(J11>=0,J11<3),INDEX(Ext!$A$1:$G$5,MATCH(J11,Ext!$A$1:$A$5,0),MATCH(J$7,Ext!$A$2:$E$2,0)),\"invalid entry\")))","v":""}]
[null,null,null,null,null,null,null,null,null,null,null,{"$f":"IF(LEN(A12)=0,\"\",IF(LEN(E12)=0,\"HVI data needed\",INDEX('Staple Lookup'!$C$3:$C$100,MATCH(TRUE,'Staple Lookup'!$B$3:$B$100>=ROUND(E12,2),0))))","v":""},null,{"$f":"IF(OR(LEN(B12)=0,LEN(C12)=0,LEN(D12)=0),\"\",IF(AND(RIGHT(B12,1)*1=1,C12=8),-2000,IF(L12>=38,AB12,IF(L12<=31,AC12,AE12))))","v":""},{"$f":"IF(LEN(A12)=0,\"\",INDEX(Str!$C$1:$C$20,MATCH(ROUND(F12,1),Str!$A$1:$A$20,1)))","v":""},"","",{"$f":"IF(LEN(A12)=0,\"\",INDEX(Uni!$C$1:$C$20,MATCH(ROUND($G12,1),Uni!$A$1:$A$20,1)))","v":""},null,"",{"$f":"IF(LEN(A12)=0,\"\",IF(OR(LEN(B12)=0,LEN(C12)=0,LEN(D12)=0,LEN(E12)=0,LEN(F12)=0,LEN(G12)=0),\"no HVI data\",IF('Base Values'!$B$6+(SUM($N12:$R12)/100)<0,0,'Base Values'!$B$6+(SUM(N12:R12)/100))))","v":""},null,{"$f":"IF(LEN(A12)=0,\"\",IF(LEN(H12)=0,INDEX(Ext!$A$1:$G$5,MATCH(0,Ext!$A$1:$A$5,0),MATCH(H$7,Ext!$A$2:$E$2,0)),IF(AND(H12>=0,H12<3),INDEX(Ext!$A$1:$G$5,MATCH(H12,Ext!$A$1:$A$5,0),MATCH(H$7,Ext!$A$2:$E$2,0)),\"invalid entry\")))","v":""},{"$f":"IF(LEN(B12)=0,\"\",IF(LEN(I12)=0,INDEX(Ext!$A$1:$G$5,MATCH(0,Ext!$A$1:$A$5,0),MATCH(I$7,Ext!$A$2:$E$2,0)),IF(AND(I12>=0,I12<3),INDEX(Ext!$A$1:$G$5,MATCH(I12,Ext!$A$1:$A$5,0),MATCH(I$7,Ext!$A$2:$E$2,0)),\"invalid entry\")))","v":""},{"$f":"IF(LEN(C12)=0,\"\",IF(LEN(J12)=0,INDEX(Ext!$A$1:$G$5,MATCH(0,Ext!$A$1:$A$5,0),MATCH(J$7,Ext!$A$2:$E$2,0)),IF(AND(J12>=0,J12<3),INDEX(Ext!$A$1:$G$5,MATCH(J12,Ext!$A$1:$A$5,0),MATCH(J$7,Ext!$A$2:$E$2,0)),\"invalid entry\")))","v":""}]
[null,null,null,null,null,null,null,null,null,null,null,{"$f":"IF(LEN(A13)=0,\"\",IF(LEN(E13)=0,\"HVI data needed\",INDEX('Staple Lookup'!$C$3:$C$100,MATCH(TRUE,'Staple Lookup'!$B$3:$B$100>=ROUND(E13,2),0))))","v":""},null,{"$f":"IF(OR(LEN(B13)=0,LEN(C13)=0,LEN(D13)=0),\"\",IF(AND(RIGHT(B13,1)*1=1,C13=8),-2000,IF(L13>=38,AB13,IF(L13<=31,AC13,AE13))))","v":""},{"$f":"IF(LEN(A13)=0,\"\",INDEX(Str!$C$1:$C$20,MATCH(ROUND(F13,1),Str!$A$1:$A$20,1)))","v":""},"","",{"$f":"IF(LEN(A13)=0,\"\",INDEX(Uni!$C$1:$C$20,MATCH(ROUND($G13,1),Uni!$A$1:$A$20,1)))","v":""},null,"",{"$f":"IF(LEN(A13)=0,\"\",IF(OR(LEN(B13)=0,LEN(C13)=0,LEN(D13)=0,LEN(E13)=0,LEN(F13)=0,LEN(G13)=0),\"no HVI data\",IF('Base Values'!$B$6+(SUM($N13:$R13)/100)<0,0,'Base Values'!$B$6+(SUM(N13:R13)/100))))","v":""},null,{"$f":"IF(LEN(A13)=0,\"\",IF(LEN(H13)=0,INDEX(Ext!$A$1:$G$5,MATCH(0,Ext!$A$1:$A$5,0),MATCH(H$7,Ext!$A$2:$E$2,0)),IF(AND(H13>=0,H13<3),INDEX(Ext!$A$1:$G$5,MATCH(H13,Ext!$A$1:$A$5,0),MATCH(H$7,Ext!$A$2:$E$2,0)),\"invalid entry\")))","v":""},{"$f":"IF(LEN(B13)=0,\"\",IF(LEN(I13)=0,INDEX(Ext!$A$1:$G$5,MATCH(0,Ext!$A$1:$A$5,0),MATCH(I$7,Ext!$A$2:$E$2,0)),IF(AND(I13>=0,I13<3),INDEX(Ext!$A$1:$G$5,MATCH(I13,Ext!$A$1:$A$5,0),MATCH(I$7,Ext!$A$2:$E$2,0)),\"invalid entry\")))","v":""},{"$f":"IF(LEN(C13)=0,\"\",IF(LEN(J13)=0,INDEX(Ext!$A$1:$G$5,MATCH(0,Ext!$A$1:$A$5,0),MATCH(J$7,Ext!$A$2:$E$2,0)),IF(AND(J13>=0,J13<3),INDEX(Ext!$A$1:$G$5,MATCH(J13,Ext!$A$1:$A$5,0),MATCH(J$7,Ext!$A$2:$E$2,0)),\"invalid entry\")))","v":""}]
[null,null,null,null,null,null,null,null,null,null,null,{"$f":"IF(LEN(A14)=0,\"\",IF(LEN(E14)=0,\"HVI data needed\",INDEX('Staple Lookup'!$C$3:$C$100,MATCH(TRUE,'Staple Lookup'!$B$3:$B$100>=ROUND(E14,2),0))))","v":""},null,{"$f":"IF(OR(LEN(B14)=0,LEN(C14)=0,LEN(D14)=0),\"\",IF(AND(RIGHT(B14,1)*1=1,C14=8),-2000,IF(L14>=38,AB14,IF(L14<=31,AC14,AE14))))","v":""},{"$f":"IF(LEN(A14)=0,\"\",INDEX(Str!$C$1:$C$20,MATCH(ROUND(F14,1),Str!$A$1:$A$20,1)))","v":""},"","",{"$f":"IF(LEN(A14)=0,\"\",INDEX(Uni!$C$1:$C$20,MATCH(ROUND($G14,1),Uni!$A$1:$A$20,1)))","v":""},null,"",{"$f":"IF(LEN(A14)=0,\"\",IF(OR(LEN(B14)=0,LEN(C14)=0,LEN(D14)=0,LEN(E14)=0,LEN(F14)=0,LEN(G14)=0),\"no HVI data\",IF('Base Values'!$B$6+(SUM($N14:$R14)/100)<0,0,'Base Values'!$B$6+(SUM(N14:R14)/100))))","v":""},null,{"$f":"IF(LEN(A14)=0,\"\",IF(LEN(H14)=0,INDEX(Ext!$A$1:$G$5,MATCH(0,Ext!$A$1:$A$5,0),MATCH(H$7,Ext!$A$2:$E$2,0)),IF(AND(H14>=0,H14<3),INDEX(Ext!$A$1:$G$5,MATCH(H14,Ext!$A$1:$A$5,0),MATCH(H$7,Ext!$A$2:$E$2,0)),\"invalid entry\")))","v":""},{"$f":"IF(LEN(B14)=0,\"\",IF(LEN(I14)=0,INDEX(Ext!$A$1:$G$5,MATCH(0,Ext!$A$1:$A$5,0),MATCH(I$7,Ext!$A$2:$E$2,0)),IF(AND(I14>=0,I14<3),INDEX(Ext!$A$1:$G$5,MATCH(I14,Ext!$A$1:$A$5,0),MATCH(I$7,Ext!$A$2:$E$2,0)),\"invalid entry\")))","v":""},{"$f":"IF(LEN(C14)=0,\"\",IF(LEN(J14)=0,INDEX(Ext!$A$1:$G$5,MATCH(0,Ext!$A$1:$A$5,0),MATCH(J$7,Ext!$A$2:$E$2,0)),IF(AND(J14>=0,J14<3),INDEX(Ext!$A$1:$G$5,MATCH(J14,Ext!$A$1:$A$5,0),MATCH(J$7,Ext!$A$2:$E$2,0)),\"invalid entry\")))","v":""}]
[null,null,null,null,null,null,null,null,null,null,null,{"$f":"IF(LEN(A15)=0,\"\",IF(LEN(E15)=0,\"HVI data needed\",INDEX('Staple Lookup'!$C$3:$C$100,MATCH(TRUE,'Staple Lookup'!$B$3:$B$100>=ROUND(E15,2),0))))","v":""},null,{"$f":"IF(OR(LEN(B15)=0,LEN(C15)=0,LEN(D15)=0),\"\",IF(AND(RIGHT(B15,1)*1=1,C15=8),-2000,IF(L15>=38,AB15,IF(L15<=31,AC15,AE15))))","v":""},{"$f":"IF(LEN(A15)=0,\"\",INDEX(Str!$C$1:$C$20,MATCH(ROUND(F15,1),Str!$A$1:$A$20,1)))","v":""},"","",{"$f":"IF(LEN(A15)=0,\"\",INDEX(Uni!$C$1:$C$20,MATCH(ROUND($G15,1),Uni!$A$1:$A$20,1)))","v":""},null,"",{"$f":"IF(LEN(A15)=0,\"\",IF(OR(LEN(B15)=0,LEN(C15)=0,LEN(D15)=0,LEN(E15)=0,LEN(F15)=0,LEN(G15)=0),\"no HVI data\",IF('Base Values'!$B$6+(SUM($N15:$R15)/100)<0,0,'Base Values'!$B$6+(SUM(N15:R15)/100))))","v":""},null,{"$f":"IF(LEN(A15)=0,\"\",IF(LEN(H15)=0,INDEX(Ext!$A$1:$G$5,MATCH(0,Ext!$A$1:$A$5,0),MATCH(H$7,Ext!$A$2:$E$2,0)),IF(AND(H15>=0,H15<3),INDEX(Ext!$A$1:$G$5,MATCH(H15,Ext!$A$1:$A$5,0),MATCH(H$7,Ext!$A$2:$E$2,0)),\"invalid entry\")))","v":""},{"$f":"IF(LEN(B15)=0,\"\",IF(LEN(I15)=0,INDEX(Ext!$A$1:$G$5,MATCH(0,Ext!$A$1:$A$5,0),MATCH(I$7,Ext!$A$2:$E$2,0)),IF(AND(I15>=0,I15<3),INDEX(Ext!$A$1:$G$5,MATCH(I15,Ext!$A$1:$A$5,0),MATCH(I$7,Ext!$A$2:$E$2,0)),\"invalid entry\")))","v":""},{"$f":"IF(LEN(C15)=0,\"\",IF(LEN(J15)=0,INDEX(Ext!$A$1:$G$5,MATCH(0,Ext!$A$1:$A$5,0),MATCH(J$7,Ext!$A$2:$E$2,0)),IF(AND(J15>=0,J15<3),INDEX(Ext!$A$1:$G$5,MATCH(J15,Ext!$A$1:$A$5,0),MATCH(J$7,Ext!$A$2:$E$2,0)),\"invalid entry\")))","v":""}]
[null,null,null,null,null,null,null,null,null,null,null,{"$f":"IF(LEN(A16)=0,\"\",IF(LEN(E16)=0,\"HVI data needed\",INDEX('Staple Lookup'!$C$3:$C$100,MATCH(TRUE,'Staple Lookup'!$B$3:$B$100>=ROUND(E16,2),0))))","v":""},null,{"$f":"IF(OR(LEN(B16)=0,LEN(C16)=0,LEN(D16)=0),\"\",IF(AND(RIGHT(B16,1)*1=1,C16=8),-2000,IF(L16>=38,AB16,IF(L16<=31,AC16,AE16))))","v":""},{"$f":"IF(LEN(A16)=0,\"\",INDEX(Str!$C$1:$C$20,MATCH(ROUND(F16,1),Str!$A$1:$A$20,1)))","v":""},"","",{"$f":"IF(LEN(A16)=0,\"\",INDEX(Uni!$C$1:$C$20,MATCH(ROUND($G16,1),Uni!$A$1:$A$20,1)))","v":""},null,"",{"$f":"IF(LEN(A16)=0,\"\",IF(OR(LEN(B16)=0,LEN(C16)=0,LEN(D16)=0,LEN(E16)=0,LEN(F16)=0,LEN(G16)=0),\"no HVI data\",IF('Base Values'!$B$6+(SUM($N16:$R16)/100)<0,0,'Base Values'!$B$6+(SUM(N16:R16)/100))))","v":""},null,{"$f":"IF(LEN(A16)=0,\"\",IF(LEN(H16)=0,INDEX(Ext!$A$1:$G$5,MATCH(0,Ext!$A$1:$A$5,0),MATCH(H$7,Ext!$A$2:$E$2,0)),IF(AND(H16>=0,H16<3),INDEX(Ext!$A$1:$G$5,MATCH(H16,Ext!$A$1:$A$5,0),MATCH(H$7,Ext!$A$2:$E$2,0)),\"invalid entry\")))","v":""},{"$f":"IF(LEN(B16)=0,\"\",IF(LEN(I16)=0,INDEX(Ext!$A$1:$G$5,MATCH(0,Ext!$A$1:$A$5,0),MATCH(I$7,Ext!$A$2:$E$2,0)),IF(AND(I16>=0,I16<3),INDEX(Ext!$A$1:$G$5,MATCH(I16,Ext!$A$1:$A$5,0),MATCH(I$7,Ext!$A$2:$E$2,0)),\"invalid entry\")))","v":""},{"$f":"IF(LEN(C16)=0,\"\",IF(LEN(J16)=0,INDEX(Ext!$A$1:$G$5,MATCH(0,Ext!$A$1:$A$5,0),MATCH(J$7,Ext!$A$2:$E$2,0)),IF(AND(J16>=0,J16<3),INDEX(Ext!$A$1:$G$5,MATCH(J16,Ext!$A$1:$A$5,0),MATCH(J$7,Ext!$A$2:$E$2,0)),\"invalid entry\")))","v":""}]
[null,null,null,null,null,null,null,null,null,null,null,{"$f":"IF(LEN(A17)=0,\"\",IF(LEN(E17)=0,\"HVI data needed\",INDEX('Staple Lookup'!$C$3:$C$100,MATCH(TRUE,'Staple Lookup'!$B$3:$B$100>=ROUND(E17,2),0))))","v":""},null,{"$f":"IF(OR(LEN(B17)=0,LEN(C17)=0,LEN(D17)=0),\"\",IF(AND(RIGHT(B17,1)*1=1,C17=8),-2000,IF(L17>=38,AB17,IF(L17<=31,AC17,AE17))))","v":""},{"$f":"IF(LEN(A17)=0,\"\",INDEX(Str!$C$1:$C$20,MATCH(ROUND(F17,1),Str!$A$1:$A$20,1)))","v":""},"","",{"$f":"IF(LEN(A17)=0,\"\",INDEX(Uni!$C$1:$C$20,MATCH(ROUND($G17,1),Uni!$A$1:$A$20,1)))","v":""},null,"",{"$f":"IF(LEN(A17)=0,\"\",IF(OR(LEN(B17)=0,LEN(C17)=0,LEN(D17)=0,LEN(E17)=0,LEN(F17)=0,LEN(G17)=0),\"no HVI data\",IF('Base Values'!$B$6+(SUM($N17:$R17)/100)<0,0,'Base Values'!$B$6+(SUM(N17:R17)/100))))","v":""},null,{"$f":"IF(LEN(A17)=0,\"\",IF(LEN(H17)=0,INDEX(Ext!$A$1:$G$5,MATCH(0,Ext!$A$1:$A$5,0),MATCH(H$7,Ext!$A$2:$E$2,0)),IF(AND(H17>=0,H17<3),INDEX(Ext!$A$1:$G$5,MATCH(H17,Ext!$A$1:$A$5,0),MATCH(H$7,Ext!$A$2:$E$2,0)),\"invalid entry\")))","v":""},{"$f":"IF(LEN(B17)=0,\"\",IF(LEN(I17)=0,INDEX(Ext!$A$1:$G$5,MATCH(0,Ext!$A$1:$A$5,0),MATCH(I$7,Ext!$A$2:$E$2,0)),IF(AND(I17>=0,I17<3),INDEX(Ext!$A$1:$G$5,MATCH(I17,Ext!$A$1:$A$5,0),MATCH(I$7,Ext!$A$2:$E$2,0)),\"invalid entry\")))","v":""},{"$f":"IF(LEN(C17)=0,\"\",IF(LEN(J17)=0,INDEX(Ext!$A$1:$G$5,MATCH(0,Ext!$A$1:$A$5,0),MATCH(J$7,Ext!$A$2:$E$2,0)),IF(AND(J17>=0,J17<3),INDEX(Ext!$A$1:$G$5,MATCH(J17,Ext!$A$1:$A$5,0),MATCH(J$7,Ext!$A$2:$E$2,0)),\"invalid entry\")))","v":""}]
[null,null,null,null,null,null,null,null,null,null,null,{"$f":"IF(LEN(A18)=0,\"\",IF(LEN(E18)=0,\"HVI data needed\",INDEX('Staple Lookup'!$C$3:$C$100,MATCH(TRUE,'Staple Lookup'!$B$3:$B$100>=ROUND(E18,2),0))))","v":""},null,{"$f":"IF(OR(LEN(B18)=0,LEN(C18)=0,LEN(D18)=0),\"\",IF(AND(RIGHT(B18,1)*1=1,C18=8),-2000,IF(L18>=38,AB18,IF(L18<=31,AC18,AE18))))","v":""},{"$f":"IF(LEN(A18)=0,\"\",INDEX(Str!$C$1:$C$20,MATCH(ROUND(F18,1),Str!$A$1:$A$20,1)))","v":""},"","",{"$f":"IF(LEN(A18)=0,\"\",INDEX(Uni!$C$1:$C$20,MATCH(ROUND($G18,1),Uni!$A$1:$A$20,1)))","v":""},null,"",{"$f":"IF(LEN(A18)=0,\"\",IF(OR(LEN(B18)=0,LEN(C18)=0,LEN(D18)=0,LEN(E18)=0,LEN(F18)=0,LEN(G18)=0),\"no HVI data\",IF('Base Values'!$B$6+(SUM($N18:$R18)/100)<0,0,'Base Values'!$B$6+(SUM(N18:R18)/100))))","v":""},null,{"$f":"IF(LEN(A18)=0,\"\",IF(LEN(H18)=0,INDEX(Ext!$A$1:$G$5,MATCH(0,Ext!$A$1:$A$5,0),MATCH(H$7,Ext!$A$2:$E$2,0)),IF(AND(H18>=0,H18<3),INDEX(Ext!$A$1:$G$5,MATCH(H18,Ext!$A$1:$A$5,0),MATCH(H$7,Ext!$A$2:$E$2,0)),\"invalid entry\")))","v":""},{"$f":"IF(LEN(B18)=0,\"\",IF(LEN(I18)=0,INDEX(Ext!$A$1:$G$5,MATCH(0,Ext!$A$1:$A$5,0),MATCH(I$7,Ext!$A$2:$E$2,0)),IF(AND(I18>=0,I18<3),INDEX(Ext!$A$1:$G$5,MATCH(I18,Ext!$A$1:$A$5,0),MATCH(I$7,Ext!$A$2:$E$2,0)),\"invalid entry\")))","v":""},{"$f":"IF(LEN(C18)=0,\"\",IF(LEN(J18)=0,INDEX(Ext!$A$1:$G$5,MATCH(0,Ext!$A$1:$A$5,0),MATCH(J$7,Ext!$A$2:$E$2,0)),IF(AND(J18>=0,J18<3),INDEX(Ext!$A$1:$G$5,MATCH(J18,Ext!$A$1:$A$5,0),MATCH(J$7,Ext!$A$2:$E$2,0)),\"invalid entry\")))","v":""}]
[null,null,null,null,null,null,null,null,null,null,null,{"$f":"IF(LEN(A19)=0,\"\",IF(LEN(E19)=0,\"HVI data needed\",INDEX('Staple Lookup'!$C$3:$C$100,MATCH(TRUE,'Staple Lookup'!$B$3:$B$100>=ROUND(E19,2),0))))","v":""},null,{"$f":"IF(OR(LEN(B19)=0,LEN(C19)=0,LEN(D19)=0),\"\",IF(AND(RIGHT(B19,1)*1=1,C19=8),-2000,IF(L19>=38,AB19,IF(L19<=31,AC19,AE19))))","v":""},{"$f":"IF(LEN(A19)=0,\"\",INDEX(Str!$C$1:$C$20,MATCH(ROUND(F19,1),Str!$A$1:$A$20,1)))","v":""},"","",{"$f":"IF(LEN(A19)=0,\"\",INDEX(Uni!$C$1:$C$20,MATCH(ROUND($G19,1),Uni!$A$1:$A$20,1)))","v":""},null,"",{"$f":"IF(LEN(A19)=0,\"\",IF(OR(LEN(B19)=0,LEN(C19)=0,LEN(D19)=0,LEN(E19)=0,LEN(F19)=0,LEN(G19)=0),\"no HVI data\",IF('Base Values'!$B$6+(SUM($N19:$R19)/100)<0,0,'Base Values'!$B$6+(SUM(N19:R19)/100))))","v":""},null,{"$f":"IF(LEN(A19)=0,\"\",IF(LEN(H19)=0,INDEX(Ext!$A$1:$G$5,MATCH(0,Ext!$A$1:$A$5,0),MATCH(H$7,Ext!$A$2:$E$2,0)),IF(AND(H19>=0,H19<3),INDEX(Ext!$A$1:$G$5,MATCH(H19,Ext!$A$1:$A$5,0),MATCH(H$7,Ext!$A$2:$E$2,0)),\"invalid entry\")))","v":""},{"$f":"IF(LEN(B19)=0,\"\",IF(LEN(I19)=0,INDEX(Ext!$A$1:$G$5,MATCH(0,Ext!$A$1:$A$5,0),MATCH(I$7,Ext!$A$2:$E$2,0)),IF(AND(I19>=0,I19<3),INDEX(Ext!$A$1:$G$5,MATCH(I19,Ext!$A$1:$A$5,0),MATCH(I$7,Ext!$A$2:$E$2,0)),\"invalid entry\")))","v":""},{"$f":"IF(LEN(C19)=0,\"\",IF(LEN(J19)=0,INDEX(Ext!$A$1:$G$5,MATCH(0,Ext!$A$1:$A$5,0),MATCH(J$7,Ext!$A$2:$E$2,0)),IF(AND(J19>=0,J19<3),INDEX(Ext!$A$1:$G$5,MATCH(J19,Ext!$A$1:$A$5,0),MATCH(J$7,Ext!$A$2:$E$2,0)),\"invalid entry\")))","v":""}]
[null,null,null,null,null,null,null,null,null,null,null,{"$f":"IF(LEN(A20)=0,\"\",IF(LEN(E20)=0,\"HVI data needed\",INDEX('Staple Lookup'!$C$3:$C$100,MATCH(TRUE,'Staple Lookup'!$B$3:$B$100>=ROUND(E20,2),0))))","v":""},null,{"$f":"IF(OR(LEN(B20)=0,LEN(C20)=0,LEN(D20)=0),\"\",IF(AND(RIGHT(B20,1)*1=1,C20=8),-2000,IF(L20>=38,AB20,IF(L20<=31,AC20,AE20))))","v":""},{"$f":"IF(LEN(A20)=0,\"\",INDEX(Str!$C$1:$C$20,MATCH(ROUND(F20,1),Str!$A$1:$A$20,1)))","v":""},"","",{"$f":"IF(LEN(A20)=0,\"\",INDEX(Uni!$C$1:$C$20,MATCH(ROUND($G20,1),Uni!$A$1:$A$20,1)))","v":""},null,"",{"$f":"IF(LEN(A20)=0,\"\",IF(OR(LEN(B20)=0,LEN(C20)=0,LEN(D20)=0,LEN(E20)=0,LEN(F20)=0,LEN(G20)=0),\"no HVI data\",IF('Base Values'!$B$6+(SUM($N20:$R20)/100)<0,0,'Base Values'!$B$6+(SUM(N20:R20)/100))))","v":""},null,{"$f":"IF(LEN(A20)=0,\"\",IF(LEN(H20)=0,INDEX(Ext!$A$1:$G$5,MATCH(0,Ext!$A$1:$A$5,0),MATCH(H$7,Ext!$A$2:$E$2,0)),IF(AND(H20>=0,H20<3),INDEX(Ext!$A$1:$G$5,MATCH(H20,Ext!$A$1:$A$5,0),MATCH(H$7,Ext!$A$2:$E$2,0)),\"invalid entry\")))","v":""},{"$f":"IF(LEN(B20)=0,\"\",IF(LEN(I20)=0,INDEX(Ext!$A$1:$G$5,MATCH(0,Ext!$A$1:$A$5,0),MATCH(I$7,Ext!$A$2:$E$2,0)),IF(AND(I20>=0,I20<3),INDEX(Ext!$A$1:$G$5,MATCH(I20,Ext!$A$1:$A$5,0),MATCH(I$7,Ext!$A$2:$E$2,0)),\"invalid entry\")))","v":""},{"$f":"IF(LEN(C20)=0,\"\",IF(LEN(J20)=0,INDEX(Ext!$A$1:$G$5,MATCH(0,Ext!$A$1:$A$5,0),MATCH(J$7,Ext!$A$2:$E$2,0)),IF(AND(J20>=0,J20<3),INDEX(Ext!$A$1:$G$5,MATCH(J20,Ext!$A$1:$A$5,0),MATCH(J$7,Ext!$A$2:$E$2,0)),\"invalid entry\")))","v":""}]
[null,null,null,null,null,null,null,null,null,null,null,{"$f":"IF(LEN(A21)=0,\"\",IF(LEN(E21)=0,\"HVI data needed\",INDEX('Staple Lookup'!$C$3:$C$100,MATCH(TRUE,'Staple Lookup'!$B$3:$B$100>=ROUND(E21,2),0))))","v":""},null,{"$f":"IF(OR(LEN(B21)=0,LEN(C21)=0,LEN(D21)=0),\"\",IF(AND(RIGHT(B21,1)*1=1,C21=8),-2000,IF(L21>=38,AB21,IF(L21<=31,AC21,AE21))))","v":""},{"$f":"IF(LEN(A21)=0,\"\",INDEX(Str!$C$1:$C$20,MATCH(ROUND(F21,1),Str!$A$1:$A$20,1)))","v":""},"","",{"$f":"IF(LEN(A21)=0,\"\",INDEX(Uni!$C$1:$C$20,MATCH(ROUND($G21,1),Uni!$A$1:$A$20,1)))","v":""},null,"",{"$f":"IF(LEN(A21)=0,\"\",IF(OR(LEN(B21)=0,LEN(C21)=0,LEN(D21)=0,LEN(E21)=0,LEN(F21)=0,LEN(G21)=0),\"no HVI data\",IF('Base Values'!$B$6+(SUM($N21:$R21)/100)<0,0,'Base Values'!$B$6+(SUM(N21:R21)/100))))","v":""},null,{"$f":"IF(LEN(A21)=0,\"\",IF(LEN(H21)=0,INDEX(Ext!$A$1:$G$5,MATCH(0,Ext!$A$1:$A$5,0),MATCH(H$7,Ext!$A$2:$E$2,0)),IF(AND(H21>=0,H21<3),INDEX(Ext!$A$1:$G$5,MATCH(H21,Ext!$A$1:$A$5,0),MATCH(H$7,Ext!$A$2:$E$2,0)),\"invalid entry\")))","v":""},{"$f":"IF(LEN(B21)=0,\"\",IF(LEN(I21)=0,INDEX(Ext!$A$1:$G$5,MATCH(0,Ext!$A$1:$A$5,0),MATCH(I$7,Ext!$A$2:$E$2,0)),IF(AND(I21>=0,I21<3),INDEX(Ext!$A$1:$G$5,MATCH(I21,Ext!$A$1:$A$5,0),MATCH(I$7,Ext!$A$2:$E$2,0)),\"invalid entry\")))","v":""},{"$f":"IF(LEN(C21)=0,\"\",IF(LEN(J21)=0,INDEX(Ext!$A$1:$G$5,MATCH(0,Ext!$A$1:$A$5,0),MATCH(J$7,Ext!$A$2:$E$2,0)),IF(AND(J21>=0,J21<3),INDEX(Ext!$A$1:$G$5,MATCH(J21,Ext!$A$1:$A$5,0),MATCH(J$7,Ext!$A$2:$E$2,0)),\"invalid entry\")))","v":""}]
[null,null,null,null,null,null,null,null,null,null,null,{"$f":"IF(LEN(A22)=0,\"\",IF(LEN(E22)=0,\"HVI data needed\",INDEX('Staple Lookup'!$C$3:$C$100,MATCH(TRUE,'Staple Lookup'!$B$3:$B$100>=ROUND(E22,2),0))))","v":""},null,{"$f":"IF(OR(LEN(B22)=0,LEN(C22)=0,LEN(D22)=0),\"\",IF(AND(RIGHT(B22,1)*1=1,C22=8),-2000,IF(L22>=38,AB22,IF(L22<=31,AC22,AE22))))","v":""},{"$f":"IF(LEN(A22)=0,\"\",INDEX(Str!$C$1:$C$20,MATCH(ROUND(F22,1),Str!$A$1:$A$20,1)))","v":""},"","",{"$f":"IF(LEN(A22)=0,\"\",INDEX(Uni!$C$1:$C$20,MATCH(ROUND($G22,1),Uni!$A$1:$A$20,1)))","v":""},null,"",{"$f":"IF(LEN(A22)=0,\"\",IF(OR(LEN(B22)=0,LEN(C22)=0,LEN(D22)=0,LEN(E22)=0,LEN(F22)=0,LEN(G22)=0),\"no HVI data\",IF('Base Values'!$B$6+(SUM($N22:$R22)/100)<0,0,'Base Values'!$B$6+(SUM(N22:R22)/100))))","v":""},null,{"$f":"IF(LEN(A22)=0,\"\",IF(LEN(H22)=0,INDEX(Ext!$A$1:$G$5,MATCH(0,Ext!$A$1:$A$5,0),MATCH(H$7,Ext!$A$2:$E$2,0)),IF(AND(H22>=0,H22<3),INDEX(Ext!$A$1:$G$5,MATCH(H22,Ext!$A$1:$A$5,0),MATCH(H$7,Ext!$A$2:$E$2,0)),\"invalid entry\")))","v":""},{"$f":"IF(LEN(B22)=0,\"\",IF(LEN(I22)=0,INDEX(Ext!$A$1:$G$5,MATCH(0,Ext!$A$1:$A$5,0),MATCH(I$7,Ext!$A$2:$E$2,0)),IF(AND(I22>=0,I22<3),INDEX(Ext!$A$1:$G$5,MATCH(I22,Ext!$A$1:$A$5,0),MATCH(I$7,Ext!$A$2:$E$2,0)),\"invalid entry\")))","v":""},{"$f":"IF(LEN(C22)=0,\"\",IF(LEN(J22)=0,INDEX(Ext!$A$1:$G$5,MATCH(0,Ext!$A$1:$A$5,0),MATCH(J$7,Ext!$A$2:$E$2,0)),IF(AND(J22>=0,J22<3),INDEX(Ext!$A$1:$G$5,MATCH(J22,Ext!$A$1:$A$5,0),MATCH(J$7,Ext!$A$2:$E$2,0)),\"invalid entry\")))","v":""}]
[null,null,null,null,null,null,null,null,null,null,null,{"$f":"IF(LEN(A23)=0,\"\",IF(LEN(E23)=0,\"HVI data needed\",INDEX('Staple Lookup'!$C$3:$C$100,MATCH(TRUE,'Staple Lookup'!$B$3:$B$100>=ROUND(E23,2),0))))","v":""},null,{"$f":"IF(OR(LEN(B23)=0,LEN(C23)=0,LEN(D23)=0),\"\",IF(AND(RIGHT(B23,1)*1=1,C23=8),-2000,IF(L23>=38,AB23,IF(L23<=31,AC23,AE23))))","v":""},{"$f":"IF(LEN(A23)=0,\"\",INDEX(Str!$C$1:$C$20,MATCH(ROUND(F23,1),Str!$A$1:$A$20,1)))","v":""},"","",{"$f":"IF(LEN(A23)=0,\"\",INDEX(Uni!$C$1:$C$20,MATCH(ROUND($G23,1),Uni!$A$1:$A$20,1)))","v":""},null,"",{"$f":"IF(LEN(A23)=0,\"\",IF(OR(LEN(B23)=0,LEN(C23)=0,LEN(D23)=0,LEN(E23)=0,LEN(F23)=0,LEN(G23)=0),\"no HVI data\",IF('Base Values'!$B$6+(SUM($N23:$R23)/100)<0,0,'Base Values'!$B$6+(SUM(N23:R23)/100))))","v":""},null,{"$f":"IF(LEN(A23)=0,\"\",IF(LEN(H23)=0,INDEX(Ext!$A$1:$G$5,MATCH(0,Ext!$A$1:$A$5,0),MATCH(H$7,Ext!$A$2:$E$2,0)),IF(AND(H23>=0,H23<3),INDEX(Ext!$A$1:$G$5,MATCH(H23,Ext!$A$1:$A$5,0),MATCH(H$7,Ext!$A$2:$E$2,0)),\"invalid entry\")))","v":""},{"$f":"IF(LEN(B23)=0,\"\",IF(LEN(I23)=0,INDEX(Ext!$A$1:$G$5,MATCH(0,Ext!$A$1:$A$5,0),MATCH(I$7,Ext!$A$2:$E$2,0)),IF(AND(I23>=0,I23<3),INDEX(Ext!$A$1:$G$5,MATCH(I23,Ext!$A$1:$A$5,0),MATCH(I$7,Ext!$A$2:$E$2,0)),\"invalid entry\")))","v":""},{"$f":"IF(LEN(C23)=0,\"\",IF(LEN(J23)=0,INDEX(Ext!$A$1:$G$5,MATCH(0,Ext!$A$1:$A$5,0),MATCH(J$7,Ext!$A$2:$E$2,0)),IF(AND(J23>=0,J23<3),INDEX(Ext!$A$1:$G$5,MATCH(J23,Ext!$A$1:$A$5,0),MATCH(J$7,Ext!$A$2:$E$2,0)),\"invalid entry\")))","v":""}]
[null,null,null,null,null,null,null,null,null,null,null,{"$f":"IF(LEN(A24)=0,\"\",IF(LEN(E24)=0,\"HVI data needed\",INDEX('Staple Lookup'!$C$3:$C$100,MATCH(TRUE,'Staple Lookup'!$B$3:$B$100>=ROUND(E24,2),0))))","v":""},null,{"$f":"IF(OR(LEN(B24)=0,LEN(C24)=0,LEN(D24)=0),\"\",IF(AND(RIGHT(B24,1)*1=1,C24=8),-2000,IF(L24>=38,AB24,IF(L24<=31,AC24,AE24))))","v":""},{"$f":"IF(LEN(A24)=0,\"\",INDEX(Str!$C$1:$C$20,MATCH(ROUND(F24,1),Str!$A$1:$A$20,1)))","v":""},"","",{"$f":"IF(LEN(A24)=0,\"\",INDEX(Uni!$C$1:$C$20,MATCH(ROUND($G24,1),Uni!$A$1:$A$20,1)))","v":""},null,"",{"$f":"IF(LEN(A24)=0,\"\",IF(OR(LEN(B24)=0,LEN(C24)=0,LEN(D24)=0,LEN(E24)=0,LEN(F24)=0,LEN(G24)=0),\"no HVI data\",IF('Base Values'!$B$6+(SUM($N24:$R24)/100)<0,0,'Base Values'!$B$6+(SUM(N24:R24)/100))))","v":""},null,{"$f":"IF(LEN(A24)=0,\"\",IF(LEN(H24)=0,INDEX(Ext!$A$1:$G$5,MATCH(0,Ext!$A$1:$A$5,0),MATCH(H$7,Ext!$A$2:$E$2,0)),IF(AND(H24>=0,H24<3),INDEX(Ext!$A$1:$G$5,MATCH(H24,Ext!$A$1:$A$5,0),MATCH(H$7,Ext!$A$2:$E$2,0)),\"invalid entry\")))","v":""},{"$f":"IF(LEN(B24)=0,\"\",IF(LEN(I24)=0,INDEX(Ext!$A$1:$G$5,MATCH(0,Ext!$A$1:$A$5,0),MATCH(I$7,Ext!$A$2:$E$2,0)),IF(AND(I24>=0,I24<3),INDEX(Ext!$A$1:$G$5,MATCH(I24,Ext!$A$1:$A$5,0),MATCH(I$7,Ext!$A$2:$E$2,0)),\"invalid entry\")))","v":""},{"$f":"IF(LEN(C24)=0,\"\",IF(LEN(J24)=0,INDEX(Ext!$A$1:$G$5,MATCH(0,Ext!$A$1:$A$5,0),MATCH(J$7,Ext!$A$2:$E$2,0)),IF(AND(J24>=0,J24<3),INDEX(Ext!$A$1:$G$5,MATCH(J24,Ext!$A$1:$A$5,0),MATCH(J$7,Ext!$A$2:$E$2,0)),\"invalid entry\")))","v":""}]
[null,null,null,null,null,null,null,null,null,null,null,{"$f":"IF(LEN(A25)=0,\"\",IF(LEN(E25)=0,\"HVI data needed\",INDEX('Staple Lookup'!$C$3:$C$100,MATCH(TRUE,'Staple Lookup'!$B$3:$B$100>=ROUND(E25,2),0))))","v":""},null,{"$f":"IF(OR(LEN(B25)=0,LEN(C25)=0,LEN(D25)=0),\"\",IF(AND(RIGHT(B25,1)*1=1,C25=8),-2000,IF(L25>=38,AB25,IF(L25<=31,AC25,AE25))))","v":""},{"$f":"IF(LEN(A25)=0,\"\",INDEX(Str!$C$1:$C$20,MATCH(ROUND(F25,1),Str!$A$1:$A$20,1)))","v":""},"","",{"$f":"IF(LEN(A25)=0,\"\",INDEX(Uni!$C$1:$C$20,MATCH(ROUND($G25,1),Uni!$A$1:$A$20,1)))","v":""},null,"",{"$f":"IF(LEN(A25)=0,\"\",IF(OR(LEN(B25)=0,LEN(C25)=0,LEN(D25)=0,LEN(E25)=0,LEN(F25)=0,LEN(G25)=0),\"no HVI data\",IF('Base Values'!$B$6+(SUM($N25:$R25)/100)<0,0,'Base Values'!$B$6+(SUM(N25:R25)/100))))","v":""},null,{"$f":"IF(LEN(A25)=0,\"\",IF(LEN(H25)=0,INDEX(Ext!$A$1:$G$5,MATCH(0,Ext!$A$1:$A$5,0),MATCH(H$7,Ext!$A$2:$E$2,0)),IF(AND(H25>=0,H25<3),INDEX(Ext!$A$1:$G$5,MATCH(H25,Ext!$A$1:$A$5,0),MATCH(H$7,Ext!$A$2:$E$2,0)),\"invalid entry\")))","v":""},{"$f":"IF(LEN(B25)=0,\"\",IF(LEN(I25)=0,INDEX(Ext!$A$1:$G$5,MATCH(0,Ext!$A$1:$A$5,0),MATCH(I$7,Ext!$A$2:$E$2,0)),IF(AND(I25>=0,I25<3),INDEX(Ext!$A$1:$G$5,MATCH(I25,Ext!$A$1:$A$5,0),MATCH(I$7,Ext!$A$2:$E$2,0)),\"invalid entry\")))","v":""},{"$f":"IF(LEN(C25)=0,\"\",IF(LEN(J25)=0,INDEX(Ext!$A$1:$G$5,MATCH(0,Ext!$A$1:$A$5,0),MATCH(J$7,Ext!$A$2:$E$2,0)),IF(AND(J25>=0,J25<3),INDEX(Ext!$A$1:$G$5,MATCH(J25,Ext!$A$1:$A$5,0),MATCH(J$7,Ext!$A$2:$E$2,0)),\"invalid entry\")))","v":""}]
[null,null,null,null,null,null,null,null,null,null,null,{"$f":"IF(LEN(A26)=0,\"\",IF(LEN(E26)=0,\"HVI data needed\",INDEX('Staple Lookup'!$C$3:$C$100,MATCH(TRUE,'Staple Lookup'!$B$3:$B$100>=ROUND(E26,2),0))))","v":""},null,{"$f":"IF(OR(LEN(B26)=0,LEN(C26)=0,LEN(D26)=0),\"\",IF(AND(RIGHT(B26,1)*1=1,C26=8),-2000,IF(L26>=38,AB26,IF(L26<=31,AC26,AE26))))","v":""},{"$f":"IF(LEN(A26)=0,\"\",INDEX(Str!$C$1:$C$20,MATCH(ROUND(F26,1),Str!$A$1:$A$20,1)))","v":""},"","",{"$f":"IF(LEN(A26)=0,\"\",INDEX(Uni!$C$1:$C$20,MATCH(ROUND($G26,1),Uni!$A$1:$A$20,1)))","v":""},null,"",{"$f":"IF(LEN(A26)=0,\"\",IF(OR(LEN(B26)=0,LEN(C26)=0,LEN(D26)=0,LEN(E26)=0,LEN(F26)=0,LEN(G26)=0),\"no HVI data\",IF('Base Values'!$B$6+(SUM($N26:$R26)/100)<0,0,'Base Values'!$B$6+(SUM(N26:R26)/100))))","v":""},null,{"$f":"IF(LEN(A26)=0,\"\",IF(LEN(H26)=0,INDEX(Ext!$A$1:$G$5,MATCH(0,Ext!$A$1:$A$5,0),MATCH(H$7,Ext!$A$2:$E$2,0)),IF(AND(H26>=0,H26<3),INDEX(Ext!$A$1:$G$5,MATCH(H26,Ext!$A$1:$A$5,0),MATCH(H$7,Ext!$A$2:$E$2,0)),\"invalid entry\")))","v":""},{"$f":"IF(LEN(B26)=0,\"\",IF(LEN(I26)=0,INDEX(Ext!$A$1:$G$5,MATCH(0,Ext!$A$1:$A$5,0),MATCH(I$7,Ext!$A$2:$E$2,0)),IF(AND(I26>=0,I26<3),INDEX(Ext!$A$1:$G$5,MATCH(I26,Ext!$A$1:$A$5,0),MATCH(I$7,Ext!$A$2:$E$2,0)),\"invalid entry\")))","v":""},{"$f":"IF(LEN(C26)=0,\"\",IF(LEN(J26)=0,INDEX(Ext!$A$1:$G$5,MATCH(0,Ext!$A$1:$A$5,0),MATCH(J$7,Ext!$A$2:$E$2,0)),IF(AND(J26>=0,J26<3),INDEX(Ext!$A$1:$G$5,MATCH(J26,Ext!$A$1:$A$5,0),MATCH(J$7,Ext!$A$2:$E$2,0)),\"invalid entry\")))","v":""}]
[null,null,null,null,null,null,null,null,null,null,null,{"$f":"IF(LEN(A27)=0,\"\",IF(LEN(E27)=0,\"HVI data needed\",INDEX('Staple Lookup'!$C$3:$C$100,MATCH(TRUE,'Staple Lookup'!$B$3:$B$100>=ROUND(E27,2),0))))","v":""},null,{"$f":"IF(OR(LEN(B27)=0,LEN(C27)=0,LEN(D27)=0),\"\",IF(AND(RIGHT(B27,1)*1=1,C27=8),-2000,IF(L27>=38,AB27,IF(L27<=31,AC27,AE27))))","v":""},{"$f":"IF(LEN(A27)=0,\"\",INDEX(Str!$C$1:$C$20,MATCH(ROUND(F27,1),Str!$A$1:$A$20,1)))","v":""},"","",{"$f":"IF(LEN(A27)=0,\"\",INDEX(Uni!$C$1:$C$20,MATCH(ROUND($G27,1),Uni!$A$1:$A$20,1)))","v":""},null,"",{"$f":"IF(LEN(A27)=0,\"\",IF(OR(LEN(B27)=0,LEN(C27)=0,LEN(D27)=0,LEN(E27)=0,LEN(F27)=0,LEN(G27)=0),\"no HVI data\",IF('Base Values'!$B$6+(SUM($N27:$R27)/100)<0,0,'Base Values'!$B$6+(SUM(N27:R27)/100))))","v":""},null,{"$f":"IF(LEN(A27)=0,\"\",IF(LEN(H27)=0,INDEX(Ext!$A$1:$G$5,MATCH(0,Ext!$A$1:$A$5,0),MATCH(H$7,Ext!$A$2:$E$2,0)),IF(AND(H27>=0,H27<3),INDEX(Ext!$A$1:$G$5,MATCH(H27,Ext!$A$1:$A$5,0),MATCH(H$7,Ext!$A$2:$E$2,0)),\"invalid entry\")))","v":""},{"$f":"IF(LEN(B27)=0,\"\",IF(LEN(I27)=0,INDEX(Ext!$A$1:$G$5,MATCH(0,Ext!$A$1:$A$5,0),MATCH(I$7,Ext!$A$2:$E$2,0)),IF(AND(I27>=0,I27<3),INDEX(Ext!$A$1:$G$5,MATCH(I27,Ext!$A$1:$A$5,0),MATCH(I$7,Ext!$A$2:$E$2,0)),\"invalid entry\")))","v":""},{"$f":"IF(LEN(C27)=0,\"\",IF(LEN(J27)=0,INDEX(Ext!$A$1:$G$5,MATCH(0,Ext!$A$1:$A$5,0),MATCH(J$7,Ext!$A$2:$E$2,0)),IF(AND(J27>=0,J27<3),INDEX(Ext!$A$1:$G$5,MATCH(J27,Ext!$A$1:$A$5,0),MATCH(J$7,Ext!$A$2:$E$2,0)),\"invalid entry\")))","v":""}]
[null,null,null,null,null,null,null,null,null,null,null,{"$f":"IF(LEN(A28)=0,\"\",IF(LEN(E28)=0,\"HVI data needed\",INDEX('Staple Lookup'!$C$3:$C$100,MATCH(TRUE,'Staple Lookup'!$B$3:$B$100>=ROUND(E28,2),0))))","v":""},null,{"$f":"IF(OR(LEN(B28)=0,LEN(C28)=0,LEN(D28)=0),\"\",IF(AND(RIGHT(B28,1)*1=1,C28=8),-2000,IF(L28>=38,AB28,IF(L28<=31,AC28,AE28))))","v":""},{"$f":"IF(LEN(A28)=0,\"\",INDEX(Str!$C$1:$C$20,MATCH(ROUND(F28,1),Str!$A$1:$A$20,1)))","v":""},"","",{"$f":"IF(LEN(A28)=0,\"\",INDEX(Uni!$C$1:$C$20,MATCH(ROUND($G28,1),Uni!$A$1:$A$20,1)))","v":""},null,"",{"$f":"IF(LEN(A28)=0,\"\",IF(OR(LEN(B28)=0,LEN(C28)=0,LEN(D28)=0,LEN(E28)=0,LEN(F28)=0,LEN(G28)=0),\"no HVI data\",IF('Base Values'!$B$6+(SUM($N28:$R28)/100)<0,0,'Base Values'!$B$6+(SUM(N28:R28)/100))))","v":""},null,{"$f":"IF(LEN(A28)=0,\"\",IF(LEN(H28)=0,INDEX(Ext!$A$1:$G$5,MATCH(0,Ext!$A$1:$A$5,0),MATCH(H$7,Ext!$A$2:$E$2,0)),IF(AND(H28>=0,H28<3),INDEX(Ext!$A$1:$G$5,MATCH(H28,Ext!$A$1:$A$5,0),MATCH(H$7,Ext!$A$2:$E$2,0)),\"invalid entry\")))","v":""},{"$f":"IF(LEN(B28)=0,\"\",IF(LEN(I28)=0,INDEX(Ext!$A$1:$G$5,MATCH(0,Ext!$A$1:$A$5,0),MATCH(I$7,Ext!$A$2:$E$2,0)),IF(AND(I28>=0,I28<3),INDEX(Ext!$A$1:$G$5,MATCH(I28,Ext!$A$1:$A$5,0),MATCH(I$7,Ext!$A$2:$E$2,0)),\"invalid entry\")))","v":""},{"$f":"IF(LEN(C28)=0,\"\",IF(LEN(J28)=0,INDEX(Ext!$A$1:$G$5,MATCH(0,Ext!$A$1:$A$5,0),MATCH(J$7,Ext!$A$2:$E$2,0)),IF(AND(J28>=0,J28<3),INDEX(Ext!$A$1:$G$5,MATCH(J28,Ext!$A$1:$A$5,0),MATCH(J$7,Ext!$A$2:$E$2,0)),\"invalid entry\")))","v":""}]
[null,null,null,null,null,null,null,null,null,null,null,{"$f":"IF(LEN(A29)=0,\"\",IF(LEN(E29)=0,\"HVI data needed\",INDEX('Staple Lookup'!$C$3:$C$100,MATCH(TRUE,'Staple Lookup'!$B$3:$B$100>=ROUND(E29,2),0))))","v":""},null,{"$f":"IF(OR(LEN(B29)=0,LEN(C29)=0,LEN(D29)=0),\"\",IF(AND(RIGHT(B29,1)*1=1,C29=8),-2000,IF(L29>=38,AB29,IF(L29<=31,AC29,AE29))))","v":""},{"$f":"IF(LEN(A29)=0,\"\",INDEX(Str!$C$1:$C$20,MATCH(ROUND(F29,1),Str!$A$1:$A$20,1)))","v":""},"","",{"$f":"IF(LEN(A29)=0,\"\",INDEX(Uni!$C$1:$C$20,MATCH(ROUND($G29,1),Uni!$A$1:$A$20,1)))","v":""},null,"",{"$f":"IF(LEN(A29)=0,\"\",IF(OR(LEN(B29)=0,LEN(C29)=0,LEN(D29)=0,LEN(E29)=0,LEN(F29)=0,LEN(G29)=0),\"no HVI data\",IF('Base Values'!$B$6+(SUM($N29:$R29)/100)<0,0,'Base Values'!$B$6+(SUM(N29:R29)/100))))","v":""},null,{"$f":"IF(LEN(A29)=0,\"\",IF(LEN(H29)=0,INDEX(Ext!$A$1:$G$5,MATCH(0,Ext!$A$1:$A$5,0),MATCH(H$7,Ext!$A$2:$E$2,0)),IF(AND(H29>=0,H29<3),INDEX(Ext!$A$1:$G$5,MATCH(H29,Ext!$A$1:$A$5,0),MATCH(H$7,Ext!$A$2:$E$2,0)),\"invalid entry\")))","v":""},{"$f":"IF(LEN(B29)=0,\"\",IF(LEN(I29)=0,INDEX(Ext!$A$1:$G$5,MATCH(0,Ext!$A$1:$A$5,0),MATCH(I$7,Ext!$A$2:$E$2,0)),IF(AND(I29>=0,I29<3),INDEX(Ext!$A$1:$G$5,MATCH(I29,Ext!$A$1:$A$5,0),MATCH(I$7,Ext!$A$2:$E$2,0)),\"invalid entry\")))","v":""},{"$f":"IF(LEN(C29)=0,\"\",IF(LEN(J29)=0,INDEX(Ext!$A$1:$G$5,MATCH(0,Ext!$A$1:$A$5,0),MATCH(J$7,Ext!$A$2:$E$2,0)),IF(AND(J29>=0,J29<3),INDEX(Ext!$A$1:$G$5,MATCH(J29,Ext!$A$1:$A$5,0),MATCH(J$7,Ext!$A$2:$E$2,0)),\"invalid entry\")))","v":""}]
[null,null,null,null,null,null,null,null,null,null,null,{"$f":"IF(LEN(A30)=0,\"\",IF(LEN(E30)=0,\"HVI data needed\",INDEX('Staple Lookup'!$C$3:$C$100,MATCH(TRUE,'Staple Lookup'!$B$3:$B$100>=ROUND(E30,2),0))))","v":""},null,{"$f":"IF(OR(LEN(B30)=0,LEN(C30)=0,LEN(D30)=0),\"\",IF(AND(RIGHT(B30,1)*1=1,C30=8),-2000,IF(L30>=38,AB30,IF(L30<=31,AC30,AE30))))","v":""},{"$f":"IF(LEN(A30)=0,\"\",INDEX(Str!$C$1:$C$20,MATCH(ROUND(F30,1),Str!$A$1:$A$20,1)))","v":""},"","",{"$f":"IF(LEN(A30)=0,\"\",INDEX(Uni!$C$1:$C$20,MATCH(ROUND($G30,1),Uni!$A$1:$A$20,1)))","v":""},null,"",{"$f":"IF(LEN(A30)=0,\"\",IF(OR(LEN(B30)=0,LEN(C30)=0,LEN(D30)=0,LEN(E30)=0,LEN(F30)=0,LEN(G30)=0),\"no HVI data\",IF('Base Values'!$B$6+(SUM($N30:$R30)/100)<0,0,'Base Values'!$B$6+(SUM(N30:R30)/100))))","v":""},null,{"$f":"IF(LEN(A30)=0,\"\",IF(LEN(H30)=0,INDEX(Ext!$A$1:$G$5,MATCH(0,Ext!$A$1:$A$5,0),MATCH(H$7,Ext!$A$2:$E$2,0)),IF(AND(H30>=0,H30<3),INDEX(Ext!$A$1:$G$5,MATCH(H30,Ext!$A$1:$A$5,0),MATCH(H$7,Ext!$A$2:$E$2,0)),\"invalid entry\")))","v":""},{"$f":"IF(LEN(B30)=0,\"\",IF(LEN(I30)=0,INDEX(Ext!$A$1:$G$5,MATCH(0,Ext!$A$1:$A$5,0),MATCH(I$7,Ext!$A$2:$E$2,0)),IF(AND(I30>=0,I30<3),INDEX(Ext!$A$1:$G$5,MATCH(I30,Ext!$A$1:$A$5,0),MATCH(I$7,Ext!$A$2:$E$2,0)),\"invalid entry\")))","v":""},{"$f":"IF(LEN(C30)=0,\"\",IF(LEN(J30)=0,INDEX(Ext!$A$1:$G$5,MATCH(0,Ext!$A$1:$A$5,0),MATCH(J$7,Ext!$A$2:$E$2,0)),IF(AND(J30>=0,J30<3),INDEX(Ext!$A$1:$G$5,MATCH(J30,Ext!$A$1:$A$5,0),MATCH(J$7,Ext!$A$2:$E$2,0)),\"invalid entry\")))","v":""}]
[null,null,null,null,null,null,null,null,null,null,null,{"$f":"IF(LEN(A31)=0,\"\",IF(LEN(E31)=0,\"HVI data needed\",INDEX('Staple Lookup'!$C$3:$C$100,MATCH(TRUE,'Staple Lookup'!$B$3:$B$100>=ROUND(E31,2),0))))","v":""},null,{"$f":"IF(OR(LEN(B31)=0,LEN(C31)=0,LEN(D31)=0),\"\",IF(AND(RIGHT(B31,1)*1=1,C31=8),-2000,IF(L31>=38,AB31,IF(L31<=31,AC31,AE31))))","v":""},{"$f":"IF(LEN(A31)=0,\"\",INDEX(Str!$C$1:$C$20,MATCH(ROUND(F31,1),Str!$A$1:$A$20,1)))","v":""},"","",{"$f":"IF(LEN(A31)=0,\"\",INDEX(Uni!$C$1:$C$20,MATCH(ROUND($G31,1),Uni!$A$1:$A$20,1)))","v":""},null,"",{"$f":"IF(LEN(A31)=0,\"\",IF(OR(LEN(B31)=0,LEN(C31)=0,LEN(D31)=0,LEN(E31)=0,LEN(F31)=0,LEN(G31)=0),\"no HVI data\",IF('Base Values'!$B$6+(SUM($N31:$R31)/100)<0,0,'Base Values'!$B$6+(SUM(N31:R31)/100))))","v":""},null,{"$f":"IF(LEN(A31)=0,\"\",IF(LEN(H31)=0,INDEX(Ext!$A$1:$G$5,MATCH(0,Ext!$A$1:$A$5,0),MATCH(H$7,Ext!$A$2:$E$2,0)),IF(AND(H31>=0,H31<3),INDEX(Ext!$A$1:$G$5,MATCH(H31,Ext!$A$1:$A$5,0),MATCH(H$7,Ext!$A$2:$E$2,0)),\"invalid entry\")))","v":""},{"$f":"IF(LEN(B31)=0,\"\",IF(LEN(I31)=0,INDEX(Ext!$A$1:$G$5,MATCH(0,Ext!$A$1:$A$5,0),MATCH(I$7,Ext!$A$2:$E$2,0)),IF(AND(I31>=0,I31<3),INDEX(Ext!$A$1:$G$5,MATCH(I31,Ext!$A$1:$A$5,0),MATCH(I$7,Ext!$A$2:$E$2,0)),\"invalid entry\")))","v":""},{"$f":"IF(LEN(C31)=0,\"\",IF(LEN(J31)=0,INDEX(Ext!$A$1:$G$5,MATCH(0,Ext!$A$1:$A$5,0),MATCH(J$7,Ext!$A$2:$E$2,0)),IF(AND(J31>=0,J31<3),INDEX(Ext!$A$1:$G$5,MATCH(J31,Ext!$A$1:$A$5,0),MATCH(J$7,Ext!$A$2:$E$2,0)),\"invalid entry\")))","v":""}]
[null,null,null,null,null,null,null,null,null,null,null,{"$f":"IF(LEN(A32)=0,\"\",IF(LEN(E32)=0,\"HVI data needed\",INDEX('Staple Lookup'!$C$3:$C$100,MATCH(TRUE,'Staple Lookup'!$B$3:$B$100>=ROUND(E32,2),0))))","v":""},null,{"$f":"IF(OR(LEN(B32)=0,LEN(C32)=0,LEN(D32)=0),\"\",IF(AND(RIGHT(B32,1)*1=1,C32=8),-2000,IF(L32>=38,AB32,IF(L32<=31,AC32,AE32))))","v":""},{"$f":"IF(LEN(A32)=0,\"\",INDEX(Str!$C$1:$C$20,MATCH(ROUND(F32,1),Str!$A$1:$A$20,1)))","v":""},"","",{"$f":"IF(LEN(A32)=0,\"\",INDEX(Uni!$C$1:$C$20,MATCH(ROUND($G32,1),Uni!$A$1:$A$20,1)))","v":""},null,"",{"$f":"IF(LEN(A32)=0,\"\",IF(OR(LEN(B32)=0,LEN(C32)=0,LEN(D32)=0,LEN(E32)=0,LEN(F32)=0,LEN(G32)=0),\"no HVI data\",IF('Base Values'!$B$6+(SUM($N32:$R32)/100)<0,0,'Base Values'!$B$6+(SUM(N32:R32)/100))))","v":""},null,{"$f":"IF(LEN(A32)=0,\"\",IF(LEN(H32)=0,INDEX(Ext!$A$1:$G$5,MATCH(0,Ext!$A$1:$A$5,0),MATCH(H$7,Ext!$A$2:$E$2,0)),IF(AND(H32>=0,H32<3),INDEX(Ext!$A$1:$G$5,MATCH(H32,Ext!$A$1:$A$5,0),MATCH(H$7,Ext!$A$2:$E$2,0)),\"invalid entry\")))","v":""},{"$f":"IF(LEN(B32)=0,\"\",IF(LEN(I32)=0,INDEX(Ext!$A$1:$G$5,MATCH(0,Ext!$A$1:$A$5,0),MATCH(I$7,Ext!$A$2:$E$2,0)),IF(AND(I32>=0,I32<3),INDEX(Ext!$A$1:$G$5,MATCH(I32,Ext!$A$1:$A$5,0),MATCH(I$7,Ext!$A$2:$E$2,0)),\"invalid entry\")))","v":""},{"$f":"IF(LEN(C32)=0,\"\",IF(LEN(J32)=0,INDEX(Ext!$A$1:$G$5,MATCH(0,Ext!$A$1:$A$5,0),MATCH(J$7,Ext!$A$2:$E$2,0)),IF(AND(J32>=0,J32<3),INDEX(Ext!$A$1:$G$5,MATCH(J32,Ext!$A$1:$A$5,0),MATCH(J$7,Ext!$A$2:$E$2,0)),\"invalid entry\")))","v":""}]
[null,null,null,null,null,null,null,null,null,null,null,{"$f":"IF(LEN(A33)=0,\"\",IF(LEN(E33)=0,\"HVI data needed\",INDEX('Staple Lookup'!$C$3:$C$100,MATCH(TRUE,'Staple Lookup'!$B$3:$B$100>=ROUND(E33,2),0))))","v":""},null,{"$f":"IF(OR(LEN(B33)=0,LEN(C33)=0,LEN(D33)=0),\"\",IF(AND(RIGHT(B33,1)*1=1,C33=8),-2000,IF(L33>=38,AB33,IF(L33<=31,AC33,AE33))))","v":""},{"$f":"IF(LEN(A33)=0,\"\",INDEX(Str!$C$1:$C$20,MATCH(ROUND(F33,1),Str!$A$1:$A$20,1)))","v":""},"","",{"$f":"IF(LEN(A33)=0,\"\",INDEX(Uni!$C$1:$C$20,MATCH(ROUND($G33,1),Uni!$A$1:$A$20,1)))","v":""},null,"",{"$f":"IF(LEN(A33)=0,\"\",IF(OR(LEN(B33)=0,LEN(C33)=0,LEN(D33)=0,LEN(E33)=0,LEN(F33)=0,LEN(G33)=0),\"no HVI data\",IF('Base Values'!$B$6+(SUM($N33:$R33)/100)<0,0,'Base Values'!$B$6+(SUM(N33:R33)/100))))","v":""},null,{"$f":"IF(LEN(A33)=0,\"\",IF(LEN(H33)=0,INDEX(Ext!$A$1:$G$5,MATCH(0,Ext!$A$1:$A$5,0),MATCH(H$7,Ext!$A$2:$E$2,0)),IF(AND(H33>=0,H33<3),INDEX(Ext!$A$1:$G$5,MATCH(H33,Ext!$A$1:$A$5,0),MATCH(H$7,Ext!$A$2:$E$2,0)),\"invalid entry\")))","v":""},{"$f":"IF(LEN(B33)=0,\"\",IF(LEN(I33)=0,INDEX(Ext!$A$1:$G$5,MATCH(0,Ext!$A$1:$A$5,0),MATCH(I$7,Ext!$A$2:$E$2,0)),IF(AND(I33>=0,I33<3),INDEX(Ext!$A$1:$G$5,MATCH(I33,Ext!$A$1:$A$5,0),MATCH(I$7,Ext!$A$2:$E$2,0)),\"invalid entry\")))","v":""},{"$f":"IF(LEN(C33)=0,\"\",IF(LEN(J33)=0,INDEX(Ext!$A$1:$G$5,MATCH(0,Ext!$A$1:$A$5,0),MATCH(J$7,Ext!$A$2:$E$2,0)),IF(AND(J33>=0,J33<3),INDEX(Ext!$A$1:$G$5,MATCH(J33,Ext!$A$1:$A$5,0),MATCH(J$7,Ext!$A$2:$E$2,0)),\"invalid entry\")))","v":""}]
[null,null,null,null,null,null,null,null,null,null,null,{"$f":"IF(LEN(A34)=0,\"\",IF(LEN(E34)=0,\"HVI data needed\",INDEX('Staple Lookup'!$C$3:$C$100,MATCH(TRUE,'Staple Lookup'!$B$3:$B$100>=ROUND(E34,2),0))))","v":""},null,{"$f":"IF(OR(LEN(B34)=0,LEN(C34)=0,LEN(D34)=0),\"\",IF(AND(RIGHT(B34,1)*1=1,C34=8),-2000,IF(L34>=38,AB34,IF(L34<=31,AC34,AE34))))","v":""},{"$f":"IF(LEN(A34)=0,\"\",INDEX(Str!$C$1:$C$20,MATCH(ROUND(F34,1),Str!$A$1:$A$20,1)))","v":""},"","",{"$f":"IF(LEN(A34)=0,\"\",INDEX(Uni!$C$1:$C$20,MATCH(ROUND($G34,1),Uni!$A$1:$A$20,1)))","v":""},null,"",{"$f":"IF(LEN(A34)=0,\"\",IF(OR(LEN(B34)=0,LEN(C34)=0,LEN(D34)=0,LEN(E34)=0,LEN(F34)=0,LEN(G34)=0),\"no HVI data\",IF('Base Values'!$B$6+(SUM($N34:$R34)/100)<0,0,'Base Values'!$B$6+(SUM(N34:R34)/100))))","v":""},null,{"$f":"IF(LEN(A34)=0,\"\",IF(LEN(H34)=0,INDEX(Ext!$A$1:$G$5,MATCH(0,Ext!$A$1:$A$5,0),MATCH(H$7,Ext!$A$2:$E$2,0)),IF(AND(H34>=0,H34<3),INDEX(Ext!$A$1:$G$5,MATCH(H34,Ext!$A$1:$A$5,0),MATCH(H$7,Ext!$A$2:$E$2,0)),\"invalid entry\")))","v":""},{"$f":"IF(LEN(B34)=0,\"\",IF(LEN(I34)=0,INDEX(Ext!$A$1:$G$5,MATCH(0,Ext!$A$1:$A$5,0),MATCH(I$7,Ext!$A$2:$E$2,0)),IF(AND(I34>=0,I34<3),INDEX(Ext!$A$1:$G$5,MATCH(I34,Ext!$A$1:$A$5,0),MATCH(I$7,Ext!$A$2:$E$2,0)),\"invalid entry\")))","v":""},{"$f":"IF(LEN(C34)=0,\"\",IF(LEN(J34)=0,INDEX(Ext!$A$1:$G$5,MATCH(0,Ext!$A$1:$A$5,0),MATCH(J$7,Ext!$A$2:$E$2,0)),IF(AND(J34>=0,J34<3),INDEX(Ext!$A$1:$G$5,MATCH(J34,Ext!$A$1:$A$5,0),MATCH(J$7,Ext!$A$2:$E$2,0)),\"invalid entry\")))","v":""}]
[null,null,null,null,null,null,null,null,null,null,null,{"$f":"IF(LEN(A35)=0,\"\",IF(LEN(E35)=0,\"HVI data needed\",INDEX('Staple Lookup'!$C$3:$C$100,MATCH(TRUE,'Staple Lookup'!$B$3:$B$100>=ROUND(E35,2),0))))","v":""},null,{"$f":"IF(OR(LEN(B35)=0,LEN(C35)=0,LEN(D35)=0),\"\",IF(AND(RIGHT(B35,1)*1=1,C35=8),-2000,IF(L35>=38,AB35,IF(L35<=31,AC35,AE35))))","v":""},{"$f":"IF(LEN(A35)=0,\"\",INDEX(Str!$C$1:$C$20,MATCH(ROUND(F35,1),Str!$A$1:$A$20,1)))","v":""},"","",{"$f":"IF(LEN(A35)=0,\"\",INDEX(Uni!$C$1:$C$20,MATCH(ROUND($G35,1),Uni!$A$1:$A$20,1)))","v":""},null,"",{"$f":"IF(LEN(A35)=0,\"\",IF(OR(LEN(B35)=0,LEN(C35)=0,LEN(D35)=0,LEN(E35)=0,LEN(F35)=0,LEN(G35)=0),\"no HVI data\",IF('Base Values'!$B$6+(SUM($N35:$R35)/100)<0,0,'Base Values'!$B$6+(SUM(N35:R35)/100))))","v":""},null,{"$f":"IF(LEN(A35)=0,\"\",IF(LEN(H35)=0,INDEX(Ext!$A$1:$G$5,MATCH(0,Ext!$A$1:$A$5,0),MATCH(H$7,Ext!$A$2:$E$2,0)),IF(AND(H35>=0,H35<3),INDEX(Ext!$A$1:$G$5,MATCH(H35,Ext!$A$1:$A$5,0),MATCH(H$7,Ext!$A$2:$E$2,0)),\"invalid entry\")))","v":""},{"$f":"IF(LEN(B35)=0,\"\",IF(LEN(I35)=0,INDEX(Ext!$A$1:$G$5,MATCH(0,Ext!$A$1:$A$5,0),MATCH(I$7,Ext!$A$2:$E$2,0)),IF(AND(I35>=0,I35<3),INDEX(Ext!$A$1:$G$5,MATCH(I35,Ext!$A$1:$A$5,0),MATCH(I$7,Ext!$A$2:$E$2,0)),\"invalid entry\")))","v":""},{"$f":"IF(LEN(C35)=0,\"\",IF(LEN(J35)=0,INDEX(Ext!$A$1:$G$5,MATCH(0,Ext!$A$1:$A$5,0),MATCH(J$7,Ext!$A$2:$E$2,0)),IF(AND(J35>=0,J35<3),INDEX(Ext!$A$1:$G$5,MATCH(J35,Ext!$A$1:$A$5,0),MATCH(J$7,Ext!$A$2:$E$2,0)),\"invalid entry\")))","v":""}]
[null,null,null,null,null,null,null,null,null,null,null,{"$f":"IF(LEN(A36)=0,\"\",IF(LEN(E36)=0,\"HVI data needed\",INDEX('Staple Lookup'!$C$3:$C$100,MATCH(TRUE,'Staple Lookup'!$B$3:$B$100>=ROUND(E36,2),0))))","v":""},null,{"$f":"IF(OR(LEN(B36)=0,LEN(C36)=0,LEN(D36)=0),\"\",IF(AND(RIGHT(B36,1)*1=1,C36=8),-2000,IF(L36>=38,AB36,IF(L36<=31,AC36,AE36))))","v":""},{"$f":"IF(LEN(A36)=0,\"\",INDEX(Str!$C$1:$C$20,MATCH(ROUND(F36,1),Str!$A$1:$A$20,1)))","v":""},"","",{"$f":"IF(LEN(A36)=0,\"\",INDEX(Uni!$C$1:$C$20,MATCH(ROUND($G36,1),Uni!$A$1:$A$20,1)))","v":""},null,"",{"$f":"IF(LEN(A36)=0,\"\",IF(OR(LEN(B36)=0,LEN(C36)=0,LEN(D36)=0,LEN(E36)=0,LEN(F36)=0,LEN(G36)=0),\"no HVI data\",IF('Base Values'!$B$6+(SUM($N36:$R36)/100)<0,0,'Base Values'!$B$6+(SUM(N36:R36)/100))))","v":""},null,{"$f":"IF(LEN(A36)=0,\"\",IF(LEN(H36)=0,INDEX(Ext!$A$1:$G$5,MATCH(0,Ext!$A$1:$A$5,0),MATCH(H$7,Ext!$A$2:$E$2,0)),IF(AND(H36>=0,H36<3),INDEX(Ext!$A$1:$G$5,MATCH(H36,Ext!$A$1:$A$5,0),MATCH(H$7,Ext!$A$2:$E$2,0)),\"invalid entry\")))","v":""},{"$f":"IF(LEN(B36)=0,\"\",IF(LEN(I36)=0,INDEX(Ext!$A$1:$G$5,MATCH(0,Ext!$A$1:$A$5,0),MATCH(I$7,Ext!$A$2:$E$2,0)),IF(AND(I36>=0,I36<3),INDEX(Ext!$A$1:$G$5,MATCH(I36,Ext!$A$1:$A$5,0),MATCH(I$7,Ext!$A$2:$E$2,0)),\"invalid entry\")))","v":""},{"$f":"IF(LEN(C36)=0,\"\",IF(LEN(J36)=0,INDEX(Ext!$A$1:$G$5,MATCH(0,Ext!$A$1:$A$5,0),MATCH(J$7,Ext!$A$2:$E$2,0)),IF(AND(J36>=0,J36<3),INDEX(Ext!$A$1:$G$5,MATCH(J36,Ext!$A$1:$A$5,0),MATCH(J$7,Ext!$A$2:$E$2,0)),\"invalid entry\")))","v":""}]
[null,null,null,null,null,null,null,null,null,null,null,{"$f":"IF(LEN(A37)=0,\"\",IF(LEN(E37)=0,\"HVI data needed\",INDEX('Staple Lookup'!$C$3:$C$100,MATCH(TRUE,'Staple Lookup'!$B$3:$B$100>=ROUND(E37,2),0))))","v":""},null,{"$f":"IF(OR(LEN(B37)=0,LEN(C37)=0,LEN(D37)=0),\"\",IF(AND(RIGHT(B37,1)*1=1,C37=8),-2000,IF(L37>=38,AB37,IF(L37<=31,AC37,AE37))))","v":""},{"$f":"IF(LEN(A37)=0,\"\",INDEX(Str!$C$1:$C$20,MATCH(ROUND(F37,1),Str!$A$1:$A$20,1)))","v":""},"","",{"$f":"IF(LEN(A37)=0,\"\",INDEX(Uni!$C$1:$C$20,MATCH(ROUND($G37,1),Uni!$A$1:$A$20,1)))","v":""},null,"",{"$f":"IF(LEN(A37)=0,\"\",IF(OR(LEN(B37)=0,LEN(C37)=0,LEN(D37)=0,LEN(E37)=0,LEN(F37)=0,LEN(G37)=0),\"no HVI data\",IF('Base Values'!$B$6+(SUM($N37:$R37)/100)<0,0,'Base Values'!$B$6+(SUM(N37:R37)/100))))","v":""},null,{"$f":"IF(LEN(A37)=0,\"\",IF(LEN(H37)=0,INDEX(Ext!$A$1:$G$5,MATCH(0,Ext!$A$1:$A$5,0),MATCH(H$7,Ext!$A$2:$E$2,0)),IF(AND(H37>=0,H37<3),INDEX(Ext!$A$1:$G$5,MATCH(H37,Ext!$A$1:$A$5,0),MATCH(H$7,Ext!$A$2:$E$2,0)),\"invalid entry\")))","v":""},{"$f":"IF(LEN(B37)=0,\"\",IF(LEN(I37)=0,INDEX(Ext!$A$1:$G$5,MATCH(0,Ext!$A$1:$A$5,0),MATCH(I$7,Ext!$A$2:$E$2,0)),IF(AND(I37>=0,I37<3),INDEX(Ext!$A$1:$G$5,MATCH(I37,Ext!$A$1:$A$5,0),MATCH(I$7,Ext!$A$2:$E$2,0)),\"invalid entry\")))","v":""},{"$f":"IF(LEN(C37)=0,\"\",IF(LEN(J37)=0,INDEX(Ext!$A$1:$G$5,MATCH(0,Ext!$A$1:$A$5,0),MATCH(J$7,Ext!$A$2:$E$2,0)),IF(AND(J37>=0,J37<3),INDEX(Ext!$A$1:$G$5,MATCH(J37,Ext!$A$1:$A$5,0),MATCH(J$7,Ext!$A$2:$E$2,0)),\"invalid entry\")))","v":""}]
[null,null,null,null,null,null,null,null,null,null,null,{"$f":"IF(LEN(A38)=0,\"\",IF(LEN(E38)=0,\"HVI data needed\",INDEX('Staple Lookup'!$C$3:$C$100,MATCH(TRUE,'Staple Lookup'!$B$3:$B$100>=ROUND(E38,2),0))))","v":""},null,{"$f":"IF(OR(LEN(B38)=0,LEN(C38)=0,LEN(D38)=0),\"\",IF(AND(RIGHT(B38,1)*1=1,C38=8),-2000,IF(L38>=38,AB38,IF(L38<=31,AC38,AE38))))","v":""},{"$f":"IF(LEN(A38)=0,\"\",INDEX(Str!$C$1:$C$20,MATCH(ROUND(F38,1),Str!$A$1:$A$20,1)))","v":""},"","",{"$f":"IF(LEN(A38)=0,\"\",INDEX(Uni!$C$1:$C$20,MATCH(ROUND($G38,1),Uni!$A$1:$A$20,1)))","v":""},null,"",{"$f":"IF(LEN(A38)=0,\"\",IF(OR(LEN(B38)=0,LEN(C38)=0,LEN(D38)=0,LEN(E38)=0,LEN(F38)=0,LEN(G38)=0),\"no HVI data\",IF('Base Values'!$B$6+(SUM($N38:$R38)/100)<0,0,'Base Values'!$B$6+(SUM(N38:R38)/100))))","v":""},null,{"$f":"IF(LEN(A38)=0,\"\",IF(LEN(H38)=0,INDEX(Ext!$A$1:$G$5,MATCH(0,Ext!$A$1:$A$5,0),MATCH(H$7,Ext!$A$2:$E$2,0)),IF(AND(H38>=0,H38<3),INDEX(Ext!$A$1:$G$5,MATCH(H38,Ext!$A$1:$A$5,0),MATCH(H$7,Ext!$A$2:$E$2,0)),\"invalid entry\")))","v":""},{"$f":"IF(LEN(B38)=0,\"\",IF(LEN(I38)=0,INDEX(Ext!$A$1:$G$5,MATCH(0,Ext!$A$1:$A$5,0),MATCH(I$7,Ext!$A$2:$E$2,0)),IF(AND(I38>=0,I38<3),INDEX(Ext!$A$1:$G$5,MATCH(I38,Ext!$A$1:$A$5,0),MATCH(I$7,Ext!$A$2:$E$2,0)),\"invalid entry\")))","v":""},{"$f":"IF(LEN(C38)=0,\"\",IF(LEN(J38)=0,INDEX(Ext!$A$1:$G$5,MATCH(0,Ext!$A$1:$A$5,0),MATCH(J$7,Ext!$A$2:$E$2,0)),IF(AND(J38>=0,J38<3),INDEX(Ext!$A$1:$G$5,MATCH(J38,Ext!$A$1:$A$5,0),MATCH(J$7,Ext!$A$2:$E$2,0)),\"invalid entry\")))","v":""}]
[null,null,null,null,null,null,null,null,null,null,null,{"$f":"IF(LEN(A39)=0,\"\",IF(LEN(E39)=0,\"HVI data needed\",INDEX('Staple Lookup'!$C$3:$C$100,MATCH(TRUE,'Staple Lookup'!$B$3:$B$100>=ROUND(E39,2),0))))","v":""},null,{"$f":"IF(OR(LEN(B39)=0,LEN(C39)=0,LEN(D39)=0),\"\",IF(AND(RIGHT(B39,1)*1=1,C39=8),-2000,IF(L39>=38,AB39,IF(L39<=31,AC39,AE39))))","v":""},{"$f":"IF(LEN(A39)=0,\"\",INDEX(Str!$C$1:$C$20,MATCH(ROUND(F39,1),Str!$A$1:$A$20,1)))","v":""},"","",{"$f":"IF(LEN(A39)=0,\"\",INDEX(Uni!$C$1:$C$20,MATCH(ROUND($G39,1),Uni!$A$1:$A$20,1)))","v":""},null,"",{"$f":"IF(LEN(A39)=0,\"\",IF(OR(LEN(B39)=0,LEN(C39)=0,LEN(D39)=0,LEN(E39)=0,LEN(F39)=0,LEN(G39)=0),\"no HVI data\",IF('Base Values'!$B$6+(SUM($N39:$R39)/100)<0,0,'Base Values'!$B$6+(SUM(N39:R39)/100))))","v":""},null,{"$f":"IF(LEN(A39)=0,\"\",IF(LEN(H39)=0,INDEX(Ext!$A$1:$G$5,MATCH(0,Ext!$A$1:$A$5,0),MATCH(H$7,Ext!$A$2:$E$2,0)),IF(AND(H39>=0,H39<3),INDEX(Ext!$A$1:$G$5,MATCH(H39,Ext!$A$1:$A$5,0),MATCH(H$7,Ext!$A$2:$E$2,0)),\"invalid entry\")))","v":""},{"$f":"IF(LEN(B39)=0,\"\",IF(LEN(I39)=0,INDEX(Ext!$A$1:$G$5,MATCH(0,Ext!$A$1:$A$5,0),MATCH(I$7,Ext!$A$2:$E$2,0)),IF(AND(I39>=0,I39<3),INDEX(Ext!$A$1:$G$5,MATCH(I39,Ext!$A$1:$A$5,0),MATCH(I$7,Ext!$A$2:$E$2,0)),\"invalid entry\")))","v":""},{"$f":"IF(LEN(C39)=0,\"\",IF(LEN(J39)=0,INDEX(Ext!$A$1:$G$5,MATCH(0,Ext!$A$1:$A$5,0),MATCH(J$7,Ext!$A$2:$E$2,0)),IF(AND(J39>=0,J39<3),INDEX(Ext!$A$1:$G$5,MATCH(J39,Ext!$A$1:$A$5,0),MATCH(J$7,Ext!$A$2:$E$2,0)),\"invalid entry\")))","v":""}]
[null,null,null,null,null,null,null,null,null,null,null,{"$f":"IF(LEN(A40)=0,\"\",IF(LEN(E40)=0,\"HVI data needed\",INDEX('Staple Lookup'!$C$3:$C$100,MATCH(TRUE,'Staple Lookup'!$B$3:$B$100>=ROUND(E40,2),0))))","v":""},null,{"$f":"IF(OR(LEN(B40)=0,LEN(C40)=0,LEN(D40)=0),\"\",IF(AND(RIGHT(B40,1)*1=1,C40=8),-2000,IF(L40>=38,AB40,IF(L40<=31,AC40,AE40))))","v":""},{"$f":"IF(LEN(A40)=0,\"\",INDEX(Str!$C$1:$C$20,MATCH(ROUND(F40,1),Str!$A$1:$A$20,1)))","v":""},"","",{"$f":"IF(LEN(A40)=0,\"\",INDEX(Uni!$C$1:$C$20,MATCH(ROUND($G40,1),Uni!$A$1:$A$20,1)))","v":""},null,"",{"$f":"IF(LEN(A40)=0,\"\",IF(OR(LEN(B40)=0,LEN(C40)=0,LEN(D40)=0,LEN(E40)=0,LEN(F40)=0,LEN(G40)=0),\"no HVI data\",IF('Base Values'!$B$6+(SUM($N40:$R40)/100)<0,0,'Base Values'!$B$6+(SUM(N40:R40)/100))))","v":""},null,{"$f":"IF(LEN(A40)=0,\"\",IF(LEN(H40)=0,INDEX(Ext!$A$1:$G$5,MATCH(0,Ext!$A$1:$A$5,0),MATCH(H$7,Ext!$A$2:$E$2,0)),IF(AND(H40>=0,H40<3),INDEX(Ext!$A$1:$G$5,MATCH(H40,Ext!$A$1:$A$5,0),MATCH(H$7,Ext!$A$2:$E$2,0)),\"invalid entry\")))","v":""},{"$f":"IF(LEN(B40)=0,\"\",IF(LEN(I40)=0,INDEX(Ext!$A$1:$G$5,MATCH(0,Ext!$A$1:$A$5,0),MATCH(I$7,Ext!$A$2:$E$2,0)),IF(AND(I40>=0,I40<3),INDEX(Ext!$A$1:$G$5,MATCH(I40,Ext!$A$1:$A$5,0),MATCH(I$7,Ext!$A$2:$E$2,0)),\"invalid entry\")))","v":""},{"$f":"IF(LEN(C40)=0,\"\",IF(LEN(J40)=0,INDEX(Ext!$A$1:$G$5,MATCH(0,Ext!$A$1:$A$5,0),MATCH(J$7,Ext!$A$2:$E$2,0)),IF(AND(J40>=0,J40<3),INDEX(Ext!$A$1:$G$5,MATCH(J40,Ext!$A$1:$A$5,0),MATCH(J$7,Ext!$A$2:$E$2,0)),\"invalid entry\")))","v":""}]
[null,null,null,null,null,null,null,null,null,null,null,{"$f":"IF(LEN(A41)=0,\"\",IF(LEN(E41)=0,\"HVI data needed\",INDEX('Staple Lookup'!$C$3:$C$100,MATCH(TRUE,'Staple Lookup'!$B$3:$B$100>=ROUND(E41,2),0))))","v":""},null,{"$f":"IF(OR(LEN(B41)=0,LEN(C41)=0,LEN(D41)=0),\"\",IF(AND(RIGHT(B41,1)*1=1,C41=8),-2000,IF(L41>=38,AB41,IF(L41<=31,AC41,AE41))))","v":""},{"$f":"IF(LEN(A41)=0,\"\",INDEX(Str!$C$1:$C$20,MATCH(ROUND(F41,1),Str!$A$1:$A$20,1)))","v":""},"","",{"$f":"IF(LEN(A41)=0,\"\",INDEX(Uni!$C$1:$C$20,MATCH(ROUND($G41,1),Uni!$A$1:$A$20,1)))","v":""},null,"",{"$f":"IF(LEN(A41)=0,\"\",IF(OR(LEN(B41)=0,LEN(C41)=0,LEN(D41)=0,LEN(E41)=0,LEN(F41)=0,LEN(G41)=0),\"no HVI data\",IF('Base Values'!$B$6+(SUM($N41:$R41)/100)<0,0,'Base Values'!$B$6+(SUM(N41:R41)/100))))","v":""},null,{"$f":"IF(LEN(A41)=0,\"\",IF(LEN(H41)=0,INDEX(Ext!$A$1:$G$5,MATCH(0,Ext!$A$1:$A$5,0),MATCH(H$7,Ext!$A$2:$E$2,0)),IF(AND(H41>=0,H41<3),INDEX(Ext!$A$1:$G$5,MATCH(H41,Ext!$A$1:$A$5,0),MATCH(H$7,Ext!$A$2:$E$2,0)),\"invalid entry\")))","v":""},{"$f":"IF(LEN(B41)=0,\"\",IF(LEN(I41)=0,INDEX(Ext!$A$1:$G$5,MATCH(0,Ext!$A$1:$A$5,0),MATCH(I$7,Ext!$A$2:$E$2,0)),IF(AND(I41>=0,I41<3),INDEX(Ext!$A$1:$G$5,MATCH(I41,Ext!$A$1:$A$5,0),MATCH(I$7,Ext!$A$2:$E$2,0)),\"invalid entry\")))","v":""},{"$f":"IF(LEN(C41)=0,\"\",IF(LEN(J41)=0,INDEX(Ext!$A$1:$G$5,MATCH(0,Ext!$A$1:$A$5,0),MATCH(J$7,Ext!$A$2:$E$2,0)),IF(AND(J41>=0,J41<3),INDEX(Ext!$A$1:$G$5,MATCH(J41,Ext!$A$1:$A$5,0),MATCH(J$7,Ext!$A$2:$E$2,0)),\"invalid entry\")))","v":""}]
[null,null,null,null,null,null,null,null,null,null,null,{"$f":"IF(LEN(A42)=0,\"\",IF(LEN(E42)=0,\"HVI data needed\",INDEX('Staple Lookup'!$C$3:$C$100,MATCH(TRUE,'Staple Lookup'!$B$3:$B$100>=ROUND(E42,2),0))))","v":""},null,{"$f":"IF(OR(LEN(B42)=0,LEN(C42)=0,LEN(D42)=0),\"\",IF(AND(RIGHT(B42,1)*1=1,C42=8),-2000,IF(L42>=38,AB42,IF(L42<=31,AC42,AE42))))","v":""},{"$f":"IF(LEN(A42)=0,\"\",INDEX(Str!$C$1:$C$20,MATCH(ROUND(F42,1),Str!$A$1:$A$20,1)))","v":""},"","",{"$f":"IF(LEN(A42)=0,\"\",INDEX(Uni!$C$1:$C$20,MATCH(ROUND($G42,1),Uni!$A$1:$A$20,1)))","v":""},null,"",{"$f":"IF(LEN(A42)=0,\"\",IF(OR(LEN(B42)=0,LEN(C42)=0,LEN(D42)=0,LEN(E42)=0,LEN(F42)=0,LEN(G42)=0),\"no HVI data\",IF('Base Values'!$B$6+(SUM($N42:$R42)/100)<0,0,'Base Values'!$B$6+(SUM(N42:R42)/100))))","v":""},null,{"$f":"IF(LEN(A42)=0,\"\",IF(LEN(H42)=0,INDEX(Ext!$A$1:$G$5,MATCH(0,Ext!$A$1:$A$5,0),MATCH(H$7,Ext!$A$2:$E$2,0)),IF(AND(H42>=0,H42<3),INDEX(Ext!$A$1:$G$5,MATCH(H42,Ext!$A$1:$A$5,0),MATCH(H$7,Ext!$A$2:$E$2,0)),\"invalid entry\")))","v":""},{"$f":"IF(LEN(B42)=0,\"\",IF(LEN(I42)=0,INDEX(Ext!$A$1:$G$5,MATCH(0,Ext!$A$1:$A$5,0),MATCH(I$7,Ext!$A$2:$E$2,0)),IF(AND(I42>=0,I42<3),INDEX(Ext!$A$1:$G$5,MATCH(I42,Ext!$A$1:$A$5,0),MATCH(I$7,Ext!$A$2:$E$2,0)),\"invalid entry\")))","v":""},{"$f":"IF(LEN(C42)=0,\"\",IF(LEN(J42)=0,INDEX(Ext!$A$1:$G$5,MATCH(0,Ext!$A$1:$A$5,0),MATCH(J$7,Ext!$A$2:$E$2,0)),IF(AND(J42>=0,J42<3),INDEX(Ext!$A$1:$G$5,MATCH(J42,Ext!$A$1:$A$5,0),MATCH(J$7,Ext!$A$2:$E$2,0)),\"invalid entry\")))","v":""}]
[null,null,null,null,null,null,null,null,null,null,null,{"$f":"IF(LEN(A43)=0,\"\",IF(LEN(E43)=0,\"HVI data needed\",INDEX('Staple Lookup'!$C$3:$C$100,MATCH(TRUE,'Staple Lookup'!$B$3:$B$100>=ROUND(E43,2),0))))","v":""},null,{"$f":"IF(OR(LEN(B43)=0,LEN(C43)=0,LEN(D43)=0),\"\",IF(AND(RIGHT(B43,1)*1=1,C43=8),-2000,IF(L43>=38,AB43,IF(L43<=31,AC43,AE43))))","v":""},{"$f":"IF(LEN(A43)=0,\"\",INDEX(Str!$C$1:$C$20,MATCH(ROUND(F43,1),Str!$A$1:$A$20,1)))","v":""},"","",{"$f":"IF(LEN(A43)=0,\"\",INDEX(Uni!$C$1:$C$20,MATCH(ROUND($G43,1),Uni!$A$1:$A$20,1)))","v":""},null,"",{"$f":"IF(LEN(A43)=0,\"\",IF(OR(LEN(B43)=0,LEN(C43)=0,LEN(D43)=0,LEN(E43)=0,LEN(F43)=0,LEN(G43)=0),\"no HVI data\",IF('Base Values'!$B$6+(SUM($N43:$R43)/100)<0,0,'Base Values'!$B$6+(SUM(N43:R43)/100))))","v":""},null,{"$f":"IF(LEN(A43)=0,\"\",IF(LEN(H43)=0,INDEX(Ext!$A$1:$G$5,MATCH(0,Ext!$A$1:$A$5,0),MATCH(H$7,Ext!$A$2:$E$2,0)),IF(AND(H43>=0,H43<3),INDEX(Ext!$A$1:$G$5,MATCH(H43,Ext!$A$1:$A$5,0),MATCH(H$7,Ext!$A$2:$E$2,0)),\"invalid entry\")))","v":""},{"$f":"IF(LEN(B43)=0,\"\",IF(LEN(I43)=0,INDEX(Ext!$A$1:$G$5,MATCH(0,Ext!$A$1:$A$5,0),MATCH(I$7,Ext!$A$2:$E$2,0)),IF(AND(I43>=0,I43<3),INDEX(Ext!$A$1:$G$5,MATCH(I43,Ext!$A$1:$A$5,0),MATCH(I$7,Ext!$A$2:$E$2,0)),\"invalid entry\")))","v":""},{"$f":"IF(LEN(C43)=0,\"\",IF(LEN(J43)=0,INDEX(Ext!$A$1:$G$5,MATCH(0,Ext!$A$1:$A$5,0),MATCH(J$7,Ext!$A$2:$E$2,0)),IF(AND(J43>=0,J43<3),INDEX(Ext!$A$1:$G$5,MATCH(J43,Ext!$A$1:$A$5,0),MATCH(J$7,Ext!$A$2:$E$2,0)),\"invalid entry\")))","v":""}]
[null,null,null,null,null,null,null,null,null,null,null,{"$f":"IF(LEN(A44)=0,\"\",IF(LEN(E44)=0,\"HVI data needed\",INDEX('Staple Lookup'!$C$3:$C$100,MATCH(TRUE,'Staple Lookup'!$B$3:$B$100>=ROUND(E44,2),0))))","v":""},null,{"$f":"IF(OR(LEN(B44)=0,LEN(C44)=0,LEN(D44)=0),\"\",IF(AND(RIGHT(B44,1)*1=1,C44=8),-2000,IF(L44>=38,AB44,IF(L44<=31,AC44,AE44))))","v":""},{"$f":"IF(LEN(A44)=0,\"\",INDEX(Str!$C$1:$C$20,MATCH(ROUND(F44,1),Str!$A$1:$A$20,1)))","v":""},"","",{"$f":"IF(LEN(A44)=0,\"\",INDEX(Uni!$C$1:$C$20,MATCH(ROUND($G44,1),Uni!$A$1:$A$20,1)))","v":""},null,"",{"$f":"IF(LEN(A44)=0,\"\",IF(OR(LEN(B44)=0,LEN(C44)=0,LEN(D44)=0,LEN(E44)=0,LEN(F44)=0,LEN(G44)=0),\"no HVI data\",IF('Base Values'!$B$6+(SUM($N44:$R44)/100)<0,0,'Base Values'!$B$6+(SUM(N44:R44)/100))))","v":""},null,{"$f":"IF(LEN(A44)=0,\"\",IF(LEN(H44)=0,INDEX(Ext!$A$1:$G$5,MATCH(0,Ext!$A$1:$A$5,0),MATCH(H$7,Ext!$A$2:$E$2,0)),IF(AND(H44>=0,H44<3),INDEX(Ext!$A$1:$G$5,MATCH(H44,Ext!$A$1:$A$5,0),MATCH(H$7,Ext!$A$2:$E$2,0)),\"invalid entry\")))","v":""},{"$f":"IF(LEN(B44)=0,\"\",IF(LEN(I44)=0,INDEX(Ext!$A$1:$G$5,MATCH(0,Ext!$A$1:$A$5,0),MATCH(I$7,Ext!$A$2:$E$2,0)),IF(AND(I44>=0,I44<3),INDEX(Ext!$A$1:$G$5,MATCH(I44,Ext!$A$1:$A$5,0),MATCH(I$7,Ext!$A$2:$E$2,0)),\"invalid entry\")))","v":""},{"$f":"IF(LEN(C44)=0,\"\",IF(LEN(J44)=0,INDEX(Ext!$A$1:$G$5,MATCH(0,Ext!$A$1:$A$5,0),MATCH(J$7,Ext!$A$2:$E$2,0)),IF(AND(J44>=0,J44<3),INDEX(Ext!$A$1:$G$5,MATCH(J44,Ext!$A$1:$A$5,0),MATCH(J$7,Ext!$A$2:$E$2,0)),\"invalid entry\")))","v":""}]
[null,null,null,null,null,null,null,null,null,null,null,{"$f":"IF(LEN(A45)=0,\"\",IF(LEN(E45)=0,\"HVI data needed\",INDEX('Staple Lookup'!$C$3:$C$100,MATCH(TRUE,'Staple Lookup'!$B$3:$B$100>=ROUND(E45,2),0))))","v":""},null,{"$f":"IF(OR(LEN(B45)=0,LEN(C45)=0,LEN(D45)=0),\"\",IF(AND(RIGHT(B45,1)*1=1,C45=8),-2000,IF(L45>=38,AB45,IF(L45<=31,AC45,AE45))))","v":""},{"$f":"IF(LEN(A45)=0,\"\",INDEX(Str!$C$1:$C$20,MATCH(ROUND(F45,1),Str!$A$1:$A$20,1)))","v":""},"","",{"$f":"IF(LEN(A45)=0,\"\",INDEX(Uni!$C$1:$C$20,MATCH(ROUND($G45,1),Uni!$A$1:$A$20,1)))","v":""},null,"",{"$f":"IF(LEN(A45)=0,\"\",IF(OR(LEN(B45)=0,LEN(C45)=0,LEN(D45)=0,LEN(E45)=0,LEN(F45)=0,LEN(G45)=0),\"no HVI data\",IF('Base Values'!$B$6+(SUM($N45:$R45)/100)<0,0,'Base Values'!$B$6+(SUM(N45:R45)/100))))","v":""},null,{"$f":"IF(LEN(A45)=0,\"\",IF(LEN(H45)=0,INDEX(Ext!$A$1:$G$5,MATCH(0,Ext!$A$1:$A$5,0),MATCH(H$7,Ext!$A$2:$E$2,0)),IF(AND(H45>=0,H45<3),INDEX(Ext!$A$1:$G$5,MATCH(H45,Ext!$A$1:$A$5,0),MATCH(H$7,Ext!$A$2:$E$2,0)),\"invalid entry\")))","v":""},{"$f":"IF(LEN(B45)=0,\"\",IF(LEN(I45)=0,INDEX(Ext!$A$1:$G$5,MATCH(0,Ext!$A$1:$A$5,0),MATCH(I$7,Ext!$A$2:$E$2,0)),IF(AND(I45>=0,I45<3),INDEX(Ext!$A$1:$G$5,MATCH(I45,Ext!$A$1:$A$5,0),MATCH(I$7,Ext!$A$2:$E$2,0)),\"invalid entry\")))","v":""},{"$f":"IF(LEN(C45)=0,\"\",IF(LEN(J45)=0,INDEX(Ext!$A$1:$G$5,MATCH(0,Ext!$A$1:$A$5,0),MATCH(J$7,Ext!$A$2:$E$2,0)),IF(AND(J45>=0,J45<3),INDEX(Ext!$A$1:$G$5,MATCH(J45,Ext!$A$1:$A$5,0),MATCH(J$7,Ext!$A$2:$E$2,0)),\"invalid entry\")))","v":""}]
[null,null,null,null,null,null,null,null,null,null,null,{"$f":"IF(LEN(A46)=0,\"\",IF(LEN(E46)=0,\"HVI data needed\",INDEX('Staple Lookup'!$C$3:$C$100,MATCH(TRUE,'Staple Lookup'!$B$3:$B$100>=ROUND(E46,2),0))))","v":""},null,{"$f":"IF(OR(LEN(B46)=0,LEN(C46)=0,LEN(D46)=0),\"\",IF(AND(RIGHT(B46,1)*1=1,C46=8),-2000,IF(L46>=38,AB46,IF(L46<=31,AC46,AE46))))","v":""},{"$f":"IF(LEN(A46)=0,\"\",INDEX(Str!$C$1:$C$20,MATCH(ROUND(F46,1),Str!$A$1:$A$20,1)))","v":""},"","",{"$f":"IF(LEN(A46)=0,\"\",INDEX(Uni!$C$1:$C$20,MATCH(ROUND($G46,1),Uni!$A$1:$A$20,1)))","v":""},null,"",{"$f":"IF(LEN(A46)=0,\"\",IF(OR(LEN(B46)=0,LEN(C46)=0,LEN(D46)=0,LEN(E46)=0,LEN(F46)=0,LEN(G46)=0),\"no HVI data\",IF('Base Values'!$B$6+(SUM($N46:$R46)/100)<0,0,'Base Values'!$B$6+(SUM(N46:R46)/100))))","v":""},null,{"$f":"IF(LEN(A46)=0,\"\",IF(LEN(H46)=0,INDEX(Ext!$A$1:$G$5,MATCH(0,Ext!$A$1:$A$5,0),MATCH(H$7,Ext!$A$2:$E$2,0)),IF(AND(H46>=0,H46<3),INDEX(Ext!$A$1:$G$5,MATCH(H46,Ext!$A$1:$A$5,0),MATCH(H$7,Ext!$A$2:$E$2,0)),\"invalid entry\")))","v":""},{"$f":"IF(LEN(B46)=0,\"\",IF(LEN(I46)=0,INDEX(Ext!$A$1:$G$5,MATCH(0,Ext!$A$1:$A$5,0),MATCH(I$7,Ext!$A$2:$E$2,0)),IF(AND(I46>=0,I46<3),INDEX(Ext!$A$1:$G$5,MATCH(I46,Ext!$A$1:$A$5,0),MATCH(I$7,Ext!$A$2:$E$2,0)),\"invalid entry\")))","v":""},{"$f":"IF(LEN(C46)=0,\"\",IF(LEN(J46)=0,INDEX(Ext!$A$1:$G$5,MATCH(0,Ext!$A$1:$A$5,0),MATCH(J$7,Ext!$A$2:$E$2,0)),IF(AND(J46>=0,J46<3),INDEX(Ext!$A$1:$G$5,MATCH(J46,Ext!$A$1:$A$5,0),MATCH(J$7,Ext!$A$2:$E$2,0)),\"invalid entry\")))","v":""}]
[null,null,null,null,null,null,null,null,null,null,null,{"$f":"IF(LEN(A47)=0,\"\",IF(LEN(E47)=0,\"HVI data needed\",INDEX('Staple Lookup'!$C$3:$C$100,MATCH(TRUE,'Staple Lookup'!$B$3:$B$100>=ROUND(E47,2),0))))","v":""},null,{"$f":"IF(OR(LEN(B47)=0,LEN(C47)=0,LEN(D47)=0),\"\",IF(AND(RIGHT(B47,1)*1=1,C47=8),-2000,IF(L47>=38,AB47,IF(L47<=31,AC47,AE47))))","v":""},{"$f":"IF(LEN(A47)=0,\"\",INDEX(Str!$C$1:$C$20,MATCH(ROUND(F47,1),Str!$A$1:$A$20,1)))","v":""},"","",{"$f":"IF(LEN(A47)=0,\"\",INDEX(Uni!$C$1:$C$20,MATCH(ROUND($G47,1),Uni!$A$1:$A$20,1)))","v":""},null,"",{"$f":"IF(LEN(A47)=0,\"\",IF(OR(LEN(B47)=0,LEN(C47)=0,LEN(D47)=0,LEN(E47)=0,LEN(F47)=0,LEN(G47)=0),\"no HVI data\",IF('Base Values'!$B$6+(SUM($N47:$R47)/100)<0,0,'Base Values'!$B$6+(SUM(N47:R47)/100))))","v":""},null,{"$f":"IF(LEN(A47)=0,\"\",IF(LEN(H47)=0,INDEX(Ext!$A$1:$G$5,MATCH(0,Ext!$A$1:$A$5,0),MATCH(H$7,Ext!$A$2:$E$2,0)),IF(AND(H47>=0,H47<3),INDEX(Ext!$A$1:$G$5,MATCH(H47,Ext!$A$1:$A$5,0),MATCH(H$7,Ext!$A$2:$E$2,0)),\"invalid entry\")))","v":""},{"$f":"IF(LEN(B47)=0,\"\",IF(LEN(I47)=0,INDEX(Ext!$A$1:$G$5,MATCH(0,Ext!$A$1:$A$5,0),MATCH(I$7,Ext!$A$2:$E$2,0)),IF(AND(I47>=0,I47<3),INDEX(Ext!$A$1:$G$5,MATCH(I47,Ext!$A$1:$A$5,0),MATCH(I$7,Ext!$A$2:$E$2,0)),\"invalid entry\")))","v":""},{"$f":"IF(LEN(C47)=0,\"\",IF(LEN(J47)=0,INDEX(Ext!$A$1:$G$5,MATCH(0,Ext!$A$1:$A$5,0),MATCH(J$7,Ext!$A$2:$E$2,0)),IF(AND(J47>=0,J47<3),INDEX(Ext!$A$1:$G$5,MATCH(J47,Ext!$A$1:$A$5,0),MATCH(J$7,Ext!$A$2:$E$2,0)),\"invalid entry\")))","v":""}]
[null,null,null,null,null,null,null,null,null,null,null,{"$f":"IF(LEN(A48)=0,\"\",IF(LEN(E48)=0,\"HVI data needed\",INDEX('Staple Lookup'!$C$3:$C$100,MATCH(TRUE,'Staple Lookup'!$B$3:$B$100>=ROUND(E48,2),0))))","v":""},null,{"$f":"IF(OR(LEN(B48)=0,LEN(C48)=0,LEN(D48)=0),\"\",IF(AND(RIGHT(B48,1)*1=1,C48=8),-2000,IF(L48>=38,AB48,IF(L48<=31,AC48,AE48))))","v":""},{"$f":"IF(LEN(A48)=0,\"\",INDEX(Str!$C$1:$C$20,MATCH(ROUND(F48,1),Str!$A$1:$A$20,1)))","v":""},"","",{"$f":"IF(LEN(A48)=0,\"\",INDEX(Uni!$C$1:$C$20,MATCH(ROUND($G48,1),Uni!$A$1:$A$20,1)))","v":""},null,"",{"$f":"IF(LEN(A48)=0,\"\",IF(OR(LEN(B48)=0,LEN(C48)=0,LEN(D48)=0,LEN(E48)=0,LEN(F48)=0,LEN(G48)=0),\"no HVI data\",IF('Base Values'!$B$6+(SUM($N48:$R48)/100)<0,0,'Base Values'!$B$6+(SUM(N48:R48)/100))))","v":""},null,{"$f":"IF(LEN(A48)=0,\"\",IF(LEN(H48)=0,INDEX(Ext!$A$1:$G$5,MATCH(0,Ext!$A$1:$A$5,0),MATCH(H$7,Ext!$A$2:$E$2,0)),IF(AND(H48>=0,H48<3),INDEX(Ext!$A$1:$G$5,MATCH(H48,Ext!$A$1:$A$5,0),MATCH(H$7,Ext!$A$2:$E$2,0)),\"invalid entry\")))","v":""},{"$f":"IF(LEN(B48)=0,\"\",IF(LEN(I48)=0,INDEX(Ext!$A$1:$G$5,MATCH(0,Ext!$A$1:$A$5,0),MATCH(I$7,Ext!$A$2:$E$2,0)),IF(AND(I48>=0,I48<3),INDEX(Ext!$A$1:$G$5,MATCH(I48,Ext!$A$1:$A$5,0),MATCH(I$7,Ext!$A$2:$E$2,0)),\"invalid entry\")))","v":""},{"$f":"IF(LEN(C48)=0,\"\",IF(LEN(J48)=0,INDEX(Ext!$A$1:$G$5,MATCH(0,Ext!$A$1:$A$5,0),MATCH(J$7,Ext!$A$2:$E$2,0)),IF(AND(J48>=0,J48<3),INDEX(Ext!$A$1:$G$5,MATCH(J48,Ext!$A$1:$A$5,0),MATCH(J$7,Ext!$A$2:$E$2,0)),\"invalid entry\")))","v":""}]
[null,null,null,null,null,null,null,null,null,null,null,{"$f":"IF(LEN(A49)=0,\"\",IF(LEN(E49)=0,\"HVI data needed\",INDEX('Staple Lookup'!$C$3:$C$100,MATCH(TRUE,'Staple Lookup'!$B$3:$B$100>=ROUND(E49,2),0))))","v":""},null,{"$f":"IF(OR(LEN(B49)=0,LEN(C49)=0,LEN(D49)=0),\"\",IF(AND(RIGHT(B49,1)*1=1,C49=8),-2000,IF(L49>=38,AB49,IF(L49<=31,AC49,AE49))))","v":""},{"$f":"IF(LEN(A49)=0,\"\",INDEX(Str!$C$1:$C$20,MATCH(ROUND(F49,1),Str!$A$1:$A$20,1)))","v":""},"","",{"$f":"IF(LEN(A49)=0,\"\",INDEX(Uni!$C$1:$C$20,MATCH(ROUND($G49,1),Uni!$A$1:$A$20,1)))","v":""},null,"",{"$f":"IF(LEN(A49)=0,\"\",IF(OR(LEN(B49)=0,LEN(C49)=0,LEN(D49)=0,LEN(E49)=0,LEN(F49)=0,LEN(G49)=0),\"no HVI data\",IF('Base Values'!$B$6+(SUM($N49:$R49)/100)<0,0,'Base Values'!$B$6+(SUM(N49:R49)/100))))","v":""},null,{"$f":"IF(LEN(A49)=0,\"\",IF(LEN(H49)=0,INDEX(Ext!$A$1:$G$5,MATCH(0,Ext!$A$1:$A$5,0),MATCH(H$7,Ext!$A$2:$E$2,0)),IF(AND(H49>=0,H49<3),INDEX(Ext!$A$1:$G$5,MATCH(H49,Ext!$A$1:$A$5,0),MATCH(H$7,Ext!$A$2:$E$2,0)),\"invalid entry\")))","v":""},{"$f":"IF(LEN(B49)=0,\"\",IF(LEN(I49)=0,INDEX(Ext!$A$1:$G$5,MATCH(0,Ext!$A$1:$A$5,0),MATCH(I$7,Ext!$A$2:$E$2,0)),IF(AND(I49>=0,I49<3),INDEX(Ext!$A$1:$G$5,MATCH(I49,Ext!$A$1:$A$5,0),MATCH(I$7,Ext!$A$2:$E$2,0)),\"invalid entry\")))","v":""},{"$f":"IF(LEN(C49)=0,\"\",IF(LEN(J49)=0,INDEX(Ext!$A$1:$G$5,MATCH(0,Ext!$A$1:$A$5,0),MATCH(J$7,Ext!$A$2:$E$2,0)),IF(AND(J49>=0,J49<3),INDEX(Ext!$A$1:$G$5,MATCH(J49,Ext!$A$1:$A$5,0),MATCH(J$7,Ext!$A$2:$E$2,0)),\"invalid entry\")))","v":""}]
[null,null,null,null,null,null,null,null,null,null,null,{"$f":"IF(LEN(A50)=0,\"\",IF(LEN(E50)=0,\"HVI data needed\",INDEX('Staple Lookup'!$C$3:$C$100,MATCH(TRUE,'Staple Lookup'!$B$3:$B$100>=ROUND(E50,2),0))))","v":""},null,{"$f":"IF(OR(LEN(B50)=0,LEN(C50)=0,LEN(D50)=0),\"\",IF(AND(RIGHT(B50,1)*1=1,C50=8),-2000,IF(L50>=38,AB50,IF(L50<=31,AC50,AE50))))","v":""},{"$f":"IF(LEN(A50)=0,\"\",INDEX(Str!$C$1:$C$20,MATCH(ROUND(F50,1),Str!$A$1:$A$20,1)))","v":""},"","",{"$f":"IF(LEN(A50)=0,\"\",INDEX(Uni!$C$1:$C$20,MATCH(ROUND($G50,1),Uni!$A$1:$A$20,1)))","v":""},null,"",{"$f":"IF(LEN(A50)=0,\"\",IF(OR(LEN(B50)=0,LEN(C50)=0,LEN(D50)=0,LEN(E50)=0,LEN(F50)=0,LEN(G50)=0),\"no HVI data\",IF('Base Values'!$B$6+(SUM($N50:$R50)/100)<0,0,'Base Values'!$B$6+(SUM(N50:R50)/100))))","v":""},null,{"$f":"IF(LEN(A50)=0,\"\",IF(LEN(H50)=0,INDEX(Ext!$A$1:$G$5,MATCH(0,Ext!$A$1:$A$5,0),MATCH(H$7,Ext!$A$2:$E$2,0)),IF(AND(H50>=0,H50<3),INDEX(Ext!$A$1:$G$5,MATCH(H50,Ext!$A$1:$A$5,0),MATCH(H$7,Ext!$A$2:$E$2,0)),\"invalid entry\")))","v":""},{"$f":"IF(LEN(B50)=0,\"\",IF(LEN(I50)=0,INDEX(Ext!$A$1:$G$5,MATCH(0,Ext!$A$1:$A$5,0),MATCH(I$7,Ext!$A$2:$E$2,0)),IF(AND(I50>=0,I50<3),INDEX(Ext!$A$1:$G$5,MATCH(I50,Ext!$A$1:$A$5,0),MATCH(I$7,Ext!$A$2:$E$2,0)),\"invalid entry\")))","v":""},{"$f":"IF(LEN(C50)=0,\"\",IF(LEN(J50)=0,INDEX(Ext!$A$1:$G$5,MATCH(0,Ext!$A$1:$A$5,0),MATCH(J$7,Ext!$A$2:$E$2,0)),IF(AND(J50>=0,J50<3),INDEX(Ext!$A$1:$G$5,MATCH(J50,Ext!$A$1:$A$5,0),MATCH(J$7,Ext!$A$2:$E$2,0)),\"invalid entry\")))","v":""}]
[null,null,null,null,null,null,null,null,null,null,null,{"$f":"IF(LEN(A51)=0,\"\",IF(LEN(E51)=0,\"HVI data needed\",INDEX('Staple Lookup'!$C$3:$C$100,MATCH(TRUE,'Staple Lookup'!$B$3:$B$100>=ROUND(E51,2),0))))","v":""},null,{"$f":"IF(OR(LEN(B51)=0,LEN(C51)=0,LEN(D51)=0),\"\",IF(AND(RIGHT(B51,1)*1=1,C51=8),-2000,IF(L51>=38,AB51,IF(L51<=31,AC51,AE51))))","v":""},{"$f":"IF(LEN(A51)=0,\"\",INDEX(Str!$C$1:$C$20,MATCH(ROUND(F51,1),Str!$A$1:$A$20,1)))","v":""},"","",{"$f":"IF(LEN(A51)=0,\"\",INDEX(Uni!$C$1:$C$20,MATCH(ROUND($G51,1),Uni!$A$1:$A$20,1)))","v":""},null,"",{"$f":"IF(LEN(A51)=0,\"\",IF(OR(LEN(B51)=0,LEN(C51)=0,LEN(D51)=0,LEN(E51)=0,LEN(F51)=0,LEN(G51)=0),\"no HVI data\",IF('Base Values'!$B$6+(SUM($N51:$R51)/100)<0,0,'Base Values'!$B$6+(SUM(N51:R51)/100))))","v":""},null,{"$f":"IF(LEN(A51)=0,\"\",IF(LEN(H51)=0,INDEX(Ext!$A$1:$G$5,MATCH(0,Ext!$A$1:$A$5,0),MATCH(H$7,Ext!$A$2:$E$2,0)),IF(AND(H51>=0,H51<3),INDEX(Ext!$A$1:$G$5,MATCH(H51,Ext!$A$1:$A$5,0),MATCH(H$7,Ext!$A$2:$E$2,0)),\"invalid entry\")))","v":""},{"$f":"IF(LEN(B51)=0,\"\",IF(LEN(I51)=0,INDEX(Ext!$A$1:$G$5,MATCH(0,Ext!$A$1:$A$5,0),MATCH(I$7,Ext!$A$2:$E$2,0)),IF(AND(I51>=0,I51<3),INDEX(Ext!$A$1:$G$5,MATCH(I51,Ext!$A$1:$A$5,0),MATCH(I$7,Ext!$A$2:$E$2,0)),\"invalid entry\")))","v":""},{"$f":"IF(LEN(C51)=0,\"\",IF(LEN(J51)=0,INDEX(Ext!$A$1:$G$5,MATCH(0,Ext!$A$1:$A$5,0),MATCH(J$7,Ext!$A$2:$E$2,0)),IF(AND(J51>=0,J51<3),INDEX(Ext!$A$1:$G$5,MATCH(J51,Ext!$A$1:$A$5,0),MATCH(J$7,Ext!$A$2:$E$2,0)),\"invalid entry\")))","v":""}]
[null,null,null,null,null,null,null,null,null,null,null,{"$f":"IF(LEN(A52)=0,\"\",IF(LEN(E52)=0,\"HVI data needed\",INDEX('Staple Lookup'!$C$3:$C$100,MATCH(TRUE,'Staple Lookup'!$B$3:$B$100>=ROUND(E52,2),0))))","v":""},null,{"$f":"IF(OR(LEN(B52)=0,LEN(C52)=0,LEN(D52)=0),\"\",IF(AND(RIGHT(B52,1)*1=1,C52=8),-2000,IF(L52>=38,AB52,IF(L52<=31,AC52,AE52))))","v":""},{"$f":"IF(LEN(A52)=0,\"\",INDEX(Str!$C$1:$C$20,MATCH(ROUND(F52,1),Str!$A$1:$A$20,1)))","v":""},"","",{"$f":"IF(LEN(A52)=0,\"\",INDEX(Uni!$C$1:$C$20,MATCH(ROUND($G52,1),Uni!$A$1:$A$20,1)))","v":""},null,"",{"$f":"IF(LEN(A52)=0,\"\",IF(OR(LEN(B52)=0,LEN(C52)=0,LEN(D52)=0,LEN(E52)=0,LEN(F52)=0,LEN(G52)=0),\"no HVI data\",IF('Base Values'!$B$6+(SUM($N52:$R52)/100)<0,0,'Base Values'!$B$6+(SUM(N52:R52)/100))))","v":""},null,{"$f":"IF(LEN(A52)=0,\"\",IF(LEN(H52)=0,INDEX(Ext!$A$1:$G$5,MATCH(0,Ext!$A$1:$A$5,0),MATCH(H$7,Ext!$A$2:$E$2,0)),IF(AND(H52>=0,H52<3),INDEX(Ext!$A$1:$G$5,MATCH(H52,Ext!$A$1:$A$5,0),MATCH(H$7,Ext!$A$2:$E$2,0)),\"invalid entry\")))","v":""},{"$f":"IF(LEN(B52)=0,\"\",IF(LEN(I52)=0,INDEX(Ext!$A$1:$G$5,MATCH(0,Ext!$A$1:$A$5,0),MATCH(I$7,Ext!$A$2:$E$2,0)),IF(AND(I52>=0,I52<3),INDEX(Ext!$A$1:$G$5,MATCH(I52,Ext!$A$1:$A$5,0),MATCH(I$7,Ext!$A$2:$E$2,0)),\"invalid entry\")))","v":""},{"$f":"IF(LEN(C52)=0,\"\",IF(LEN(J52)=0,INDEX(Ext!$A$1:$G$5,MATCH(0,Ext!$A$1:$A$5,0),MATCH(J$7,Ext!$A$2:$E$2,0)),IF(AND(J52>=0,J52<3),INDEX(Ext!$A$1:$G$5,MATCH(J52,Ext!$A$1:$A$5,0),MATCH(J$7,Ext!$A$2:$E$2,0)),\"invalid entry\")))","v":""}]
[null,null,null,null,null,null,null,null,null,null,null,{"$f":"IF(LEN(A53)=0,\"\",IF(LEN(E53)=0,\"HVI data needed\",INDEX('Staple Lookup'!$C$3:$C$100,MATCH(TRUE,'Staple Lookup'!$B$3:$B$100>=ROUND(E53,2),0))))","v":""},null,{"$f":"IF(OR(LEN(B53)=0,LEN(C53)=0,LEN(D53)=0),\"\",IF(AND(RIGHT(B53,1)*1=1,C53=8),-2000,IF(L53>=38,AB53,IF(L53<=31,AC53,AE53))))","v":""},{"$f":"IF(LEN(A53)=0,\"\",INDEX(Str!$C$1:$C$20,MATCH(ROUND(F53,1),Str!$A$1:$A$20,1)))","v":""},"","",{"$f":"IF(LEN(A53)=0,\"\",INDEX(Uni!$C$1:$C$20,MATCH(ROUND($G53,1),Uni!$A$1:$A$20,1)))","v":""},null,"",{"$f":"IF(LEN(A53)=0,\"\",IF(OR(LEN(B53)=0,LEN(C53)=0,LEN(D53)=0,LEN(E53)=0,LEN(F53)=0,LEN(G53)=0),\"no HVI data\",IF('Base Values'!$B$6+(SUM($N53:$R53)/100)<0,0,'Base Values'!$B$6+(SUM(N53:R53)/100))))","v":""},null,{"$f":"IF(LEN(A53)=0,\"\",IF(LEN(H53)=0,INDEX(Ext!$A$1:$G$5,MATCH(0,Ext!$A$1:$A$5,0),MATCH(H$7,Ext!$A$2:$E$2,0)),IF(AND(H53>=0,H53<3),INDEX(Ext!$A$1:$G$5,MATCH(H53,Ext!$A$1:$A$5,0),MATCH(H$7,Ext!$A$2:$E$2,0)),\"invalid entry\")))","v":""},{"$f":"IF(LEN(B53)=0,\"\",IF(LEN(I53)=0,INDEX(Ext!$A$1:$G$5,MATCH(0,Ext!$A$1:$A$5,0),MATCH(I$7,Ext!$A$2:$E$2,0)),IF(AND(I53>=0,I53<3),INDEX(Ext!$A$1:$G$5,MATCH(I53,Ext!$A$1:$A$5,0),MATCH(I$7,Ext!$A$2:$E$2,0)),\"invalid entry\")))","v":""},{"$f":"IF(LEN(C53)=0,\"\",IF(LEN(J53)=0,INDEX(Ext!$A$1:$G$5,MATCH(0,Ext!$A$1:$A$5,0),MATCH(J$7,Ext!$A$2:$E$2,0)),IF(AND(J53>=0,J53<3),INDEX(Ext!$A$1:$G$5,MATCH(J53,Ext!$A$1:$A$5,0),MATCH(J$7,Ext!$A$2:$E$2,0)),\"invalid entry\")))","v":""}]
[null,null,null,null,null,null,null,null,null,null,null,{"$f":"IF(LEN(A54)=0,\"\",IF(LEN(E54)=0,\"HVI data needed\",INDEX('Staple Lookup'!$C$3:$C$100,MATCH(TRUE,'Staple Lookup'!$B$3:$B$100>=ROUND(E54,2),0))))","v":""},null,{"$f":"IF(OR(LEN(B54)=0,LEN(C54)=0,LEN(D54)=0),\"\",IF(AND(RIGHT(B54,1)*1=1,C54=8),-2000,IF(L54>=38,AB54,IF(L54<=31,AC54,AE54))))","v":""},{"$f":"IF(LEN(A54)=0,\"\",INDEX(Str!$C$1:$C$20,MATCH(ROUND(F54,1),Str!$A$1:$A$20,1)))","v":""},"","",{"$f":"IF(LEN(A54)=0,\"\",INDEX(Uni!$C$1:$C$20,MATCH(ROUND($G54,1),Uni!$A$1:$A$20,1)))","v":""},null,"",{"$f":"IF(LEN(A54)=0,\"\",IF(OR(LEN(B54)=0,LEN(C54)=0,LEN(D54)=0,LEN(E54)=0,LEN(F54)=0,LEN(G54)=0),\"no HVI data\",IF('Base Values'!$B$6+(SUM($N54:$R54)/100)<0,0,'Base Values'!$B$6+(SUM(N54:R54)/100))))","v":""},null,{"$f":"IF(LEN(A54)=0,\"\",IF(LEN(H54)=0,INDEX(Ext!$A$1:$G$5,MATCH(0,Ext!$A$1:$A$5,0),MATCH(H$7,Ext!$A$2:$E$2,0)),IF(AND(H54>=0,H54<3),INDEX(Ext!$A$1:$G$5,MATCH(H54,Ext!$A$1:$A$5,0),MATCH(H$7,Ext!$A$2:$E$2,0)),\"invalid entry\")))","v":""},{"$f":"IF(LEN(B54)=0,\"\",IF(LEN(I54)=0,INDEX(Ext!$A$1:$G$5,MATCH(0,Ext!$A$1:$A$5,0),MATCH(I$7,Ext!$A$2:$E$2,0)),IF(AND(I54>=0,I54<3),INDEX(Ext!$A$1:$G$5,MATCH(I54,Ext!$A$1:$A$5,0),MATCH(I$7,Ext!$A$2:$E$2,0)),\"invalid entry\")))","v":""},{"$f":"IF(LEN(C54)=0,\"\",IF(LEN(J54)=0,INDEX(Ext!$A$1:$G$5,MATCH(0,Ext!$A$1:$A$5,0),MATCH(J$7,Ext!$A$2:$E$2,0)),IF(AND(J54>=0,J54<3),INDEX(Ext!$A$1:$G$5,MATCH(J54,Ext!$A$1:$A$5,0),MATCH(J$7,Ext!$A$2:$E$2,0)),\"invalid entry\")))","v":""}]
[null,null,null,null,null,null,null,null,null,null,null,{"$f":"IF(LEN(A55)=0,\"\",IF(LEN(E55)=0,\"HVI data needed\",INDEX('Staple Lookup'!$C$3:$C$100,MATCH(TRUE,'Staple Lookup'!$B$3:$B$100>=ROUND(E55,2),0))))","v":""},null,{"$f":"IF(OR(LEN(B55)=0,LEN(C55)=0,LEN(D55)=0),\"\",IF(AND(RIGHT(B55,1)*1=1,C55=8),-2000,IF(L55>=38,AB55,IF(L55<=31,AC55,AE55))))","v":""},{"$f":"IF(LEN(A55)=0,\"\",INDEX(Str!$C$1:$C$20,MATCH(ROUND(F55,1),Str!$A$1:$A$20,1)))","v":""},"","",{"$f":"IF(LEN(A55)=0,\"\",INDEX(Uni!$C$1:$C$20,MATCH(ROUND($G55,1),Uni!$A$1:$A$20,1)))","v":""},null,"",{"$f":"IF(LEN(A55)=0,\"\",IF(OR(LEN(B55)=0,LEN(C55)=0,LEN(D55)=0,LEN(E55)=0,LEN(F55)=0,LEN(G55)=0),\"no HVI data\",IF('Base Values'!$B$6+(SUM($N55:$R55)/100)<0,0,'Base Values'!$B$6+(SUM(N55:R55)/100))))","v":""},null,{"$f":"IF(LEN(A55)=0,\"\",IF(LEN(H55)=0,INDEX(Ext!$A$1:$G$5,MATCH(0,Ext!$A$1:$A$5,0),MATCH(H$7,Ext!$A$2:$E$2,0)),IF(AND(H55>=0,H55<3),INDEX(Ext!$A$1:$G$5,MATCH(H55,Ext!$A$1:$A$5,0),MATCH(H$7,Ext!$A$2:$E$2,0)),\"invalid entry\")))","v":""},{"$f":"IF(LEN(B55)=0,\"\",IF(LEN(I55)=0,INDEX(Ext!$A$1:$G$5,MATCH(0,Ext!$A$1:$A$5,0),MATCH(I$7,Ext!$A$2:$E$2,0)),IF(AND(I55>=0,I55<3),INDEX(Ext!$A$1:$G$5,MATCH(I55,Ext!$A$1:$A$5,0),MATCH(I$7,Ext!$A$2:$E$2,0)),\"invalid entry\")))","v":""},{"$f":"IF(LEN(C55)=0,\"\",IF(LEN(J55)=0,INDEX(Ext!$A$1:$G$5,MATCH(0,Ext!$A$1:$A$5,0),MATCH(J$7,Ext!$A$2:$E$2,0)),IF(AND(J55>=0,J55<3),INDEX(Ext!$A$1:$G$5,MATCH(J55,Ext!$A$1:$A$5,0),MATCH(J$7,Ext!$A$2:$E$2,0)),\"invalid entry\")))","v":""}]
[null,null,null,null,null,null,null,null,null,null,null,{"$f":"IF(LEN(A56)=0,\"\",IF(LEN(E56)=0,\"HVI data needed\",INDEX('Staple Lookup'!$C$3:$C$100,MATCH(TRUE,'Staple Lookup'!$B$3:$B$100>=ROUND(E56,2),0))))","v":""},null,{"$f":"IF(OR(LEN(B56)=0,LEN(C56)=0,LEN(D56)=0),\"\",IF(AND(RIGHT(B56,1)*1=1,C56=8),-2000,IF(L56>=38,AB56,IF(L56<=31,AC56,AE56))))","v":""},{"$f":"IF(LEN(A56)=0,\"\",INDEX(Str!$C$1:$C$20,MATCH(ROUND(F56,1),Str!$A$1:$A$20,1)))","v":""},"","",{"$f":"IF(LEN(A56)=0,\"\",INDEX(Uni!$C$1:$C$20,MATCH(ROUND($G56,1),Uni!$A$1:$A$20,1)))","v":""},null,"",{"$f":"IF(LEN(A56)=0,\"\",IF(OR(LEN(B56)=0,LEN(C56)=0,LEN(D56)=0,LEN(E56)=0,LEN(F56)=0,LEN(G56)=0),\"no HVI data\",IF('Base Values'!$B$6+(SUM($N56:$R56)/100)<0,0,'Base Values'!$B$6+(SUM(N56:R56)/100))))","v":""},null,{"$f":"IF(LEN(A56)=0,\"\",IF(LEN(H56)=0,INDEX(Ext!$A$1:$G$5,MATCH(0,Ext!$A$1:$A$5,0),MATCH(H$7,Ext!$A$2:$E$2,0)),IF(AND(H56>=0,H56<3),INDEX(Ext!$A$1:$G$5,MATCH(H56,Ext!$A$1:$A$5,0),MATCH(H$7,Ext!$A$2:$E$2,0)),\"invalid entry\")))","v":""},{"$f":"IF(LEN(B56)=0,\"\",IF(LEN(I56)=0,INDEX(Ext!$A$1:$G$5,MATCH(0,Ext!$A$1:$A$5,0),MATCH(I$7,Ext!$A$2:$E$2,0)),IF(AND(I56>=0,I56<3),INDEX(Ext!$A$1:$G$5,MATCH(I56,Ext!$A$1:$A$5,0),MATCH(I$7,Ext!$A$2:$E$2,0)),\"invalid entry\")))","v":""},{"$f":"IF(LEN(C56)=0,\"\",IF(LEN(J56)=0,INDEX(Ext!$A$1:$G$5,MATCH(0,Ext!$A$1:$A$5,0),MATCH(J$7,Ext!$A$2:$E$2,0)),IF(AND(J56>=0,J56<3),INDEX(Ext!$A$1:$G$5,MATCH(J56,Ext!$A$1:$A$5,0),MATCH(J$7,Ext!$A$2:$E$2,0)),\"invalid entry\")))","v":""}]
[null,null,null,null,null,null,null,null,null,null,null,{"$f":"IF(LEN(A57)=0,\"\",IF(LEN(E57)=0,\"HVI data needed\",INDEX('Staple Lookup'!$C$3:$C$100,MATCH(TRUE,'Staple Lookup'!$B$3:$B$100>=ROUND(E57,2),0))))","v":""},null,{"$f":"IF(OR(LEN(B57)=0,LEN(C57)=0,LEN(D57)=0),\"\",IF(AND(RIGHT(B57,1)*1=1,C57=8),-2000,IF(L57>=38,AB57,IF(L57<=31,AC57,AE57))))","v":""},{"$f":"IF(LEN(A57)=0,\"\",INDEX(Str!$C$1:$C$20,MATCH(ROUND(F57,1),Str!$A$1:$A$20,1)))","v":""},"","",{"$f":"IF(LEN(A57)=0,\"\",INDEX(Uni!$C$1:$C$20,MATCH(ROUND($G57,1),Uni!$A$1:$A$20,1)))","v":""},null,"",{"$f":"IF(LEN(A57)=0,\"\",IF(OR(LEN(B57)=0,LEN(C57)=0,LEN(D57)=0,LEN(E57)=0,LEN(F57)=0,LEN(G57)=0),\"no HVI data\",IF('Base Values'!$B$6+(SUM($N57:$R57)/100)<0,0,'Base Values'!$B$6+(SUM(N57:R57)/100))))","v":""},null,{"$f":"IF(LEN(A57)=0,\"\",IF(LEN(H57)=0,INDEX(Ext!$A$1:$G$5,MATCH(0,Ext!$A$1:$A$5,0),MATCH(H$7,Ext!$A$2:$E$2,0)),IF(AND(H57>=0,H57<3),INDEX(Ext!$A$1:$G$5,MATCH(H57,Ext!$A$1:$A$5,0),MATCH(H$7,Ext!$A$2:$E$2,0)),\"invalid entry\")))","v":""},{"$f":"IF(LEN(B57)=0,\"\",IF(LEN(I57)=0,INDEX(Ext!$A$1:$G$5,MATCH(0,Ext!$A$1:$A$5,0),MATCH(I$7,Ext!$A$2:$E$2,0)),IF(AND(I57>=0,I57<3),INDEX(Ext!$A$1:$G$5,MATCH(I57,Ext!$A$1:$A$5,0),MATCH(I$7,Ext!$A$2:$E$2,0)),\"invalid entry\")))","v":""},{"$f":"IF(LEN(C57)=0,\"\",IF(LEN(J57)=0,INDEX(Ext!$A$1:$G$5,MATCH(0,Ext!$A$1:$A$5,0),MATCH(J$7,Ext!$A$2:$E$2,0)),IF(AND(J57>=0,J57<3),INDEX(Ext!$A$1:$G$5,MATCH(J57,Ext!$A$1:$A$5,0),MATCH(J$7,Ext!$A$2:$E$2,0)),\"invalid entry\")))","v":""}]
[null,null,null,null,null,null,null,null,null,null,null,{"$f":"IF(LEN(A58)=0,\"\",IF(LEN(E58)=0,\"HVI data needed\",INDEX('Staple Lookup'!$C$3:$C$100,MATCH(TRUE,'Staple Lookup'!$B$3:$B$100>=ROUND(E58,2),0))))","v":""},null,{"$f":"IF(OR(LEN(B58)=0,LEN(C58)=0,LEN(D58)=0),\"\",IF(AND(RIGHT(B58,1)*1=1,C58=8),-2000,IF(L58>=38,AB58,IF(L58<=31,AC58,AE58))))","v":""},{"$f":"IF(LEN(A58)=0,\"\",INDEX(Str!$C$1:$C$20,MATCH(ROUND(F58,1),Str!$A$1:$A$20,1)))","v":""},"","",{"$f":"IF(LEN(A58)=0,\"\",INDEX(Uni!$C$1:$C$20,MATCH(ROUND($G58,1),Uni!$A$1:$A$20,1)))","v":""},null,"",{"$f":"IF(LEN(A58)=0,\"\",IF(OR(LEN(B58)=0,LEN(C58)=0,LEN(D58)=0,LEN(E58)=0,LEN(F58)=0,LEN(G58)=0),\"no HVI data\",IF('Base Values'!$B$6+(SUM($N58:$R58)/100)<0,0,'Base Values'!$B$6+(SUM(N58:R58)/100))))","v":""},null,{"$f":"IF(LEN(A58)=0,\"\",IF(LEN(H58)=0,INDEX(Ext!$A$1:$G$5,MATCH(0,Ext!$A$1:$A$5,0),MATCH(H$7,Ext!$A$2:$E$2,0)),IF(AND(H58>=0,H58<3),INDEX(Ext!$A$1:$G$5,MATCH(H58,Ext!$A$1:$A$5,0),MATCH(H$7,Ext!$A$2:$E$2,0)),\"invalid entry\")))","v":""},{"$f":"IF(LEN(B58)=0,\"\",IF(LEN(I58)=0,INDEX(Ext!$A$1:$G$5,MATCH(0,Ext!$A$1:$A$5,0),MATCH(I$7,Ext!$A$2:$E$2,0)),IF(AND(I58>=0,I58<3),INDEX(Ext!$A$1:$G$5,MATCH(I58,Ext!$A$1:$A$5,0),MATCH(I$7,Ext!$A$2:$E$2,0)),\"invalid entry\")))","v":""},{"$f":"IF(LEN(C58)=0,\"\",IF(LEN(J58)=0,INDEX(Ext!$A$1:$G$5,MATCH(0,Ext!$A$1:$A$5,0),MATCH(J$7,Ext!$A$2:$E$2,0)),IF(AND(J58>=0,J58<3),INDEX(Ext!$A$1:$G$5,MATCH(J58,Ext!$A$1:$A$5,0),MATCH(J$7,Ext!$A$2:$E$2,0)),\"invalid entry\")))","v":""}]
[null,null,null,null,null,null,null,null,null,null,null,{"$f":"IF(LEN(A59)=0,\"\",IF(LEN(E59)=0,\"HVI data needed\",INDEX('Staple Lookup'!$C$3:$C$100,MATCH(TRUE,'Staple Lookup'!$B$3:$B$100>=ROUND(E59,2),0))))","v":""},null,{"$f":"IF(OR(LEN(B59)=0,LEN(C59)=0,LEN(D59)=0),\"\",IF(AND(RIGHT(B59,1)*1=1,C59=8),-2000,IF(L59>=38,AB59,IF(L59<=31,AC59,AE59))))","v":""},{"$f":"IF(LEN(A59)=0,\"\",INDEX(Str!$C$1:$C$20,MATCH(ROUND(F59,1),Str!$A$1:$A$20,1)))","v":""},"","",{"$f":"IF(LEN(A59)=0,\"\",INDEX(Uni!$C$1:$C$20,MATCH(ROUND($G59,1),Uni!$A$1:$A$20,1)))","v":""},null,"",{"$f":"IF(LEN(A59)=0,\"\",IF(OR(LEN(B59)=0,LEN(C59)=0,LEN(D59)=0,LEN(E59)=0,LEN(F59)=0,LEN(G59)=0),\"no HVI data\",IF('Base Values'!$B$6+(SUM($N59:$R59)/100)<0,0,'Base Values'!$B$6+(SUM(N59:R59)/100))))","v":""},null,{"$f":"IF(LEN(A59)=0,\"\",IF(LEN(H59)=0,INDEX(Ext!$A$1:$G$5,MATCH(0,Ext!$A$1:$A$5,0),MATCH(H$7,Ext!$A$2:$E$2,0)),IF(AND(H59>=0,H59<3),INDEX(Ext!$A$1:$G$5,MATCH(H59,Ext!$A$1:$A$5,0),MATCH(H$7,Ext!$A$2:$E$2,0)),\"invalid entry\")))","v":""},{"$f":"IF(LEN(B59)=0,\"\",IF(LEN(I59)=0,INDEX(Ext!$A$1:$G$5,MATCH(0,Ext!$A$1:$A$5,0),MATCH(I$7,Ext!$A$2:$E$2,0)),IF(AND(I59>=0,I59<3),INDEX(Ext!$A$1:$G$5,MATCH(I59,Ext!$A$1:$A$5,0),MATCH(I$7,Ext!$A$2:$E$2,0)),\"invalid entry\")))","v":""},{"$f":"IF(LEN(C59)=0,\"\",IF(LEN(J59)=0,INDEX(Ext!$A$1:$G$5,MATCH(0,Ext!$A$1:$A$5,0),MATCH(J$7,Ext!$A$2:$E$2,0)),IF(AND(J59>=0,J59<3),INDEX(Ext!$A$1:$G$5,MATCH(J59,Ext!$A$1:$A$5,0),MATCH(J$7,Ext!$A$2:$E$2,0)),\"invalid entry\")))","v":""}]
[null,null,null,null,null,null,null,null,null,null,null,{"$f":"IF(LEN(A60)=0,\"\",IF(LEN(E60)=0,\"HVI data needed\",INDEX('Staple Lookup'!$C$3:$C$100,MATCH(TRUE,'Staple Lookup'!$B$3:$B$100>=ROUND(E60,2),0))))","v":""},null,{"$f":"IF(OR(LEN(B60)=0,LEN(C60)=0,LEN(D60)=0),\"\",IF(AND(RIGHT(B60,1)*1=1,C60=8),-2000,IF(L60>=38,AB60,IF(L60<=31,AC60,AE60))))","v":""},{"$f":"IF(LEN(A60)=0,\"\",INDEX(Str!$C$1:$C$20,MATCH(ROUND(F60,1),Str!$A$1:$A$20,1)))","v":""},"","",{"$f":"IF(LEN(A60)=0,\"\",INDEX(Uni!$C$1:$C$20,MATCH(ROUND($G60,1),Uni!$A$1:$A$20,1)))","v":""},null,"",{"$f":"IF(LEN(A60)=0,\"\",IF(OR(LEN(B60)=0,LEN(C60)=0,LEN(D60)=0,LEN(E60)=0,LEN(F60)=0,LEN(G60)=0),\"no HVI data\",IF('Base Values'!$B$6+(SUM($N60:$R60)/100)<0,0,'Base Values'!$B$6+(SUM(N60:R60)/100))))","v":""},null,{"$f":"IF(LEN(A60)=0,\"\",IF(LEN(H60)=0,INDEX(Ext!$A$1:$G$5,MATCH(0,Ext!$A$1:$A$5,0),MATCH(H$7,Ext!$A$2:$E$2,0)),IF(AND(H60>=0,H60<3),INDEX(Ext!$A$1:$G$5,MATCH(H60,Ext!$A$1:$A$5,0),MATCH(H$7,Ext!$A$2:$E$2,0)),\"invalid entry\")))","v":""},{"$f":"IF(LEN(B60)=0,\"\",IF(LEN(I60)=0,INDEX(Ext!$A$1:$G$5,MATCH(0,Ext!$A$1:$A$5,0),MATCH(I$7,Ext!$A$2:$E$2,0)),IF(AND(I60>=0,I60<3),INDEX(Ext!$A$1:$G$5,MATCH(I60,Ext!$A$1:$A$5,0),MATCH(I$7,Ext!$A$2:$E$2,0)),\"invalid entry\")))","v":""},{"$f":"IF(LEN(C60)=0,\"\",IF(LEN(J60)=0,INDEX(Ext!$A$1:$G$5,MATCH(0,Ext!$A$1:$A$5,0),MATCH(J$7,Ext!$A$2:$E$2,0)),IF(AND(J60>=0,J60<3),INDEX(Ext!$A$1:$G$5,MATCH(J60,Ext!$A$1:$A$5,0),MATCH(J$7,Ext!$A$2:$E$2,0)),\"invalid entry\")))","v":""}]
[null,null,null,null,null,null,null,null,null,null,null,{"$f":"IF(LEN(A61)=0,\"\",IF(LEN(E61)=0,\"HVI data needed\",INDEX('Staple Lookup'!$C$3:$C$100,MATCH(TRUE,'Staple Lookup'!$B$3:$B$100>=ROUND(E61,2),0))))","v":""},null,{"$f":"IF(OR(LEN(B61)=0,LEN(C61)=0,LEN(D61)=0),\"\",IF(AND(RIGHT(B61,1)*1=1,C61=8),-2000,IF(L61>=38,AB61,IF(L61<=31,AC61,AE61))))","v":""},{"$f":"IF(LEN(A61)=0,\"\",INDEX(Str!$C$1:$C$20,MATCH(ROUND(F61,1),Str!$A$1:$A$20,1)))","v":""},"","",{"$f":"IF(LEN(A61)=0,\"\",INDEX(Uni!$C$1:$C$20,MATCH(ROUND($G61,1),Uni!$A$1:$A$20,1)))","v":""},null,"",{"$f":"IF(LEN(A61)=0,\"\",IF(OR(LEN(B61)=0,LEN(C61)=0,LEN(D61)=0,LEN(E61)=0,LEN(F61)=0,LEN(G61)=0),\"no HVI data\",IF('Base Values'!$B$6+(SUM($N61:$R61)/100)<0,0,'Base Values'!$B$6+(SUM(N61:R61)/100))))","v":""},null,{"$f":"IF(LEN(A61)=0,\"\",IF(LEN(H61)=0,INDEX(Ext!$A$1:$G$5,MATCH(0,Ext!$A$1:$A$5,0),MATCH(H$7,Ext!$A$2:$E$2,0)),IF(AND(H61>=0,H61<3),INDEX(Ext!$A$1:$G$5,MATCH(H61,Ext!$A$1:$A$5,0),MATCH(H$7,Ext!$A$2:$E$2,0)),\"invalid entry\")))","v":""},{"$f":"IF(LEN(B61)=0,\"\",IF(LEN(I61)=0,INDEX(Ext!$A$1:$G$5,MATCH(0,Ext!$A$1:$A$5,0),MATCH(I$7,Ext!$A$2:$E$2,0)),IF(AND(I61>=0,I61<3),INDEX(Ext!$A$1:$G$5,MATCH(I61,Ext!$A$1:$A$5,0),MATCH(I$7,Ext!$A$2:$E$2,0)),\"invalid entry\")))","v":""},{"$f":"IF(LEN(C61)=0,\"\",IF(LEN(J61)=0,INDEX(Ext!$A$1:$G$5,MATCH(0,Ext!$A$1:$A$5,0),MATCH(J$7,Ext!$A$2:$E$2,0)),IF(AND(J61>=0,J61<3),INDEX(Ext!$A$1:$G$5,MATCH(J61,Ext!$A$1:$A$5,0),MATCH(J$7,Ext!$A$2:$E$2,0)),\"invalid entry\")))","v":""}]
[null,null,null,null,null,null,null,null,null,null,null,{"$f":"IF(LEN(A62)=0,\"\",IF(LEN(E62)=0,\"HVI data needed\",INDEX('Staple Lookup'!$C$3:$C$100,MATCH(TRUE,'Staple Lookup'!$B$3:$B$100>=ROUND(E62,2),0))))","v":""},null,{"$f":"IF(OR(LEN(B62)=0,LEN(C62)=0,LEN(D62)=0),\"\",IF(AND(RIGHT(B62,1)*1=1,C62=8),-2000,IF(L62>=38,AB62,IF(L62<=31,AC62,AE62))))","v":""},{"$f":"IF(LEN(A62)=0,\"\",INDEX(Str!$C$1:$C$20,MATCH(ROUND(F62,1),Str!$A$1:$A$20,1)))","v":""},"","",{"$f":"IF(LEN(A62)=0,\"\",INDEX(Uni!$C$1:$C$20,MATCH(ROUND($G62,1),Uni!$A$1:$A$20,1)))","v":""},null,"",{"$f":"IF(LEN(A62)=0,\"\",IF(OR(LEN(B62)=0,LEN(C62)=0,LEN(D62)=0,LEN(E62)=0,LEN(F62)=0,LEN(G62)=0),\"no HVI data\",IF('Base Values'!$B$6+(SUM($N62:$R62)/100)<0,0,'Base Values'!$B$6+(SUM(N62:R62)/100))))","v":""},null,{"$f":"IF(LEN(A62)=0,\"\",IF(LEN(H62)=0,INDEX(Ext!$A$1:$G$5,MATCH(0,Ext!$A$1:$A$5,0),MATCH(H$7,Ext!$A$2:$E$2,0)),IF(AND(H62>=0,H62<3),INDEX(Ext!$A$1:$G$5,MATCH(H62,Ext!$A$1:$A$5,0),MATCH(H$7,Ext!$A$2:$E$2,0)),\"invalid entry\")))","v":""},{"$f":"IF(LEN(B62)=0,\"\",IF(LEN(I62)=0,INDEX(Ext!$A$1:$G$5,MATCH(0,Ext!$A$1:$A$5,0),MATCH(I$7,Ext!$A$2:$E$2,0)),IF(AND(I62>=0,I62<3),INDEX(Ext!$A$1:$G$5,MATCH(I62,Ext!$A$1:$A$5,0),MATCH(I$7,Ext!$A$2:$E$2,0)),\"invalid entry\")))","v":""},{"$f":"IF(LEN(C62)=0,\"\",IF(LEN(J62)=0,INDEX(Ext!$A$1:$G$5,MATCH(0,Ext!$A$1:$A$5,0),MATCH(J$7,Ext!$A$2:$E$2,0)),IF(AND(J62>=0,J62<3),INDEX(Ext!$A$1:$G$5,MATCH(J62,Ext!$A$1:$A$5,0),MATCH(J$7,Ext!$A$2:$E$2,0)),\"invalid entry\")))","v":""}]
[null,null,null,null,null,null,null,null,null,null,null,{"$f":"IF(LEN(A63)=0,\"\",IF(LEN(E63)=0,\"HVI data needed\",INDEX('Staple Lookup'!$C$3:$C$100,MATCH(TRUE,'Staple Lookup'!$B$3:$B$100>=ROUND(E63,2),0))))","v":""},null,{"$f":"IF(OR(LEN(B63)=0,LEN(C63)=0,LEN(D63)=0),\"\",IF(AND(RIGHT(B63,1)*1=1,C63=8),-2000,IF(L63>=38,AB63,IF(L63<=31,AC63,AE63))))","v":""},{"$f":"IF(LEN(A63)=0,\"\",INDEX(Str!$C$1:$C$20,MATCH(ROUND(F63,1),Str!$A$1:$A$20,1)))","v":""},"","",{"$f":"IF(LEN(A63)=0,\"\",INDEX(Uni!$C$1:$C$20,MATCH(ROUND($G63,1),Uni!$A$1:$A$20,1)))","v":""},null,"",{"$f":"IF(LEN(A63)=0,\"\",IF(OR(LEN(B63)=0,LEN(C63)=0,LEN(D63)=0,LEN(E63)=0,LEN(F63)=0,LEN(G63)=0),\"no HVI data\",IF('Base Values'!$B$6+(SUM($N63:$R63)/100)<0,0,'Base Values'!$B$6+(SUM(N63:R63)/100))))","v":""},null,{"$f":"IF(LEN(A63)=0,\"\",IF(LEN(H63)=0,INDEX(Ext!$A$1:$G$5,MATCH(0,Ext!$A$1:$A$5,0),MATCH(H$7,Ext!$A$2:$E$2,0)),IF(AND(H63>=0,H63<3),INDEX(Ext!$A$1:$G$5,MATCH(H63,Ext!$A$1:$A$5,0),MATCH(H$7,Ext!$A$2:$E$2,0)),\"invalid entry\")))","v":""},{"$f":"IF(LEN(B63)=0,\"\",IF(LEN(I63)=0,INDEX(Ext!$A$1:$G$5,MATCH(0,Ext!$A$1:$A$5,0),MATCH(I$7,Ext!$A$2:$E$2,0)),IF(AND(I63>=0,I63<3),INDEX(Ext!$A$1:$G$5,MATCH(I63,Ext!$A$1:$A$5,0),MATCH(I$7,Ext!$A$2:$E$2,0)),\"invalid entry\")))","v":""},{"$f":"IF(LEN(C63)=0,\"\",IF(LEN(J63)=0,INDEX(Ext!$A$1:$G$5,MATCH(0,Ext!$A$1:$A$5,0),MATCH(J$7,Ext!$A$2:$E$2,0)),IF(AND(J63>=0,J63<3),INDEX(Ext!$A$1:$G$5,MATCH(J63,Ext!$A$1:$A$5,0),MATCH(J$7,Ext!$A$2:$E$2,0)),\"invalid entry\")))","v":""}]
[null,null,null,null,null,null,null,null,null,null,null,{"$f":"IF(LEN(A64)=0,\"\",IF(LEN(E64)=0,\"HVI data needed\",INDEX('Staple Lookup'!$C$3:$C$100,MATCH(TRUE,'Staple Lookup'!$B$3:$B$100>=ROUND(E64,2),0))))","v":""},null,{"$f":"IF(OR(LEN(B64)=0,LEN(C64)=0,LEN(D64)=0),\"\",IF(AND(RIGHT(B64,1)*1=1,C64=8),-2000,IF(L64>=38,AB64,IF(L64<=31,AC64,AE64))))","v":""},{"$f":"IF(LEN(A64)=0,\"\",INDEX(Str!$C$1:$C$20,MATCH(ROUND(F64,1),Str!$A$1:$A$20,1)))","v":""},"","",{"$f":"IF(LEN(A64)=0,\"\",INDEX(Uni!$C$1:$C$20,MATCH(ROUND($G64,1),Uni!$A$1:$A$20,1)))","v":""},null,"",{"$f":"IF(LEN(A64)=0,\"\",IF(OR(LEN(B64)=0,LEN(C64)=0,LEN(D64)=0,LEN(E64)=0,LEN(F64)=0,LEN(G64)=0),\"no HVI data\",IF('Base Values'!$B$6+(SUM($N64:$R64)/100)<0,0,'Base Values'!$B$6+(SUM(N64:R64)/100))))","v":""},null,{"$f":"IF(LEN(A64)=0,\"\",IF(LEN(H64)=0,INDEX(Ext!$A$1:$G$5,MATCH(0,Ext!$A$1:$A$5,0),MATCH(H$7,Ext!$A$2:$E$2,0)),IF(AND(H64>=0,H64<3),INDEX(Ext!$A$1:$G$5,MATCH(H64,Ext!$A$1:$A$5,0),MATCH(H$7,Ext!$A$2:$E$2,0)),\"invalid entry\")))","v":""},{"$f":"IF(LEN(B64)=0,\"\",IF(LEN(I64)=0,INDEX(Ext!$A$1:$G$5,MATCH(0,Ext!$A$1:$A$5,0),MATCH(I$7,Ext!$A$2:$E$2,0)),IF(AND(I64>=0,I64<3),INDEX(Ext!$A$1:$G$5,MATCH(I64,Ext!$A$1:$A$5,0),MATCH(I$7,Ext!$A$2:$E$2,0)),\"invalid entry\")))","v":""},{"$f":"IF(LEN(C64)=0,\"\",IF(LEN(J64)=0,INDEX(Ext!$A$1:$G$5,MATCH(0,Ext!$A$1:$A$5,0),MATCH(J$7,Ext!$A$2:$E$2,0)),IF(AND(J64>=0,J64<3),INDEX(Ext!$A$1:$G$5,MATCH(J64,Ext!$A$1:$A$5,0),MATCH(J$7,Ext!$A$2:$E$2,0)),\"invalid entry\")))","v":""}]
[null,null,null,null,null,null,null,null,null,null,null,{"$f":"IF(LEN(A65)=0,\"\",IF(LEN(E65)=0,\"HVI data needed\",INDEX('Staple Lookup'!$C$3:$C$100,MATCH(TRUE,'Staple Lookup'!$B$3:$B$100>=ROUND(E65,2),0))))","v":""},null,{"$f":"IF(OR(LEN(B65)=0,LEN(C65)=0,LEN(D65)=0),\"\",IF(AND(RIGHT(B65,1)*1=1,C65=8),-2000,IF(L65>=38,AB65,IF(L65<=31,AC65,AE65))))","v":""},{"$f":"IF(LEN(A65)=0,\"\",INDEX(Str!$C$1:$C$20,MATCH(ROUND(F65,1),Str!$A$1:$A$20,1)))","v":""},"","",{"$f":"IF(LEN(A65)=0,\"\",INDEX(Uni!$C$1:$C$20,MATCH(ROUND($G65,1),Uni!$A$1:$A$20,1)))","v":""},null,"",{"$f":"IF(LEN(A65)=0,\"\",IF(OR(LEN(B65)=0,LEN(C65)=0,LEN(D65)=0,LEN(E65)=0,LEN(F65)=0,LEN(G65)=0),\"no HVI data\",IF('Base Values'!$B$6+(SUM($N65:$R65)/100)<0,0,'Base Values'!$B$6+(SUM(N65:R65)/100))))","v":""},null,{"$f":"IF(LEN(A65)=0,\"\",IF(LEN(H65)=0,INDEX(Ext!$A$1:$G$5,MATCH(0,Ext!$A$1:$A$5,0),MATCH(H$7,Ext!$A$2:$E$2,0)),IF(AND(H65>=0,H65<3),INDEX(Ext!$A$1:$G$5,MATCH(H65,Ext!$A$1:$A$5,0),MATCH(H$7,Ext!$A$2:$E$2,0)),\"invalid entry\")))","v":""},{"$f":"IF(LEN(B65)=0,\"\",IF(LEN(I65)=0,INDEX(Ext!$A$1:$G$5,MATCH(0,Ext!$A$1:$A$5,0),MATCH(I$7,Ext!$A$2:$E$2,0)),IF(AND(I65>=0,I65<3),INDEX(Ext!$A$1:$G$5,MATCH(I65,Ext!$A$1:$A$5,0),MATCH(I$7,Ext!$A$2:$E$2,0)),\"invalid entry\")))","v":""},{"$f":"IF(LEN(C65)=0,\"\",IF(LEN(J65)=0,INDEX(Ext!$A$1:$G$5,MATCH(0,Ext!$A$1:$A$5,0),MATCH(J$7,Ext!$A$2:$E$2,0)),IF(AND(J65>=0,J65<3),INDEX(Ext!$A$1:$G$5,MATCH(J65,Ext!$A$1:$A$5,0),MATCH(J$7,Ext!$A$2:$E$2,0)),\"invalid entry\")))","v":""}]
[null,null,null,null,null,null,null,null,null,null,null,{"$f":"IF(LEN(A66)=0,\"\",IF(LEN(E66)=0,\"HVI data needed\",INDEX('Staple Lookup'!$C$3:$C$100,MATCH(TRUE,'Staple Lookup'!$B$3:$B$100>=ROUND(E66,2),0))))","v":""},null,{"$f":"IF(OR(LEN(B66)=0,LEN(C66)=0,LEN(D66)=0),\"\",IF(AND(RIGHT(B66,1)*1=1,C66=8),-2000,IF(L66>=38,AB66,IF(L66<=31,AC66,AE66))))","v":""},{"$f":"IF(LEN(A66)=0,\"\",INDEX(Str!$C$1:$C$20,MATCH(ROUND(F66,1),Str!$A$1:$A$20,1)))","v":""},"","",{"$f":"IF(LEN(A66)=0,\"\",INDEX(Uni!$C$1:$C$20,MATCH(ROUND($G66,1),Uni!$A$1:$A$20,1)))","v":""},null,"",{"$f":"IF(LEN(A66)=0,\"\",IF(OR(LEN(B66)=0,LEN(C66)=0,LEN(D66)=0,LEN(E66)=0,LEN(F66)=0,LEN(G66)=0),\"no HVI data\",IF('Base Values'!$B$6+(SUM($N66:$R66)/100)<0,0,'Base Values'!$B$6+(SUM(N66:R66)/100))))","v":""},null,{"$f":"IF(LEN(A66)=0,\"\",IF(LEN(H66)=0,INDEX(Ext!$A$1:$G$5,MATCH(0,Ext!$A$1:$A$5,0),MATCH(H$7,Ext!$A$2:$E$2,0)),IF(AND(H66>=0,H66<3),INDEX(Ext!$A$1:$G$5,MATCH(H66,Ext!$A$1:$A$5,0),MATCH(H$7,Ext!$A$2:$E$2,0)),\"invalid entry\")))","v":""},{"$f":"IF(LEN(B66)=0,\"\",IF(LEN(I66)=0,INDEX(Ext!$A$1:$G$5,MATCH(0,Ext!$A$1:$A$5,0),MATCH(I$7,Ext!$A$2:$E$2,0)),IF(AND(I66>=0,I66<3),INDEX(Ext!$A$1:$G$5,MATCH(I66,Ext!$A$1:$A$5,0),MATCH(I$7,Ext!$A$2:$E$2,0)),\"invalid entry\")))","v":""},{"$f":"IF(LEN(C66)=0,\"\",IF(LEN(J66)=0,INDEX(Ext!$A$1:$G$5,MATCH(0,Ext!$A$1:$A$5,0),MATCH(J$7,Ext!$A$2:$E$2,0)),IF(AND(J66>=0,J66<3),INDEX(Ext!$A$1:$G$5,MATCH(J66,Ext!$A$1:$A$5,0),MATCH(J$7,Ext!$A$2:$E$2,0)),\"invalid entry\")))","v":""}]
[null,null,null,null,null,null,null,null,null,null,null,{"$f":"IF(LEN(A67)=0,\"\",IF(LEN(E67)=0,\"HVI data needed\",INDEX('Staple Lookup'!$C$3:$C$100,MATCH(TRUE,'Staple Lookup'!$B$3:$B$100>=ROUND(E67,2),0))))","v":""},null,{"$f":"IF(OR(LEN(B67)=0,LEN(C67)=0,LEN(D67)=0),\"\",IF(AND(RIGHT(B67,1)*1=1,C67=8),-2000,IF(L67>=38,AB67,IF(L67<=31,AC67,AE67))))","v":""},{"$f":"IF(LEN(A67)=0,\"\",INDEX(Str!$C$1:$C$20,MATCH(ROUND(F67,1),Str!$A$1:$A$20,1)))","v":""},"","",{"$f":"IF(LEN(A67)=0,\"\",INDEX(Uni!$C$1:$C$20,MATCH(ROUND($G67,1),Uni!$A$1:$A$20,1)))","v":""},null,"",{"$f":"IF(LEN(A67)=0,\"\",IF(OR(LEN(B67)=0,LEN(C67)=0,LEN(D67)=0,LEN(E67)=0,LEN(F67)=0,LEN(G67)=0),\"no HVI data\",IF('Base Values'!$B$6+(SUM($N67:$R67)/100)<0,0,'Base Values'!$B$6+(SUM(N67:R67)/100))))","v":""},null,{"$f":"IF(LEN(A67)=0,\"\",IF(LEN(H67)=0,INDEX(Ext!$A$1:$G$5,MATCH(0,Ext!$A$1:$A$5,0),MATCH(H$7,Ext!$A$2:$E$2,0)),IF(AND(H67>=0,H67<3),INDEX(Ext!$A$1:$G$5,MATCH(H67,Ext!$A$1:$A$5,0),MATCH(H$7,Ext!$A$2:$E$2,0)),\"invalid entry\")))","v":""},{"$f":"IF(LEN(B67)=0,\"\",IF(LEN(I67)=0,INDEX(Ext!$A$1:$G$5,MATCH(0,Ext!$A$1:$A$5,0),MATCH(I$7,Ext!$A$2:$E$2,0)),IF(AND(I67>=0,I67<3),INDEX(Ext!$A$1:$G$5,MATCH(I67,Ext!$A$1:$A$5,0),MATCH(I$7,Ext!$A$2:$E$2,0)),\"invalid entry\")))","v":""},{"$f":"IF(LEN(C67)=0,\"\",IF(LEN(J67)=0,INDEX(Ext!$A$1:$G$5,MATCH(0,Ext!$A$1:$A$5,0),MATCH(J$7,Ext!$A$2:$E$2,0)),IF(AND(J67>=0,J67<3),INDEX(Ext!$A$1:$G$5,MATCH(J67,Ext!$A$1:$A$5,0),MATCH(J$7,Ext!$A$2:$E$2,0)),\"invalid entry\")))","v":""}]
[null,null,null,null,null,null,null,null,null,null,null,{"$f":"IF(LEN(A68)=0,\"\",IF(LEN(E68)=0,\"HVI data needed\",INDEX('Staple Lookup'!$C$3:$C$100,MATCH(TRUE,'Staple Lookup'!$B$3:$B$100>=ROUND(E68,2),0))))","v":""},null,{"$f":"IF(OR(LEN(B68)=0,LEN(C68)=0,LEN(D68)=0),\"\",IF(AND(RIGHT(B68,1)*1=1,C68=8),-2000,IF(L68>=38,AB68,IF(L68<=31,AC68,AE68))))","v":""},{"$f":"IF(LEN(A68)=0,\"\",INDEX(Str!$C$1:$C$20,MATCH(ROUND(F68,1),Str!$A$1:$A$20,1)))","v":""},"","",{"$f":"IF(LEN(A68)=0,\"\",INDEX(Uni!$C$1:$C$20,MATCH(ROUND($G68,1),Uni!$A$1:$A$20,1)))","v":""},null,"",{"$f":"IF(LEN(A68)=0,\"\",IF(OR(LEN(B68)=0,LEN(C68)=0,LEN(D68)=0,LEN(E68)=0,LEN(F68)=0,LEN(G68)=0),\"no HVI data\",IF('Base Values'!$B$6+(SUM($N68:$R68)/100)<0,0,'Base Values'!$B$6+(SUM(N68:R68)/100))))","v":""},null,{"$f":"IF(LEN(A68)=0,\"\",IF(LEN(H68)=0,INDEX(Ext!$A$1:$G$5,MATCH(0,Ext!$A$1:$A$5,0),MATCH(H$7,Ext!$A$2:$E$2,0)),IF(AND(H68>=0,H68<3),INDEX(Ext!$A$1:$G$5,MATCH(H68,Ext!$A$1:$A$5,0),MATCH(H$7,Ext!$A$2:$E$2,0)),\"invalid entry\")))","v":""},{"$f":"IF(LEN(B68)=0,\"\",IF(LEN(I68)=0,INDEX(Ext!$A$1:$G$5,MATCH(0,Ext!$A$1:$A$5,0),MATCH(I$7,Ext!$A$2:$E$2,0)),IF(AND(I68>=0,I68<3),INDEX(Ext!$A$1:$G$5,MATCH(I68,Ext!$A$1:$A$5,0),MATCH(I$7,Ext!$A$2:$E$2,0)),\"invalid entry\")))","v":""},{"$f":"IF(LEN(C68)=0,\"\",IF(LEN(J68)=0,INDEX(Ext!$A$1:$G$5,MATCH(0,Ext!$A$1:$A$5,0),MATCH(J$7,Ext!$A$2:$E$2,0)),IF(AND(J68>=0,J68<3),INDEX(Ext!$A$1:$G$5,MATCH(J68,Ext!$A$1:$A$5,0),MATCH(J$7,Ext!$A$2:$E$2,0)),\"invalid entry\")))","v":""}]
[null,null,null,null,null,null,null,null,null,null,null,{"$f":"IF(LEN(A69)=0,\"\",IF(LEN(E69)=0,\"HVI data needed\",INDEX('Staple Lookup'!$C$3:$C$100,MATCH(TRUE,'Staple Lookup'!$B$3:$B$100>=ROUND(E69,2),0))))","v":""},null,{"$f":"IF(OR(LEN(B69)=0,LEN(C69)=0,LEN(D69)=0),\"\",IF(AND(RIGHT(B69,1)*1=1,C69=8),-2000,IF(L69>=38,AB69,IF(L69<=31,AC69,AE69))))","v":""},{"$f":"IF(LEN(A69)=0,\"\",INDEX(Str!$C$1:$C$20,MATCH(ROUND(F69,1),Str!$A$1:$A$20,1)))","v":""},"","",{"$f":"IF(LEN(A69)=0,\"\",INDEX(Uni!$C$1:$C$20,MATCH(ROUND($G69,1),Uni!$A$1:$A$20,1)))","v":""},null,"",{"$f":"IF(LEN(A69)=0,\"\",IF(OR(LEN(B69)=0,LEN(C69)=0,LEN(D69)=0,LEN(E69)=0,LEN(F69)=0,LEN(G69)=0),\"no HVI data\",IF('Base Values'!$B$6+(SUM($N69:$R69)/100)<0,0,'Base Values'!$B$6+(SUM(N69:R69)/100))))","v":""},null,{"$f":"IF(LEN(A69)=0,\"\",IF(LEN(H69)=0,INDEX(Ext!$A$1:$G$5,MATCH(0,Ext!$A$1:$A$5,0),MATCH(H$7,Ext!$A$2:$E$2,0)),IF(AND(H69>=0,H69<3),INDEX(Ext!$A$1:$G$5,MATCH(H69,Ext!$A$1:$A$5,0),MATCH(H$7,Ext!$A$2:$E$2,0)),\"invalid entry\")))","v":""},{"$f":"IF(LEN(B69)=0,\"\",IF(LEN(I69)=0,INDEX(Ext!$A$1:$G$5,MATCH(0,Ext!$A$1:$A$5,0),MATCH(I$7,Ext!$A$2:$E$2,0)),IF(AND(I69>=0,I69<3),INDEX(Ext!$A$1:$G$5,MATCH(I69,Ext!$A$1:$A$5,0),MATCH(I$7,Ext!$A$2:$E$2,0)),\"invalid entry\")))","v":""},{"$f":"IF(LEN(C69)=0,\"\",IF(LEN(J69)=0,INDEX(Ext!$A$1:$G$5,MATCH(0,Ext!$A$1:$A$5,0),MATCH(J$7,Ext!$A$2:$E$2,0)),IF(AND(J69>=0,J69<3),INDEX(Ext!$A$1:$G$5,MATCH(J69,Ext!$A$1:$A$5,0),MATCH(J$7,Ext!$A$2:$E$2,0)),\"invalid entry\")))","v":""}]
[null,null,null,null,null,null,null,null,null,null,null,{"$f":"IF(LEN(A70)=0,\"\",IF(LEN(E70)=0,\"HVI data needed\",INDEX('Staple Lookup'!$C$3:$C$100,MATCH(TRUE,'Staple Lookup'!$B$3:$B$100>=ROUND(E70,2),0))))","v":""},null,{"$f":"IF(OR(LEN(B70)=0,LEN(C70)=0,LEN(D70)=0),\"\",IF(AND(RIGHT(B70,1)*1=1,C70=8),-2000,IF(L70>=38,AB70,IF(L70<=31,AC70,AE70))))","v":""},{"$f":"IF(LEN(A70)=0,\"\",INDEX(Str!$C$1:$C$20,MATCH(ROUND(F70,1),Str!$A$1:$A$20,1)))","v":""},"","",{"$f":"IF(LEN(A70)=0,\"\",INDEX(Uni!$C$1:$C$20,MATCH(ROUND($G70,1),Uni!$A$1:$A$20,1)))","v":""},null,"",{"$f":"IF(LEN(A70)=0,\"\",IF(OR(LEN(B70)=0,LEN(C70)=0,LEN(D70)=0,LEN(E70)=0,LEN(F70)=0,LEN(G70)=0),\"no HVI data\",IF('Base Values'!$B$6+(SUM($N70:$R70)/100)<0,0,'Base Values'!$B$6+(SUM(N70:R70)/100))))","v":""},null,{"$f":"IF(LEN(A70)=0,\"\",IF(LEN(H70)=0,INDEX(Ext!$A$1:$G$5,MATCH(0,Ext!$A$1:$A$5,0),MATCH(H$7,Ext!$A$2:$E$2,0)),IF(AND(H70>=0,H70<3),INDEX(Ext!$A$1:$G$5,MATCH(H70,Ext!$A$1:$A$5,0),MATCH(H$7,Ext!$A$2:$E$2,0)),\"invalid entry\")))","v":""},{"$f":"IF(LEN(B70)=0,\"\",IF(LEN(I70)=0,INDEX(Ext!$A$1:$G$5,MATCH(0,Ext!$A$1:$A$5,0),MATCH(I$7,Ext!$A$2:$E$2,0)),IF(AND(I70>=0,I70<3),INDEX(Ext!$A$1:$G$5,MATCH(I70,Ext!$A$1:$A$5,0),MATCH(I$7,Ext!$A$2:$E$2,0)),\"invalid entry\")))","v":""},{"$f":"IF(LEN(C70)=0,\"\",IF(LEN(J70)=0,INDEX(Ext!$A$1:$G$5,MATCH(0,Ext!$A$1:$A$5,0),MATCH(J$7,Ext!$A$2:$E$2,0)),IF(AND(J70>=0,J70<3),INDEX(Ext!$A$1:$G$5,MATCH(J70,Ext!$A$1:$A$5,0),MATCH(J$7,Ext!$A$2:$E$2,0)),\"invalid entry\")))","v":""}]
[null,null,null,null,null,null,null,null,null,null,null,{"$f":"IF(LEN(A71)=0,\"\",IF(LEN(E71)=0,\"HVI data needed\",INDEX('Staple Lookup'!$C$3:$C$100,MATCH(TRUE,'Staple Lookup'!$B$3:$B$100>=ROUND(E71,2),0))))","v":""},null,{"$f":"IF(OR(LEN(B71)=0,LEN(C71)=0,LEN(D71)=0),\"\",IF(AND(RIGHT(B71,1)*1=1,C71=8),-2000,IF(L71>=38,AB71,IF(L71<=31,AC71,AE71))))","v":""},{"$f":"IF(LEN(A71)=0,\"\",INDEX(Str!$C$1:$C$20,MATCH(ROUND(F71,1),Str!$A$1:$A$20,1)))","v":""},"","",{"$f":"IF(LEN(A71)=0,\"\",INDEX(Uni!$C$1:$C$20,MATCH(ROUND($G71,1),Uni!$A$1:$A$20,1)))","v":""},null,"",{"$f":"IF(LEN(A71)=0,\"\",IF(OR(LEN(B71)=0,LEN(C71)=0,LEN(D71)=0,LEN(E71)=0,LEN(F71)=0,LEN(G71)=0),\"no HVI data\",IF('Base Values'!$B$6+(SUM($N71:$R71)/100)<0,0,'Base Values'!$B$6+(SUM(N71:R71)/100))))","v":""},null,{"$f":"IF(LEN(A71)=0,\"\",IF(LEN(H71)=0,INDEX(Ext!$A$1:$G$5,MATCH(0,Ext!$A$1:$A$5,0),MATCH(H$7,Ext!$A$2:$E$2,0)),IF(AND(H71>=0,H71<3),INDEX(Ext!$A$1:$G$5,MATCH(H71,Ext!$A$1:$A$5,0),MATCH(H$7,Ext!$A$2:$E$2,0)),\"invalid entry\")))","v":""},{"$f":"IF(LEN(B71)=0,\"\",IF(LEN(I71)=0,INDEX(Ext!$A$1:$G$5,MATCH(0,Ext!$A$1:$A$5,0),MATCH(I$7,Ext!$A$2:$E$2,0)),IF(AND(I71>=0,I71<3),INDEX(Ext!$A$1:$G$5,MATCH(I71,Ext!$A$1:$A$5,0),MATCH(I$7,Ext!$A$2:$E$2,0)),\"invalid entry\")))","v":""},{"$f":"IF(LEN(C71)=0,\"\",IF(LEN(J71)=0,INDEX(Ext!$A$1:$G$5,MATCH(0,Ext!$A$1:$A$5,0),MATCH(J$7,Ext!$A$2:$E$2,0)),IF(AND(J71>=0,J71<3),INDEX(Ext!$A$1:$G$5,MATCH(J71,Ext!$A$1:$A$5,0),MATCH(J$7,Ext!$A$2:$E$2,0)),\"invalid entry\")))","v":""}]
[null,null,null,null,null,null,null,null,null,null,null,{"$f":"IF(LEN(A72)=0,\"\",IF(LEN(E72)=0,\"HVI data needed\",INDEX('Staple Lookup'!$C$3:$C$100,MATCH(TRUE,'Staple Lookup'!$B$3:$B$100>=ROUND(E72,2),0))))","v":""},null,{"$f":"IF(OR(LEN(B72)=0,LEN(C72)=0,LEN(D72)=0),\"\",IF(AND(RIGHT(B72,1)*1=1,C72=8),-2000,IF(L72>=38,AB72,IF(L72<=31,AC72,AE72))))","v":""},{"$f":"IF(LEN(A72)=0,\"\",INDEX(Str!$C$1:$C$20,MATCH(ROUND(F72,1),Str!$A$1:$A$20,1)))","v":""},"","",{"$f":"IF(LEN(A72)=0,\"\",INDEX(Uni!$C$1:$C$20,MATCH(ROUND($G72,1),Uni!$A$1:$A$20,1)))","v":""},null,"",{"$f":"IF(LEN(A72)=0,\"\",IF(OR(LEN(B72)=0,LEN(C72)=0,LEN(D72)=0,LEN(E72)=0,LEN(F72)=0,LEN(G72)=0),\"no HVI data\",IF('Base Values'!$B$6+(SUM($N72:$R72)/100)<0,0,'Base Values'!$B$6+(SUM(N72:R72)/100))))","v":""},null,{"$f":"IF(LEN(A72)=0,\"\",IF(LEN(H72)=0,INDEX(Ext!$A$1:$G$5,MATCH(0,Ext!$A$1:$A$5,0),MATCH(H$7,Ext!$A$2:$E$2,0)),IF(AND(H72>=0,H72<3),INDEX(Ext!$A$1:$G$5,MATCH(H72,Ext!$A$1:$A$5,0),MATCH(H$7,Ext!$A$2:$E$2,0)),\"invalid entry\")))","v":""},{"$f":"IF(LEN(B72)=0,\"\",IF(LEN(I72)=0,INDEX(Ext!$A$1:$G$5,MATCH(0,Ext!$A$1:$A$5,0),MATCH(I$7,Ext!$A$2:$E$2,0)),IF(AND(I72>=0,I72<3),INDEX(Ext!$A$1:$G$5,MATCH(I72,Ext!$A$1:$A$5,0),MATCH(I$7,Ext!$A$2:$E$2,0)),\"invalid entry\")))","v":""},{"$f":"IF(LEN(C72)=0,\"\",IF(LEN(J72)=0,INDEX(Ext!$A$1:$G$5,MATCH(0,Ext!$A$1:$A$5,0),MATCH(J$7,Ext!$A$2:$E$2,0)),IF(AND(J72>=0,J72<3),INDEX(Ext!$A$1:$G$5,MATCH(J72,Ext!$A$1:$A$5,0),MATCH(J$7,Ext!$A$2:$E$2,0)),\"invalid entry\")))","v":""}]
[null,null,null,null,null,null,null,null,null,null,null,{"$f":"IF(LEN(A73)=0,\"\",IF(LEN(E73)=0,\"HVI data needed\",INDEX('Staple Lookup'!$C$3:$C$100,MATCH(TRUE,'Staple Lookup'!$B$3:$B$100>=ROUND(E73,2),0))))","v":""},null,{"$f":"IF(OR(LEN(B73)=0,LEN(C73)=0,LEN(D73)=0),\"\",IF(AND(RIGHT(B73,1)*1=1,C73=8),-2000,IF(L73>=38,AB73,IF(L73<=31,AC73,AE73))))","v":""},{"$f":"IF(LEN(A73)=0,\"\",INDEX(Str!$C$1:$C$20,MATCH(ROUND(F73,1),Str!$A$1:$A$20,1)))","v":""},{"$f":"IF(LEN(A73)=0,\"\",IF(AND(AG73=1,AH73>0),AH73,IF(AND(AG73=0,AH73>0),0,AH73)))","v":""},{"$f":"IF(LEN(A73)=0,\"\",SUM(W73:Z73))","v":""},{"$f":"IF(LEN(A73)=0,\"\",INDEX(Uni!$C$1:$C$20,MATCH(ROUND($G73,1),Uni!$A$1:$A$20,1)))","v":""},null,{"$f":"IF(LEN(A73)=0,\"\",IF(OR(LEN(B73)=0,LEN(C73)=0,LEN(D73)=0,LEN(E73)=0,LEN(F73)=0,LEN(G73)=0),\"no HVI data\",SUM(N73:R73)))","v":""},{"$f":"IF(LEN(A73)=0,\"\",IF(OR(LEN(B73)=0,LEN(C73)=0,LEN(D73)=0,LEN(E73)=0,LEN(F73)=0,LEN(G73)=0),\"no HVI data\",IF('Base Values'!$B$6+(SUM($N73:$R73)/100)<0,0,'Base Values'!$B$6+(SUM(N73:R73)/100))))","v":""},null,{"$f":"IF(LEN(A73)=0,\"\",IF(LEN(H73)=0,INDEX(Ext!$A$1:$G$5,MATCH(0,Ext!$A$1:$A$5,0),MATCH(H$7,Ext!$A$2:$E$2,0)),IF(AND(H73>=0,H73<3),INDEX(Ext!$A$1:$G$5,MATCH(H73,Ext!$A$1:$A$5,0),MATCH(H$7,Ext!$A$2:$E$2,0)),\"invalid entry\")))","v":""},{"$f":"IF(LEN(B73)=0,\"\",IF(LEN(I73)=0,INDEX(Ext!$A$1:$G$5,MATCH(0,Ext!$A$1:$A$5,0),MATCH(I$7,Ext!$A$2:$E$2,0)),IF(AND(I73>=0,I73<3),INDEX(Ext!$A$1:$G$5,MATCH(I73,Ext!$A$1:$A$5,0),MATCH(I$7,Ext!$A$2:$E$2,0)),\"invalid entry\")))","v":""},{"$f":"IF(LEN(C73)=0,\"\",IF(LEN(J73)=0,INDEX(Ext!$A$1:$G$5,MATCH(0,Ext!$A$1:$A$5,0),MATCH(J$7,Ext!$A$2:$E$2,0)),IF(AND(J73>=0,J73<3),INDEX(Ext!$A$1:$G$5,MATCH(J73,Ext!$A$1:$A$5,0),MATCH(J$7,Ext!$A$2:$E$2,0)),\"invalid entry\")))","v":""}]
[null,null,null,null,null,null,null,null,null,null,null,{"$f":"IF(LEN(A74)=0,\"\",IF(LEN(E74)=0,\"HVI data needed\",INDEX('Staple Lookup'!$C$3:$C$100,MATCH(TRUE,'Staple Lookup'!$B$3:$B$100>=ROUND(E74,2),0))))","v":""},null,{"$f":"IF(OR(LEN(B74)=0,LEN(C74)=0,LEN(D74)=0),\"\",IF(AND(RIGHT(B74,1)*1=1,C74=8),-2000,IF(L74>=38,AB74,IF(L74<=31,AC74,AE74))))","v":""},{"$f":"IF(LEN(A74)=0,\"\",INDEX(Str!$C$1:$C$20,MATCH(ROUND(F74,1),Str!$A$1:$A$20,1)))","v":""},"","",{"$f":"IF(LEN(A74)=0,\"\",INDEX(Uni!$C$1:$C$20,MATCH(ROUND($G74,1),Uni!$A$1:$A$20,1)))","v":""},null,"",{"$f":"IF(LEN(A74)=0,\"\",IF(OR(LEN(B74)=0,LEN(C74)=0,LEN(D74)=0,LEN(E74)=0,LEN(F74)=0,LEN(G74)=0),\"no HVI data\",IF('Base Values'!$B$6+(SUM($N74:$R74)/100)<0,0,'Base Values'!$B$6+(SUM(N74:R74)/100))))","v":""},null,{"$f":"IF(LEN(A74)=0,\"\",IF(LEN(H74)=0,INDEX(Ext!$A$1:$G$5,MATCH(0,Ext!$A$1:$A$5,0),MATCH(H$7,Ext!$A$2:$E$2,0)),IF(AND(H74>=0,H74<3),INDEX(Ext!$A$1:$G$5,MATCH(H74,Ext!$A$1:$A$5,0),MATCH(H$7,Ext!$A$2:$E$2,0)),\"invalid entry\")))","v":""},{"$f":"IF(LEN(B74)=0,\"\",IF(LEN(I74)=0,INDEX(Ext!$A$1:$G$5,MATCH(0,Ext!$A$1:$A$5,0),MATCH(I$7,Ext!$A$2:$E$2,0)),IF(AND(I74>=0,I74<3),INDEX(Ext!$A$1:$G$5,MATCH(I74,Ext!$A$1:$A$5,0),MATCH(I$7,Ext!$A$2:$E$2,0)),\"invalid entry\")))","v":""},{"$f":"IF(LEN(C74)=0,\"\",IF(LEN(J74)=0,INDEX(Ext!$A$1:$G$5,MATCH(0,Ext!$A$1:$A$5,0),MATCH(J$7,Ext!$A$2:$E$2,0)),IF(AND(J74>=0,J74<3),INDEX(Ext!$A$1:$G$5,MATCH(J74,Ext!$A$1:$A$5,0),MATCH(J$7,Ext!$A$2:$E$2,0)),\"invalid entry\")))","v":""}]
[null,null,null,null,null,null,null,null,null,null,null,{"$f":"IF(LEN(A75)=0,\"\",IF(LEN(E75)=0,\"HVI data needed\",INDEX('Staple Lookup'!$C$3:$C$100,MATCH(TRUE,'Staple Lookup'!$B$3:$B$100>=ROUND(E75,2),0))))","v":""},null,{"$f":"IF(OR(LEN(B75)=0,LEN(C75)=0,LEN(D75)=0),\"\",IF(AND(RIGHT(B75,1)*1=1,C75=8),-2000,IF(L75>=38,AB75,IF(L75<=31,AC75,AE75))))","v":""},{"$f":"IF(LEN(A75)=0,\"\",INDEX(Str!$C$1:$C$20,MATCH(ROUND(F75,1),Str!$A$1:$A$20,1)))","v":""},"","",{"$f":"IF(LEN(A75)=0,\"\",INDEX(Uni!$C$1:$C$20,MATCH(ROUND($G75,1),Uni!$A$1:$A$20,1)))","v":""},null,"",{"$f":"IF(LEN(A75)=0,\"\",IF(OR(LEN(B75)=0,LEN(C75)=0,LEN(D75)=0,LEN(E75)=0,LEN(F75)=0,LEN(G75)=0),\"no HVI data\",IF('Base Values'!$B$6+(SUM($N75:$R75)/100)<0,0,'Base Values'!$B$6+(SUM(N75:R75)/100))))","v":""},null,{"$f":"IF(LEN(A75)=0,\"\",IF(LEN(H75)=0,INDEX(Ext!$A$1:$G$5,MATCH(0,Ext!$A$1:$A$5,0),MATCH(H$7,Ext!$A$2:$E$2,0)),IF(AND(H75>=0,H75<3),INDEX(Ext!$A$1:$G$5,MATCH(H75,Ext!$A$1:$A$5,0),MATCH(H$7,Ext!$A$2:$E$2,0)),\"invalid entry\")))","v":""},{"$f":"IF(LEN(B75)=0,\"\",IF(LEN(I75)=0,INDEX(Ext!$A$1:$G$5,MATCH(0,Ext!$A$1:$A$5,0),MATCH(I$7,Ext!$A$2:$E$2,0)),IF(AND(I75>=0,I75<3),INDEX(Ext!$A$1:$G$5,MATCH(I75,Ext!$A$1:$A$5,0),MATCH(I$7,Ext!$A$2:$E$2,0)),\"invalid entry\")))","v":""},{"$f":"IF(LEN(C75)=0,\"\",IF(LEN(J75)=0,INDEX(Ext!$A$1:$G$5,MATCH(0,Ext!$A$1:$A$5,0),MATCH(J$7,Ext!$A$2:$E$2,0)),IF(AND(J75>=0,J75<3),INDEX(Ext!$A$1:$G$5,MATCH(J75,Ext!$A$1:$A$5,0),MATCH(J$7,Ext!$A$2:$E$2,0)),\"invalid entry\")))","v":""}]
[null,null,null,null,null,null,null,null,null,null,null,{"$f":"IF(LEN(A76)=0,\"\",IF(LEN(E76)=0,\"HVI data needed\",INDEX('Staple Lookup'!$C$3:$C$100,MATCH(TRUE,'Staple Lookup'!$B$3:$B$100>=ROUND(E76,2),0))))","v":""},null,{"$f":"IF(OR(LEN(B76)=0,LEN(C76)=0,LEN(D76)=0),\"\",IF(AND(RIGHT(B76,1)*1=1,C76=8),-2000,IF(L76>=38,AB76,IF(L76<=31,AC76,AE76))))","v":""},{"$f":"IF(LEN(A76)=0,\"\",INDEX(Str!$C$1:$C$20,MATCH(ROUND(F76,1),Str!$A$1:$A$20,1)))","v":""},"","",{"$f":"IF(LEN(A76)=0,\"\",INDEX(Uni!$C$1:$C$20,MATCH(ROUND($G76,1),Uni!$A$1:$A$20,1)))","v":""},null,"",{"$f":"IF(LEN(A76)=0,\"\",IF(OR(LEN(B76)=0,LEN(C76)=0,LEN(D76)=0,LEN(E76)=0,LEN(F76)=0,LEN(G76)=0),\"no HVI data\",IF('Base Values'!$B$6+(SUM($N76:$R76)/100)<0,0,'Base Values'!$B$6+(SUM(N76:R76)/100))))","v":""},null,{"$f":"IF(LEN(A76)=0,\"\",IF(LEN(H76)=0,INDEX(Ext!$A$1:$G$5,MATCH(0,Ext!$A$1:$A$5,0),MATCH(H$7,Ext!$A$2:$E$2,0)),IF(AND(H76>=0,H76<3),INDEX(Ext!$A$1:$G$5,MATCH(H76,Ext!$A$1:$A$5,0),MATCH(H$7,Ext!$A$2:$E$2,0)),\"invalid entry\")))","v":""},{"$f":"IF(LEN(B76)=0,\"\",IF(LEN(I76)=0,INDEX(Ext!$A$1:$G$5,MATCH(0,Ext!$A$1:$A$5,0),MATCH(I$7,Ext!$A$2:$E$2,0)),IF(AND(I76>=0,I76<3),INDEX(Ext!$A$1:$G$5,MATCH(I76,Ext!$A$1:$A$5,0),MATCH(I$7,Ext!$A$2:$E$2,0)),\"invalid entry\")))","v":""},{"$f":"IF(LEN(C76)=0,\"\",IF(LEN(J76)=0,INDEX(Ext!$A$1:$G$5,MATCH(0,Ext!$A$1:$A$5,0),MATCH(J$7,Ext!$A$2:$E$2,0)),IF(AND(J76>=0,J76<3),INDEX(Ext!$A$1:$G$5,MATCH(J76,Ext!$A$1:$A$5,0),MATCH(J$7,Ext!$A$2:$E$2,0)),\"invalid entry\")))","v":""}]
[null,null,null,null,null,null,null,null,null,null,null,{"$f":"IF(LEN(A77)=0,\"\",IF(LEN(E77)=0,\"HVI data needed\",INDEX('Staple Lookup'!$C$3:$C$100,MATCH(TRUE,'Staple Lookup'!$B$3:$B$100>=ROUND(E77,2),0))))","v":""},null,{"$f":"IF(OR(LEN(B77)=0,LEN(C77)=0,LEN(D77)=0),\"\",IF(AND(RIGHT(B77,1)*1=1,C77=8),-2000,IF(L77>=38,AB77,IF(L77<=31,AC77,AE77))))","v":""},{"$f":"IF(LEN(A77)=0,\"\",INDEX(Str!$C$1:$C$20,MATCH(ROUND(F77,1),Str!$A$1:$A$20,1)))","v":""},"","",{"$f":"IF(LEN(A77)=0,\"\",INDEX(Uni!$C$1:$C$20,MATCH(ROUND($G77,1),Uni!$A$1:$A$20,1)))","v":""},null,"",{"$f":"IF(LEN(A77)=0,\"\",IF(OR(LEN(B77)=0,LEN(C77)=0,LEN(D77)=0,LEN(E77)=0,LEN(F77)=0,LEN(G77)=0),\"no HVI data\",IF('Base Values'!$B$6+(SUM($N77:$R77)/100)<0,0,'Base Values'!$B$6+(SUM(N77:R77)/100))))","v":""},null,{"$f":"IF(LEN(A77)=0,\"\",IF(LEN(H77)=0,INDEX(Ext!$A$1:$G$5,MATCH(0,Ext!$A$1:$A$5,0),MATCH(H$7,Ext!$A$2:$E$2,0)),IF(AND(H77>=0,H77<3),INDEX(Ext!$A$1:$G$5,MATCH(H77,Ext!$A$1:$A$5,0),MATCH(H$7,Ext!$A$2:$E$2,0)),\"invalid entry\")))","v":""},{"$f":"IF(LEN(B77)=0,\"\",IF(LEN(I77)=0,INDEX(Ext!$A$1:$G$5,MATCH(0,Ext!$A$1:$A$5,0),MATCH(I$7,Ext!$A$2:$E$2,0)),IF(AND(I77>=0,I77<3),INDEX(Ext!$A$1:$G$5,MATCH(I77,Ext!$A$1:$A$5,0),MATCH(I$7,Ext!$A$2:$E$2,0)),\"invalid entry\")))","v":""},{"$f":"IF(LEN(C77)=0,\"\",IF(LEN(J77)=0,INDEX(Ext!$A$1:$G$5,MATCH(0,Ext!$A$1:$A$5,0),MATCH(J$7,Ext!$A$2:$E$2,0)),IF(AND(J77>=0,J77<3),INDEX(Ext!$A$1:$G$5,MATCH(J77,Ext!$A$1:$A$5,0),MATCH(J$7,Ext!$A$2:$E$2,0)),\"invalid entry\")))","v":""}]
[null,null,null,null,null,null,null,null,null,null,null,{"$f":"IF(LEN(A78)=0,\"\",IF(LEN(E78)=0,\"HVI data needed\",INDEX('Staple Lookup'!$C$3:$C$100,MATCH(TRUE,'Staple Lookup'!$B$3:$B$100>=ROUND(E78,2),0))))","v":""},null,{"$f":"IF(OR(LEN(B78)=0,LEN(C78)=0,LEN(D78)=0),\"\",IF(AND(RIGHT(B78,1)*1=1,C78=8),-2000,IF(L78>=38,AB78,IF(L78<=31,AC78,AE78))))","v":""},{"$f":"IF(LEN(A78)=0,\"\",INDEX(Str!$C$1:$C$20,MATCH(ROUND(F78,1),Str!$A$1:$A$20,1)))","v":""},"","",{"$f":"IF(LEN(A78)=0,\"\",INDEX(Uni!$C$1:$C$20,MATCH(ROUND($G78,1),Uni!$A$1:$A$20,1)))","v":""},null,"",{"$f":"IF(LEN(A78)=0,\"\",IF(OR(LEN(B78)=0,LEN(C78)=0,LEN(D78)=0,LEN(E78)=0,LEN(F78)=0,LEN(G78)=0),\"no HVI data\",IF('Base Values'!$B$6+(SUM($N78:$R78)/100)<0,0,'Base Values'!$B$6+(SUM(N78:R78)/100))))","v":""},null,{"$f":"IF(LEN(A78)=0,\"\",IF(LEN(H78)=0,INDEX(Ext!$A$1:$G$5,MATCH(0,Ext!$A$1:$A$5,0),MATCH(H$7,Ext!$A$2:$E$2,0)),IF(AND(H78>=0,H78<3),INDEX(Ext!$A$1:$G$5,MATCH(H78,Ext!$A$1:$A$5,0),MATCH(H$7,Ext!$A$2:$E$2,0)),\"invalid entry\")))","v":""},{"$f":"IF(LEN(B78)=0,\"\",IF(LEN(I78)=0,INDEX(Ext!$A$1:$G$5,MATCH(0,Ext!$A$1:$A$5,0),MATCH(I$7,Ext!$A$2:$E$2,0)),IF(AND(I78>=0,I78<3),INDEX(Ext!$A$1:$G$5,MATCH(I78,Ext!$A$1:$A$5,0),MATCH(I$7,Ext!$A$2:$E$2,0)),\"invalid entry\")))","v":""},{"$f":"IF(LEN(C78)=0,\"\",IF(LEN(J78)=0,INDEX(Ext!$A$1:$G$5,MATCH(0,Ext!$A$1:$A$5,0),MATCH(J$7,Ext!$A$2:$E$2,0)),IF(AND(J78>=0,J78<3),INDEX(Ext!$A$1:$G$5,MATCH(J78,Ext!$A$1:$A$5,0),MATCH(J$7,Ext!$A$2:$E$2,0)),\"invalid entry\")))","v":""}]
[null,null,null,null,null,null,null,null,null,null,null,{"$f":"IF(LEN(A79)=0,\"\",IF(LEN(E79)=0,\"HVI data needed\",INDEX('Staple Lookup'!$C$3:$C$100,MATCH(TRUE,'Staple Lookup'!$B$3:$B$100>=ROUND(E79,2),0))))","v":""},null,{"$f":"IF(OR(LEN(B79)=0,LEN(C79)=0,LEN(D79)=0),\"\",IF(AND(RIGHT(B79,1)*1=1,C79=8),-2000,IF(L79>=38,AB79,IF(L79<=31,AC79,AE79))))","v":""},{"$f":"IF(LEN(A79)=0,\"\",INDEX(Str!$C$1:$C$20,MATCH(ROUND(F79,1),Str!$A$1:$A$20,1)))","v":""},"","",{"$f":"IF(LEN(A79)=0,\"\",INDEX(Uni!$C$1:$C$20,MATCH(ROUND($G79,1),Uni!$A$1:$A$20,1)))","v":""},null,"",{"$f":"IF(LEN(A79)=0,\"\",IF(OR(LEN(B79)=0,LEN(C79)=0,LEN(D79)=0,LEN(E79)=0,LEN(F79)=0,LEN(G79)=0),\"no HVI data\",IF('Base Values'!$B$6+(SUM($N79:$R79)/100)<0,0,'Base Values'!$B$6+(SUM(N79:R79)/100))))","v":""},null,{"$f":"IF(LEN(A79)=0,\"\",IF(LEN(H79)=0,INDEX(Ext!$A$1:$G$5,MATCH(0,Ext!$A$1:$A$5,0),MATCH(H$7,Ext!$A$2:$E$2,0)),IF(AND(H79>=0,H79<3),INDEX(Ext!$A$1:$G$5,MATCH(H79,Ext!$A$1:$A$5,0),MATCH(H$7,Ext!$A$2:$E$2,0)),\"invalid entry\")))","v":""},{"$f":"IF(LEN(B79)=0,\"\",IF(LEN(I79)=0,INDEX(Ext!$A$1:$G$5,MATCH(0,Ext!$A$1:$A$5,0),MATCH(I$7,Ext!$A$2:$E$2,0)),IF(AND(I79>=0,I79<3),INDEX(Ext!$A$1:$G$5,MATCH(I79,Ext!$A$1:$A$5,0),MATCH(I$7,Ext!$A$2:$E$2,0)),\"invalid entry\")))","v":""},{"$f":"IF(LEN(C79)=0,\"\",IF(LEN(J79)=0,INDEX(Ext!$A$1:$G$5,MATCH(0,Ext!$A$1:$A$5,0),MATCH(J$7,Ext!$A$2:$E$2,0)),IF(AND(J79>=0,J79<3),INDEX(Ext!$A$1:$G$5,MATCH(J79,Ext!$A$1:$A$5,0),MATCH(J$7,Ext!$A$2:$E$2,0)),\"invalid entry\")))","v":""}]
[null,null,null,null,null,null,null,null,null,null,null,{"$f":"IF(LEN(A80)=0,\"\",IF(LEN(E80)=0,\"HVI data needed\",INDEX('Staple Lookup'!$C$3:$C$100,MATCH(TRUE,'Staple Lookup'!$B$3:$B$100>=ROUND(E80,2),0))))","v":""},null,{"$f":"IF(OR(LEN(B80)=0,LEN(C80)=0,LEN(D80)=0),\"\",IF(AND(RIGHT(B80,1)*1=1,C80=8),-2000,IF(L80>=38,AB80,IF(L80<=31,AC80,AE80))))","v":""},{"$f":"IF(LEN(A80)=0,\"\",INDEX(Str!$C$1:$C$20,MATCH(ROUND(F80,1),Str!$A$1:$A$20,1)))","v":""},"","",{"$f":"IF(LEN(A80)=0,\"\",INDEX(Uni!$C$1:$C$20,MATCH(ROUND($G80,1),Uni!$A$1:$A$20,1)))","v":""},null,"",{"$f":"IF(LEN(A80)=0,\"\",IF(OR(LEN(B80)=0,LEN(C80)=0,LEN(D80)=0,LEN(E80)=0,LEN(F80)=0,LEN(G80)=0),\"no HVI data\",IF('Base Values'!$B$6+(SUM($N80:$R80)/100)<0,0,'Base Values'!$B$6+(SUM(N80:R80)/100))))","v":""},null,{"$f":"IF(LEN(A80)=0,\"\",IF(LEN(H80)=0,INDEX(Ext!$A$1:$G$5,MATCH(0,Ext!$A$1:$A$5,0),MATCH(H$7,Ext!$A$2:$E$2,0)),IF(AND(H80>=0,H80<3),INDEX(Ext!$A$1:$G$5,MATCH(H80,Ext!$A$1:$A$5,0),MATCH(H$7,Ext!$A$2:$E$2,0)),\"invalid entry\")))","v":""},{"$f":"IF(LEN(B80)=0,\"\",IF(LEN(I80)=0,INDEX(Ext!$A$1:$G$5,MATCH(0,Ext!$A$1:$A$5,0),MATCH(I$7,Ext!$A$2:$E$2,0)),IF(AND(I80>=0,I80<3),INDEX(Ext!$A$1:$G$5,MATCH(I80,Ext!$A$1:$A$5,0),MATCH(I$7,Ext!$A$2:$E$2,0)),\"invalid entry\")))","v":""},{"$f":"IF(LEN(C80)=0,\"\",IF(LEN(J80)=0,INDEX(Ext!$A$1:$G$5,MATCH(0,Ext!$A$1:$A$5,0),MATCH(J$7,Ext!$A$2:$E$2,0)),IF(AND(J80>=0,J80<3),INDEX(Ext!$A$1:$G$5,MATCH(J80,Ext!$A$1:$A$5,0),MATCH(J$7,Ext!$A$2:$E$2,0)),\"invalid entry\")))","v":""}]
[null,null,null,null,null,null,null,null,null,null,null,{"$f":"IF(LEN(A81)=0,\"\",IF(LEN(E81)=0,\"HVI data needed\",INDEX('Staple Lookup'!$C$3:$C$100,MATCH(TRUE,'Staple Lookup'!$B$3:$B$100>=ROUND(E81,2),0))))","v":""},null,{"$f":"IF(OR(LEN(B81)=0,LEN(C81)=0,LEN(D81)=0),\"\",IF(AND(RIGHT(B81,1)*1=1,C81=8),-2000,IF(L81>=38,AB81,IF(L81<=31,AC81,AE81))))","v":""},{"$f":"IF(LEN(A81)=0,\"\",INDEX(Str!$C$1:$C$20,MATCH(ROUND(F81,1),Str!$A$1:$A$20,1)))","v":""},"","",{"$f":"IF(LEN(A81)=0,\"\",INDEX(Uni!$C$1:$C$20,MATCH(ROUND($G81,1),Uni!$A$1:$A$20,1)))","v":""},null,"",{"$f":"IF(LEN(A81)=0,\"\",IF(OR(LEN(B81)=0,LEN(C81)=0,LEN(D81)=0,LEN(E81)=0,LEN(F81)=0,LEN(G81)=0),\"no HVI data\",IF('Base Values'!$B$6+(SUM($N81:$R81)/100)<0,0,'Base Values'!$B$6+(SUM(N81:R81)/100))))","v":""},null,{"$f":"IF(LEN(A81)=0,\"\",IF(LEN(H81)=0,INDEX(Ext!$A$1:$G$5,MATCH(0,Ext!$A$1:$A$5,0),MATCH(H$7,Ext!$A$2:$E$2,0)),IF(AND(H81>=0,H81<3),INDEX(Ext!$A$1:$G$5,MATCH(H81,Ext!$A$1:$A$5,0),MATCH(H$7,Ext!$A$2:$E$2,0)),\"invalid entry\")))","v":""},{"$f":"IF(LEN(B81)=0,\"\",IF(LEN(I81)=0,INDEX(Ext!$A$1:$G$5,MATCH(0,Ext!$A$1:$A$5,0),MATCH(I$7,Ext!$A$2:$E$2,0)),IF(AND(I81>=0,I81<3),INDEX(Ext!$A$1:$G$5,MATCH(I81,Ext!$A$1:$A$5,0),MATCH(I$7,Ext!$A$2:$E$2,0)),\"invalid entry\")))","v":""},{"$f":"IF(LEN(C81)=0,\"\",IF(LEN(J81)=0,INDEX(Ext!$A$1:$G$5,MATCH(0,Ext!$A$1:$A$5,0),MATCH(J$7,Ext!$A$2:$E$2,0)),IF(AND(J81>=0,J81<3),INDEX(Ext!$A$1:$G$5,MATCH(J81,Ext!$A$1:$A$5,0),MATCH(J$7,Ext!$A$2:$E$2,0)),\"invalid entry\")))","v":""}]
[null,null,null,null,null,null,null,null,null,null,null,{"$f":"IF(LEN(A82)=0,\"\",IF(LEN(E82)=0,\"HVI data needed\",INDEX('Staple Lookup'!$C$3:$C$100,MATCH(TRUE,'Staple Lookup'!$B$3:$B$100>=ROUND(E82,2),0))))","v":""},null,{"$f":"IF(OR(LEN(B82)=0,LEN(C82)=0,LEN(D82)=0),\"\",IF(AND(RIGHT(B82,1)*1=1,C82=8),-2000,IF(L82>=38,AB82,IF(L82<=31,AC82,AE82))))","v":""},{"$f":"IF(LEN(A82)=0,\"\",INDEX(Str!$C$1:$C$20,MATCH(ROUND(F82,1),Str!$A$1:$A$20,1)))","v":""},"","",{"$f":"IF(LEN(A82)=0,\"\",INDEX(Uni!$C$1:$C$20,MATCH(ROUND($G82,1),Uni!$A$1:$A$20,1)))","v":""},null,"",{"$f":"IF(LEN(A82)=0,\"\",IF(OR(LEN(B82)=0,LEN(C82)=0,LEN(D82)=0,LEN(E82)=0,LEN(F82)=0,LEN(G82)=0),\"no HVI data\",IF('Base Values'!$B$6+(SUM($N82:$R82)/100)<0,0,'Base Values'!$B$6+(SUM(N82:R82)/100))))","v":""},null,{"$f":"IF(LEN(A82)=0,\"\",IF(LEN(H82)=0,INDEX(Ext!$A$1:$G$5,MATCH(0,Ext!$A$1:$A$5,0),MATCH(H$7,Ext!$A$2:$E$2,0)),IF(AND(H82>=0,H82<3),INDEX(Ext!$A$1:$G$5,MATCH(H82,Ext!$A$1:$A$5,0),MATCH(H$7,Ext!$A$2:$E$2,0)),\"invalid entry\")))","v":""},{"$f":"IF(LEN(B82)=0,\"\",IF(LEN(I82)=0,INDEX(Ext!$A$1:$G$5,MATCH(0,Ext!$A$1:$A$5,0),MATCH(I$7,Ext!$A$2:$E$2,0)),IF(AND(I82>=0,I82<3),INDEX(Ext!$A$1:$G$5,MATCH(I82,Ext!$A$1:$A$5,0),MATCH(I$7,Ext!$A$2:$E$2,0)),\"invalid entry\")))","v":""},{"$f":"IF(LEN(C82)=0,\"\",IF(LEN(J82)=0,INDEX(Ext!$A$1:$G$5,MATCH(0,Ext!$A$1:$A$5,0),MATCH(J$7,Ext!$A$2:$E$2,0)),IF(AND(J82>=0,J82<3),INDEX(Ext!$A$1:$G$5,MATCH(J82,Ext!$A$1:$A$5,0),MATCH(J$7,Ext!$A$2:$E$2,0)),\"invalid entry\")))","v":""}]
[null,null,null,null,null,null,null,null,null,null,null,{"$f":"IF(LEN(A83)=0,\"\",IF(LEN(E83)=0,\"HVI data needed\",INDEX('Staple Lookup'!$C$3:$C$100,MATCH(TRUE,'Staple Lookup'!$B$3:$B$100>=ROUND(E83,2),0))))","v":""},null,{"$f":"IF(OR(LEN(B83)=0,LEN(C83)=0,LEN(D83)=0),\"\",IF(AND(RIGHT(B83,1)*1=1,C83=8),-2000,IF(L83>=38,AB83,IF(L83<=31,AC83,AE83))))","v":""},{"$f":"IF(LEN(A83)=0,\"\",INDEX(Str!$C$1:$C$20,MATCH(ROUND(F83,1),Str!$A$1:$A$20,1)))","v":""},"","",{"$f":"IF(LEN(A83)=0,\"\",INDEX(Uni!$C$1:$C$20,MATCH(ROUND($G83,1),Uni!$A$1:$A$20,1)))","v":""},null,"",{"$f":"IF(LEN(A83)=0,\"\",IF(OR(LEN(B83)=0,LEN(C83)=0,LEN(D83)=0,LEN(E83)=0,LEN(F83)=0,LEN(G83)=0),\"no HVI data\",IF('Base Values'!$B$6+(SUM($N83:$R83)/100)<0,0,'Base Values'!$B$6+(SUM(N83:R83)/100))))","v":""},null,{"$f":"IF(LEN(A83)=0,\"\",IF(LEN(H83)=0,INDEX(Ext!$A$1:$G$5,MATCH(0,Ext!$A$1:$A$5,0),MATCH(H$7,Ext!$A$2:$E$2,0)),IF(AND(H83>=0,H83<3),INDEX(Ext!$A$1:$G$5,MATCH(H83,Ext!$A$1:$A$5,0),MATCH(H$7,Ext!$A$2:$E$2,0)),\"invalid entry\")))","v":""},{"$f":"IF(LEN(B83)=0,\"\",IF(LEN(I83)=0,INDEX(Ext!$A$1:$G$5,MATCH(0,Ext!$A$1:$A$5,0),MATCH(I$7,Ext!$A$2:$E$2,0)),IF(AND(I83>=0,I83<3),INDEX(Ext!$A$1:$G$5,MATCH(I83,Ext!$A$1:$A$5,0),MATCH(I$7,Ext!$A$2:$E$2,0)),\"invalid entry\")))","v":""},{"$f":"IF(LEN(C83)=0,\"\",IF(LEN(J83)=0,INDEX(Ext!$A$1:$G$5,MATCH(0,Ext!$A$1:$A$5,0),MATCH(J$7,Ext!$A$2:$E$2,0)),IF(AND(J83>=0,J83<3),INDEX(Ext!$A$1:$G$5,MATCH(J83,Ext!$A$1:$A$5,0),MATCH(J$7,Ext!$A$2:$E$2,0)),\"invalid entry\")))","v":""}]
[null,null,null,null,null,null,null,null,null,null,null,{"$f":"IF(LEN(A84)=0,\"\",IF(LEN(E84)=0,\"HVI data needed\",INDEX('Staple Lookup'!$C$3:$C$100,MATCH(TRUE,'Staple Lookup'!$B$3:$B$100>=ROUND(E84,2),0))))","v":""},null,{"$f":"IF(OR(LEN(B84)=0,LEN(C84)=0,LEN(D84)=0),\"\",IF(AND(RIGHT(B84,1)*1=1,C84=8),-2000,IF(L84>=38,AB84,IF(L84<=31,AC84,AE84))))","v":""},{"$f":"IF(LEN(A84)=0,\"\",INDEX(Str!$C$1:$C$20,MATCH(ROUND(F84,1),Str!$A$1:$A$20,1)))","v":""},"","",{"$f":"IF(LEN(A84)=0,\"\",INDEX(Uni!$C$1:$C$20,MATCH(ROUND($G84,1),Uni!$A$1:$A$20,1)))","v":""},null,"",{"$f":"IF(LEN(A84)=0,\"\",IF(OR(LEN(B84)=0,LEN(C84)=0,LEN(D84)=0,LEN(E84)=0,LEN(F84)=0,LEN(G84)=0),\"no HVI data\",IF('Base Values'!$B$6+(SUM($N84:$R84)/100)<0,0,'Base Values'!$B$6+(SUM(N84:R84)/100))))","v":""},null,{"$f":"IF(LEN(A84)=0,\"\",IF(LEN(H84)=0,INDEX(Ext!$A$1:$G$5,MATCH(0,Ext!$A$1:$A$5,0),MATCH(H$7,Ext!$A$2:$E$2,0)),IF(AND(H84>=0,H84<3),INDEX(Ext!$A$1:$G$5,MATCH(H84,Ext!$A$1:$A$5,0),MATCH(H$7,Ext!$A$2:$E$2,0)),\"invalid entry\")))","v":""},{"$f":"IF(LEN(B84)=0,\"\",IF(LEN(I84)=0,INDEX(Ext!$A$1:$G$5,MATCH(0,Ext!$A$1:$A$5,0),MATCH(I$7,Ext!$A$2:$E$2,0)),IF(AND(I84>=0,I84<3),INDEX(Ext!$A$1:$G$5,MATCH(I84,Ext!$A$1:$A$5,0),MATCH(I$7,Ext!$A$2:$E$2,0)),\"invalid entry\")))","v":""},{"$f":"IF(LEN(C84)=0,\"\",IF(LEN(J84)=0,INDEX(Ext!$A$1:$G$5,MATCH(0,Ext!$A$1:$A$5,0),MATCH(J$7,Ext!$A$2:$E$2,0)),IF(AND(J84>=0,J84<3),INDEX(Ext!$A$1:$G$5,MATCH(J84,Ext!$A$1:$A$5,0),MATCH(J$7,Ext!$A$2:$E$2,0)),\"invalid entry\")))","v":""}]
[null,null,null,null,null,null,null,null,null,null,null,{"$f":"IF(LEN(A85)=0,\"\",IF(LEN(E85)=0,\"HVI data needed\",INDEX('Staple Lookup'!$C$3:$C$100,MATCH(TRUE,'Staple Lookup'!$B$3:$B$100>=ROUND(E85,2),0))))","v":""},null,{"$f":"IF(OR(LEN(B85)=0,LEN(C85)=0,LEN(D85)=0),\"\",IF(AND(RIGHT(B85,1)*1=1,C85=8),-2000,IF(L85>=38,AB85,IF(L85<=31,AC85,AE85))))","v":""},{"$f":"IF(LEN(A85)=0,\"\",INDEX(Str!$C$1:$C$20,MATCH(ROUND(F85,1),Str!$A$1:$A$20,1)))","v":""},"","",{"$f":"IF(LEN(A85)=0,\"\",INDEX(Uni!$C$1:$C$20,MATCH(ROUND($G85,1),Uni!$A$1:$A$20,1)))","v":""},null,"",{"$f":"IF(LEN(A85)=0,\"\",IF(OR(LEN(B85)=0,LEN(C85)=0,LEN(D85)=0,LEN(E85)=0,LEN(F85)=0,LEN(G85)=0),\"no HVI data\",IF('Base Values'!$B$6+(SUM($N85:$R85)/100)<0,0,'Base Values'!$B$6+(SUM(N85:R85)/100))))","v":""},null,{"$f":"IF(LEN(A85)=0,\"\",IF(LEN(H85)=0,INDEX(Ext!$A$1:$G$5,MATCH(0,Ext!$A$1:$A$5,0),MATCH(H$7,Ext!$A$2:$E$2,0)),IF(AND(H85>=0,H85<3),INDEX(Ext!$A$1:$G$5,MATCH(H85,Ext!$A$1:$A$5,0),MATCH(H$7,Ext!$A$2:$E$2,0)),\"invalid entry\")))","v":""},{"$f":"IF(LEN(B85)=0,\"\",IF(LEN(I85)=0,INDEX(Ext!$A$1:$G$5,MATCH(0,Ext!$A$1:$A$5,0),MATCH(I$7,Ext!$A$2:$E$2,0)),IF(AND(I85>=0,I85<3),INDEX(Ext!$A$1:$G$5,MATCH(I85,Ext!$A$1:$A$5,0),MATCH(I$7,Ext!$A$2:$E$2,0)),\"invalid entry\")))","v":""},{"$f":"IF(LEN(C85)=0,\"\",IF(LEN(J85)=0,INDEX(Ext!$A$1:$G$5,MATCH(0,Ext!$A$1:$A$5,0),MATCH(J$7,Ext!$A$2:$E$2,0)),IF(AND(J85>=0,J85<3),INDEX(Ext!$A$1:$G$5,MATCH(J85,Ext!$A$1:$A$5,0),MATCH(J$7,Ext!$A$2:$E$2,0)),\"invalid entry\")))","v":""}]
[null,null,null,null,null,null,null,null,null,null,null,{"$f":"IF(LEN(A86)=0,\"\",IF(LEN(E86)=0,\"HVI data needed\",INDEX('Staple Lookup'!$C$3:$C$100,MATCH(TRUE,'Staple Lookup'!$B$3:$B$100>=ROUND(E86,2),0))))","v":""},null,{"$f":"IF(OR(LEN(B86)=0,LEN(C86)=0,LEN(D86)=0),\"\",IF(AND(RIGHT(B86,1)*1=1,C86=8),-2000,IF(L86>=38,AB86,IF(L86<=31,AC86,AE86))))","v":""},{"$f":"IF(LEN(A86)=0,\"\",INDEX(Str!$C$1:$C$20,MATCH(ROUND(F86,1),Str!$A$1:$A$20,1)))","v":""},"","",{"$f":"IF(LEN(A86)=0,\"\",INDEX(Uni!$C$1:$C$20,MATCH(ROUND($G86,1),Uni!$A$1:$A$20,1)))","v":""},null,"",{"$f":"IF(LEN(A86)=0,\"\",IF(OR(LEN(B86)=0,LEN(C86)=0,LEN(D86)=0,LEN(E86)=0,LEN(F86)=0,LEN(G86)=0),\"no HVI data\",IF('Base Values'!$B$6+(SUM($N86:$R86)/100)<0,0,'Base Values'!$B$6+(SUM(N86:R86)/100))))","v":""},null,{"$f":"IF(LEN(A86)=0,\"\",IF(LEN(H86)=0,INDEX(Ext!$A$1:$G$5,MATCH(0,Ext!$A$1:$A$5,0),MATCH(H$7,Ext!$A$2:$E$2,0)),IF(AND(H86>=0,H86<3),INDEX(Ext!$A$1:$G$5,MATCH(H86,Ext!$A$1:$A$5,0),MATCH(H$7,Ext!$A$2:$E$2,0)),\"invalid entry\")))","v":""},{"$f":"IF(LEN(B86)=0,\"\",IF(LEN(I86)=0,INDEX(Ext!$A$1:$G$5,MATCH(0,Ext!$A$1:$A$5,0),MATCH(I$7,Ext!$A$2:$E$2,0)),IF(AND(I86>=0,I86<3),INDEX(Ext!$A$1:$G$5,MATCH(I86,Ext!$A$1:$A$5,0),MATCH(I$7,Ext!$A$2:$E$2,0)),\"invalid entry\")))","v":""},{"$f":"IF(LEN(C86)=0,\"\",IF(LEN(J86)=0,INDEX(Ext!$A$1:$G$5,MATCH(0,Ext!$A$1:$A$5,0),MATCH(J$7,Ext!$A$2:$E$2,0)),IF(AND(J86>=0,J86<3),INDEX(Ext!$A$1:$G$5,MATCH(J86,Ext!$A$1:$A$5,0),MATCH(J$7,Ext!$A$2:$E$2,0)),\"invalid entry\")))","v":""}]
[null,null,null,null,null,null,null,null,null,null,null,{"$f":"IF(LEN(A87)=0,\"\",IF(LEN(E87)=0,\"HVI data needed\",INDEX('Staple Lookup'!$C$3:$C$100,MATCH(TRUE,'Staple Lookup'!$B$3:$B$100>=ROUND(E87,2),0))))","v":""},null,{"$f":"IF(OR(LEN(B87)=0,LEN(C87)=0,LEN(D87)=0),\"\",IF(AND(RIGHT(B87,1)*1=1,C87=8),-2000,IF(L87>=38,AB87,IF(L87<=31,AC87,AE87))))","v":""},{"$f":"IF(LEN(A87)=0,\"\",INDEX(Str!$C$1:$C$20,MATCH(ROUND(F87,1),Str!$A$1:$A$20,1)))","v":""},"","",{"$f":"IF(LEN(A87)=0,\"\",INDEX(Uni!$C$1:$C$20,MATCH(ROUND($G87,1),Uni!$A$1:$A$20,1)))","v":""},null,"",{"$f":"IF(LEN(A87)=0,\"\",IF(OR(LEN(B87)=0,LEN(C87)=0,LEN(D87)=0,LEN(E87)=0,LEN(F87)=0,LEN(G87)=0),\"no HVI data\",IF('Base Values'!$B$6+(SUM($N87:$R87)/100)<0,0,'Base Values'!$B$6+(SUM(N87:R87)/100))))","v":""},null,{"$f":"IF(LEN(A87)=0,\"\",IF(LEN(H87)=0,INDEX(Ext!$A$1:$G$5,MATCH(0,Ext!$A$1:$A$5,0),MATCH(H$7,Ext!$A$2:$E$2,0)),IF(AND(H87>=0,H87<3),INDEX(Ext!$A$1:$G$5,MATCH(H87,Ext!$A$1:$A$5,0),MATCH(H$7,Ext!$A$2:$E$2,0)),\"invalid entry\")))","v":""},{"$f":"IF(LEN(B87)=0,\"\",IF(LEN(I87)=0,INDEX(Ext!$A$1:$G$5,MATCH(0,Ext!$A$1:$A$5,0),MATCH(I$7,Ext!$A$2:$E$2,0)),IF(AND(I87>=0,I87<3),INDEX(Ext!$A$1:$G$5,MATCH(I87,Ext!$A$1:$A$5,0),MATCH(I$7,Ext!$A$2:$E$2,0)),\"invalid entry\")))","v":""},{"$f":"IF(LEN(C87)=0,\"\",IF(LEN(J87)=0,INDEX(Ext!$A$1:$G$5,MATCH(0,Ext!$A$1:$A$5,0),MATCH(J$7,Ext!$A$2:$E$2,0)),IF(AND(J87>=0,J87<3),INDEX(Ext!$A$1:$G$5,MATCH(J87,Ext!$A$1:$A$5,0),MATCH(J$7,Ext!$A$2:$E$2,0)),\"invalid entry\")))","v":""}]
[null,null,null,null,null,null,null,null,null,null,null,{"$f":"IF(LEN(A88)=0,\"\",IF(LEN(E88)=0,\"HVI data needed\",INDEX('Staple Lookup'!$C$3:$C$100,MATCH(TRUE,'Staple Lookup'!$B$3:$B$100>=ROUND(E88,2),0))))","v":""},null,{"$f":"IF(OR(LEN(B88)=0,LEN(C88)=0,LEN(D88)=0),\"\",IF(AND(RIGHT(B88,1)*1=1,C88=8),-2000,IF(L88>=38,AB88,IF(L88<=31,AC88,AE88))))","v":""},{"$f":"IF(LEN(A88)=0,\"\",INDEX(Str!$C$1:$C$20,MATCH(ROUND(F88,1),Str!$A$1:$A$20,1)))","v":""},"","",{"$f":"IF(LEN(A88)=0,\"\",INDEX(Uni!$C$1:$C$20,MATCH(ROUND($G88,1),Uni!$A$1:$A$20,1)))","v":""},null,"",{"$f":"IF(LEN(A88)=0,\"\",IF(OR(LEN(B88)=0,LEN(C88)=0,LEN(D88)=0,LEN(E88)=0,LEN(F88)=0,LEN(G88)=0),\"no HVI data\",IF('Base Values'!$B$6+(SUM($N88:$R88)/100)<0,0,'Base Values'!$B$6+(SUM(N88:R88)/100))))","v":""},null,{"$f":"IF(LEN(A88)=0,\"\",IF(LEN(H88)=0,INDEX(Ext!$A$1:$G$5,MATCH(0,Ext!$A$1:$A$5,0),MATCH(H$7,Ext!$A$2:$E$2,0)),IF(AND(H88>=0,H88<3),INDEX(Ext!$A$1:$G$5,MATCH(H88,Ext!$A$1:$A$5,0),MATCH(H$7,Ext!$A$2:$E$2,0)),\"invalid entry\")))","v":""},{"$f":"IF(LEN(B88)=0,\"\",IF(LEN(I88)=0,INDEX(Ext!$A$1:$G$5,MATCH(0,Ext!$A$1:$A$5,0),MATCH(I$7,Ext!$A$2:$E$2,0)),IF(AND(I88>=0,I88<3),INDEX(Ext!$A$1:$G$5,MATCH(I88,Ext!$A$1:$A$5,0),MATCH(I$7,Ext!$A$2:$E$2,0)),\"invalid entry\")))","v":""},{"$f":"IF(LEN(C88)=0,\"\",IF(LEN(J88)=0,INDEX(Ext!$A$1:$G$5,MATCH(0,Ext!$A$1:$A$5,0),MATCH(J$7,Ext!$A$2:$E$2,0)),IF(AND(J88>=0,J88<3),INDEX(Ext!$A$1:$G$5,MATCH(J88,Ext!$A$1:$A$5,0),MATCH(J$7,Ext!$A$2:$E$2,0)),\"invalid entry\")))","v":""}]
[null,null,null,null,null,null,null,null,null,null,null,{"$f":"IF(LEN(A89)=0,\"\",IF(LEN(E89)=0,\"HVI data needed\",INDEX('Staple Lookup'!$C$3:$C$100,MATCH(TRUE,'Staple Lookup'!$B$3:$B$100>=ROUND(E89,2),0))))","v":""},null,{"$f":"IF(OR(LEN(B89)=0,LEN(C89)=0,LEN(D89)=0),\"\",IF(AND(RIGHT(B89,1)*1=1,C89=8),-2000,IF(L89>=38,AB89,IF(L89<=31,AC89,AE89))))","v":""},{"$f":"IF(LEN(A89)=0,\"\",INDEX(Str!$C$1:$C$20,MATCH(ROUND(F89,1),Str!$A$1:$A$20,1)))","v":""},"","",{"$f":"IF(LEN(A89)=0,\"\",INDEX(Uni!$C$1:$C$20,MATCH(ROUND($G89,1),Uni!$A$1:$A$20,1)))","v":""},null,"",{"$f":"IF(LEN(A89)=0,\"\",IF(OR(LEN(B89)=0,LEN(C89)=0,LEN(D89)=0,LEN(E89)=0,LEN(F89)=0,LEN(G89)=0),\"no HVI data\",IF('Base Values'!$B$6+(SUM($N89:$R89)/100)<0,0,'Base Values'!$B$6+(SUM(N89:R89)/100))))","v":""},null,{"$f":"IF(LEN(A89)=0,\"\",IF(LEN(H89)=0,INDEX(Ext!$A$1:$G$5,MATCH(0,Ext!$A$1:$A$5,0),MATCH(H$7,Ext!$A$2:$E$2,0)),IF(AND(H89>=0,H89<3),INDEX(Ext!$A$1:$G$5,MATCH(H89,Ext!$A$1:$A$5,0),MATCH(H$7,Ext!$A$2:$E$2,0)),\"invalid entry\")))","v":""},{"$f":"IF(LEN(B89)=0,\"\",IF(LEN(I89)=0,INDEX(Ext!$A$1:$G$5,MATCH(0,Ext!$A$1:$A$5,0),MATCH(I$7,Ext!$A$2:$E$2,0)),IF(AND(I89>=0,I89<3),INDEX(Ext!$A$1:$G$5,MATCH(I89,Ext!$A$1:$A$5,0),MATCH(I$7,Ext!$A$2:$E$2,0)),\"invalid entry\")))","v":""},{"$f":"IF(LEN(C89)=0,\"\",IF(LEN(J89)=0,INDEX(Ext!$A$1:$G$5,MATCH(0,Ext!$A$1:$A$5,0),MATCH(J$7,Ext!$A$2:$E$2,0)),IF(AND(J89>=0,J89<3),INDEX(Ext!$A$1:$G$5,MATCH(J89,Ext!$A$1:$A$5,0),MATCH(J$7,Ext!$A$2:$E$2,0)),\"invalid entry\")))","v":""}]
[null,null,null,null,null,null,null,null,null,null,null,{"$f":"IF(LEN(A90)=0,\"\",IF(LEN(E90)=0,\"HVI data needed\",INDEX('Staple Lookup'!$C$3:$C$100,MATCH(TRUE,'Staple Lookup'!$B$3:$B$100>=ROUND(E90,2),0))))","v":""},null,{"$f":"IF(OR(LEN(B90)=0,LEN(C90)=0,LEN(D90)=0),\"\",IF(AND(RIGHT(B90,1)*1=1,C90=8),-2000,IF(L90>=38,AB90,IF(L90<=31,AC90,AE90))))","v":""},{"$f":"IF(LEN(A90)=0,\"\",INDEX(Str!$C$1:$C$20,MATCH(ROUND(F90,1),Str!$A$1:$A$20,1)))","v":""},"","",{"$f":"IF(LEN(A90)=0,\"\",INDEX(Uni!$C$1:$C$20,MATCH(ROUND($G90,1),Uni!$A$1:$A$20,1)))","v":""},null,"",{"$f":"IF(LEN(A90)=0,\"\",IF(OR(LEN(B90)=0,LEN(C90)=0,LEN(D90)=0,LEN(E90)=0,LEN(F90)=0,LEN(G90)=0),\"no HVI data\",IF('Base Values'!$B$6+(SUM($N90:$R90)/100)<0,0,'Base Values'!$B$6+(SUM(N90:R90)/100))))","v":""},null,{"$f":"IF(LEN(A90)=0,\"\",IF(LEN(H90)=0,INDEX(Ext!$A$1:$G$5,MATCH(0,Ext!$A$1:$A$5,0),MATCH(H$7,Ext!$A$2:$E$2,0)),IF(AND(H90>=0,H90<3),INDEX(Ext!$A$1:$G$5,MATCH(H90,Ext!$A$1:$A$5,0),MATCH(H$7,Ext!$A$2:$E$2,0)),\"invalid entry\")))","v":""},{"$f":"IF(LEN(B90)=0,\"\",IF(LEN(I90)=0,INDEX(Ext!$A$1:$G$5,MATCH(0,Ext!$A$1:$A$5,0),MATCH(I$7,Ext!$A$2:$E$2,0)),IF(AND(I90>=0,I90<3),INDEX(Ext!$A$1:$G$5,MATCH(I90,Ext!$A$1:$A$5,0),MATCH(I$7,Ext!$A$2:$E$2,0)),\"invalid entry\")))","v":""},{"$f":"IF(LEN(C90)=0,\"\",IF(LEN(J90)=0,INDEX(Ext!$A$1:$G$5,MATCH(0,Ext!$A$1:$A$5,0),MATCH(J$7,Ext!$A$2:$E$2,0)),IF(AND(J90>=0,J90<3),INDEX(Ext!$A$1:$G$5,MATCH(J90,Ext!$A$1:$A$5,0),MATCH(J$7,Ext!$A$2:$E$2,0)),\"invalid entry\")))","v":""}]
[null,null,null,null,null,null,null,null,null,null,null,{"$f":"IF(LEN(A91)=0,\"\",IF(LEN(E91)=0,\"HVI data needed\",INDEX('Staple Lookup'!$C$3:$C$100,MATCH(TRUE,'Staple Lookup'!$B$3:$B$100>=ROUND(E91,2),0))))","v":""},null,{"$f":"IF(OR(LEN(B91)=0,LEN(C91)=0,LEN(D91)=0),\"\",IF(AND(RIGHT(B91,1)*1=1,C91=8),-2000,IF(L91>=38,AB91,IF(L91<=31,AC91,AE91))))","v":""},{"$f":"IF(LEN(A91)=0,\"\",INDEX(Str!$C$1:$C$20,MATCH(ROUND(F91,1),Str!$A$1:$A$20,1)))","v":""},"","",{"$f":"IF(LEN(A91)=0,\"\",INDEX(Uni!$C$1:$C$20,MATCH(ROUND($G91,1),Uni!$A$1:$A$20,1)))","v":""},null,"",{"$f":"IF(LEN(A91)=0,\"\",IF(OR(LEN(B91)=0,LEN(C91)=0,LEN(D91)=0,LEN(E91)=0,LEN(F91)=0,LEN(G91)=0),\"no HVI data\",IF('Base Values'!$B$6+(SUM($N91:$R91)/100)<0,0,'Base Values'!$B$6+(SUM(N91:R91)/100))))","v":""},null,{"$f":"IF(LEN(A91)=0,\"\",IF(LEN(H91)=0,INDEX(Ext!$A$1:$G$5,MATCH(0,Ext!$A$1:$A$5,0),MATCH(H$7,Ext!$A$2:$E$2,0)),IF(AND(H91>=0,H91<3),INDEX(Ext!$A$1:$G$5,MATCH(H91,Ext!$A$1:$A$5,0),MATCH(H$7,Ext!$A$2:$E$2,0)),\"invalid entry\")))","v":""},{"$f":"IF(LEN(B91)=0,\"\",IF(LEN(I91)=0,INDEX(Ext!$A$1:$G$5,MATCH(0,Ext!$A$1:$A$5,0),MATCH(I$7,Ext!$A$2:$E$2,0)),IF(AND(I91>=0,I91<3),INDEX(Ext!$A$1:$G$5,MATCH(I91,Ext!$A$1:$A$5,0),MATCH(I$7,Ext!$A$2:$E$2,0)),\"invalid entry\")))","v":""},{"$f":"IF(LEN(C91)=0,\"\",IF(LEN(J91)=0,INDEX(Ext!$A$1:$G$5,MATCH(0,Ext!$A$1:$A$5,0),MATCH(J$7,Ext!$A$2:$E$2,0)),IF(AND(J91>=0,J91<3),INDEX(Ext!$A$1:$G$5,MATCH(J91,Ext!$A$1:$A$5,0),MATCH(J$7,Ext!$A$2:$E$2,0)),\"invalid entry\")))","v":""}]
[null,null,null,null,null,null,null,null,null,null,null,{"$f":"IF(LEN(A92)=0,\"\",IF(LEN(E92)=0,\"HVI data needed\",INDEX('Staple Lookup'!$C$3:$C$100,MATCH(TRUE,'Staple Lookup'!$B$3:$B$100>=ROUND(E92,2),0))))","v":""},null,{"$f":"IF(OR(LEN(B92)=0,LEN(C92)=0,LEN(D92)=0),\"\",IF(AND(RIGHT(B92,1)*1=1,C92=8),-2000,IF(L92>=38,AB92,IF(L92<=31,AC92,AE92))))","v":""},{"$f":"IF(LEN(A92)=0,\"\",INDEX(Str!$C$1:$C$20,MATCH(ROUND(F92,1),Str!$A$1:$A$20,1)))","v":""},"","",{"$f":"IF(LEN(A92)=0,\"\",INDEX(Uni!$C$1:$C$20,MATCH(ROUND($G92,1),Uni!$A$1:$A$20,1)))","v":""},null,"",{"$f":"IF(LEN(A92)=0,\"\",IF(OR(LEN(B92)=0,LEN(C92)=0,LEN(D92)=0,LEN(E92)=0,LEN(F92)=0,LEN(G92)=0),\"no HVI data\",IF('Base Values'!$B$6+(SUM($N92:$R92)/100)<0,0,'Base Values'!$B$6+(SUM(N92:R92)/100))))","v":""},null,{"$f":"IF(LEN(A92)=0,\"\",IF(LEN(H92)=0,INDEX(Ext!$A$1:$G$5,MATCH(0,Ext!$A$1:$A$5,0),MATCH(H$7,Ext!$A$2:$E$2,0)),IF(AND(H92>=0,H92<3),INDEX(Ext!$A$1:$G$5,MATCH(H92,Ext!$A$1:$A$5,0),MATCH(H$7,Ext!$A$2:$E$2,0)),\"invalid entry\")))","v":""},{"$f":"IF(LEN(B92)=0,\"\",IF(LEN(I92)=0,INDEX(Ext!$A$1:$G$5,MATCH(0,Ext!$A$1:$A$5,0),MATCH(I$7,Ext!$A$2:$E$2,0)),IF(AND(I92>=0,I92<3),INDEX(Ext!$A$1:$G$5,MATCH(I92,Ext!$A$1:$A$5,0),MATCH(I$7,Ext!$A$2:$E$2,0)),\"invalid entry\")))","v":""},{"$f":"IF(LEN(C92)=0,\"\",IF(LEN(J92)=0,INDEX(Ext!$A$1:$G$5,MATCH(0,Ext!$A$1:$A$5,0),MATCH(J$7,Ext!$A$2:$E$2,0)),IF(AND(J92>=0,J92<3),INDEX(Ext!$A$1:$G$5,MATCH(J92,Ext!$A$1:$A$5,0),MATCH(J$7,Ext!$A$2:$E$2,0)),\"invalid entry\")))","v":""}]
[null,null,null,null,null,null,null,null,null,null,null,{"$f":"IF(LEN(A93)=0,\"\",IF(LEN(E93)=0,\"HVI data needed\",INDEX('Staple Lookup'!$C$3:$C$100,MATCH(TRUE,'Staple Lookup'!$B$3:$B$100>=ROUND(E93,2),0))))","v":""},null,{"$f":"IF(OR(LEN(B93)=0,LEN(C93)=0,LEN(D93)=0),\"\",IF(AND(RIGHT(B93,1)*1=1,C93=8),-2000,IF(L93>=38,AB93,IF(L93<=31,AC93,AE93))))","v":""},{"$f":"IF(LEN(A93)=0,\"\",INDEX(Str!$C$1:$C$20,MATCH(ROUND(F93,1),Str!$A$1:$A$20,1)))","v":""},"","",{"$f":"IF(LEN(A93)=0,\"\",INDEX(Uni!$C$1:$C$20,MATCH(ROUND($G93,1),Uni!$A$1:$A$20,1)))","v":""},null,"",{"$f":"IF(LEN(A93)=0,\"\",IF(OR(LEN(B93)=0,LEN(C93)=0,LEN(D93)=0,LEN(E93)=0,LEN(F93)=0,LEN(G93)=0),\"no HVI data\",IF('Base Values'!$B$6+(SUM($N93:$R93)/100)<0,0,'Base Values'!$B$6+(SUM(N93:R93)/100))))","v":""},null,{"$f":"IF(LEN(A93)=0,\"\",IF(LEN(H93)=0,INDEX(Ext!$A$1:$G$5,MATCH(0,Ext!$A$1:$A$5,0),MATCH(H$7,Ext!$A$2:$E$2,0)),IF(AND(H93>=0,H93<3),INDEX(Ext!$A$1:$G$5,MATCH(H93,Ext!$A$1:$A$5,0),MATCH(H$7,Ext!$A$2:$E$2,0)),\"invalid entry\")))","v":""},{"$f":"IF(LEN(B93)=0,\"\",IF(LEN(I93)=0,INDEX(Ext!$A$1:$G$5,MATCH(0,Ext!$A$1:$A$5,0),MATCH(I$7,Ext!$A$2:$E$2,0)),IF(AND(I93>=0,I93<3),INDEX(Ext!$A$1:$G$5,MATCH(I93,Ext!$A$1:$A$5,0),MATCH(I$7,Ext!$A$2:$E$2,0)),\"invalid entry\")))","v":""},{"$f":"IF(LEN(C93)=0,\"\",IF(LEN(J93)=0,INDEX(Ext!$A$1:$G$5,MATCH(0,Ext!$A$1:$A$5,0),MATCH(J$7,Ext!$A$2:$E$2,0)),IF(AND(J93>=0,J93<3),INDEX(Ext!$A$1:$G$5,MATCH(J93,Ext!$A$1:$A$5,0),MATCH(J$7,Ext!$A$2:$E$2,0)),\"invalid entry\")))","v":""}]
[null,null,null,null,null,null,null,null,null,null,null,{"$f":"IF(LEN(A94)=0,\"\",IF(LEN(E94)=0,\"HVI data needed\",INDEX('Staple Lookup'!$C$3:$C$100,MATCH(TRUE,'Staple Lookup'!$B$3:$B$100>=ROUND(E94,2),0))))","v":""},null,{"$f":"IF(OR(LEN(B94)=0,LEN(C94)=0,LEN(D94)=0),\"\",IF(AND(RIGHT(B94,1)*1=1,C94=8),-2000,IF(L94>=38,AB94,IF(L94<=31,AC94,AE94))))","v":""},{"$f":"IF(LEN(A94)=0,\"\",INDEX(Str!$C$1:$C$20,MATCH(ROUND(F94,1),Str!$A$1:$A$20,1)))","v":""},"","",{"$f":"IF(LEN(A94)=0,\"\",INDEX(Uni!$C$1:$C$20,MATCH(ROUND($G94,1),Uni!$A$1:$A$20,1)))","v":""},null,"",{"$f":"IF(LEN(A94)=0,\"\",IF(OR(LEN(B94)=0,LEN(C94)=0,LEN(D94)=0,LEN(E94)=0,LEN(F94)=0,LEN(G94)=0),\"no HVI data\",IF('Base Values'!$B$6+(SUM($N94:$R94)/100)<0,0,'Base Values'!$B$6+(SUM(N94:R94)/100))))","v":""},null,{"$f":"IF(LEN(A94)=0,\"\",IF(LEN(H94)=0,INDEX(Ext!$A$1:$G$5,MATCH(0,Ext!$A$1:$A$5,0),MATCH(H$7,Ext!$A$2:$E$2,0)),IF(AND(H94>=0,H94<3),INDEX(Ext!$A$1:$G$5,MATCH(H94,Ext!$A$1:$A$5,0),MATCH(H$7,Ext!$A$2:$E$2,0)),\"invalid entry\")))","v":""},{"$f":"IF(LEN(B94)=0,\"\",IF(LEN(I94)=0,INDEX(Ext!$A$1:$G$5,MATCH(0,Ext!$A$1:$A$5,0),MATCH(I$7,Ext!$A$2:$E$2,0)),IF(AND(I94>=0,I94<3),INDEX(Ext!$A$1:$G$5,MATCH(I94,Ext!$A$1:$A$5,0),MATCH(I$7,Ext!$A$2:$E$2,0)),\"invalid entry\")))","v":""},{"$f":"IF(LEN(C94)=0,\"\",IF(LEN(J94)=0,INDEX(Ext!$A$1:$G$5,MATCH(0,Ext!$A$1:$A$5,0),MATCH(J$7,Ext!$A$2:$E$2,0)),IF(AND(J94>=0,J94<3),INDEX(Ext!$A$1:$G$5,MATCH(J94,Ext!$A$1:$A$5,0),MATCH(J$7,Ext!$A$2:$E$2,0)),\"invalid entry\")))","v":""}]
[null,null,null,null,null,null,null,null,null,null,null,{"$f":"IF(LEN(A95)=0,\"\",IF(LEN(E95)=0,\"HVI data needed\",INDEX('Staple Lookup'!$C$3:$C$100,MATCH(TRUE,'Staple Lookup'!$B$3:$B$100>=ROUND(E95,2),0))))","v":""},null,{"$f":"IF(OR(LEN(B95)=0,LEN(C95)=0,LEN(D95)=0),\"\",IF(AND(RIGHT(B95,1)*1=1,C95=8),-2000,IF(L95>=38,AB95,IF(L95<=31,AC95,AE95))))","v":""},{"$f":"IF(LEN(A95)=0,\"\",INDEX(Str!$C$1:$C$20,MATCH(ROUND(F95,1),Str!$A$1:$A$20,1)))","v":""},"","",{"$f":"IF(LEN(A95)=0,\"\",INDEX(Uni!$C$1:$C$20,MATCH(ROUND($G95,1),Uni!$A$1:$A$20,1)))","v":""},null,"",{"$f":"IF(LEN(A95)=0,\"\",IF(OR(LEN(B95)=0,LEN(C95)=0,LEN(D95)=0,LEN(E95)=0,LEN(F95)=0,LEN(G95)=0),\"no HVI data\",IF('Base Values'!$B$6+(SUM($N95:$R95)/100)<0,0,'Base Values'!$B$6+(SUM(N95:R95)/100))))","v":""},null,{"$f":"IF(LEN(A95)=0,\"\",IF(LEN(H95)=0,INDEX(Ext!$A$1:$G$5,MATCH(0,Ext!$A$1:$A$5,0),MATCH(H$7,Ext!$A$2:$E$2,0)),IF(AND(H95>=0,H95<3),INDEX(Ext!$A$1:$G$5,MATCH(H95,Ext!$A$1:$A$5,0),MATCH(H$7,Ext!$A$2:$E$2,0)),\"invalid entry\")))","v":""},{"$f":"IF(LEN(B95)=0,\"\",IF(LEN(I95)=0,INDEX(Ext!$A$1:$G$5,MATCH(0,Ext!$A$1:$A$5,0),MATCH(I$7,Ext!$A$2:$E$2,0)),IF(AND(I95>=0,I95<3),INDEX(Ext!$A$1:$G$5,MATCH(I95,Ext!$A$1:$A$5,0),MATCH(I$7,Ext!$A$2:$E$2,0)),\"invalid entry\")))","v":""},{"$f":"IF(LEN(C95)=0,\"\",IF(LEN(J95)=0,INDEX(Ext!$A$1:$G$5,MATCH(0,Ext!$A$1:$A$5,0),MATCH(J$7,Ext!$A$2:$E$2,0)),IF(AND(J95>=0,J95<3),INDEX(Ext!$A$1:$G$5,MATCH(J95,Ext!$A$1:$A$5,0),MATCH(J$7,Ext!$A$2:$E$2,0)),\"invalid entry\")))","v":""}]
[null,null,null,null,null,null,null,null,null,null,null,{"$f":"IF(LEN(A96)=0,\"\",IF(LEN(E96)=0,\"HVI data needed\",INDEX('Staple Lookup'!$C$3:$C$100,MATCH(TRUE,'Staple Lookup'!$B$3:$B$100>=ROUND(E96,2),0))))","v":""},null,{"$f":"IF(OR(LEN(B96)=0,LEN(C96)=0,LEN(D96)=0),\"\",IF(AND(RIGHT(B96,1)*1=1,C96=8),-2000,IF(L96>=38,AB96,IF(L96<=31,AC96,AE96))))","v":""},{"$f":"IF(LEN(A96)=0,\"\",INDEX(Str!$C$1:$C$20,MATCH(ROUND(F96,1),Str!$A$1:$A$20,1)))","v":""},"","",{"$f":"IF(LEN(A96)=0,\"\",INDEX(Uni!$C$1:$C$20,MATCH(ROUND($G96,1),Uni!$A$1:$A$20,1)))","v":""},null,"",{"$f":"IF(LEN(A96)=0,\"\",IF(OR(LEN(B96)=0,LEN(C96)=0,LEN(D96)=0,LEN(E96)=0,LEN(F96)=0,LEN(G96)=0),\"no HVI data\",IF('Base Values'!$B$6+(SUM($N96:$R96)/100)<0,0,'Base Values'!$B$6+(SUM(N96:R96)/100))))","v":""},null,{"$f":"IF(LEN(A96)=0,\"\",IF(LEN(H96)=0,INDEX(Ext!$A$1:$G$5,MATCH(0,Ext!$A$1:$A$5,0),MATCH(H$7,Ext!$A$2:$E$2,0)),IF(AND(H96>=0,H96<3),INDEX(Ext!$A$1:$G$5,MATCH(H96,Ext!$A$1:$A$5,0),MATCH(H$7,Ext!$A$2:$E$2,0)),\"invalid entry\")))","v":""},{"$f":"IF(LEN(B96)=0,\"\",IF(LEN(I96)=0,INDEX(Ext!$A$1:$G$5,MATCH(0,Ext!$A$1:$A$5,0),MATCH(I$7,Ext!$A$2:$E$2,0)),IF(AND(I96>=0,I96<3),INDEX(Ext!$A$1:$G$5,MATCH(I96,Ext!$A$1:$A$5,0),MATCH(I$7,Ext!$A$2:$E$2,0)),\"invalid entry\")))","v":""},{"$f":"IF(LEN(C96)=0,\"\",IF(LEN(J96)=0,INDEX(Ext!$A$1:$G$5,MATCH(0,Ext!$A$1:$A$5,0),MATCH(J$7,Ext!$A$2:$E$2,0)),IF(AND(J96>=0,J96<3),INDEX(Ext!$A$1:$G$5,MATCH(J96,Ext!$A$1:$A$5,0),MATCH(J$7,Ext!$A$2:$E$2,0)),\"invalid entry\")))","v":""}]
[null,null,null,null,null,null,null,null,null,null,null,{"$f":"IF(LEN(A97)=0,\"\",IF(LEN(E97)=0,\"HVI data needed\",INDEX('Staple Lookup'!$C$3:$C$100,MATCH(TRUE,'Staple Lookup'!$B$3:$B$100>=ROUND(E97,2),0))))","v":""},null,{"$f":"IF(OR(LEN(B97)=0,LEN(C97)=0,LEN(D97)=0),\"\",IF(AND(RIGHT(B97,1)*1=1,C97=8),-2000,IF(L97>=38,AB97,IF(L97<=31,AC97,AE97))))","v":""},{"$f":"IF(LEN(A97)=0,\"\",INDEX(Str!$C$1:$C$20,MATCH(ROUND(F97,1),Str!$A$1:$A$20,1)))","v":""},"","",{"$f":"IF(LEN(A97)=0,\"\",INDEX(Uni!$C$1:$C$20,MATCH(ROUND($G97,1),Uni!$A$1:$A$20,1)))","v":""},null,"",{"$f":"IF(LEN(A97)=0,\"\",IF(OR(LEN(B97)=0,LEN(C97)=0,LEN(D97)=0,LEN(E97)=0,LEN(F97)=0,LEN(G97)=0),\"no HVI data\",IF('Base Values'!$B$6+(SUM($N97:$R97)/100)<0,0,'Base Values'!$B$6+(SUM(N97:R97)/100))))","v":""},null,{"$f":"IF(LEN(A97)=0,\"\",IF(LEN(H97)=0,INDEX(Ext!$A$1:$G$5,MATCH(0,Ext!$A$1:$A$5,0),MATCH(H$7,Ext!$A$2:$E$2,0)),IF(AND(H97>=0,H97<3),INDEX(Ext!$A$1:$G$5,MATCH(H97,Ext!$A$1:$A$5,0),MATCH(H$7,Ext!$A$2:$E$2,0)),\"invalid entry\")))","v":""},{"$f":"IF(LEN(B97)=0,\"\",IF(LEN(I97)=0,INDEX(Ext!$A$1:$G$5,MATCH(0,Ext!$A$1:$A$5,0),MATCH(I$7,Ext!$A$2:$E$2,0)),IF(AND(I97>=0,I97<3),INDEX(Ext!$A$1:$G$5,MATCH(I97,Ext!$A$1:$A$5,0),MATCH(I$7,Ext!$A$2:$E$2,0)),\"invalid entry\")))","v":""},{"$f":"IF(LEN(C97)=0,\"\",IF(LEN(J97)=0,INDEX(Ext!$A$1:$G$5,MATCH(0,Ext!$A$1:$A$5,0),MATCH(J$7,Ext!$A$2:$E$2,0)),IF(AND(J97>=0,J97<3),INDEX(Ext!$A$1:$G$5,MATCH(J97,Ext!$A$1:$A$5,0),MATCH(J$7,Ext!$A$2:$E$2,0)),\"invalid entry\")))","v":""}]
[null,null,null,null,null,null,null,null,null,null,null,{"$f":"IF(LEN(A98)=0,\"\",IF(LEN(E98)=0,\"HVI data needed\",INDEX('Staple Lookup'!$C$3:$C$100,MATCH(TRUE,'Staple Lookup'!$B$3:$B$100>=ROUND(E98,2),0))))","v":""},null,{"$f":"IF(OR(LEN(B98)=0,LEN(C98)=0,LEN(D98)=0),\"\",IF(AND(RIGHT(B98,1)*1=1,C98=8),-2000,IF(L98>=38,AB98,IF(L98<=31,AC98,AE98))))","v":""},{"$f":"IF(LEN(A98)=0,\"\",INDEX(Str!$C$1:$C$20,MATCH(ROUND(F98,1),Str!$A$1:$A$20,1)))","v":""},"","",{"$f":"IF(LEN(A98)=0,\"\",INDEX(Uni!$C$1:$C$20,MATCH(ROUND($G98,1),Uni!$A$1:$A$20,1)))","v":""},null,"",{"$f":"IF(LEN(A98)=0,\"\",IF(OR(LEN(B98)=0,LEN(C98)=0,LEN(D98)=0,LEN(E98)=0,LEN(F98)=0,LEN(G98)=0),\"no HVI data\",IF('Base Values'!$B$6+(SUM($N98:$R98)/100)<0,0,'Base Values'!$B$6+(SUM(N98:R98)/100))))","v":""},null,{"$f":"IF(LEN(A98)=0,\"\",IF(LEN(H98)=0,INDEX(Ext!$A$1:$G$5,MATCH(0,Ext!$A$1:$A$5,0),MATCH(H$7,Ext!$A$2:$E$2,0)),IF(AND(H98>=0,H98<3),INDEX(Ext!$A$1:$G$5,MATCH(H98,Ext!$A$1:$A$5,0),MATCH(H$7,Ext!$A$2:$E$2,0)),\"invalid entry\")))","v":""},{"$f":"IF(LEN(B98)=0,\"\",IF(LEN(I98)=0,INDEX(Ext!$A$1:$G$5,MATCH(0,Ext!$A$1:$A$5,0),MATCH(I$7,Ext!$A$2:$E$2,0)),IF(AND(I98>=0,I98<3),INDEX(Ext!$A$1:$G$5,MATCH(I98,Ext!$A$1:$A$5,0),MATCH(I$7,Ext!$A$2:$E$2,0)),\"invalid entry\")))","v":""},{"$f":"IF(LEN(C98)=0,\"\",IF(LEN(J98)=0,INDEX(Ext!$A$1:$G$5,MATCH(0,Ext!$A$1:$A$5,0),MATCH(J$7,Ext!$A$2:$E$2,0)),IF(AND(J98>=0,J98<3),INDEX(Ext!$A$1:$G$5,MATCH(J98,Ext!$A$1:$A$5,0),MATCH(J$7,Ext!$A$2:$E$2,0)),\"invalid entry\")))","v":""}]
[null,null,null,null,null,null,null,null,null,null,null,{"$f":"IF(LEN(A99)=0,\"\",IF(LEN(E99)=0,\"HVI data needed\",INDEX('Staple Lookup'!$C$3:$C$100,MATCH(TRUE,'Staple Lookup'!$B$3:$B$100>=ROUND(E99,2),0))))","v":""},null,{"$f":"IF(OR(LEN(B99)=0,LEN(C99)=0,LEN(D99)=0),\"\",IF(AND(RIGHT(B99,1)*1=1,C99=8),-2000,IF(L99>=38,AB99,IF(L99<=31,AC99,AE99))))","v":""},{"$f":"IF(LEN(A99)=0,\"\",INDEX(Str!$C$1:$C$20,MATCH(ROUND(F99,1),Str!$A$1:$A$20,1)))","v":""},"","",{"$f":"IF(LEN(A99)=0,\"\",INDEX(Uni!$C$1:$C$20,MATCH(ROUND($G99,1),Uni!$A$1:$A$20,1)))","v":""},null,"",{"$f":"IF(LEN(A99)=0,\"\",IF(OR(LEN(B99)=0,LEN(C99)=0,LEN(D99)=0,LEN(E99)=0,LEN(F99)=0,LEN(G99)=0),\"no HVI data\",IF('Base Values'!$B$6+(SUM($N99:$R99)/100)<0,0,'Base Values'!$B$6+(SUM(N99:R99)/100))))","v":""},null,{"$f":"IF(LEN(A99)=0,\"\",IF(LEN(H99)=0,INDEX(Ext!$A$1:$G$5,MATCH(0,Ext!$A$1:$A$5,0),MATCH(H$7,Ext!$A$2:$E$2,0)),IF(AND(H99>=0,H99<3),INDEX(Ext!$A$1:$G$5,MATCH(H99,Ext!$A$1:$A$5,0),MATCH(H$7,Ext!$A$2:$E$2,0)),\"invalid entry\")))","v":""},{"$f":"IF(LEN(B99)=0,\"\",IF(LEN(I99)=0,INDEX(Ext!$A$1:$G$5,MATCH(0,Ext!$A$1:$A$5,0),MATCH(I$7,Ext!$A$2:$E$2,0)),IF(AND(I99>=0,I99<3),INDEX(Ext!$A$1:$G$5,MATCH(I99,Ext!$A$1:$A$5,0),MATCH(I$7,Ext!$A$2:$E$2,0)),\"invalid entry\")))","v":""},{"$f":"IF(LEN(C99)=0,\"\",IF(LEN(J99)=0,INDEX(Ext!$A$1:$G$5,MATCH(0,Ext!$A$1:$A$5,0),MATCH(J$7,Ext!$A$2:$E$2,0)),IF(AND(J99>=0,J99<3),INDEX(Ext!$A$1:$G$5,MATCH(J99,Ext!$A$1:$A$5,0),MATCH(J$7,Ext!$A$2:$E$2,0)),\"invalid entry\")))","v":""}]
[null,null,null,null,null,null,null,null,null,null,null,{"$f":"IF(LEN(A100)=0,\"\",IF(LEN(E100)=0,\"HVI data needed\",INDEX('Staple Lookup'!$C$3:$C$100,MATCH(TRUE,'Staple Lookup'!$B$3:$B$100>=ROUND(E100,2),0))))","v":""},null,{"$f":"IF(OR(LEN(B100)=0,LEN(C100)=0,LEN(D100)=0),\"\",IF(AND(RIGHT(B100,1)*1=1,C100=8),-2000,IF(L100>=38,AB100,IF(L100<=31,AC100,AE100))))","v":""},{"$f":"IF(LEN(A100)=0,\"\",INDEX(Str!$C$1:$C$20,MATCH(ROUND(F100,1),Str!$A$1:$A$20,1)))","v":""},"","",{"$f":"IF(LEN(A100)=0,\"\",INDEX(Uni!$C$1:$C$20,MATCH(ROUND($G100,1),Uni!$A$1:$A$20,1)))","v":""},null,"",{"$f":"IF(LEN(A100)=0,\"\",IF(OR(LEN(B100)=0,LEN(C100)=0,LEN(D100)=0,LEN(E100)=0,LEN(F100)=0,LEN(G100)=0),\"no HVI data\",IF('Base Values'!$B$6+(SUM($N100:$R100)/100)<0,0,'Base Values'!$B$6+(SUM(N100:R100)/100))))","v":""},null,{"$f":"IF(LEN(A100)=0,\"\",IF(LEN(H100)=0,INDEX(Ext!$A$1:$G$5,MATCH(0,Ext!$A$1:$A$5,0),MATCH(H$7,Ext!$A$2:$E$2,0)),IF(AND(H100>=0,H100<3),INDEX(Ext!$A$1:$G$5,MATCH(H100,Ext!$A$1:$A$5,0),MATCH(H$7,Ext!$A$2:$E$2,0)),\"invalid entry\")))","v":""},{"$f":"IF(LEN(B100)=0,\"\",IF(LEN(I100)=0,INDEX(Ext!$A$1:$G$5,MATCH(0,Ext!$A$1:$A$5,0),MATCH(I$7,Ext!$A$2:$E$2,0)),IF(AND(I100>=0,I100<3),INDEX(Ext!$A$1:$G$5,MATCH(I100,Ext!$A$1:$A$5,0),MATCH(I$7,Ext!$A$2:$E$2,0)),\"invalid entry\")))","v":""},{"$f":"IF(LEN(C100)=0,\"\",IF(LEN(J100)=0,INDEX(Ext!$A$1:$G$5,MATCH(0,Ext!$A$1:$A$5,0),MATCH(J$7,Ext!$A$2:$E$2,0)),IF(AND(J100>=0,J100<3),INDEX(Ext!$A$1:$G$5,MATCH(J100,Ext!$A$1:$A$5,0),MATCH(J$7,Ext!$A$2:$E$2,0)),\"invalid entry\")))","v":""}]
[null,null,null,null,null,null,null,null,null,null,null,{"$f":"IF(LEN(A101)=0,\"\",IF(LEN(E101)=0,\"HVI data needed\",INDEX('Staple Lookup'!$C$3:$C$100,MATCH(TRUE,'Staple Lookup'!$B$3:$B$100>=ROUND(E101,2),0))))","v":""},null,{"$f":"IF(OR(LEN(B101)=0,LEN(C101)=0,LEN(D101)=0),\"\",IF(AND(RIGHT(B101,1)*1=1,C101=8),-2000,IF(L101>=38,AB101,IF(L101<=31,AC101,AE101))))","v":""},{"$f":"IF(LEN(A101)=0,\"\",INDEX(Str!$C$1:$C$20,MATCH(ROUND(F101,1),Str!$A$1:$A$20,1)))","v":""},"","",{"$f":"IF(LEN(A101)=0,\"\",INDEX(Uni!$C$1:$C$20,MATCH(ROUND($G101,1),Uni!$A$1:$A$20,1)))","v":""},null,"",{"$f":"IF(LEN(A101)=0,\"\",IF(OR(LEN(B101)=0,LEN(C101)=0,LEN(D101)=0,LEN(E101)=0,LEN(F101)=0,LEN(G101)=0),\"no HVI data\",IF('Base Values'!$B$6+(SUM($N101:$R101)/100)<0,0,'Base Values'!$B$6+(SUM(N101:R101)/100))))","v":""},null,{"$f":"IF(LEN(A101)=0,\"\",IF(LEN(H101)=0,INDEX(Ext!$A$1:$G$5,MATCH(0,Ext!$A$1:$A$5,0),MATCH(H$7,Ext!$A$2:$E$2,0)),IF(AND(H101>=0,H101<3),INDEX(Ext!$A$1:$G$5,MATCH(H101,Ext!$A$1:$A$5,0),MATCH(H$7,Ext!$A$2:$E$2,0)),\"invalid entry\")))","v":""},{"$f":"IF(LEN(B101)=0,\"\",IF(LEN(I101)=0,INDEX(Ext!$A$1:$G$5,MATCH(0,Ext!$A$1:$A$5,0),MATCH(I$7,Ext!$A$2:$E$2,0)),IF(AND(I101>=0,I101<3),INDEX(Ext!$A$1:$G$5,MATCH(I101,Ext!$A$1:$A$5,0),MATCH(I$7,Ext!$A$2:$E$2,0)),\"invalid entry\")))","v":""},{"$f":"IF(LEN(C101)=0,\"\",IF(LEN(J101)=0,INDEX(Ext!$A$1:$G$5,MATCH(0,Ext!$A$1:$A$5,0),MATCH(J$7,Ext!$A$2:$E$2,0)),IF(AND(J101>=0,J101<3),INDEX(Ext!$A$1:$G$5,MATCH(J101,Ext!$A$1:$A$5,0),MATCH(J$7,Ext!$A$2:$E$2,0)),\"invalid entry\")))","v":""}]
[null,null,null,null,null,null,null,null,null,null,null,{"$f":"IF(LEN(A102)=0,\"\",IF(LEN(E102)=0,\"HVI data needed\",INDEX('Staple Lookup'!$C$3:$C$100,MATCH(TRUE,'Staple Lookup'!$B$3:$B$100>=ROUND(E102,2),0))))","v":""},null,{"$f":"IF(OR(LEN(B102)=0,LEN(C102)=0,LEN(D102)=0),\"\",IF(AND(RIGHT(B102,1)*1=1,C102=8),-2000,IF(L102>=38,AB102,IF(L102<=31,AC102,AE102))))","v":""},{"$f":"IF(LEN(A102)=0,\"\",INDEX(Str!$C$1:$C$20,MATCH(ROUND(F102,1),Str!$A$1:$A$20,1)))","v":""},"","",{"$f":"IF(LEN(A102)=0,\"\",INDEX(Uni!$C$1:$C$20,MATCH(ROUND($G102,1),Uni!$A$1:$A$20,1)))","v":""},null,"",{"$f":"IF(LEN(A102)=0,\"\",IF(OR(LEN(B102)=0,LEN(C102)=0,LEN(D102)=0,LEN(E102)=0,LEN(F102)=0,LEN(G102)=0),\"no HVI data\",IF('Base Values'!$B$6+(SUM($N102:$R102)/100)<0,0,'Base Values'!$B$6+(SUM(N102:R102)/100))))","v":""},null,{"$f":"IF(LEN(A102)=0,\"\",IF(LEN(H102)=0,INDEX(Ext!$A$1:$G$5,MATCH(0,Ext!$A$1:$A$5,0),MATCH(H$7,Ext!$A$2:$E$2,0)),IF(AND(H102>=0,H102<3),INDEX(Ext!$A$1:$G$5,MATCH(H102,Ext!$A$1:$A$5,0),MATCH(H$7,Ext!$A$2:$E$2,0)),\"invalid entry\")))","v":""},{"$f":"IF(LEN(B102)=0,\"\",IF(LEN(I102)=0,INDEX(Ext!$A$1:$G$5,MATCH(0,Ext!$A$1:$A$5,0),MATCH(I$7,Ext!$A$2:$E$2,0)),IF(AND(I102>=0,I102<3),INDEX(Ext!$A$1:$G$5,MATCH(I102,Ext!$A$1:$A$5,0),MATCH(I$7,Ext!$A$2:$E$2,0)),\"invalid entry\")))","v":""},{"$f":"IF(LEN(C102)=0,\"\",IF(LEN(J102)=0,INDEX(Ext!$A$1:$G$5,MATCH(0,Ext!$A$1:$A$5,0),MATCH(J$7,Ext!$A$2:$E$2,0)),IF(AND(J102>=0,J102<3),INDEX(Ext!$A$1:$G$5,MATCH(J102,Ext!$A$1:$A$5,0),MATCH(J$7,Ext!$A$2:$E$2,0)),\"invalid entry\")))","v":""}]
[null,null,null,null,null,null,null,null,null,null,null,{"$f":"IF(LEN(A103)=0,\"\",IF(LEN(E103)=0,\"HVI data needed\",INDEX('Staple Lookup'!$C$3:$C$100,MATCH(TRUE,'Staple Lookup'!$B$3:$B$100>=ROUND(E103,2),0))))","v":""},null,{"$f":"IF(OR(LEN(B103)=0,LEN(C103)=0,LEN(D103)=0),\"\",IF(AND(RIGHT(B103,1)*1=1,C103=8),-2000,IF(L103>=38,AB103,IF(L103<=31,AC103,AE103))))","v":""},{"$f":"IF(LEN(A103)=0,\"\",INDEX(Str!$C$1:$C$20,MATCH(ROUND(F103,1),Str!$A$1:$A$20,1)))","v":""},"","",{"$f":"IF(LEN(A103)=0,\"\",INDEX(Uni!$C$1:$C$20,MATCH(ROUND($G103,1),Uni!$A$1:$A$20,1)))","v":""},null,"",{"$f":"IF(LEN(A103)=0,\"\",IF(OR(LEN(B103)=0,LEN(C103)=0,LEN(D103)=0,LEN(E103)=0,LEN(F103)=0,LEN(G103)=0),\"no HVI data\",IF('Base Values'!$B$6+(SUM($N103:$R103)/100)<0,0,'Base Values'!$B$6+(SUM(N103:R103)/100))))","v":""},null,{"$f":"IF(LEN(A103)=0,\"\",IF(LEN(H103)=0,INDEX(Ext!$A$1:$G$5,MATCH(0,Ext!$A$1:$A$5,0),MATCH(H$7,Ext!$A$2:$E$2,0)),IF(AND(H103>=0,H103<3),INDEX(Ext!$A$1:$G$5,MATCH(H103,Ext!$A$1:$A$5,0),MATCH(H$7,Ext!$A$2:$E$2,0)),\"invalid entry\")))","v":""},{"$f":"IF(LEN(B103)=0,\"\",IF(LEN(I103)=0,INDEX(Ext!$A$1:$G$5,MATCH(0,Ext!$A$1:$A$5,0),MATCH(I$7,Ext!$A$2:$E$2,0)),IF(AND(I103>=0,I103<3),INDEX(Ext!$A$1:$G$5,MATCH(I103,Ext!$A$1:$A$5,0),MATCH(I$7,Ext!$A$2:$E$2,0)),\"invalid entry\")))","v":""},{"$f":"IF(LEN(C103)=0,\"\",IF(LEN(J103)=0,INDEX(Ext!$A$1:$G$5,MATCH(0,Ext!$A$1:$A$5,0),MATCH(J$7,Ext!$A$2:$E$2,0)),IF(AND(J103>=0,J103<3),INDEX(Ext!$A$1:$G$5,MATCH(J103,Ext!$A$1:$A$5,0),MATCH(J$7,Ext!$A$2:$E$2,0)),\"invalid entry\")))","v":""}]
[null,null,null,null,null,null,null,null,null,null,null,{"$f":"IF(LEN(A104)=0,\"\",IF(LEN(E104)=0,\"HVI data needed\",INDEX('Staple Lookup'!$C$3:$C$100,MATCH(TRUE,'Staple Lookup'!$B$3:$B$100>=ROUND(E104,2),0))))","v":""},null,{"$f":"IF(OR(LEN(B104)=0,LEN(C104)=0,LEN(D104)=0),\"\",IF(AND(RIGHT(B104,1)*1=1,C104=8),-2000,IF(L104>=38,AB104,IF(L104<=31,AC104,AE104))))","v":""},{"$f":"IF(LEN(A104)=0,\"\",INDEX(Str!$C$1:$C$20,MATCH(ROUND(F104,1),Str!$A$1:$A$20,1)))","v":""},"","",{"$f":"IF(LEN(A104)=0,\"\",INDEX(Uni!$C$1:$C$20,MATCH(ROUND($G104,1),Uni!$A$1:$A$20,1)))","v":""},null,"",{"$f":"IF(LEN(A104)=0,\"\",IF(OR(LEN(B104)=0,LEN(C104)=0,LEN(D104)=0,LEN(E104)=0,LEN(F104)=0,LEN(G104)=0),\"no HVI data\",IF('Base Values'!$B$6+(SUM($N104:$R104)/100)<0,0,'Base Values'!$B$6+(SUM(N104:R104)/100))))","v":""},null,{"$f":"IF(LEN(A104)=0,\"\",IF(LEN(H104)=0,INDEX(Ext!$A$1:$G$5,MATCH(0,Ext!$A$1:$A$5,0),MATCH(H$7,Ext!$A$2:$E$2,0)),IF(AND(H104>=0,H104<3),INDEX(Ext!$A$1:$G$5,MATCH(H104,Ext!$A$1:$A$5,0),MATCH(H$7,Ext!$A$2:$E$2,0)),\"invalid entry\")))","v":""},{"$f":"IF(LEN(B104)=0,\"\",IF(LEN(I104)=0,INDEX(Ext!$A$1:$G$5,MATCH(0,Ext!$A$1:$A$5,0),MATCH(I$7,Ext!$A$2:$E$2,0)),IF(AND(I104>=0,I104<3),INDEX(Ext!$A$1:$G$5,MATCH(I104,Ext!$A$1:$A$5,0),MATCH(I$7,Ext!$A$2:$E$2,0)),\"invalid entry\")))","v":""},{"$f":"IF(LEN(C104)=0,\"\",IF(LEN(J104)=0,INDEX(Ext!$A$1:$G$5,MATCH(0,Ext!$A$1:$A$5,0),MATCH(J$7,Ext!$A$2:$E$2,0)),IF(AND(J104>=0,J104<3),INDEX(Ext!$A$1:$G$5,MATCH(J104,Ext!$A$1:$A$5,0),MATCH(J$7,Ext!$A$2:$E$2,0)),\"invalid entry\")))","v":""}]
[null,null,null,null,null,null,null,null,null,null,null,{"$f":"IF(LEN(A105)=0,\"\",IF(LEN(E105)=0,\"HVI data needed\",INDEX('Staple Lookup'!$C$3:$C$100,MATCH(TRUE,'Staple Lookup'!$B$3:$B$100>=ROUND(E105,2),0))))","v":""},null,{"$f":"IF(OR(LEN(B105)=0,LEN(C105)=0,LEN(D105)=0),\"\",IF(AND(RIGHT(B105,1)*1=1,C105=8),-2000,IF(L105>=38,AB105,IF(L105<=31,AC105,AE105))))","v":""},{"$f":"IF(LEN(A105)=0,\"\",INDEX(Str!$C$1:$C$20,MATCH(ROUND(F105,1),Str!$A$1:$A$20,1)))","v":""},"","",{"$f":"IF(LEN(A105)=0,\"\",INDEX(Uni!$C$1:$C$20,MATCH(ROUND($G105,1),Uni!$A$1:$A$20,1)))","v":""},null,"",{"$f":"IF(LEN(A105)=0,\"\",IF(OR(LEN(B105)=0,LEN(C105)=0,LEN(D105)=0,LEN(E105)=0,LEN(F105)=0,LEN(G105)=0),\"no HVI data\",IF('Base Values'!$B$6+(SUM($N105:$R105)/100)<0,0,'Base Values'!$B$6+(SUM(N105:R105)/100))))","v":""},null,{"$f":"IF(LEN(A105)=0,\"\",IF(LEN(H105)=0,INDEX(Ext!$A$1:$G$5,MATCH(0,Ext!$A$1:$A$5,0),MATCH(H$7,Ext!$A$2:$E$2,0)),IF(AND(H105>=0,H105<3),INDEX(Ext!$A$1:$G$5,MATCH(H105,Ext!$A$1:$A$5,0),MATCH(H$7,Ext!$A$2:$E$2,0)),\"invalid entry\")))","v":""},{"$f":"IF(LEN(B105)=0,\"\",IF(LEN(I105)=0,INDEX(Ext!$A$1:$G$5,MATCH(0,Ext!$A$1:$A$5,0),MATCH(I$7,Ext!$A$2:$E$2,0)),IF(AND(I105>=0,I105<3),INDEX(Ext!$A$1:$G$5,MATCH(I105,Ext!$A$1:$A$5,0),MATCH(I$7,Ext!$A$2:$E$2,0)),\"invalid entry\")))","v":""},{"$f":"IF(LEN(C105)=0,\"\",IF(LEN(J105)=0,INDEX(Ext!$A$1:$G$5,MATCH(0,Ext!$A$1:$A$5,0),MATCH(J$7,Ext!$A$2:$E$2,0)),IF(AND(J105>=0,J105<3),INDEX(Ext!$A$1:$G$5,MATCH(J105,Ext!$A$1:$A$5,0),MATCH(J$7,Ext!$A$2:$E$2,0)),\"invalid entry\")))","v":""}]
[null,null,null,null,null,null,null,null,null,null,null,{"$f":"IF(LEN(A106)=0,\"\",IF(LEN(E106)=0,\"HVI data needed\",INDEX('Staple Lookup'!$C$3:$C$100,MATCH(TRUE,'Staple Lookup'!$B$3:$B$100>=ROUND(E106,2),0))))","v":""},null,{"$f":"IF(OR(LEN(B106)=0,LEN(C106)=0,LEN(D106)=0),\"\",IF(AND(RIGHT(B106,1)*1=1,C106=8),-2000,IF(L106>=38,AB106,IF(L106<=31,AC106,AE106))))","v":""},{"$f":"IF(LEN(A106)=0,\"\",INDEX(Str!$C$1:$C$20,MATCH(ROUND(F106,1),Str!$A$1:$A$20,1)))","v":""},"","",{"$f":"IF(LEN(A106)=0,\"\",INDEX(Uni!$C$1:$C$20,MATCH(ROUND($G106,1),Uni!$A$1:$A$20,1)))","v":""},null,"",{"$f":"IF(LEN(A106)=0,\"\",IF(OR(LEN(B106)=0,LEN(C106)=0,LEN(D106)=0,LEN(E106)=0,LEN(F106)=0,LEN(G106)=0),\"no HVI data\",IF('Base Values'!$B$6+(SUM($N106:$R106)/100)<0,0,'Base Values'!$B$6+(SUM(N106:R106)/100))))","v":""},null,{"$f":"IF(LEN(A106)=0,\"\",IF(LEN(H106)=0,INDEX(Ext!$A$1:$G$5,MATCH(0,Ext!$A$1:$A$5,0),MATCH(H$7,Ext!$A$2:$E$2,0)),IF(AND(H106>=0,H106<3),INDEX(Ext!$A$1:$G$5,MATCH(H106,Ext!$A$1:$A$5,0),MATCH(H$7,Ext!$A$2:$E$2,0)),\"invalid entry\")))","v":""},{"$f":"IF(LEN(B106)=0,\"\",IF(LEN(I106)=0,INDEX(Ext!$A$1:$G$5,MATCH(0,Ext!$A$1:$A$5,0),MATCH(I$7,Ext!$A$2:$E$2,0)),IF(AND(I106>=0,I106<3),INDEX(Ext!$A$1:$G$5,MATCH(I106,Ext!$A$1:$A$5,0),MATCH(I$7,Ext!$A$2:$E$2,0)),\"invalid entry\")))","v":""},{"$f":"IF(LEN(C106)=0,\"\",IF(LEN(J106)=0,INDEX(Ext!$A$1:$G$5,MATCH(0,Ext!$A$1:$A$5,0),MATCH(J$7,Ext!$A$2:$E$2,0)),IF(AND(J106>=0,J106<3),INDEX(Ext!$A$1:$G$5,MATCH(J106,Ext!$A$1:$A$5,0),MATCH(J$7,Ext!$A$2:$E$2,0)),\"invalid entry\")))","v":""}]
[null,null,null,null,null,null,null,null,null,null,null,{"$f":"IF(LEN(A107)=0,\"\",IF(LEN(E107)=0,\"HVI data needed\",INDEX('Staple Lookup'!$C$3:$C$100,MATCH(TRUE,'Staple Lookup'!$B$3:$B$100>=ROUND(E107,2),0))))","v":""},null,{"$f":"IF(OR(LEN(B107)=0,LEN(C107)=0,LEN(D107)=0),\"\",IF(AND(RIGHT(B107,1)*1=1,C107=8),-2000,IF(L107>=38,AB107,IF(L107<=31,AC107,AE107))))","v":""},{"$f":"IF(LEN(A107)=0,\"\",INDEX(Str!$C$1:$C$20,MATCH(ROUND(F107,1),Str!$A$1:$A$20,1)))","v":""},"","",{"$f":"IF(LEN(A107)=0,\"\",INDEX(Uni!$C$1:$C$20,MATCH(ROUND($G107,1),Uni!$A$1:$A$20,1)))","v":""},null,"",{"$f":"IF(LEN(A107)=0,\"\",IF(OR(LEN(B107)=0,LEN(C107)=0,LEN(D107)=0,LEN(E107)=0,LEN(F107)=0,LEN(G107)=0),\"no HVI data\",IF('Base Values'!$B$6+(SUM($N107:$R107)/100)<0,0,'Base Values'!$B$6+(SUM(N107:R107)/100))))","v":""},null,{"$f":"IF(LEN(A107)=0,\"\",IF(LEN(H107)=0,INDEX(Ext!$A$1:$G$5,MATCH(0,Ext!$A$1:$A$5,0),MATCH(H$7,Ext!$A$2:$E$2,0)),IF(AND(H107>=0,H107<3),INDEX(Ext!$A$1:$G$5,MATCH(H107,Ext!$A$1:$A$5,0),MATCH(H$7,Ext!$A$2:$E$2,0)),\"invalid entry\")))","v":""},{"$f":"IF(LEN(B107)=0,\"\",IF(LEN(I107)=0,INDEX(Ext!$A$1:$G$5,MATCH(0,Ext!$A$1:$A$5,0),MATCH(I$7,Ext!$A$2:$E$2,0)),IF(AND(I107>=0,I107<3),INDEX(Ext!$A$1:$G$5,MATCH(I107,Ext!$A$1:$A$5,0),MATCH(I$7,Ext!$A$2:$E$2,0)),\"invalid entry\")))","v":""},{"$f":"IF(LEN(C107)=0,\"\",IF(LEN(J107)=0,INDEX(Ext!$A$1:$G$5,MATCH(0,Ext!$A$1:$A$5,0),MATCH(J$7,Ext!$A$2:$E$2,0)),IF(AND(J107>=0,J107<3),INDEX(Ext!$A$1:$G$5,MATCH(J107,Ext!$A$1:$A$5,0),MATCH(J$7,Ext!$A$2:$E$2,0)),\"invalid entry\")))","v":""}]
[null,null,null,null,null,null,null,null,null,null,null,{"$f":"IF(LEN(A108)=0,\"\",IF(LEN(E108)=0,\"HVI data needed\",INDEX('Staple Lookup'!$C$3:$C$100,MATCH(TRUE,'Staple Lookup'!$B$3:$B$100>=ROUND(E108,2),0))))","v":""},null,{"$f":"IF(OR(LEN(B108)=0,LEN(C108)=0,LEN(D108)=0),\"\",IF(AND(RIGHT(B108,1)*1=1,C108=8),-2000,IF(L108>=38,AB108,IF(L108<=31,AC108,AE108))))","v":""},{"$f":"IF(LEN(A108)=0,\"\",INDEX(Str!$C$1:$C$20,MATCH(ROUND(F108,1),Str!$A$1:$A$20,1)))","v":""},"","",{"$f":"IF(LEN(A108)=0,\"\",INDEX(Uni!$C$1:$C$20,MATCH(ROUND($G108,1),Uni!$A$1:$A$20,1)))","v":""},null,"",{"$f":"IF(LEN(A108)=0,\"\",IF(OR(LEN(B108)=0,LEN(C108)=0,LEN(D108)=0,LEN(E108)=0,LEN(F108)=0,LEN(G108)=0),\"no HVI data\",IF('Base Values'!$B$6+(SUM($N108:$R108)/100)<0,0,'Base Values'!$B$6+(SUM(N108:R108)/100))))","v":""},null,{"$f":"IF(LEN(A108)=0,\"\",IF(LEN(H108)=0,INDEX(Ext!$A$1:$G$5,MATCH(0,Ext!$A$1:$A$5,0),MATCH(H$7,Ext!$A$2:$E$2,0)),IF(AND(H108>=0,H108<3),INDEX(Ext!$A$1:$G$5,MATCH(H108,Ext!$A$1:$A$5,0),MATCH(H$7,Ext!$A$2:$E$2,0)),\"invalid entry\")))","v":""},{"$f":"IF(LEN(B108)=0,\"\",IF(LEN(I108)=0,INDEX(Ext!$A$1:$G$5,MATCH(0,Ext!$A$1:$A$5,0),MATCH(I$7,Ext!$A$2:$E$2,0)),IF(AND(I108>=0,I108<3),INDEX(Ext!$A$1:$G$5,MATCH(I108,Ext!$A$1:$A$5,0),MATCH(I$7,Ext!$A$2:$E$2,0)),\"invalid entry\")))","v":""},{"$f":"IF(LEN(C108)=0,\"\",IF(LEN(J108)=0,INDEX(Ext!$A$1:$G$5,MATCH(0,Ext!$A$1:$A$5,0),MATCH(J$7,Ext!$A$2:$E$2,0)),IF(AND(J108>=0,J108<3),INDEX(Ext!$A$1:$G$5,MATCH(J108,Ext!$A$1:$A$5,0),MATCH(J$7,Ext!$A$2:$E$2,0)),\"invalid entry\")))","v":""}]
[null,null,null,null,null,null,null,null,null,null,null,{"$f":"IF(LEN(A109)=0,\"\",IF(LEN(E109)=0,\"HVI data needed\",INDEX('Staple Lookup'!$C$3:$C$100,MATCH(TRUE,'Staple Lookup'!$B$3:$B$100>=ROUND(E109,2),0))))","v":""},null,{"$f":"IF(OR(LEN(B109)=0,LEN(C109)=0,LEN(D109)=0),\"\",IF(AND(RIGHT(B109,1)*1=1,C109=8),-2000,IF(L109>=38,AB109,IF(L109<=31,AC109,AE109))))","v":""},{"$f":"IF(LEN(A109)=0,\"\",INDEX(Str!$C$1:$C$20,MATCH(ROUND(F109,1),Str!$A$1:$A$20,1)))","v":""},"","",{"$f":"IF(LEN(A109)=0,\"\",INDEX(Uni!$C$1:$C$20,MATCH(ROUND($G109,1),Uni!$A$1:$A$20,1)))","v":""},null,"",{"$f":"IF(LEN(A109)=0,\"\",IF(OR(LEN(B109)=0,LEN(C109)=0,LEN(D109)=0,LEN(E109)=0,LEN(F109)=0,LEN(G109)=0),\"no HVI data\",IF('Base Values'!$B$6+(SUM($N109:$R109)/100)<0,0,'Base Values'!$B$6+(SUM(N109:R109)/100))))","v":""},null,{"$f":"IF(LEN(A109)=0,\"\",IF(LEN(H109)=0,INDEX(Ext!$A$1:$G$5,MATCH(0,Ext!$A$1:$A$5,0),MATCH(H$7,Ext!$A$2:$E$2,0)),IF(AND(H109>=0,H109<3),INDEX(Ext!$A$1:$G$5,MATCH(H109,Ext!$A$1:$A$5,0),MATCH(H$7,Ext!$A$2:$E$2,0)),\"invalid entry\")))","v":""},{"$f":"IF(LEN(B109)=0,\"\",IF(LEN(I109)=0,INDEX(Ext!$A$1:$G$5,MATCH(0,Ext!$A$1:$A$5,0),MATCH(I$7,Ext!$A$2:$E$2,0)),IF(AND(I109>=0,I109<3),INDEX(Ext!$A$1:$G$5,MATCH(I109,Ext!$A$1:$A$5,0),MATCH(I$7,Ext!$A$2:$E$2,0)),\"invalid entry\")))","v":""},{"$f":"IF(LEN(C109)=0,\"\",IF(LEN(J109)=0,INDEX(Ext!$A$1:$G$5,MATCH(0,Ext!$A$1:$A$5,0),MATCH(J$7,Ext!$A$2:$E$2,0)),IF(AND(J109>=0,J109<3),INDEX(Ext!$A$1:$G$5,MATCH(J109,Ext!$A$1:$A$5,0),MATCH(J$7,Ext!$A$2:$E$2,0)),\"invalid entry\")))","v":""}]
[null,null,null,null,null,null,null,null,null,null,null,{"$f":"IF(LEN(A110)=0,\"\",IF(LEN(E110)=0,\"HVI data needed\",INDEX('Staple Lookup'!$C$3:$C$100,MATCH(TRUE,'Staple Lookup'!$B$3:$B$100>=ROUND(E110,2),0))))","v":""},null,{"$f":"IF(OR(LEN(B110)=0,LEN(C110)=0,LEN(D110)=0),\"\",IF(AND(RIGHT(B110,1)*1=1,C110=8),-2000,IF(L110>=38,AB110,IF(L110<=31,AC110,AE110))))","v":""},{"$f":"IF(LEN(A110)=0,\"\",INDEX(Str!$C$1:$C$20,MATCH(ROUND(F110,1),Str!$A$1:$A$20,1)))","v":""},"","",{"$f":"IF(LEN(A110)=0,\"\",INDEX(Uni!$C$1:$C$20,MATCH(ROUND($G110,1),Uni!$A$1:$A$20,1)))","v":""},null,"",{"$f":"IF(LEN(A110)=0,\"\",IF(OR(LEN(B110)=0,LEN(C110)=0,LEN(D110)=0,LEN(E110)=0,LEN(F110)=0,LEN(G110)=0),\"no HVI data\",IF('Base Values'!$B$6+(SUM($N110:$R110)/100)<0,0,'Base Values'!$B$6+(SUM(N110:R110)/100))))","v":""},null,{"$f":"IF(LEN(A110)=0,\"\",IF(LEN(H110)=0,INDEX(Ext!$A$1:$G$5,MATCH(0,Ext!$A$1:$A$5,0),MATCH(H$7,Ext!$A$2:$E$2,0)),IF(AND(H110>=0,H110<3),INDEX(Ext!$A$1:$G$5,MATCH(H110,Ext!$A$1:$A$5,0),MATCH(H$7,Ext!$A$2:$E$2,0)),\"invalid entry\")))","v":""},{"$f":"IF(LEN(B110)=0,\"\",IF(LEN(I110)=0,INDEX(Ext!$A$1:$G$5,MATCH(0,Ext!$A$1:$A$5,0),MATCH(I$7,Ext!$A$2:$E$2,0)),IF(AND(I110>=0,I110<3),INDEX(Ext!$A$1:$G$5,MATCH(I110,Ext!$A$1:$A$5,0),MATCH(I$7,Ext!$A$2:$E$2,0)),\"invalid entry\")))","v":""},{"$f":"IF(LEN(C110)=0,\"\",IF(LEN(J110)=0,INDEX(Ext!$A$1:$G$5,MATCH(0,Ext!$A$1:$A$5,0),MATCH(J$7,Ext!$A$2:$E$2,0)),IF(AND(J110>=0,J110<3),INDEX(Ext!$A$1:$G$5,MATCH(J110,Ext!$A$1:$A$5,0),MATCH(J$7,Ext!$A$2:$E$2,0)),\"invalid entry\")))","v":""}]
[null,null,null,null,null,null,null,null,null,null,null,{"$f":"IF(LEN(A111)=0,\"\",IF(LEN(E111)=0,\"HVI data needed\",INDEX('Staple Lookup'!$C$3:$C$100,MATCH(TRUE,'Staple Lookup'!$B$3:$B$100>=ROUND(E111,2),0))))","v":""},null,{"$f":"IF(OR(LEN(B111)=0,LEN(C111)=0,LEN(D111)=0),\"\",IF(AND(RIGHT(B111,1)*1=1,C111=8),-2000,IF(L111>=38,AB111,IF(L111<=31,AC111,AE111))))","v":""},{"$f":"IF(LEN(A111)=0,\"\",INDEX(Str!$C$1:$C$20,MATCH(ROUND(F111,1),Str!$A$1:$A$20,1)))","v":""},"","",{"$f":"IF(LEN(A111)=0,\"\",INDEX(Uni!$C$1:$C$20,MATCH(ROUND($G111,1),Uni!$A$1:$A$20,1)))","v":""},null,"",{"$f":"IF(LEN(A111)=0,\"\",IF(OR(LEN(B111)=0,LEN(C111)=0,LEN(D111)=0,LEN(E111)=0,LEN(F111)=0,LEN(G111)=0),\"no HVI data\",IF('Base Values'!$B$6+(SUM($N111:$R111)/100)<0,0,'Base Values'!$B$6+(SUM(N111:R111)/100))))","v":""},null,{"$f":"IF(LEN(A111)=0,\"\",IF(LEN(H111)=0,INDEX(Ext!$A$1:$G$5,MATCH(0,Ext!$A$1:$A$5,0),MATCH(H$7,Ext!$A$2:$E$2,0)),IF(AND(H111>=0,H111<3),INDEX(Ext!$A$1:$G$5,MATCH(H111,Ext!$A$1:$A$5,0),MATCH(H$7,Ext!$A$2:$E$2,0)),\"invalid entry\")))","v":""},{"$f":"IF(LEN(B111)=0,\"\",IF(LEN(I111)=0,INDEX(Ext!$A$1:$G$5,MATCH(0,Ext!$A$1:$A$5,0),MATCH(I$7,Ext!$A$2:$E$2,0)),IF(AND(I111>=0,I111<3),INDEX(Ext!$A$1:$G$5,MATCH(I111,Ext!$A$1:$A$5,0),MATCH(I$7,Ext!$A$2:$E$2,0)),\"invalid entry\")))","v":""},{"$f":"IF(LEN(C111)=0,\"\",IF(LEN(J111)=0,INDEX(Ext!$A$1:$G$5,MATCH(0,Ext!$A$1:$A$5,0),MATCH(J$7,Ext!$A$2:$E$2,0)),IF(AND(J111>=0,J111<3),INDEX(Ext!$A$1:$G$5,MATCH(J111,Ext!$A$1:$A$5,0),MATCH(J$7,Ext!$A$2:$E$2,0)),\"invalid entry\")))","v":""}]
[null,null,null,null,null,null,null,null,null,null,null,{"$f":"IF(LEN(A112)=0,\"\",IF(LEN(E112)=0,\"HVI data needed\",INDEX('Staple Lookup'!$C$3:$C$100,MATCH(TRUE,'Staple Lookup'!$B$3:$B$100>=ROUND(E112,2),0))))","v":""},null,{"$f":"IF(OR(LEN(B112)=0,LEN(C112)=0,LEN(D112)=0),\"\",IF(AND(RIGHT(B112,1)*1=1,C112=8),-2000,IF(L112>=38,AB112,IF(L112<=31,AC112,AE112))))","v":""},{"$f":"IF(LEN(A112)=0,\"\",INDEX(Str!$C$1:$C$20,MATCH(ROUND(F112,1),Str!$A$1:$A$20,1)))","v":""},"","",{"$f":"IF(LEN(A112)=0,\"\",INDEX(Uni!$C$1:$C$20,MATCH(ROUND($G112,1),Uni!$A$1:$A$20,1)))","v":""},null,"",{"$f":"IF(LEN(A112)=0,\"\",IF(OR(LEN(B112)=0,LEN(C112)=0,LEN(D112)=0,LEN(E112)=0,LEN(F112)=0,LEN(G112)=0),\"no HVI data\",IF('Base Values'!$B$6+(SUM($N112:$R112)/100)<0,0,'Base Values'!$B$6+(SUM(N112:R112)/100))))","v":""},null,{"$f":"IF(LEN(A112)=0,\"\",IF(LEN(H112)=0,INDEX(Ext!$A$1:$G$5,MATCH(0,Ext!$A$1:$A$5,0),MATCH(H$7,Ext!$A$2:$E$2,0)),IF(AND(H112>=0,H112<3),INDEX(Ext!$A$1:$G$5,MATCH(H112,Ext!$A$1:$A$5,0),MATCH(H$7,Ext!$A$2:$E$2,0)),\"invalid entry\")))","v":""},{"$f":"IF(LEN(B112)=0,\"\",IF(LEN(I112)=0,INDEX(Ext!$A$1:$G$5,MATCH(0,Ext!$A$1:$A$5,0),MATCH(I$7,Ext!$A$2:$E$2,0)),IF(AND(I112>=0,I112<3),INDEX(Ext!$A$1:$G$5,MATCH(I112,Ext!$A$1:$A$5,0),MATCH(I$7,Ext!$A$2:$E$2,0)),\"invalid entry\")))","v":""},{"$f":"IF(LEN(C112)=0,\"\",IF(LEN(J112)=0,INDEX(Ext!$A$1:$G$5,MATCH(0,Ext!$A$1:$A$5,0),MATCH(J$7,Ext!$A$2:$E$2,0)),IF(AND(J112>=0,J112<3),INDEX(Ext!$A$1:$G$5,MATCH(J112,Ext!$A$1:$A$5,0),MATCH(J$7,Ext!$A$2:$E$2,0)),\"invalid entry\")))","v":""}]
[null,null,null,null,null,null,null,null,null,null,null,{"$f":"IF(LEN(A113)=0,\"\",IF(LEN(E113)=0,\"HVI data needed\",INDEX('Staple Lookup'!$C$3:$C$100,MATCH(TRUE,'Staple Lookup'!$B$3:$B$100>=ROUND(E113,2),0))))","v":""},null,{"$f":"IF(OR(LEN(B113)=0,LEN(C113)=0,LEN(D113)=0),\"\",IF(AND(RIGHT(B113,1)*1=1,C113=8),-2000,IF(L113>=38,AB113,IF(L113<=31,AC113,AE113))))","v":""},{"$f":"IF(LEN(A113)=0,\"\",INDEX(Str!$C$1:$C$20,MATCH(ROUND(F113,1),Str!$A$1:$A$20,1)))","v":""},"","",{"$f":"IF(LEN(A113)=0,\"\",INDEX(Uni!$C$1:$C$20,MATCH(ROUND($G113,1),Uni!$A$1:$A$20,1)))","v":""},null,"",{"$f":"IF(LEN(A113)=0,\"\",IF(OR(LEN(B113)=0,LEN(C113)=0,LEN(D113)=0,LEN(E113)=0,LEN(F113)=0,LEN(G113)=0),\"no HVI data\",IF('Base Values'!$B$6+(SUM($N113:$R113)/100)<0,0,'Base Values'!$B$6+(SUM(N113:R113)/100))))","v":""},null,{"$f":"IF(LEN(A113)=0,\"\",IF(LEN(H113)=0,INDEX(Ext!$A$1:$G$5,MATCH(0,Ext!$A$1:$A$5,0),MATCH(H$7,Ext!$A$2:$E$2,0)),IF(AND(H113>=0,H113<3),INDEX(Ext!$A$1:$G$5,MATCH(H113,Ext!$A$1:$A$5,0),MATCH(H$7,Ext!$A$2:$E$2,0)),\"invalid entry\")))","v":""},{"$f":"IF(LEN(B113)=0,\"\",IF(LEN(I113)=0,INDEX(Ext!$A$1:$G$5,MATCH(0,Ext!$A$1:$A$5,0),MATCH(I$7,Ext!$A$2:$E$2,0)),IF(AND(I113>=0,I113<3),INDEX(Ext!$A$1:$G$5,MATCH(I113,Ext!$A$1:$A$5,0),MATCH(I$7,Ext!$A$2:$E$2,0)),\"invalid entry\")))","v":""},{"$f":"IF(LEN(C113)=0,\"\",IF(LEN(J113)=0,INDEX(Ext!$A$1:$G$5,MATCH(0,Ext!$A$1:$A$5,0),MATCH(J$7,Ext!$A$2:$E$2,0)),IF(AND(J113>=0,J113<3),INDEX(Ext!$A$1:$G$5,MATCH(J113,Ext!$A$1:$A$5,0),MATCH(J$7,Ext!$A$2:$E$2,0)),\"invalid entry\")))","v":""}]
[null,null,null,null,null,null,null,null,null,null,null,{"$f":"IF(LEN(A114)=0,\"\",IF(LEN(E114)=0,\"HVI data needed\",INDEX('Staple Lookup'!$C$3:$C$100,MATCH(TRUE,'Staple Lookup'!$B$3:$B$100>=ROUND(E114,2),0))))","v":""},null,{"$f":"IF(OR(LEN(B114)=0,LEN(C114)=0,LEN(D114)=0),\"\",IF(AND(RIGHT(B114,1)*1=1,C114=8),-2000,IF(L114>=38,AB114,IF(L114<=31,AC114,AE114))))","v":""},{"$f":"IF(LEN(A114)=0,\"\",INDEX(Str!$C$1:$C$20,MATCH(ROUND(F114,1),Str!$A$1:$A$20,1)))","v":""},"","",{"$f":"IF(LEN(A114)=0,\"\",INDEX(Uni!$C$1:$C$20,MATCH(ROUND($G114,1),Uni!$A$1:$A$20,1)))","v":""},null,"",{"$f":"IF(LEN(A114)=0,\"\",IF(OR(LEN(B114)=0,LEN(C114)=0,LEN(D114)=0,LEN(E114)=0,LEN(F114)=0,LEN(G114)=0),\"no HVI data\",IF('Base Values'!$B$6+(SUM($N114:$R114)/100)<0,0,'Base Values'!$B$6+(SUM(N114:R114)/100))))","v":""},null,{"$f":"IF(LEN(A114)=0,\"\",IF(LEN(H114)=0,INDEX(Ext!$A$1:$G$5,MATCH(0,Ext!$A$1:$A$5,0),MATCH(H$7,Ext!$A$2:$E$2,0)),IF(AND(H114>=0,H114<3),INDEX(Ext!$A$1:$G$5,MATCH(H114,Ext!$A$1:$A$5,0),MATCH(H$7,Ext!$A$2:$E$2,0)),\"invalid entry\")))","v":""},{"$f":"IF(LEN(B114)=0,\"\",IF(LEN(I114)=0,INDEX(Ext!$A$1:$G$5,MATCH(0,Ext!$A$1:$A$5,0),MATCH(I$7,Ext!$A$2:$E$2,0)),IF(AND(I114>=0,I114<3),INDEX(Ext!$A$1:$G$5,MATCH(I114,Ext!$A$1:$A$5,0),MATCH(I$7,Ext!$A$2:$E$2,0)),\"invalid entry\")))","v":""},{"$f":"IF(LEN(C114)=0,\"\",IF(LEN(J114)=0,INDEX(Ext!$A$1:$G$5,MATCH(0,Ext!$A$1:$A$5,0),MATCH(J$7,Ext!$A$2:$E$2,0)),IF(AND(J114>=0,J114<3),INDEX(Ext!$A$1:$G$5,MATCH(J114,Ext!$A$1:$A$5,0),MATCH(J$7,Ext!$A$2:$E$2,0)),\"invalid entry\")))","v":""}]
[null,null,null,null,null,null,null,null,null,null,null,{"$f":"IF(LEN(A115)=0,\"\",IF(LEN(E115)=0,\"HVI data needed\",INDEX('Staple Lookup'!$C$3:$C$100,MATCH(TRUE,'Staple Lookup'!$B$3:$B$100>=ROUND(E115,2),0))))","v":""},null,{"$f":"IF(OR(LEN(B115)=0,LEN(C115)=0,LEN(D115)=0),\"\",IF(AND(RIGHT(B115,1)*1=1,C115=8),-2000,IF(L115>=38,AB115,IF(L115<=31,AC115,AE115))))","v":""},{"$f":"IF(LEN(A115)=0,\"\",INDEX(Str!$C$1:$C$20,MATCH(ROUND(F115,1),Str!$A$1:$A$20,1)))","v":""},"","",{"$f":"IF(LEN(A115)=0,\"\",INDEX(Uni!$C$1:$C$20,MATCH(ROUND($G115,1),Uni!$A$1:$A$20,1)))","v":""},null,"",{"$f":"IF(LEN(A115)=0,\"\",IF(OR(LEN(B115)=0,LEN(C115)=0,LEN(D115)=0,LEN(E115)=0,LEN(F115)=0,LEN(G115)=0),\"no HVI data\",IF('Base Values'!$B$6+(SUM($N115:$R115)/100)<0,0,'Base Values'!$B$6+(SUM(N115:R115)/100))))","v":""},null,{"$f":"IF(LEN(A115)=0,\"\",IF(LEN(H115)=0,INDEX(Ext!$A$1:$G$5,MATCH(0,Ext!$A$1:$A$5,0),MATCH(H$7,Ext!$A$2:$E$2,0)),IF(AND(H115>=0,H115<3),INDEX(Ext!$A$1:$G$5,MATCH(H115,Ext!$A$1:$A$5,0),MATCH(H$7,Ext!$A$2:$E$2,0)),\"invalid entry\")))","v":""},{"$f":"IF(LEN(B115)=0,\"\",IF(LEN(I115)=0,INDEX(Ext!$A$1:$G$5,MATCH(0,Ext!$A$1:$A$5,0),MATCH(I$7,Ext!$A$2:$E$2,0)),IF(AND(I115>=0,I115<3),INDEX(Ext!$A$1:$G$5,MATCH(I115,Ext!$A$1:$A$5,0),MATCH(I$7,Ext!$A$2:$E$2,0)),\"invalid entry\")))","v":""},{"$f":"IF(LEN(C115)=0,\"\",IF(LEN(J115)=0,INDEX(Ext!$A$1:$G$5,MATCH(0,Ext!$A$1:$A$5,0),MATCH(J$7,Ext!$A$2:$E$2,0)),IF(AND(J115>=0,J115<3),INDEX(Ext!$A$1:$G$5,MATCH(J115,Ext!$A$1:$A$5,0),MATCH(J$7,Ext!$A$2:$E$2,0)),\"invalid entry\")))","v":""}]
[null,null,null,null,null,null,null,null,null,null,null,{"$f":"IF(LEN(A116)=0,\"\",IF(LEN(E116)=0,\"HVI data needed\",INDEX('Staple Lookup'!$C$3:$C$100,MATCH(TRUE,'Staple Lookup'!$B$3:$B$100>=ROUND(E116,2),0))))","v":""},null,{"$f":"IF(OR(LEN(B116)=0,LEN(C116)=0,LEN(D116)=0),\"\",IF(AND(RIGHT(B116,1)*1=1,C116=8),-2000,IF(L116>=38,AB116,IF(L116<=31,AC116,AE116))))","v":""},{"$f":"IF(LEN(A116)=0,\"\",INDEX(Str!$C$1:$C$20,MATCH(ROUND(F116,1),Str!$A$1:$A$20,1)))","v":""},"","",{"$f":"IF(LEN(A116)=0,\"\",INDEX(Uni!$C$1:$C$20,MATCH(ROUND($G116,1),Uni!$A$1:$A$20,1)))","v":""},null,"",{"$f":"IF(LEN(A116)=0,\"\",IF(OR(LEN(B116)=0,LEN(C116)=0,LEN(D116)=0,LEN(E116)=0,LEN(F116)=0,LEN(G116)=0),\"no HVI data\",IF('Base Values'!$B$6+(SUM($N116:$R116)/100)<0,0,'Base Values'!$B$6+(SUM(N116:R116)/100))))","v":""},null,{"$f":"IF(LEN(A116)=0,\"\",IF(LEN(H116)=0,INDEX(Ext!$A$1:$G$5,MATCH(0,Ext!$A$1:$A$5,0),MATCH(H$7,Ext!$A$2:$E$2,0)),IF(AND(H116>=0,H116<3),INDEX(Ext!$A$1:$G$5,MATCH(H116,Ext!$A$1:$A$5,0),MATCH(H$7,Ext!$A$2:$E$2,0)),\"invalid entry\")))","v":""},{"$f":"IF(LEN(B116)=0,\"\",IF(LEN(I116)=0,INDEX(Ext!$A$1:$G$5,MATCH(0,Ext!$A$1:$A$5,0),MATCH(I$7,Ext!$A$2:$E$2,0)),IF(AND(I116>=0,I116<3),INDEX(Ext!$A$1:$G$5,MATCH(I116,Ext!$A$1:$A$5,0),MATCH(I$7,Ext!$A$2:$E$2,0)),\"invalid entry\")))","v":""},{"$f":"IF(LEN(C116)=0,\"\",IF(LEN(J116)=0,INDEX(Ext!$A$1:$G$5,MATCH(0,Ext!$A$1:$A$5,0),MATCH(J$7,Ext!$A$2:$E$2,0)),IF(AND(J116>=0,J116<3),INDEX(Ext!$A$1:$G$5,MATCH(J116,Ext!$A$1:$A$5,0),MATCH(J$7,Ext!$A$2:$E$2,0)),\"invalid entry\")))","v":""}]
[null,null,null,null,null,null,null,null,null,null,null,{"$f":"IF(LEN(A117)=0,\"\",IF(LEN(E117)=0,\"HVI data needed\",INDEX('Staple Lookup'!$C$3:$C$100,MATCH(TRUE,'Staple Lookup'!$B$3:$B$100>=ROUND(E117,2),0))))","v":""},null,{"$f":"IF(OR(LEN(B117)=0,LEN(C117)=0,LEN(D117)=0),\"\",IF(AND(RIGHT(B117,1)*1=1,C117=8),-2000,IF(L117>=38,AB117,IF(L117<=31,AC117,AE117))))","v":""},{"$f":"IF(LEN(A117)=0,\"\",INDEX(Str!$C$1:$C$20,MATCH(ROUND(F117,1),Str!$A$1:$A$20,1)))","v":""},"","",{"$f":"IF(LEN(A117)=0,\"\",INDEX(Uni!$C$1:$C$20,MATCH(ROUND($G117,1),Uni!$A$1:$A$20,1)))","v":""},null,"",{"$f":"IF(LEN(A117)=0,\"\",IF(OR(LEN(B117)=0,LEN(C117)=0,LEN(D117)=0,LEN(E117)=0,LEN(F117)=0,LEN(G117)=0),\"no HVI data\",IF('Base Values'!$B$6+(SUM($N117:$R117)/100)<0,0,'Base Values'!$B$6+(SUM(N117:R117)/100))))","v":""},null,{"$f":"IF(LEN(A117)=0,\"\",IF(LEN(H117)=0,INDEX(Ext!$A$1:$G$5,MATCH(0,Ext!$A$1:$A$5,0),MATCH(H$7,Ext!$A$2:$E$2,0)),IF(AND(H117>=0,H117<3),INDEX(Ext!$A$1:$G$5,MATCH(H117,Ext!$A$1:$A$5,0),MATCH(H$7,Ext!$A$2:$E$2,0)),\"invalid entry\")))","v":""},{"$f":"IF(LEN(B117)=0,\"\",IF(LEN(I117)=0,INDEX(Ext!$A$1:$G$5,MATCH(0,Ext!$A$1:$A$5,0),MATCH(I$7,Ext!$A$2:$E$2,0)),IF(AND(I117>=0,I117<3),INDEX(Ext!$A$1:$G$5,MATCH(I117,Ext!$A$1:$A$5,0),MATCH(I$7,Ext!$A$2:$E$2,0)),\"invalid entry\")))","v":""},{"$f":"IF(LEN(C117)=0,\"\",IF(LEN(J117)=0,INDEX(Ext!$A$1:$G$5,MATCH(0,Ext!$A$1:$A$5,0),MATCH(J$7,Ext!$A$2:$E$2,0)),IF(AND(J117>=0,J117<3),INDEX(Ext!$A$1:$G$5,MATCH(J117,Ext!$A$1:$A$5,0),MATCH(J$7,Ext!$A$2:$E$2,0)),\"invalid entry\")))","v":""}]
[null,null,null,null,null,null,null,null,null,null,null,{"$f":"IF(LEN(A118)=0,\"\",IF(LEN(E118)=0,\"HVI data needed\",INDEX('Staple Lookup'!$C$3:$C$100,MATCH(TRUE,'Staple Lookup'!$B$3:$B$100>=ROUND(E118,2),0))))","v":""},null,{"$f":"IF(OR(LEN(B118)=0,LEN(C118)=0,LEN(D118)=0),\"\",IF(AND(RIGHT(B118,1)*1=1,C118=8),-2000,IF(L118>=38,AB118,IF(L118<=31,AC118,AE118))))","v":""},{"$f":"IF(LEN(A118)=0,\"\",INDEX(Str!$C$1:$C$20,MATCH(ROUND(F118,1),Str!$A$1:$A$20,1)))","v":""},"","",{"$f":"IF(LEN(A118)=0,\"\",INDEX(Uni!$C$1:$C$20,MATCH(ROUND($G118,1),Uni!$A$1:$A$20,1)))","v":""},null,"",{"$f":"IF(LEN(A118)=0,\"\",IF(OR(LEN(B118)=0,LEN(C118)=0,LEN(D118)=0,LEN(E118)=0,LEN(F118)=0,LEN(G118)=0),\"no HVI data\",IF('Base Values'!$B$6+(SUM($N118:$R118)/100)<0,0,'Base Values'!$B$6+(SUM(N118:R118)/100))))","v":""},null,{"$f":"IF(LEN(A118)=0,\"\",IF(LEN(H118)=0,INDEX(Ext!$A$1:$G$5,MATCH(0,Ext!$A$1:$A$5,0),MATCH(H$7,Ext!$A$2:$E$2,0)),IF(AND(H118>=0,H118<3),INDEX(Ext!$A$1:$G$5,MATCH(H118,Ext!$A$1:$A$5,0),MATCH(H$7,Ext!$A$2:$E$2,0)),\"invalid entry\")))","v":""},{"$f":"IF(LEN(B118)=0,\"\",IF(LEN(I118)=0,INDEX(Ext!$A$1:$G$5,MATCH(0,Ext!$A$1:$A$5,0),MATCH(I$7,Ext!$A$2:$E$2,0)),IF(AND(I118>=0,I118<3),INDEX(Ext!$A$1:$G$5,MATCH(I118,Ext!$A$1:$A$5,0),MATCH(I$7,Ext!$A$2:$E$2,0)),\"invalid entry\")))","v":""},{"$f":"IF(LEN(C118)=0,\"\",IF(LEN(J118)=0,INDEX(Ext!$A$1:$G$5,MATCH(0,Ext!$A$1:$A$5,0),MATCH(J$7,Ext!$A$2:$E$2,0)),IF(AND(J118>=0,J118<3),INDEX(Ext!$A$1:$G$5,MATCH(J118,Ext!$A$1:$A$5,0),MATCH(J$7,Ext!$A$2:$E$2,0)),\"invalid entry\")))","v":""}]
[null,null,null,null,null,null,null,null,null,null,null,{"$f":"IF(LEN(A119)=0,\"\",IF(LEN(E119)=0,\"HVI data needed\",INDEX('Staple Lookup'!$C$3:$C$100,MATCH(TRUE,'Staple Lookup'!$B$3:$B$100>=ROUND(E119,2),0))))","v":""},null,{"$f":"IF(OR(LEN(B119)=0,LEN(C119)=0,LEN(D119)=0),\"\",IF(AND(RIGHT(B119,1)*1=1,C119=8),-2000,IF(L119>=38,AB119,IF(L119<=31,AC119,AE119))))","v":""},{"$f":"IF(LEN(A119)=0,\"\",INDEX(Str!$C$1:$C$20,MATCH(ROUND(F119,1),Str!$A$1:$A$20,1)))","v":""},"","",{"$f":"IF(LEN(A119)=0,\"\",INDEX(Uni!$C$1:$C$20,MATCH(ROUND($G119,1),Uni!$A$1:$A$20,1)))","v":""},null,"",{"$f":"IF(LEN(A119)=0,\"\",IF(OR(LEN(B119)=0,LEN(C119)=0,LEN(D119)=0,LEN(E119)=0,LEN(F119)=0,LEN(G119)=0),\"no HVI data\",IF('Base Values'!$B$6+(SUM($N119:$R119)/100)<0,0,'Base Values'!$B$6+(SUM(N119:R119)/100))))","v":""},null,{"$f":"IF(LEN(A119)=0,\"\",IF(LEN(H119)=0,INDEX(Ext!$A$1:$G$5,MATCH(0,Ext!$A$1:$A$5,0),MATCH(H$7,Ext!$A$2:$E$2,0)),IF(AND(H119>=0,H119<3),INDEX(Ext!$A$1:$G$5,MATCH(H119,Ext!$A$1:$A$5,0),MATCH(H$7,Ext!$A$2:$E$2,0)),\"invalid entry\")))","v":""},{"$f":"IF(LEN(B119)=0,\"\",IF(LEN(I119)=0,INDEX(Ext!$A$1:$G$5,MATCH(0,Ext!$A$1:$A$5,0),MATCH(I$7,Ext!$A$2:$E$2,0)),IF(AND(I119>=0,I119<3),INDEX(Ext!$A$1:$G$5,MATCH(I119,Ext!$A$1:$A$5,0),MATCH(I$7,Ext!$A$2:$E$2,0)),\"invalid entry\")))","v":""},{"$f":"IF(LEN(C119)=0,\"\",IF(LEN(J119)=0,INDEX(Ext!$A$1:$G$5,MATCH(0,Ext!$A$1:$A$5,0),MATCH(J$7,Ext!$A$2:$E$2,0)),IF(AND(J119>=0,J119<3),INDEX(Ext!$A$1:$G$5,MATCH(J119,Ext!$A$1:$A$5,0),MATCH(J$7,Ext!$A$2:$E$2,0)),\"invalid entry\")))","v":""}]
[null,null,null,null,null,null,null,null,null,null,null,{"$f":"IF(LEN(A120)=0,\"\",IF(LEN(E120)=0,\"HVI data needed\",INDEX('Staple Lookup'!$C$3:$C$100,MATCH(TRUE,'Staple Lookup'!$B$3:$B$100>=ROUND(E120,2),0))))","v":""},null,{"$f":"IF(OR(LEN(B120)=0,LEN(C120)=0,LEN(D120)=0),\"\",IF(AND(RIGHT(B120,1)*1=1,C120=8),-2000,IF(L120>=38,AB120,IF(L120<=31,AC120,AE120))))","v":""},{"$f":"IF(LEN(A120)=0,\"\",INDEX(Str!$C$1:$C$20,MATCH(ROUND(F120,1),Str!$A$1:$A$20,1)))","v":""},"","",{"$f":"IF(LEN(A120)=0,\"\",INDEX(Uni!$C$1:$C$20,MATCH(ROUND($G120,1),Uni!$A$1:$A$20,1)))","v":""},null,"",{"$f":"IF(LEN(A120)=0,\"\",IF(OR(LEN(B120)=0,LEN(C120)=0,LEN(D120)=0,LEN(E120)=0,LEN(F120)=0,LEN(G120)=0),\"no HVI data\",IF('Base Values'!$B$6+(SUM($N120:$R120)/100)<0,0,'Base Values'!$B$6+(SUM(N120:R120)/100))))","v":""},null,{"$f":"IF(LEN(A120)=0,\"\",IF(LEN(H120)=0,INDEX(Ext!$A$1:$G$5,MATCH(0,Ext!$A$1:$A$5,0),MATCH(H$7,Ext!$A$2:$E$2,0)),IF(AND(H120>=0,H120<3),INDEX(Ext!$A$1:$G$5,MATCH(H120,Ext!$A$1:$A$5,0),MATCH(H$7,Ext!$A$2:$E$2,0)),\"invalid entry\")))","v":""},{"$f":"IF(LEN(B120)=0,\"\",IF(LEN(I120)=0,INDEX(Ext!$A$1:$G$5,MATCH(0,Ext!$A$1:$A$5,0),MATCH(I$7,Ext!$A$2:$E$2,0)),IF(AND(I120>=0,I120<3),INDEX(Ext!$A$1:$G$5,MATCH(I120,Ext!$A$1:$A$5,0),MATCH(I$7,Ext!$A$2:$E$2,0)),\"invalid entry\")))","v":""},{"$f":"IF(LEN(C120)=0,\"\",IF(LEN(J120)=0,INDEX(Ext!$A$1:$G$5,MATCH(0,Ext!$A$1:$A$5,0),MATCH(J$7,Ext!$A$2:$E$2,0)),IF(AND(J120>=0,J120<3),INDEX(Ext!$A$1:$G$5,MATCH(J120,Ext!$A$1:$A$5,0),MATCH(J$7,Ext!$A$2:$E$2,0)),\"invalid entry\")))","v":""}]
[null,null,null,null,null,null,null,null,null,null,null,{"$f":"IF(LEN(A121)=0,\"\",IF(LEN(E121)=0,\"HVI data needed\",INDEX('Staple Lookup'!$C$3:$C$100,MATCH(TRUE,'Staple Lookup'!$B$3:$B$100>=ROUND(E121,2),0))))","v":""},null,{"$f":"IF(OR(LEN(B121)=0,LEN(C121)=0,LEN(D121)=0),\"\",IF(AND(RIGHT(B121,1)*1=1,C121=8),-2000,IF(L121>=38,AB121,IF(L121<=31,AC121,AE121))))","v":""},{"$f":"IF(LEN(A121)=0,\"\",INDEX(Str!$C$1:$C$20,MATCH(ROUND(F121,1),Str!$A$1:$A$20,1)))","v":""},"","",{"$f":"IF(LEN(A121)=0,\"\",INDEX(Uni!$C$1:$C$20,MATCH(ROUND($G121,1),Uni!$A$1:$A$20,1)))","v":""},null,"",{"$f":"IF(LEN(A121)=0,\"\",IF(OR(LEN(B121)=0,LEN(C121)=0,LEN(D121)=0,LEN(E121)=0,LEN(F121)=0,LEN(G121)=0),\"no HVI data\",IF('Base Values'!$B$6+(SUM($N121:$R121)/100)<0,0,'Base Values'!$B$6+(SUM(N121:R121)/100))))","v":""},null,{"$f":"IF(LEN(A121)=0,\"\",IF(LEN(H121)=0,INDEX(Ext!$A$1:$G$5,MATCH(0,Ext!$A$1:$A$5,0),MATCH(H$7,Ext!$A$2:$E$2,0)),IF(AND(H121>=0,H121<3),INDEX(Ext!$A$1:$G$5,MATCH(H121,Ext!$A$1:$A$5,0),MATCH(H$7,Ext!$A$2:$E$2,0)),\"invalid entry\")))","v":""},{"$f":"IF(LEN(B121)=0,\"\",IF(LEN(I121)=0,INDEX(Ext!$A$1:$G$5,MATCH(0,Ext!$A$1:$A$5,0),MATCH(I$7,Ext!$A$2:$E$2,0)),IF(AND(I121>=0,I121<3),INDEX(Ext!$A$1:$G$5,MATCH(I121,Ext!$A$1:$A$5,0),MATCH(I$7,Ext!$A$2:$E$2,0)),\"invalid entry\")))","v":""},{"$f":"IF(LEN(C121)=0,\"\",IF(LEN(J121)=0,INDEX(Ext!$A$1:$G$5,MATCH(0,Ext!$A$1:$A$5,0),MATCH(J$7,Ext!$A$2:$E$2,0)),IF(AND(J121>=0,J121<3),INDEX(Ext!$A$1:$G$5,MATCH(J121,Ext!$A$1:$A$5,0),MATCH(J$7,Ext!$A$2:$E$2,0)),\"invalid entry\")))","v":""}]
[null,null,null,null,null,null,null,null,null,null,null,{"$f":"IF(LEN(A122)=0,\"\",IF(LEN(E122)=0,\"HVI data needed\",INDEX('Staple Lookup'!$C$3:$C$100,MATCH(TRUE,'Staple Lookup'!$B$3:$B$100>=ROUND(E122,2),0))))","v":""},null,{"$f":"IF(OR(LEN(B122)=0,LEN(C122)=0,LEN(D122)=0),\"\",IF(AND(RIGHT(B122,1)*1=1,C122=8),-2000,IF(L122>=38,AB122,IF(L122<=31,AC122,AE122))))","v":""},{"$f":"IF(LEN(A122)=0,\"\",INDEX(Str!$C$1:$C$20,MATCH(ROUND(F122,1),Str!$A$1:$A$20,1)))","v":""},"","",{"$f":"IF(LEN(A122)=0,\"\",INDEX(Uni!$C$1:$C$20,MATCH(ROUND($G122,1),Uni!$A$1:$A$20,1)))","v":""},null,"",{"$f":"IF(LEN(A122)=0,\"\",IF(OR(LEN(B122)=0,LEN(C122)=0,LEN(D122)=0,LEN(E122)=0,LEN(F122)=0,LEN(G122)=0),\"no HVI data\",IF('Base Values'!$B$6+(SUM($N122:$R122)/100)<0,0,'Base Values'!$B$6+(SUM(N122:R122)/100))))","v":""},null,{"$f":"IF(LEN(A122)=0,\"\",IF(LEN(H122)=0,INDEX(Ext!$A$1:$G$5,MATCH(0,Ext!$A$1:$A$5,0),MATCH(H$7,Ext!$A$2:$E$2,0)),IF(AND(H122>=0,H122<3),INDEX(Ext!$A$1:$G$5,MATCH(H122,Ext!$A$1:$A$5,0),MATCH(H$7,Ext!$A$2:$E$2,0)),\"invalid entry\")))","v":""},{"$f":"IF(LEN(B122)=0,\"\",IF(LEN(I122)=0,INDEX(Ext!$A$1:$G$5,MATCH(0,Ext!$A$1:$A$5,0),MATCH(I$7,Ext!$A$2:$E$2,0)),IF(AND(I122>=0,I122<3),INDEX(Ext!$A$1:$G$5,MATCH(I122,Ext!$A$1:$A$5,0),MATCH(I$7,Ext!$A$2:$E$2,0)),\"invalid entry\")))","v":""},{"$f":"IF(LEN(C122)=0,\"\",IF(LEN(J122)=0,INDEX(Ext!$A$1:$G$5,MATCH(0,Ext!$A$1:$A$5,0),MATCH(J$7,Ext!$A$2:$E$2,0)),IF(AND(J122>=0,J122<3),INDEX(Ext!$A$1:$G$5,MATCH(J122,Ext!$A$1:$A$5,0),MATCH(J$7,Ext!$A$2:$E$2,0)),\"invalid entry\")))","v":""}]
[null,null,null,null,null,null,null,null,null,null,null,{"$f":"IF(LEN(A123)=0,\"\",IF(LEN(E123)=0,\"HVI data needed\",INDEX('Staple Lookup'!$C$3:$C$100,MATCH(TRUE,'Staple Lookup'!$B$3:$B$100>=ROUND(E123,2),0))))","v":""},null,{"$f":"IF(OR(LEN(B123)=0,LEN(C123)=0,LEN(D123)=0),\"\",IF(AND(RIGHT(B123,1)*1=1,C123=8),-2000,IF(L123>=38,AB123,IF(L123<=31,AC123,AE123))))","v":""},{"$f":"IF(LEN(A123)=0,\"\",INDEX(Str!$C$1:$C$20,MATCH(ROUND(F123,1),Str!$A$1:$A$20,1)))","v":""},"","",{"$f":"IF(LEN(A123)=0,\"\",INDEX(Uni!$C$1:$C$20,MATCH(ROUND($G123,1),Uni!$A$1:$A$20,1)))","v":""},null,"",{"$f":"IF(LEN(A123)=0,\"\",IF(OR(LEN(B123)=0,LEN(C123)=0,LEN(D123)=0,LEN(E123)=0,LEN(F123)=0,LEN(G123)=0),\"no HVI data\",IF('Base Values'!$B$6+(SUM($N123:$R123)/100)<0,0,'Base Values'!$B$6+(SUM(N123:R123)/100))))","v":""},null,{"$f":"IF(LEN(A123)=0,\"\",IF(LEN(H123)=0,INDEX(Ext!$A$1:$G$5,MATCH(0,Ext!$A$1:$A$5,0),MATCH(H$7,Ext!$A$2:$E$2,0)),IF(AND(H123>=0,H123<3),INDEX(Ext!$A$1:$G$5,MATCH(H123,Ext!$A$1:$A$5,0),MATCH(H$7,Ext!$A$2:$E$2,0)),\"invalid entry\")))","v":""},{"$f":"IF(LEN(B123)=0,\"\",IF(LEN(I123)=0,INDEX(Ext!$A$1:$G$5,MATCH(0,Ext!$A$1:$A$5,0),MATCH(I$7,Ext!$A$2:$E$2,0)),IF(AND(I123>=0,I123<3),INDEX(Ext!$A$1:$G$5,MATCH(I123,Ext!$A$1:$A$5,0),MATCH(I$7,Ext!$A$2:$E$2,0)),\"invalid entry\")))","v":""},{"$f":"IF(LEN(C123)=0,\"\",IF(LEN(J123)=0,INDEX(Ext!$A$1:$G$5,MATCH(0,Ext!$A$1:$A$5,0),MATCH(J$7,Ext!$A$2:$E$2,0)),IF(AND(J123>=0,J123<3),INDEX(Ext!$A$1:$G$5,MATCH(J123,Ext!$A$1:$A$5,0),MATCH(J$7,Ext!$A$2:$E$2,0)),\"invalid entry\")))","v":""}]
[null,null,null,null,null,null,null,null,null,null,null,{"$f":"IF(LEN(A124)=0,\"\",IF(LEN(E124)=0,\"HVI data needed\",INDEX('Staple Lookup'!$C$3:$C$100,MATCH(TRUE,'Staple Lookup'!$B$3:$B$100>=ROUND(E124,2),0))))","v":""},null,{"$f":"IF(OR(LEN(B124)=0,LEN(C124)=0,LEN(D124)=0),\"\",IF(AND(RIGHT(B124,1)*1=1,C124=8),-2000,IF(L124>=38,AB124,IF(L124<=31,AC124,AE124))))","v":""},{"$f":"IF(LEN(A124)=0,\"\",INDEX(Str!$C$1:$C$20,MATCH(ROUND(F124,1),Str!$A$1:$A$20,1)))","v":""},"","",{"$f":"IF(LEN(A124)=0,\"\",INDEX(Uni!$C$1:$C$20,MATCH(ROUND($G124,1),Uni!$A$1:$A$20,1)))","v":""},null,"",{"$f":"IF(LEN(A124)=0,\"\",IF(OR(LEN(B124)=0,LEN(C124)=0,LEN(D124)=0,LEN(E124)=0,LEN(F124)=0,LEN(G124)=0),\"no HVI data\",IF('Base Values'!$B$6+(SUM($N124:$R124)/100)<0,0,'Base Values'!$B$6+(SUM(N124:R124)/100))))","v":""},null,{"$f":"IF(LEN(A124)=0,\"\",IF(LEN(H124)=0,INDEX(Ext!$A$1:$G$5,MATCH(0,Ext!$A$1:$A$5,0),MATCH(H$7,Ext!$A$2:$E$2,0)),IF(AND(H124>=0,H124<3),INDEX(Ext!$A$1:$G$5,MATCH(H124,Ext!$A$1:$A$5,0),MATCH(H$7,Ext!$A$2:$E$2,0)),\"invalid entry\")))","v":""},{"$f":"IF(LEN(B124)=0,\"\",IF(LEN(I124)=0,INDEX(Ext!$A$1:$G$5,MATCH(0,Ext!$A$1:$A$5,0),MATCH(I$7,Ext!$A$2:$E$2,0)),IF(AND(I124>=0,I124<3),INDEX(Ext!$A$1:$G$5,MATCH(I124,Ext!$A$1:$A$5,0),MATCH(I$7,Ext!$A$2:$E$2,0)),\"invalid entry\")))","v":""},{"$f":"IF(LEN(C124)=0,\"\",IF(LEN(J124)=0,INDEX(Ext!$A$1:$G$5,MATCH(0,Ext!$A$1:$A$5,0),MATCH(J$7,Ext!$A$2:$E$2,0)),IF(AND(J124>=0,J124<3),INDEX(Ext!$A$1:$G$5,MATCH(J124,Ext!$A$1:$A$5,0),MATCH(J$7,Ext!$A$2:$E$2,0)),\"invalid entry\")))","v":""}]
[null,null,null,null,null,null,null,null,null,null,null,{"$f":"IF(LEN(A125)=0,\"\",IF(LEN(E125)=0,\"HVI data needed\",INDEX('Staple Lookup'!$C$3:$C$100,MATCH(TRUE,'Staple Lookup'!$B$3:$B$100>=ROUND(E125,2),0))))","v":""},null,{"$f":"IF(OR(LEN(B125)=0,LEN(C125)=0,LEN(D125)=0),\"\",IF(AND(RIGHT(B125,1)*1=1,C125=8),-2000,IF(L125>=38,AB125,IF(L125<=31,AC125,AE125))))","v":""},{"$f":"IF(LEN(A125)=0,\"\",INDEX(Str!$C$1:$C$20,MATCH(ROUND(F125,1),Str!$A$1:$A$20,1)))","v":""},"","",{"$f":"IF(LEN(A125)=0,\"\",INDEX(Uni!$C$1:$C$20,MATCH(ROUND($G125,1),Uni!$A$1:$A$20,1)))","v":""},null,"",{"$f":"IF(LEN(A125)=0,\"\",IF(OR(LEN(B125)=0,LEN(C125)=0,LEN(D125)=0,LEN(E125)=0,LEN(F125)=0,LEN(G125)=0),\"no HVI data\",IF('Base Values'!$B$6+(SUM($N125:$R125)/100)<0,0,'Base Values'!$B$6+(SUM(N125:R125)/100))))","v":""},null,{"$f":"IF(LEN(A125)=0,\"\",IF(LEN(H125)=0,INDEX(Ext!$A$1:$G$5,MATCH(0,Ext!$A$1:$A$5,0),MATCH(H$7,Ext!$A$2:$E$2,0)),IF(AND(H125>=0,H125<3),INDEX(Ext!$A$1:$G$5,MATCH(H125,Ext!$A$1:$A$5,0),MATCH(H$7,Ext!$A$2:$E$2,0)),\"invalid entry\")))","v":""},{"$f":"IF(LEN(B125)=0,\"\",IF(LEN(I125)=0,INDEX(Ext!$A$1:$G$5,MATCH(0,Ext!$A$1:$A$5,0),MATCH(I$7,Ext!$A$2:$E$2,0)),IF(AND(I125>=0,I125<3),INDEX(Ext!$A$1:$G$5,MATCH(I125,Ext!$A$1:$A$5,0),MATCH(I$7,Ext!$A$2:$E$2,0)),\"invalid entry\")))","v":""},{"$f":"IF(LEN(C125)=0,\"\",IF(LEN(J125)=0,INDEX(Ext!$A$1:$G$5,MATCH(0,Ext!$A$1:$A$5,0),MATCH(J$7,Ext!$A$2:$E$2,0)),IF(AND(J125>=0,J125<3),INDEX(Ext!$A$1:$G$5,MATCH(J125,Ext!$A$1:$A$5,0),MATCH(J$7,Ext!$A$2:$E$2,0)),\"invalid entry\")))","v":""}]
[null,null,null,null,null,null,null,null,null,null,null,{"$f":"IF(LEN(A126)=0,\"\",IF(LEN(E126)=0,\"HVI data needed\",INDEX('Staple Lookup'!$C$3:$C$100,MATCH(TRUE,'Staple Lookup'!$B$3:$B$100>=ROUND(E126,2),0))))","v":""},null,{"$f":"IF(OR(LEN(B126)=0,LEN(C126)=0,LEN(D126)=0),\"\",IF(AND(RIGHT(B126,1)*1=1,C126=8),-2000,IF(L126>=38,AB126,IF(L126<=31,AC126,AE126))))","v":""},{"$f":"IF(LEN(A126)=0,\"\",INDEX(Str!$C$1:$C$20,MATCH(ROUND(F126,1),Str!$A$1:$A$20,1)))","v":""},"","",{"$f":"IF(LEN(A126)=0,\"\",INDEX(Uni!$C$1:$C$20,MATCH(ROUND($G126,1),Uni!$A$1:$A$20,1)))","v":""},null,"",{"$f":"IF(LEN(A126)=0,\"\",IF(OR(LEN(B126)=0,LEN(C126)=0,LEN(D126)=0,LEN(E126)=0,LEN(F126)=0,LEN(G126)=0),\"no HVI data\",IF('Base Values'!$B$6+(SUM($N126:$R126)/100)<0,0,'Base Values'!$B$6+(SUM(N126:R126)/100))))","v":""},null,{"$f":"IF(LEN(A126)=0,\"\",IF(LEN(H126)=0,INDEX(Ext!$A$1:$G$5,MATCH(0,Ext!$A$1:$A$5,0),MATCH(H$7,Ext!$A$2:$E$2,0)),IF(AND(H126>=0,H126<3),INDEX(Ext!$A$1:$G$5,MATCH(H126,Ext!$A$1:$A$5,0),MATCH(H$7,Ext!$A$2:$E$2,0)),\"invalid entry\")))","v":""},{"$f":"IF(LEN(B126)=0,\"\",IF(LEN(I126)=0,INDEX(Ext!$A$1:$G$5,MATCH(0,Ext!$A$1:$A$5,0),MATCH(I$7,Ext!$A$2:$E$2,0)),IF(AND(I126>=0,I126<3),INDEX(Ext!$A$1:$G$5,MATCH(I126,Ext!$A$1:$A$5,0),MATCH(I$7,Ext!$A$2:$E$2,0)),\"invalid entry\")))","v":""},{"$f":"IF(LEN(C126)=0,\"\",IF(LEN(J126)=0,INDEX(Ext!$A$1:$G$5,MATCH(0,Ext!$A$1:$A$5,0),MATCH(J$7,Ext!$A$2:$E$2,0)),IF(AND(J126>=0,J126<3),INDEX(Ext!$A$1:$G$5,MATCH(J126,Ext!$A$1:$A$5,0),MATCH(J$7,Ext!$A$2:$E$2,0)),\"invalid entry\")))","v":""}]
[null,null,null,null,null,null,null,null,null,null,null,{"$f":"IF(LEN(A127)=0,\"\",IF(LEN(E127)=0,\"HVI data needed\",INDEX('Staple Lookup'!$C$3:$C$100,MATCH(TRUE,'Staple Lookup'!$B$3:$B$100>=ROUND(E127,2),0))))","v":""},null,{"$f":"IF(OR(LEN(B127)=0,LEN(C127)=0,LEN(D127)=0),\"\",IF(AND(RIGHT(B127,1)*1=1,C127=8),-2000,IF(L127>=38,AB127,IF(L127<=31,AC127,AE127))))","v":""},{"$f":"IF(LEN(A127)=0,\"\",INDEX(Str!$C$1:$C$20,MATCH(ROUND(F127,1),Str!$A$1:$A$20,1)))","v":""},"","",{"$f":"IF(LEN(A127)=0,\"\",INDEX(Uni!$C$1:$C$20,MATCH(ROUND($G127,1),Uni!$A$1:$A$20,1)))","v":""},null,"",{"$f":"IF(LEN(A127)=0,\"\",IF(OR(LEN(B127)=0,LEN(C127)=0,LEN(D127)=0,LEN(E127)=0,LEN(F127)=0,LEN(G127)=0),\"no HVI data\",IF('Base Values'!$B$6+(SUM($N127:$R127)/100)<0,0,'Base Values'!$B$6+(SUM(N127:R127)/100))))","v":""},null,{"$f":"IF(LEN(A127)=0,\"\",IF(LEN(H127)=0,INDEX(Ext!$A$1:$G$5,MATCH(0,Ext!$A$1:$A$5,0),MATCH(H$7,Ext!$A$2:$E$2,0)),IF(AND(H127>=0,H127<3),INDEX(Ext!$A$1:$G$5,MATCH(H127,Ext!$A$1:$A$5,0),MATCH(H$7,Ext!$A$2:$E$2,0)),\"invalid entry\")))","v":""},{"$f":"IF(LEN(B127)=0,\"\",IF(LEN(I127)=0,INDEX(Ext!$A$1:$G$5,MATCH(0,Ext!$A$1:$A$5,0),MATCH(I$7,Ext!$A$2:$E$2,0)),IF(AND(I127>=0,I127<3),INDEX(Ext!$A$1:$G$5,MATCH(I127,Ext!$A$1:$A$5,0),MATCH(I$7,Ext!$A$2:$E$2,0)),\"invalid entry\")))","v":""},{"$f":"IF(LEN(C127)=0,\"\",IF(LEN(J127)=0,INDEX(Ext!$A$1:$G$5,MATCH(0,Ext!$A$1:$A$5,0),MATCH(J$7,Ext!$A$2:$E$2,0)),IF(AND(J127>=0,J127<3),INDEX(Ext!$A$1:$G$5,MATCH(J127,Ext!$A$1:$A$5,0),MATCH(J$7,Ext!$A$2:$E$2,0)),\"invalid entry\")))","v":""}]
[null,null,null,null,null,null,null,null,null,null,null,{"$f":"IF(LEN(A128)=0,\"\",IF(LEN(E128)=0,\"HVI data needed\",INDEX('Staple Lookup'!$C$3:$C$100,MATCH(TRUE,'Staple Lookup'!$B$3:$B$100>=ROUND(E128,2),0))))","v":""},null,{"$f":"IF(OR(LEN(B128)=0,LEN(C128)=0,LEN(D128)=0),\"\",IF(AND(RIGHT(B128,1)*1=1,C128=8),-2000,IF(L128>=38,AB128,IF(L128<=31,AC128,AE128))))","v":""},{"$f":"IF(LEN(A128)=0,\"\",INDEX(Str!$C$1:$C$20,MATCH(ROUND(F128,1),Str!$A$1:$A$20,1)))","v":""},"","",{"$f":"IF(LEN(A128)=0,\"\",INDEX(Uni!$C$1:$C$20,MATCH(ROUND($G128,1),Uni!$A$1:$A$20,1)))","v":""},null,"",{"$f":"IF(LEN(A128)=0,\"\",IF(OR(LEN(B128)=0,LEN(C128)=0,LEN(D128)=0,LEN(E128)=0,LEN(F128)=0,LEN(G128)=0),\"no HVI data\",IF('Base Values'!$B$6+(SUM($N128:$R128)/100)<0,0,'Base Values'!$B$6+(SUM(N128:R128)/100))))","v":""},null,{"$f":"IF(LEN(A128)=0,\"\",IF(LEN(H128)=0,INDEX(Ext!$A$1:$G$5,MATCH(0,Ext!$A$1:$A$5,0),MATCH(H$7,Ext!$A$2:$E$2,0)),IF(AND(H128>=0,H128<3),INDEX(Ext!$A$1:$G$5,MATCH(H128,Ext!$A$1:$A$5,0),MATCH(H$7,Ext!$A$2:$E$2,0)),\"invalid entry\")))","v":""},{"$f":"IF(LEN(B128)=0,\"\",IF(LEN(I128)=0,INDEX(Ext!$A$1:$G$5,MATCH(0,Ext!$A$1:$A$5,0),MATCH(I$7,Ext!$A$2:$E$2,0)),IF(AND(I128>=0,I128<3),INDEX(Ext!$A$1:$G$5,MATCH(I128,Ext!$A$1:$A$5,0),MATCH(I$7,Ext!$A$2:$E$2,0)),\"invalid entry\")))","v":""},{"$f":"IF(LEN(C128)=0,\"\",IF(LEN(J128)=0,INDEX(Ext!$A$1:$G$5,MATCH(0,Ext!$A$1:$A$5,0),MATCH(J$7,Ext!$A$2:$E$2,0)),IF(AND(J128>=0,J128<3),INDEX(Ext!$A$1:$G$5,MATCH(J128,Ext!$A$1:$A$5,0),MATCH(J$7,Ext!$A$2:$E$2,0)),\"invalid entry\")))","v":""}]
[null,null,null,null,null,null,null,null,null,null,null,{"$f":"IF(LEN(A129)=0,\"\",IF(LEN(E129)=0,\"HVI data needed\",INDEX('Staple Lookup'!$C$3:$C$100,MATCH(TRUE,'Staple Lookup'!$B$3:$B$100>=ROUND(E129,2),0))))","v":""},null,{"$f":"IF(OR(LEN(B129)=0,LEN(C129)=0,LEN(D129)=0),\"\",IF(AND(RIGHT(B129,1)*1=1,C129=8),-2000,IF(L129>=38,AB129,IF(L129<=31,AC129,AE129))))","v":""},{"$f":"IF(LEN(A129)=0,\"\",INDEX(Str!$C$1:$C$20,MATCH(ROUND(F129,1),Str!$A$1:$A$20,1)))","v":""},"","",{"$f":"IF(LEN(A129)=0,\"\",INDEX(Uni!$C$1:$C$20,MATCH(ROUND($G129,1),Uni!$A$1:$A$20,1)))","v":""},null,"",{"$f":"IF(LEN(A129)=0,\"\",IF(OR(LEN(B129)=0,LEN(C129)=0,LEN(D129)=0,LEN(E129)=0,LEN(F129)=0,LEN(G129)=0),\"no HVI data\",IF('Base Values'!$B$6+(SUM($N129:$R129)/100)<0,0,'Base Values'!$B$6+(SUM(N129:R129)/100))))","v":""},null,{"$f":"IF(LEN(A129)=0,\"\",IF(LEN(H129)=0,INDEX(Ext!$A$1:$G$5,MATCH(0,Ext!$A$1:$A$5,0),MATCH(H$7,Ext!$A$2:$E$2,0)),IF(AND(H129>=0,H129<3),INDEX(Ext!$A$1:$G$5,MATCH(H129,Ext!$A$1:$A$5,0),MATCH(H$7,Ext!$A$2:$E$2,0)),\"invalid entry\")))","v":""},{"$f":"IF(LEN(B129)=0,\"\",IF(LEN(I129)=0,INDEX(Ext!$A$1:$G$5,MATCH(0,Ext!$A$1:$A$5,0),MATCH(I$7,Ext!$A$2:$E$2,0)),IF(AND(I129>=0,I129<3),INDEX(Ext!$A$1:$G$5,MATCH(I129,Ext!$A$1:$A$5,0),MATCH(I$7,Ext!$A$2:$E$2,0)),\"invalid entry\")))","v":""},{"$f":"IF(LEN(C129)=0,\"\",IF(LEN(J129)=0,INDEX(Ext!$A$1:$G$5,MATCH(0,Ext!$A$1:$A$5,0),MATCH(J$7,Ext!$A$2:$E$2,0)),IF(AND(J129>=0,J129<3),INDEX(Ext!$A$1:$G$5,MATCH(J129,Ext!$A$1:$A$5,0),MATCH(J$7,Ext!$A$2:$E$2,0)),\"invalid entry\")))","v":""}]
[null,null,null,null,null,null,null,null,null,null,null,{"$f":"IF(LEN(A130)=0,\"\",IF(LEN(E130)=0,\"HVI data needed\",INDEX('Staple Lookup'!$C$3:$C$100,MATCH(TRUE,'Staple Lookup'!$B$3:$B$100>=ROUND(E130,2),0))))","v":""},null,{"$f":"IF(OR(LEN(B130)=0,LEN(C130)=0,LEN(D130)=0),\"\",IF(AND(RIGHT(B130,1)*1=1,C130=8),-2000,IF(L130>=38,AB130,IF(L130<=31,AC130,AE130))))","v":""},{"$f":"IF(LEN(A130)=0,\"\",INDEX(Str!$C$1:$C$20,MATCH(ROUND(F130,1),Str!$A$1:$A$20,1)))","v":""},"","",{"$f":"IF(LEN(A130)=0,\"\",INDEX(Uni!$C$1:$C$20,MATCH(ROUND($G130,1),Uni!$A$1:$A$20,1)))","v":""},null,"",{"$f":"IF(LEN(A130)=0,\"\",IF(OR(LEN(B130)=0,LEN(C130)=0,LEN(D130)=0,LEN(E130)=0,LEN(F130)=0,LEN(G130)=0),\"no HVI data\",IF('Base Values'!$B$6+(SUM($N130:$R130)/100)<0,0,'Base Values'!$B$6+(SUM(N130:R130)/100))))","v":""},null,{"$f":"IF(LEN(A130)=0,\"\",IF(LEN(H130)=0,INDEX(Ext!$A$1:$G$5,MATCH(0,Ext!$A$1:$A$5,0),MATCH(H$7,Ext!$A$2:$E$2,0)),IF(AND(H130>=0,H130<3),INDEX(Ext!$A$1:$G$5,MATCH(H130,Ext!$A$1:$A$5,0),MATCH(H$7,Ext!$A$2:$E$2,0)),\"invalid entry\")))","v":""},{"$f":"IF(LEN(B130)=0,\"\",IF(LEN(I130)=0,INDEX(Ext!$A$1:$G$5,MATCH(0,Ext!$A$1:$A$5,0),MATCH(I$7,Ext!$A$2:$E$2,0)),IF(AND(I130>=0,I130<3),INDEX(Ext!$A$1:$G$5,MATCH(I130,Ext!$A$1:$A$5,0),MATCH(I$7,Ext!$A$2:$E$2,0)),\"invalid entry\")))","v":""},{"$f":"IF(LEN(C130)=0,\"\",IF(LEN(J130)=0,INDEX(Ext!$A$1:$G$5,MATCH(0,Ext!$A$1:$A$5,0),MATCH(J$7,Ext!$A$2:$E$2,0)),IF(AND(J130>=0,J130<3),INDEX(Ext!$A$1:$G$5,MATCH(J130,Ext!$A$1:$A$5,0),MATCH(J$7,Ext!$A$2:$E$2,0)),\"invalid entry\")))","v":""}]
[null,null,null,null,null,null,null,null,null,null,null,{"$f":"IF(LEN(A131)=0,\"\",IF(LEN(E131)=0,\"HVI data needed\",INDEX('Staple Lookup'!$C$3:$C$100,MATCH(TRUE,'Staple Lookup'!$B$3:$B$100>=ROUND(E131,2),0))))","v":""},null,{"$f":"IF(OR(LEN(B131)=0,LEN(C131)=0,LEN(D131)=0),\"\",IF(AND(RIGHT(B131,1)*1=1,C131=8),-2000,IF(L131>=38,AB131,IF(L131<=31,AC131,AE131))))","v":""},{"$f":"IF(LEN(A131)=0,\"\",INDEX(Str!$C$1:$C$20,MATCH(ROUND(F131,1),Str!$A$1:$A$20,1)))","v":""},"","",{"$f":"IF(LEN(A131)=0,\"\",INDEX(Uni!$C$1:$C$20,MATCH(ROUND($G131,1),Uni!$A$1:$A$20,1)))","v":""},null,"",{"$f":"IF(LEN(A131)=0,\"\",IF(OR(LEN(B131)=0,LEN(C131)=0,LEN(D131)=0,LEN(E131)=0,LEN(F131)=0,LEN(G131)=0),\"no HVI data\",IF('Base Values'!$B$6+(SUM($N131:$R131)/100)<0,0,'Base Values'!$B$6+(SUM(N131:R131)/100))))","v":""},null,{"$f":"IF(LEN(A131)=0,\"\",IF(LEN(H131)=0,INDEX(Ext!$A$1:$G$5,MATCH(0,Ext!$A$1:$A$5,0),MATCH(H$7,Ext!$A$2:$E$2,0)),IF(AND(H131>=0,H131<3),INDEX(Ext!$A$1:$G$5,MATCH(H131,Ext!$A$1:$A$5,0),MATCH(H$7,Ext!$A$2:$E$2,0)),\"invalid entry\")))","v":""},{"$f":"IF(LEN(B131)=0,\"\",IF(LEN(I131)=0,INDEX(Ext!$A$1:$G$5,MATCH(0,Ext!$A$1:$A$5,0),MATCH(I$7,Ext!$A$2:$E$2,0)),IF(AND(I131>=0,I131<3),INDEX(Ext!$A$1:$G$5,MATCH(I131,Ext!$A$1:$A$5,0),MATCH(I$7,Ext!$A$2:$E$2,0)),\"invalid entry\")))","v":""},{"$f":"IF(LEN(C131)=0,\"\",IF(LEN(J131)=0,INDEX(Ext!$A$1:$G$5,MATCH(0,Ext!$A$1:$A$5,0),MATCH(J$7,Ext!$A$2:$E$2,0)),IF(AND(J131>=0,J131<3),INDEX(Ext!$A$1:$G$5,MATCH(J131,Ext!$A$1:$A$5,0),MATCH(J$7,Ext!$A$2:$E$2,0)),\"invalid entry\")))","v":""}]
[null,null,null,null,null,null,null,null,null,null,null,{"$f":"IF(LEN(A132)=0,\"\",IF(LEN(E132)=0,\"HVI data needed\",INDEX('Staple Lookup'!$C$3:$C$100,MATCH(TRUE,'Staple Lookup'!$B$3:$B$100>=ROUND(E132,2),0))))","v":""},null,{"$f":"IF(OR(LEN(B132)=0,LEN(C132)=0,LEN(D132)=0),\"\",IF(AND(RIGHT(B132,1)*1=1,C132=8),-2000,IF(L132>=38,AB132,IF(L132<=31,AC132,AE132))))","v":""},{"$f":"IF(LEN(A132)=0,\"\",INDEX(Str!$C$1:$C$20,MATCH(ROUND(F132,1),Str!$A$1:$A$20,1)))","v":""},"","",{"$f":"IF(LEN(A132)=0,\"\",INDEX(Uni!$C$1:$C$20,MATCH(ROUND($G132,1),Uni!$A$1:$A$20,1)))","v":""},null,"",{"$f":"IF(LEN(A132)=0,\"\",IF(OR(LEN(B132)=0,LEN(C132)=0,LEN(D132)=0,LEN(E132)=0,LEN(F132)=0,LEN(G132)=0),\"no HVI data\",IF('Base Values'!$B$6+(SUM($N132:$R132)/100)<0,0,'Base Values'!$B$6+(SUM(N132:R132)/100))))","v":""},null,{"$f":"IF(LEN(A132)=0,\"\",IF(LEN(H132)=0,INDEX(Ext!$A$1:$G$5,MATCH(0,Ext!$A$1:$A$5,0),MATCH(H$7,Ext!$A$2:$E$2,0)),IF(AND(H132>=0,H132<3),INDEX(Ext!$A$1:$G$5,MATCH(H132,Ext!$A$1:$A$5,0),MATCH(H$7,Ext!$A$2:$E$2,0)),\"invalid entry\")))","v":""},{"$f":"IF(LEN(B132)=0,\"\",IF(LEN(I132)=0,INDEX(Ext!$A$1:$G$5,MATCH(0,Ext!$A$1:$A$5,0),MATCH(I$7,Ext!$A$2:$E$2,0)),IF(AND(I132>=0,I132<3),INDEX(Ext!$A$1:$G$5,MATCH(I132,Ext!$A$1:$A$5,0),MATCH(I$7,Ext!$A$2:$E$2,0)),\"invalid entry\")))","v":""},{"$f":"IF(LEN(C132)=0,\"\",IF(LEN(J132)=0,INDEX(Ext!$A$1:$G$5,MATCH(0,Ext!$A$1:$A$5,0),MATCH(J$7,Ext!$A$2:$E$2,0)),IF(AND(J132>=0,J132<3),INDEX(Ext!$A$1:$G$5,MATCH(J132,Ext!$A$1:$A$5,0),MATCH(J$7,Ext!$A$2:$E$2,0)),\"invalid entry\")))","v":""}]
[null,null,null,null,null,null,null,null,null,null,null,{"$f":"IF(LEN(A133)=0,\"\",IF(LEN(E133)=0,\"HVI data needed\",INDEX('Staple Lookup'!$C$3:$C$100,MATCH(TRUE,'Staple Lookup'!$B$3:$B$100>=ROUND(E133,2),0))))","v":""},null,{"$f":"IF(OR(LEN(B133)=0,LEN(C133)=0,LEN(D133)=0),\"\",IF(AND(RIGHT(B133,1)*1=1,C133=8),-2000,IF(L133>=38,AB133,IF(L133<=31,AC133,AE133))))","v":""},{"$f":"IF(LEN(A133)=0,\"\",INDEX(Str!$C$1:$C$20,MATCH(ROUND(F133,1),Str!$A$1:$A$20,1)))","v":""},"","",{"$f":"IF(LEN(A133)=0,\"\",INDEX(Uni!$C$1:$C$20,MATCH(ROUND($G133,1),Uni!$A$1:$A$20,1)))","v":""},null,"",{"$f":"IF(LEN(A133)=0,\"\",IF(OR(LEN(B133)=0,LEN(C133)=0,LEN(D133)=0,LEN(E133)=0,LEN(F133)=0,LEN(G133)=0),\"no HVI data\",IF('Base Values'!$B$6+(SUM($N133:$R133)/100)<0,0,'Base Values'!$B$6+(SUM(N133:R133)/100))))","v":""},null,{"$f":"IF(LEN(A133)=0,\"\",IF(LEN(H133)=0,INDEX(Ext!$A$1:$G$5,MATCH(0,Ext!$A$1:$A$5,0),MATCH(H$7,Ext!$A$2:$E$2,0)),IF(AND(H133>=0,H133<3),INDEX(Ext!$A$1:$G$5,MATCH(H133,Ext!$A$1:$A$5,0),MATCH(H$7,Ext!$A$2:$E$2,0)),\"invalid entry\")))","v":""},{"$f":"IF(LEN(B133)=0,\"\",IF(LEN(I133)=0,INDEX(Ext!$A$1:$G$5,MATCH(0,Ext!$A$1:$A$5,0),MATCH(I$7,Ext!$A$2:$E$2,0)),IF(AND(I133>=0,I133<3),INDEX(Ext!$A$1:$G$5,MATCH(I133,Ext!$A$1:$A$5,0),MATCH(I$7,Ext!$A$2:$E$2,0)),\"invalid entry\")))","v":""},{"$f":"IF(LEN(C133)=0,\"\",IF(LEN(J133)=0,INDEX(Ext!$A$1:$G$5,MATCH(0,Ext!$A$1:$A$5,0),MATCH(J$7,Ext!$A$2:$E$2,0)),IF(AND(J133>=0,J133<3),INDEX(Ext!$A$1:$G$5,MATCH(J133,Ext!$A$1:$A$5,0),MATCH(J$7,Ext!$A$2:$E$2,0)),\"invalid entry\")))","v":""}]
[null,null,null,null,null,null,null,null,null,null,null,{"$f":"IF(LEN(A134)=0,\"\",IF(LEN(E134)=0,\"HVI data needed\",INDEX('Staple Lookup'!$C$3:$C$100,MATCH(TRUE,'Staple Lookup'!$B$3:$B$100>=ROUND(E134,2),0))))","v":""},null,{"$f":"IF(OR(LEN(B134)=0,LEN(C134)=0,LEN(D134)=0),\"\",IF(AND(RIGHT(B134,1)*1=1,C134=8),-2000,IF(L134>=38,AB134,IF(L134<=31,AC134,AE134))))","v":""},{"$f":"IF(LEN(A134)=0,\"\",INDEX(Str!$C$1:$C$20,MATCH(ROUND(F134,1),Str!$A$1:$A$20,1)))","v":""},"","",{"$f":"IF(LEN(A134)=0,\"\",INDEX(Uni!$C$1:$C$20,MATCH(ROUND($G134,1),Uni!$A$1:$A$20,1)))","v":""},null,"",{"$f":"IF(LEN(A134)=0,\"\",IF(OR(LEN(B134)=0,LEN(C134)=0,LEN(D134)=0,LEN(E134)=0,LEN(F134)=0,LEN(G134)=0),\"no HVI data\",IF('Base Values'!$B$6+(SUM($N134:$R134)/100)<0,0,'Base Values'!$B$6+(SUM(N134:R134)/100))))","v":""},null,{"$f":"IF(LEN(A134)=0,\"\",IF(LEN(H134)=0,INDEX(Ext!$A$1:$G$5,MATCH(0,Ext!$A$1:$A$5,0),MATCH(H$7,Ext!$A$2:$E$2,0)),IF(AND(H134>=0,H134<3),INDEX(Ext!$A$1:$G$5,MATCH(H134,Ext!$A$1:$A$5,0),MATCH(H$7,Ext!$A$2:$E$2,0)),\"invalid entry\")))","v":""},{"$f":"IF(LEN(B134)=0,\"\",IF(LEN(I134)=0,INDEX(Ext!$A$1:$G$5,MATCH(0,Ext!$A$1:$A$5,0),MATCH(I$7,Ext!$A$2:$E$2,0)),IF(AND(I134>=0,I134<3),INDEX(Ext!$A$1:$G$5,MATCH(I134,Ext!$A$1:$A$5,0),MATCH(I$7,Ext!$A$2:$E$2,0)),\"invalid entry\")))","v":""},{"$f":"IF(LEN(C134)=0,\"\",IF(LEN(J134)=0,INDEX(Ext!$A$1:$G$5,MATCH(0,Ext!$A$1:$A$5,0),MATCH(J$7,Ext!$A$2:$E$2,0)),IF(AND(J134>=0,J134<3),INDEX(Ext!$A$1:$G$5,MATCH(J134,Ext!$A$1:$A$5,0),MATCH(J$7,Ext!$A$2:$E$2,0)),\"invalid entry\")))","v":""}]
[null,null,null,null,null,null,null,null,null,null,null,{"$f":"IF(LEN(A135)=0,\"\",IF(LEN(E135)=0,\"HVI data needed\",INDEX('Staple Lookup'!$C$3:$C$100,MATCH(TRUE,'Staple Lookup'!$B$3:$B$100>=ROUND(E135,2),0))))","v":""},null,{"$f":"IF(OR(LEN(B135)=0,LEN(C135)=0,LEN(D135)=0),\"\",IF(AND(RIGHT(B135,1)*1=1,C135=8),-2000,IF(L135>=38,AB135,IF(L135<=31,AC135,AE135))))","v":""},{"$f":"IF(LEN(A135)=0,\"\",INDEX(Str!$C$1:$C$20,MATCH(ROUND(F135,1),Str!$A$1:$A$20,1)))","v":""},"","",{"$f":"IF(LEN(A135)=0,\"\",INDEX(Uni!$C$1:$C$20,MATCH(ROUND($G135,1),Uni!$A$1:$A$20,1)))","v":""},null,"",{"$f":"IF(LEN(A135)=0,\"\",IF(OR(LEN(B135)=0,LEN(C135)=0,LEN(D135)=0,LEN(E135)=0,LEN(F135)=0,LEN(G135)=0),\"no HVI data\",IF('Base Values'!$B$6+(SUM($N135:$R135)/100)<0,0,'Base Values'!$B$6+(SUM(N135:R135)/100))))","v":""},null,{"$f":"IF(LEN(A135)=0,\"\",IF(LEN(H135)=0,INDEX(Ext!$A$1:$G$5,MATCH(0,Ext!$A$1:$A$5,0),MATCH(H$7,Ext!$A$2:$E$2,0)),IF(AND(H135>=0,H135<3),INDEX(Ext!$A$1:$G$5,MATCH(H135,Ext!$A$1:$A$5,0),MATCH(H$7,Ext!$A$2:$E$2,0)),\"invalid entry\")))","v":""},{"$f":"IF(LEN(B135)=0,\"\",IF(LEN(I135)=0,INDEX(Ext!$A$1:$G$5,MATCH(0,Ext!$A$1:$A$5,0),MATCH(I$7,Ext!$A$2:$E$2,0)),IF(AND(I135>=0,I135<3),INDEX(Ext!$A$1:$G$5,MATCH(I135,Ext!$A$1:$A$5,0),MATCH(I$7,Ext!$A$2:$E$2,0)),\"invalid entry\")))","v":""},{"$f":"IF(LEN(C135)=0,\"\",IF(LEN(J135)=0,INDEX(Ext!$A$1:$G$5,MATCH(0,Ext!$A$1:$A$5,0),MATCH(J$7,Ext!$A$2:$E$2,0)),IF(AND(J135>=0,J135<3),INDEX(Ext!$A$1:$G$5,MATCH(J135,Ext!$A$1:$A$5,0),MATCH(J$7,Ext!$A$2:$E$2,0)),\"invalid entry\")))","v":""}]
[null,null,null,null,null,null,null,null,null,null,null,{"$f":"IF(LEN(A136)=0,\"\",IF(LEN(E136)=0,\"HVI data needed\",INDEX('Staple Lookup'!$C$3:$C$100,MATCH(TRUE,'Staple Lookup'!$B$3:$B$100>=ROUND(E136,2),0))))","v":""},null,{"$f":"IF(OR(LEN(B136)=0,LEN(C136)=0,LEN(D136)=0),\"\",IF(AND(RIGHT(B136,1)*1=1,C136=8),-2000,IF(L136>=38,AB136,IF(L136<=31,AC136,AE136))))","v":""},{"$f":"IF(LEN(A136)=0,\"\",INDEX(Str!$C$1:$C$20,MATCH(ROUND(F136,1),Str!$A$1:$A$20,1)))","v":""},"","",{"$f":"IF(LEN(A136)=0,\"\",INDEX(Uni!$C$1:$C$20,MATCH(ROUND($G136,1),Uni!$A$1:$A$20,1)))","v":""},null,"",{"$f":"IF(LEN(A136)=0,\"\",IF(OR(LEN(B136)=0,LEN(C136)=0,LEN(D136)=0,LEN(E136)=0,LEN(F136)=0,LEN(G136)=0),\"no HVI data\",IF('Base Values'!$B$6+(SUM($N136:$R136)/100)<0,0,'Base Values'!$B$6+(SUM(N136:R136)/100))))","v":""},null,{"$f":"IF(LEN(A136)=0,\"\",IF(LEN(H136)=0,INDEX(Ext!$A$1:$G$5,MATCH(0,Ext!$A$1:$A$5,0),MATCH(H$7,Ext!$A$2:$E$2,0)),IF(AND(H136>=0,H136<3),INDEX(Ext!$A$1:$G$5,MATCH(H136,Ext!$A$1:$A$5,0),MATCH(H$7,Ext!$A$2:$E$2,0)),\"invalid entry\")))","v":""},{"$f":"IF(LEN(B136)=0,\"\",IF(LEN(I136)=0,INDEX(Ext!$A$1:$G$5,MATCH(0,Ext!$A$1:$A$5,0),MATCH(I$7,Ext!$A$2:$E$2,0)),IF(AND(I136>=0,I136<3),INDEX(Ext!$A$1:$G$5,MATCH(I136,Ext!$A$1:$A$5,0),MATCH(I$7,Ext!$A$2:$E$2,0)),\"invalid entry\")))","v":""},{"$f":"IF(LEN(C136)=0,\"\",IF(LEN(J136)=0,INDEX(Ext!$A$1:$G$5,MATCH(0,Ext!$A$1:$A$5,0),MATCH(J$7,Ext!$A$2:$E$2,0)),IF(AND(J136>=0,J136<3),INDEX(Ext!$A$1:$G$5,MATCH(J136,Ext!$A$1:$A$5,0),MATCH(J$7,Ext!$A$2:$E$2,0)),\"invalid entry\")))","v":""}]
[null,null,null,null,null,null,null,null,null,null,null,{"$f":"IF(LEN(A137)=0,\"\",IF(LEN(E137)=0,\"HVI data needed\",INDEX('Staple Lookup'!$C$3:$C$100,MATCH(TRUE,'Staple Lookup'!$B$3:$B$100>=ROUND(E137,2),0))))","v":""},null,{"$f":"IF(OR(LEN(B137)=0,LEN(C137)=0,LEN(D137)=0),\"\",IF(AND(RIGHT(B137,1)*1=1,C137=8),-2000,IF(L137>=38,AB137,IF(L137<=31,AC137,AE137))))","v":""},{"$f":"IF(LEN(A137)=0,\"\",INDEX(Str!$C$1:$C$20,MATCH(ROUND(F137,1),Str!$A$1:$A$20,1)))","v":""},{"$f":"IF(LEN(A137)=0,\"\",IF(AND(AG137=1,AH137>0),AH137,IF(AND(AG137=0,AH137>0),0,AH137)))","v":""},{"$f":"IF(LEN(A137)=0,\"\",SUM(W137:Z137))","v":""},{"$f":"IF(LEN(A137)=0,\"\",INDEX(Uni!$C$1:$C$20,MATCH(ROUND($G137,1),Uni!$A$1:$A$20,1)))","v":""},null,{"$f":"IF(LEN(A137)=0,\"\",IF(OR(LEN(B137)=0,LEN(C137)=0,LEN(D137)=0,LEN(E137)=0,LEN(F137)=0,LEN(G137)=0),\"no HVI data\",SUM(N137:R137)))","v":""},{"$f":"IF(LEN(A137)=0,\"\",IF(OR(LEN(B137)=0,LEN(C137)=0,LEN(D137)=0,LEN(E137)=0,LEN(F137)=0,LEN(G137)=0),\"no HVI data\",IF('Base Values'!$B$6+(SUM($N137:$R137)/100)<0,0,'Base Values'!$B$6+(SUM(N137:R137)/100))))","v":""},null,{"$f":"IF(LEN(A137)=0,\"\",IF(LEN(H137)=0,INDEX(Ext!$A$1:$G$5,MATCH(0,Ext!$A$1:$A$5,0),MATCH(H$7,Ext!$A$2:$E$2,0)),IF(AND(H137>=0,H137<3),INDEX(Ext!$A$1:$G$5,MATCH(H137,Ext!$A$1:$A$5,0),MATCH(H$7,Ext!$A$2:$E$2,0)),\"invalid entry\")))","v":""},{"$f":"IF(LEN(B137)=0,\"\",IF(LEN(I137)=0,INDEX(Ext!$A$1:$G$5,MATCH(0,Ext!$A$1:$A$5,0),MATCH(I$7,Ext!$A$2:$E$2,0)),IF(AND(I137>=0,I137<3),INDEX(Ext!$A$1:$G$5,MATCH(I137,Ext!$A$1:$A$5,0),MATCH(I$7,Ext!$A$2:$E$2,0)),\"invalid entry\")))","v":""},{"$f":"IF(LEN(C137)=0,\"\",IF(LEN(J137)=0,INDEX(Ext!$A$1:$G$5,MATCH(0,Ext!$A$1:$A$5,0),MATCH(J$7,Ext!$A$2:$E$2,0)),IF(AND(J137>=0,J137<3),INDEX(Ext!$A$1:$G$5,MATCH(J137,Ext!$A$1:$A$5,0),MATCH(J$7,Ext!$A$2:$E$2,0)),\"invalid entry\")))","v":""}]
[null,null,null,null,null,null,null,null,null,null,null,{"$f":"IF(LEN(A138)=0,\"\",IF(LEN(E138)=0,\"HVI data needed\",INDEX('Staple Lookup'!$C$3:$C$100,MATCH(TRUE,'Staple Lookup'!$B$3:$B$100>=ROUND(E138,2),0))))","v":""},null,{"$f":"IF(OR(LEN(B138)=0,LEN(C138)=0,LEN(D138)=0),\"\",IF(AND(RIGHT(B138,1)*1=1,C138=8),-2000,IF(L138>=38,AB138,IF(L138<=31,AC138,AE138))))","v":""},{"$f":"IF(LEN(A138)=0,\"\",INDEX(Str!$C$1:$C$20,MATCH(ROUND(F138,1),Str!$A$1:$A$20,1)))","v":""},"","",{"$f":"IF(LEN(A138)=0,\"\",INDEX(Uni!$C$1:$C$20,MATCH(ROUND($G138,1),Uni!$A$1:$A$20,1)))","v":""},null,"",{"$f":"IF(LEN(A138)=0,\"\",IF(OR(LEN(B138)=0,LEN(C138)=0,LEN(D138)=0,LEN(E138)=0,LEN(F138)=0,LEN(G138)=0),\"no HVI data\",IF('Base Values'!$B$6+(SUM($N138:$R138)/100)<0,0,'Base Values'!$B$6+(SUM(N138:R138)/100))))","v":""},null,{"$f":"IF(LEN(A138)=0,\"\",IF(LEN(H138)=0,INDEX(Ext!$A$1:$G$5,MATCH(0,Ext!$A$1:$A$5,0),MATCH(H$7,Ext!$A$2:$E$2,0)),IF(AND(H138>=0,H138<3),INDEX(Ext!$A$1:$G$5,MATCH(H138,Ext!$A$1:$A$5,0),MATCH(H$7,Ext!$A$2:$E$2,0)),\"invalid entry\")))","v":""},{"$f":"IF(LEN(B138)=0,\"\",IF(LEN(I138)=0,INDEX(Ext!$A$1:$G$5,MATCH(0,Ext!$A$1:$A$5,0),MATCH(I$7,Ext!$A$2:$E$2,0)),IF(AND(I138>=0,I138<3),INDEX(Ext!$A$1:$G$5,MATCH(I138,Ext!$A$1:$A$5,0),MATCH(I$7,Ext!$A$2:$E$2,0)),\"invalid entry\")))","v":""},{"$f":"IF(LEN(C138)=0,\"\",IF(LEN(J138)=0,INDEX(Ext!$A$1:$G$5,MATCH(0,Ext!$A$1:$A$5,0),MATCH(J$7,Ext!$A$2:$E$2,0)),IF(AND(J138>=0,J138<3),INDEX(Ext!$A$1:$G$5,MATCH(J138,Ext!$A$1:$A$5,0),MATCH(J$7,Ext!$A$2:$E$2,0)),\"invalid entry\")))","v":""}]
[null,null,null,null,null,null,null,null,null,null,null,{"$f":"IF(LEN(A139)=0,\"\",IF(LEN(E139)=0,\"HVI data needed\",INDEX('Staple Lookup'!$C$3:$C$100,MATCH(TRUE,'Staple Lookup'!$B$3:$B$100>=ROUND(E139,2),0))))","v":""},null,{"$f":"IF(OR(LEN(B139)=0,LEN(C139)=0,LEN(D139)=0),\"\",IF(AND(RIGHT(B139,1)*1=1,C139=8),-2000,IF(L139>=38,AB139,IF(L139<=31,AC139,AE139))))","v":""},{"$f":"IF(LEN(A139)=0,\"\",INDEX(Str!$C$1:$C$20,MATCH(ROUND(F139,1),Str!$A$1:$A$20,1)))","v":""},"","",{"$f":"IF(LEN(A139)=0,\"\",INDEX(Uni!$C$1:$C$20,MATCH(ROUND($G139,1),Uni!$A$1:$A$20,1)))","v":""},null,"",{"$f":"IF(LEN(A139)=0,\"\",IF(OR(LEN(B139)=0,LEN(C139)=0,LEN(D139)=0,LEN(E139)=0,LEN(F139)=0,LEN(G139)=0),\"no HVI data\",IF('Base Values'!$B$6+(SUM($N139:$R139)/100)<0,0,'Base Values'!$B$6+(SUM(N139:R139)/100))))","v":""},null,{"$f":"IF(LEN(A139)=0,\"\",IF(LEN(H139)=0,INDEX(Ext!$A$1:$G$5,MATCH(0,Ext!$A$1:$A$5,0),MATCH(H$7,Ext!$A$2:$E$2,0)),IF(AND(H139>=0,H139<3),INDEX(Ext!$A$1:$G$5,MATCH(H139,Ext!$A$1:$A$5,0),MATCH(H$7,Ext!$A$2:$E$2,0)),\"invalid entry\")))","v":""},{"$f":"IF(LEN(B139)=0,\"\",IF(LEN(I139)=0,INDEX(Ext!$A$1:$G$5,MATCH(0,Ext!$A$1:$A$5,0),MATCH(I$7,Ext!$A$2:$E$2,0)),IF(AND(I139>=0,I139<3),INDEX(Ext!$A$1:$G$5,MATCH(I139,Ext!$A$1:$A$5,0),MATCH(I$7,Ext!$A$2:$E$2,0)),\"invalid entry\")))","v":""},{"$f":"IF(LEN(C139)=0,\"\",IF(LEN(J139)=0,INDEX(Ext!$A$1:$G$5,MATCH(0,Ext!$A$1:$A$5,0),MATCH(J$7,Ext!$A$2:$E$2,0)),IF(AND(J139>=0,J139<3),INDEX(Ext!$A$1:$G$5,MATCH(J139,Ext!$A$1:$A$5,0),MATCH(J$7,Ext!$A$2:$E$2,0)),\"invalid entry\")))","v":""}]
[null,null,null,null,null,null,null,null,null,null,null,{"$f":"IF(LEN(A140)=0,\"\",IF(LEN(E140)=0,\"HVI data needed\",INDEX('Staple Lookup'!$C$3:$C$100,MATCH(TRUE,'Staple Lookup'!$B$3:$B$100>=ROUND(E140,2),0))))","v":""},null,{"$f":"IF(OR(LEN(B140)=0,LEN(C140)=0,LEN(D140)=0),\"\",IF(AND(RIGHT(B140,1)*1=1,C140=8),-2000,IF(L140>=38,AB140,IF(L140<=31,AC140,AE140))))","v":""},{"$f":"IF(LEN(A140)=0,\"\",INDEX(Str!$C$1:$C$20,MATCH(ROUND(F140,1),Str!$A$1:$A$20,1)))","v":""},"","",{"$f":"IF(LEN(A140)=0,\"\",INDEX(Uni!$C$1:$C$20,MATCH(ROUND($G140,1),Uni!$A$1:$A$20,1)))","v":""},null,"",{"$f":"IF(LEN(A140)=0,\"\",IF(OR(LEN(B140)=0,LEN(C140)=0,LEN(D140)=0,LEN(E140)=0,LEN(F140)=0,LEN(G140)=0),\"no HVI data\",IF('Base Values'!$B$6+(SUM($N140:$R140)/100)<0,0,'Base Values'!$B$6+(SUM(N140:R140)/100))))","v":""},null,{"$f":"IF(LEN(A140)=0,\"\",IF(LEN(H140)=0,INDEX(Ext!$A$1:$G$5,MATCH(0,Ext!$A$1:$A$5,0),MATCH(H$7,Ext!$A$2:$E$2,0)),IF(AND(H140>=0,H140<3),INDEX(Ext!$A$1:$G$5,MATCH(H140,Ext!$A$1:$A$5,0),MATCH(H$7,Ext!$A$2:$E$2,0)),\"invalid entry\")))","v":""},{"$f":"IF(LEN(B140)=0,\"\",IF(LEN(I140)=0,INDEX(Ext!$A$1:$G$5,MATCH(0,Ext!$A$1:$A$5,0),MATCH(I$7,Ext!$A$2:$E$2,0)),IF(AND(I140>=0,I140<3),INDEX(Ext!$A$1:$G$5,MATCH(I140,Ext!$A$1:$A$5,0),MATCH(I$7,Ext!$A$2:$E$2,0)),\"invalid entry\")))","v":""},{"$f":"IF(LEN(C140)=0,\"\",IF(LEN(J140)=0,INDEX(Ext!$A$1:$G$5,MATCH(0,Ext!$A$1:$A$5,0),MATCH(J$7,Ext!$A$2:$E$2,0)),IF(AND(J140>=0,J140<3),INDEX(Ext!$A$1:$G$5,MATCH(J140,Ext!$A$1:$A$5,0),MATCH(J$7,Ext!$A$2:$E$2,0)),\"invalid entry\")))","v":""}]
[null,null,null,null,null,null,null,null,null,null,null,{"$f":"IF(LEN(A141)=0,\"\",IF(LEN(E141)=0,\"HVI data needed\",INDEX('Staple Lookup'!$C$3:$C$100,MATCH(TRUE,'Staple Lookup'!$B$3:$B$100>=ROUND(E141,2),0))))","v":""},null,{"$f":"IF(OR(LEN(B141)=0,LEN(C141)=0,LEN(D141)=0),\"\",IF(AND(RIGHT(B141,1)*1=1,C141=8),-2000,IF(L141>=38,AB141,IF(L141<=31,AC141,AE141))))","v":""},{"$f":"IF(LEN(A141)=0,\"\",INDEX(Str!$C$1:$C$20,MATCH(ROUND(F141,1),Str!$A$1:$A$20,1)))","v":""},"","",{"$f":"IF(LEN(A141)=0,\"\",INDEX(Uni!$C$1:$C$20,MATCH(ROUND($G141,1),Uni!$A$1:$A$20,1)))","v":""},null,"",{"$f":"IF(LEN(A141)=0,\"\",IF(OR(LEN(B141)=0,LEN(C141)=0,LEN(D141)=0,LEN(E141)=0,LEN(F141)=0,LEN(G141)=0),\"no HVI data\",IF('Base Values'!$B$6+(SUM($N141:$R141)/100)<0,0,'Base Values'!$B$6+(SUM(N141:R141)/100))))","v":""},null,{"$f":"IF(LEN(A141)=0,\"\",IF(LEN(H141)=0,INDEX(Ext!$A$1:$G$5,MATCH(0,Ext!$A$1:$A$5,0),MATCH(H$7,Ext!$A$2:$E$2,0)),IF(AND(H141>=0,H141<3),INDEX(Ext!$A$1:$G$5,MATCH(H141,Ext!$A$1:$A$5,0),MATCH(H$7,Ext!$A$2:$E$2,0)),\"invalid entry\")))","v":""},{"$f":"IF(LEN(B141)=0,\"\",IF(LEN(I141)=0,INDEX(Ext!$A$1:$G$5,MATCH(0,Ext!$A$1:$A$5,0),MATCH(I$7,Ext!$A$2:$E$2,0)),IF(AND(I141>=0,I141<3),INDEX(Ext!$A$1:$G$5,MATCH(I141,Ext!$A$1:$A$5,0),MATCH(I$7,Ext!$A$2:$E$2,0)),\"invalid entry\")))","v":""},{"$f":"IF(LEN(C141)=0,\"\",IF(LEN(J141)=0,INDEX(Ext!$A$1:$G$5,MATCH(0,Ext!$A$1:$A$5,0),MATCH(J$7,Ext!$A$2:$E$2,0)),IF(AND(J141>=0,J141<3),INDEX(Ext!$A$1:$G$5,MATCH(J141,Ext!$A$1:$A$5,0),MATCH(J$7,Ext!$A$2:$E$2,0)),\"invalid entry\")))","v":""}]
[null,null,null,null,null,null,null,null,null,null,null,{"$f":"IF(LEN(A142)=0,\"\",IF(LEN(E142)=0,\"HVI data needed\",INDEX('Staple Lookup'!$C$3:$C$100,MATCH(TRUE,'Staple Lookup'!$B$3:$B$100>=ROUND(E142,2),0))))","v":""},null,{"$f":"IF(OR(LEN(B142)=0,LEN(C142)=0,LEN(D142)=0),\"\",IF(AND(RIGHT(B142,1)*1=1,C142=8),-2000,IF(L142>=38,AB142,IF(L142<=31,AC142,AE142))))","v":""},{"$f":"IF(LEN(A142)=0,\"\",INDEX(Str!$C$1:$C$20,MATCH(ROUND(F142,1),Str!$A$1:$A$20,1)))","v":""},"","",{"$f":"IF(LEN(A142)=0,\"\",INDEX(Uni!$C$1:$C$20,MATCH(ROUND($G142,1),Uni!$A$1:$A$20,1)))","v":""},null,"",{"$f":"IF(LEN(A142)=0,\"\",IF(OR(LEN(B142)=0,LEN(C142)=0,LEN(D142)=0,LEN(E142)=0,LEN(F142)=0,LEN(G142)=0),\"no HVI data\",IF('Base Values'!$B$6+(SUM($N142:$R142)/100)<0,0,'Base Values'!$B$6+(SUM(N142:R142)/100))))","v":""},null,{"$f":"IF(LEN(A142)=0,\"\",IF(LEN(H142)=0,INDEX(Ext!$A$1:$G$5,MATCH(0,Ext!$A$1:$A$5,0),MATCH(H$7,Ext!$A$2:$E$2,0)),IF(AND(H142>=0,H142<3),INDEX(Ext!$A$1:$G$5,MATCH(H142,Ext!$A$1:$A$5,0),MATCH(H$7,Ext!$A$2:$E$2,0)),\"invalid entry\")))","v":""},{"$f":"IF(LEN(B142)=0,\"\",IF(LEN(I142)=0,INDEX(Ext!$A$1:$G$5,MATCH(0,Ext!$A$1:$A$5,0),MATCH(I$7,Ext!$A$2:$E$2,0)),IF(AND(I142>=0,I142<3),INDEX(Ext!$A$1:$G$5,MATCH(I142,Ext!$A$1:$A$5,0),MATCH(I$7,Ext!$A$2:$E$2,0)),\"invalid entry\")))","v":""},{"$f":"IF(LEN(C142)=0,\"\",IF(LEN(J142)=0,INDEX(Ext!$A$1:$G$5,MATCH(0,Ext!$A$1:$A$5,0),MATCH(J$7,Ext!$A$2:$E$2,0)),IF(AND(J142>=0,J142<3),INDEX(Ext!$A$1:$G$5,MATCH(J142,Ext!$A$1:$A$5,0),MATCH(J$7,Ext!$A$2:$E$2,0)),\"invalid entry\")))","v":""}]
[null,null,null,null,null,null,null,null,null,null,null,{"$f":"IF(LEN(A143)=0,\"\",IF(LEN(E143)=0,\"HVI data needed\",INDEX('Staple Lookup'!$C$3:$C$100,MATCH(TRUE,'Staple Lookup'!$B$3:$B$100>=ROUND(E143,2),0))))","v":""},null,{"$f":"IF(OR(LEN(B143)=0,LEN(C143)=0,LEN(D143)=0),\"\",IF(AND(RIGHT(B143,1)*1=1,C143=8),-2000,IF(L143>=38,AB143,IF(L143<=31,AC143,AE143))))","v":""},{"$f":"IF(LEN(A143)=0,\"\",INDEX(Str!$C$1:$C$20,MATCH(ROUND(F143,1),Str!$A$1:$A$20,1)))","v":""},"","",{"$f":"IF(LEN(A143)=0,\"\",INDEX(Uni!$C$1:$C$20,MATCH(ROUND($G143,1),Uni!$A$1:$A$20,1)))","v":""},null,"",{"$f":"IF(LEN(A143)=0,\"\",IF(OR(LEN(B143)=0,LEN(C143)=0,LEN(D143)=0,LEN(E143)=0,LEN(F143)=0,LEN(G143)=0),\"no HVI data\",IF('Base Values'!$B$6+(SUM($N143:$R143)/100)<0,0,'Base Values'!$B$6+(SUM(N143:R143)/100))))","v":""},null,{"$f":"IF(LEN(A143)=0,\"\",IF(LEN(H143)=0,INDEX(Ext!$A$1:$G$5,MATCH(0,Ext!$A$1:$A$5,0),MATCH(H$7,Ext!$A$2:$E$2,0)),IF(AND(H143>=0,H143<3),INDEX(Ext!$A$1:$G$5,MATCH(H143,Ext!$A$1:$A$5,0),MATCH(H$7,Ext!$A$2:$E$2,0)),\"invalid entry\")))","v":""},{"$f":"IF(LEN(B143)=0,\"\",IF(LEN(I143)=0,INDEX(Ext!$A$1:$G$5,MATCH(0,Ext!$A$1:$A$5,0),MATCH(I$7,Ext!$A$2:$E$2,0)),IF(AND(I143>=0,I143<3),INDEX(Ext!$A$1:$G$5,MATCH(I143,Ext!$A$1:$A$5,0),MATCH(I$7,Ext!$A$2:$E$2,0)),\"invalid entry\")))","v":""},{"$f":"IF(LEN(C143)=0,\"\",IF(LEN(J143)=0,INDEX(Ext!$A$1:$G$5,MATCH(0,Ext!$A$1:$A$5,0),MATCH(J$7,Ext!$A$2:$E$2,0)),IF(AND(J143>=0,J143<3),INDEX(Ext!$A$1:$G$5,MATCH(J143,Ext!$A$1:$A$5,0),MATCH(J$7,Ext!$A$2:$E$2,0)),\"invalid entry\")))","v":""}]
[null,null,null,null,null,null,null,null,null,null,null,{"$f":"IF(LEN(A144)=0,\"\",IF(LEN(E144)=0,\"HVI data needed\",INDEX('Staple Lookup'!$C$3:$C$100,MATCH(TRUE,'Staple Lookup'!$B$3:$B$100>=ROUND(E144,2),0))))","v":""},null,{"$f":"IF(OR(LEN(B144)=0,LEN(C144)=0,LEN(D144)=0),\"\",IF(AND(RIGHT(B144,1)*1=1,C144=8),-2000,IF(L144>=38,AB144,IF(L144<=31,AC144,AE144))))","v":""},{"$f":"IF(LEN(A144)=0,\"\",INDEX(Str!$C$1:$C$20,MATCH(ROUND(F144,1),Str!$A$1:$A$20,1)))","v":""},"","",{"$f":"IF(LEN(A144)=0,\"\",INDEX(Uni!$C$1:$C$20,MATCH(ROUND($G144,1),Uni!$A$1:$A$20,1)))","v":""},null,"",{"$f":"IF(LEN(A144)=0,\"\",IF(OR(LEN(B144)=0,LEN(C144)=0,LEN(D144)=0,LEN(E144)=0,LEN(F144)=0,LEN(G144)=0),\"no HVI data\",IF('Base Values'!$B$6+(SUM($N144:$R144)/100)<0,0,'Base Values'!$B$6+(SUM(N144:R144)/100))))","v":""},null,{"$f":"IF(LEN(A144)=0,\"\",IF(LEN(H144)=0,INDEX(Ext!$A$1:$G$5,MATCH(0,Ext!$A$1:$A$5,0),MATCH(H$7,Ext!$A$2:$E$2,0)),IF(AND(H144>=0,H144<3),INDEX(Ext!$A$1:$G$5,MATCH(H144,Ext!$A$1:$A$5,0),MATCH(H$7,Ext!$A$2:$E$2,0)),\"invalid entry\")))","v":""},{"$f":"IF(LEN(B144)=0,\"\",IF(LEN(I144)=0,INDEX(Ext!$A$1:$G$5,MATCH(0,Ext!$A$1:$A$5,0),MATCH(I$7,Ext!$A$2:$E$2,0)),IF(AND(I144>=0,I144<3),INDEX(Ext!$A$1:$G$5,MATCH(I144,Ext!$A$1:$A$5,0),MATCH(I$7,Ext!$A$2:$E$2,0)),\"invalid entry\")))","v":""},{"$f":"IF(LEN(C144)=0,\"\",IF(LEN(J144)=0,INDEX(Ext!$A$1:$G$5,MATCH(0,Ext!$A$1:$A$5,0),MATCH(J$7,Ext!$A$2:$E$2,0)),IF(AND(J144>=0,J144<3),INDEX(Ext!$A$1:$G$5,MATCH(J144,Ext!$A$1:$A$5,0),MATCH(J$7,Ext!$A$2:$E$2,0)),\"invalid entry\")))","v":""}]
[null,null,null,null,null,null,null,null,null,null,null,{"$f":"IF(LEN(A145)=0,\"\",IF(LEN(E145)=0,\"HVI data needed\",INDEX('Staple Lookup'!$C$3:$C$100,MATCH(TRUE,'Staple Lookup'!$B$3:$B$100>=ROUND(E145,2),0))))","v":""},null,{"$f":"IF(OR(LEN(B145)=0,LEN(C145)=0,LEN(D145)=0),\"\",IF(AND(RIGHT(B145,1)*1=1,C145=8),-2000,IF(L145>=38,AB145,IF(L145<=31,AC145,AE145))))","v":""},{"$f":"IF(LEN(A145)=0,\"\",INDEX(Str!$C$1:$C$20,MATCH(ROUND(F145,1),Str!$A$1:$A$20,1)))","v":""},"","",{"$f":"IF(LEN(A145)=0,\"\",INDEX(Uni!$C$1:$C$20,MATCH(ROUND($G145,1),Uni!$A$1:$A$20,1)))","v":""},null,"",{"$f":"IF(LEN(A145)=0,\"\",IF(OR(LEN(B145)=0,LEN(C145)=0,LEN(D145)=0,LEN(E145)=0,LEN(F145)=0,LEN(G145)=0),\"no HVI data\",IF('Base Values'!$B$6+(SUM($N145:$R145)/100)<0,0,'Base Values'!$B$6+(SUM(N145:R145)/100))))","v":""},null,{"$f":"IF(LEN(A145)=0,\"\",IF(LEN(H145)=0,INDEX(Ext!$A$1:$G$5,MATCH(0,Ext!$A$1:$A$5,0),MATCH(H$7,Ext!$A$2:$E$2,0)),IF(AND(H145>=0,H145<3),INDEX(Ext!$A$1:$G$5,MATCH(H145,Ext!$A$1:$A$5,0),MATCH(H$7,Ext!$A$2:$E$2,0)),\"invalid entry\")))","v":""},{"$f":"IF(LEN(B145)=0,\"\",IF(LEN(I145)=0,INDEX(Ext!$A$1:$G$5,MATCH(0,Ext!$A$1:$A$5,0),MATCH(I$7,Ext!$A$2:$E$2,0)),IF(AND(I145>=0,I145<3),INDEX(Ext!$A$1:$G$5,MATCH(I145,Ext!$A$1:$A$5,0),MATCH(I$7,Ext!$A$2:$E$2,0)),\"invalid entry\")))","v":""},{"$f":"IF(LEN(C145)=0,\"\",IF(LEN(J145)=0,INDEX(Ext!$A$1:$G$5,MATCH(0,Ext!$A$1:$A$5,0),MATCH(J$7,Ext!$A$2:$E$2,0)),IF(AND(J145>=0,J145<3),INDEX(Ext!$A$1:$G$5,MATCH(J145,Ext!$A$1:$A$5,0),MATCH(J$7,Ext!$A$2:$E$2,0)),\"invalid entry\")))","v":""}]
[null,null,null,null,null,null,null,null,null,null,null,{"$f":"IF(LEN(A146)=0,\"\",IF(LEN(E146)=0,\"HVI data needed\",INDEX('Staple Lookup'!$C$3:$C$100,MATCH(TRUE,'Staple Lookup'!$B$3:$B$100>=ROUND(E146,2),0))))","v":""},null,{"$f":"IF(OR(LEN(B146)=0,LEN(C146)=0,LEN(D146)=0),\"\",IF(AND(RIGHT(B146,1)*1=1,C146=8),-2000,IF(L146>=38,AB146,IF(L146<=31,AC146,AE146))))","v":""},{"$f":"IF(LEN(A146)=0,\"\",INDEX(Str!$C$1:$C$20,MATCH(ROUND(F146,1),Str!$A$1:$A$20,1)))","v":""},"","",{"$f":"IF(LEN(A146)=0,\"\",INDEX(Uni!$C$1:$C$20,MATCH(ROUND($G146,1),Uni!$A$1:$A$20,1)))","v":""},null,"",{"$f":"IF(LEN(A146)=0,\"\",IF(OR(LEN(B146)=0,LEN(C146)=0,LEN(D146)=0,LEN(E146)=0,LEN(F146)=0,LEN(G146)=0),\"no HVI data\",IF('Base Values'!$B$6+(SUM($N146:$R146)/100)<0,0,'Base Values'!$B$6+(SUM(N146:R146)/100))))","v":""},null,{"$f":"IF(LEN(A146)=0,\"\",IF(LEN(H146)=0,INDEX(Ext!$A$1:$G$5,MATCH(0,Ext!$A$1:$A$5,0),MATCH(H$7,Ext!$A$2:$E$2,0)),IF(AND(H146>=0,H146<3),INDEX(Ext!$A$1:$G$5,MATCH(H146,Ext!$A$1:$A$5,0),MATCH(H$7,Ext!$A$2:$E$2,0)),\"invalid entry\")))","v":""},{"$f":"IF(LEN(B146)=0,\"\",IF(LEN(I146)=0,INDEX(Ext!$A$1:$G$5,MATCH(0,Ext!$A$1:$A$5,0),MATCH(I$7,Ext!$A$2:$E$2,0)),IF(AND(I146>=0,I146<3),INDEX(Ext!$A$1:$G$5,MATCH(I146,Ext!$A$1:$A$5,0),MATCH(I$7,Ext!$A$2:$E$2,0)),\"invalid entry\")))","v":""},{"$f":"IF(LEN(C146)=0,\"\",IF(LEN(J146)=0,INDEX(Ext!$A$1:$G$5,MATCH(0,Ext!$A$1:$A$5,0),MATCH(J$7,Ext!$A$2:$E$2,0)),IF(AND(J146>=0,J146<3),INDEX(Ext!$A$1:$G$5,MATCH(J146,Ext!$A$1:$A$5,0),MATCH(J$7,Ext!$A$2:$E$2,0)),\"invalid entry\")))","v":""}]
[null,null,null,null,null,null,null,null,null,null,null,{"$f":"IF(LEN(A147)=0,\"\",IF(LEN(E147)=0,\"HVI data needed\",INDEX('Staple Lookup'!$C$3:$C$100,MATCH(TRUE,'Staple Lookup'!$B$3:$B$100>=ROUND(E147,2),0))))","v":""},null,{"$f":"IF(OR(LEN(B147)=0,LEN(C147)=0,LEN(D147)=0),\"\",IF(AND(RIGHT(B147,1)*1=1,C147=8),-2000,IF(L147>=38,AB147,IF(L147<=31,AC147,AE147))))","v":""},{"$f":"IF(LEN(A147)=0,\"\",INDEX(Str!$C$1:$C$20,MATCH(ROUND(F147,1),Str!$A$1:$A$20,1)))","v":""},"","",{"$f":"IF(LEN(A147)=0,\"\",INDEX(Uni!$C$1:$C$20,MATCH(ROUND($G147,1),Uni!$A$1:$A$20,1)))","v":""},null,"",{"$f":"IF(LEN(A147)=0,\"\",IF(OR(LEN(B147)=0,LEN(C147)=0,LEN(D147)=0,LEN(E147)=0,LEN(F147)=0,LEN(G147)=0),\"no HVI data\",IF('Base Values'!$B$6+(SUM($N147:$R147)/100)<0,0,'Base Values'!$B$6+(SUM(N147:R147)/100))))","v":""},null,{"$f":"IF(LEN(A147)=0,\"\",IF(LEN(H147)=0,INDEX(Ext!$A$1:$G$5,MATCH(0,Ext!$A$1:$A$5,0),MATCH(H$7,Ext!$A$2:$E$2,0)),IF(AND(H147>=0,H147<3),INDEX(Ext!$A$1:$G$5,MATCH(H147,Ext!$A$1:$A$5,0),MATCH(H$7,Ext!$A$2:$E$2,0)),\"invalid entry\")))","v":""},{"$f":"IF(LEN(B147)=0,\"\",IF(LEN(I147)=0,INDEX(Ext!$A$1:$G$5,MATCH(0,Ext!$A$1:$A$5,0),MATCH(I$7,Ext!$A$2:$E$2,0)),IF(AND(I147>=0,I147<3),INDEX(Ext!$A$1:$G$5,MATCH(I147,Ext!$A$1:$A$5,0),MATCH(I$7,Ext!$A$2:$E$2,0)),\"invalid entry\")))","v":""},{"$f":"IF(LEN(C147)=0,\"\",IF(LEN(J147)=0,INDEX(Ext!$A$1:$G$5,MATCH(0,Ext!$A$1:$A$5,0),MATCH(J$7,Ext!$A$2:$E$2,0)),IF(AND(J147>=0,J147<3),INDEX(Ext!$A$1:$G$5,MATCH(J147,Ext!$A$1:$A$5,0),MATCH(J$7,Ext!$A$2:$E$2,0)),\"invalid entry\")))","v":""}]
[null,null,null,null,null,null,null,null,null,null,null,{"$f":"IF(LEN(A148)=0,\"\",IF(LEN(E148)=0,\"HVI data needed\",INDEX('Staple Lookup'!$C$3:$C$100,MATCH(TRUE,'Staple Lookup'!$B$3:$B$100>=ROUND(E148,2),0))))","v":""},null,{"$f":"IF(OR(LEN(B148)=0,LEN(C148)=0,LEN(D148)=0),\"\",IF(AND(RIGHT(B148,1)*1=1,C148=8),-2000,IF(L148>=38,AB148,IF(L148<=31,AC148,AE148))))","v":""},{"$f":"IF(LEN(A148)=0,\"\",INDEX(Str!$C$1:$C$20,MATCH(ROUND(F148,1),Str!$A$1:$A$20,1)))","v":""},"","",{"$f":"IF(LEN(A148)=0,\"\",INDEX(Uni!$C$1:$C$20,MATCH(ROUND($G148,1),Uni!$A$1:$A$20,1)))","v":""},null,"",{"$f":"IF(LEN(A148)=0,\"\",IF(OR(LEN(B148)=0,LEN(C148)=0,LEN(D148)=0,LEN(E148)=0,LEN(F148)=0,LEN(G148)=0),\"no HVI data\",IF('Base Values'!$B$6+(SUM($N148:$R148)/100)<0,0,'Base Values'!$B$6+(SUM(N148:R148)/100))))","v":""},null,{"$f":"IF(LEN(A148)=0,\"\",IF(LEN(H148)=0,INDEX(Ext!$A$1:$G$5,MATCH(0,Ext!$A$1:$A$5,0),MATCH(H$7,Ext!$A$2:$E$2,0)),IF(AND(H148>=0,H148<3),INDEX(Ext!$A$1:$G$5,MATCH(H148,Ext!$A$1:$A$5,0),MATCH(H$7,Ext!$A$2:$E$2,0)),\"invalid entry\")))","v":""},{"$f":"IF(LEN(B148)=0,\"\",IF(LEN(I148)=0,INDEX(Ext!$A$1:$G$5,MATCH(0,Ext!$A$1:$A$5,0),MATCH(I$7,Ext!$A$2:$E$2,0)),IF(AND(I148>=0,I148<3),INDEX(Ext!$A$1:$G$5,MATCH(I148,Ext!$A$1:$A$5,0),MATCH(I$7,Ext!$A$2:$E$2,0)),\"invalid entry\")))","v":""},{"$f":"IF(LEN(C148)=0,\"\",IF(LEN(J148)=0,INDEX(Ext!$A$1:$G$5,MATCH(0,Ext!$A$1:$A$5,0),MATCH(J$7,Ext!$A$2:$E$2,0)),IF(AND(J148>=0,J148<3),INDEX(Ext!$A$1:$G$5,MATCH(J148,Ext!$A$1:$A$5,0),MATCH(J$7,Ext!$A$2:$E$2,0)),\"invalid entry\")))","v":""}]
[null,null,null,null,null,null,null,null,null,null,null,{"$f":"IF(LEN(A149)=0,\"\",IF(LEN(E149)=0,\"HVI data needed\",INDEX('Staple Lookup'!$C$3:$C$100,MATCH(TRUE,'Staple Lookup'!$B$3:$B$100>=ROUND(E149,2),0))))","v":""},null,{"$f":"IF(OR(LEN(B149)=0,LEN(C149)=0,LEN(D149)=0),\"\",IF(AND(RIGHT(B149,1)*1=1,C149=8),-2000,IF(L149>=38,AB149,IF(L149<=31,AC149,AE149))))","v":""},{"$f":"IF(LEN(A149)=0,\"\",INDEX(Str!$C$1:$C$20,MATCH(ROUND(F149,1),Str!$A$1:$A$20,1)))","v":""},"","",{"$f":"IF(LEN(A149)=0,\"\",INDEX(Uni!$C$1:$C$20,MATCH(ROUND($G149,1),Uni!$A$1:$A$20,1)))","v":""},null,"",{"$f":"IF(LEN(A149)=0,\"\",IF(OR(LEN(B149)=0,LEN(C149)=0,LEN(D149)=0,LEN(E149)=0,LEN(F149)=0,LEN(G149)=0),\"no HVI data\",IF('Base Values'!$B$6+(SUM($N149:$R149)/100)<0,0,'Base Values'!$B$6+(SUM(N149:R149)/100))))","v":""},null,{"$f":"IF(LEN(A149)=0,\"\",IF(LEN(H149)=0,INDEX(Ext!$A$1:$G$5,MATCH(0,Ext!$A$1:$A$5,0),MATCH(H$7,Ext!$A$2:$E$2,0)),IF(AND(H149>=0,H149<3),INDEX(Ext!$A$1:$G$5,MATCH(H149,Ext!$A$1:$A$5,0),MATCH(H$7,Ext!$A$2:$E$2,0)),\"invalid entry\")))","v":""},{"$f":"IF(LEN(B149)=0,\"\",IF(LEN(I149)=0,INDEX(Ext!$A$1:$G$5,MATCH(0,Ext!$A$1:$A$5,0),MATCH(I$7,Ext!$A$2:$E$2,0)),IF(AND(I149>=0,I149<3),INDEX(Ext!$A$1:$G$5,MATCH(I149,Ext!$A$1:$A$5,0),MATCH(I$7,Ext!$A$2:$E$2,0)),\"invalid entry\")))","v":""},{"$f":"IF(LEN(C149)=0,\"\",IF(LEN(J149)=0,INDEX(Ext!$A$1:$G$5,MATCH(0,Ext!$A$1:$A$5,0),MATCH(J$7,Ext!$A$2:$E$2,0)),IF(AND(J149>=0,J149<3),INDEX(Ext!$A$1:$G$5,MATCH(J149,Ext!$A$1:$A$5,0),MATCH(J$7,Ext!$A$2:$E$2,0)),\"invalid entry\")))","v":""}]
[null,null,null,null,null,null,null,null,null,null,null,{"$f":"IF(LEN(A150)=0,\"\",IF(LEN(E150)=0,\"HVI data needed\",INDEX('Staple Lookup'!$C$3:$C$100,MATCH(TRUE,'Staple Lookup'!$B$3:$B$100>=ROUND(E150,2),0))))","v":""},null,{"$f":"IF(OR(LEN(B150)=0,LEN(C150)=0,LEN(D150)=0),\"\",IF(AND(RIGHT(B150,1)*1=1,C150=8),-2000,IF(L150>=38,AB150,IF(L150<=31,AC150,AE150))))","v":""},{"$f":"IF(LEN(A150)=0,\"\",INDEX(Str!$C$1:$C$20,MATCH(ROUND(F150,1),Str!$A$1:$A$20,1)))","v":""},"","",{"$f":"IF(LEN(A150)=0,\"\",INDEX(Uni!$C$1:$C$20,MATCH(ROUND($G150,1),Uni!$A$1:$A$20,1)))","v":""},null,"",{"$f":"IF(LEN(A150)=0,\"\",IF(OR(LEN(B150)=0,LEN(C150)=0,LEN(D150)=0,LEN(E150)=0,LEN(F150)=0,LEN(G150)=0),\"no HVI data\",IF('Base Values'!$B$6+(SUM($N150:$R150)/100)<0,0,'Base Values'!$B$6+(SUM(N150:R150)/100))))","v":""},null,{"$f":"IF(LEN(A150)=0,\"\",IF(LEN(H150)=0,INDEX(Ext!$A$1:$G$5,MATCH(0,Ext!$A$1:$A$5,0),MATCH(H$7,Ext!$A$2:$E$2,0)),IF(AND(H150>=0,H150<3),INDEX(Ext!$A$1:$G$5,MATCH(H150,Ext!$A$1:$A$5,0),MATCH(H$7,Ext!$A$2:$E$2,0)),\"invalid entry\")))","v":""},{"$f":"IF(LEN(B150)=0,\"\",IF(LEN(I150)=0,INDEX(Ext!$A$1:$G$5,MATCH(0,Ext!$A$1:$A$5,0),MATCH(I$7,Ext!$A$2:$E$2,0)),IF(AND(I150>=0,I150<3),INDEX(Ext!$A$1:$G$5,MATCH(I150,Ext!$A$1:$A$5,0),MATCH(I$7,Ext!$A$2:$E$2,0)),\"invalid entry\")))","v":""},{"$f":"IF(LEN(C150)=0,\"\",IF(LEN(J150)=0,INDEX(Ext!$A$1:$G$5,MATCH(0,Ext!$A$1:$A$5,0),MATCH(J$7,Ext!$A$2:$E$2,0)),IF(AND(J150>=0,J150<3),INDEX(Ext!$A$1:$G$5,MATCH(J150,Ext!$A$1:$A$5,0),MATCH(J$7,Ext!$A$2:$E$2,0)),\"invalid entry\")))","v":""}]
[null,null,null,null,null,null,null,null,null,null,null,{"$f":"IF(LEN(A151)=0,\"\",IF(LEN(E151)=0,\"HVI data needed\",INDEX('Staple Lookup'!$C$3:$C$100,MATCH(TRUE,'Staple Lookup'!$B$3:$B$100>=ROUND(E151,2),0))))","v":""},null,{"$f":"IF(OR(LEN(B151)=0,LEN(C151)=0,LEN(D151)=0),\"\",IF(AND(RIGHT(B151,1)*1=1,C151=8),-2000,IF(L151>=38,AB151,IF(L151<=31,AC151,AE151))))","v":""},{"$f":"IF(LEN(A151)=0,\"\",INDEX(Str!$C$1:$C$20,MATCH(ROUND(F151,1),Str!$A$1:$A$20,1)))","v":""},"","",{"$f":"IF(LEN(A151)=0,\"\",INDEX(Uni!$C$1:$C$20,MATCH(ROUND($G151,1),Uni!$A$1:$A$20,1)))","v":""},null,"",{"$f":"IF(LEN(A151)=0,\"\",IF(OR(LEN(B151)=0,LEN(C151)=0,LEN(D151)=0,LEN(E151)=0,LEN(F151)=0,LEN(G151)=0),\"no HVI data\",IF('Base Values'!$B$6+(SUM($N151:$R151)/100)<0,0,'Base Values'!$B$6+(SUM(N151:R151)/100))))","v":""},null,{"$f":"IF(LEN(A151)=0,\"\",IF(LEN(H151)=0,INDEX(Ext!$A$1:$G$5,MATCH(0,Ext!$A$1:$A$5,0),MATCH(H$7,Ext!$A$2:$E$2,0)),IF(AND(H151>=0,H151<3),INDEX(Ext!$A$1:$G$5,MATCH(H151,Ext!$A$1:$A$5,0),MATCH(H$7,Ext!$A$2:$E$2,0)),\"invalid entry\")))","v":""},{"$f":"IF(LEN(B151)=0,\"\",IF(LEN(I151)=0,INDEX(Ext!$A$1:$G$5,MATCH(0,Ext!$A$1:$A$5,0),MATCH(I$7,Ext!$A$2:$E$2,0)),IF(AND(I151>=0,I151<3),INDEX(Ext!$A$1:$G$5,MATCH(I151,Ext!$A$1:$A$5,0),MATCH(I$7,Ext!$A$2:$E$2,0)),\"invalid entry\")))","v":""},{"$f":"IF(LEN(C151)=0,\"\",IF(LEN(J151)=0,INDEX(Ext!$A$1:$G$5,MATCH(0,Ext!$A$1:$A$5,0),MATCH(J$7,Ext!$A$2:$E$2,0)),IF(AND(J151>=0,J151<3),INDEX(Ext!$A$1:$G$5,MATCH(J151,Ext!$A$1:$A$5,0),MATCH(J$7,Ext!$A$2:$E$2,0)),\"invalid entry\")))","v":""}]
[null,null,null,null,null,null,null,null,null,null,null,{"$f":"IF(LEN(A152)=0,\"\",IF(LEN(E152)=0,\"HVI data needed\",INDEX('Staple Lookup'!$C$3:$C$100,MATCH(TRUE,'Staple Lookup'!$B$3:$B$100>=ROUND(E152,2),0))))","v":""},null,{"$f":"IF(OR(LEN(B152)=0,LEN(C152)=0,LEN(D152)=0),\"\",IF(AND(RIGHT(B152,1)*1=1,C152=8),-2000,IF(L152>=38,AB152,IF(L152<=31,AC152,AE152))))","v":""},{"$f":"IF(LEN(A152)=0,\"\",INDEX(Str!$C$1:$C$20,MATCH(ROUND(F152,1),Str!$A$1:$A$20,1)))","v":""},"","",{"$f":"IF(LEN(A152)=0,\"\",INDEX(Uni!$C$1:$C$20,MATCH(ROUND($G152,1),Uni!$A$1:$A$20,1)))","v":""},null,"",{"$f":"IF(LEN(A152)=0,\"\",IF(OR(LEN(B152)=0,LEN(C152)=0,LEN(D152)=0,LEN(E152)=0,LEN(F152)=0,LEN(G152)=0),\"no HVI data\",IF('Base Values'!$B$6+(SUM($N152:$R152)/100)<0,0,'Base Values'!$B$6+(SUM(N152:R152)/100))))","v":""},null,{"$f":"IF(LEN(A152)=0,\"\",IF(LEN(H152)=0,INDEX(Ext!$A$1:$G$5,MATCH(0,Ext!$A$1:$A$5,0),MATCH(H$7,Ext!$A$2:$E$2,0)),IF(AND(H152>=0,H152<3),INDEX(Ext!$A$1:$G$5,MATCH(H152,Ext!$A$1:$A$5,0),MATCH(H$7,Ext!$A$2:$E$2,0)),\"invalid entry\")))","v":""},{"$f":"IF(LEN(B152)=0,\"\",IF(LEN(I152)=0,INDEX(Ext!$A$1:$G$5,MATCH(0,Ext!$A$1:$A$5,0),MATCH(I$7,Ext!$A$2:$E$2,0)),IF(AND(I152>=0,I152<3),INDEX(Ext!$A$1:$G$5,MATCH(I152,Ext!$A$1:$A$5,0),MATCH(I$7,Ext!$A$2:$E$2,0)),\"invalid entry\")))","v":""},{"$f":"IF(LEN(C152)=0,\"\",IF(LEN(J152)=0,INDEX(Ext!$A$1:$G$5,MATCH(0,Ext!$A$1:$A$5,0),MATCH(J$7,Ext!$A$2:$E$2,0)),IF(AND(J152>=0,J152<3),INDEX(Ext!$A$1:$G$5,MATCH(J152,Ext!$A$1:$A$5,0),MATCH(J$7,Ext!$A$2:$E$2,0)),\"invalid entry\")))","v":""}]
[null,null,null,null,null,null,null,null,null,null,null,{"$f":"IF(LEN(A153)=0,\"\",IF(LEN(E153)=0,\"HVI data needed\",INDEX('Staple Lookup'!$C$3:$C$100,MATCH(TRUE,'Staple Lookup'!$B$3:$B$100>=ROUND(E153,2),0))))","v":""},null,{"$f":"IF(OR(LEN(B153)=0,LEN(C153)=0,LEN(D153)=0),\"\",IF(AND(RIGHT(B153,1)*1=1,C153=8),-2000,IF(L153>=38,AB153,IF(L153<=31,AC153,AE153))))","v":""},{"$f":"IF(LEN(A153)=0,\"\",INDEX(Str!$C$1:$C$20,MATCH(ROUND(F153,1),Str!$A$1:$A$20,1)))","v":""},"","",{"$f":"IF(LEN(A153)=0,\"\",INDEX(Uni!$C$1:$C$20,MATCH(ROUND($G153,1),Uni!$A$1:$A$20,1)))","v":""},null,"",{"$f":"IF(LEN(A153)=0,\"\",IF(OR(LEN(B153)=0,LEN(C153)=0,LEN(D153)=0,LEN(E153)=0,LEN(F153)=0,LEN(G153)=0),\"no HVI data\",IF('Base Values'!$B$6+(SUM($N153:$R153)/100)<0,0,'Base Values'!$B$6+(SUM(N153:R153)/100))))","v":""},null,{"$f":"IF(LEN(A153)=0,\"\",IF(LEN(H153)=0,INDEX(Ext!$A$1:$G$5,MATCH(0,Ext!$A$1:$A$5,0),MATCH(H$7,Ext!$A$2:$E$2,0)),IF(AND(H153>=0,H153<3),INDEX(Ext!$A$1:$G$5,MATCH(H153,Ext!$A$1:$A$5,0),MATCH(H$7,Ext!$A$2:$E$2,0)),\"invalid entry\")))","v":""},{"$f":"IF(LEN(B153)=0,\"\",IF(LEN(I153)=0,INDEX(Ext!$A$1:$G$5,MATCH(0,Ext!$A$1:$A$5,0),MATCH(I$7,Ext!$A$2:$E$2,0)),IF(AND(I153>=0,I153<3),INDEX(Ext!$A$1:$G$5,MATCH(I153,Ext!$A$1:$A$5,0),MATCH(I$7,Ext!$A$2:$E$2,0)),\"invalid entry\")))","v":""},{"$f":"IF(LEN(C153)=0,\"\",IF(LEN(J153)=0,INDEX(Ext!$A$1:$G$5,MATCH(0,Ext!$A$1:$A$5,0),MATCH(J$7,Ext!$A$2:$E$2,0)),IF(AND(J153>=0,J153<3),INDEX(Ext!$A$1:$G$5,MATCH(J153,Ext!$A$1:$A$5,0),MATCH(J$7,Ext!$A$2:$E$2,0)),\"invalid entry\")))","v":""}]
[null,null,null,null,null,null,null,null,null,null,null,{"$f":"IF(LEN(A154)=0,\"\",IF(LEN(E154)=0,\"HVI data needed\",INDEX('Staple Lookup'!$C$3:$C$100,MATCH(TRUE,'Staple Lookup'!$B$3:$B$100>=ROUND(E154,2),0))))","v":""},null,{"$f":"IF(OR(LEN(B154)=0,LEN(C154)=0,LEN(D154)=0),\"\",IF(AND(RIGHT(B154,1)*1=1,C154=8),-2000,IF(L154>=38,AB154,IF(L154<=31,AC154,AE154))))","v":""},{"$f":"IF(LEN(A154)=0,\"\",INDEX(Str!$C$1:$C$20,MATCH(ROUND(F154,1),Str!$A$1:$A$20,1)))","v":""},"","",{"$f":"IF(LEN(A154)=0,\"\",INDEX(Uni!$C$1:$C$20,MATCH(ROUND($G154,1),Uni!$A$1:$A$20,1)))","v":""},null,"",{"$f":"IF(LEN(A154)=0,\"\",IF(OR(LEN(B154)=0,LEN(C154)=0,LEN(D154)=0,LEN(E154)=0,LEN(F154)=0,LEN(G154)=0),\"no HVI data\",IF('Base Values'!$B$6+(SUM($N154:$R154)/100)<0,0,'Base Values'!$B$6+(SUM(N154:R154)/100))))","v":""},null,{"$f":"IF(LEN(A154)=0,\"\",IF(LEN(H154)=0,INDEX(Ext!$A$1:$G$5,MATCH(0,Ext!$A$1:$A$5,0),MATCH(H$7,Ext!$A$2:$E$2,0)),IF(AND(H154>=0,H154<3),INDEX(Ext!$A$1:$G$5,MATCH(H154,Ext!$A$1:$A$5,0),MATCH(H$7,Ext!$A$2:$E$2,0)),\"invalid entry\")))","v":""},{"$f":"IF(LEN(B154)=0,\"\",IF(LEN(I154)=0,INDEX(Ext!$A$1:$G$5,MATCH(0,Ext!$A$1:$A$5,0),MATCH(I$7,Ext!$A$2:$E$2,0)),IF(AND(I154>=0,I154<3),INDEX(Ext!$A$1:$G$5,MATCH(I154,Ext!$A$1:$A$5,0),MATCH(I$7,Ext!$A$2:$E$2,0)),\"invalid entry\")))","v":""},{"$f":"IF(LEN(C154)=0,\"\",IF(LEN(J154)=0,INDEX(Ext!$A$1:$G$5,MATCH(0,Ext!$A$1:$A$5,0),MATCH(J$7,Ext!$A$2:$E$2,0)),IF(AND(J154>=0,J154<3),INDEX(Ext!$A$1:$G$5,MATCH(J154,Ext!$A$1:$A$5,0),MATCH(J$7,Ext!$A$2:$E$2,0)),\"invalid entry\")))","v":""}]
[null,null,null,null,null,null,null,null,null,null,null,{"$f":"IF(LEN(A155)=0,\"\",IF(LEN(E155)=0,\"HVI data needed\",INDEX('Staple Lookup'!$C$3:$C$100,MATCH(TRUE,'Staple Lookup'!$B$3:$B$100>=ROUND(E155,2),0))))","v":""},null,{"$f":"IF(OR(LEN(B155)=0,LEN(C155)=0,LEN(D155)=0),\"\",IF(AND(RIGHT(B155,1)*1=1,C155=8),-2000,IF(L155>=38,AB155,IF(L155<=31,AC155,AE155))))","v":""},{"$f":"IF(LEN(A155)=0,\"\",INDEX(Str!$C$1:$C$20,MATCH(ROUND(F155,1),Str!$A$1:$A$20,1)))","v":""},"","",{"$f":"IF(LEN(A155)=0,\"\",INDEX(Uni!$C$1:$C$20,MATCH(ROUND($G155,1),Uni!$A$1:$A$20,1)))","v":""},null,"",{"$f":"IF(LEN(A155)=0,\"\",IF(OR(LEN(B155)=0,LEN(C155)=0,LEN(D155)=0,LEN(E155)=0,LEN(F155)=0,LEN(G155)=0),\"no HVI data\",IF('Base Values'!$B$6+(SUM($N155:$R155)/100)<0,0,'Base Values'!$B$6+(SUM(N155:R155)/100))))","v":""},null,{"$f":"IF(LEN(A155)=0,\"\",IF(LEN(H155)=0,INDEX(Ext!$A$1:$G$5,MATCH(0,Ext!$A$1:$A$5,0),MATCH(H$7,Ext!$A$2:$E$2,0)),IF(AND(H155>=0,H155<3),INDEX(Ext!$A$1:$G$5,MATCH(H155,Ext!$A$1:$A$5,0),MATCH(H$7,Ext!$A$2:$E$2,0)),\"invalid entry\")))","v":""},{"$f":"IF(LEN(B155)=0,\"\",IF(LEN(I155)=0,INDEX(Ext!$A$1:$G$5,MATCH(0,Ext!$A$1:$A$5,0),MATCH(I$7,Ext!$A$2:$E$2,0)),IF(AND(I155>=0,I155<3),INDEX(Ext!$A$1:$G$5,MATCH(I155,Ext!$A$1:$A$5,0),MATCH(I$7,Ext!$A$2:$E$2,0)),\"invalid entry\")))","v":""},{"$f":"IF(LEN(C155)=0,\"\",IF(LEN(J155)=0,INDEX(Ext!$A$1:$G$5,MATCH(0,Ext!$A$1:$A$5,0),MATCH(J$7,Ext!$A$2:$E$2,0)),IF(AND(J155>=0,J155<3),INDEX(Ext!$A$1:$G$5,MATCH(J155,Ext!$A$1:$A$5,0),MATCH(J$7,Ext!$A$2:$E$2,0)),\"invalid entry\")))","v":""}]
[null,null,null,null,null,null,null,null,null,null,null,{"$f":"IF(LEN(A156)=0,\"\",IF(LEN(E156)=0,\"HVI data needed\",INDEX('Staple Lookup'!$C$3:$C$100,MATCH(TRUE,'Staple Lookup'!$B$3:$B$100>=ROUND(E156,2),0))))","v":""},null,{"$f":"IF(OR(LEN(B156)=0,LEN(C156)=0,LEN(D156)=0),\"\",IF(AND(RIGHT(B156,1)*1=1,C156=8),-2000,IF(L156>=38,AB156,IF(L156<=31,AC156,AE156))))","v":""},{"$f":"IF(LEN(A156)=0,\"\",INDEX(Str!$C$1:$C$20,MATCH(ROUND(F156,1),Str!$A$1:$A$20,1)))","v":""},"","",{"$f":"IF(LEN(A156)=0,\"\",INDEX(Uni!$C$1:$C$20,MATCH(ROUND($G156,1),Uni!$A$1:$A$20,1)))","v":""},null,"",{"$f":"IF(LEN(A156)=0,\"\",IF(OR(LEN(B156)=0,LEN(C156)=0,LEN(D156)=0,LEN(E156)=0,LEN(F156)=0,LEN(G156)=0),\"no HVI data\",IF('Base Values'!$B$6+(SUM($N156:$R156)/100)<0,0,'Base Values'!$B$6+(SUM(N156:R156)/100))))","v":""},null,{"$f":"IF(LEN(A156)=0,\"\",IF(LEN(H156)=0,INDEX(Ext!$A$1:$G$5,MATCH(0,Ext!$A$1:$A$5,0),MATCH(H$7,Ext!$A$2:$E$2,0)),IF(AND(H156>=0,H156<3),INDEX(Ext!$A$1:$G$5,MATCH(H156,Ext!$A$1:$A$5,0),MATCH(H$7,Ext!$A$2:$E$2,0)),\"invalid entry\")))","v":""},{"$f":"IF(LEN(B156)=0,\"\",IF(LEN(I156)=0,INDEX(Ext!$A$1:$G$5,MATCH(0,Ext!$A$1:$A$5,0),MATCH(I$7,Ext!$A$2:$E$2,0)),IF(AND(I156>=0,I156<3),INDEX(Ext!$A$1:$G$5,MATCH(I156,Ext!$A$1:$A$5,0),MATCH(I$7,Ext!$A$2:$E$2,0)),\"invalid entry\")))","v":""},{"$f":"IF(LEN(C156)=0,\"\",IF(LEN(J156)=0,INDEX(Ext!$A$1:$G$5,MATCH(0,Ext!$A$1:$A$5,0),MATCH(J$7,Ext!$A$2:$E$2,0)),IF(AND(J156>=0,J156<3),INDEX(Ext!$A$1:$G$5,MATCH(J156,Ext!$A$1:$A$5,0),MATCH(J$7,Ext!$A$2:$E$2,0)),\"invalid entry\")))","v":""}]
[null,null,null,null,null,null,null,null,null,null,null,{"$f":"IF(LEN(A157)=0,\"\",IF(LEN(E157)=0,\"HVI data needed\",INDEX('Staple Lookup'!$C$3:$C$100,MATCH(TRUE,'Staple Lookup'!$B$3:$B$100>=ROUND(E157,2),0))))","v":""},null,{"$f":"IF(OR(LEN(B157)=0,LEN(C157)=0,LEN(D157)=0),\"\",IF(AND(RIGHT(B157,1)*1=1,C157=8),-2000,IF(L157>=38,AB157,IF(L157<=31,AC157,AE157))))","v":""},{"$f":"IF(LEN(A157)=0,\"\",INDEX(Str!$C$1:$C$20,MATCH(ROUND(F157,1),Str!$A$1:$A$20,1)))","v":""},"","",{"$f":"IF(LEN(A157)=0,\"\",INDEX(Uni!$C$1:$C$20,MATCH(ROUND($G157,1),Uni!$A$1:$A$20,1)))","v":""},null,"",{"$f":"IF(LEN(A157)=0,\"\",IF(OR(LEN(B157)=0,LEN(C157)=0,LEN(D157)=0,LEN(E157)=0,LEN(F157)=0,LEN(G157)=0),\"no HVI data\",IF('Base Values'!$B$6+(SUM($N157:$R157)/100)<0,0,'Base Values'!$B$6+(SUM(N157:R157)/100))))","v":""},null,{"$f":"IF(LEN(A157)=0,\"\",IF(LEN(H157)=0,INDEX(Ext!$A$1:$G$5,MATCH(0,Ext!$A$1:$A$5,0),MATCH(H$7,Ext!$A$2:$E$2,0)),IF(AND(H157>=0,H157<3),INDEX(Ext!$A$1:$G$5,MATCH(H157,Ext!$A$1:$A$5,0),MATCH(H$7,Ext!$A$2:$E$2,0)),\"invalid entry\")))","v":""},{"$f":"IF(LEN(B157)=0,\"\",IF(LEN(I157)=0,INDEX(Ext!$A$1:$G$5,MATCH(0,Ext!$A$1:$A$5,0),MATCH(I$7,Ext!$A$2:$E$2,0)),IF(AND(I157>=0,I157<3),INDEX(Ext!$A$1:$G$5,MATCH(I157,Ext!$A$1:$A$5,0),MATCH(I$7,Ext!$A$2:$E$2,0)),\"invalid entry\")))","v":""},{"$f":"IF(LEN(C157)=0,\"\",IF(LEN(J157)=0,INDEX(Ext!$A$1:$G$5,MATCH(0,Ext!$A$1:$A$5,0),MATCH(J$7,Ext!$A$2:$E$2,0)),IF(AND(J157>=0,J157<3),INDEX(Ext!$A$1:$G$5,MATCH(J157,Ext!$A$1:$A$5,0),MATCH(J$7,Ext!$A$2:$E$2,0)),\"invalid entry\")))","v":""}]
[null,null,null,null,null,null,null,null,null,null,null,{"$f":"IF(LEN(A158)=0,\"\",IF(LEN(E158)=0,\"HVI data needed\",INDEX('Staple Lookup'!$C$3:$C$100,MATCH(TRUE,'Staple Lookup'!$B$3:$B$100>=ROUND(E158,2),0))))","v":""},null,{"$f":"IF(OR(LEN(B158)=0,LEN(C158)=0,LEN(D158)=0),\"\",IF(AND(RIGHT(B158,1)*1=1,C158=8),-2000,IF(L158>=38,AB158,IF(L158<=31,AC158,AE158))))","v":""},{"$f":"IF(LEN(A158)=0,\"\",INDEX(Str!$C$1:$C$20,MATCH(ROUND(F158,1),Str!$A$1:$A$20,1)))","v":""},"","",{"$f":"IF(LEN(A158)=0,\"\",INDEX(Uni!$C$1:$C$20,MATCH(ROUND($G158,1),Uni!$A$1:$A$20,1)))","v":""},null,"",{"$f":"IF(LEN(A158)=0,\"\",IF(OR(LEN(B158)=0,LEN(C158)=0,LEN(D158)=0,LEN(E158)=0,LEN(F158)=0,LEN(G158)=0),\"no HVI data\",IF('Base Values'!$B$6+(SUM($N158:$R158)/100)<0,0,'Base Values'!$B$6+(SUM(N158:R158)/100))))","v":""},null,{"$f":"IF(LEN(A158)=0,\"\",IF(LEN(H158)=0,INDEX(Ext!$A$1:$G$5,MATCH(0,Ext!$A$1:$A$5,0),MATCH(H$7,Ext!$A$2:$E$2,0)),IF(AND(H158>=0,H158<3),INDEX(Ext!$A$1:$G$5,MATCH(H158,Ext!$A$1:$A$5,0),MATCH(H$7,Ext!$A$2:$E$2,0)),\"invalid entry\")))","v":""},{"$f":"IF(LEN(B158)=0,\"\",IF(LEN(I158)=0,INDEX(Ext!$A$1:$G$5,MATCH(0,Ext!$A$1:$A$5,0),MATCH(I$7,Ext!$A$2:$E$2,0)),IF(AND(I158>=0,I158<3),INDEX(Ext!$A$1:$G$5,MATCH(I158,Ext!$A$1:$A$5,0),MATCH(I$7,Ext!$A$2:$E$2,0)),\"invalid entry\")))","v":""},{"$f":"IF(LEN(C158)=0,\"\",IF(LEN(J158)=0,INDEX(Ext!$A$1:$G$5,MATCH(0,Ext!$A$1:$A$5,0),MATCH(J$7,Ext!$A$2:$E$2,0)),IF(AND(J158>=0,J158<3),INDEX(Ext!$A$1:$G$5,MATCH(J158,Ext!$A$1:$A$5,0),MATCH(J$7,Ext!$A$2:$E$2,0)),\"invalid entry\")))","v":""}]
[null,null,null,null,null,null,null,null,null,null,null,{"$f":"IF(LEN(A159)=0,\"\",IF(LEN(E159)=0,\"HVI data needed\",INDEX('Staple Lookup'!$C$3:$C$100,MATCH(TRUE,'Staple Lookup'!$B$3:$B$100>=ROUND(E159,2),0))))","v":""},null,{"$f":"IF(OR(LEN(B159)=0,LEN(C159)=0,LEN(D159)=0),\"\",IF(AND(RIGHT(B159,1)*1=1,C159=8),-2000,IF(L159>=38,AB159,IF(L159<=31,AC159,AE159))))","v":""},{"$f":"IF(LEN(A159)=0,\"\",INDEX(Str!$C$1:$C$20,MATCH(ROUND(F159,1),Str!$A$1:$A$20,1)))","v":""},"","",{"$f":"IF(LEN(A159)=0,\"\",INDEX(Uni!$C$1:$C$20,MATCH(ROUND($G159,1),Uni!$A$1:$A$20,1)))","v":""},null,"",{"$f":"IF(LEN(A159)=0,\"\",IF(OR(LEN(B159)=0,LEN(C159)=0,LEN(D159)=0,LEN(E159)=0,LEN(F159)=0,LEN(G159)=0),\"no HVI data\",IF('Base Values'!$B$6+(SUM($N159:$R159)/100)<0,0,'Base Values'!$B$6+(SUM(N159:R159)/100))))","v":""},null,{"$f":"IF(LEN(A159)=0,\"\",IF(LEN(H159)=0,INDEX(Ext!$A$1:$G$5,MATCH(0,Ext!$A$1:$A$5,0),MATCH(H$7,Ext!$A$2:$E$2,0)),IF(AND(H159>=0,H159<3),INDEX(Ext!$A$1:$G$5,MATCH(H159,Ext!$A$1:$A$5,0),MATCH(H$7,Ext!$A$2:$E$2,0)),\"invalid entry\")))","v":""},{"$f":"IF(LEN(B159)=0,\"\",IF(LEN(I159)=0,INDEX(Ext!$A$1:$G$5,MATCH(0,Ext!$A$1:$A$5,0),MATCH(I$7,Ext!$A$2:$E$2,0)),IF(AND(I159>=0,I159<3),INDEX(Ext!$A$1:$G$5,MATCH(I159,Ext!$A$1:$A$5,0),MATCH(I$7,Ext!$A$2:$E$2,0)),\"invalid entry\")))","v":""},{"$f":"IF(LEN(C159)=0,\"\",IF(LEN(J159)=0,INDEX(Ext!$A$1:$G$5,MATCH(0,Ext!$A$1:$A$5,0),MATCH(J$7,Ext!$A$2:$E$2,0)),IF(AND(J159>=0,J159<3),INDEX(Ext!$A$1:$G$5,MATCH(J159,Ext!$A$1:$A$5,0),MATCH(J$7,Ext!$A$2:$E$2,0)),\"invalid entry\")))","v":""}]
[null,null,null,null,null,null,null,null,null,null,null,{"$f":"IF(LEN(A160)=0,\"\",IF(LEN(E160)=0,\"HVI data needed\",INDEX('Staple Lookup'!$C$3:$C$100,MATCH(TRUE,'Staple Lookup'!$B$3:$B$100>=ROUND(E160,2),0))))","v":""},null,{"$f":"IF(OR(LEN(B160)=0,LEN(C160)=0,LEN(D160)=0),\"\",IF(AND(RIGHT(B160,1)*1=1,C160=8),-2000,IF(L160>=38,AB160,IF(L160<=31,AC160,AE160))))","v":""},{"$f":"IF(LEN(A160)=0,\"\",INDEX(Str!$C$1:$C$20,MATCH(ROUND(F160,1),Str!$A$1:$A$20,1)))","v":""},"","",{"$f":"IF(LEN(A160)=0,\"\",INDEX(Uni!$C$1:$C$20,MATCH(ROUND($G160,1),Uni!$A$1:$A$20,1)))","v":""},null,"",{"$f":"IF(LEN(A160)=0,\"\",IF(OR(LEN(B160)=0,LEN(C160)=0,LEN(D160)=0,LEN(E160)=0,LEN(F160)=0,LEN(G160)=0),\"no HVI data\",IF('Base Values'!$B$6+(SUM($N160:$R160)/100)<0,0,'Base Values'!$B$6+(SUM(N160:R160)/100))))","v":""},null,{"$f":"IF(LEN(A160)=0,\"\",IF(LEN(H160)=0,INDEX(Ext!$A$1:$G$5,MATCH(0,Ext!$A$1:$A$5,0),MATCH(H$7,Ext!$A$2:$E$2,0)),IF(AND(H160>=0,H160<3),INDEX(Ext!$A$1:$G$5,MATCH(H160,Ext!$A$1:$A$5,0),MATCH(H$7,Ext!$A$2:$E$2,0)),\"invalid entry\")))","v":""},{"$f":"IF(LEN(B160)=0,\"\",IF(LEN(I160)=0,INDEX(Ext!$A$1:$G$5,MATCH(0,Ext!$A$1:$A$5,0),MATCH(I$7,Ext!$A$2:$E$2,0)),IF(AND(I160>=0,I160<3),INDEX(Ext!$A$1:$G$5,MATCH(I160,Ext!$A$1:$A$5,0),MATCH(I$7,Ext!$A$2:$E$2,0)),\"invalid entry\")))","v":""},{"$f":"IF(LEN(C160)=0,\"\",IF(LEN(J160)=0,INDEX(Ext!$A$1:$G$5,MATCH(0,Ext!$A$1:$A$5,0),MATCH(J$7,Ext!$A$2:$E$2,0)),IF(AND(J160>=0,J160<3),INDEX(Ext!$A$1:$G$5,MATCH(J160,Ext!$A$1:$A$5,0),MATCH(J$7,Ext!$A$2:$E$2,0)),\"invalid entry\")))","v":""}]
[null,null,null,null,null,null,null,null,null,null,null,{"$f":"IF(LEN(A161)=0,\"\",IF(LEN(E161)=0,\"HVI data needed\",INDEX('Staple Lookup'!$C$3:$C$100,MATCH(TRUE,'Staple Lookup'!$B$3:$B$100>=ROUND(E161,2),0))))","v":""},null,{"$f":"IF(OR(LEN(B161)=0,LEN(C161)=0,LEN(D161)=0),\"\",IF(AND(RIGHT(B161,1)*1=1,C161=8),-2000,IF(L161>=38,AB161,IF(L161<=31,AC161,AE161))))","v":""},{"$f":"IF(LEN(A161)=0,\"\",INDEX(Str!$C$1:$C$20,MATCH(ROUND(F161,1),Str!$A$1:$A$20,1)))","v":""},"","",{"$f":"IF(LEN(A161)=0,\"\",INDEX(Uni!$C$1:$C$20,MATCH(ROUND($G161,1),Uni!$A$1:$A$20,1)))","v":""},null,"",{"$f":"IF(LEN(A161)=0,\"\",IF(OR(LEN(B161)=0,LEN(C161)=0,LEN(D161)=0,LEN(E161)=0,LEN(F161)=0,LEN(G161)=0),\"no HVI data\",IF('Base Values'!$B$6+(SUM($N161:$R161)/100)<0,0,'Base Values'!$B$6+(SUM(N161:R161)/100))))","v":""},null,{"$f":"IF(LEN(A161)=0,\"\",IF(LEN(H161)=0,INDEX(Ext!$A$1:$G$5,MATCH(0,Ext!$A$1:$A$5,0),MATCH(H$7,Ext!$A$2:$E$2,0)),IF(AND(H161>=0,H161<3),INDEX(Ext!$A$1:$G$5,MATCH(H161,Ext!$A$1:$A$5,0),MATCH(H$7,Ext!$A$2:$E$2,0)),\"invalid entry\")))","v":""},{"$f":"IF(LEN(B161)=0,\"\",IF(LEN(I161)=0,INDEX(Ext!$A$1:$G$5,MATCH(0,Ext!$A$1:$A$5,0),MATCH(I$7,Ext!$A$2:$E$2,0)),IF(AND(I161>=0,I161<3),INDEX(Ext!$A$1:$G$5,MATCH(I161,Ext!$A$1:$A$5,0),MATCH(I$7,Ext!$A$2:$E$2,0)),\"invalid entry\")))","v":""},{"$f":"IF(LEN(C161)=0,\"\",IF(LEN(J161)=0,INDEX(Ext!$A$1:$G$5,MATCH(0,Ext!$A$1:$A$5,0),MATCH(J$7,Ext!$A$2:$E$2,0)),IF(AND(J161>=0,J161<3),INDEX(Ext!$A$1:$G$5,MATCH(J161,Ext!$A$1:$A$5,0),MATCH(J$7,Ext!$A$2:$E$2,0)),\"invalid entry\")))","v":""}]
[null,null,null,null,null,null,null,null,null,null,null,{"$f":"IF(LEN(A162)=0,\"\",IF(LEN(E162)=0,\"HVI data needed\",INDEX('Staple Lookup'!$C$3:$C$100,MATCH(TRUE,'Staple Lookup'!$B$3:$B$100>=ROUND(E162,2),0))))","v":""},null,{"$f":"IF(OR(LEN(B162)=0,LEN(C162)=0,LEN(D162)=0),\"\",IF(AND(RIGHT(B162,1)*1=1,C162=8),-2000,IF(L162>=38,AB162,IF(L162<=31,AC162,AE162))))","v":""},{"$f":"IF(LEN(A162)=0,\"\",INDEX(Str!$C$1:$C$20,MATCH(ROUND(F162,1),Str!$A$1:$A$20,1)))","v":""},"","",{"$f":"IF(LEN(A162)=0,\"\",INDEX(Uni!$C$1:$C$20,MATCH(ROUND($G162,1),Uni!$A$1:$A$20,1)))","v":""},null,"",{"$f":"IF(LEN(A162)=0,\"\",IF(OR(LEN(B162)=0,LEN(C162)=0,LEN(D162)=0,LEN(E162)=0,LEN(F162)=0,LEN(G162)=0),\"no HVI data\",IF('Base Values'!$B$6+(SUM($N162:$R162)/100)<0,0,'Base Values'!$B$6+(SUM(N162:R162)/100))))","v":""},null,{"$f":"IF(LEN(A162)=0,\"\",IF(LEN(H162)=0,INDEX(Ext!$A$1:$G$5,MATCH(0,Ext!$A$1:$A$5,0),MATCH(H$7,Ext!$A$2:$E$2,0)),IF(AND(H162>=0,H162<3),INDEX(Ext!$A$1:$G$5,MATCH(H162,Ext!$A$1:$A$5,0),MATCH(H$7,Ext!$A$2:$E$2,0)),\"invalid entry\")))","v":""},{"$f":"IF(LEN(B162)=0,\"\",IF(LEN(I162)=0,INDEX(Ext!$A$1:$G$5,MATCH(0,Ext!$A$1:$A$5,0),MATCH(I$7,Ext!$A$2:$E$2,0)),IF(AND(I162>=0,I162<3),INDEX(Ext!$A$1:$G$5,MATCH(I162,Ext!$A$1:$A$5,0),MATCH(I$7,Ext!$A$2:$E$2,0)),\"invalid entry\")))","v":""},{"$f":"IF(LEN(C162)=0,\"\",IF(LEN(J162)=0,INDEX(Ext!$A$1:$G$5,MATCH(0,Ext!$A$1:$A$5,0),MATCH(J$7,Ext!$A$2:$E$2,0)),IF(AND(J162>=0,J162<3),INDEX(Ext!$A$1:$G$5,MATCH(J162,Ext!$A$1:$A$5,0),MATCH(J$7,Ext!$A$2:$E$2,0)),\"invalid entry\")))","v":""}]
[null,null,null,null,null,null,null,null,null,null,null,{"$f":"IF(LEN(A163)=0,\"\",IF(LEN(E163)=0,\"HVI data needed\",INDEX('Staple Lookup'!$C$3:$C$100,MATCH(TRUE,'Staple Lookup'!$B$3:$B$100>=ROUND(E163,2),0))))","v":""},null,{"$f":"IF(OR(LEN(B163)=0,LEN(C163)=0,LEN(D163)=0),\"\",IF(AND(RIGHT(B163,1)*1=1,C163=8),-2000,IF(L163>=38,AB163,IF(L163<=31,AC163,AE163))))","v":""},{"$f":"IF(LEN(A163)=0,\"\",INDEX(Str!$C$1:$C$20,MATCH(ROUND(F163,1),Str!$A$1:$A$20,1)))","v":""},"","",{"$f":"IF(LEN(A163)=0,\"\",INDEX(Uni!$C$1:$C$20,MATCH(ROUND($G163,1),Uni!$A$1:$A$20,1)))","v":""},null,"",{"$f":"IF(LEN(A163)=0,\"\",IF(OR(LEN(B163)=0,LEN(C163)=0,LEN(D163)=0,LEN(E163)=0,LEN(F163)=0,LEN(G163)=0),\"no HVI data\",IF('Base Values'!$B$6+(SUM($N163:$R163)/100)<0,0,'Base Values'!$B$6+(SUM(N163:R163)/100))))","v":""},null,{"$f":"IF(LEN(A163)=0,\"\",IF(LEN(H163)=0,INDEX(Ext!$A$1:$G$5,MATCH(0,Ext!$A$1:$A$5,0),MATCH(H$7,Ext!$A$2:$E$2,0)),IF(AND(H163>=0,H163<3),INDEX(Ext!$A$1:$G$5,MATCH(H163,Ext!$A$1:$A$5,0),MATCH(H$7,Ext!$A$2:$E$2,0)),\"invalid entry\")))","v":""},{"$f":"IF(LEN(B163)=0,\"\",IF(LEN(I163)=0,INDEX(Ext!$A$1:$G$5,MATCH(0,Ext!$A$1:$A$5,0),MATCH(I$7,Ext!$A$2:$E$2,0)),IF(AND(I163>=0,I163<3),INDEX(Ext!$A$1:$G$5,MATCH(I163,Ext!$A$1:$A$5,0),MATCH(I$7,Ext!$A$2:$E$2,0)),\"invalid entry\")))","v":""},{"$f":"IF(LEN(C163)=0,\"\",IF(LEN(J163)=0,INDEX(Ext!$A$1:$G$5,MATCH(0,Ext!$A$1:$A$5,0),MATCH(J$7,Ext!$A$2:$E$2,0)),IF(AND(J163>=0,J163<3),INDEX(Ext!$A$1:$G$5,MATCH(J163,Ext!$A$1:$A$5,0),MATCH(J$7,Ext!$A$2:$E$2,0)),\"invalid entry\")))","v":""}]
[null,null,null,null,null,null,null,null,null,null,null,{"$f":"IF(LEN(A164)=0,\"\",IF(LEN(E164)=0,\"HVI data needed\",INDEX('Staple Lookup'!$C$3:$C$100,MATCH(TRUE,'Staple Lookup'!$B$3:$B$100>=ROUND(E164,2),0))))","v":""},null,{"$f":"IF(OR(LEN(B164)=0,LEN(C164)=0,LEN(D164)=0),\"\",IF(AND(RIGHT(B164,1)*1=1,C164=8),-2000,IF(L164>=38,AB164,IF(L164<=31,AC164,AE164))))","v":""},{"$f":"IF(LEN(A164)=0,\"\",INDEX(Str!$C$1:$C$20,MATCH(ROUND(F164,1),Str!$A$1:$A$20,1)))","v":""},"","",{"$f":"IF(LEN(A164)=0,\"\",INDEX(Uni!$C$1:$C$20,MATCH(ROUND($G164,1),Uni!$A$1:$A$20,1)))","v":""},null,"",{"$f":"IF(LEN(A164)=0,\"\",IF(OR(LEN(B164)=0,LEN(C164)=0,LEN(D164)=0,LEN(E164)=0,LEN(F164)=0,LEN(G164)=0),\"no HVI data\",IF('Base Values'!$B$6+(SUM($N164:$R164)/100)<0,0,'Base Values'!$B$6+(SUM(N164:R164)/100))))","v":""},null,{"$f":"IF(LEN(A164)=0,\"\",IF(LEN(H164)=0,INDEX(Ext!$A$1:$G$5,MATCH(0,Ext!$A$1:$A$5,0),MATCH(H$7,Ext!$A$2:$E$2,0)),IF(AND(H164>=0,H164<3),INDEX(Ext!$A$1:$G$5,MATCH(H164,Ext!$A$1:$A$5,0),MATCH(H$7,Ext!$A$2:$E$2,0)),\"invalid entry\")))","v":""},{"$f":"IF(LEN(B164)=0,\"\",IF(LEN(I164)=0,INDEX(Ext!$A$1:$G$5,MATCH(0,Ext!$A$1:$A$5,0),MATCH(I$7,Ext!$A$2:$E$2,0)),IF(AND(I164>=0,I164<3),INDEX(Ext!$A$1:$G$5,MATCH(I164,Ext!$A$1:$A$5,0),MATCH(I$7,Ext!$A$2:$E$2,0)),\"invalid entry\")))","v":""},{"$f":"IF(LEN(C164)=0,\"\",IF(LEN(J164)=0,INDEX(Ext!$A$1:$G$5,MATCH(0,Ext!$A$1:$A$5,0),MATCH(J$7,Ext!$A$2:$E$2,0)),IF(AND(J164>=0,J164<3),INDEX(Ext!$A$1:$G$5,MATCH(J164,Ext!$A$1:$A$5,0),MATCH(J$7,Ext!$A$2:$E$2,0)),\"invalid entry\")))","v":""}]
[null,null,null,null,null,null,null,null,null,null,null,{"$f":"IF(LEN(A165)=0,\"\",IF(LEN(E165)=0,\"HVI data needed\",INDEX('Staple Lookup'!$C$3:$C$100,MATCH(TRUE,'Staple Lookup'!$B$3:$B$100>=ROUND(E165,2),0))))","v":""},null,{"$f":"IF(OR(LEN(B165)=0,LEN(C165)=0,LEN(D165)=0),\"\",IF(AND(RIGHT(B165,1)*1=1,C165=8),-2000,IF(L165>=38,AB165,IF(L165<=31,AC165,AE165))))","v":""},{"$f":"IF(LEN(A165)=0,\"\",INDEX(Str!$C$1:$C$20,MATCH(ROUND(F165,1),Str!$A$1:$A$20,1)))","v":""},"","",{"$f":"IF(LEN(A165)=0,\"\",INDEX(Uni!$C$1:$C$20,MATCH(ROUND($G165,1),Uni!$A$1:$A$20,1)))","v":""},null,"",{"$f":"IF(LEN(A165)=0,\"\",IF(OR(LEN(B165)=0,LEN(C165)=0,LEN(D165)=0,LEN(E165)=0,LEN(F165)=0,LEN(G165)=0),\"no HVI data\",IF('Base Values'!$B$6+(SUM($N165:$R165)/100)<0,0,'Base Values'!$B$6+(SUM(N165:R165)/100))))","v":""},null,{"$f":"IF(LEN(A165)=0,\"\",IF(LEN(H165)=0,INDEX(Ext!$A$1:$G$5,MATCH(0,Ext!$A$1:$A$5,0),MATCH(H$7,Ext!$A$2:$E$2,0)),IF(AND(H165>=0,H165<3),INDEX(Ext!$A$1:$G$5,MATCH(H165,Ext!$A$1:$A$5,0),MATCH(H$7,Ext!$A$2:$E$2,0)),\"invalid entry\")))","v":""},{"$f":"IF(LEN(B165)=0,\"\",IF(LEN(I165)=0,INDEX(Ext!$A$1:$G$5,MATCH(0,Ext!$A$1:$A$5,0),MATCH(I$7,Ext!$A$2:$E$2,0)),IF(AND(I165>=0,I165<3),INDEX(Ext!$A$1:$G$5,MATCH(I165,Ext!$A$1:$A$5,0),MATCH(I$7,Ext!$A$2:$E$2,0)),\"invalid entry\")))","v":""},{"$f":"IF(LEN(C165)=0,\"\",IF(LEN(J165)=0,INDEX(Ext!$A$1:$G$5,MATCH(0,Ext!$A$1:$A$5,0),MATCH(J$7,Ext!$A$2:$E$2,0)),IF(AND(J165>=0,J165<3),INDEX(Ext!$A$1:$G$5,MATCH(J165,Ext!$A$1:$A$5,0),MATCH(J$7,Ext!$A$2:$E$2,0)),\"invalid entry\")))","v":""}]
[null,null,null,null,null,null,null,null,null,null,null,{"$f":"IF(LEN(A166)=0,\"\",IF(LEN(E166)=0,\"HVI data needed\",INDEX('Staple Lookup'!$C$3:$C$100,MATCH(TRUE,'Staple Lookup'!$B$3:$B$100>=ROUND(E166,2),0))))","v":""},null,{"$f":"IF(OR(LEN(B166)=0,LEN(C166)=0,LEN(D166)=0),\"\",IF(AND(RIGHT(B166,1)*1=1,C166=8),-2000,IF(L166>=38,AB166,IF(L166<=31,AC166,AE166))))","v":""},{"$f":"IF(LEN(A166)=0,\"\",INDEX(Str!$C$1:$C$20,MATCH(ROUND(F166,1),Str!$A$1:$A$20,1)))","v":""},"","",{"$f":"IF(LEN(A166)=0,\"\",INDEX(Uni!$C$1:$C$20,MATCH(ROUND($G166,1),Uni!$A$1:$A$20,1)))","v":""},null,"",{"$f":"IF(LEN(A166)=0,\"\",IF(OR(LEN(B166)=0,LEN(C166)=0,LEN(D166)=0,LEN(E166)=0,LEN(F166)=0,LEN(G166)=0),\"no HVI data\",IF('Base Values'!$B$6+(SUM($N166:$R166)/100)<0,0,'Base Values'!$B$6+(SUM(N166:R166)/100))))","v":""},null,{"$f":"IF(LEN(A166)=0,\"\",IF(LEN(H166)=0,INDEX(Ext!$A$1:$G$5,MATCH(0,Ext!$A$1:$A$5,0),MATCH(H$7,Ext!$A$2:$E$2,0)),IF(AND(H166>=0,H166<3),INDEX(Ext!$A$1:$G$5,MATCH(H166,Ext!$A$1:$A$5,0),MATCH(H$7,Ext!$A$2:$E$2,0)),\"invalid entry\")))","v":""},{"$f":"IF(LEN(B166)=0,\"\",IF(LEN(I166)=0,INDEX(Ext!$A$1:$G$5,MATCH(0,Ext!$A$1:$A$5,0),MATCH(I$7,Ext!$A$2:$E$2,0)),IF(AND(I166>=0,I166<3),INDEX(Ext!$A$1:$G$5,MATCH(I166,Ext!$A$1:$A$5,0),MATCH(I$7,Ext!$A$2:$E$2,0)),\"invalid entry\")))","v":""},{"$f":"IF(LEN(C166)=0,\"\",IF(LEN(J166)=0,INDEX(Ext!$A$1:$G$5,MATCH(0,Ext!$A$1:$A$5,0),MATCH(J$7,Ext!$A$2:$E$2,0)),IF(AND(J166>=0,J166<3),INDEX(Ext!$A$1:$G$5,MATCH(J166,Ext!$A$1:$A$5,0),MATCH(J$7,Ext!$A$2:$E$2,0)),\"invalid entry\")))","v":""}]
[null,null,null,null,null,null,null,null,null,null,null,{"$f":"IF(LEN(A167)=0,\"\",IF(LEN(E167)=0,\"HVI data needed\",INDEX('Staple Lookup'!$C$3:$C$100,MATCH(TRUE,'Staple Lookup'!$B$3:$B$100>=ROUND(E167,2),0))))","v":""},null,{"$f":"IF(OR(LEN(B167)=0,LEN(C167)=0,LEN(D167)=0),\"\",IF(AND(RIGHT(B167,1)*1=1,C167=8),-2000,IF(L167>=38,AB167,IF(L167<=31,AC167,AE167))))","v":""},{"$f":"IF(LEN(A167)=0,\"\",INDEX(Str!$C$1:$C$20,MATCH(ROUND(F167,1),Str!$A$1:$A$20,1)))","v":""},"","",{"$f":"IF(LEN(A167)=0,\"\",INDEX(Uni!$C$1:$C$20,MATCH(ROUND($G167,1),Uni!$A$1:$A$20,1)))","v":""},null,"",{"$f":"IF(LEN(A167)=0,\"\",IF(OR(LEN(B167)=0,LEN(C167)=0,LEN(D167)=0,LEN(E167)=0,LEN(F167)=0,LEN(G167)=0),\"no HVI data\",IF('Base Values'!$B$6+(SUM($N167:$R167)/100)<0,0,'Base Values'!$B$6+(SUM(N167:R167)/100))))","v":""},null,{"$f":"IF(LEN(A167)=0,\"\",IF(LEN(H167)=0,INDEX(Ext!$A$1:$G$5,MATCH(0,Ext!$A$1:$A$5,0),MATCH(H$7,Ext!$A$2:$E$2,0)),IF(AND(H167>=0,H167<3),INDEX(Ext!$A$1:$G$5,MATCH(H167,Ext!$A$1:$A$5,0),MATCH(H$7,Ext!$A$2:$E$2,0)),\"invalid entry\")))","v":""},{"$f":"IF(LEN(B167)=0,\"\",IF(LEN(I167)=0,INDEX(Ext!$A$1:$G$5,MATCH(0,Ext!$A$1:$A$5,0),MATCH(I$7,Ext!$A$2:$E$2,0)),IF(AND(I167>=0,I167<3),INDEX(Ext!$A$1:$G$5,MATCH(I167,Ext!$A$1:$A$5,0),MATCH(I$7,Ext!$A$2:$E$2,0)),\"invalid entry\")))","v":""},{"$f":"IF(LEN(C167)=0,\"\",IF(LEN(J167)=0,INDEX(Ext!$A$1:$G$5,MATCH(0,Ext!$A$1:$A$5,0),MATCH(J$7,Ext!$A$2:$E$2,0)),IF(AND(J167>=0,J167<3),INDEX(Ext!$A$1:$G$5,MATCH(J167,Ext!$A$1:$A$5,0),MATCH(J$7,Ext!$A$2:$E$2,0)),\"invalid entry\")))","v":""}]
[null,null,null,null,null,null,null,null,null,null,null,{"$f":"IF(LEN(A168)=0,\"\",IF(LEN(E168)=0,\"HVI data needed\",INDEX('Staple Lookup'!$C$3:$C$100,MATCH(TRUE,'Staple Lookup'!$B$3:$B$100>=ROUND(E168,2),0))))","v":""},null,{"$f":"IF(OR(LEN(B168)=0,LEN(C168)=0,LEN(D168)=0),\"\",IF(AND(RIGHT(B168,1)*1=1,C168=8),-2000,IF(L168>=38,AB168,IF(L168<=31,AC168,AE168))))","v":""},{"$f":"IF(LEN(A168)=0,\"\",INDEX(Str!$C$1:$C$20,MATCH(ROUND(F168,1),Str!$A$1:$A$20,1)))","v":""},"","",{"$f":"IF(LEN(A168)=0,\"\",INDEX(Uni!$C$1:$C$20,MATCH(ROUND($G168,1),Uni!$A$1:$A$20,1)))","v":""},null,"",{"$f":"IF(LEN(A168)=0,\"\",IF(OR(LEN(B168)=0,LEN(C168)=0,LEN(D168)=0,LEN(E168)=0,LEN(F168)=0,LEN(G168)=0),\"no HVI data\",IF('Base Values'!$B$6+(SUM($N168:$R168)/100)<0,0,'Base Values'!$B$6+(SUM(N168:R168)/100))))","v":""},null,{"$f":"IF(LEN(A168)=0,\"\",IF(LEN(H168)=0,INDEX(Ext!$A$1:$G$5,MATCH(0,Ext!$A$1:$A$5,0),MATCH(H$7,Ext!$A$2:$E$2,0)),IF(AND(H168>=0,H168<3),INDEX(Ext!$A$1:$G$5,MATCH(H168,Ext!$A$1:$A$5,0),MATCH(H$7,Ext!$A$2:$E$2,0)),\"invalid entry\")))","v":""},{"$f":"IF(LEN(B168)=0,\"\",IF(LEN(I168)=0,INDEX(Ext!$A$1:$G$5,MATCH(0,Ext!$A$1:$A$5,0),MATCH(I$7,Ext!$A$2:$E$2,0)),IF(AND(I168>=0,I168<3),INDEX(Ext!$A$1:$G$5,MATCH(I168,Ext!$A$1:$A$5,0),MATCH(I$7,Ext!$A$2:$E$2,0)),\"invalid entry\")))","v":""},{"$f":"IF(LEN(C168)=0,\"\",IF(LEN(J168)=0,INDEX(Ext!$A$1:$G$5,MATCH(0,Ext!$A$1:$A$5,0),MATCH(J$7,Ext!$A$2:$E$2,0)),IF(AND(J168>=0,J168<3),INDEX(Ext!$A$1:$G$5,MATCH(J168,Ext!$A$1:$A$5,0),MATCH(J$7,Ext!$A$2:$E$2,0)),\"invalid entry\")))","v":""}]
[null,null,null,null,null,null,null,null,null,null,null,{"$f":"IF(LEN(A169)=0,\"\",IF(LEN(E169)=0,\"HVI data needed\",INDEX('Staple Lookup'!$C$3:$C$100,MATCH(TRUE,'Staple Lookup'!$B$3:$B$100>=ROUND(E169,2),0))))","v":""},null,{"$f":"IF(OR(LEN(B169)=0,LEN(C169)=0,LEN(D169)=0),\"\",IF(AND(RIGHT(B169,1)*1=1,C169=8),-2000,IF(L169>=38,AB169,IF(L169<=31,AC169,AE169))))","v":""},{"$f":"IF(LEN(A169)=0,\"\",INDEX(Str!$C$1:$C$20,MATCH(ROUND(F169,1),Str!$A$1:$A$20,1)))","v":""},"","",{"$f":"IF(LEN(A169)=0,\"\",INDEX(Uni!$C$1:$C$20,MATCH(ROUND($G169,1),Uni!$A$1:$A$20,1)))","v":""},null,"",{"$f":"IF(LEN(A169)=0,\"\",IF(OR(LEN(B169)=0,LEN(C169)=0,LEN(D169)=0,LEN(E169)=0,LEN(F169)=0,LEN(G169)=0),\"no HVI data\",IF('Base Values'!$B$6+(SUM($N169:$R169)/100)<0,0,'Base Values'!$B$6+(SUM(N169:R169)/100))))","v":""},null,{"$f":"IF(LEN(A169)=0,\"\",IF(LEN(H169)=0,INDEX(Ext!$A$1:$G$5,MATCH(0,Ext!$A$1:$A$5,0),MATCH(H$7,Ext!$A$2:$E$2,0)),IF(AND(H169>=0,H169<3),INDEX(Ext!$A$1:$G$5,MATCH(H169,Ext!$A$1:$A$5,0),MATCH(H$7,Ext!$A$2:$E$2,0)),\"invalid entry\")))","v":""},{"$f":"IF(LEN(B169)=0,\"\",IF(LEN(I169)=0,INDEX(Ext!$A$1:$G$5,MATCH(0,Ext!$A$1:$A$5,0),MATCH(I$7,Ext!$A$2:$E$2,0)),IF(AND(I169>=0,I169<3),INDEX(Ext!$A$1:$G$5,MATCH(I169,Ext!$A$1:$A$5,0),MATCH(I$7,Ext!$A$2:$E$2,0)),\"invalid entry\")))","v":""},{"$f":"IF(LEN(C169)=0,\"\",IF(LEN(J169)=0,INDEX(Ext!$A$1:$G$5,MATCH(0,Ext!$A$1:$A$5,0),MATCH(J$7,Ext!$A$2:$E$2,0)),IF(AND(J169>=0,J169<3),INDEX(Ext!$A$1:$G$5,MATCH(J169,Ext!$A$1:$A$5,0),MATCH(J$7,Ext!$A$2:$E$2,0)),\"invalid entry\")))","v":""}]
[null,null,null,null,null,null,null,null,null,null,null,{"$f":"IF(LEN(A170)=0,\"\",IF(LEN(E170)=0,\"HVI data needed\",INDEX('Staple Lookup'!$C$3:$C$100,MATCH(TRUE,'Staple Lookup'!$B$3:$B$100>=ROUND(E170,2),0))))","v":""},null,{"$f":"IF(OR(LEN(B170)=0,LEN(C170)=0,LEN(D170)=0),\"\",IF(AND(RIGHT(B170,1)*1=1,C170=8),-2000,IF(L170>=38,AB170,IF(L170<=31,AC170,AE170))))","v":""},{"$f":"IF(LEN(A170)=0,\"\",INDEX(Str!$C$1:$C$20,MATCH(ROUND(F170,1),Str!$A$1:$A$20,1)))","v":""},"","",{"$f":"IF(LEN(A170)=0,\"\",INDEX(Uni!$C$1:$C$20,MATCH(ROUND($G170,1),Uni!$A$1:$A$20,1)))","v":""},null,"",{"$f":"IF(LEN(A170)=0,\"\",IF(OR(LEN(B170)=0,LEN(C170)=0,LEN(D170)=0,LEN(E170)=0,LEN(F170)=0,LEN(G170)=0),\"no HVI data\",IF('Base Values'!$B$6+(SUM($N170:$R170)/100)<0,0,'Base Values'!$B$6+(SUM(N170:R170)/100))))","v":""},null,{"$f":"IF(LEN(A170)=0,\"\",IF(LEN(H170)=0,INDEX(Ext!$A$1:$G$5,MATCH(0,Ext!$A$1:$A$5,0),MATCH(H$7,Ext!$A$2:$E$2,0)),IF(AND(H170>=0,H170<3),INDEX(Ext!$A$1:$G$5,MATCH(H170,Ext!$A$1:$A$5,0),MATCH(H$7,Ext!$A$2:$E$2,0)),\"invalid entry\")))","v":""},{"$f":"IF(LEN(B170)=0,\"\",IF(LEN(I170)=0,INDEX(Ext!$A$1:$G$5,MATCH(0,Ext!$A$1:$A$5,0),MATCH(I$7,Ext!$A$2:$E$2,0)),IF(AND(I170>=0,I170<3),INDEX(Ext!$A$1:$G$5,MATCH(I170,Ext!$A$1:$A$5,0),MATCH(I$7,Ext!$A$2:$E$2,0)),\"invalid entry\")))","v":""},{"$f":"IF(LEN(C170)=0,\"\",IF(LEN(J170)=0,INDEX(Ext!$A$1:$G$5,MATCH(0,Ext!$A$1:$A$5,0),MATCH(J$7,Ext!$A$2:$E$2,0)),IF(AND(J170>=0,J170<3),INDEX(Ext!$A$1:$G$5,MATCH(J170,Ext!$A$1:$A$5,0),MATCH(J$7,Ext!$A$2:$E$2,0)),\"invalid entry\")))","v":""}]
[null,null,null,null,null,null,null,null,null,null,null,{"$f":"IF(LEN(A171)=0,\"\",IF(LEN(E171)=0,\"HVI data needed\",INDEX('Staple Lookup'!$C$3:$C$100,MATCH(TRUE,'Staple Lookup'!$B$3:$B$100>=ROUND(E171,2),0))))","v":""},null,{"$f":"IF(OR(LEN(B171)=0,LEN(C171)=0,LEN(D171)=0),\"\",IF(AND(RIGHT(B171,1)*1=1,C171=8),-2000,IF(L171>=38,AB171,IF(L171<=31,AC171,AE171))))","v":""},{"$f":"IF(LEN(A171)=0,\"\",INDEX(Str!$C$1:$C$20,MATCH(ROUND(F171,1),Str!$A$1:$A$20,1)))","v":""},"","",{"$f":"IF(LEN(A171)=0,\"\",INDEX(Uni!$C$1:$C$20,MATCH(ROUND($G171,1),Uni!$A$1:$A$20,1)))","v":""},null,"",{"$f":"IF(LEN(A171)=0,\"\",IF(OR(LEN(B171)=0,LEN(C171)=0,LEN(D171)=0,LEN(E171)=0,LEN(F171)=0,LEN(G171)=0),\"no HVI data\",IF('Base Values'!$B$6+(SUM($N171:$R171)/100)<0,0,'Base Values'!$B$6+(SUM(N171:R171)/100))))","v":""},null,{"$f":"IF(LEN(A171)=0,\"\",IF(LEN(H171)=0,INDEX(Ext!$A$1:$G$5,MATCH(0,Ext!$A$1:$A$5,0),MATCH(H$7,Ext!$A$2:$E$2,0)),IF(AND(H171>=0,H171<3),INDEX(Ext!$A$1:$G$5,MATCH(H171,Ext!$A$1:$A$5,0),MATCH(H$7,Ext!$A$2:$E$2,0)),\"invalid entry\")))","v":""},{"$f":"IF(LEN(B171)=0,\"\",IF(LEN(I171)=0,INDEX(Ext!$A$1:$G$5,MATCH(0,Ext!$A$1:$A$5,0),MATCH(I$7,Ext!$A$2:$E$2,0)),IF(AND(I171>=0,I171<3),INDEX(Ext!$A$1:$G$5,MATCH(I171,Ext!$A$1:$A$5,0),MATCH(I$7,Ext!$A$2:$E$2,0)),\"invalid entry\")))","v":""},{"$f":"IF(LEN(C171)=0,\"\",IF(LEN(J171)=0,INDEX(Ext!$A$1:$G$5,MATCH(0,Ext!$A$1:$A$5,0),MATCH(J$7,Ext!$A$2:$E$2,0)),IF(AND(J171>=0,J171<3),INDEX(Ext!$A$1:$G$5,MATCH(J171,Ext!$A$1:$A$5,0),MATCH(J$7,Ext!$A$2:$E$2,0)),\"invalid entry\")))","v":""}]
[null,null,null,null,null,null,null,null,null,null,null,{"$f":"IF(LEN(A172)=0,\"\",IF(LEN(E172)=0,\"HVI data needed\",INDEX('Staple Lookup'!$C$3:$C$100,MATCH(TRUE,'Staple Lookup'!$B$3:$B$100>=ROUND(E172,2),0))))","v":""},null,{"$f":"IF(OR(LEN(B172)=0,LEN(C172)=0,LEN(D172)=0),\"\",IF(AND(RIGHT(B172,1)*1=1,C172=8),-2000,IF(L172>=38,AB172,IF(L172<=31,AC172,AE172))))","v":""},{"$f":"IF(LEN(A172)=0,\"\",INDEX(Str!$C$1:$C$20,MATCH(ROUND(F172,1),Str!$A$1:$A$20,1)))","v":""},"","",{"$f":"IF(LEN(A172)=0,\"\",INDEX(Uni!$C$1:$C$20,MATCH(ROUND($G172,1),Uni!$A$1:$A$20,1)))","v":""},null,"",{"$f":"IF(LEN(A172)=0,\"\",IF(OR(LEN(B172)=0,LEN(C172)=0,LEN(D172)=0,LEN(E172)=0,LEN(F172)=0,LEN(G172)=0),\"no HVI data\",IF('Base Values'!$B$6+(SUM($N172:$R172)/100)<0,0,'Base Values'!$B$6+(SUM(N172:R172)/100))))","v":""},null,{"$f":"IF(LEN(A172)=0,\"\",IF(LEN(H172)=0,INDEX(Ext!$A$1:$G$5,MATCH(0,Ext!$A$1:$A$5,0),MATCH(H$7,Ext!$A$2:$E$2,0)),IF(AND(H172>=0,H172<3),INDEX(Ext!$A$1:$G$5,MATCH(H172,Ext!$A$1:$A$5,0),MATCH(H$7,Ext!$A$2:$E$2,0)),\"invalid entry\")))","v":""},{"$f":"IF(LEN(B172)=0,\"\",IF(LEN(I172)=0,INDEX(Ext!$A$1:$G$5,MATCH(0,Ext!$A$1:$A$5,0),MATCH(I$7,Ext!$A$2:$E$2,0)),IF(AND(I172>=0,I172<3),INDEX(Ext!$A$1:$G$5,MATCH(I172,Ext!$A$1:$A$5,0),MATCH(I$7,Ext!$A$2:$E$2,0)),\"invalid entry\")))","v":""},{"$f":"IF(LEN(C172)=0,\"\",IF(LEN(J172)=0,INDEX(Ext!$A$1:$G$5,MATCH(0,Ext!$A$1:$A$5,0),MATCH(J$7,Ext!$A$2:$E$2,0)),IF(AND(J172>=0,J172<3),INDEX(Ext!$A$1:$G$5,MATCH(J172,Ext!$A$1:$A$5,0),MATCH(J$7,Ext!$A$2:$E$2,0)),\"invalid entry\")))","v":""}]
[null,null,null,null,null,null,null,null,null,null,null,{"$f":"IF(LEN(A173)=0,\"\",IF(LEN(E173)=0,\"HVI data needed\",INDEX('Staple Lookup'!$C$3:$C$100,MATCH(TRUE,'Staple Lookup'!$B$3:$B$100>=ROUND(E173,2),0))))","v":""},null,{"$f":"IF(OR(LEN(B173)=0,LEN(C173)=0,LEN(D173)=0),\"\",IF(AND(RIGHT(B173,1)*1=1,C173=8),-2000,IF(L173>=38,AB173,IF(L173<=31,AC173,AE173))))","v":""},{"$f":"IF(LEN(A173)=0,\"\",INDEX(Str!$C$1:$C$20,MATCH(ROUND(F173,1),Str!$A$1:$A$20,1)))","v":""},"","",{"$f":"IF(LEN(A173)=0,\"\",INDEX(Uni!$C$1:$C$20,MATCH(ROUND($G173,1),Uni!$A$1:$A$20,1)))","v":""},null,"",{"$f":"IF(LEN(A173)=0,\"\",IF(OR(LEN(B173)=0,LEN(C173)=0,LEN(D173)=0,LEN(E173)=0,LEN(F173)=0,LEN(G173)=0),\"no HVI data\",IF('Base Values'!$B$6+(SUM($N173:$R173)/100)<0,0,'Base Values'!$B$6+(SUM(N173:R173)/100))))","v":""},null,{"$f":"IF(LEN(A173)=0,\"\",IF(LEN(H173)=0,INDEX(Ext!$A$1:$G$5,MATCH(0,Ext!$A$1:$A$5,0),MATCH(H$7,Ext!$A$2:$E$2,0)),IF(AND(H173>=0,H173<3),INDEX(Ext!$A$1:$G$5,MATCH(H173,Ext!$A$1:$A$5,0),MATCH(H$7,Ext!$A$2:$E$2,0)),\"invalid entry\")))","v":""},{"$f":"IF(LEN(B173)=0,\"\",IF(LEN(I173)=0,INDEX(Ext!$A$1:$G$5,MATCH(0,Ext!$A$1:$A$5,0),MATCH(I$7,Ext!$A$2:$E$2,0)),IF(AND(I173>=0,I173<3),INDEX(Ext!$A$1:$G$5,MATCH(I173,Ext!$A$1:$A$5,0),MATCH(I$7,Ext!$A$2:$E$2,0)),\"invalid entry\")))","v":""},{"$f":"IF(LEN(C173)=0,\"\",IF(LEN(J173)=0,INDEX(Ext!$A$1:$G$5,MATCH(0,Ext!$A$1:$A$5,0),MATCH(J$7,Ext!$A$2:$E$2,0)),IF(AND(J173>=0,J173<3),INDEX(Ext!$A$1:$G$5,MATCH(J173,Ext!$A$1:$A$5,0),MATCH(J$7,Ext!$A$2:$E$2,0)),\"invalid entry\")))","v":""}]
[null,null,null,null,null,null,null,null,null,null,null,{"$f":"IF(LEN(A174)=0,\"\",IF(LEN(E174)=0,\"HVI data needed\",INDEX('Staple Lookup'!$C$3:$C$100,MATCH(TRUE,'Staple Lookup'!$B$3:$B$100>=ROUND(E174,2),0))))","v":""},null,{"$f":"IF(OR(LEN(B174)=0,LEN(C174)=0,LEN(D174)=0),\"\",IF(AND(RIGHT(B174,1)*1=1,C174=8),-2000,IF(L174>=38,AB174,IF(L174<=31,AC174,AE174))))","v":""},{"$f":"IF(LEN(A174)=0,\"\",INDEX(Str!$C$1:$C$20,MATCH(ROUND(F174,1),Str!$A$1:$A$20,1)))","v":""},"","",{"$f":"IF(LEN(A174)=0,\"\",INDEX(Uni!$C$1:$C$20,MATCH(ROUND($G174,1),Uni!$A$1:$A$20,1)))","v":""},null,"",{"$f":"IF(LEN(A174)=0,\"\",IF(OR(LEN(B174)=0,LEN(C174)=0,LEN(D174)=0,LEN(E174)=0,LEN(F174)=0,LEN(G174)=0),\"no HVI data\",IF('Base Values'!$B$6+(SUM($N174:$R174)/100)<0,0,'Base Values'!$B$6+(SUM(N174:R174)/100))))","v":""},null,{"$f":"IF(LEN(A174)=0,\"\",IF(LEN(H174)=0,INDEX(Ext!$A$1:$G$5,MATCH(0,Ext!$A$1:$A$5,0),MATCH(H$7,Ext!$A$2:$E$2,0)),IF(AND(H174>=0,H174<3),INDEX(Ext!$A$1:$G$5,MATCH(H174,Ext!$A$1:$A$5,0),MATCH(H$7,Ext!$A$2:$E$2,0)),\"invalid entry\")))","v":""},{"$f":"IF(LEN(B174)=0,\"\",IF(LEN(I174)=0,INDEX(Ext!$A$1:$G$5,MATCH(0,Ext!$A$1:$A$5,0),MATCH(I$7,Ext!$A$2:$E$2,0)),IF(AND(I174>=0,I174<3),INDEX(Ext!$A$1:$G$5,MATCH(I174,Ext!$A$1:$A$5,0),MATCH(I$7,Ext!$A$2:$E$2,0)),\"invalid entry\")))","v":""},{"$f":"IF(LEN(C174)=0,\"\",IF(LEN(J174)=0,INDEX(Ext!$A$1:$G$5,MATCH(0,Ext!$A$1:$A$5,0),MATCH(J$7,Ext!$A$2:$E$2,0)),IF(AND(J174>=0,J174<3),INDEX(Ext!$A$1:$G$5,MATCH(J174,Ext!$A$1:$A$5,0),MATCH(J$7,Ext!$A$2:$E$2,0)),\"invalid entry\")))","v":""}]
[null,null,null,null,null,null,null,null,null,null,null,{"$f":"IF(LEN(A175)=0,\"\",IF(LEN(E175)=0,\"HVI data needed\",INDEX('Staple Lookup'!$C$3:$C$100,MATCH(TRUE,'Staple Lookup'!$B$3:$B$100>=ROUND(E175,2),0))))","v":""},null,{"$f":"IF(OR(LEN(B175)=0,LEN(C175)=0,LEN(D175)=0),\"\",IF(AND(RIGHT(B175,1)*1=1,C175=8),-2000,IF(L175>=38,AB175,IF(L175<=31,AC175,AE175))))","v":""},{"$f":"IF(LEN(A175)=0,\"\",INDEX(Str!$C$1:$C$20,MATCH(ROUND(F175,1),Str!$A$1:$A$20,1)))","v":""},"","",{"$f":"IF(LEN(A175)=0,\"\",INDEX(Uni!$C$1:$C$20,MATCH(ROUND($G175,1),Uni!$A$1:$A$20,1)))","v":""},null,"",{"$f":"IF(LEN(A175)=0,\"\",IF(OR(LEN(B175)=0,LEN(C175)=0,LEN(D175)=0,LEN(E175)=0,LEN(F175)=0,LEN(G175)=0),\"no HVI data\",IF('Base Values'!$B$6+(SUM($N175:$R175)/100)<0,0,'Base Values'!$B$6+(SUM(N175:R175)/100))))","v":""},null,{"$f":"IF(LEN(A175)=0,\"\",IF(LEN(H175)=0,INDEX(Ext!$A$1:$G$5,MATCH(0,Ext!$A$1:$A$5,0),MATCH(H$7,Ext!$A$2:$E$2,0)),IF(AND(H175>=0,H175<3),INDEX(Ext!$A$1:$G$5,MATCH(H175,Ext!$A$1:$A$5,0),MATCH(H$7,Ext!$A$2:$E$2,0)),\"invalid entry\")))","v":""},{"$f":"IF(LEN(B175)=0,\"\",IF(LEN(I175)=0,INDEX(Ext!$A$1:$G$5,MATCH(0,Ext!$A$1:$A$5,0),MATCH(I$7,Ext!$A$2:$E$2,0)),IF(AND(I175>=0,I175<3),INDEX(Ext!$A$1:$G$5,MATCH(I175,Ext!$A$1:$A$5,0),MATCH(I$7,Ext!$A$2:$E$2,0)),\"invalid entry\")))","v":""},{"$f":"IF(LEN(C175)=0,\"\",IF(LEN(J175)=0,INDEX(Ext!$A$1:$G$5,MATCH(0,Ext!$A$1:$A$5,0),MATCH(J$7,Ext!$A$2:$E$2,0)),IF(AND(J175>=0,J175<3),INDEX(Ext!$A$1:$G$5,MATCH(J175,Ext!$A$1:$A$5,0),MATCH(J$7,Ext!$A$2:$E$2,0)),\"invalid entry\")))","v":""}]
[null,null,null,null,null,null,null,null,null,null,null,{"$f":"IF(LEN(A176)=0,\"\",IF(LEN(E176)=0,\"HVI data needed\",INDEX('Staple Lookup'!$C$3:$C$100,MATCH(TRUE,'Staple Lookup'!$B$3:$B$100>=ROUND(E176,2),0))))","v":""},null,{"$f":"IF(OR(LEN(B176)=0,LEN(C176)=0,LEN(D176)=0),\"\",IF(AND(RIGHT(B176,1)*1=1,C176=8),-2000,IF(L176>=38,AB176,IF(L176<=31,AC176,AE176))))","v":""},{"$f":"IF(LEN(A176)=0,\"\",INDEX(Str!$C$1:$C$20,MATCH(ROUND(F176,1),Str!$A$1:$A$20,1)))","v":""},"","",{"$f":"IF(LEN(A176)=0,\"\",INDEX(Uni!$C$1:$C$20,MATCH(ROUND($G176,1),Uni!$A$1:$A$20,1)))","v":""},null,"",{"$f":"IF(LEN(A176)=0,\"\",IF(OR(LEN(B176)=0,LEN(C176)=0,LEN(D176)=0,LEN(E176)=0,LEN(F176)=0,LEN(G176)=0),\"no HVI data\",IF('Base Values'!$B$6+(SUM($N176:$R176)/100)<0,0,'Base Values'!$B$6+(SUM(N176:R176)/100))))","v":""},null,{"$f":"IF(LEN(A176)=0,\"\",IF(LEN(H176)=0,INDEX(Ext!$A$1:$G$5,MATCH(0,Ext!$A$1:$A$5,0),MATCH(H$7,Ext!$A$2:$E$2,0)),IF(AND(H176>=0,H176<3),INDEX(Ext!$A$1:$G$5,MATCH(H176,Ext!$A$1:$A$5,0),MATCH(H$7,Ext!$A$2:$E$2,0)),\"invalid entry\")))","v":""},{"$f":"IF(LEN(B176)=0,\"\",IF(LEN(I176)=0,INDEX(Ext!$A$1:$G$5,MATCH(0,Ext!$A$1:$A$5,0),MATCH(I$7,Ext!$A$2:$E$2,0)),IF(AND(I176>=0,I176<3),INDEX(Ext!$A$1:$G$5,MATCH(I176,Ext!$A$1:$A$5,0),MATCH(I$7,Ext!$A$2:$E$2,0)),\"invalid entry\")))","v":""},{"$f":"IF(LEN(C176)=0,\"\",IF(LEN(J176)=0,INDEX(Ext!$A$1:$G$5,MATCH(0,Ext!$A$1:$A$5,0),MATCH(J$7,Ext!$A$2:$E$2,0)),IF(AND(J176>=0,J176<3),INDEX(Ext!$A$1:$G$5,MATCH(J176,Ext!$A$1:$A$5,0),MATCH(J$7,Ext!$A$2:$E$2,0)),\"invalid entry\")))","v":""}]
[null,null,null,null,null,null,null,null,null,null,null,{"$f":"IF(LEN(A177)=0,\"\",IF(LEN(E177)=0,\"HVI data needed\",INDEX('Staple Lookup'!$C$3:$C$100,MATCH(TRUE,'Staple Lookup'!$B$3:$B$100>=ROUND(E177,2),0))))","v":""},null,{"$f":"IF(OR(LEN(B177)=0,LEN(C177)=0,LEN(D177)=0),\"\",IF(AND(RIGHT(B177,1)*1=1,C177=8),-2000,IF(L177>=38,AB177,IF(L177<=31,AC177,AE177))))","v":""},{"$f":"IF(LEN(A177)=0,\"\",INDEX(Str!$C$1:$C$20,MATCH(ROUND(F177,1),Str!$A$1:$A$20,1)))","v":""},"","",{"$f":"IF(LEN(A177)=0,\"\",INDEX(Uni!$C$1:$C$20,MATCH(ROUND($G177,1),Uni!$A$1:$A$20,1)))","v":""},null,"",{"$f":"IF(LEN(A177)=0,\"\",IF(OR(LEN(B177)=0,LEN(C177)=0,LEN(D177)=0,LEN(E177)=0,LEN(F177)=0,LEN(G177)=0),\"no HVI data\",IF('Base Values'!$B$6+(SUM($N177:$R177)/100)<0,0,'Base Values'!$B$6+(SUM(N177:R177)/100))))","v":""},null,{"$f":"IF(LEN(A177)=0,\"\",IF(LEN(H177)=0,INDEX(Ext!$A$1:$G$5,MATCH(0,Ext!$A$1:$A$5,0),MATCH(H$7,Ext!$A$2:$E$2,0)),IF(AND(H177>=0,H177<3),INDEX(Ext!$A$1:$G$5,MATCH(H177,Ext!$A$1:$A$5,0),MATCH(H$7,Ext!$A$2:$E$2,0)),\"invalid entry\")))","v":""},{"$f":"IF(LEN(B177)=0,\"\",IF(LEN(I177)=0,INDEX(Ext!$A$1:$G$5,MATCH(0,Ext!$A$1:$A$5,0),MATCH(I$7,Ext!$A$2:$E$2,0)),IF(AND(I177>=0,I177<3),INDEX(Ext!$A$1:$G$5,MATCH(I177,Ext!$A$1:$A$5,0),MATCH(I$7,Ext!$A$2:$E$2,0)),\"invalid entry\")))","v":""},{"$f":"IF(LEN(C177)=0,\"\",IF(LEN(J177)=0,INDEX(Ext!$A$1:$G$5,MATCH(0,Ext!$A$1:$A$5,0),MATCH(J$7,Ext!$A$2:$E$2,0)),IF(AND(J177>=0,J177<3),INDEX(Ext!$A$1:$G$5,MATCH(J177,Ext!$A$1:$A$5,0),MATCH(J$7,Ext!$A$2:$E$2,0)),\"invalid entry\")))","v":""}]
[null,null,null,null,null,null,null,null,null,null,null,{"$f":"IF(LEN(A178)=0,\"\",IF(LEN(E178)=0,\"HVI data needed\",INDEX('Staple Lookup'!$C$3:$C$100,MATCH(TRUE,'Staple Lookup'!$B$3:$B$100>=ROUND(E178,2),0))))","v":""},null,{"$f":"IF(OR(LEN(B178)=0,LEN(C178)=0,LEN(D178)=0),\"\",IF(AND(RIGHT(B178,1)*1=1,C178=8),-2000,IF(L178>=38,AB178,IF(L178<=31,AC178,AE178))))","v":""},{"$f":"IF(LEN(A178)=0,\"\",INDEX(Str!$C$1:$C$20,MATCH(ROUND(F178,1),Str!$A$1:$A$20,1)))","v":""},"","",{"$f":"IF(LEN(A178)=0,\"\",INDEX(Uni!$C$1:$C$20,MATCH(ROUND($G178,1),Uni!$A$1:$A$20,1)))","v":""},null,"",{"$f":"IF(LEN(A178)=0,\"\",IF(OR(LEN(B178)=0,LEN(C178)=0,LEN(D178)=0,LEN(E178)=0,LEN(F178)=0,LEN(G178)=0),\"no HVI data\",IF('Base Values'!$B$6+(SUM($N178:$R178)/100)<0,0,'Base Values'!$B$6+(SUM(N178:R178)/100))))","v":""},null,{"$f":"IF(LEN(A178)=0,\"\",IF(LEN(H178)=0,INDEX(Ext!$A$1:$G$5,MATCH(0,Ext!$A$1:$A$5,0),MATCH(H$7,Ext!$A$2:$E$2,0)),IF(AND(H178>=0,H178<3),INDEX(Ext!$A$1:$G$5,MATCH(H178,Ext!$A$1:$A$5,0),MATCH(H$7,Ext!$A$2:$E$2,0)),\"invalid entry\")))","v":""},{"$f":"IF(LEN(B178)=0,\"\",IF(LEN(I178)=0,INDEX(Ext!$A$1:$G$5,MATCH(0,Ext!$A$1:$A$5,0),MATCH(I$7,Ext!$A$2:$E$2,0)),IF(AND(I178>=0,I178<3),INDEX(Ext!$A$1:$G$5,MATCH(I178,Ext!$A$1:$A$5,0),MATCH(I$7,Ext!$A$2:$E$2,0)),\"invalid entry\")))","v":""},{"$f":"IF(LEN(C178)=0,\"\",IF(LEN(J178)=0,INDEX(Ext!$A$1:$G$5,MATCH(0,Ext!$A$1:$A$5,0),MATCH(J$7,Ext!$A$2:$E$2,0)),IF(AND(J178>=0,J178<3),INDEX(Ext!$A$1:$G$5,MATCH(J178,Ext!$A$1:$A$5,0),MATCH(J$7,Ext!$A$2:$E$2,0)),\"invalid entry\")))","v":""}]
[null,null,null,null,null,null,null,null,null,null,null,{"$f":"IF(LEN(A179)=0,\"\",IF(LEN(E179)=0,\"HVI data needed\",INDEX('Staple Lookup'!$C$3:$C$100,MATCH(TRUE,'Staple Lookup'!$B$3:$B$100>=ROUND(E179,2),0))))","v":""},null,{"$f":"IF(OR(LEN(B179)=0,LEN(C179)=0,LEN(D179)=0),\"\",IF(AND(RIGHT(B179,1)*1=1,C179=8),-2000,IF(L179>=38,AB179,IF(L179<=31,AC179,AE179))))","v":""},{"$f":"IF(LEN(A179)=0,\"\",INDEX(Str!$C$1:$C$20,MATCH(ROUND(F179,1),Str!$A$1:$A$20,1)))","v":""},"","",{"$f":"IF(LEN(A179)=0,\"\",INDEX(Uni!$C$1:$C$20,MATCH(ROUND($G179,1),Uni!$A$1:$A$20,1)))","v":""},null,"",{"$f":"IF(LEN(A179)=0,\"\",IF(OR(LEN(B179)=0,LEN(C179)=0,LEN(D179)=0,LEN(E179)=0,LEN(F179)=0,LEN(G179)=0),\"no HVI data\",IF('Base Values'!$B$6+(SUM($N179:$R179)/100)<0,0,'Base Values'!$B$6+(SUM(N179:R179)/100))))","v":""},null,{"$f":"IF(LEN(A179)=0,\"\",IF(LEN(H179)=0,INDEX(Ext!$A$1:$G$5,MATCH(0,Ext!$A$1:$A$5,0),MATCH(H$7,Ext!$A$2:$E$2,0)),IF(AND(H179>=0,H179<3),INDEX(Ext!$A$1:$G$5,MATCH(H179,Ext!$A$1:$A$5,0),MATCH(H$7,Ext!$A$2:$E$2,0)),\"invalid entry\")))","v":""},{"$f":"IF(LEN(B179)=0,\"\",IF(LEN(I179)=0,INDEX(Ext!$A$1:$G$5,MATCH(0,Ext!$A$1:$A$5,0),MATCH(I$7,Ext!$A$2:$E$2,0)),IF(AND(I179>=0,I179<3),INDEX(Ext!$A$1:$G$5,MATCH(I179,Ext!$A$1:$A$5,0),MATCH(I$7,Ext!$A$2:$E$2,0)),\"invalid entry\")))","v":""},{"$f":"IF(LEN(C179)=0,\"\",IF(LEN(J179)=0,INDEX(Ext!$A$1:$G$5,MATCH(0,Ext!$A$1:$A$5,0),MATCH(J$7,Ext!$A$2:$E$2,0)),IF(AND(J179>=0,J179<3),INDEX(Ext!$A$1:$G$5,MATCH(J179,Ext!$A$1:$A$5,0),MATCH(J$7,Ext!$A$2:$E$2,0)),\"invalid entry\")))","v":""}]
[null,null,null,null,null,null,null,null,null,null,null,{"$f":"IF(LEN(A180)=0,\"\",IF(LEN(E180)=0,\"HVI data needed\",INDEX('Staple Lookup'!$C$3:$C$100,MATCH(TRUE,'Staple Lookup'!$B$3:$B$100>=ROUND(E180,2),0))))","v":""},null,{"$f":"IF(OR(LEN(B180)=0,LEN(C180)=0,LEN(D180)=0),\"\",IF(AND(RIGHT(B180,1)*1=1,C180=8),-2000,IF(L180>=38,AB180,IF(L180<=31,AC180,AE180))))","v":""},{"$f":"IF(LEN(A180)=0,\"\",INDEX(Str!$C$1:$C$20,MATCH(ROUND(F180,1),Str!$A$1:$A$20,1)))","v":""},"","",{"$f":"IF(LEN(A180)=0,\"\",INDEX(Uni!$C$1:$C$20,MATCH(ROUND($G180,1),Uni!$A$1:$A$20,1)))","v":""},null,"",{"$f":"IF(LEN(A180)=0,\"\",IF(OR(LEN(B180)=0,LEN(C180)=0,LEN(D180)=0,LEN(E180)=0,LEN(F180)=0,LEN(G180)=0),\"no HVI data\",IF('Base Values'!$B$6+(SUM($N180:$R180)/100)<0,0,'Base Values'!$B$6+(SUM(N180:R180)/100))))","v":""},null,{"$f":"IF(LEN(A180)=0,\"\",IF(LEN(H180)=0,INDEX(Ext!$A$1:$G$5,MATCH(0,Ext!$A$1:$A$5,0),MATCH(H$7,Ext!$A$2:$E$2,0)),IF(AND(H180>=0,H180<3),INDEX(Ext!$A$1:$G$5,MATCH(H180,Ext!$A$1:$A$5,0),MATCH(H$7,Ext!$A$2:$E$2,0)),\"invalid entry\")))","v":""},{"$f":"IF(LEN(B180)=0,\"\",IF(LEN(I180)=0,INDEX(Ext!$A$1:$G$5,MATCH(0,Ext!$A$1:$A$5,0),MATCH(I$7,Ext!$A$2:$E$2,0)),IF(AND(I180>=0,I180<3),INDEX(Ext!$A$1:$G$5,MATCH(I180,Ext!$A$1:$A$5,0),MATCH(I$7,Ext!$A$2:$E$2,0)),\"invalid entry\")))","v":""},{"$f":"IF(LEN(C180)=0,\"\",IF(LEN(J180)=0,INDEX(Ext!$A$1:$G$5,MATCH(0,Ext!$A$1:$A$5,0),MATCH(J$7,Ext!$A$2:$E$2,0)),IF(AND(J180>=0,J180<3),INDEX(Ext!$A$1:$G$5,MATCH(J180,Ext!$A$1:$A$5,0),MATCH(J$7,Ext!$A$2:$E$2,0)),\"invalid entry\")))","v":""}]
[null,null,null,null,null,null,null,null,null,null,null,{"$f":"IF(LEN(A181)=0,\"\",IF(LEN(E181)=0,\"HVI data needed\",INDEX('Staple Lookup'!$C$3:$C$100,MATCH(TRUE,'Staple Lookup'!$B$3:$B$100>=ROUND(E181,2),0))))","v":""},null,{"$f":"IF(OR(LEN(B181)=0,LEN(C181)=0,LEN(D181)=0),\"\",IF(AND(RIGHT(B181,1)*1=1,C181=8),-2000,IF(L181>=38,AB181,IF(L181<=31,AC181,AE181))))","v":""},{"$f":"IF(LEN(A181)=0,\"\",INDEX(Str!$C$1:$C$20,MATCH(ROUND(F181,1),Str!$A$1:$A$20,1)))","v":""},"","",{"$f":"IF(LEN(A181)=0,\"\",INDEX(Uni!$C$1:$C$20,MATCH(ROUND($G181,1),Uni!$A$1:$A$20,1)))","v":""},null,"",{"$f":"IF(LEN(A181)=0,\"\",IF(OR(LEN(B181)=0,LEN(C181)=0,LEN(D181)=0,LEN(E181)=0,LEN(F181)=0,LEN(G181)=0),\"no HVI data\",IF('Base Values'!$B$6+(SUM($N181:$R181)/100)<0,0,'Base Values'!$B$6+(SUM(N181:R181)/100))))","v":""},null,{"$f":"IF(LEN(A181)=0,\"\",IF(LEN(H181)=0,INDEX(Ext!$A$1:$G$5,MATCH(0,Ext!$A$1:$A$5,0),MATCH(H$7,Ext!$A$2:$E$2,0)),IF(AND(H181>=0,H181<3),INDEX(Ext!$A$1:$G$5,MATCH(H181,Ext!$A$1:$A$5,0),MATCH(H$7,Ext!$A$2:$E$2,0)),\"invalid entry\")))","v":""},{"$f":"IF(LEN(B181)=0,\"\",IF(LEN(I181)=0,INDEX(Ext!$A$1:$G$5,MATCH(0,Ext!$A$1:$A$5,0),MATCH(I$7,Ext!$A$2:$E$2,0)),IF(AND(I181>=0,I181<3),INDEX(Ext!$A$1:$G$5,MATCH(I181,Ext!$A$1:$A$5,0),MATCH(I$7,Ext!$A$2:$E$2,0)),\"invalid entry\")))","v":""},{"$f":"IF(LEN(C181)=0,\"\",IF(LEN(J181)=0,INDEX(Ext!$A$1:$G$5,MATCH(0,Ext!$A$1:$A$5,0),MATCH(J$7,Ext!$A$2:$E$2,0)),IF(AND(J181>=0,J181<3),INDEX(Ext!$A$1:$G$5,MATCH(J181,Ext!$A$1:$A$5,0),MATCH(J$7,Ext!$A$2:$E$2,0)),\"invalid entry\")))","v":""}]
[null,null,null,null,null,null,null,null,null,null,null,{"$f":"IF(LEN(A182)=0,\"\",IF(LEN(E182)=0,\"HVI data needed\",INDEX('Staple Lookup'!$C$3:$C$100,MATCH(TRUE,'Staple Lookup'!$B$3:$B$100>=ROUND(E182,2),0))))","v":""},null,{"$f":"IF(OR(LEN(B182)=0,LEN(C182)=0,LEN(D182)=0),\"\",IF(AND(RIGHT(B182,1)*1=1,C182=8),-2000,IF(L182>=38,AB182,IF(L182<=31,AC182,AE182))))","v":""},{"$f":"IF(LEN(A182)=0,\"\",INDEX(Str!$C$1:$C$20,MATCH(ROUND(F182,1),Str!$A$1:$A$20,1)))","v":""},"","",{"$f":"IF(LEN(A182)=0,\"\",INDEX(Uni!$C$1:$C$20,MATCH(ROUND($G182,1),Uni!$A$1:$A$20,1)))","v":""},null,"",{"$f":"IF(LEN(A182)=0,\"\",IF(OR(LEN(B182)=0,LEN(C182)=0,LEN(D182)=0,LEN(E182)=0,LEN(F182)=0,LEN(G182)=0),\"no HVI data\",IF('Base Values'!$B$6+(SUM($N182:$R182)/100)<0,0,'Base Values'!$B$6+(SUM(N182:R182)/100))))","v":""},null,{"$f":"IF(LEN(A182)=0,\"\",IF(LEN(H182)=0,INDEX(Ext!$A$1:$G$5,MATCH(0,Ext!$A$1:$A$5,0),MATCH(H$7,Ext!$A$2:$E$2,0)),IF(AND(H182>=0,H182<3),INDEX(Ext!$A$1:$G$5,MATCH(H182,Ext!$A$1:$A$5,0),MATCH(H$7,Ext!$A$2:$E$2,0)),\"invalid entry\")))","v":""},{"$f":"IF(LEN(B182)=0,\"\",IF(LEN(I182)=0,INDEX(Ext!$A$1:$G$5,MATCH(0,Ext!$A$1:$A$5,0),MATCH(I$7,Ext!$A$2:$E$2,0)),IF(AND(I182>=0,I182<3),INDEX(Ext!$A$1:$G$5,MATCH(I182,Ext!$A$1:$A$5,0),MATCH(I$7,Ext!$A$2:$E$2,0)),\"invalid entry\")))","v":""},{"$f":"IF(LEN(C182)=0,\"\",IF(LEN(J182)=0,INDEX(Ext!$A$1:$G$5,MATCH(0,Ext!$A$1:$A$5,0),MATCH(J$7,Ext!$A$2:$E$2,0)),IF(AND(J182>=0,J182<3),INDEX(Ext!$A$1:$G$5,MATCH(J182,Ext!$A$1:$A$5,0),MATCH(J$7,Ext!$A$2:$E$2,0)),\"invalid entry\")))","v":""}]
[null,null,null,null,null,null,null,null,null,null,null,{"$f":"IF(LEN(A183)=0,\"\",IF(LEN(E183)=0,\"HVI data needed\",INDEX('Staple Lookup'!$C$3:$C$100,MATCH(TRUE,'Staple Lookup'!$B$3:$B$100>=ROUND(E183,2),0))))","v":""},null,{"$f":"IF(OR(LEN(B183)=0,LEN(C183)=0,LEN(D183)=0),\"\",IF(AND(RIGHT(B183,1)*1=1,C183=8),-2000,IF(L183>=38,AB183,IF(L183<=31,AC183,AE183))))","v":""},{"$f":"IF(LEN(A183)=0,\"\",INDEX(Str!$C$1:$C$20,MATCH(ROUND(F183,1),Str!$A$1:$A$20,1)))","v":""},"","",{"$f":"IF(LEN(A183)=0,\"\",INDEX(Uni!$C$1:$C$20,MATCH(ROUND($G183,1),Uni!$A$1:$A$20,1)))","v":""},null,"",{"$f":"IF(LEN(A183)=0,\"\",IF(OR(LEN(B183)=0,LEN(C183)=0,LEN(D183)=0,LEN(E183)=0,LEN(F183)=0,LEN(G183)=0),\"no HVI data\",IF('Base Values'!$B$6+(SUM($N183:$R183)/100)<0,0,'Base Values'!$B$6+(SUM(N183:R183)/100))))","v":""},null,{"$f":"IF(LEN(A183)=0,\"\",IF(LEN(H183)=0,INDEX(Ext!$A$1:$G$5,MATCH(0,Ext!$A$1:$A$5,0),MATCH(H$7,Ext!$A$2:$E$2,0)),IF(AND(H183>=0,H183<3),INDEX(Ext!$A$1:$G$5,MATCH(H183,Ext!$A$1:$A$5,0),MATCH(H$7,Ext!$A$2:$E$2,0)),\"invalid entry\")))","v":""},{"$f":"IF(LEN(B183)=0,\"\",IF(LEN(I183)=0,INDEX(Ext!$A$1:$G$5,MATCH(0,Ext!$A$1:$A$5,0),MATCH(I$7,Ext!$A$2:$E$2,0)),IF(AND(I183>=0,I183<3),INDEX(Ext!$A$1:$G$5,MATCH(I183,Ext!$A$1:$A$5,0),MATCH(I$7,Ext!$A$2:$E$2,0)),\"invalid entry\")))","v":""},{"$f":"IF(LEN(C183)=0,\"\",IF(LEN(J183)=0,INDEX(Ext!$A$1:$G$5,MATCH(0,Ext!$A$1:$A$5,0),MATCH(J$7,Ext!$A$2:$E$2,0)),IF(AND(J183>=0,J183<3),INDEX(Ext!$A$1:$G$5,MATCH(J183,Ext!$A$1:$A$5,0),MATCH(J$7,Ext!$A$2:$E$2,0)),\"invalid entry\")))","v":""}]
[null,null,null,null,null,null,null,null,null,null,null,{"$f":"IF(LEN(A184)=0,\"\",IF(LEN(E184)=0,\"HVI data needed\",INDEX('Staple Lookup'!$C$3:$C$100,MATCH(TRUE,'Staple Lookup'!$B$3:$B$100>=ROUND(E184,2),0))))","v":""},null,{"$f":"IF(OR(LEN(B184)=0,LEN(C184)=0,LEN(D184)=0),\"\",IF(AND(RIGHT(B184,1)*1=1,C184=8),-2000,IF(L184>=38,AB184,IF(L184<=31,AC184,AE184))))","v":""},{"$f":"IF(LEN(A184)=0,\"\",INDEX(Str!$C$1:$C$20,MATCH(ROUND(F184,1),Str!$A$1:$A$20,1)))","v":""},"","",{"$f":"IF(LEN(A184)=0,\"\",INDEX(Uni!$C$1:$C$20,MATCH(ROUND($G184,1),Uni!$A$1:$A$20,1)))","v":""},null,"",{"$f":"IF(LEN(A184)=0,\"\",IF(OR(LEN(B184)=0,LEN(C184)=0,LEN(D184)=0,LEN(E184)=0,LEN(F184)=0,LEN(G184)=0),\"no HVI data\",IF('Base Values'!$B$6+(SUM($N184:$R184)/100)<0,0,'Base Values'!$B$6+(SUM(N184:R184)/100))))","v":""},null,{"$f":"IF(LEN(A184)=0,\"\",IF(LEN(H184)=0,INDEX(Ext!$A$1:$G$5,MATCH(0,Ext!$A$1:$A$5,0),MATCH(H$7,Ext!$A$2:$E$2,0)),IF(AND(H184>=0,H184<3),INDEX(Ext!$A$1:$G$5,MATCH(H184,Ext!$A$1:$A$5,0),MATCH(H$7,Ext!$A$2:$E$2,0)),\"invalid entry\")))","v":""},{"$f":"IF(LEN(B184)=0,\"\",IF(LEN(I184)=0,INDEX(Ext!$A$1:$G$5,MATCH(0,Ext!$A$1:$A$5,0),MATCH(I$7,Ext!$A$2:$E$2,0)),IF(AND(I184>=0,I184<3),INDEX(Ext!$A$1:$G$5,MATCH(I184,Ext!$A$1:$A$5,0),MATCH(I$7,Ext!$A$2:$E$2,0)),\"invalid entry\")))","v":""},{"$f":"IF(LEN(C184)=0,\"\",IF(LEN(J184)=0,INDEX(Ext!$A$1:$G$5,MATCH(0,Ext!$A$1:$A$5,0),MATCH(J$7,Ext!$A$2:$E$2,0)),IF(AND(J184>=0,J184<3),INDEX(Ext!$A$1:$G$5,MATCH(J184,Ext!$A$1:$A$5,0),MATCH(J$7,Ext!$A$2:$E$2,0)),\"invalid entry\")))","v":""}]
[null,null,null,null,null,null,null,null,null,null,null,{"$f":"IF(LEN(A185)=0,\"\",IF(LEN(E185)=0,\"HVI data needed\",INDEX('Staple Lookup'!$C$3:$C$100,MATCH(TRUE,'Staple Lookup'!$B$3:$B$100>=ROUND(E185,2),0))))","v":""},null,{"$f":"IF(OR(LEN(B185)=0,LEN(C185)=0,LEN(D185)=0),\"\",IF(AND(RIGHT(B185,1)*1=1,C185=8),-2000,IF(L185>=38,AB185,IF(L185<=31,AC185,AE185))))","v":""},{"$f":"IF(LEN(A185)=0,\"\",INDEX(Str!$C$1:$C$20,MATCH(ROUND(F185,1),Str!$A$1:$A$20,1)))","v":""},"","",{"$f":"IF(LEN(A185)=0,\"\",INDEX(Uni!$C$1:$C$20,MATCH(ROUND($G185,1),Uni!$A$1:$A$20,1)))","v":""},null,"",{"$f":"IF(LEN(A185)=0,\"\",IF(OR(LEN(B185)=0,LEN(C185)=0,LEN(D185)=0,LEN(E185)=0,LEN(F185)=0,LEN(G185)=0),\"no HVI data\",IF('Base Values'!$B$6+(SUM($N185:$R185)/100)<0,0,'Base Values'!$B$6+(SUM(N185:R185)/100))))","v":""},null,{"$f":"IF(LEN(A185)=0,\"\",IF(LEN(H185)=0,INDEX(Ext!$A$1:$G$5,MATCH(0,Ext!$A$1:$A$5,0),MATCH(H$7,Ext!$A$2:$E$2,0)),IF(AND(H185>=0,H185<3),INDEX(Ext!$A$1:$G$5,MATCH(H185,Ext!$A$1:$A$5,0),MATCH(H$7,Ext!$A$2:$E$2,0)),\"invalid entry\")))","v":""},{"$f":"IF(LEN(B185)=0,\"\",IF(LEN(I185)=0,INDEX(Ext!$A$1:$G$5,MATCH(0,Ext!$A$1:$A$5,0),MATCH(I$7,Ext!$A$2:$E$2,0)),IF(AND(I185>=0,I185<3),INDEX(Ext!$A$1:$G$5,MATCH(I185,Ext!$A$1:$A$5,0),MATCH(I$7,Ext!$A$2:$E$2,0)),\"invalid entry\")))","v":""},{"$f":"IF(LEN(C185)=0,\"\",IF(LEN(J185)=0,INDEX(Ext!$A$1:$G$5,MATCH(0,Ext!$A$1:$A$5,0),MATCH(J$7,Ext!$A$2:$E$2,0)),IF(AND(J185>=0,J185<3),INDEX(Ext!$A$1:$G$5,MATCH(J185,Ext!$A$1:$A$5,0),MATCH(J$7,Ext!$A$2:$E$2,0)),\"invalid entry\")))","v":""}]
[null,null,null,null,null,null,null,null,null,null,null,{"$f":"IF(LEN(A186)=0,\"\",IF(LEN(E186)=0,\"HVI data needed\",INDEX('Staple Lookup'!$C$3:$C$100,MATCH(TRUE,'Staple Lookup'!$B$3:$B$100>=ROUND(E186,2),0))))","v":""},null,{"$f":"IF(OR(LEN(B186)=0,LEN(C186)=0,LEN(D186)=0),\"\",IF(AND(RIGHT(B186,1)*1=1,C186=8),-2000,IF(L186>=38,AB186,IF(L186<=31,AC186,AE186))))","v":""},{"$f":"IF(LEN(A186)=0,\"\",INDEX(Str!$C$1:$C$20,MATCH(ROUND(F186,1),Str!$A$1:$A$20,1)))","v":""},"","",{"$f":"IF(LEN(A186)=0,\"\",INDEX(Uni!$C$1:$C$20,MATCH(ROUND($G186,1),Uni!$A$1:$A$20,1)))","v":""},null,"",{"$f":"IF(LEN(A186)=0,\"\",IF(OR(LEN(B186)=0,LEN(C186)=0,LEN(D186)=0,LEN(E186)=0,LEN(F186)=0,LEN(G186)=0),\"no HVI data\",IF('Base Values'!$B$6+(SUM($N186:$R186)/100)<0,0,'Base Values'!$B$6+(SUM(N186:R186)/100))))","v":""},null,{"$f":"IF(LEN(A186)=0,\"\",IF(LEN(H186)=0,INDEX(Ext!$A$1:$G$5,MATCH(0,Ext!$A$1:$A$5,0),MATCH(H$7,Ext!$A$2:$E$2,0)),IF(AND(H186>=0,H186<3),INDEX(Ext!$A$1:$G$5,MATCH(H186,Ext!$A$1:$A$5,0),MATCH(H$7,Ext!$A$2:$E$2,0)),\"invalid entry\")))","v":""},{"$f":"IF(LEN(B186)=0,\"\",IF(LEN(I186)=0,INDEX(Ext!$A$1:$G$5,MATCH(0,Ext!$A$1:$A$5,0),MATCH(I$7,Ext!$A$2:$E$2,0)),IF(AND(I186>=0,I186<3),INDEX(Ext!$A$1:$G$5,MATCH(I186,Ext!$A$1:$A$5,0),MATCH(I$7,Ext!$A$2:$E$2,0)),\"invalid entry\")))","v":""},{"$f":"IF(LEN(C186)=0,\"\",IF(LEN(J186)=0,INDEX(Ext!$A$1:$G$5,MATCH(0,Ext!$A$1:$A$5,0),MATCH(J$7,Ext!$A$2:$E$2,0)),IF(AND(J186>=0,J186<3),INDEX(Ext!$A$1:$G$5,MATCH(J186,Ext!$A$1:$A$5,0),MATCH(J$7,Ext!$A$2:$E$2,0)),\"invalid entry\")))","v":""}]
[null,null,null,null,null,null,null,null,null,null,null,{"$f":"IF(LEN(A187)=0,\"\",IF(LEN(E187)=0,\"HVI data needed\",INDEX('Staple Lookup'!$C$3:$C$100,MATCH(TRUE,'Staple Lookup'!$B$3:$B$100>=ROUND(E187,2),0))))","v":""},null,{"$f":"IF(OR(LEN(B187)=0,LEN(C187)=0,LEN(D187)=0),\"\",IF(AND(RIGHT(B187,1)*1=1,C187=8),-2000,IF(L187>=38,AB187,IF(L187<=31,AC187,AE187))))","v":""},{"$f":"IF(LEN(A187)=0,\"\",INDEX(Str!$C$1:$C$20,MATCH(ROUND(F187,1),Str!$A$1:$A$20,1)))","v":""},"","",{"$f":"IF(LEN(A187)=0,\"\",INDEX(Uni!$C$1:$C$20,MATCH(ROUND($G187,1),Uni!$A$1:$A$20,1)))","v":""},null,"",{"$f":"IF(LEN(A187)=0,\"\",IF(OR(LEN(B187)=0,LEN(C187)=0,LEN(D187)=0,LEN(E187)=0,LEN(F187)=0,LEN(G187)=0),\"no HVI data\",IF('Base Values'!$B$6+(SUM($N187:$R187)/100)<0,0,'Base Values'!$B$6+(SUM(N187:R187)/100))))","v":""},null,{"$f":"IF(LEN(A187)=0,\"\",IF(LEN(H187)=0,INDEX(Ext!$A$1:$G$5,MATCH(0,Ext!$A$1:$A$5,0),MATCH(H$7,Ext!$A$2:$E$2,0)),IF(AND(H187>=0,H187<3),INDEX(Ext!$A$1:$G$5,MATCH(H187,Ext!$A$1:$A$5,0),MATCH(H$7,Ext!$A$2:$E$2,0)),\"invalid entry\")))","v":""},{"$f":"IF(LEN(B187)=0,\"\",IF(LEN(I187)=0,INDEX(Ext!$A$1:$G$5,MATCH(0,Ext!$A$1:$A$5,0),MATCH(I$7,Ext!$A$2:$E$2,0)),IF(AND(I187>=0,I187<3),INDEX(Ext!$A$1:$G$5,MATCH(I187,Ext!$A$1:$A$5,0),MATCH(I$7,Ext!$A$2:$E$2,0)),\"invalid entry\")))","v":""},{"$f":"IF(LEN(C187)=0,\"\",IF(LEN(J187)=0,INDEX(Ext!$A$1:$G$5,MATCH(0,Ext!$A$1:$A$5,0),MATCH(J$7,Ext!$A$2:$E$2,0)),IF(AND(J187>=0,J187<3),INDEX(Ext!$A$1:$G$5,MATCH(J187,Ext!$A$1:$A$5,0),MATCH(J$7,Ext!$A$2:$E$2,0)),\"invalid entry\")))","v":""}]
[null,null,null,null,null,null,null,null,null,null,null,{"$f":"IF(LEN(A188)=0,\"\",IF(LEN(E188)=0,\"HVI data needed\",INDEX('Staple Lookup'!$C$3:$C$100,MATCH(TRUE,'Staple Lookup'!$B$3:$B$100>=ROUND(E188,2),0))))","v":""},null,{"$f":"IF(OR(LEN(B188)=0,LEN(C188)=0,LEN(D188)=0),\"\",IF(AND(RIGHT(B188,1)*1=1,C188=8),-2000,IF(L188>=38,AB188,IF(L188<=31,AC188,AE188))))","v":""},{"$f":"IF(LEN(A188)=0,\"\",INDEX(Str!$C$1:$C$20,MATCH(ROUND(F188,1),Str!$A$1:$A$20,1)))","v":""},"","",{"$f":"IF(LEN(A188)=0,\"\",INDEX(Uni!$C$1:$C$20,MATCH(ROUND($G188,1),Uni!$A$1:$A$20,1)))","v":""},null,"",{"$f":"IF(LEN(A188)=0,\"\",IF(OR(LEN(B188)=0,LEN(C188)=0,LEN(D188)=0,LEN(E188)=0,LEN(F188)=0,LEN(G188)=0),\"no HVI data\",IF('Base Values'!$B$6+(SUM($N188:$R188)/100)<0,0,'Base Values'!$B$6+(SUM(N188:R188)/100))))","v":""},null,{"$f":"IF(LEN(A188)=0,\"\",IF(LEN(H188)=0,INDEX(Ext!$A$1:$G$5,MATCH(0,Ext!$A$1:$A$5,0),MATCH(H$7,Ext!$A$2:$E$2,0)),IF(AND(H188>=0,H188<3),INDEX(Ext!$A$1:$G$5,MATCH(H188,Ext!$A$1:$A$5,0),MATCH(H$7,Ext!$A$2:$E$2,0)),\"invalid entry\")))","v":""},{"$f":"IF(LEN(B188)=0,\"\",IF(LEN(I188)=0,INDEX(Ext!$A$1:$G$5,MATCH(0,Ext!$A$1:$A$5,0),MATCH(I$7,Ext!$A$2:$E$2,0)),IF(AND(I188>=0,I188<3),INDEX(Ext!$A$1:$G$5,MATCH(I188,Ext!$A$1:$A$5,0),MATCH(I$7,Ext!$A$2:$E$2,0)),\"invalid entry\")))","v":""},{"$f":"IF(LEN(C188)=0,\"\",IF(LEN(J188)=0,INDEX(Ext!$A$1:$G$5,MATCH(0,Ext!$A$1:$A$5,0),MATCH(J$7,Ext!$A$2:$E$2,0)),IF(AND(J188>=0,J188<3),INDEX(Ext!$A$1:$G$5,MATCH(J188,Ext!$A$1:$A$5,0),MATCH(J$7,Ext!$A$2:$E$2,0)),\"invalid entry\")))","v":""}]
[null,null,null,null,null,null,null,null,null,null,null,{"$f":"IF(LEN(A189)=0,\"\",IF(LEN(E189)=0,\"HVI data needed\",INDEX('Staple Lookup'!$C$3:$C$100,MATCH(TRUE,'Staple Lookup'!$B$3:$B$100>=ROUND(E189,2),0))))","v":""},null,{"$f":"IF(OR(LEN(B189)=0,LEN(C189)=0,LEN(D189)=0),\"\",IF(AND(RIGHT(B189,1)*1=1,C189=8),-2000,IF(L189>=38,AB189,IF(L189<=31,AC189,AE189))))","v":""},{"$f":"IF(LEN(A189)=0,\"\",INDEX(Str!$C$1:$C$20,MATCH(ROUND(F189,1),Str!$A$1:$A$20,1)))","v":""},"","",{"$f":"IF(LEN(A189)=0,\"\",INDEX(Uni!$C$1:$C$20,MATCH(ROUND($G189,1),Uni!$A$1:$A$20,1)))","v":""},null,"",{"$f":"IF(LEN(A189)=0,\"\",IF(OR(LEN(B189)=0,LEN(C189)=0,LEN(D189)=0,LEN(E189)=0,LEN(F189)=0,LEN(G189)=0),\"no HVI data\",IF('Base Values'!$B$6+(SUM($N189:$R189)/100)<0,0,'Base Values'!$B$6+(SUM(N189:R189)/100))))","v":""},null,{"$f":"IF(LEN(A189)=0,\"\",IF(LEN(H189)=0,INDEX(Ext!$A$1:$G$5,MATCH(0,Ext!$A$1:$A$5,0),MATCH(H$7,Ext!$A$2:$E$2,0)),IF(AND(H189>=0,H189<3),INDEX(Ext!$A$1:$G$5,MATCH(H189,Ext!$A$1:$A$5,0),MATCH(H$7,Ext!$A$2:$E$2,0)),\"invalid entry\")))","v":""},{"$f":"IF(LEN(B189)=0,\"\",IF(LEN(I189)=0,INDEX(Ext!$A$1:$G$5,MATCH(0,Ext!$A$1:$A$5,0),MATCH(I$7,Ext!$A$2:$E$2,0)),IF(AND(I189>=0,I189<3),INDEX(Ext!$A$1:$G$5,MATCH(I189,Ext!$A$1:$A$5,0),MATCH(I$7,Ext!$A$2:$E$2,0)),\"invalid entry\")))","v":""},{"$f":"IF(LEN(C189)=0,\"\",IF(LEN(J189)=0,INDEX(Ext!$A$1:$G$5,MATCH(0,Ext!$A$1:$A$5,0),MATCH(J$7,Ext!$A$2:$E$2,0)),IF(AND(J189>=0,J189<3),INDEX(Ext!$A$1:$G$5,MATCH(J189,Ext!$A$1:$A$5,0),MATCH(J$7,Ext!$A$2:$E$2,0)),\"invalid entry\")))","v":""}]
[null,null,null,null,null,null,null,null,null,null,null,{"$f":"IF(LEN(A190)=0,\"\",IF(LEN(E190)=0,\"HVI data needed\",INDEX('Staple Lookup'!$C$3:$C$100,MATCH(TRUE,'Staple Lookup'!$B$3:$B$100>=ROUND(E190,2),0))))","v":""},null,{"$f":"IF(OR(LEN(B190)=0,LEN(C190)=0,LEN(D190)=0),\"\",IF(AND(RIGHT(B190,1)*1=1,C190=8),-2000,IF(L190>=38,AB190,IF(L190<=31,AC190,AE190))))","v":""},{"$f":"IF(LEN(A190)=0,\"\",INDEX(Str!$C$1:$C$20,MATCH(ROUND(F190,1),Str!$A$1:$A$20,1)))","v":""},"","",{"$f":"IF(LEN(A190)=0,\"\",INDEX(Uni!$C$1:$C$20,MATCH(ROUND($G190,1),Uni!$A$1:$A$20,1)))","v":""},null,"",{"$f":"IF(LEN(A190)=0,\"\",IF(OR(LEN(B190)=0,LEN(C190)=0,LEN(D190)=0,LEN(E190)=0,LEN(F190)=0,LEN(G190)=0),\"no HVI data\",IF('Base Values'!$B$6+(SUM($N190:$R190)/100)<0,0,'Base Values'!$B$6+(SUM(N190:R190)/100))))","v":""},null,{"$f":"IF(LEN(A190)=0,\"\",IF(LEN(H190)=0,INDEX(Ext!$A$1:$G$5,MATCH(0,Ext!$A$1:$A$5,0),MATCH(H$7,Ext!$A$2:$E$2,0)),IF(AND(H190>=0,H190<3),INDEX(Ext!$A$1:$G$5,MATCH(H190,Ext!$A$1:$A$5,0),MATCH(H$7,Ext!$A$2:$E$2,0)),\"invalid entry\")))","v":""},{"$f":"IF(LEN(B190)=0,\"\",IF(LEN(I190)=0,INDEX(Ext!$A$1:$G$5,MATCH(0,Ext!$A$1:$A$5,0),MATCH(I$7,Ext!$A$2:$E$2,0)),IF(AND(I190>=0,I190<3),INDEX(Ext!$A$1:$G$5,MATCH(I190,Ext!$A$1:$A$5,0),MATCH(I$7,Ext!$A$2:$E$2,0)),\"invalid entry\")))","v":""},{"$f":"IF(LEN(C190)=0,\"\",IF(LEN(J190)=0,INDEX(Ext!$A$1:$G$5,MATCH(0,Ext!$A$1:$A$5,0),MATCH(J$7,Ext!$A$2:$E$2,0)),IF(AND(J190>=0,J190<3),INDEX(Ext!$A$1:$G$5,MATCH(J190,Ext!$A$1:$A$5,0),MATCH(J$7,Ext!$A$2:$E$2,0)),\"invalid entry\")))","v":""}]
[null,null,null,null,null,null,null,null,null,null,null,{"$f":"IF(LEN(A191)=0,\"\",IF(LEN(E191)=0,\"HVI data needed\",INDEX('Staple Lookup'!$C$3:$C$100,MATCH(TRUE,'Staple Lookup'!$B$3:$B$100>=ROUND(E191,2),0))))","v":""},null,{"$f":"IF(OR(LEN(B191)=0,LEN(C191)=0,LEN(D191)=0),\"\",IF(AND(RIGHT(B191,1)*1=1,C191=8),-2000,IF(L191>=38,AB191,IF(L191<=31,AC191,AE191))))","v":""},{"$f":"IF(LEN(A191)=0,\"\",INDEX(Str!$C$1:$C$20,MATCH(ROUND(F191,1),Str!$A$1:$A$20,1)))","v":""},"","",{"$f":"IF(LEN(A191)=0,\"\",INDEX(Uni!$C$1:$C$20,MATCH(ROUND($G191,1),Uni!$A$1:$A$20,1)))","v":""},null,"",{"$f":"IF(LEN(A191)=0,\"\",IF(OR(LEN(B191)=0,LEN(C191)=0,LEN(D191)=0,LEN(E191)=0,LEN(F191)=0,LEN(G191)=0),\"no HVI data\",IF('Base Values'!$B$6+(SUM($N191:$R191)/100)<0,0,'Base Values'!$B$6+(SUM(N191:R191)/100))))","v":""},null,{"$f":"IF(LEN(A191)=0,\"\",IF(LEN(H191)=0,INDEX(Ext!$A$1:$G$5,MATCH(0,Ext!$A$1:$A$5,0),MATCH(H$7,Ext!$A$2:$E$2,0)),IF(AND(H191>=0,H191<3),INDEX(Ext!$A$1:$G$5,MATCH(H191,Ext!$A$1:$A$5,0),MATCH(H$7,Ext!$A$2:$E$2,0)),\"invalid entry\")))","v":""},{"$f":"IF(LEN(B191)=0,\"\",IF(LEN(I191)=0,INDEX(Ext!$A$1:$G$5,MATCH(0,Ext!$A$1:$A$5,0),MATCH(I$7,Ext!$A$2:$E$2,0)),IF(AND(I191>=0,I191<3),INDEX(Ext!$A$1:$G$5,MATCH(I191,Ext!$A$1:$A$5,0),MATCH(I$7,Ext!$A$2:$E$2,0)),\"invalid entry\")))","v":""},{"$f":"IF(LEN(C191)=0,\"\",IF(LEN(J191)=0,INDEX(Ext!$A$1:$G$5,MATCH(0,Ext!$A$1:$A$5,0),MATCH(J$7,Ext!$A$2:$E$2,0)),IF(AND(J191>=0,J191<3),INDEX(Ext!$A$1:$G$5,MATCH(J191,Ext!$A$1:$A$5,0),MATCH(J$7,Ext!$A$2:$E$2,0)),\"invalid entry\")))","v":""}]
[null,null,null,null,null,null,null,null,null,null,null,{"$f":"IF(LEN(A192)=0,\"\",IF(LEN(E192)=0,\"HVI data needed\",INDEX('Staple Lookup'!$C$3:$C$100,MATCH(TRUE,'Staple Lookup'!$B$3:$B$100>=ROUND(E192,2),0))))","v":""},null,{"$f":"IF(OR(LEN(B192)=0,LEN(C192)=0,LEN(D192)=0),\"\",IF(AND(RIGHT(B192,1)*1=1,C192=8),-2000,IF(L192>=38,AB192,IF(L192<=31,AC192,AE192))))","v":""},{"$f":"IF(LEN(A192)=0,\"\",INDEX(Str!$C$1:$C$20,MATCH(ROUND(F192,1),Str!$A$1:$A$20,1)))","v":""},"","",{"$f":"IF(LEN(A192)=0,\"\",INDEX(Uni!$C$1:$C$20,MATCH(ROUND($G192,1),Uni!$A$1:$A$20,1)))","v":""},null,"",{"$f":"IF(LEN(A192)=0,\"\",IF(OR(LEN(B192)=0,LEN(C192)=0,LEN(D192)=0,LEN(E192)=0,LEN(F192)=0,LEN(G192)=0),\"no HVI data\",IF('Base Values'!$B$6+(SUM($N192:$R192)/100)<0,0,'Base Values'!$B$6+(SUM(N192:R192)/100))))","v":""},null,{"$f":"IF(LEN(A192)=0,\"\",IF(LEN(H192)=0,INDEX(Ext!$A$1:$G$5,MATCH(0,Ext!$A$1:$A$5,0),MATCH(H$7,Ext!$A$2:$E$2,0)),IF(AND(H192>=0,H192<3),INDEX(Ext!$A$1:$G$5,MATCH(H192,Ext!$A$1:$A$5,0),MATCH(H$7,Ext!$A$2:$E$2,0)),\"invalid entry\")))","v":""},{"$f":"IF(LEN(B192)=0,\"\",IF(LEN(I192)=0,INDEX(Ext!$A$1:$G$5,MATCH(0,Ext!$A$1:$A$5,0),MATCH(I$7,Ext!$A$2:$E$2,0)),IF(AND(I192>=0,I192<3),INDEX(Ext!$A$1:$G$5,MATCH(I192,Ext!$A$1:$A$5,0),MATCH(I$7,Ext!$A$2:$E$2,0)),\"invalid entry\")))","v":""},{"$f":"IF(LEN(C192)=0,\"\",IF(LEN(J192)=0,INDEX(Ext!$A$1:$G$5,MATCH(0,Ext!$A$1:$A$5,0),MATCH(J$7,Ext!$A$2:$E$2,0)),IF(AND(J192>=0,J192<3),INDEX(Ext!$A$1:$G$5,MATCH(J192,Ext!$A$1:$A$5,0),MATCH(J$7,Ext!$A$2:$E$2,0)),\"invalid entry\")))","v":""}]
[null,null,null,null,null,null,null,null,null,null,null,{"$f":"IF(LEN(A193)=0,\"\",IF(LEN(E193)=0,\"HVI data needed\",INDEX('Staple Lookup'!$C$3:$C$100,MATCH(TRUE,'Staple Lookup'!$B$3:$B$100>=ROUND(E193,2),0))))","v":""},null,{"$f":"IF(OR(LEN(B193)=0,LEN(C193)=0,LEN(D193)=0),\"\",IF(AND(RIGHT(B193,1)*1=1,C193=8),-2000,IF(L193>=38,AB193,IF(L193<=31,AC193,AE193))))","v":""},{"$f":"IF(LEN(A193)=0,\"\",INDEX(Str!$C$1:$C$20,MATCH(ROUND(F193,1),Str!$A$1:$A$20,1)))","v":""},"","",{"$f":"IF(LEN(A193)=0,\"\",INDEX(Uni!$C$1:$C$20,MATCH(ROUND($G193,1),Uni!$A$1:$A$20,1)))","v":""},null,"",{"$f":"IF(LEN(A193)=0,\"\",IF(OR(LEN(B193)=0,LEN(C193)=0,LEN(D193)=0,LEN(E193)=0,LEN(F193)=0,LEN(G193)=0),\"no HVI data\",IF('Base Values'!$B$6+(SUM($N193:$R193)/100)<0,0,'Base Values'!$B$6+(SUM(N193:R193)/100))))","v":""},null,{"$f":"IF(LEN(A193)=0,\"\",IF(LEN(H193)=0,INDEX(Ext!$A$1:$G$5,MATCH(0,Ext!$A$1:$A$5,0),MATCH(H$7,Ext!$A$2:$E$2,0)),IF(AND(H193>=0,H193<3),INDEX(Ext!$A$1:$G$5,MATCH(H193,Ext!$A$1:$A$5,0),MATCH(H$7,Ext!$A$2:$E$2,0)),\"invalid entry\")))","v":""},{"$f":"IF(LEN(B193)=0,\"\",IF(LEN(I193)=0,INDEX(Ext!$A$1:$G$5,MATCH(0,Ext!$A$1:$A$5,0),MATCH(I$7,Ext!$A$2:$E$2,0)),IF(AND(I193>=0,I193<3),INDEX(Ext!$A$1:$G$5,MATCH(I193,Ext!$A$1:$A$5,0),MATCH(I$7,Ext!$A$2:$E$2,0)),\"invalid entry\")))","v":""},{"$f":"IF(LEN(C193)=0,\"\",IF(LEN(J193)=0,INDEX(Ext!$A$1:$G$5,MATCH(0,Ext!$A$1:$A$5,0),MATCH(J$7,Ext!$A$2:$E$2,0)),IF(AND(J193>=0,J193<3),INDEX(Ext!$A$1:$G$5,MATCH(J193,Ext!$A$1:$A$5,0),MATCH(J$7,Ext!$A$2:$E$2,0)),\"invalid entry\")))","v":""}]
[null,null,null,null,null,null,null,null,null,null,null,{"$f":"IF(LEN(A194)=0,\"\",IF(LEN(E194)=0,\"HVI data needed\",INDEX('Staple Lookup'!$C$3:$C$100,MATCH(TRUE,'Staple Lookup'!$B$3:$B$100>=ROUND(E194,2),0))))","v":""},null,{"$f":"IF(OR(LEN(B194)=0,LEN(C194)=0,LEN(D194)=0),\"\",IF(AND(RIGHT(B194,1)*1=1,C194=8),-2000,IF(L194>=38,AB194,IF(L194<=31,AC194,AE194))))","v":""},{"$f":"IF(LEN(A194)=0,\"\",INDEX(Str!$C$1:$C$20,MATCH(ROUND(F194,1),Str!$A$1:$A$20,1)))","v":""},"","",{"$f":"IF(LEN(A194)=0,\"\",INDEX(Uni!$C$1:$C$20,MATCH(ROUND($G194,1),Uni!$A$1:$A$20,1)))","v":""},null,"",{"$f":"IF(LEN(A194)=0,\"\",IF(OR(LEN(B194)=0,LEN(C194)=0,LEN(D194)=0,LEN(E194)=0,LEN(F194)=0,LEN(G194)=0),\"no HVI data\",IF('Base Values'!$B$6+(SUM($N194:$R194)/100)<0,0,'Base Values'!$B$6+(SUM(N194:R194)/100))))","v":""},null,{"$f":"IF(LEN(A194)=0,\"\",IF(LEN(H194)=0,INDEX(Ext!$A$1:$G$5,MATCH(0,Ext!$A$1:$A$5,0),MATCH(H$7,Ext!$A$2:$E$2,0)),IF(AND(H194>=0,H194<3),INDEX(Ext!$A$1:$G$5,MATCH(H194,Ext!$A$1:$A$5,0),MATCH(H$7,Ext!$A$2:$E$2,0)),\"invalid entry\")))","v":""},{"$f":"IF(LEN(B194)=0,\"\",IF(LEN(I194)=0,INDEX(Ext!$A$1:$G$5,MATCH(0,Ext!$A$1:$A$5,0),MATCH(I$7,Ext!$A$2:$E$2,0)),IF(AND(I194>=0,I194<3),INDEX(Ext!$A$1:$G$5,MATCH(I194,Ext!$A$1:$A$5,0),MATCH(I$7,Ext!$A$2:$E$2,0)),\"invalid entry\")))","v":""},{"$f":"IF(LEN(C194)=0,\"\",IF(LEN(J194)=0,INDEX(Ext!$A$1:$G$5,MATCH(0,Ext!$A$1:$A$5,0),MATCH(J$7,Ext!$A$2:$E$2,0)),IF(AND(J194>=0,J194<3),INDEX(Ext!$A$1:$G$5,MATCH(J194,Ext!$A$1:$A$5,0),MATCH(J$7,Ext!$A$2:$E$2,0)),\"invalid entry\")))","v":""}]
[null,null,null,null,null,null,null,null,null,null,null,{"$f":"IF(LEN(A195)=0,\"\",IF(LEN(E195)=0,\"HVI data needed\",INDEX('Staple Lookup'!$C$3:$C$100,MATCH(TRUE,'Staple Lookup'!$B$3:$B$100>=ROUND(E195,2),0))))","v":""},null,{"$f":"IF(OR(LEN(B195)=0,LEN(C195)=0,LEN(D195)=0),\"\",IF(AND(RIGHT(B195,1)*1=1,C195=8),-2000,IF(L195>=38,AB195,IF(L195<=31,AC195,AE195))))","v":""},{"$f":"IF(LEN(A195)=0,\"\",INDEX(Str!$C$1:$C$20,MATCH(ROUND(F195,1),Str!$A$1:$A$20,1)))","v":""},"","",{"$f":"IF(LEN(A195)=0,\"\",INDEX(Uni!$C$1:$C$20,MATCH(ROUND($G195,1),Uni!$A$1:$A$20,1)))","v":""},null,"",{"$f":"IF(LEN(A195)=0,\"\",IF(OR(LEN(B195)=0,LEN(C195)=0,LEN(D195)=0,LEN(E195)=0,LEN(F195)=0,LEN(G195)=0),\"no HVI data\",IF('Base Values'!$B$6+(SUM($N195:$R195)/100)<0,0,'Base Values'!$B$6+(SUM(N195:R195)/100))))","v":""},null,{"$f":"IF(LEN(A195)=0,\"\",IF(LEN(H195)=0,INDEX(Ext!$A$1:$G$5,MATCH(0,Ext!$A$1:$A$5,0),MATCH(H$7,Ext!$A$2:$E$2,0)),IF(AND(H195>=0,H195<3),INDEX(Ext!$A$1:$G$5,MATCH(H195,Ext!$A$1:$A$5,0),MATCH(H$7,Ext!$A$2:$E$2,0)),\"invalid entry\")))","v":""},{"$f":"IF(LEN(B195)=0,\"\",IF(LEN(I195)=0,INDEX(Ext!$A$1:$G$5,MATCH(0,Ext!$A$1:$A$5,0),MATCH(I$7,Ext!$A$2:$E$2,0)),IF(AND(I195>=0,I195<3),INDEX(Ext!$A$1:$G$5,MATCH(I195,Ext!$A$1:$A$5,0),MATCH(I$7,Ext!$A$2:$E$2,0)),\"invalid entry\")))","v":""},{"$f":"IF(LEN(C195)=0,\"\",IF(LEN(J195)=0,INDEX(Ext!$A$1:$G$5,MATCH(0,Ext!$A$1:$A$5,0),MATCH(J$7,Ext!$A$2:$E$2,0)),IF(AND(J195>=0,J195<3),INDEX(Ext!$A$1:$G$5,MATCH(J195,Ext!$A$1:$A$5,0),MATCH(J$7,Ext!$A$2:$E$2,0)),\"invalid entry\")))","v":""}]
[null,null,null,null,null,null,null,null,null,null,null,{"$f":"IF(LEN(A196)=0,\"\",IF(LEN(E196)=0,\"HVI data needed\",INDEX('Staple Lookup'!$C$3:$C$100,MATCH(TRUE,'Staple Lookup'!$B$3:$B$100>=ROUND(E196,2),0))))","v":""},null,{"$f":"IF(OR(LEN(B196)=0,LEN(C196)=0,LEN(D196)=0),\"\",IF(AND(RIGHT(B196,1)*1=1,C196=8),-2000,IF(L196>=38,AB196,IF(L196<=31,AC196,AE196))))","v":""},{"$f":"IF(LEN(A196)=0,\"\",INDEX(Str!$C$1:$C$20,MATCH(ROUND(F196,1),Str!$A$1:$A$20,1)))","v":""},"","",{"$f":"IF(LEN(A196)=0,\"\",INDEX(Uni!$C$1:$C$20,MATCH(ROUND($G196,1),Uni!$A$1:$A$20,1)))","v":""},null,"",{"$f":"IF(LEN(A196)=0,\"\",IF(OR(LEN(B196)=0,LEN(C196)=0,LEN(D196)=0,LEN(E196)=0,LEN(F196)=0,LEN(G196)=0),\"no HVI data\",IF('Base Values'!$B$6+(SUM($N196:$R196)/100)<0,0,'Base Values'!$B$6+(SUM(N196:R196)/100))))","v":""},null,{"$f":"IF(LEN(A196)=0,\"\",IF(LEN(H196)=0,INDEX(Ext!$A$1:$G$5,MATCH(0,Ext!$A$1:$A$5,0),MATCH(H$7,Ext!$A$2:$E$2,0)),IF(AND(H196>=0,H196<3),INDEX(Ext!$A$1:$G$5,MATCH(H196,Ext!$A$1:$A$5,0),MATCH(H$7,Ext!$A$2:$E$2,0)),\"invalid entry\")))","v":""},{"$f":"IF(LEN(B196)=0,\"\",IF(LEN(I196)=0,INDEX(Ext!$A$1:$G$5,MATCH(0,Ext!$A$1:$A$5,0),MATCH(I$7,Ext!$A$2:$E$2,0)),IF(AND(I196>=0,I196<3),INDEX(Ext!$A$1:$G$5,MATCH(I196,Ext!$A$1:$A$5,0),MATCH(I$7,Ext!$A$2:$E$2,0)),\"invalid entry\")))","v":""},{"$f":"IF(LEN(C196)=0,\"\",IF(LEN(J196)=0,INDEX(Ext!$A$1:$G$5,MATCH(0,Ext!$A$1:$A$5,0),MATCH(J$7,Ext!$A$2:$E$2,0)),IF(AND(J196>=0,J196<3),INDEX(Ext!$A$1:$G$5,MATCH(J196,Ext!$A$1:$A$5,0),MATCH(J$7,Ext!$A$2:$E$2,0)),\"invalid entry\")))","v":""}]
[null,null,null,null,null,null,null,null,null,null,null,{"$f":"IF(LEN(A197)=0,\"\",IF(LEN(E197)=0,\"HVI data needed\",INDEX('Staple Lookup'!$C$3:$C$100,MATCH(TRUE,'Staple Lookup'!$B$3:$B$100>=ROUND(E197,2),0))))","v":""},null,{"$f":"IF(OR(LEN(B197)=0,LEN(C197)=0,LEN(D197)=0),\"\",IF(AND(RIGHT(B197,1)*1=1,C197=8),-2000,IF(L197>=38,AB197,IF(L197<=31,AC197,AE197))))","v":""},{"$f":"IF(LEN(A197)=0,\"\",INDEX(Str!$C$1:$C$20,MATCH(ROUND(F197,1),Str!$A$1:$A$20,1)))","v":""},"","",{"$f":"IF(LEN(A197)=0,\"\",INDEX(Uni!$C$1:$C$20,MATCH(ROUND($G197,1),Uni!$A$1:$A$20,1)))","v":""},null,"",{"$f":"IF(LEN(A197)=0,\"\",IF(OR(LEN(B197)=0,LEN(C197)=0,LEN(D197)=0,LEN(E197)=0,LEN(F197)=0,LEN(G197)=0),\"no HVI data\",IF('Base Values'!$B$6+(SUM($N197:$R197)/100)<0,0,'Base Values'!$B$6+(SUM(N197:R197)/100))))","v":""},null,{"$f":"IF(LEN(A197)=0,\"\",IF(LEN(H197)=0,INDEX(Ext!$A$1:$G$5,MATCH(0,Ext!$A$1:$A$5,0),MATCH(H$7,Ext!$A$2:$E$2,0)),IF(AND(H197>=0,H197<3),INDEX(Ext!$A$1:$G$5,MATCH(H197,Ext!$A$1:$A$5,0),MATCH(H$7,Ext!$A$2:$E$2,0)),\"invalid entry\")))","v":""},{"$f":"IF(LEN(B197)=0,\"\",IF(LEN(I197)=0,INDEX(Ext!$A$1:$G$5,MATCH(0,Ext!$A$1:$A$5,0),MATCH(I$7,Ext!$A$2:$E$2,0)),IF(AND(I197>=0,I197<3),INDEX(Ext!$A$1:$G$5,MATCH(I197,Ext!$A$1:$A$5,0),MATCH(I$7,Ext!$A$2:$E$2,0)),\"invalid entry\")))","v":""},{"$f":"IF(LEN(C197)=0,\"\",IF(LEN(J197)=0,INDEX(Ext!$A$1:$G$5,MATCH(0,Ext!$A$1:$A$5,0),MATCH(J$7,Ext!$A$2:$E$2,0)),IF(AND(J197>=0,J197<3),INDEX(Ext!$A$1:$G$5,MATCH(J197,Ext!$A$1:$A$5,0),MATCH(J$7,Ext!$A$2:$E$2,0)),\"invalid entry\")))","v":""}]
[null,null,null,null,null,null,null,null,null,null,null,{"$f":"IF(LEN(A198)=0,\"\",IF(LEN(E198)=0,\"HVI data needed\",INDEX('Staple Lookup'!$C$3:$C$100,MATCH(TRUE,'Staple Lookup'!$B$3:$B$100>=ROUND(E198,2),0))))","v":""},null,{"$f":"IF(OR(LEN(B198)=0,LEN(C198)=0,LEN(D198)=0),\"\",IF(AND(RIGHT(B198,1)*1=1,C198=8),-2000,IF(L198>=38,AB198,IF(L198<=31,AC198,AE198))))","v":""},{"$f":"IF(LEN(A198)=0,\"\",INDEX(Str!$C$1:$C$20,MATCH(ROUND(F198,1),Str!$A$1:$A$20,1)))","v":""},"","",{"$f":"IF(LEN(A198)=0,\"\",INDEX(Uni!$C$1:$C$20,MATCH(ROUND($G198,1),Uni!$A$1:$A$20,1)))","v":""},null,"",{"$f":"IF(LEN(A198)=0,\"\",IF(OR(LEN(B198)=0,LEN(C198)=0,LEN(D198)=0,LEN(E198)=0,LEN(F198)=0,LEN(G198)=0),\"no HVI data\",IF('Base Values'!$B$6+(SUM($N198:$R198)/100)<0,0,'Base Values'!$B$6+(SUM(N198:R198)/100))))","v":""},null,{"$f":"IF(LEN(A198)=0,\"\",IF(LEN(H198)=0,INDEX(Ext!$A$1:$G$5,MATCH(0,Ext!$A$1:$A$5,0),MATCH(H$7,Ext!$A$2:$E$2,0)),IF(AND(H198>=0,H198<3),INDEX(Ext!$A$1:$G$5,MATCH(H198,Ext!$A$1:$A$5,0),MATCH(H$7,Ext!$A$2:$E$2,0)),\"invalid entry\")))","v":""},{"$f":"IF(LEN(B198)=0,\"\",IF(LEN(I198)=0,INDEX(Ext!$A$1:$G$5,MATCH(0,Ext!$A$1:$A$5,0),MATCH(I$7,Ext!$A$2:$E$2,0)),IF(AND(I198>=0,I198<3),INDEX(Ext!$A$1:$G$5,MATCH(I198,Ext!$A$1:$A$5,0),MATCH(I$7,Ext!$A$2:$E$2,0)),\"invalid entry\")))","v":""},{"$f":"IF(LEN(C198)=0,\"\",IF(LEN(J198)=0,INDEX(Ext!$A$1:$G$5,MATCH(0,Ext!$A$1:$A$5,0),MATCH(J$7,Ext!$A$2:$E$2,0)),IF(AND(J198>=0,J198<3),INDEX(Ext!$A$1:$G$5,MATCH(J198,Ext!$A$1:$A$5,0),MATCH(J$7,Ext!$A$2:$E$2,0)),\"invalid entry\")))","v":""}]
[null,null,null,null,null,null,null,null,null,null,null,{"$f":"IF(LEN(A199)=0,\"\",IF(LEN(E199)=0,\"HVI data needed\",INDEX('Staple Lookup'!$C$3:$C$100,MATCH(TRUE,'Staple Lookup'!$B$3:$B$100>=ROUND(E199,2),0))))","v":""},null,{"$f":"IF(OR(LEN(B199)=0,LEN(C199)=0,LEN(D199)=0),\"\",IF(AND(RIGHT(B199,1)*1=1,C199=8),-2000,IF(L199>=38,AB199,IF(L199<=31,AC199,AE199))))","v":""},{"$f":"IF(LEN(A199)=0,\"\",INDEX(Str!$C$1:$C$20,MATCH(ROUND(F199,1),Str!$A$1:$A$20,1)))","v":""},"","",{"$f":"IF(LEN(A199)=0,\"\",INDEX(Uni!$C$1:$C$20,MATCH(ROUND($G199,1),Uni!$A$1:$A$20,1)))","v":""},null,"",{"$f":"IF(LEN(A199)=0,\"\",IF(OR(LEN(B199)=0,LEN(C199)=0,LEN(D199)=0,LEN(E199)=0,LEN(F199)=0,LEN(G199)=0),\"no HVI data\",IF('Base Values'!$B$6+(SUM($N199:$R199)/100)<0,0,'Base Values'!$B$6+(SUM(N199:R199)/100))))","v":""},null,{"$f":"IF(LEN(A199)=0,\"\",IF(LEN(H199)=0,INDEX(Ext!$A$1:$G$5,MATCH(0,Ext!$A$1:$A$5,0),MATCH(H$7,Ext!$A$2:$E$2,0)),IF(AND(H199>=0,H199<3),INDEX(Ext!$A$1:$G$5,MATCH(H199,Ext!$A$1:$A$5,0),MATCH(H$7,Ext!$A$2:$E$2,0)),\"invalid entry\")))","v":""},{"$f":"IF(LEN(B199)=0,\"\",IF(LEN(I199)=0,INDEX(Ext!$A$1:$G$5,MATCH(0,Ext!$A$1:$A$5,0),MATCH(I$7,Ext!$A$2:$E$2,0)),IF(AND(I199>=0,I199<3),INDEX(Ext!$A$1:$G$5,MATCH(I199,Ext!$A$1:$A$5,0),MATCH(I$7,Ext!$A$2:$E$2,0)),\"invalid entry\")))","v":""},{"$f":"IF(LEN(C199)=0,\"\",IF(LEN(J199)=0,INDEX(Ext!$A$1:$G$5,MATCH(0,Ext!$A$1:$A$5,0),MATCH(J$7,Ext!$A$2:$E$2,0)),IF(AND(J199>=0,J199<3),INDEX(Ext!$A$1:$G$5,MATCH(J199,Ext!$A$1:$A$5,0),MATCH(J$7,Ext!$A$2:$E$2,0)),\"invalid entry\")))","v":""}]
[null,null,null,null,null,null,null,null,null,null,null,{"$f":"IF(LEN(A200)=0,\"\",IF(LEN(E200)=0,\"HVI data needed\",INDEX('Staple Lookup'!$C$3:$C$100,MATCH(TRUE,'Staple Lookup'!$B$3:$B$100>=ROUND(E200,2),0))))","v":""},null,{"$f":"IF(OR(LEN(B200)=0,LEN(C200)=0,LEN(D200)=0),\"\",IF(AND(RIGHT(B200,1)*1=1,C200=8),-2000,IF(L200>=38,AB200,IF(L200<=31,AC200,AE200))))","v":""},{"$f":"IF(LEN(A200)=0,\"\",INDEX(Str!$C$1:$C$20,MATCH(ROUND(F200,1),Str!$A$1:$A$20,1)))","v":""},"","",{"$f":"IF(LEN(A200)=0,\"\",INDEX(Uni!$C$1:$C$20,MATCH(ROUND($G200,1),Uni!$A$1:$A$20,1)))","v":""},null,"",{"$f":"IF(LEN(A200)=0,\"\",IF(OR(LEN(B200)=0,LEN(C200)=0,LEN(D200)=0,LEN(E200)=0,LEN(F200)=0,LEN(G200)=0),\"no HVI data\",IF('Base Values'!$B$6+(SUM($N200:$R200)/100)<0,0,'Base Values'!$B$6+(SUM(N200:R200)/100))))","v":""},null,{"$f":"IF(LEN(A200)=0,\"\",IF(LEN(H200)=0,INDEX(Ext!$A$1:$G$5,MATCH(0,Ext!$A$1:$A$5,0),MATCH(H$7,Ext!$A$2:$E$2,0)),IF(AND(H200>=0,H200<3),INDEX(Ext!$A$1:$G$5,MATCH(H200,Ext!$A$1:$A$5,0),MATCH(H$7,Ext!$A$2:$E$2,0)),\"invalid entry\")))","v":""},{"$f":"IF(LEN(B200)=0,\"\",IF(LEN(I200)=0,INDEX(Ext!$A$1:$G$5,MATCH(0,Ext!$A$1:$A$5,0),MATCH(I$7,Ext!$A$2:$E$2,0)),IF(AND(I200>=0,I200<3),INDEX(Ext!$A$1:$G$5,MATCH(I200,Ext!$A$1:$A$5,0),MATCH(I$7,Ext!$A$2:$E$2,0)),\"invalid entry\")))","v":""},{"$f":"IF(LEN(C200)=0,\"\",IF(LEN(J200)=0,INDEX(Ext!$A$1:$G$5,MATCH(0,Ext!$A$1:$A$5,0),MATCH(J$7,Ext!$A$2:$E$2,0)),IF(AND(J200>=0,J200<3),INDEX(Ext!$A$1:$G$5,MATCH(J200,Ext!$A$1:$A$5,0),MATCH(J$7,Ext!$A$2:$E$2,0)),\"invalid entry\")))","v":""}]
[null,null,null,null,null,null,null,null,null,null,null,{"$f":"IF(LEN(A201)=0,\"\",IF(LEN(E201)=0,\"HVI data needed\",INDEX('Staple Lookup'!$C$3:$C$100,MATCH(TRUE,'Staple Lookup'!$B$3:$B$100>=ROUND(E201,2),0))))","v":""},null,{"$f":"IF(OR(LEN(B201)=0,LEN(C201)=0,LEN(D201)=0),\"\",IF(AND(RIGHT(B201,1)*1=1,C201=8),-2000,IF(L201>=38,AB201,IF(L201<=31,AC201,AE201))))","v":""},{"$f":"IF(LEN(A201)=0,\"\",INDEX(Str!$C$1:$C$20,MATCH(ROUND(F201,1),Str!$A$1:$A$20,1)))","v":""},{"$f":"IF(LEN(A201)=0,\"\",IF(AND(AG201=1,AH201>0),AH201,IF(AND(AG201=0,AH201>0),0,AH201)))","v":""},{"$f":"IF(LEN(A201)=0,\"\",SUM(W201:Z201))","v":""},{"$f":"IF(LEN(A201)=0,\"\",INDEX(Uni!$C$1:$C$20,MATCH(ROUND($G201,1),Uni!$A$1:$A$20,1)))","v":""},null,{"$f":"IF(LEN(A201)=0,\"\",IF(OR(LEN(B201)=0,LEN(C201)=0,LEN(D201)=0,LEN(E201)=0,LEN(F201)=0,LEN(G201)=0),\"no HVI data\",SUM(N201:R201)))","v":""},{"$f":"IF(LEN(A201)=0,\"\",IF(OR(LEN(B201)=0,LEN(C201)=0,LEN(D201)=0,LEN(E201)=0,LEN(F201)=0,LEN(G201)=0),\"no HVI data\",IF('Base Values'!$B$6+(SUM($N201:$R201)/100)<0,0,'Base Values'!$B$6+(SUM(N201:R201)/100))))","v":""},null,{"$f":"IF(LEN(A201)=0,\"\",IF(LEN(H201)=0,INDEX(Ext!$A$1:$G$5,MATCH(0,Ext!$A$1:$A$5,0),MATCH(H$7,Ext!$A$2:$E$2,0)),IF(AND(H201>=0,H201<3),INDEX(Ext!$A$1:$G$5,MATCH(H201,Ext!$A$1:$A$5,0),MATCH(H$7,Ext!$A$2:$E$2,0)),\"invalid entry\")))","v":""},{"$f":"IF(LEN(B201)=0,\"\",IF(LEN(I201)=0,INDEX(Ext!$A$1:$G$5,MATCH(0,Ext!$A$1:$A$5,0),MATCH(I$7,Ext!$A$2:$E$2,0)),IF(AND(I201>=0,I201<3),INDEX(Ext!$A$1:$G$5,MATCH(I201,Ext!$A$1:$A$5,0),MATCH(I$7,Ext!$A$2:$E$2,0)),\"invalid entry\")))","v":""},{"$f":"IF(LEN(C201)=0,\"\",IF(LEN(J201)=0,INDEX(Ext!$A$1:$G$5,MATCH(0,Ext!$A$1:$A$5,0),MATCH(J$7,Ext!$A$2:$E$2,0)),IF(AND(J201>=0,J201<3),INDEX(Ext!$A$1:$G$5,MATCH(J201,Ext!$A$1:$A$5,0),MATCH(J$7,Ext!$A$2:$E$2,0)),\"invalid entry\")))","v":""}]
[null,null,null,null,null,null,null,null,null,null,null,{"$f":"IF(LEN(A202)=0,\"\",IF(LEN(E202)=0,\"HVI data needed\",INDEX('Staple Lookup'!$C$3:$C$100,MATCH(TRUE,'Staple Lookup'!$B$3:$B$100>=ROUND(E202,2),0))))","v":""},null,{"$f":"IF(OR(LEN(B202)=0,LEN(C202)=0,LEN(D202)=0),\"\",IF(AND(RIGHT(B202,1)*1=1,C202=8),-2000,IF(L202>=38,AB202,IF(L202<=31,AC202,AE202))))","v":""},{"$f":"IF(LEN(A202)=0,\"\",INDEX(Str!$C$1:$C$20,MATCH(ROUND(F202,1),Str!$A$1:$A$20,1)))","v":""},"","",{"$f":"IF(LEN(A202)=0,\"\",INDEX(Uni!$C$1:$C$20,MATCH(ROUND($G202,1),Uni!$A$1:$A$20,1)))","v":""},null,"",{"$f":"IF(LEN(A202)=0,\"\",IF(OR(LEN(B202)=0,LEN(C202)=0,LEN(D202)=0,LEN(E202)=0,LEN(F202)=0,LEN(G202)=0),\"no HVI data\",IF('Base Values'!$B$6+(SUM($N202:$R202)/100)<0,0,'Base Values'!$B$6+(SUM(N202:R202)/100))))","v":""},null,{"$f":"IF(LEN(A202)=0,\"\",IF(LEN(H202)=0,INDEX(Ext!$A$1:$G$5,MATCH(0,Ext!$A$1:$A$5,0),MATCH(H$7,Ext!$A$2:$E$2,0)),IF(AND(H202>=0,H202<3),INDEX(Ext!$A$1:$G$5,MATCH(H202,Ext!$A$1:$A$5,0),MATCH(H$7,Ext!$A$2:$E$2,0)),\"invalid entry\")))","v":""},{"$f":"IF(LEN(B202)=0,\"\",IF(LEN(I202)=0,INDEX(Ext!$A$1:$G$5,MATCH(0,Ext!$A$1:$A$5,0),MATCH(I$7,Ext!$A$2:$E$2,0)),IF(AND(I202>=0,I202<3),INDEX(Ext!$A$1:$G$5,MATCH(I202,Ext!$A$1:$A$5,0),MATCH(I$7,Ext!$A$2:$E$2,0)),\"invalid entry\")))","v":""},{"$f":"IF(LEN(C202)=0,\"\",IF(LEN(J202)=0,INDEX(Ext!$A$1:$G$5,MATCH(0,Ext!$A$1:$A$5,0),MATCH(J$7,Ext!$A$2:$E$2,0)),IF(AND(J202>=0,J202<3),INDEX(Ext!$A$1:$G$5,MATCH(J202,Ext!$A$1:$A$5,0),MATCH(J$7,Ext!$A$2:$E$2,0)),\"invalid entry\")))","v":""}]
[null,null,null,null,null,null,null,null,null,null,null,{"$f":"IF(LEN(A203)=0,\"\",IF(LEN(E203)=0,\"HVI data needed\",INDEX('Staple Lookup'!$C$3:$C$100,MATCH(TRUE,'Staple Lookup'!$B$3:$B$100>=ROUND(E203,2),0))))","v":""},null,{"$f":"IF(OR(LEN(B203)=0,LEN(C203)=0,LEN(D203)=0),\"\",IF(AND(RIGHT(B203,1)*1=1,C203=8),-2000,IF(L203>=38,AB203,IF(L203<=31,AC203,AE203))))","v":""},{"$f":"IF(LEN(A203)=0,\"\",INDEX(Str!$C$1:$C$20,MATCH(ROUND(F203,1),Str!$A$1:$A$20,1)))","v":""},"","",{"$f":"IF(LEN(A203)=0,\"\",INDEX(Uni!$C$1:$C$20,MATCH(ROUND($G203,1),Uni!$A$1:$A$20,1)))","v":""},null,"",{"$f":"IF(LEN(A203)=0,\"\",IF(OR(LEN(B203)=0,LEN(C203)=0,LEN(D203)=0,LEN(E203)=0,LEN(F203)=0,LEN(G203)=0),\"no HVI data\",IF('Base Values'!$B$6+(SUM($N203:$R203)/100)<0,0,'Base Values'!$B$6+(SUM(N203:R203)/100))))","v":""},null,{"$f":"IF(LEN(A203)=0,\"\",IF(LEN(H203)=0,INDEX(Ext!$A$1:$G$5,MATCH(0,Ext!$A$1:$A$5,0),MATCH(H$7,Ext!$A$2:$E$2,0)),IF(AND(H203>=0,H203<3),INDEX(Ext!$A$1:$G$5,MATCH(H203,Ext!$A$1:$A$5,0),MATCH(H$7,Ext!$A$2:$E$2,0)),\"invalid entry\")))","v":""},{"$f":"IF(LEN(B203)=0,\"\",IF(LEN(I203)=0,INDEX(Ext!$A$1:$G$5,MATCH(0,Ext!$A$1:$A$5,0),MATCH(I$7,Ext!$A$2:$E$2,0)),IF(AND(I203>=0,I203<3),INDEX(Ext!$A$1:$G$5,MATCH(I203,Ext!$A$1:$A$5,0),MATCH(I$7,Ext!$A$2:$E$2,0)),\"invalid entry\")))","v":""},{"$f":"IF(LEN(C203)=0,\"\",IF(LEN(J203)=0,INDEX(Ext!$A$1:$G$5,MATCH(0,Ext!$A$1:$A$5,0),MATCH(J$7,Ext!$A$2:$E$2,0)),IF(AND(J203>=0,J203<3),INDEX(Ext!$A$1:$G$5,MATCH(J203,Ext!$A$1:$A$5,0),MATCH(J$7,Ext!$A$2:$E$2,0)),\"invalid entry\")))","v":""}]
[null,null,null,null,null,null,null,null,null,null,null,{"$f":"IF(LEN(A204)=0,\"\",IF(LEN(E204)=0,\"HVI data needed\",INDEX('Staple Lookup'!$C$3:$C$100,MATCH(TRUE,'Staple Lookup'!$B$3:$B$100>=ROUND(E204,2),0))))","v":""},null,{"$f":"IF(OR(LEN(B204)=0,LEN(C204)=0,LEN(D204)=0),\"\",IF(AND(RIGHT(B204,1)*1=1,C204=8),-2000,IF(L204>=38,AB204,IF(L204<=31,AC204,AE204))))","v":""},{"$f":"IF(LEN(A204)=0,\"\",INDEX(Str!$C$1:$C$20,MATCH(ROUND(F204,1),Str!$A$1:$A$20,1)))","v":""},"","",{"$f":"IF(LEN(A204)=0,\"\",INDEX(Uni!$C$1:$C$20,MATCH(ROUND($G204,1),Uni!$A$1:$A$20,1)))","v":""},null,"",{"$f":"IF(LEN(A204)=0,\"\",IF(OR(LEN(B204)=0,LEN(C204)=0,LEN(D204)=0,LEN(E204)=0,LEN(F204)=0,LEN(G204)=0),\"no HVI data\",IF('Base Values'!$B$6+(SUM($N204:$R204)/100)<0,0,'Base Values'!$B$6+(SUM(N204:R204)/100))))","v":""},null,{"$f":"IF(LEN(A204)=0,\"\",IF(LEN(H204)=0,INDEX(Ext!$A$1:$G$5,MATCH(0,Ext!$A$1:$A$5,0),MATCH(H$7,Ext!$A$2:$E$2,0)),IF(AND(H204>=0,H204<3),INDEX(Ext!$A$1:$G$5,MATCH(H204,Ext!$A$1:$A$5,0),MATCH(H$7,Ext!$A$2:$E$2,0)),\"invalid entry\")))","v":""},{"$f":"IF(LEN(B204)=0,\"\",IF(LEN(I204)=0,INDEX(Ext!$A$1:$G$5,MATCH(0,Ext!$A$1:$A$5,0),MATCH(I$7,Ext!$A$2:$E$2,0)),IF(AND(I204>=0,I204<3),INDEX(Ext!$A$1:$G$5,MATCH(I204,Ext!$A$1:$A$5,0),MATCH(I$7,Ext!$A$2:$E$2,0)),\"invalid entry\")))","v":""},{"$f":"IF(LEN(C204)=0,\"\",IF(LEN(J204)=0,INDEX(Ext!$A$1:$G$5,MATCH(0,Ext!$A$1:$A$5,0),MATCH(J$7,Ext!$A$2:$E$2,0)),IF(AND(J204>=0,J204<3),INDEX(Ext!$A$1:$G$5,MATCH(J204,Ext!$A$1:$A$5,0),MATCH(J$7,Ext!$A$2:$E$2,0)),\"invalid entry\")))","v":""}]
[null,null,null,null,null,null,null,null,null,null,null,{"$f":"IF(LEN(A205)=0,\"\",IF(LEN(E205)=0,\"HVI data needed\",INDEX('Staple Lookup'!$C$3:$C$100,MATCH(TRUE,'Staple Lookup'!$B$3:$B$100>=ROUND(E205,2),0))))","v":""},null,{"$f":"IF(OR(LEN(B205)=0,LEN(C205)=0,LEN(D205)=0),\"\",IF(AND(RIGHT(B205,1)*1=1,C205=8),-2000,IF(L205>=38,AB205,IF(L205<=31,AC205,AE205))))","v":""},{"$f":"IF(LEN(A205)=0,\"\",INDEX(Str!$C$1:$C$20,MATCH(ROUND(F205,1),Str!$A$1:$A$20,1)))","v":""},"","",{"$f":"IF(LEN(A205)=0,\"\",INDEX(Uni!$C$1:$C$20,MATCH(ROUND($G205,1),Uni!$A$1:$A$20,1)))","v":""},null,"",{"$f":"IF(LEN(A205)=0,\"\",IF(OR(LEN(B205)=0,LEN(C205)=0,LEN(D205)=0,LEN(E205)=0,LEN(F205)=0,LEN(G205)=0),\"no HVI data\",IF('Base Values'!$B$6+(SUM($N205:$R205)/100)<0,0,'Base Values'!$B$6+(SUM(N205:R205)/100))))","v":""},null,{"$f":"IF(LEN(A205)=0,\"\",IF(LEN(H205)=0,INDEX(Ext!$A$1:$G$5,MATCH(0,Ext!$A$1:$A$5,0),MATCH(H$7,Ext!$A$2:$E$2,0)),IF(AND(H205>=0,H205<3),INDEX(Ext!$A$1:$G$5,MATCH(H205,Ext!$A$1:$A$5,0),MATCH(H$7,Ext!$A$2:$E$2,0)),\"invalid entry\")))","v":""},{"$f":"IF(LEN(B205)=0,\"\",IF(LEN(I205)=0,INDEX(Ext!$A$1:$G$5,MATCH(0,Ext!$A$1:$A$5,0),MATCH(I$7,Ext!$A$2:$E$2,0)),IF(AND(I205>=0,I205<3),INDEX(Ext!$A$1:$G$5,MATCH(I205,Ext!$A$1:$A$5,0),MATCH(I$7,Ext!$A$2:$E$2,0)),\"invalid entry\")))","v":""},{"$f":"IF(LEN(C205)=0,\"\",IF(LEN(J205)=0,INDEX(Ext!$A$1:$G$5,MATCH(0,Ext!$A$1:$A$5,0),MATCH(J$7,Ext!$A$2:$E$2,0)),IF(AND(J205>=0,J205<3),INDEX(Ext!$A$1:$G$5,MATCH(J205,Ext!$A$1:$A$5,0),MATCH(J$7,Ext!$A$2:$E$2,0)),\"invalid entry\")))","v":""}]
[null,null,null,null,null,null,null,null,null,null,null,{"$f":"IF(LEN(A206)=0,\"\",IF(LEN(E206)=0,\"HVI data needed\",INDEX('Staple Lookup'!$C$3:$C$100,MATCH(TRUE,'Staple Lookup'!$B$3:$B$100>=ROUND(E206,2),0))))","v":""},null,{"$f":"IF(OR(LEN(B206)=0,LEN(C206)=0,LEN(D206)=0),\"\",IF(AND(RIGHT(B206,1)*1=1,C206=8),-2000,IF(L206>=38,AB206,IF(L206<=31,AC206,AE206))))","v":""},{"$f":"IF(LEN(A206)=0,\"\",INDEX(Str!$C$1:$C$20,MATCH(ROUND(F206,1),Str!$A$1:$A$20,1)))","v":""},"","",{"$f":"IF(LEN(A206)=0,\"\",INDEX(Uni!$C$1:$C$20,MATCH(ROUND($G206,1),Uni!$A$1:$A$20,1)))","v":""},null,"",{"$f":"IF(LEN(A206)=0,\"\",IF(OR(LEN(B206)=0,LEN(C206)=0,LEN(D206)=0,LEN(E206)=0,LEN(F206)=0,LEN(G206)=0),\"no HVI data\",IF('Base Values'!$B$6+(SUM($N206:$R206)/100)<0,0,'Base Values'!$B$6+(SUM(N206:R206)/100))))","v":""},null,{"$f":"IF(LEN(A206)=0,\"\",IF(LEN(H206)=0,INDEX(Ext!$A$1:$G$5,MATCH(0,Ext!$A$1:$A$5,0),MATCH(H$7,Ext!$A$2:$E$2,0)),IF(AND(H206>=0,H206<3),INDEX(Ext!$A$1:$G$5,MATCH(H206,Ext!$A$1:$A$5,0),MATCH(H$7,Ext!$A$2:$E$2,0)),\"invalid entry\")))","v":""},{"$f":"IF(LEN(B206)=0,\"\",IF(LEN(I206)=0,INDEX(Ext!$A$1:$G$5,MATCH(0,Ext!$A$1:$A$5,0),MATCH(I$7,Ext!$A$2:$E$2,0)),IF(AND(I206>=0,I206<3),INDEX(Ext!$A$1:$G$5,MATCH(I206,Ext!$A$1:$A$5,0),MATCH(I$7,Ext!$A$2:$E$2,0)),\"invalid entry\")))","v":""},{"$f":"IF(LEN(C206)=0,\"\",IF(LEN(J206)=0,INDEX(Ext!$A$1:$G$5,MATCH(0,Ext!$A$1:$A$5,0),MATCH(J$7,Ext!$A$2:$E$2,0)),IF(AND(J206>=0,J206<3),INDEX(Ext!$A$1:$G$5,MATCH(J206,Ext!$A$1:$A$5,0),MATCH(J$7,Ext!$A$2:$E$2,0)),\"invalid entry\")))","v":""}]
[null,null,null,null,null,null,null,null,null,null,null,{"$f":"IF(LEN(A207)=0,\"\",IF(LEN(E207)=0,\"HVI data needed\",INDEX('Staple Lookup'!$C$3:$C$100,MATCH(TRUE,'Staple Lookup'!$B$3:$B$100>=ROUND(E207,2),0))))","v":""},null,{"$f":"IF(OR(LEN(B207)=0,LEN(C207)=0,LEN(D207)=0),\"\",IF(AND(RIGHT(B207,1)*1=1,C207=8),-2000,IF(L207>=38,AB207,IF(L207<=31,AC207,AE207))))","v":""},{"$f":"IF(LEN(A207)=0,\"\",INDEX(Str!$C$1:$C$20,MATCH(ROUND(F207,1),Str!$A$1:$A$20,1)))","v":""},"","",{"$f":"IF(LEN(A207)=0,\"\",INDEX(Uni!$C$1:$C$20,MATCH(ROUND($G207,1),Uni!$A$1:$A$20,1)))","v":""},null,"",{"$f":"IF(LEN(A207)=0,\"\",IF(OR(LEN(B207)=0,LEN(C207)=0,LEN(D207)=0,LEN(E207)=0,LEN(F207)=0,LEN(G207)=0),\"no HVI data\",IF('Base Values'!$B$6+(SUM($N207:$R207)/100)<0,0,'Base Values'!$B$6+(SUM(N207:R207)/100))))","v":""},null,{"$f":"IF(LEN(A207)=0,\"\",IF(LEN(H207)=0,INDEX(Ext!$A$1:$G$5,MATCH(0,Ext!$A$1:$A$5,0),MATCH(H$7,Ext!$A$2:$E$2,0)),IF(AND(H207>=0,H207<3),INDEX(Ext!$A$1:$G$5,MATCH(H207,Ext!$A$1:$A$5,0),MATCH(H$7,Ext!$A$2:$E$2,0)),\"invalid entry\")))","v":""},{"$f":"IF(LEN(B207)=0,\"\",IF(LEN(I207)=0,INDEX(Ext!$A$1:$G$5,MATCH(0,Ext!$A$1:$A$5,0),MATCH(I$7,Ext!$A$2:$E$2,0)),IF(AND(I207>=0,I207<3),INDEX(Ext!$A$1:$G$5,MATCH(I207,Ext!$A$1:$A$5,0),MATCH(I$7,Ext!$A$2:$E$2,0)),\"invalid entry\")))","v":""},{"$f":"IF(LEN(C207)=0,\"\",IF(LEN(J207)=0,INDEX(Ext!$A$1:$G$5,MATCH(0,Ext!$A$1:$A$5,0),MATCH(J$7,Ext!$A$2:$E$2,0)),IF(AND(J207>=0,J207<3),INDEX(Ext!$A$1:$G$5,MATCH(J207,Ext!$A$1:$A$5,0),MATCH(J$7,Ext!$A$2:$E$2,0)),\"invalid entry\")))","v":""}]
[null,null,null,null,null,null,null,null,null,null,null,{"$f":"IF(LEN(A208)=0,\"\",IF(LEN(E208)=0,\"HVI data needed\",INDEX('Staple Lookup'!$C$3:$C$100,MATCH(TRUE,'Staple Lookup'!$B$3:$B$100>=ROUND(E208,2),0))))","v":""},null,{"$f":"IF(OR(LEN(B208)=0,LEN(C208)=0,LEN(D208)=0),\"\",IF(AND(RIGHT(B208,1)*1=1,C208=8),-2000,IF(L208>=38,AB208,IF(L208<=31,AC208,AE208))))","v":""},{"$f":"IF(LEN(A208)=0,\"\",INDEX(Str!$C$1:$C$20,MATCH(ROUND(F208,1),Str!$A$1:$A$20,1)))","v":""},"","",{"$f":"IF(LEN(A208)=0,\"\",INDEX(Uni!$C$1:$C$20,MATCH(ROUND($G208,1),Uni!$A$1:$A$20,1)))","v":""},null,"",{"$f":"IF(LEN(A208)=0,\"\",IF(OR(LEN(B208)=0,LEN(C208)=0,LEN(D208)=0,LEN(E208)=0,LEN(F208)=0,LEN(G208)=0),\"no HVI data\",IF('Base Values'!$B$6+(SUM($N208:$R208)/100)<0,0,'Base Values'!$B$6+(SUM(N208:R208)/100))))","v":""},null,{"$f":"IF(LEN(A208)=0,\"\",IF(LEN(H208)=0,INDEX(Ext!$A$1:$G$5,MATCH(0,Ext!$A$1:$A$5,0),MATCH(H$7,Ext!$A$2:$E$2,0)),IF(AND(H208>=0,H208<3),INDEX(Ext!$A$1:$G$5,MATCH(H208,Ext!$A$1:$A$5,0),MATCH(H$7,Ext!$A$2:$E$2,0)),\"invalid entry\")))","v":""},{"$f":"IF(LEN(B208)=0,\"\",IF(LEN(I208)=0,INDEX(Ext!$A$1:$G$5,MATCH(0,Ext!$A$1:$A$5,0),MATCH(I$7,Ext!$A$2:$E$2,0)),IF(AND(I208>=0,I208<3),INDEX(Ext!$A$1:$G$5,MATCH(I208,Ext!$A$1:$A$5,0),MATCH(I$7,Ext!$A$2:$E$2,0)),\"invalid entry\")))","v":""},{"$f":"IF(LEN(C208)=0,\"\",IF(LEN(J208)=0,INDEX(Ext!$A$1:$G$5,MATCH(0,Ext!$A$1:$A$5,0),MATCH(J$7,Ext!$A$2:$E$2,0)),IF(AND(J208>=0,J208<3),INDEX(Ext!$A$1:$G$5,MATCH(J208,Ext!$A$1:$A$5,0),MATCH(J$7,Ext!$A$2:$E$2,0)),\"invalid entry\")))","v":""}]
[null,null,null,null,null,null,null,null,null,null,null,{"$f":"IF(LEN(A209)=0,\"\",IF(LEN(E209)=0,\"HVI data needed\",INDEX('Staple Lookup'!$C$3:$C$100,MATCH(TRUE,'Staple Lookup'!$B$3:$B$100>=ROUND(E209,2),0))))","v":""},null,{"$f":"IF(OR(LEN(B209)=0,LEN(C209)=0,LEN(D209)=0),\"\",IF(AND(RIGHT(B209,1)*1=1,C209=8),-2000,IF(L209>=38,AB209,IF(L209<=31,AC209,AE209))))","v":""},{"$f":"IF(LEN(A209)=0,\"\",INDEX(Str!$C$1:$C$20,MATCH(ROUND(F209,1),Str!$A$1:$A$20,1)))","v":""},"","",{"$f":"IF(LEN(A209)=0,\"\",INDEX(Uni!$C$1:$C$20,MATCH(ROUND($G209,1),Uni!$A$1:$A$20,1)))","v":""},null,"",{"$f":"IF(LEN(A209)=0,\"\",IF(OR(LEN(B209)=0,LEN(C209)=0,LEN(D209)=0,LEN(E209)=0,LEN(F209)=0,LEN(G209)=0),\"no HVI data\",IF('Base Values'!$B$6+(SUM($N209:$R209)/100)<0,0,'Base Values'!$B$6+(SUM(N209:R209)/100))))","v":""},null,{"$f":"IF(LEN(A209)=0,\"\",IF(LEN(H209)=0,INDEX(Ext!$A$1:$G$5,MATCH(0,Ext!$A$1:$A$5,0),MATCH(H$7,Ext!$A$2:$E$2,0)),IF(AND(H209>=0,H209<3),INDEX(Ext!$A$1:$G$5,MATCH(H209,Ext!$A$1:$A$5,0),MATCH(H$7,Ext!$A$2:$E$2,0)),\"invalid entry\")))","v":""},{"$f":"IF(LEN(B209)=0,\"\",IF(LEN(I209)=0,INDEX(Ext!$A$1:$G$5,MATCH(0,Ext!$A$1:$A$5,0),MATCH(I$7,Ext!$A$2:$E$2,0)),IF(AND(I209>=0,I209<3),INDEX(Ext!$A$1:$G$5,MATCH(I209,Ext!$A$1:$A$5,0),MATCH(I$7,Ext!$A$2:$E$2,0)),\"invalid entry\")))","v":""},{"$f":"IF(LEN(C209)=0,\"\",IF(LEN(J209)=0,INDEX(Ext!$A$1:$G$5,MATCH(0,Ext!$A$1:$A$5,0),MATCH(J$7,Ext!$A$2:$E$2,0)),IF(AND(J209>=0,J209<3),INDEX(Ext!$A$1:$G$5,MATCH(J209,Ext!$A$1:$A$5,0),MATCH(J$7,Ext!$A$2:$E$2,0)),\"invalid entry\")))","v":""}]
[null,null,null,null,null,null,null,null,null,null,null,{"$f":"IF(LEN(A210)=0,\"\",IF(LEN(E210)=0,\"HVI data needed\",INDEX('Staple Lookup'!$C$3:$C$100,MATCH(TRUE,'Staple Lookup'!$B$3:$B$100>=ROUND(E210,2),0))))","v":""},null,{"$f":"IF(OR(LEN(B210)=0,LEN(C210)=0,LEN(D210)=0),\"\",IF(AND(RIGHT(B210,1)*1=1,C210=8),-2000,IF(L210>=38,AB210,IF(L210<=31,AC210,AE210))))","v":""},{"$f":"IF(LEN(A210)=0,\"\",INDEX(Str!$C$1:$C$20,MATCH(ROUND(F210,1),Str!$A$1:$A$20,1)))","v":""},"","",{"$f":"IF(LEN(A210)=0,\"\",INDEX(Uni!$C$1:$C$20,MATCH(ROUND($G210,1),Uni!$A$1:$A$20,1)))","v":""},null,"",{"$f":"IF(LEN(A210)=0,\"\",IF(OR(LEN(B210)=0,LEN(C210)=0,LEN(D210)=0,LEN(E210)=0,LEN(F210)=0,LEN(G210)=0),\"no HVI data\",IF('Base Values'!$B$6+(SUM($N210:$R210)/100)<0,0,'Base Values'!$B$6+(SUM(N210:R210)/100))))","v":""},null,{"$f":"IF(LEN(A210)=0,\"\",IF(LEN(H210)=0,INDEX(Ext!$A$1:$G$5,MATCH(0,Ext!$A$1:$A$5,0),MATCH(H$7,Ext!$A$2:$E$2,0)),IF(AND(H210>=0,H210<3),INDEX(Ext!$A$1:$G$5,MATCH(H210,Ext!$A$1:$A$5,0),MATCH(H$7,Ext!$A$2:$E$2,0)),\"invalid entry\")))","v":""},{"$f":"IF(LEN(B210)=0,\"\",IF(LEN(I210)=0,INDEX(Ext!$A$1:$G$5,MATCH(0,Ext!$A$1:$A$5,0),MATCH(I$7,Ext!$A$2:$E$2,0)),IF(AND(I210>=0,I210<3),INDEX(Ext!$A$1:$G$5,MATCH(I210,Ext!$A$1:$A$5,0),MATCH(I$7,Ext!$A$2:$E$2,0)),\"invalid entry\")))","v":""},{"$f":"IF(LEN(C210)=0,\"\",IF(LEN(J210)=0,INDEX(Ext!$A$1:$G$5,MATCH(0,Ext!$A$1:$A$5,0),MATCH(J$7,Ext!$A$2:$E$2,0)),IF(AND(J210>=0,J210<3),INDEX(Ext!$A$1:$G$5,MATCH(J210,Ext!$A$1:$A$5,0),MATCH(J$7,Ext!$A$2:$E$2,0)),\"invalid entry\")))","v":""}]
[null,null,null,null,null,null,null,null,null,null,null,{"$f":"IF(LEN(A211)=0,\"\",IF(LEN(E211)=0,\"HVI data needed\",INDEX('Staple Lookup'!$C$3:$C$100,MATCH(TRUE,'Staple Lookup'!$B$3:$B$100>=ROUND(E211,2),0))))","v":""},null,{"$f":"IF(OR(LEN(B211)=0,LEN(C211)=0,LEN(D211)=0),\"\",IF(AND(RIGHT(B211,1)*1=1,C211=8),-2000,IF(L211>=38,AB211,IF(L211<=31,AC211,AE211))))","v":""},{"$f":"IF(LEN(A211)=0,\"\",INDEX(Str!$C$1:$C$20,MATCH(ROUND(F211,1),Str!$A$1:$A$20,1)))","v":""},"","",{"$f":"IF(LEN(A211)=0,\"\",INDEX(Uni!$C$1:$C$20,MATCH(ROUND($G211,1),Uni!$A$1:$A$20,1)))","v":""},null,"",{"$f":"IF(LEN(A211)=0,\"\",IF(OR(LEN(B211)=0,LEN(C211)=0,LEN(D211)=0,LEN(E211)=0,LEN(F211)=0,LEN(G211)=0),\"no HVI data\",IF('Base Values'!$B$6+(SUM($N211:$R211)/100)<0,0,'Base Values'!$B$6+(SUM(N211:R211)/100))))","v":""},null,{"$f":"IF(LEN(A211)=0,\"\",IF(LEN(H211)=0,INDEX(Ext!$A$1:$G$5,MATCH(0,Ext!$A$1:$A$5,0),MATCH(H$7,Ext!$A$2:$E$2,0)),IF(AND(H211>=0,H211<3),INDEX(Ext!$A$1:$G$5,MATCH(H211,Ext!$A$1:$A$5,0),MATCH(H$7,Ext!$A$2:$E$2,0)),\"invalid entry\")))","v":""},{"$f":"IF(LEN(B211)=0,\"\",IF(LEN(I211)=0,INDEX(Ext!$A$1:$G$5,MATCH(0,Ext!$A$1:$A$5,0),MATCH(I$7,Ext!$A$2:$E$2,0)),IF(AND(I211>=0,I211<3),INDEX(Ext!$A$1:$G$5,MATCH(I211,Ext!$A$1:$A$5,0),MATCH(I$7,Ext!$A$2:$E$2,0)),\"invalid entry\")))","v":""},{"$f":"IF(LEN(C211)=0,\"\",IF(LEN(J211)=0,INDEX(Ext!$A$1:$G$5,MATCH(0,Ext!$A$1:$A$5,0),MATCH(J$7,Ext!$A$2:$E$2,0)),IF(AND(J211>=0,J211<3),INDEX(Ext!$A$1:$G$5,MATCH(J211,Ext!$A$1:$A$5,0),MATCH(J$7,Ext!$A$2:$E$2,0)),\"invalid entry\")))","v":""}]
[null,null,null,null,null,null,null,null,null,null,null,{"$f":"IF(LEN(A212)=0,\"\",IF(LEN(E212)=0,\"HVI data needed\",INDEX('Staple Lookup'!$C$3:$C$100,MATCH(TRUE,'Staple Lookup'!$B$3:$B$100>=ROUND(E212,2),0))))","v":""},null,{"$f":"IF(OR(LEN(B212)=0,LEN(C212)=0,LEN(D212)=0),\"\",IF(AND(RIGHT(B212,1)*1=1,C212=8),-2000,IF(L212>=38,AB212,IF(L212<=31,AC212,AE212))))","v":""},{"$f":"IF(LEN(A212)=0,\"\",INDEX(Str!$C$1:$C$20,MATCH(ROUND(F212,1),Str!$A$1:$A$20,1)))","v":""},"","",{"$f":"IF(LEN(A212)=0,\"\",INDEX(Uni!$C$1:$C$20,MATCH(ROUND($G212,1),Uni!$A$1:$A$20,1)))","v":""},null,"",{"$f":"IF(LEN(A212)=0,\"\",IF(OR(LEN(B212)=0,LEN(C212)=0,LEN(D212)=0,LEN(E212)=0,LEN(F212)=0,LEN(G212)=0),\"no HVI data\",IF('Base Values'!$B$6+(SUM($N212:$R212)/100)<0,0,'Base Values'!$B$6+(SUM(N212:R212)/100))))","v":""},null,{"$f":"IF(LEN(A212)=0,\"\",IF(LEN(H212)=0,INDEX(Ext!$A$1:$G$5,MATCH(0,Ext!$A$1:$A$5,0),MATCH(H$7,Ext!$A$2:$E$2,0)),IF(AND(H212>=0,H212<3),INDEX(Ext!$A$1:$G$5,MATCH(H212,Ext!$A$1:$A$5,0),MATCH(H$7,Ext!$A$2:$E$2,0)),\"invalid entry\")))","v":""},{"$f":"IF(LEN(B212)=0,\"\",IF(LEN(I212)=0,INDEX(Ext!$A$1:$G$5,MATCH(0,Ext!$A$1:$A$5,0),MATCH(I$7,Ext!$A$2:$E$2,0)),IF(AND(I212>=0,I212<3),INDEX(Ext!$A$1:$G$5,MATCH(I212,Ext!$A$1:$A$5,0),MATCH(I$7,Ext!$A$2:$E$2,0)),\"invalid entry\")))","v":""},{"$f":"IF(LEN(C212)=0,\"\",IF(LEN(J212)=0,INDEX(Ext!$A$1:$G$5,MATCH(0,Ext!$A$1:$A$5,0),MATCH(J$7,Ext!$A$2:$E$2,0)),IF(AND(J212>=0,J212<3),INDEX(Ext!$A$1:$G$5,MATCH(J212,Ext!$A$1:$A$5,0),MATCH(J$7,Ext!$A$2:$E$2,0)),\"invalid entry\")))","v":""}]
[null,null,null,null,null,null,null,null,null,null,null,{"$f":"IF(LEN(A213)=0,\"\",IF(LEN(E213)=0,\"HVI data needed\",INDEX('Staple Lookup'!$C$3:$C$100,MATCH(TRUE,'Staple Lookup'!$B$3:$B$100>=ROUND(E213,2),0))))","v":""},null,{"$f":"IF(OR(LEN(B213)=0,LEN(C213)=0,LEN(D213)=0),\"\",IF(AND(RIGHT(B213,1)*1=1,C213=8),-2000,IF(L213>=38,AB213,IF(L213<=31,AC213,AE213))))","v":""},{"$f":"IF(LEN(A213)=0,\"\",INDEX(Str!$C$1:$C$20,MATCH(ROUND(F213,1),Str!$A$1:$A$20,1)))","v":""},"","",{"$f":"IF(LEN(A213)=0,\"\",INDEX(Uni!$C$1:$C$20,MATCH(ROUND($G213,1),Uni!$A$1:$A$20,1)))","v":""},null,"",{"$f":"IF(LEN(A213)=0,\"\",IF(OR(LEN(B213)=0,LEN(C213)=0,LEN(D213)=0,LEN(E213)=0,LEN(F213)=0,LEN(G213)=0),\"no HVI data\",IF('Base Values'!$B$6+(SUM($N213:$R213)/100)<0,0,'Base Values'!$B$6+(SUM(N213:R213)/100))))","v":""},null,{"$f":"IF(LEN(A213)=0,\"\",IF(LEN(H213)=0,INDEX(Ext!$A$1:$G$5,MATCH(0,Ext!$A$1:$A$5,0),MATCH(H$7,Ext!$A$2:$E$2,0)),IF(AND(H213>=0,H213<3),INDEX(Ext!$A$1:$G$5,MATCH(H213,Ext!$A$1:$A$5,0),MATCH(H$7,Ext!$A$2:$E$2,0)),\"invalid entry\")))","v":""},{"$f":"IF(LEN(B213)=0,\"\",IF(LEN(I213)=0,INDEX(Ext!$A$1:$G$5,MATCH(0,Ext!$A$1:$A$5,0),MATCH(I$7,Ext!$A$2:$E$2,0)),IF(AND(I213>=0,I213<3),INDEX(Ext!$A$1:$G$5,MATCH(I213,Ext!$A$1:$A$5,0),MATCH(I$7,Ext!$A$2:$E$2,0)),\"invalid entry\")))","v":""},{"$f":"IF(LEN(C213)=0,\"\",IF(LEN(J213)=0,INDEX(Ext!$A$1:$G$5,MATCH(0,Ext!$A$1:$A$5,0),MATCH(J$7,Ext!$A$2:$E$2,0)),IF(AND(J213>=0,J213<3),INDEX(Ext!$A$1:$G$5,MATCH(J213,Ext!$A$1:$A$5,0),MATCH(J$7,Ext!$A$2:$E$2,0)),\"invalid entry\")))","v":""}]
[null,null,null,null,null,null,null,null,null,null,null,{"$f":"IF(LEN(A214)=0,\"\",IF(LEN(E214)=0,\"HVI data needed\",INDEX('Staple Lookup'!$C$3:$C$100,MATCH(TRUE,'Staple Lookup'!$B$3:$B$100>=ROUND(E214,2),0))))","v":""},null,{"$f":"IF(OR(LEN(B214)=0,LEN(C214)=0,LEN(D214)=0),\"\",IF(AND(RIGHT(B214,1)*1=1,C214=8),-2000,IF(L214>=38,AB214,IF(L214<=31,AC214,AE214))))","v":""},{"$f":"IF(LEN(A214)=0,\"\",INDEX(Str!$C$1:$C$20,MATCH(ROUND(F214,1),Str!$A$1:$A$20,1)))","v":""},"","",{"$f":"IF(LEN(A214)=0,\"\",INDEX(Uni!$C$1:$C$20,MATCH(ROUND($G214,1),Uni!$A$1:$A$20,1)))","v":""},null,"",{"$f":"IF(LEN(A214)=0,\"\",IF(OR(LEN(B214)=0,LEN(C214)=0,LEN(D214)=0,LEN(E214)=0,LEN(F214)=0,LEN(G214)=0),\"no HVI data\",IF('Base Values'!$B$6+(SUM($N214:$R214)/100)<0,0,'Base Values'!$B$6+(SUM(N214:R214)/100))))","v":""},null,{"$f":"IF(LEN(A214)=0,\"\",IF(LEN(H214)=0,INDEX(Ext!$A$1:$G$5,MATCH(0,Ext!$A$1:$A$5,0),MATCH(H$7,Ext!$A$2:$E$2,0)),IF(AND(H214>=0,H214<3),INDEX(Ext!$A$1:$G$5,MATCH(H214,Ext!$A$1:$A$5,0),MATCH(H$7,Ext!$A$2:$E$2,0)),\"invalid entry\")))","v":""},{"$f":"IF(LEN(B214)=0,\"\",IF(LEN(I214)=0,INDEX(Ext!$A$1:$G$5,MATCH(0,Ext!$A$1:$A$5,0),MATCH(I$7,Ext!$A$2:$E$2,0)),IF(AND(I214>=0,I214<3),INDEX(Ext!$A$1:$G$5,MATCH(I214,Ext!$A$1:$A$5,0),MATCH(I$7,Ext!$A$2:$E$2,0)),\"invalid entry\")))","v":""},{"$f":"IF(LEN(C214)=0,\"\",IF(LEN(J214)=0,INDEX(Ext!$A$1:$G$5,MATCH(0,Ext!$A$1:$A$5,0),MATCH(J$7,Ext!$A$2:$E$2,0)),IF(AND(J214>=0,J214<3),INDEX(Ext!$A$1:$G$5,MATCH(J214,Ext!$A$1:$A$5,0),MATCH(J$7,Ext!$A$2:$E$2,0)),\"invalid entry\")))","v":""}]
[null,null,null,null,null,null,null,null,null,null,null,{"$f":"IF(LEN(A215)=0,\"\",IF(LEN(E215)=0,\"HVI data needed\",INDEX('Staple Lookup'!$C$3:$C$100,MATCH(TRUE,'Staple Lookup'!$B$3:$B$100>=ROUND(E215,2),0))))","v":""},null,{"$f":"IF(OR(LEN(B215)=0,LEN(C215)=0,LEN(D215)=0),\"\",IF(AND(RIGHT(B215,1)*1=1,C215=8),-2000,IF(L215>=38,AB215,IF(L215<=31,AC215,AE215))))","v":""},{"$f":"IF(LEN(A215)=0,\"\",INDEX(Str!$C$1:$C$20,MATCH(ROUND(F215,1),Str!$A$1:$A$20,1)))","v":""},"","",{"$f":"IF(LEN(A215)=0,\"\",INDEX(Uni!$C$1:$C$20,MATCH(ROUND($G215,1),Uni!$A$1:$A$20,1)))","v":""},null,"",{"$f":"IF(LEN(A215)=0,\"\",IF(OR(LEN(B215)=0,LEN(C215)=0,LEN(D215)=0,LEN(E215)=0,LEN(F215)=0,LEN(G215)=0),\"no HVI data\",IF('Base Values'!$B$6+(SUM($N215:$R215)/100)<0,0,'Base Values'!$B$6+(SUM(N215:R215)/100))))","v":""},null,{"$f":"IF(LEN(A215)=0,\"\",IF(LEN(H215)=0,INDEX(Ext!$A$1:$G$5,MATCH(0,Ext!$A$1:$A$5,0),MATCH(H$7,Ext!$A$2:$E$2,0)),IF(AND(H215>=0,H215<3),INDEX(Ext!$A$1:$G$5,MATCH(H215,Ext!$A$1:$A$5,0),MATCH(H$7,Ext!$A$2:$E$2,0)),\"invalid entry\")))","v":""},{"$f":"IF(LEN(B215)=0,\"\",IF(LEN(I215)=0,INDEX(Ext!$A$1:$G$5,MATCH(0,Ext!$A$1:$A$5,0),MATCH(I$7,Ext!$A$2:$E$2,0)),IF(AND(I215>=0,I215<3),INDEX(Ext!$A$1:$G$5,MATCH(I215,Ext!$A$1:$A$5,0),MATCH(I$7,Ext!$A$2:$E$2,0)),\"invalid entry\")))","v":""},{"$f":"IF(LEN(C215)=0,\"\",IF(LEN(J215)=0,INDEX(Ext!$A$1:$G$5,MATCH(0,Ext!$A$1:$A$5,0),MATCH(J$7,Ext!$A$2:$E$2,0)),IF(AND(J215>=0,J215<3),INDEX(Ext!$A$1:$G$5,MATCH(J215,Ext!$A$1:$A$5,0),MATCH(J$7,Ext!$A$2:$E$2,0)),\"invalid entry\")))","v":""}]
[null,null,null,null,null,null,null,null,null,null,null,{"$f":"IF(LEN(A216)=0,\"\",IF(LEN(E216)=0,\"HVI data needed\",INDEX('Staple Lookup'!$C$3:$C$100,MATCH(TRUE,'Staple Lookup'!$B$3:$B$100>=ROUND(E216,2),0))))","v":""},null,{"$f":"IF(OR(LEN(B216)=0,LEN(C216)=0,LEN(D216)=0),\"\",IF(AND(RIGHT(B216,1)*1=1,C216=8),-2000,IF(L216>=38,AB216,IF(L216<=31,AC216,AE216))))","v":""},{"$f":"IF(LEN(A216)=0,\"\",INDEX(Str!$C$1:$C$20,MATCH(ROUND(F216,1),Str!$A$1:$A$20,1)))","v":""},"","",{"$f":"IF(LEN(A216)=0,\"\",INDEX(Uni!$C$1:$C$20,MATCH(ROUND($G216,1),Uni!$A$1:$A$20,1)))","v":""},null,"",{"$f":"IF(LEN(A216)=0,\"\",IF(OR(LEN(B216)=0,LEN(C216)=0,LEN(D216)=0,LEN(E216)=0,LEN(F216)=0,LEN(G216)=0),\"no HVI data\",IF('Base Values'!$B$6+(SUM($N216:$R216)/100)<0,0,'Base Values'!$B$6+(SUM(N216:R216)/100))))","v":""},null,{"$f":"IF(LEN(A216)=0,\"\",IF(LEN(H216)=0,INDEX(Ext!$A$1:$G$5,MATCH(0,Ext!$A$1:$A$5,0),MATCH(H$7,Ext!$A$2:$E$2,0)),IF(AND(H216>=0,H216<3),INDEX(Ext!$A$1:$G$5,MATCH(H216,Ext!$A$1:$A$5,0),MATCH(H$7,Ext!$A$2:$E$2,0)),\"invalid entry\")))","v":""},{"$f":"IF(LEN(B216)=0,\"\",IF(LEN(I216)=0,INDEX(Ext!$A$1:$G$5,MATCH(0,Ext!$A$1:$A$5,0),MATCH(I$7,Ext!$A$2:$E$2,0)),IF(AND(I216>=0,I216<3),INDEX(Ext!$A$1:$G$5,MATCH(I216,Ext!$A$1:$A$5,0),MATCH(I$7,Ext!$A$2:$E$2,0)),\"invalid entry\")))","v":""},{"$f":"IF(LEN(C216)=0,\"\",IF(LEN(J216)=0,INDEX(Ext!$A$1:$G$5,MATCH(0,Ext!$A$1:$A$5,0),MATCH(J$7,Ext!$A$2:$E$2,0)),IF(AND(J216>=0,J216<3),INDEX(Ext!$A$1:$G$5,MATCH(J216,Ext!$A$1:$A$5,0),MATCH(J$7,Ext!$A$2:$E$2,0)),\"invalid entry\")))","v":""}]
[null,null,null,null,null,null,null,null,null,null,null,{"$f":"IF(LEN(A217)=0,\"\",IF(LEN(E217)=0,\"HVI data needed\",INDEX('Staple Lookup'!$C$3:$C$100,MATCH(TRUE,'Staple Lookup'!$B$3:$B$100>=ROUND(E217,2),0))))","v":""},null,{"$f":"IF(OR(LEN(B217)=0,LEN(C217)=0,LEN(D217)=0),\"\",IF(AND(RIGHT(B217,1)*1=1,C217=8),-2000,IF(L217>=38,AB217,IF(L217<=31,AC217,AE217))))","v":""},{"$f":"IF(LEN(A217)=0,\"\",INDEX(Str!$C$1:$C$20,MATCH(ROUND(F217,1),Str!$A$1:$A$20,1)))","v":""},"","",{"$f":"IF(LEN(A217)=0,\"\",INDEX(Uni!$C$1:$C$20,MATCH(ROUND($G217,1),Uni!$A$1:$A$20,1)))","v":""},null,"",{"$f":"IF(LEN(A217)=0,\"\",IF(OR(LEN(B217)=0,LEN(C217)=0,LEN(D217)=0,LEN(E217)=0,LEN(F217)=0,LEN(G217)=0),\"no HVI data\",IF('Base Values'!$B$6+(SUM($N217:$R217)/100)<0,0,'Base Values'!$B$6+(SUM(N217:R217)/100))))","v":""},null,{"$f":"IF(LEN(A217)=0,\"\",IF(LEN(H217)=0,INDEX(Ext!$A$1:$G$5,MATCH(0,Ext!$A$1:$A$5,0),MATCH(H$7,Ext!$A$2:$E$2,0)),IF(AND(H217>=0,H217<3),INDEX(Ext!$A$1:$G$5,MATCH(H217,Ext!$A$1:$A$5,0),MATCH(H$7,Ext!$A$2:$E$2,0)),\"invalid entry\")))","v":""},{"$f":"IF(LEN(B217)=0,\"\",IF(LEN(I217)=0,INDEX(Ext!$A$1:$G$5,MATCH(0,Ext!$A$1:$A$5,0),MATCH(I$7,Ext!$A$2:$E$2,0)),IF(AND(I217>=0,I217<3),INDEX(Ext!$A$1:$G$5,MATCH(I217,Ext!$A$1:$A$5,0),MATCH(I$7,Ext!$A$2:$E$2,0)),\"invalid entry\")))","v":""},{"$f":"IF(LEN(C217)=0,\"\",IF(LEN(J217)=0,INDEX(Ext!$A$1:$G$5,MATCH(0,Ext!$A$1:$A$5,0),MATCH(J$7,Ext!$A$2:$E$2,0)),IF(AND(J217>=0,J217<3),INDEX(Ext!$A$1:$G$5,MATCH(J217,Ext!$A$1:$A$5,0),MATCH(J$7,Ext!$A$2:$E$2,0)),\"invalid entry\")))","v":""}]
[null,null,null,null,null,null,null,null,null,null,null,{"$f":"IF(LEN(A218)=0,\"\",IF(LEN(E218)=0,\"HVI data needed\",INDEX('Staple Lookup'!$C$3:$C$100,MATCH(TRUE,'Staple Lookup'!$B$3:$B$100>=ROUND(E218,2),0))))","v":""},null,{"$f":"IF(OR(LEN(B218)=0,LEN(C218)=0,LEN(D218)=0),\"\",IF(AND(RIGHT(B218,1)*1=1,C218=8),-2000,IF(L218>=38,AB218,IF(L218<=31,AC218,AE218))))","v":""},{"$f":"IF(LEN(A218)=0,\"\",INDEX(Str!$C$1:$C$20,MATCH(ROUND(F218,1),Str!$A$1:$A$20,1)))","v":""},"","",{"$f":"IF(LEN(A218)=0,\"\",INDEX(Uni!$C$1:$C$20,MATCH(ROUND($G218,1),Uni!$A$1:$A$20,1)))","v":""},null,"",{"$f":"IF(LEN(A218)=0,\"\",IF(OR(LEN(B218)=0,LEN(C218)=0,LEN(D218)=0,LEN(E218)=0,LEN(F218)=0,LEN(G218)=0),\"no HVI data\",IF('Base Values'!$B$6+(SUM($N218:$R218)/100)<0,0,'Base Values'!$B$6+(SUM(N218:R218)/100))))","v":""},null,{"$f":"IF(LEN(A218)=0,\"\",IF(LEN(H218)=0,INDEX(Ext!$A$1:$G$5,MATCH(0,Ext!$A$1:$A$5,0),MATCH(H$7,Ext!$A$2:$E$2,0)),IF(AND(H218>=0,H218<3),INDEX(Ext!$A$1:$G$5,MATCH(H218,Ext!$A$1:$A$5,0),MATCH(H$7,Ext!$A$2:$E$2,0)),\"invalid entry\")))","v":""},{"$f":"IF(LEN(B218)=0,\"\",IF(LEN(I218)=0,INDEX(Ext!$A$1:$G$5,MATCH(0,Ext!$A$1:$A$5,0),MATCH(I$7,Ext!$A$2:$E$2,0)),IF(AND(I218>=0,I218<3),INDEX(Ext!$A$1:$G$5,MATCH(I218,Ext!$A$1:$A$5,0),MATCH(I$7,Ext!$A$2:$E$2,0)),\"invalid entry\")))","v":""},{"$f":"IF(LEN(C218)=0,\"\",IF(LEN(J218)=0,INDEX(Ext!$A$1:$G$5,MATCH(0,Ext!$A$1:$A$5,0),MATCH(J$7,Ext!$A$2:$E$2,0)),IF(AND(J218>=0,J218<3),INDEX(Ext!$A$1:$G$5,MATCH(J218,Ext!$A$1:$A$5,0),MATCH(J$7,Ext!$A$2:$E$2,0)),\"invalid entry\")))","v":""}]
[null,null,null,null,null,null,null,null,null,null,null,{"$f":"IF(LEN(A219)=0,\"\",IF(LEN(E219)=0,\"HVI data needed\",INDEX('Staple Lookup'!$C$3:$C$100,MATCH(TRUE,'Staple Lookup'!$B$3:$B$100>=ROUND(E219,2),0))))","v":""},null,{"$f":"IF(OR(LEN(B219)=0,LEN(C219)=0,LEN(D219)=0),\"\",IF(AND(RIGHT(B219,1)*1=1,C219=8),-2000,IF(L219>=38,AB219,IF(L219<=31,AC219,AE219))))","v":""},{"$f":"IF(LEN(A219)=0,\"\",INDEX(Str!$C$1:$C$20,MATCH(ROUND(F219,1),Str!$A$1:$A$20,1)))","v":""},"","",{"$f":"IF(LEN(A219)=0,\"\",INDEX(Uni!$C$1:$C$20,MATCH(ROUND($G219,1),Uni!$A$1:$A$20,1)))","v":""},null,"",{"$f":"IF(LEN(A219)=0,\"\",IF(OR(LEN(B219)=0,LEN(C219)=0,LEN(D219)=0,LEN(E219)=0,LEN(F219)=0,LEN(G219)=0),\"no HVI data\",IF('Base Values'!$B$6+(SUM($N219:$R219)/100)<0,0,'Base Values'!$B$6+(SUM(N219:R219)/100))))","v":""},null,{"$f":"IF(LEN(A219)=0,\"\",IF(LEN(H219)=0,INDEX(Ext!$A$1:$G$5,MATCH(0,Ext!$A$1:$A$5,0),MATCH(H$7,Ext!$A$2:$E$2,0)),IF(AND(H219>=0,H219<3),INDEX(Ext!$A$1:$G$5,MATCH(H219,Ext!$A$1:$A$5,0),MATCH(H$7,Ext!$A$2:$E$2,0)),\"invalid entry\")))","v":""},{"$f":"IF(LEN(B219)=0,\"\",IF(LEN(I219)=0,INDEX(Ext!$A$1:$G$5,MATCH(0,Ext!$A$1:$A$5,0),MATCH(I$7,Ext!$A$2:$E$2,0)),IF(AND(I219>=0,I219<3),INDEX(Ext!$A$1:$G$5,MATCH(I219,Ext!$A$1:$A$5,0),MATCH(I$7,Ext!$A$2:$E$2,0)),\"invalid entry\")))","v":""},{"$f":"IF(LEN(C219)=0,\"\",IF(LEN(J219)=0,INDEX(Ext!$A$1:$G$5,MATCH(0,Ext!$A$1:$A$5,0),MATCH(J$7,Ext!$A$2:$E$2,0)),IF(AND(J219>=0,J219<3),INDEX(Ext!$A$1:$G$5,MATCH(J219,Ext!$A$1:$A$5,0),MATCH(J$7,Ext!$A$2:$E$2,0)),\"invalid entry\")))","v":""}]
[null,null,null,null,null,null,null,null,null,null,null,{"$f":"IF(LEN(A220)=0,\"\",IF(LEN(E220)=0,\"HVI data needed\",INDEX('Staple Lookup'!$C$3:$C$100,MATCH(TRUE,'Staple Lookup'!$B$3:$B$100>=ROUND(E220,2),0))))","v":""},null,{"$f":"IF(OR(LEN(B220)=0,LEN(C220)=0,LEN(D220)=0),\"\",IF(AND(RIGHT(B220,1)*1=1,C220=8),-2000,IF(L220>=38,AB220,IF(L220<=31,AC220,AE220))))","v":""},{"$f":"IF(LEN(A220)=0,\"\",INDEX(Str!$C$1:$C$20,MATCH(ROUND(F220,1),Str!$A$1:$A$20,1)))","v":""},"","",{"$f":"IF(LEN(A220)=0,\"\",INDEX(Uni!$C$1:$C$20,MATCH(ROUND($G220,1),Uni!$A$1:$A$20,1)))","v":""},null,"",{"$f":"IF(LEN(A220)=0,\"\",IF(OR(LEN(B220)=0,LEN(C220)=0,LEN(D220)=0,LEN(E220)=0,LEN(F220)=0,LEN(G220)=0),\"no HVI data\",IF('Base Values'!$B$6+(SUM($N220:$R220)/100)<0,0,'Base Values'!$B$6+(SUM(N220:R220)/100))))","v":""},null,{"$f":"IF(LEN(A220)=0,\"\",IF(LEN(H220)=0,INDEX(Ext!$A$1:$G$5,MATCH(0,Ext!$A$1:$A$5,0),MATCH(H$7,Ext!$A$2:$E$2,0)),IF(AND(H220>=0,H220<3),INDEX(Ext!$A$1:$G$5,MATCH(H220,Ext!$A$1:$A$5,0),MATCH(H$7,Ext!$A$2:$E$2,0)),\"invalid entry\")))","v":""},{"$f":"IF(LEN(B220)=0,\"\",IF(LEN(I220)=0,INDEX(Ext!$A$1:$G$5,MATCH(0,Ext!$A$1:$A$5,0),MATCH(I$7,Ext!$A$2:$E$2,0)),IF(AND(I220>=0,I220<3),INDEX(Ext!$A$1:$G$5,MATCH(I220,Ext!$A$1:$A$5,0),MATCH(I$7,Ext!$A$2:$E$2,0)),\"invalid entry\")))","v":""},{"$f":"IF(LEN(C220)=0,\"\",IF(LEN(J220)=0,INDEX(Ext!$A$1:$G$5,MATCH(0,Ext!$A$1:$A$5,0),MATCH(J$7,Ext!$A$2:$E$2,0)),IF(AND(J220>=0,J220<3),INDEX(Ext!$A$1:$G$5,MATCH(J220,Ext!$A$1:$A$5,0),MATCH(J$7,Ext!$A$2:$E$2,0)),\"invalid entry\")))","v":""}]
[null,null,null,null,null,null,null,null,null,null,null,{"$f":"IF(LEN(A221)=0,\"\",IF(LEN(E221)=0,\"HVI data needed\",INDEX('Staple Lookup'!$C$3:$C$100,MATCH(TRUE,'Staple Lookup'!$B$3:$B$100>=ROUND(E221,2),0))))","v":""},null,{"$f":"IF(OR(LEN(B221)=0,LEN(C221)=0,LEN(D221)=0),\"\",IF(AND(RIGHT(B221,1)*1=1,C221=8),-2000,IF(L221>=38,AB221,IF(L221<=31,AC221,AE221))))","v":""},{"$f":"IF(LEN(A221)=0,\"\",INDEX(Str!$C$1:$C$20,MATCH(ROUND(F221,1),Str!$A$1:$A$20,1)))","v":""},"","",{"$f":"IF(LEN(A221)=0,\"\",INDEX(Uni!$C$1:$C$20,MATCH(ROUND($G221,1),Uni!$A$1:$A$20,1)))","v":""},null,"",{"$f":"IF(LEN(A221)=0,\"\",IF(OR(LEN(B221)=0,LEN(C221)=0,LEN(D221)=0,LEN(E221)=0,LEN(F221)=0,LEN(G221)=0),\"no HVI data\",IF('Base Values'!$B$6+(SUM($N221:$R221)/100)<0,0,'Base Values'!$B$6+(SUM(N221:R221)/100))))","v":""},null,{"$f":"IF(LEN(A221)=0,\"\",IF(LEN(H221)=0,INDEX(Ext!$A$1:$G$5,MATCH(0,Ext!$A$1:$A$5,0),MATCH(H$7,Ext!$A$2:$E$2,0)),IF(AND(H221>=0,H221<3),INDEX(Ext!$A$1:$G$5,MATCH(H221,Ext!$A$1:$A$5,0),MATCH(H$7,Ext!$A$2:$E$2,0)),\"invalid entry\")))","v":""},{"$f":"IF(LEN(B221)=0,\"\",IF(LEN(I221)=0,INDEX(Ext!$A$1:$G$5,MATCH(0,Ext!$A$1:$A$5,0),MATCH(I$7,Ext!$A$2:$E$2,0)),IF(AND(I221>=0,I221<3),INDEX(Ext!$A$1:$G$5,MATCH(I221,Ext!$A$1:$A$5,0),MATCH(I$7,Ext!$A$2:$E$2,0)),\"invalid entry\")))","v":""},{"$f":"IF(LEN(C221)=0,\"\",IF(LEN(J221)=0,INDEX(Ext!$A$1:$G$5,MATCH(0,Ext!$A$1:$A$5,0),MATCH(J$7,Ext!$A$2:$E$2,0)),IF(AND(J221>=0,J221<3),INDEX(Ext!$A$1:$G$5,MATCH(J221,Ext!$A$1:$A$5,0),MATCH(J$7,Ext!$A$2:$E$2,0)),\"invalid entry\")))","v":""}]
[null,null,null,null,null,null,null,null,null,null,null,{"$f":"IF(LEN(A222)=0,\"\",IF(LEN(E222)=0,\"HVI data needed\",INDEX('Staple Lookup'!$C$3:$C$100,MATCH(TRUE,'Staple Lookup'!$B$3:$B$100>=ROUND(E222,2),0))))","v":""},null,{"$f":"IF(OR(LEN(B222)=0,LEN(C222)=0,LEN(D222)=0),\"\",IF(AND(RIGHT(B222,1)*1=1,C222=8),-2000,IF(L222>=38,AB222,IF(L222<=31,AC222,AE222))))","v":""},{"$f":"IF(LEN(A222)=0,\"\",INDEX(Str!$C$1:$C$20,MATCH(ROUND(F222,1),Str!$A$1:$A$20,1)))","v":""},"","",{"$f":"IF(LEN(A222)=0,\"\",INDEX(Uni!$C$1:$C$20,MATCH(ROUND($G222,1),Uni!$A$1:$A$20,1)))","v":""},null,"",{"$f":"IF(LEN(A222)=0,\"\",IF(OR(LEN(B222)=0,LEN(C222)=0,LEN(D222)=0,LEN(E222)=0,LEN(F222)=0,LEN(G222)=0),\"no HVI data\",IF('Base Values'!$B$6+(SUM($N222:$R222)/100)<0,0,'Base Values'!$B$6+(SUM(N222:R222)/100))))","v":""},null,{"$f":"IF(LEN(A222)=0,\"\",IF(LEN(H222)=0,INDEX(Ext!$A$1:$G$5,MATCH(0,Ext!$A$1:$A$5,0),MATCH(H$7,Ext!$A$2:$E$2,0)),IF(AND(H222>=0,H222<3),INDEX(Ext!$A$1:$G$5,MATCH(H222,Ext!$A$1:$A$5,0),MATCH(H$7,Ext!$A$2:$E$2,0)),\"invalid entry\")))","v":""},{"$f":"IF(LEN(B222)=0,\"\",IF(LEN(I222)=0,INDEX(Ext!$A$1:$G$5,MATCH(0,Ext!$A$1:$A$5,0),MATCH(I$7,Ext!$A$2:$E$2,0)),IF(AND(I222>=0,I222<3),INDEX(Ext!$A$1:$G$5,MATCH(I222,Ext!$A$1:$A$5,0),MATCH(I$7,Ext!$A$2:$E$2,0)),\"invalid entry\")))","v":""},{"$f":"IF(LEN(C222)=0,\"\",IF(LEN(J222)=0,INDEX(Ext!$A$1:$G$5,MATCH(0,Ext!$A$1:$A$5,0),MATCH(J$7,Ext!$A$2:$E$2,0)),IF(AND(J222>=0,J222<3),INDEX(Ext!$A$1:$G$5,MATCH(J222,Ext!$A$1:$A$5,0),MATCH(J$7,Ext!$A$2:$E$2,0)),\"invalid entry\")))","v":""}]
[null,null,null,null,null,null,null,null,null,null,null,{"$f":"IF(LEN(A223)=0,\"\",IF(LEN(E223)=0,\"HVI data needed\",INDEX('Staple Lookup'!$C$3:$C$100,MATCH(TRUE,'Staple Lookup'!$B$3:$B$100>=ROUND(E223,2),0))))","v":""},null,{"$f":"IF(OR(LEN(B223)=0,LEN(C223)=0,LEN(D223)=0),\"\",IF(AND(RIGHT(B223,1)*1=1,C223=8),-2000,IF(L223>=38,AB223,IF(L223<=31,AC223,AE223))))","v":""},{"$f":"IF(LEN(A223)=0,\"\",INDEX(Str!$C$1:$C$20,MATCH(ROUND(F223,1),Str!$A$1:$A$20,1)))","v":""},"","",{"$f":"IF(LEN(A223)=0,\"\",INDEX(Uni!$C$1:$C$20,MATCH(ROUND($G223,1),Uni!$A$1:$A$20,1)))","v":""},null,"",{"$f":"IF(LEN(A223)=0,\"\",IF(OR(LEN(B223)=0,LEN(C223)=0,LEN(D223)=0,LEN(E223)=0,LEN(F223)=0,LEN(G223)=0),\"no HVI data\",IF('Base Values'!$B$6+(SUM($N223:$R223)/100)<0,0,'Base Values'!$B$6+(SUM(N223:R223)/100))))","v":""},null,{"$f":"IF(LEN(A223)=0,\"\",IF(LEN(H223)=0,INDEX(Ext!$A$1:$G$5,MATCH(0,Ext!$A$1:$A$5,0),MATCH(H$7,Ext!$A$2:$E$2,0)),IF(AND(H223>=0,H223<3),INDEX(Ext!$A$1:$G$5,MATCH(H223,Ext!$A$1:$A$5,0),MATCH(H$7,Ext!$A$2:$E$2,0)),\"invalid entry\")))","v":""},{"$f":"IF(LEN(B223)=0,\"\",IF(LEN(I223)=0,INDEX(Ext!$A$1:$G$5,MATCH(0,Ext!$A$1:$A$5,0),MATCH(I$7,Ext!$A$2:$E$2,0)),IF(AND(I223>=0,I223<3),INDEX(Ext!$A$1:$G$5,MATCH(I223,Ext!$A$1:$A$5,0),MATCH(I$7,Ext!$A$2:$E$2,0)),\"invalid entry\")))","v":""},{"$f":"IF(LEN(C223)=0,\"\",IF(LEN(J223)=0,INDEX(Ext!$A$1:$G$5,MATCH(0,Ext!$A$1:$A$5,0),MATCH(J$7,Ext!$A$2:$E$2,0)),IF(AND(J223>=0,J223<3),INDEX(Ext!$A$1:$G$5,MATCH(J223,Ext!$A$1:$A$5,0),MATCH(J$7,Ext!$A$2:$E$2,0)),\"invalid entry\")))","v":""}]
[null,null,null,null,null,null,null,null,null,null,null,{"$f":"IF(LEN(A224)=0,\"\",IF(LEN(E224)=0,\"HVI data needed\",INDEX('Staple Lookup'!$C$3:$C$100,MATCH(TRUE,'Staple Lookup'!$B$3:$B$100>=ROUND(E224,2),0))))","v":""},null,{"$f":"IF(OR(LEN(B224)=0,LEN(C224)=0,LEN(D224)=0),\"\",IF(AND(RIGHT(B224,1)*1=1,C224=8),-2000,IF(L224>=38,AB224,IF(L224<=31,AC224,AE224))))","v":""},{"$f":"IF(LEN(A224)=0,\"\",INDEX(Str!$C$1:$C$20,MATCH(ROUND(F224,1),Str!$A$1:$A$20,1)))","v":""},"","",{"$f":"IF(LEN(A224)=0,\"\",INDEX(Uni!$C$1:$C$20,MATCH(ROUND($G224,1),Uni!$A$1:$A$20,1)))","v":""},null,"",{"$f":"IF(LEN(A224)=0,\"\",IF(OR(LEN(B224)=0,LEN(C224)=0,LEN(D224)=0,LEN(E224)=0,LEN(F224)=0,LEN(G224)=0),\"no HVI data\",IF('Base Values'!$B$6+(SUM($N224:$R224)/100)<0,0,'Base Values'!$B$6+(SUM(N224:R224)/100))))","v":""},null,{"$f":"IF(LEN(A224)=0,\"\",IF(LEN(H224)=0,INDEX(Ext!$A$1:$G$5,MATCH(0,Ext!$A$1:$A$5,0),MATCH(H$7,Ext!$A$2:$E$2,0)),IF(AND(H224>=0,H224<3),INDEX(Ext!$A$1:$G$5,MATCH(H224,Ext!$A$1:$A$5,0),MATCH(H$7,Ext!$A$2:$E$2,0)),\"invalid entry\")))","v":""},{"$f":"IF(LEN(B224)=0,\"\",IF(LEN(I224)=0,INDEX(Ext!$A$1:$G$5,MATCH(0,Ext!$A$1:$A$5,0),MATCH(I$7,Ext!$A$2:$E$2,0)),IF(AND(I224>=0,I224<3),INDEX(Ext!$A$1:$G$5,MATCH(I224,Ext!$A$1:$A$5,0),MATCH(I$7,Ext!$A$2:$E$2,0)),\"invalid entry\")))","v":""},{"$f":"IF(LEN(C224)=0,\"\",IF(LEN(J224)=0,INDEX(Ext!$A$1:$G$5,MATCH(0,Ext!$A$1:$A$5,0),MATCH(J$7,Ext!$A$2:$E$2,0)),IF(AND(J224>=0,J224<3),INDEX(Ext!$A$1:$G$5,MATCH(J224,Ext!$A$1:$A$5,0),MATCH(J$7,Ext!$A$2:$E$2,0)),\"invalid entry\")))","v":""}]
[null,null,null,null,null,null,null,null,null,null,null,{"$f":"IF(LEN(A225)=0,\"\",IF(LEN(E225)=0,\"HVI data needed\",INDEX('Staple Lookup'!$C$3:$C$100,MATCH(TRUE,'Staple Lookup'!$B$3:$B$100>=ROUND(E225,2),0))))","v":""},null,{"$f":"IF(OR(LEN(B225)=0,LEN(C225)=0,LEN(D225)=0),\"\",IF(AND(RIGHT(B225,1)*1=1,C225=8),-2000,IF(L225>=38,AB225,IF(L225<=31,AC225,AE225))))","v":""},{"$f":"IF(LEN(A225)=0,\"\",INDEX(Str!$C$1:$C$20,MATCH(ROUND(F225,1),Str!$A$1:$A$20,1)))","v":""},"","",{"$f":"IF(LEN(A225)=0,\"\",INDEX(Uni!$C$1:$C$20,MATCH(ROUND($G225,1),Uni!$A$1:$A$20,1)))","v":""},null,"",{"$f":"IF(LEN(A225)=0,\"\",IF(OR(LEN(B225)=0,LEN(C225)=0,LEN(D225)=0,LEN(E225)=0,LEN(F225)=0,LEN(G225)=0),\"no HVI data\",IF('Base Values'!$B$6+(SUM($N225:$R225)/100)<0,0,'Base Values'!$B$6+(SUM(N225:R225)/100))))","v":""},null,{"$f":"IF(LEN(A225)=0,\"\",IF(LEN(H225)=0,INDEX(Ext!$A$1:$G$5,MATCH(0,Ext!$A$1:$A$5,0),MATCH(H$7,Ext!$A$2:$E$2,0)),IF(AND(H225>=0,H225<3),INDEX(Ext!$A$1:$G$5,MATCH(H225,Ext!$A$1:$A$5,0),MATCH(H$7,Ext!$A$2:$E$2,0)),\"invalid entry\")))","v":""},{"$f":"IF(LEN(B225)=0,\"\",IF(LEN(I225)=0,INDEX(Ext!$A$1:$G$5,MATCH(0,Ext!$A$1:$A$5,0),MATCH(I$7,Ext!$A$2:$E$2,0)),IF(AND(I225>=0,I225<3),INDEX(Ext!$A$1:$G$5,MATCH(I225,Ext!$A$1:$A$5,0),MATCH(I$7,Ext!$A$2:$E$2,0)),\"invalid entry\")))","v":""},{"$f":"IF(LEN(C225)=0,\"\",IF(LEN(J225)=0,INDEX(Ext!$A$1:$G$5,MATCH(0,Ext!$A$1:$A$5,0),MATCH(J$7,Ext!$A$2:$E$2,0)),IF(AND(J225>=0,J225<3),INDEX(Ext!$A$1:$G$5,MATCH(J225,Ext!$A$1:$A$5,0),MATCH(J$7,Ext!$A$2:$E$2,0)),\"invalid entry\")))","v":""}]
[null,null,null,null,null,null,null,null,null,null,null,{"$f":"IF(LEN(A226)=0,\"\",IF(LEN(E226)=0,\"HVI data needed\",INDEX('Staple Lookup'!$C$3:$C$100,MATCH(TRUE,'Staple Lookup'!$B$3:$B$100>=ROUND(E226,2),0))))","v":""},null,{"$f":"IF(OR(LEN(B226)=0,LEN(C226)=0,LEN(D226)=0),\"\",IF(AND(RIGHT(B226,1)*1=1,C226=8),-2000,IF(L226>=38,AB226,IF(L226<=31,AC226,AE226))))","v":""},{"$f":"IF(LEN(A226)=0,\"\",INDEX(Str!$C$1:$C$20,MATCH(ROUND(F226,1),Str!$A$1:$A$20,1)))","v":""},"","",{"$f":"IF(LEN(A226)=0,\"\",INDEX(Uni!$C$1:$C$20,MATCH(ROUND($G226,1),Uni!$A$1:$A$20,1)))","v":""},null,"",{"$f":"IF(LEN(A226)=0,\"\",IF(OR(LEN(B226)=0,LEN(C226)=0,LEN(D226)=0,LEN(E226)=0,LEN(F226)=0,LEN(G226)=0),\"no HVI data\",IF('Base Values'!$B$6+(SUM($N226:$R226)/100)<0,0,'Base Values'!$B$6+(SUM(N226:R226)/100))))","v":""},null,{"$f":"IF(LEN(A226)=0,\"\",IF(LEN(H226)=0,INDEX(Ext!$A$1:$G$5,MATCH(0,Ext!$A$1:$A$5,0),MATCH(H$7,Ext!$A$2:$E$2,0)),IF(AND(H226>=0,H226<3),INDEX(Ext!$A$1:$G$5,MATCH(H226,Ext!$A$1:$A$5,0),MATCH(H$7,Ext!$A$2:$E$2,0)),\"invalid entry\")))","v":""},{"$f":"IF(LEN(B226)=0,\"\",IF(LEN(I226)=0,INDEX(Ext!$A$1:$G$5,MATCH(0,Ext!$A$1:$A$5,0),MATCH(I$7,Ext!$A$2:$E$2,0)),IF(AND(I226>=0,I226<3),INDEX(Ext!$A$1:$G$5,MATCH(I226,Ext!$A$1:$A$5,0),MATCH(I$7,Ext!$A$2:$E$2,0)),\"invalid entry\")))","v":""},{"$f":"IF(LEN(C226)=0,\"\",IF(LEN(J226)=0,INDEX(Ext!$A$1:$G$5,MATCH(0,Ext!$A$1:$A$5,0),MATCH(J$7,Ext!$A$2:$E$2,0)),IF(AND(J226>=0,J226<3),INDEX(Ext!$A$1:$G$5,MATCH(J226,Ext!$A$1:$A$5,0),MATCH(J$7,Ext!$A$2:$E$2,0)),\"invalid entry\")))","v":""}]
[null,null,null,null,null,null,null,null,null,null,null,{"$f":"IF(LEN(A227)=0,\"\",IF(LEN(E227)=0,\"HVI data needed\",INDEX('Staple Lookup'!$C$3:$C$100,MATCH(TRUE,'Staple Lookup'!$B$3:$B$100>=ROUND(E227,2),0))))","v":""},null,{"$f":"IF(OR(LEN(B227)=0,LEN(C227)=0,LEN(D227)=0),\"\",IF(AND(RIGHT(B227,1)*1=1,C227=8),-2000,IF(L227>=38,AB227,IF(L227<=31,AC227,AE227))))","v":""},{"$f":"IF(LEN(A227)=0,\"\",INDEX(Str!$C$1:$C$20,MATCH(ROUND(F227,1),Str!$A$1:$A$20,1)))","v":""},"","",{"$f":"IF(LEN(A227)=0,\"\",INDEX(Uni!$C$1:$C$20,MATCH(ROUND($G227,1),Uni!$A$1:$A$20,1)))","v":""},null,"",{"$f":"IF(LEN(A227)=0,\"\",IF(OR(LEN(B227)=0,LEN(C227)=0,LEN(D227)=0,LEN(E227)=0,LEN(F227)=0,LEN(G227)=0),\"no HVI data\",IF('Base Values'!$B$6+(SUM($N227:$R227)/100)<0,0,'Base Values'!$B$6+(SUM(N227:R227)/100))))","v":""},null,{"$f":"IF(LEN(A227)=0,\"\",IF(LEN(H227)=0,INDEX(Ext!$A$1:$G$5,MATCH(0,Ext!$A$1:$A$5,0),MATCH(H$7,Ext!$A$2:$E$2,0)),IF(AND(H227>=0,H227<3),INDEX(Ext!$A$1:$G$5,MATCH(H227,Ext!$A$1:$A$5,0),MATCH(H$7,Ext!$A$2:$E$2,0)),\"invalid entry\")))","v":""},{"$f":"IF(LEN(B227)=0,\"\",IF(LEN(I227)=0,INDEX(Ext!$A$1:$G$5,MATCH(0,Ext!$A$1:$A$5,0),MATCH(I$7,Ext!$A$2:$E$2,0)),IF(AND(I227>=0,I227<3),INDEX(Ext!$A$1:$G$5,MATCH(I227,Ext!$A$1:$A$5,0),MATCH(I$7,Ext!$A$2:$E$2,0)),\"invalid entry\")))","v":""},{"$f":"IF(LEN(C227)=0,\"\",IF(LEN(J227)=0,INDEX(Ext!$A$1:$G$5,MATCH(0,Ext!$A$1:$A$5,0),MATCH(J$7,Ext!$A$2:$E$2,0)),IF(AND(J227>=0,J227<3),INDEX(Ext!$A$1:$G$5,MATCH(J227,Ext!$A$1:$A$5,0),MATCH(J$7,Ext!$A$2:$E$2,0)),\"invalid entry\")))","v":""}]
[null,null,null,null,null,null,null,null,null,null,null,{"$f":"IF(LEN(A228)=0,\"\",IF(LEN(E228)=0,\"HVI data needed\",INDEX('Staple Lookup'!$C$3:$C$100,MATCH(TRUE,'Staple Lookup'!$B$3:$B$100>=ROUND(E228,2),0))))","v":""},null,{"$f":"IF(OR(LEN(B228)=0,LEN(C228)=0,LEN(D228)=0),\"\",IF(AND(RIGHT(B228,1)*1=1,C228=8),-2000,IF(L228>=38,AB228,IF(L228<=31,AC228,AE228))))","v":""},{"$f":"IF(LEN(A228)=0,\"\",INDEX(Str!$C$1:$C$20,MATCH(ROUND(F228,1),Str!$A$1:$A$20,1)))","v":""},"","",{"$f":"IF(LEN(A228)=0,\"\",INDEX(Uni!$C$1:$C$20,MATCH(ROUND($G228,1),Uni!$A$1:$A$20,1)))","v":""},null,"",{"$f":"IF(LEN(A228)=0,\"\",IF(OR(LEN(B228)=0,LEN(C228)=0,LEN(D228)=0,LEN(E228)=0,LEN(F228)=0,LEN(G228)=0),\"no HVI data\",IF('Base Values'!$B$6+(SUM($N228:$R228)/100)<0,0,'Base Values'!$B$6+(SUM(N228:R228)/100))))","v":""},null,{"$f":"IF(LEN(A228)=0,\"\",IF(LEN(H228)=0,INDEX(Ext!$A$1:$G$5,MATCH(0,Ext!$A$1:$A$5,0),MATCH(H$7,Ext!$A$2:$E$2,0)),IF(AND(H228>=0,H228<3),INDEX(Ext!$A$1:$G$5,MATCH(H228,Ext!$A$1:$A$5,0),MATCH(H$7,Ext!$A$2:$E$2,0)),\"invalid entry\")))","v":""},{"$f":"IF(LEN(B228)=0,\"\",IF(LEN(I228)=0,INDEX(Ext!$A$1:$G$5,MATCH(0,Ext!$A$1:$A$5,0),MATCH(I$7,Ext!$A$2:$E$2,0)),IF(AND(I228>=0,I228<3),INDEX(Ext!$A$1:$G$5,MATCH(I228,Ext!$A$1:$A$5,0),MATCH(I$7,Ext!$A$2:$E$2,0)),\"invalid entry\")))","v":""},{"$f":"IF(LEN(C228)=0,\"\",IF(LEN(J228)=0,INDEX(Ext!$A$1:$G$5,MATCH(0,Ext!$A$1:$A$5,0),MATCH(J$7,Ext!$A$2:$E$2,0)),IF(AND(J228>=0,J228<3),INDEX(Ext!$A$1:$G$5,MATCH(J228,Ext!$A$1:$A$5,0),MATCH(J$7,Ext!$A$2:$E$2,0)),\"invalid entry\")))","v":""}]
[null,null,null,null,null,null,null,null,null,null,null,{"$f":"IF(LEN(A229)=0,\"\",IF(LEN(E229)=0,\"HVI data needed\",INDEX('Staple Lookup'!$C$3:$C$100,MATCH(TRUE,'Staple Lookup'!$B$3:$B$100>=ROUND(E229,2),0))))","v":""},null,{"$f":"IF(OR(LEN(B229)=0,LEN(C229)=0,LEN(D229)=0),\"\",IF(AND(RIGHT(B229,1)*1=1,C229=8),-2000,IF(L229>=38,AB229,IF(L229<=31,AC229,AE229))))","v":""},{"$f":"IF(LEN(A229)=0,\"\",INDEX(Str!$C$1:$C$20,MATCH(ROUND(F229,1),Str!$A$1:$A$20,1)))","v":""},"","",{"$f":"IF(LEN(A229)=0,\"\",INDEX(Uni!$C$1:$C$20,MATCH(ROUND($G229,1),Uni!$A$1:$A$20,1)))","v":""},null,"",{"$f":"IF(LEN(A229)=0,\"\",IF(OR(LEN(B229)=0,LEN(C229)=0,LEN(D229)=0,LEN(E229)=0,LEN(F229)=0,LEN(G229)=0),\"no HVI data\",IF('Base Values'!$B$6+(SUM($N229:$R229)/100)<0,0,'Base Values'!$B$6+(SUM(N229:R229)/100))))","v":""},null,{"$f":"IF(LEN(A229)=0,\"\",IF(LEN(H229)=0,INDEX(Ext!$A$1:$G$5,MATCH(0,Ext!$A$1:$A$5,0),MATCH(H$7,Ext!$A$2:$E$2,0)),IF(AND(H229>=0,H229<3),INDEX(Ext!$A$1:$G$5,MATCH(H229,Ext!$A$1:$A$5,0),MATCH(H$7,Ext!$A$2:$E$2,0)),\"invalid entry\")))","v":""},{"$f":"IF(LEN(B229)=0,\"\",IF(LEN(I229)=0,INDEX(Ext!$A$1:$G$5,MATCH(0,Ext!$A$1:$A$5,0),MATCH(I$7,Ext!$A$2:$E$2,0)),IF(AND(I229>=0,I229<3),INDEX(Ext!$A$1:$G$5,MATCH(I229,Ext!$A$1:$A$5,0),MATCH(I$7,Ext!$A$2:$E$2,0)),\"invalid entry\")))","v":""},{"$f":"IF(LEN(C229)=0,\"\",IF(LEN(J229)=0,INDEX(Ext!$A$1:$G$5,MATCH(0,Ext!$A$1:$A$5,0),MATCH(J$7,Ext!$A$2:$E$2,0)),IF(AND(J229>=0,J229<3),INDEX(Ext!$A$1:$G$5,MATCH(J229,Ext!$A$1:$A$5,0),MATCH(J$7,Ext!$A$2:$E$2,0)),\"invalid entry\")))","v":""}]
[null,null,null,null,null,null,null,null,null,null,null,{"$f":"IF(LEN(A230)=0,\"\",IF(LEN(E230)=0,\"HVI data needed\",INDEX('Staple Lookup'!$C$3:$C$100,MATCH(TRUE,'Staple Lookup'!$B$3:$B$100>=ROUND(E230,2),0))))","v":""},null,{"$f":"IF(OR(LEN(B230)=0,LEN(C230)=0,LEN(D230)=0),\"\",IF(AND(RIGHT(B230,1)*1=1,C230=8),-2000,IF(L230>=38,AB230,IF(L230<=31,AC230,AE230))))","v":""},{"$f":"IF(LEN(A230)=0,\"\",INDEX(Str!$C$1:$C$20,MATCH(ROUND(F230,1),Str!$A$1:$A$20,1)))","v":""},"","",{"$f":"IF(LEN(A230)=0,\"\",INDEX(Uni!$C$1:$C$20,MATCH(ROUND($G230,1),Uni!$A$1:$A$20,1)))","v":""},null,"",{"$f":"IF(LEN(A230)=0,\"\",IF(OR(LEN(B230)=0,LEN(C230)=0,LEN(D230)=0,LEN(E230)=0,LEN(F230)=0,LEN(G230)=0),\"no HVI data\",IF('Base Values'!$B$6+(SUM($N230:$R230)/100)<0,0,'Base Values'!$B$6+(SUM(N230:R230)/100))))","v":""},null,{"$f":"IF(LEN(A230)=0,\"\",IF(LEN(H230)=0,INDEX(Ext!$A$1:$G$5,MATCH(0,Ext!$A$1:$A$5,0),MATCH(H$7,Ext!$A$2:$E$2,0)),IF(AND(H230>=0,H230<3),INDEX(Ext!$A$1:$G$5,MATCH(H230,Ext!$A$1:$A$5,0),MATCH(H$7,Ext!$A$2:$E$2,0)),\"invalid entry\")))","v":""},{"$f":"IF(LEN(B230)=0,\"\",IF(LEN(I230)=0,INDEX(Ext!$A$1:$G$5,MATCH(0,Ext!$A$1:$A$5,0),MATCH(I$7,Ext!$A$2:$E$2,0)),IF(AND(I230>=0,I230<3),INDEX(Ext!$A$1:$G$5,MATCH(I230,Ext!$A$1:$A$5,0),MATCH(I$7,Ext!$A$2:$E$2,0)),\"invalid entry\")))","v":""},{"$f":"IF(LEN(C230)=0,\"\",IF(LEN(J230)=0,INDEX(Ext!$A$1:$G$5,MATCH(0,Ext!$A$1:$A$5,0),MATCH(J$7,Ext!$A$2:$E$2,0)),IF(AND(J230>=0,J230<3),INDEX(Ext!$A$1:$G$5,MATCH(J230,Ext!$A$1:$A$5,0),MATCH(J$7,Ext!$A$2:$E$2,0)),\"invalid entry\")))","v":""}]
[null,null,null,null,null,null,null,null,null,null,null,{"$f":"IF(LEN(A231)=0,\"\",IF(LEN(E231)=0,\"HVI data needed\",INDEX('Staple Lookup'!$C$3:$C$100,MATCH(TRUE,'Staple Lookup'!$B$3:$B$100>=ROUND(E231,2),0))))","v":""},null,{"$f":"IF(OR(LEN(B231)=0,LEN(C231)=0,LEN(D231)=0),\"\",IF(AND(RIGHT(B231,1)*1=1,C231=8),-2000,IF(L231>=38,AB231,IF(L231<=31,AC231,AE231))))","v":""},{"$f":"IF(LEN(A231)=0,\"\",INDEX(Str!$C$1:$C$20,MATCH(ROUND(F231,1),Str!$A$1:$A$20,1)))","v":""},"","",{"$f":"IF(LEN(A231)=0,\"\",INDEX(Uni!$C$1:$C$20,MATCH(ROUND($G231,1),Uni!$A$1:$A$20,1)))","v":""},null,"",{"$f":"IF(LEN(A231)=0,\"\",IF(OR(LEN(B231)=0,LEN(C231)=0,LEN(D231)=0,LEN(E231)=0,LEN(F231)=0,LEN(G231)=0),\"no HVI data\",IF('Base Values'!$B$6+(SUM($N231:$R231)/100)<0,0,'Base Values'!$B$6+(SUM(N231:R231)/100))))","v":""},null,{"$f":"IF(LEN(A231)=0,\"\",IF(LEN(H231)=0,INDEX(Ext!$A$1:$G$5,MATCH(0,Ext!$A$1:$A$5,0),MATCH(H$7,Ext!$A$2:$E$2,0)),IF(AND(H231>=0,H231<3),INDEX(Ext!$A$1:$G$5,MATCH(H231,Ext!$A$1:$A$5,0),MATCH(H$7,Ext!$A$2:$E$2,0)),\"invalid entry\")))","v":""},{"$f":"IF(LEN(B231)=0,\"\",IF(LEN(I231)=0,INDEX(Ext!$A$1:$G$5,MATCH(0,Ext!$A$1:$A$5,0),MATCH(I$7,Ext!$A$2:$E$2,0)),IF(AND(I231>=0,I231<3),INDEX(Ext!$A$1:$G$5,MATCH(I231,Ext!$A$1:$A$5,0),MATCH(I$7,Ext!$A$2:$E$2,0)),\"invalid entry\")))","v":""},{"$f":"IF(LEN(C231)=0,\"\",IF(LEN(J231)=0,INDEX(Ext!$A$1:$G$5,MATCH(0,Ext!$A$1:$A$5,0),MATCH(J$7,Ext!$A$2:$E$2,0)),IF(AND(J231>=0,J231<3),INDEX(Ext!$A$1:$G$5,MATCH(J231,Ext!$A$1:$A$5,0),MATCH(J$7,Ext!$A$2:$E$2,0)),\"invalid entry\")))","v":""}]
[null,null,null,null,null,null,null,null,null,null,null,{"$f":"IF(LEN(A232)=0,\"\",IF(LEN(E232)=0,\"HVI data needed\",INDEX('Staple Lookup'!$C$3:$C$100,MATCH(TRUE,'Staple Lookup'!$B$3:$B$100>=ROUND(E232,2),0))))","v":""},null,{"$f":"IF(OR(LEN(B232)=0,LEN(C232)=0,LEN(D232)=0),\"\",IF(AND(RIGHT(B232,1)*1=1,C232=8),-2000,IF(L232>=38,AB232,IF(L232<=31,AC232,AE232))))","v":""},{"$f":"IF(LEN(A232)=0,\"\",INDEX(Str!$C$1:$C$20,MATCH(ROUND(F232,1),Str!$A$1:$A$20,1)))","v":""},"","",{"$f":"IF(LEN(A232)=0,\"\",INDEX(Uni!$C$1:$C$20,MATCH(ROUND($G232,1),Uni!$A$1:$A$20,1)))","v":""},null,"",{"$f":"IF(LEN(A232)=0,\"\",IF(OR(LEN(B232)=0,LEN(C232)=0,LEN(D232)=0,LEN(E232)=0,LEN(F232)=0,LEN(G232)=0),\"no HVI data\",IF('Base Values'!$B$6+(SUM($N232:$R232)/100)<0,0,'Base Values'!$B$6+(SUM(N232:R232)/100))))","v":""},null,{"$f":"IF(LEN(A232)=0,\"\",IF(LEN(H232)=0,INDEX(Ext!$A$1:$G$5,MATCH(0,Ext!$A$1:$A$5,0),MATCH(H$7,Ext!$A$2:$E$2,0)),IF(AND(H232>=0,H232<3),INDEX(Ext!$A$1:$G$5,MATCH(H232,Ext!$A$1:$A$5,0),MATCH(H$7,Ext!$A$2:$E$2,0)),\"invalid entry\")))","v":""},{"$f":"IF(LEN(B232)=0,\"\",IF(LEN(I232)=0,INDEX(Ext!$A$1:$G$5,MATCH(0,Ext!$A$1:$A$5,0),MATCH(I$7,Ext!$A$2:$E$2,0)),IF(AND(I232>=0,I232<3),INDEX(Ext!$A$1:$G$5,MATCH(I232,Ext!$A$1:$A$5,0),MATCH(I$7,Ext!$A$2:$E$2,0)),\"invalid entry\")))","v":""},{"$f":"IF(LEN(C232)=0,\"\",IF(LEN(J232)=0,INDEX(Ext!$A$1:$G$5,MATCH(0,Ext!$A$1:$A$5,0),MATCH(J$7,Ext!$A$2:$E$2,0)),IF(AND(J232>=0,J232<3),INDEX(Ext!$A$1:$G$5,MATCH(J232,Ext!$A$1:$A$5,0),MATCH(J$7,Ext!$A$2:$E$2,0)),\"invalid entry\")))","v":""}]
[null,null,null,null,null,null,null,null,null,null,null,{"$f":"IF(LEN(A233)=0,\"\",IF(LEN(E233)=0,\"HVI data needed\",INDEX('Staple Lookup'!$C$3:$C$100,MATCH(TRUE,'Staple Lookup'!$B$3:$B$100>=ROUND(E233,2),0))))","v":""},null,{"$f":"IF(OR(LEN(B233)=0,LEN(C233)=0,LEN(D233)=0),\"\",IF(AND(RIGHT(B233,1)*1=1,C233=8),-2000,IF(L233>=38,AB233,IF(L233<=31,AC233,AE233))))","v":""},{"$f":"IF(LEN(A233)=0,\"\",INDEX(Str!$C$1:$C$20,MATCH(ROUND(F233,1),Str!$A$1:$A$20,1)))","v":""},"","",{"$f":"IF(LEN(A233)=0,\"\",INDEX(Uni!$C$1:$C$20,MATCH(ROUND($G233,1),Uni!$A$1:$A$20,1)))","v":""},null,"",{"$f":"IF(LEN(A233)=0,\"\",IF(OR(LEN(B233)=0,LEN(C233)=0,LEN(D233)=0,LEN(E233)=0,LEN(F233)=0,LEN(G233)=0),\"no HVI data\",IF('Base Values'!$B$6+(SUM($N233:$R233)/100)<0,0,'Base Values'!$B$6+(SUM(N233:R233)/100))))","v":""},null,{"$f":"IF(LEN(A233)=0,\"\",IF(LEN(H233)=0,INDEX(Ext!$A$1:$G$5,MATCH(0,Ext!$A$1:$A$5,0),MATCH(H$7,Ext!$A$2:$E$2,0)),IF(AND(H233>=0,H233<3),INDEX(Ext!$A$1:$G$5,MATCH(H233,Ext!$A$1:$A$5,0),MATCH(H$7,Ext!$A$2:$E$2,0)),\"invalid entry\")))","v":""},{"$f":"IF(LEN(B233)=0,\"\",IF(LEN(I233)=0,INDEX(Ext!$A$1:$G$5,MATCH(0,Ext!$A$1:$A$5,0),MATCH(I$7,Ext!$A$2:$E$2,0)),IF(AND(I233>=0,I233<3),INDEX(Ext!$A$1:$G$5,MATCH(I233,Ext!$A$1:$A$5,0),MATCH(I$7,Ext!$A$2:$E$2,0)),\"invalid entry\")))","v":""},{"$f":"IF(LEN(C233)=0,\"\",IF(LEN(J233)=0,INDEX(Ext!$A$1:$G$5,MATCH(0,Ext!$A$1:$A$5,0),MATCH(J$7,Ext!$A$2:$E$2,0)),IF(AND(J233>=0,J233<3),INDEX(Ext!$A$1:$G$5,MATCH(J233,Ext!$A$1:$A$5,0),MATCH(J$7,Ext!$A$2:$E$2,0)),\"invalid entry\")))","v":""}]
[null,null,null,null,null,null,null,null,null,null,null,{"$f":"IF(LEN(A234)=0,\"\",IF(LEN(E234)=0,\"HVI data needed\",INDEX('Staple Lookup'!$C$3:$C$100,MATCH(TRUE,'Staple Lookup'!$B$3:$B$100>=ROUND(E234,2),0))))","v":""},null,{"$f":"IF(OR(LEN(B234)=0,LEN(C234)=0,LEN(D234)=0),\"\",IF(AND(RIGHT(B234,1)*1=1,C234=8),-2000,IF(L234>=38,AB234,IF(L234<=31,AC234,AE234))))","v":""},{"$f":"IF(LEN(A234)=0,\"\",INDEX(Str!$C$1:$C$20,MATCH(ROUND(F234,1),Str!$A$1:$A$20,1)))","v":""},"","",{"$f":"IF(LEN(A234)=0,\"\",INDEX(Uni!$C$1:$C$20,MATCH(ROUND($G234,1),Uni!$A$1:$A$20,1)))","v":""},null,"",{"$f":"IF(LEN(A234)=0,\"\",IF(OR(LEN(B234)=0,LEN(C234)=0,LEN(D234)=0,LEN(E234)=0,LEN(F234)=0,LEN(G234)=0),\"no HVI data\",IF('Base Values'!$B$6+(SUM($N234:$R234)/100)<0,0,'Base Values'!$B$6+(SUM(N234:R234)/100))))","v":""},null,{"$f":"IF(LEN(A234)=0,\"\",IF(LEN(H234)=0,INDEX(Ext!$A$1:$G$5,MATCH(0,Ext!$A$1:$A$5,0),MATCH(H$7,Ext!$A$2:$E$2,0)),IF(AND(H234>=0,H234<3),INDEX(Ext!$A$1:$G$5,MATCH(H234,Ext!$A$1:$A$5,0),MATCH(H$7,Ext!$A$2:$E$2,0)),\"invalid entry\")))","v":""},{"$f":"IF(LEN(B234)=0,\"\",IF(LEN(I234)=0,INDEX(Ext!$A$1:$G$5,MATCH(0,Ext!$A$1:$A$5,0),MATCH(I$7,Ext!$A$2:$E$2,0)),IF(AND(I234>=0,I234<3),INDEX(Ext!$A$1:$G$5,MATCH(I234,Ext!$A$1:$A$5,0),MATCH(I$7,Ext!$A$2:$E$2,0)),\"invalid entry\")))","v":""},{"$f":"IF(LEN(C234)=0,\"\",IF(LEN(J234)=0,INDEX(Ext!$A$1:$G$5,MATCH(0,Ext!$A$1:$A$5,0),MATCH(J$7,Ext!$A$2:$E$2,0)),IF(AND(J234>=0,J234<3),INDEX(Ext!$A$1:$G$5,MATCH(J234,Ext!$A$1:$A$5,0),MATCH(J$7,Ext!$A$2:$E$2,0)),\"invalid entry\")))","v":""}]
[null,null,null,null,null,null,null,null,null,null,null,{"$f":"IF(LEN(A235)=0,\"\",IF(LEN(E235)=0,\"HVI data needed\",INDEX('Staple Lookup'!$C$3:$C$100,MATCH(TRUE,'Staple Lookup'!$B$3:$B$100>=ROUND(E235,2),0))))","v":""},null,{"$f":"IF(OR(LEN(B235)=0,LEN(C235)=0,LEN(D235)=0),\"\",IF(AND(RIGHT(B235,1)*1=1,C235=8),-2000,IF(L235>=38,AB235,IF(L235<=31,AC235,AE235))))","v":""},{"$f":"IF(LEN(A235)=0,\"\",INDEX(Str!$C$1:$C$20,MATCH(ROUND(F235,1),Str!$A$1:$A$20,1)))","v":""},"","",{"$f":"IF(LEN(A235)=0,\"\",INDEX(Uni!$C$1:$C$20,MATCH(ROUND($G235,1),Uni!$A$1:$A$20,1)))","v":""},null,"",{"$f":"IF(LEN(A235)=0,\"\",IF(OR(LEN(B235)=0,LEN(C235)=0,LEN(D235)=0,LEN(E235)=0,LEN(F235)=0,LEN(G235)=0),\"no HVI data\",IF('Base Values'!$B$6+(SUM($N235:$R235)/100)<0,0,'Base Values'!$B$6+(SUM(N235:R235)/100))))","v":""},null,{"$f":"IF(LEN(A235)=0,\"\",IF(LEN(H235)=0,INDEX(Ext!$A$1:$G$5,MATCH(0,Ext!$A$1:$A$5,0),MATCH(H$7,Ext!$A$2:$E$2,0)),IF(AND(H235>=0,H235<3),INDEX(Ext!$A$1:$G$5,MATCH(H235,Ext!$A$1:$A$5,0),MATCH(H$7,Ext!$A$2:$E$2,0)),\"invalid entry\")))","v":""},{"$f":"IF(LEN(B235)=0,\"\",IF(LEN(I235)=0,INDEX(Ext!$A$1:$G$5,MATCH(0,Ext!$A$1:$A$5,0),MATCH(I$7,Ext!$A$2:$E$2,0)),IF(AND(I235>=0,I235<3),INDEX(Ext!$A$1:$G$5,MATCH(I235,Ext!$A$1:$A$5,0),MATCH(I$7,Ext!$A$2:$E$2,0)),\"invalid entry\")))","v":""},{"$f":"IF(LEN(C235)=0,\"\",IF(LEN(J235)=0,INDEX(Ext!$A$1:$G$5,MATCH(0,Ext!$A$1:$A$5,0),MATCH(J$7,Ext!$A$2:$E$2,0)),IF(AND(J235>=0,J235<3),INDEX(Ext!$A$1:$G$5,MATCH(J235,Ext!$A$1:$A$5,0),MATCH(J$7,Ext!$A$2:$E$2,0)),\"invalid entry\")))","v":""}]
[null,null,null,null,null,null,null,null,null,null,null,{"$f":"IF(LEN(A236)=0,\"\",IF(LEN(E236)=0,\"HVI data needed\",INDEX('Staple Lookup'!$C$3:$C$100,MATCH(TRUE,'Staple Lookup'!$B$3:$B$100>=ROUND(E236,2),0))))","v":""},null,{"$f":"IF(OR(LEN(B236)=0,LEN(C236)=0,LEN(D236)=0),\"\",IF(AND(RIGHT(B236,1)*1=1,C236=8),-2000,IF(L236>=38,AB236,IF(L236<=31,AC236,AE236))))","v":""},{"$f":"IF(LEN(A236)=0,\"\",INDEX(Str!$C$1:$C$20,MATCH(ROUND(F236,1),Str!$A$1:$A$20,1)))","v":""},"","",{"$f":"IF(LEN(A236)=0,\"\",INDEX(Uni!$C$1:$C$20,MATCH(ROUND($G236,1),Uni!$A$1:$A$20,1)))","v":""},null,"",{"$f":"IF(LEN(A236)=0,\"\",IF(OR(LEN(B236)=0,LEN(C236)=0,LEN(D236)=0,LEN(E236)=0,LEN(F236)=0,LEN(G236)=0),\"no HVI data\",IF('Base Values'!$B$6+(SUM($N236:$R236)/100)<0,0,'Base Values'!$B$6+(SUM(N236:R236)/100))))","v":""},null,{"$f":"IF(LEN(A236)=0,\"\",IF(LEN(H236)=0,INDEX(Ext!$A$1:$G$5,MATCH(0,Ext!$A$1:$A$5,0),MATCH(H$7,Ext!$A$2:$E$2,0)),IF(AND(H236>=0,H236<3),INDEX(Ext!$A$1:$G$5,MATCH(H236,Ext!$A$1:$A$5,0),MATCH(H$7,Ext!$A$2:$E$2,0)),\"invalid entry\")))","v":""},{"$f":"IF(LEN(B236)=0,\"\",IF(LEN(I236)=0,INDEX(Ext!$A$1:$G$5,MATCH(0,Ext!$A$1:$A$5,0),MATCH(I$7,Ext!$A$2:$E$2,0)),IF(AND(I236>=0,I236<3),INDEX(Ext!$A$1:$G$5,MATCH(I236,Ext!$A$1:$A$5,0),MATCH(I$7,Ext!$A$2:$E$2,0)),\"invalid entry\")))","v":""},{"$f":"IF(LEN(C236)=0,\"\",IF(LEN(J236)=0,INDEX(Ext!$A$1:$G$5,MATCH(0,Ext!$A$1:$A$5,0),MATCH(J$7,Ext!$A$2:$E$2,0)),IF(AND(J236>=0,J236<3),INDEX(Ext!$A$1:$G$5,MATCH(J236,Ext!$A$1:$A$5,0),MATCH(J$7,Ext!$A$2:$E$2,0)),\"invalid entry\")))","v":""}]
[null,null,null,null,null,null,null,null,null,null,null,{"$f":"IF(LEN(A237)=0,\"\",IF(LEN(E237)=0,\"HVI data needed\",INDEX('Staple Lookup'!$C$3:$C$100,MATCH(TRUE,'Staple Lookup'!$B$3:$B$100>=ROUND(E237,2),0))))","v":""},null,{"$f":"IF(OR(LEN(B237)=0,LEN(C237)=0,LEN(D237)=0),\"\",IF(AND(RIGHT(B237,1)*1=1,C237=8),-2000,IF(L237>=38,AB237,IF(L237<=31,AC237,AE237))))","v":""},{"$f":"IF(LEN(A237)=0,\"\",INDEX(Str!$C$1:$C$20,MATCH(ROUND(F237,1),Str!$A$1:$A$20,1)))","v":""},"","",{"$f":"IF(LEN(A237)=0,\"\",INDEX(Uni!$C$1:$C$20,MATCH(ROUND($G237,1),Uni!$A$1:$A$20,1)))","v":""},null,"",{"$f":"IF(LEN(A237)=0,\"\",IF(OR(LEN(B237)=0,LEN(C237)=0,LEN(D237)=0,LEN(E237)=0,LEN(F237)=0,LEN(G237)=0),\"no HVI data\",IF('Base Values'!$B$6+(SUM($N237:$R237)/100)<0,0,'Base Values'!$B$6+(SUM(N237:R237)/100))))","v":""},null,{"$f":"IF(LEN(A237)=0,\"\",IF(LEN(H237)=0,INDEX(Ext!$A$1:$G$5,MATCH(0,Ext!$A$1:$A$5,0),MATCH(H$7,Ext!$A$2:$E$2,0)),IF(AND(H237>=0,H237<3),INDEX(Ext!$A$1:$G$5,MATCH(H237,Ext!$A$1:$A$5,0),MATCH(H$7,Ext!$A$2:$E$2,0)),\"invalid entry\")))","v":""},{"$f":"IF(LEN(B237)=0,\"\",IF(LEN(I237)=0,INDEX(Ext!$A$1:$G$5,MATCH(0,Ext!$A$1:$A$5,0),MATCH(I$7,Ext!$A$2:$E$2,0)),IF(AND(I237>=0,I237<3),INDEX(Ext!$A$1:$G$5,MATCH(I237,Ext!$A$1:$A$5,0),MATCH(I$7,Ext!$A$2:$E$2,0)),\"invalid entry\")))","v":""},{"$f":"IF(LEN(C237)=0,\"\",IF(LEN(J237)=0,INDEX(Ext!$A$1:$G$5,MATCH(0,Ext!$A$1:$A$5,0),MATCH(J$7,Ext!$A$2:$E$2,0)),IF(AND(J237>=0,J237<3),INDEX(Ext!$A$1:$G$5,MATCH(J237,Ext!$A$1:$A$5,0),MATCH(J$7,Ext!$A$2:$E$2,0)),\"invalid entry\")))","v":""}]
[null,null,null,null,null,null,null,null,null,null,null,{"$f":"IF(LEN(A238)=0,\"\",IF(LEN(E238)=0,\"HVI data needed\",INDEX('Staple Lookup'!$C$3:$C$100,MATCH(TRUE,'Staple Lookup'!$B$3:$B$100>=ROUND(E238,2),0))))","v":""},null,{"$f":"IF(OR(LEN(B238)=0,LEN(C238)=0,LEN(D238)=0),\"\",IF(AND(RIGHT(B238,1)*1=1,C238=8),-2000,IF(L238>=38,AB238,IF(L238<=31,AC238,AE238))))","v":""},{"$f":"IF(LEN(A238)=0,\"\",INDEX(Str!$C$1:$C$20,MATCH(ROUND(F238,1),Str!$A$1:$A$20,1)))","v":""},"","",{"$f":"IF(LEN(A238)=0,\"\",INDEX(Uni!$C$1:$C$20,MATCH(ROUND($G238,1),Uni!$A$1:$A$20,1)))","v":""},null,"",{"$f":"IF(LEN(A238)=0,\"\",IF(OR(LEN(B238)=0,LEN(C238)=0,LEN(D238)=0,LEN(E238)=0,LEN(F238)=0,LEN(G238)=0),\"no HVI data\",IF('Base Values'!$B$6+(SUM($N238:$R238)/100)<0,0,'Base Values'!$B$6+(SUM(N238:R238)/100))))","v":""},null,{"$f":"IF(LEN(A238)=0,\"\",IF(LEN(H238)=0,INDEX(Ext!$A$1:$G$5,MATCH(0,Ext!$A$1:$A$5,0),MATCH(H$7,Ext!$A$2:$E$2,0)),IF(AND(H238>=0,H238<3),INDEX(Ext!$A$1:$G$5,MATCH(H238,Ext!$A$1:$A$5,0),MATCH(H$7,Ext!$A$2:$E$2,0)),\"invalid entry\")))","v":""},{"$f":"IF(LEN(B238)=0,\"\",IF(LEN(I238)=0,INDEX(Ext!$A$1:$G$5,MATCH(0,Ext!$A$1:$A$5,0),MATCH(I$7,Ext!$A$2:$E$2,0)),IF(AND(I238>=0,I238<3),INDEX(Ext!$A$1:$G$5,MATCH(I238,Ext!$A$1:$A$5,0),MATCH(I$7,Ext!$A$2:$E$2,0)),\"invalid entry\")))","v":""},{"$f":"IF(LEN(C238)=0,\"\",IF(LEN(J238)=0,INDEX(Ext!$A$1:$G$5,MATCH(0,Ext!$A$1:$A$5,0),MATCH(J$7,Ext!$A$2:$E$2,0)),IF(AND(J238>=0,J238<3),INDEX(Ext!$A$1:$G$5,MATCH(J238,Ext!$A$1:$A$5,0),MATCH(J$7,Ext!$A$2:$E$2,0)),\"invalid entry\")))","v":""}]
[null,null,null,null,null,null,null,null,null,null,null,{"$f":"IF(LEN(A239)=0,\"\",IF(LEN(E239)=0,\"HVI data needed\",INDEX('Staple Lookup'!$C$3:$C$100,MATCH(TRUE,'Staple Lookup'!$B$3:$B$100>=ROUND(E239,2),0))))","v":""},null,{"$f":"IF(OR(LEN(B239)=0,LEN(C239)=0,LEN(D239)=0),\"\",IF(AND(RIGHT(B239,1)*1=1,C239=8),-2000,IF(L239>=38,AB239,IF(L239<=31,AC239,AE239))))","v":""},{"$f":"IF(LEN(A239)=0,\"\",INDEX(Str!$C$1:$C$20,MATCH(ROUND(F239,1),Str!$A$1:$A$20,1)))","v":""},"","",{"$f":"IF(LEN(A239)=0,\"\",INDEX(Uni!$C$1:$C$20,MATCH(ROUND($G239,1),Uni!$A$1:$A$20,1)))","v":""},null,"",{"$f":"IF(LEN(A239)=0,\"\",IF(OR(LEN(B239)=0,LEN(C239)=0,LEN(D239)=0,LEN(E239)=0,LEN(F239)=0,LEN(G239)=0),\"no HVI data\",IF('Base Values'!$B$6+(SUM($N239:$R239)/100)<0,0,'Base Values'!$B$6+(SUM(N239:R239)/100))))","v":""},null,{"$f":"IF(LEN(A239)=0,\"\",IF(LEN(H239)=0,INDEX(Ext!$A$1:$G$5,MATCH(0,Ext!$A$1:$A$5,0),MATCH(H$7,Ext!$A$2:$E$2,0)),IF(AND(H239>=0,H239<3),INDEX(Ext!$A$1:$G$5,MATCH(H239,Ext!$A$1:$A$5,0),MATCH(H$7,Ext!$A$2:$E$2,0)),\"invalid entry\")))","v":""},{"$f":"IF(LEN(B239)=0,\"\",IF(LEN(I239)=0,INDEX(Ext!$A$1:$G$5,MATCH(0,Ext!$A$1:$A$5,0),MATCH(I$7,Ext!$A$2:$E$2,0)),IF(AND(I239>=0,I239<3),INDEX(Ext!$A$1:$G$5,MATCH(I239,Ext!$A$1:$A$5,0),MATCH(I$7,Ext!$A$2:$E$2,0)),\"invalid entry\")))","v":""},{"$f":"IF(LEN(C239)=0,\"\",IF(LEN(J239)=0,INDEX(Ext!$A$1:$G$5,MATCH(0,Ext!$A$1:$A$5,0),MATCH(J$7,Ext!$A$2:$E$2,0)),IF(AND(J239>=0,J239<3),INDEX(Ext!$A$1:$G$5,MATCH(J239,Ext!$A$1:$A$5,0),MATCH(J$7,Ext!$A$2:$E$2,0)),\"invalid entry\")))","v":""}]
[null,null,null,null,null,null,null,null,null,null,null,{"$f":"IF(LEN(A240)=0,\"\",IF(LEN(E240)=0,\"HVI data needed\",INDEX('Staple Lookup'!$C$3:$C$100,MATCH(TRUE,'Staple Lookup'!$B$3:$B$100>=ROUND(E240,2),0))))","v":""},null,{"$f":"IF(OR(LEN(B240)=0,LEN(C240)=0,LEN(D240)=0),\"\",IF(AND(RIGHT(B240,1)*1=1,C240=8),-2000,IF(L240>=38,AB240,IF(L240<=31,AC240,AE240))))","v":""},{"$f":"IF(LEN(A240)=0,\"\",INDEX(Str!$C$1:$C$20,MATCH(ROUND(F240,1),Str!$A$1:$A$20,1)))","v":""},"","",{"$f":"IF(LEN(A240)=0,\"\",INDEX(Uni!$C$1:$C$20,MATCH(ROUND($G240,1),Uni!$A$1:$A$20,1)))","v":""},null,"",{"$f":"IF(LEN(A240)=0,\"\",IF(OR(LEN(B240)=0,LEN(C240)=0,LEN(D240)=0,LEN(E240)=0,LEN(F240)=0,LEN(G240)=0),\"no HVI data\",IF('Base Values'!$B$6+(SUM($N240:$R240)/100)<0,0,'Base Values'!$B$6+(SUM(N240:R240)/100))))","v":""},null,{"$f":"IF(LEN(A240)=0,\"\",IF(LEN(H240)=0,INDEX(Ext!$A$1:$G$5,MATCH(0,Ext!$A$1:$A$5,0),MATCH(H$7,Ext!$A$2:$E$2,0)),IF(AND(H240>=0,H240<3),INDEX(Ext!$A$1:$G$5,MATCH(H240,Ext!$A$1:$A$5,0),MATCH(H$7,Ext!$A$2:$E$2,0)),\"invalid entry\")))","v":""},{"$f":"IF(LEN(B240)=0,\"\",IF(LEN(I240)=0,INDEX(Ext!$A$1:$G$5,MATCH(0,Ext!$A$1:$A$5,0),MATCH(I$7,Ext!$A$2:$E$2,0)),IF(AND(I240>=0,I240<3),INDEX(Ext!$A$1:$G$5,MATCH(I240,Ext!$A$1:$A$5,0),MATCH(I$7,Ext!$A$2:$E$2,0)),\"invalid entry\")))","v":""},{"$f":"IF(LEN(C240)=0,\"\",IF(LEN(J240)=0,INDEX(Ext!$A$1:$G$5,MATCH(0,Ext!$A$1:$A$5,0),MATCH(J$7,Ext!$A$2:$E$2,0)),IF(AND(J240>=0,J240<3),INDEX(Ext!$A$1:$G$5,MATCH(J240,Ext!$A$1:$A$5,0),MATCH(J$7,Ext!$A$2:$E$2,0)),\"invalid entry\")))","v":""}]
[null,null,null,null,null,null,null,null,null,null,null,{"$f":"IF(LEN(A241)=0,\"\",IF(LEN(E241)=0,\"HVI data needed\",INDEX('Staple Lookup'!$C$3:$C$100,MATCH(TRUE,'Staple Lookup'!$B$3:$B$100>=ROUND(E241,2),0))))","v":""},null,{"$f":"IF(OR(LEN(B241)=0,LEN(C241)=0,LEN(D241)=0),\"\",IF(AND(RIGHT(B241,1)*1=1,C241=8),-2000,IF(L241>=38,AB241,IF(L241<=31,AC241,AE241))))","v":""},{"$f":"IF(LEN(A241)=0,\"\",INDEX(Str!$C$1:$C$20,MATCH(ROUND(F241,1),Str!$A$1:$A$20,1)))","v":""},"","",{"$f":"IF(LEN(A241)=0,\"\",INDEX(Uni!$C$1:$C$20,MATCH(ROUND($G241,1),Uni!$A$1:$A$20,1)))","v":""},null,"",{"$f":"IF(LEN(A241)=0,\"\",IF(OR(LEN(B241)=0,LEN(C241)=0,LEN(D241)=0,LEN(E241)=0,LEN(F241)=0,LEN(G241)=0),\"no HVI data\",IF('Base Values'!$B$6+(SUM($N241:$R241)/100)<0,0,'Base Values'!$B$6+(SUM(N241:R241)/100))))","v":""},null,{"$f":"IF(LEN(A241)=0,\"\",IF(LEN(H241)=0,INDEX(Ext!$A$1:$G$5,MATCH(0,Ext!$A$1:$A$5,0),MATCH(H$7,Ext!$A$2:$E$2,0)),IF(AND(H241>=0,H241<3),INDEX(Ext!$A$1:$G$5,MATCH(H241,Ext!$A$1:$A$5,0),MATCH(H$7,Ext!$A$2:$E$2,0)),\"invalid entry\")))","v":""},{"$f":"IF(LEN(B241)=0,\"\",IF(LEN(I241)=0,INDEX(Ext!$A$1:$G$5,MATCH(0,Ext!$A$1:$A$5,0),MATCH(I$7,Ext!$A$2:$E$2,0)),IF(AND(I241>=0,I241<3),INDEX(Ext!$A$1:$G$5,MATCH(I241,Ext!$A$1:$A$5,0),MATCH(I$7,Ext!$A$2:$E$2,0)),\"invalid entry\")))","v":""},{"$f":"IF(LEN(C241)=0,\"\",IF(LEN(J241)=0,INDEX(Ext!$A$1:$G$5,MATCH(0,Ext!$A$1:$A$5,0),MATCH(J$7,Ext!$A$2:$E$2,0)),IF(AND(J241>=0,J241<3),INDEX(Ext!$A$1:$G$5,MATCH(J241,Ext!$A$1:$A$5,0),MATCH(J$7,Ext!$A$2:$E$2,0)),\"invalid entry\")))","v":""}]
[null,null,null,null,null,null,null,null,null,null,null,{"$f":"IF(LEN(A242)=0,\"\",IF(LEN(E242)=0,\"HVI data needed\",INDEX('Staple Lookup'!$C$3:$C$100,MATCH(TRUE,'Staple Lookup'!$B$3:$B$100>=ROUND(E242,2),0))))","v":""},null,{"$f":"IF(OR(LEN(B242)=0,LEN(C242)=0,LEN(D242)=0),\"\",IF(AND(RIGHT(B242,1)*1=1,C242=8),-2000,IF(L242>=38,AB242,IF(L242<=31,AC242,AE242))))","v":""},{"$f":"IF(LEN(A242)=0,\"\",INDEX(Str!$C$1:$C$20,MATCH(ROUND(F242,1),Str!$A$1:$A$20,1)))","v":""},"","",{"$f":"IF(LEN(A242)=0,\"\",INDEX(Uni!$C$1:$C$20,MATCH(ROUND($G242,1),Uni!$A$1:$A$20,1)))","v":""},null,"",{"$f":"IF(LEN(A242)=0,\"\",IF(OR(LEN(B242)=0,LEN(C242)=0,LEN(D242)=0,LEN(E242)=0,LEN(F242)=0,LEN(G242)=0),\"no HVI data\",IF('Base Values'!$B$6+(SUM($N242:$R242)/100)<0,0,'Base Values'!$B$6+(SUM(N242:R242)/100))))","v":""},null,{"$f":"IF(LEN(A242)=0,\"\",IF(LEN(H242)=0,INDEX(Ext!$A$1:$G$5,MATCH(0,Ext!$A$1:$A$5,0),MATCH(H$7,Ext!$A$2:$E$2,0)),IF(AND(H242>=0,H242<3),INDEX(Ext!$A$1:$G$5,MATCH(H242,Ext!$A$1:$A$5,0),MATCH(H$7,Ext!$A$2:$E$2,0)),\"invalid entry\")))","v":""},{"$f":"IF(LEN(B242)=0,\"\",IF(LEN(I242)=0,INDEX(Ext!$A$1:$G$5,MATCH(0,Ext!$A$1:$A$5,0),MATCH(I$7,Ext!$A$2:$E$2,0)),IF(AND(I242>=0,I242<3),INDEX(Ext!$A$1:$G$5,MATCH(I242,Ext!$A$1:$A$5,0),MATCH(I$7,Ext!$A$2:$E$2,0)),\"invalid entry\")))","v":""},{"$f":"IF(LEN(C242)=0,\"\",IF(LEN(J242)=0,INDEX(Ext!$A$1:$G$5,MATCH(0,Ext!$A$1:$A$5,0),MATCH(J$7,Ext!$A$2:$E$2,0)),IF(AND(J242>=0,J242<3),INDEX(Ext!$A$1:$G$5,MATCH(J242,Ext!$A$1:$A$5,0),MATCH(J$7,Ext!$A$2:$E$2,0)),\"invalid entry\")))","v":""}]
[null,null,null,null,null,null,null,null,null,null,null,{"$f":"IF(LEN(A243)=0,\"\",IF(LEN(E243)=0,\"HVI data needed\",INDEX('Staple Lookup'!$C$3:$C$100,MATCH(TRUE,'Staple Lookup'!$B$3:$B$100>=ROUND(E243,2),0))))","v":""},null,{"$f":"IF(OR(LEN(B243)=0,LEN(C243)=0,LEN(D243)=0),\"\",IF(AND(RIGHT(B243,1)*1=1,C243=8),-2000,IF(L243>=38,AB243,IF(L243<=31,AC243,AE243))))","v":""},{"$f":"IF(LEN(A243)=0,\"\",INDEX(Str!$C$1:$C$20,MATCH(ROUND(F243,1),Str!$A$1:$A$20,1)))","v":""},"","",{"$f":"IF(LEN(A243)=0,\"\",INDEX(Uni!$C$1:$C$20,MATCH(ROUND($G243,1),Uni!$A$1:$A$20,1)))","v":""},null,"",{"$f":"IF(LEN(A243)=0,\"\",IF(OR(LEN(B243)=0,LEN(C243)=0,LEN(D243)=0,LEN(E243)=0,LEN(F243)=0,LEN(G243)=0),\"no HVI data\",IF('Base Values'!$B$6+(SUM($N243:$R243)/100)<0,0,'Base Values'!$B$6+(SUM(N243:R243)/100))))","v":""},null,{"$f":"IF(LEN(A243)=0,\"\",IF(LEN(H243)=0,INDEX(Ext!$A$1:$G$5,MATCH(0,Ext!$A$1:$A$5,0),MATCH(H$7,Ext!$A$2:$E$2,0)),IF(AND(H243>=0,H243<3),INDEX(Ext!$A$1:$G$5,MATCH(H243,Ext!$A$1:$A$5,0),MATCH(H$7,Ext!$A$2:$E$2,0)),\"invalid entry\")))","v":""},{"$f":"IF(LEN(B243)=0,\"\",IF(LEN(I243)=0,INDEX(Ext!$A$1:$G$5,MATCH(0,Ext!$A$1:$A$5,0),MATCH(I$7,Ext!$A$2:$E$2,0)),IF(AND(I243>=0,I243<3),INDEX(Ext!$A$1:$G$5,MATCH(I243,Ext!$A$1:$A$5,0),MATCH(I$7,Ext!$A$2:$E$2,0)),\"invalid entry\")))","v":""},{"$f":"IF(LEN(C243)=0,\"\",IF(LEN(J243)=0,INDEX(Ext!$A$1:$G$5,MATCH(0,Ext!$A$1:$A$5,0),MATCH(J$7,Ext!$A$2:$E$2,0)),IF(AND(J243>=0,J243<3),INDEX(Ext!$A$1:$G$5,MATCH(J243,Ext!$A$1:$A$5,0),MATCH(J$7,Ext!$A$2:$E$2,0)),\"invalid entry\")))","v":""}]
[null,null,null,null,null,null,null,null,null,null,null,{"$f":"IF(LEN(A244)=0,\"\",IF(LEN(E244)=0,\"HVI data needed\",INDEX('Staple Lookup'!$C$3:$C$100,MATCH(TRUE,'Staple Lookup'!$B$3:$B$100>=ROUND(E244,2),0))))","v":""},null,{"$f":"IF(OR(LEN(B244)=0,LEN(C244)=0,LEN(D244)=0),\"\",IF(AND(RIGHT(B244,1)*1=1,C244=8),-2000,IF(L244>=38,AB244,IF(L244<=31,AC244,AE244))))","v":""},{"$f":"IF(LEN(A244)=0,\"\",INDEX(Str!$C$1:$C$20,MATCH(ROUND(F244,1),Str!$A$1:$A$20,1)))","v":""},"","",{"$f":"IF(LEN(A244)=0,\"\",INDEX(Uni!$C$1:$C$20,MATCH(ROUND($G244,1),Uni!$A$1:$A$20,1)))","v":""},null,"",{"$f":"IF(LEN(A244)=0,\"\",IF(OR(LEN(B244)=0,LEN(C244)=0,LEN(D244)=0,LEN(E244)=0,LEN(F244)=0,LEN(G244)=0),\"no HVI data\",IF('Base Values'!$B$6+(SUM($N244:$R244)/100)<0,0,'Base Values'!$B$6+(SUM(N244:R244)/100))))","v":""},null,{"$f":"IF(LEN(A244)=0,\"\",IF(LEN(H244)=0,INDEX(Ext!$A$1:$G$5,MATCH(0,Ext!$A$1:$A$5,0),MATCH(H$7,Ext!$A$2:$E$2,0)),IF(AND(H244>=0,H244<3),INDEX(Ext!$A$1:$G$5,MATCH(H244,Ext!$A$1:$A$5,0),MATCH(H$7,Ext!$A$2:$E$2,0)),\"invalid entry\")))","v":""},{"$f":"IF(LEN(B244)=0,\"\",IF(LEN(I244)=0,INDEX(Ext!$A$1:$G$5,MATCH(0,Ext!$A$1:$A$5,0),MATCH(I$7,Ext!$A$2:$E$2,0)),IF(AND(I244>=0,I244<3),INDEX(Ext!$A$1:$G$5,MATCH(I244,Ext!$A$1:$A$5,0),MATCH(I$7,Ext!$A$2:$E$2,0)),\"invalid entry\")))","v":""},{"$f":"IF(LEN(C244)=0,\"\",IF(LEN(J244)=0,INDEX(Ext!$A$1:$G$5,MATCH(0,Ext!$A$1:$A$5,0),MATCH(J$7,Ext!$A$2:$E$2,0)),IF(AND(J244>=0,J244<3),INDEX(Ext!$A$1:$G$5,MATCH(J244,Ext!$A$1:$A$5,0),MATCH(J$7,Ext!$A$2:$E$2,0)),\"invalid entry\")))","v":""}]
[null,null,null,null,null,null,null,null,null,null,null,{"$f":"IF(LEN(A245)=0,\"\",IF(LEN(E245)=0,\"HVI data needed\",INDEX('Staple Lookup'!$C$3:$C$100,MATCH(TRUE,'Staple Lookup'!$B$3:$B$100>=ROUND(E245,2),0))))","v":""},null,{"$f":"IF(OR(LEN(B245)=0,LEN(C245)=0,LEN(D245)=0),\"\",IF(AND(RIGHT(B245,1)*1=1,C245=8),-2000,IF(L245>=38,AB245,IF(L245<=31,AC245,AE245))))","v":""},{"$f":"IF(LEN(A245)=0,\"\",INDEX(Str!$C$1:$C$20,MATCH(ROUND(F245,1),Str!$A$1:$A$20,1)))","v":""},"","",{"$f":"IF(LEN(A245)=0,\"\",INDEX(Uni!$C$1:$C$20,MATCH(ROUND($G245,1),Uni!$A$1:$A$20,1)))","v":""},null,"",{"$f":"IF(LEN(A245)=0,\"\",IF(OR(LEN(B245)=0,LEN(C245)=0,LEN(D245)=0,LEN(E245)=0,LEN(F245)=0,LEN(G245)=0),\"no HVI data\",IF('Base Values'!$B$6+(SUM($N245:$R245)/100)<0,0,'Base Values'!$B$6+(SUM(N245:R245)/100))))","v":""},null,{"$f":"IF(LEN(A245)=0,\"\",IF(LEN(H245)=0,INDEX(Ext!$A$1:$G$5,MATCH(0,Ext!$A$1:$A$5,0),MATCH(H$7,Ext!$A$2:$E$2,0)),IF(AND(H245>=0,H245<3),INDEX(Ext!$A$1:$G$5,MATCH(H245,Ext!$A$1:$A$5,0),MATCH(H$7,Ext!$A$2:$E$2,0)),\"invalid entry\")))","v":""},{"$f":"IF(LEN(B245)=0,\"\",IF(LEN(I245)=0,INDEX(Ext!$A$1:$G$5,MATCH(0,Ext!$A$1:$A$5,0),MATCH(I$7,Ext!$A$2:$E$2,0)),IF(AND(I245>=0,I245<3),INDEX(Ext!$A$1:$G$5,MATCH(I245,Ext!$A$1:$A$5,0),MATCH(I$7,Ext!$A$2:$E$2,0)),\"invalid entry\")))","v":""},{"$f":"IF(LEN(C245)=0,\"\",IF(LEN(J245)=0,INDEX(Ext!$A$1:$G$5,MATCH(0,Ext!$A$1:$A$5,0),MATCH(J$7,Ext!$A$2:$E$2,0)),IF(AND(J245>=0,J245<3),INDEX(Ext!$A$1:$G$5,MATCH(J245,Ext!$A$1:$A$5,0),MATCH(J$7,Ext!$A$2:$E$2,0)),\"invalid entry\")))","v":""}]
[null,null,null,null,null,null,null,null,null,null,null,{"$f":"IF(LEN(A246)=0,\"\",IF(LEN(E246)=0,\"HVI data needed\",INDEX('Staple Lookup'!$C$3:$C$100,MATCH(TRUE,'Staple Lookup'!$B$3:$B$100>=ROUND(E246,2),0))))","v":""},null,{"$f":"IF(OR(LEN(B246)=0,LEN(C246)=0,LEN(D246)=0),\"\",IF(AND(RIGHT(B246,1)*1=1,C246=8),-2000,IF(L246>=38,AB246,IF(L246<=31,AC246,AE246))))","v":""},{"$f":"IF(LEN(A246)=0,\"\",INDEX(Str!$C$1:$C$20,MATCH(ROUND(F246,1),Str!$A$1:$A$20,1)))","v":""},"","",{"$f":"IF(LEN(A246)=0,\"\",INDEX(Uni!$C$1:$C$20,MATCH(ROUND($G246,1),Uni!$A$1:$A$20,1)))","v":""},null,"",{"$f":"IF(LEN(A246)=0,\"\",IF(OR(LEN(B246)=0,LEN(C246)=0,LEN(D246)=0,LEN(E246)=0,LEN(F246)=0,LEN(G246)=0),\"no HVI data\",IF('Base Values'!$B$6+(SUM($N246:$R246)/100)<0,0,'Base Values'!$B$6+(SUM(N246:R246)/100))))","v":""},null,{"$f":"IF(LEN(A246)=0,\"\",IF(LEN(H246)=0,INDEX(Ext!$A$1:$G$5,MATCH(0,Ext!$A$1:$A$5,0),MATCH(H$7,Ext!$A$2:$E$2,0)),IF(AND(H246>=0,H246<3),INDEX(Ext!$A$1:$G$5,MATCH(H246,Ext!$A$1:$A$5,0),MATCH(H$7,Ext!$A$2:$E$2,0)),\"invalid entry\")))","v":""},{"$f":"IF(LEN(B246)=0,\"\",IF(LEN(I246)=0,INDEX(Ext!$A$1:$G$5,MATCH(0,Ext!$A$1:$A$5,0),MATCH(I$7,Ext!$A$2:$E$2,0)),IF(AND(I246>=0,I246<3),INDEX(Ext!$A$1:$G$5,MATCH(I246,Ext!$A$1:$A$5,0),MATCH(I$7,Ext!$A$2:$E$2,0)),\"invalid entry\")))","v":""},{"$f":"IF(LEN(C246)=0,\"\",IF(LEN(J246)=0,INDEX(Ext!$A$1:$G$5,MATCH(0,Ext!$A$1:$A$5,0),MATCH(J$7,Ext!$A$2:$E$2,0)),IF(AND(J246>=0,J246<3),INDEX(Ext!$A$1:$G$5,MATCH(J246,Ext!$A$1:$A$5,0),MATCH(J$7,Ext!$A$2:$E$2,0)),\"invalid entry\")))","v":""}]
[null,null,null,null,null,null,null,null,null,null,null,{"$f":"IF(LEN(A247)=0,\"\",IF(LEN(E247)=0,\"HVI data needed\",INDEX('Staple Lookup'!$C$3:$C$100,MATCH(TRUE,'Staple Lookup'!$B$3:$B$100>=ROUND(E247,2),0))))","v":""},null,{"$f":"IF(OR(LEN(B247)=0,LEN(C247)=0,LEN(D247)=0),\"\",IF(AND(RIGHT(B247,1)*1=1,C247=8),-2000,IF(L247>=38,AB247,IF(L247<=31,AC247,AE247))))","v":""},{"$f":"IF(LEN(A247)=0,\"\",INDEX(Str!$C$1:$C$20,MATCH(ROUND(F247,1),Str!$A$1:$A$20,1)))","v":""},"","",{"$f":"IF(LEN(A247)=0,\"\",INDEX(Uni!$C$1:$C$20,MATCH(ROUND($G247,1),Uni!$A$1:$A$20,1)))","v":""},null,"",{"$f":"IF(LEN(A247)=0,\"\",IF(OR(LEN(B247)=0,LEN(C247)=0,LEN(D247)=0,LEN(E247)=0,LEN(F247)=0,LEN(G247)=0),\"no HVI data\",IF('Base Values'!$B$6+(SUM($N247:$R247)/100)<0,0,'Base Values'!$B$6+(SUM(N247:R247)/100))))","v":""},null,{"$f":"IF(LEN(A247)=0,\"\",IF(LEN(H247)=0,INDEX(Ext!$A$1:$G$5,MATCH(0,Ext!$A$1:$A$5,0),MATCH(H$7,Ext!$A$2:$E$2,0)),IF(AND(H247>=0,H247<3),INDEX(Ext!$A$1:$G$5,MATCH(H247,Ext!$A$1:$A$5,0),MATCH(H$7,Ext!$A$2:$E$2,0)),\"invalid entry\")))","v":""},{"$f":"IF(LEN(B247)=0,\"\",IF(LEN(I247)=0,INDEX(Ext!$A$1:$G$5,MATCH(0,Ext!$A$1:$A$5,0),MATCH(I$7,Ext!$A$2:$E$2,0)),IF(AND(I247>=0,I247<3),INDEX(Ext!$A$1:$G$5,MATCH(I247,Ext!$A$1:$A$5,0),MATCH(I$7,Ext!$A$2:$E$2,0)),\"invalid entry\")))","v":""},{"$f":"IF(LEN(C247)=0,\"\",IF(LEN(J247)=0,INDEX(Ext!$A$1:$G$5,MATCH(0,Ext!$A$1:$A$5,0),MATCH(J$7,Ext!$A$2:$E$2,0)),IF(AND(J247>=0,J247<3),INDEX(Ext!$A$1:$G$5,MATCH(J247,Ext!$A$1:$A$5,0),MATCH(J$7,Ext!$A$2:$E$2,0)),\"invalid entry\")))","v":""}]
[null,null,null,null,null,null,null,null,null,null,null,{"$f":"IF(LEN(A248)=0,\"\",IF(LEN(E248)=0,\"HVI data needed\",INDEX('Staple Lookup'!$C$3:$C$100,MATCH(TRUE,'Staple Lookup'!$B$3:$B$100>=ROUND(E248,2),0))))","v":""},null,{"$f":"IF(OR(LEN(B248)=0,LEN(C248)=0,LEN(D248)=0),\"\",IF(AND(RIGHT(B248,1)*1=1,C248=8),-2000,IF(L248>=38,AB248,IF(L248<=31,AC248,AE248))))","v":""},{"$f":"IF(LEN(A248)=0,\"\",INDEX(Str!$C$1:$C$20,MATCH(ROUND(F248,1),Str!$A$1:$A$20,1)))","v":""},"","",{"$f":"IF(LEN(A248)=0,\"\",INDEX(Uni!$C$1:$C$20,MATCH(ROUND($G248,1),Uni!$A$1:$A$20,1)))","v":""},null,"",{"$f":"IF(LEN(A248)=0,\"\",IF(OR(LEN(B248)=0,LEN(C248)=0,LEN(D248)=0,LEN(E248)=0,LEN(F248)=0,LEN(G248)=0),\"no HVI data\",IF('Base Values'!$B$6+(SUM($N248:$R248)/100)<0,0,'Base Values'!$B$6+(SUM(N248:R248)/100))))","v":""},null,{"$f":"IF(LEN(A248)=0,\"\",IF(LEN(H248)=0,INDEX(Ext!$A$1:$G$5,MATCH(0,Ext!$A$1:$A$5,0),MATCH(H$7,Ext!$A$2:$E$2,0)),IF(AND(H248>=0,H248<3),INDEX(Ext!$A$1:$G$5,MATCH(H248,Ext!$A$1:$A$5,0),MATCH(H$7,Ext!$A$2:$E$2,0)),\"invalid entry\")))","v":""},{"$f":"IF(LEN(B248)=0,\"\",IF(LEN(I248)=0,INDEX(Ext!$A$1:$G$5,MATCH(0,Ext!$A$1:$A$5,0),MATCH(I$7,Ext!$A$2:$E$2,0)),IF(AND(I248>=0,I248<3),INDEX(Ext!$A$1:$G$5,MATCH(I248,Ext!$A$1:$A$5,0),MATCH(I$7,Ext!$A$2:$E$2,0)),\"invalid entry\")))","v":""},{"$f":"IF(LEN(C248)=0,\"\",IF(LEN(J248)=0,INDEX(Ext!$A$1:$G$5,MATCH(0,Ext!$A$1:$A$5,0),MATCH(J$7,Ext!$A$2:$E$2,0)),IF(AND(J248>=0,J248<3),INDEX(Ext!$A$1:$G$5,MATCH(J248,Ext!$A$1:$A$5,0),MATCH(J$7,Ext!$A$2:$E$2,0)),\"invalid entry\")))","v":""}]
[null,null,null,null,null,null,null,null,null,null,null,{"$f":"IF(LEN(A249)=0,\"\",IF(LEN(E249)=0,\"HVI data needed\",INDEX('Staple Lookup'!$C$3:$C$100,MATCH(TRUE,'Staple Lookup'!$B$3:$B$100>=ROUND(E249,2),0))))","v":""},null,{"$f":"IF(OR(LEN(B249)=0,LEN(C249)=0,LEN(D249)=0),\"\",IF(AND(RIGHT(B249,1)*1=1,C249=8),-2000,IF(L249>=38,AB249,IF(L249<=31,AC249,AE249))))","v":""},{"$f":"IF(LEN(A249)=0,\"\",INDEX(Str!$C$1:$C$20,MATCH(ROUND(F249,1),Str!$A$1:$A$20,1)))","v":""},"","",{"$f":"IF(LEN(A249)=0,\"\",INDEX(Uni!$C$1:$C$20,MATCH(ROUND($G249,1),Uni!$A$1:$A$20,1)))","v":""},null,"",{"$f":"IF(LEN(A249)=0,\"\",IF(OR(LEN(B249)=0,LEN(C249)=0,LEN(D249)=0,LEN(E249)=0,LEN(F249)=0,LEN(G249)=0),\"no HVI data\",IF('Base Values'!$B$6+(SUM($N249:$R249)/100)<0,0,'Base Values'!$B$6+(SUM(N249:R249)/100))))","v":""},null,{"$f":"IF(LEN(A249)=0,\"\",IF(LEN(H249)=0,INDEX(Ext!$A$1:$G$5,MATCH(0,Ext!$A$1:$A$5,0),MATCH(H$7,Ext!$A$2:$E$2,0)),IF(AND(H249>=0,H249<3),INDEX(Ext!$A$1:$G$5,MATCH(H249,Ext!$A$1:$A$5,0),MATCH(H$7,Ext!$A$2:$E$2,0)),\"invalid entry\")))","v":""},{"$f":"IF(LEN(B249)=0,\"\",IF(LEN(I249)=0,INDEX(Ext!$A$1:$G$5,MATCH(0,Ext!$A$1:$A$5,0),MATCH(I$7,Ext!$A$2:$E$2,0)),IF(AND(I249>=0,I249<3),INDEX(Ext!$A$1:$G$5,MATCH(I249,Ext!$A$1:$A$5,0),MATCH(I$7,Ext!$A$2:$E$2,0)),\"invalid entry\")))","v":""},{"$f":"IF(LEN(C249)=0,\"\",IF(LEN(J249)=0,INDEX(Ext!$A$1:$G$5,MATCH(0,Ext!$A$1:$A$5,0),MATCH(J$7,Ext!$A$2:$E$2,0)),IF(AND(J249>=0,J249<3),INDEX(Ext!$A$1:$G$5,MATCH(J249,Ext!$A$1:$A$5,0),MATCH(J$7,Ext!$A$2:$E$2,0)),\"invalid entry\")))","v":""}]
[null,null,null,null,null,null,null,null,null,null,null,{"$f":"IF(LEN(A250)=0,\"\",IF(LEN(E250)=0,\"HVI data needed\",INDEX('Staple Lookup'!$C$3:$C$100,MATCH(TRUE,'Staple Lookup'!$B$3:$B$100>=ROUND(E250,2),0))))","v":""},null,{"$f":"IF(OR(LEN(B250)=0,LEN(C250)=0,LEN(D250)=0),\"\",IF(AND(RIGHT(B250,1)*1=1,C250=8),-2000,IF(L250>=38,AB250,IF(L250<=31,AC250,AE250))))","v":""},{"$f":"IF(LEN(A250)=0,\"\",INDEX(Str!$C$1:$C$20,MATCH(ROUND(F250,1),Str!$A$1:$A$20,1)))","v":""},"","",{"$f":"IF(LEN(A250)=0,\"\",INDEX(Uni!$C$1:$C$20,MATCH(ROUND($G250,1),Uni!$A$1:$A$20,1)))","v":""},null,"",{"$f":"IF(LEN(A250)=0,\"\",IF(OR(LEN(B250)=0,LEN(C250)=0,LEN(D250)=0,LEN(E250)=0,LEN(F250)=0,LEN(G250)=0),\"no HVI data\",IF('Base Values'!$B$6+(SUM($N250:$R250)/100)<0,0,'Base Values'!$B$6+(SUM(N250:R250)/100))))","v":""},null,{"$f":"IF(LEN(A250)=0,\"\",IF(LEN(H250)=0,INDEX(Ext!$A$1:$G$5,MATCH(0,Ext!$A$1:$A$5,0),MATCH(H$7,Ext!$A$2:$E$2,0)),IF(AND(H250>=0,H250<3),INDEX(Ext!$A$1:$G$5,MATCH(H250,Ext!$A$1:$A$5,0),MATCH(H$7,Ext!$A$2:$E$2,0)),\"invalid entry\")))","v":""},{"$f":"IF(LEN(B250)=0,\"\",IF(LEN(I250)=0,INDEX(Ext!$A$1:$G$5,MATCH(0,Ext!$A$1:$A$5,0),MATCH(I$7,Ext!$A$2:$E$2,0)),IF(AND(I250>=0,I250<3),INDEX(Ext!$A$1:$G$5,MATCH(I250,Ext!$A$1:$A$5,0),MATCH(I$7,Ext!$A$2:$E$2,0)),\"invalid entry\")))","v":""},{"$f":"IF(LEN(C250)=0,\"\",IF(LEN(J250)=0,INDEX(Ext!$A$1:$G$5,MATCH(0,Ext!$A$1:$A$5,0),MATCH(J$7,Ext!$A$2:$E$2,0)),IF(AND(J250>=0,J250<3),INDEX(Ext!$A$1:$G$5,MATCH(J250,Ext!$A$1:$A$5,0),MATCH(J$7,Ext!$A$2:$E$2,0)),\"invalid entry\")))","v":""}]
[null,null,null,null,null,null,null,null,null,null,null,{"$f":"IF(LEN(A251)=0,\"\",IF(LEN(E251)=0,\"HVI data needed\",INDEX('Staple Lookup'!$C$3:$C$100,MATCH(TRUE,'Staple Lookup'!$B$3:$B$100>=ROUND(E251,2),0))))","v":""},null,{"$f":"IF(OR(LEN(B251)=0,LEN(C251)=0,LEN(D251)=0),\"\",IF(AND(RIGHT(B251,1)*1=1,C251=8),-2000,IF(L251>=38,AB251,IF(L251<=31,AC251,AE251))))","v":""},{"$f":"IF(LEN(A251)=0,\"\",INDEX(Str!$C$1:$C$20,MATCH(ROUND(F251,1),Str!$A$1:$A$20,1)))","v":""},"","",{"$f":"IF(LEN(A251)=0,\"\",INDEX(Uni!$C$1:$C$20,MATCH(ROUND($G251,1),Uni!$A$1:$A$20,1)))","v":""},null,"",{"$f":"IF(LEN(A251)=0,\"\",IF(OR(LEN(B251)=0,LEN(C251)=0,LEN(D251)=0,LEN(E251)=0,LEN(F251)=0,LEN(G251)=0),\"no HVI data\",IF('Base Values'!$B$6+(SUM($N251:$R251)/100)<0,0,'Base Values'!$B$6+(SUM(N251:R251)/100))))","v":""},null,{"$f":"IF(LEN(A251)=0,\"\",IF(LEN(H251)=0,INDEX(Ext!$A$1:$G$5,MATCH(0,Ext!$A$1:$A$5,0),MATCH(H$7,Ext!$A$2:$E$2,0)),IF(AND(H251>=0,H251<3),INDEX(Ext!$A$1:$G$5,MATCH(H251,Ext!$A$1:$A$5,0),MATCH(H$7,Ext!$A$2:$E$2,0)),\"invalid entry\")))","v":""},{"$f":"IF(LEN(B251)=0,\"\",IF(LEN(I251)=0,INDEX(Ext!$A$1:$G$5,MATCH(0,Ext!$A$1:$A$5,0),MATCH(I$7,Ext!$A$2:$E$2,0)),IF(AND(I251>=0,I251<3),INDEX(Ext!$A$1:$G$5,MATCH(I251,Ext!$A$1:$A$5,0),MATCH(I$7,Ext!$A$2:$E$2,0)),\"invalid entry\")))","v":""},{"$f":"IF(LEN(C251)=0,\"\",IF(LEN(J251)=0,INDEX(Ext!$A$1:$G$5,MATCH(0,Ext!$A$1:$A$5,0),MATCH(J$7,Ext!$A$2:$E$2,0)),IF(AND(J251>=0,J251<3),INDEX(Ext!$A$1:$G$5,MATCH(J251,Ext!$A$1:$A$5,0),MATCH(J$7,Ext!$A$2:$E$2,0)),\"invalid entry\")))","v":""}]
[null,null,null,null,null,null,null,null,null,null,null,{"$f":"IF(LEN(A252)=0,\"\",IF(LEN(E252)=0,\"HVI data needed\",INDEX('Staple Lookup'!$C$3:$C$100,MATCH(TRUE,'Staple Lookup'!$B$3:$B$100>=ROUND(E252,2),0))))","v":""},null,{"$f":"IF(OR(LEN(B252)=0,LEN(C252)=0,LEN(D252)=0),\"\",IF(AND(RIGHT(B252,1)*1=1,C252=8),-2000,IF(L252>=38,AB252,IF(L252<=31,AC252,AE252))))","v":""},{"$f":"IF(LEN(A252)=0,\"\",INDEX(Str!$C$1:$C$20,MATCH(ROUND(F252,1),Str!$A$1:$A$20,1)))","v":""},"","",{"$f":"IF(LEN(A252)=0,\"\",INDEX(Uni!$C$1:$C$20,MATCH(ROUND($G252,1),Uni!$A$1:$A$20,1)))","v":""},null,"",{"$f":"IF(LEN(A252)=0,\"\",IF(OR(LEN(B252)=0,LEN(C252)=0,LEN(D252)=0,LEN(E252)=0,LEN(F252)=0,LEN(G252)=0),\"no HVI data\",IF('Base Values'!$B$6+(SUM($N252:$R252)/100)<0,0,'Base Values'!$B$6+(SUM(N252:R252)/100))))","v":""},null,{"$f":"IF(LEN(A252)=0,\"\",IF(LEN(H252)=0,INDEX(Ext!$A$1:$G$5,MATCH(0,Ext!$A$1:$A$5,0),MATCH(H$7,Ext!$A$2:$E$2,0)),IF(AND(H252>=0,H252<3),INDEX(Ext!$A$1:$G$5,MATCH(H252,Ext!$A$1:$A$5,0),MATCH(H$7,Ext!$A$2:$E$2,0)),\"invalid entry\")))","v":""},{"$f":"IF(LEN(B252)=0,\"\",IF(LEN(I252)=0,INDEX(Ext!$A$1:$G$5,MATCH(0,Ext!$A$1:$A$5,0),MATCH(I$7,Ext!$A$2:$E$2,0)),IF(AND(I252>=0,I252<3),INDEX(Ext!$A$1:$G$5,MATCH(I252,Ext!$A$1:$A$5,0),MATCH(I$7,Ext!$A$2:$E$2,0)),\"invalid entry\")))","v":""},{"$f":"IF(LEN(C252)=0,\"\",IF(LEN(J252)=0,INDEX(Ext!$A$1:$G$5,MATCH(0,Ext!$A$1:$A$5,0),MATCH(J$7,Ext!$A$2:$E$2,0)),IF(AND(J252>=0,J252<3),INDEX(Ext!$A$1:$G$5,MATCH(J252,Ext!$A$1:$A$5,0),MATCH(J$7,Ext!$A$2:$E$2,0)),\"invalid entry\")))","v":""}]
[null,null,null,null,null,null,null,null,null,null,null,{"$f":"IF(LEN(A253)=0,\"\",IF(LEN(E253)=0,\"HVI data needed\",INDEX('Staple Lookup'!$C$3:$C$100,MATCH(TRUE,'Staple Lookup'!$B$3:$B$100>=ROUND(E253,2),0))))","v":""},null,{"$f":"IF(OR(LEN(B253)=0,LEN(C253)=0,LEN(D253)=0),\"\",IF(AND(RIGHT(B253,1)*1=1,C253=8),-2000,IF(L253>=38,AB253,IF(L253<=31,AC253,AE253))))","v":""},{"$f":"IF(LEN(A253)=0,\"\",INDEX(Str!$C$1:$C$20,MATCH(ROUND(F253,1),Str!$A$1:$A$20,1)))","v":""},"","",{"$f":"IF(LEN(A253)=0,\"\",INDEX(Uni!$C$1:$C$20,MATCH(ROUND($G253,1),Uni!$A$1:$A$20,1)))","v":""},null,"",{"$f":"IF(LEN(A253)=0,\"\",IF(OR(LEN(B253)=0,LEN(C253)=0,LEN(D253)=0,LEN(E253)=0,LEN(F253)=0,LEN(G253)=0),\"no HVI data\",IF('Base Values'!$B$6+(SUM($N253:$R253)/100)<0,0,'Base Values'!$B$6+(SUM(N253:R253)/100))))","v":""},null,{"$f":"IF(LEN(A253)=0,\"\",IF(LEN(H253)=0,INDEX(Ext!$A$1:$G$5,MATCH(0,Ext!$A$1:$A$5,0),MATCH(H$7,Ext!$A$2:$E$2,0)),IF(AND(H253>=0,H253<3),INDEX(Ext!$A$1:$G$5,MATCH(H253,Ext!$A$1:$A$5,0),MATCH(H$7,Ext!$A$2:$E$2,0)),\"invalid entry\")))","v":""},{"$f":"IF(LEN(B253)=0,\"\",IF(LEN(I253)=0,INDEX(Ext!$A$1:$G$5,MATCH(0,Ext!$A$1:$A$5,0),MATCH(I$7,Ext!$A$2:$E$2,0)),IF(AND(I253>=0,I253<3),INDEX(Ext!$A$1:$G$5,MATCH(I253,Ext!$A$1:$A$5,0),MATCH(I$7,Ext!$A$2:$E$2,0)),\"invalid entry\")))","v":""},{"$f":"IF(LEN(C253)=0,\"\",IF(LEN(J253)=0,INDEX(Ext!$A$1:$G$5,MATCH(0,Ext!$A$1:$A$5,0),MATCH(J$7,Ext!$A$2:$E$2,0)),IF(AND(J253>=0,J253<3),INDEX(Ext!$A$1:$G$5,MATCH(J253,Ext!$A$1:$A$5,0),MATCH(J$7,Ext!$A$2:$E$2,0)),\"invalid entry\")))","v":""}]
[null,null,null,null,null,null,null,null,null,null,null,{"$f":"IF(LEN(A254)=0,\"\",IF(LEN(E254)=0,\"HVI data needed\",INDEX('Staple Lookup'!$C$3:$C$100,MATCH(TRUE,'Staple Lookup'!$B$3:$B$100>=ROUND(E254,2),0))))","v":""},null,{"$f":"IF(OR(LEN(B254)=0,LEN(C254)=0,LEN(D254)=0),\"\",IF(AND(RIGHT(B254,1)*1=1,C254=8),-2000,IF(L254>=38,AB254,IF(L254<=31,AC254,AE254))))","v":""},{"$f":"IF(LEN(A254)=0,\"\",INDEX(Str!$C$1:$C$20,MATCH(ROUND(F254,1),Str!$A$1:$A$20,1)))","v":""},"","",{"$f":"IF(LEN(A254)=0,\"\",INDEX(Uni!$C$1:$C$20,MATCH(ROUND($G254,1),Uni!$A$1:$A$20,1)))","v":""},null,"",{"$f":"IF(LEN(A254)=0,\"\",IF(OR(LEN(B254)=0,LEN(C254)=0,LEN(D254)=0,LEN(E254)=0,LEN(F254)=0,LEN(G254)=0),\"no HVI data\",IF('Base Values'!$B$6+(SUM($N254:$R254)/100)<0,0,'Base Values'!$B$6+(SUM(N254:R254)/100))))","v":""},null,{"$f":"IF(LEN(A254)=0,\"\",IF(LEN(H254)=0,INDEX(Ext!$A$1:$G$5,MATCH(0,Ext!$A$1:$A$5,0),MATCH(H$7,Ext!$A$2:$E$2,0)),IF(AND(H254>=0,H254<3),INDEX(Ext!$A$1:$G$5,MATCH(H254,Ext!$A$1:$A$5,0),MATCH(H$7,Ext!$A$2:$E$2,0)),\"invalid entry\")))","v":""},{"$f":"IF(LEN(B254)=0,\"\",IF(LEN(I254)=0,INDEX(Ext!$A$1:$G$5,MATCH(0,Ext!$A$1:$A$5,0),MATCH(I$7,Ext!$A$2:$E$2,0)),IF(AND(I254>=0,I254<3),INDEX(Ext!$A$1:$G$5,MATCH(I254,Ext!$A$1:$A$5,0),MATCH(I$7,Ext!$A$2:$E$2,0)),\"invalid entry\")))","v":""},{"$f":"IF(LEN(C254)=0,\"\",IF(LEN(J254)=0,INDEX(Ext!$A$1:$G$5,MATCH(0,Ext!$A$1:$A$5,0),MATCH(J$7,Ext!$A$2:$E$2,0)),IF(AND(J254>=0,J254<3),INDEX(Ext!$A$1:$G$5,MATCH(J254,Ext!$A$1:$A$5,0),MATCH(J$7,Ext!$A$2:$E$2,0)),\"invalid entry\")))","v":""}]
[null,null,null,null,null,null,null,null,null,null,null,{"$f":"IF(LEN(A255)=0,\"\",IF(LEN(E255)=0,\"HVI data needed\",INDEX('Staple Lookup'!$C$3:$C$100,MATCH(TRUE,'Staple Lookup'!$B$3:$B$100>=ROUND(E255,2),0))))","v":""},null,{"$f":"IF(OR(LEN(B255)=0,LEN(C255)=0,LEN(D255)=0),\"\",IF(AND(RIGHT(B255,1)*1=1,C255=8),-2000,IF(L255>=38,AB255,IF(L255<=31,AC255,AE255))))","v":""},{"$f":"IF(LEN(A255)=0,\"\",INDEX(Str!$C$1:$C$20,MATCH(ROUND(F255,1),Str!$A$1:$A$20,1)))","v":""},"","",{"$f":"IF(LEN(A255)=0,\"\",INDEX(Uni!$C$1:$C$20,MATCH(ROUND($G255,1),Uni!$A$1:$A$20,1)))","v":""},null,"",{"$f":"IF(LEN(A255)=0,\"\",IF(OR(LEN(B255)=0,LEN(C255)=0,LEN(D255)=0,LEN(E255)=0,LEN(F255)=0,LEN(G255)=0),\"no HVI data\",IF('Base Values'!$B$6+(SUM($N255:$R255)/100)<0,0,'Base Values'!$B$6+(SUM(N255:R255)/100))))","v":""},null,{"$f":"IF(LEN(A255)=0,\"\",IF(LEN(H255)=0,INDEX(Ext!$A$1:$G$5,MATCH(0,Ext!$A$1:$A$5,0),MATCH(H$7,Ext!$A$2:$E$2,0)),IF(AND(H255>=0,H255<3),INDEX(Ext!$A$1:$G$5,MATCH(H255,Ext!$A$1:$A$5,0),MATCH(H$7,Ext!$A$2:$E$2,0)),\"invalid entry\")))","v":""},{"$f":"IF(LEN(B255)=0,\"\",IF(LEN(I255)=0,INDEX(Ext!$A$1:$G$5,MATCH(0,Ext!$A$1:$A$5,0),MATCH(I$7,Ext!$A$2:$E$2,0)),IF(AND(I255>=0,I255<3),INDEX(Ext!$A$1:$G$5,MATCH(I255,Ext!$A$1:$A$5,0),MATCH(I$7,Ext!$A$2:$E$2,0)),\"invalid entry\")))","v":""},{"$f":"IF(LEN(C255)=0,\"\",IF(LEN(J255)=0,INDEX(Ext!$A$1:$G$5,MATCH(0,Ext!$A$1:$A$5,0),MATCH(J$7,Ext!$A$2:$E$2,0)),IF(AND(J255>=0,J255<3),INDEX(Ext!$A$1:$G$5,MATCH(J255,Ext!$A$1:$A$5,0),MATCH(J$7,Ext!$A$2:$E$2,0)),\"invalid entry\")))","v":""}]
[null,null,null,null,null,null,null,null,null,null,null,{"$f":"IF(LEN(A256)=0,\"\",IF(LEN(E256)=0,\"HVI data needed\",INDEX('Staple Lookup'!$C$3:$C$100,MATCH(TRUE,'Staple Lookup'!$B$3:$B$100>=ROUND(E256,2),0))))","v":""},null,{"$f":"IF(OR(LEN(B256)=0,LEN(C256)=0,LEN(D256)=0),\"\",IF(AND(RIGHT(B256,1)*1=1,C256=8),-2000,IF(L256>=38,AB256,IF(L256<=31,AC256,AE256))))","v":""},{"$f":"IF(LEN(A256)=0,\"\",INDEX(Str!$C$1:$C$20,MATCH(ROUND(F256,1),Str!$A$1:$A$20,1)))","v":""},"","",{"$f":"IF(LEN(A256)=0,\"\",INDEX(Uni!$C$1:$C$20,MATCH(ROUND($G256,1),Uni!$A$1:$A$20,1)))","v":""},null,"",{"$f":"IF(LEN(A256)=0,\"\",IF(OR(LEN(B256)=0,LEN(C256)=0,LEN(D256)=0,LEN(E256)=0,LEN(F256)=0,LEN(G256)=0),\"no HVI data\",IF('Base Values'!$B$6+(SUM($N256:$R256)/100)<0,0,'Base Values'!$B$6+(SUM(N256:R256)/100))))","v":""},null,{"$f":"IF(LEN(A256)=0,\"\",IF(LEN(H256)=0,INDEX(Ext!$A$1:$G$5,MATCH(0,Ext!$A$1:$A$5,0),MATCH(H$7,Ext!$A$2:$E$2,0)),IF(AND(H256>=0,H256<3),INDEX(Ext!$A$1:$G$5,MATCH(H256,Ext!$A$1:$A$5,0),MATCH(H$7,Ext!$A$2:$E$2,0)),\"invalid entry\")))","v":""},{"$f":"IF(LEN(B256)=0,\"\",IF(LEN(I256)=0,INDEX(Ext!$A$1:$G$5,MATCH(0,Ext!$A$1:$A$5,0),MATCH(I$7,Ext!$A$2:$E$2,0)),IF(AND(I256>=0,I256<3),INDEX(Ext!$A$1:$G$5,MATCH(I256,Ext!$A$1:$A$5,0),MATCH(I$7,Ext!$A$2:$E$2,0)),\"invalid entry\")))","v":""},{"$f":"IF(LEN(C256)=0,\"\",IF(LEN(J256)=0,INDEX(Ext!$A$1:$G$5,MATCH(0,Ext!$A$1:$A$5,0),MATCH(J$7,Ext!$A$2:$E$2,0)),IF(AND(J256>=0,J256<3),INDEX(Ext!$A$1:$G$5,MATCH(J256,Ext!$A$1:$A$5,0),MATCH(J$7,Ext!$A$2:$E$2,0)),\"invalid entry\")))","v":""}]
[null,null,null,null,null,null,null,null,null,null,null,{"$f":"IF(LEN(A257)=0,\"\",IF(LEN(E257)=0,\"HVI data needed\",INDEX('Staple Lookup'!$C$3:$C$100,MATCH(TRUE,'Staple Lookup'!$B$3:$B$100>=ROUND(E257,2),0))))","v":""},null,{"$f":"IF(OR(LEN(B257)=0,LEN(C257)=0,LEN(D257)=0),\"\",IF(AND(RIGHT(B257,1)*1=1,C257=8),-2000,IF(L257>=38,AB257,IF(L257<=31,AC257,AE257))))","v":""},{"$f":"IF(LEN(A257)=0,\"\",INDEX(Str!$C$1:$C$20,MATCH(ROUND(F257,1),Str!$A$1:$A$20,1)))","v":""},"","",{"$f":"IF(LEN(A257)=0,\"\",INDEX(Uni!$C$1:$C$20,MATCH(ROUND($G257,1),Uni!$A$1:$A$20,1)))","v":""},null,"",{"$f":"IF(LEN(A257)=0,\"\",IF(OR(LEN(B257)=0,LEN(C257)=0,LEN(D257)=0,LEN(E257)=0,LEN(F257)=0,LEN(G257)=0),\"no HVI data\",IF('Base Values'!$B$6+(SUM($N257:$R257)/100)<0,0,'Base Values'!$B$6+(SUM(N257:R257)/100))))","v":""},null,{"$f":"IF(LEN(A257)=0,\"\",IF(LEN(H257)=0,INDEX(Ext!$A$1:$G$5,MATCH(0,Ext!$A$1:$A$5,0),MATCH(H$7,Ext!$A$2:$E$2,0)),IF(AND(H257>=0,H257<3),INDEX(Ext!$A$1:$G$5,MATCH(H257,Ext!$A$1:$A$5,0),MATCH(H$7,Ext!$A$2:$E$2,0)),\"invalid entry\")))","v":""},{"$f":"IF(LEN(B257)=0,\"\",IF(LEN(I257)=0,INDEX(Ext!$A$1:$G$5,MATCH(0,Ext!$A$1:$A$5,0),MATCH(I$7,Ext!$A$2:$E$2,0)),IF(AND(I257>=0,I257<3),INDEX(Ext!$A$1:$G$5,MATCH(I257,Ext!$A$1:$A$5,0),MATCH(I$7,Ext!$A$2:$E$2,0)),\"invalid entry\")))","v":""},{"$f":"IF(LEN(C257)=0,\"\",IF(LEN(J257)=0,INDEX(Ext!$A$1:$G$5,MATCH(0,Ext!$A$1:$A$5,0),MATCH(J$7,Ext!$A$2:$E$2,0)),IF(AND(J257>=0,J257<3),INDEX(Ext!$A$1:$G$5,MATCH(J257,Ext!$A$1:$A$5,0),MATCH(J$7,Ext!$A$2:$E$2,0)),\"invalid entry\")))","v":""}]
[null,null,null,null,null,null,null,null,null,null,null,{"$f":"IF(LEN(A258)=0,\"\",IF(LEN(E258)=0,\"HVI data needed\",INDEX('Staple Lookup'!$C$3:$C$100,MATCH(TRUE,'Staple Lookup'!$B$3:$B$100>=ROUND(E258,2),0))))","v":""},null,{"$f":"IF(OR(LEN(B258)=0,LEN(C258)=0,LEN(D258)=0),\"\",IF(AND(RIGHT(B258,1)*1=1,C258=8),-2000,IF(L258>=38,AB258,IF(L258<=31,AC258,AE258))))","v":""},{"$f":"IF(LEN(A258)=0,\"\",INDEX(Str!$C$1:$C$20,MATCH(ROUND(F258,1),Str!$A$1:$A$20,1)))","v":""},"","",{"$f":"IF(LEN(A258)=0,\"\",INDEX(Uni!$C$1:$C$20,MATCH(ROUND($G258,1),Uni!$A$1:$A$20,1)))","v":""},null,"",{"$f":"IF(LEN(A258)=0,\"\",IF(OR(LEN(B258)=0,LEN(C258)=0,LEN(D258)=0,LEN(E258)=0,LEN(F258)=0,LEN(G258)=0),\"no HVI data\",IF('Base Values'!$B$6+(SUM($N258:$R258)/100)<0,0,'Base Values'!$B$6+(SUM(N258:R258)/100))))","v":""},null,{"$f":"IF(LEN(A258)=0,\"\",IF(LEN(H258)=0,INDEX(Ext!$A$1:$G$5,MATCH(0,Ext!$A$1:$A$5,0),MATCH(H$7,Ext!$A$2:$E$2,0)),IF(AND(H258>=0,H258<3),INDEX(Ext!$A$1:$G$5,MATCH(H258,Ext!$A$1:$A$5,0),MATCH(H$7,Ext!$A$2:$E$2,0)),\"invalid entry\")))","v":""},{"$f":"IF(LEN(B258)=0,\"\",IF(LEN(I258)=0,INDEX(Ext!$A$1:$G$5,MATCH(0,Ext!$A$1:$A$5,0),MATCH(I$7,Ext!$A$2:$E$2,0)),IF(AND(I258>=0,I258<3),INDEX(Ext!$A$1:$G$5,MATCH(I258,Ext!$A$1:$A$5,0),MATCH(I$7,Ext!$A$2:$E$2,0)),\"invalid entry\")))","v":""},{"$f":"IF(LEN(C258)=0,\"\",IF(LEN(J258)=0,INDEX(Ext!$A$1:$G$5,MATCH(0,Ext!$A$1:$A$5,0),MATCH(J$7,Ext!$A$2:$E$2,0)),IF(AND(J258>=0,J258<3),INDEX(Ext!$A$1:$G$5,MATCH(J258,Ext!$A$1:$A$5,0),MATCH(J$7,Ext!$A$2:$E$2,0)),\"invalid entry\")))","v":""}]
[null,null,null,null,null,null,null,null,null,null,null,{"$f":"IF(LEN(A259)=0,\"\",IF(LEN(E259)=0,\"HVI data needed\",INDEX('Staple Lookup'!$C$3:$C$100,MATCH(TRUE,'Staple Lookup'!$B$3:$B$100>=ROUND(E259,2),0))))","v":""},null,{"$f":"IF(OR(LEN(B259)=0,LEN(C259)=0,LEN(D259)=0),\"\",IF(AND(RIGHT(B259,1)*1=1,C259=8),-2000,IF(L259>=38,AB259,IF(L259<=31,AC259,AE259))))","v":""},{"$f":"IF(LEN(A259)=0,\"\",INDEX(Str!$C$1:$C$20,MATCH(ROUND(F259,1),Str!$A$1:$A$20,1)))","v":""},"","",{"$f":"IF(LEN(A259)=0,\"\",INDEX(Uni!$C$1:$C$20,MATCH(ROUND($G259,1),Uni!$A$1:$A$20,1)))","v":""},null,"",{"$f":"IF(LEN(A259)=0,\"\",IF(OR(LEN(B259)=0,LEN(C259)=0,LEN(D259)=0,LEN(E259)=0,LEN(F259)=0,LEN(G259)=0),\"no HVI data\",IF('Base Values'!$B$6+(SUM($N259:$R259)/100)<0,0,'Base Values'!$B$6+(SUM(N259:R259)/100))))","v":""},null,{"$f":"IF(LEN(A259)=0,\"\",IF(LEN(H259)=0,INDEX(Ext!$A$1:$G$5,MATCH(0,Ext!$A$1:$A$5,0),MATCH(H$7,Ext!$A$2:$E$2,0)),IF(AND(H259>=0,H259<3),INDEX(Ext!$A$1:$G$5,MATCH(H259,Ext!$A$1:$A$5,0),MATCH(H$7,Ext!$A$2:$E$2,0)),\"invalid entry\")))","v":""},{"$f":"IF(LEN(B259)=0,\"\",IF(LEN(I259)=0,INDEX(Ext!$A$1:$G$5,MATCH(0,Ext!$A$1:$A$5,0),MATCH(I$7,Ext!$A$2:$E$2,0)),IF(AND(I259>=0,I259<3),INDEX(Ext!$A$1:$G$5,MATCH(I259,Ext!$A$1:$A$5,0),MATCH(I$7,Ext!$A$2:$E$2,0)),\"invalid entry\")))","v":""},{"$f":"IF(LEN(C259)=0,\"\",IF(LEN(J259)=0,INDEX(Ext!$A$1:$G$5,MATCH(0,Ext!$A$1:$A$5,0),MATCH(J$7,Ext!$A$2:$E$2,0)),IF(AND(J259>=0,J259<3),INDEX(Ext!$A$1:$G$5,MATCH(J259,Ext!$A$1:$A$5,0),MATCH(J$7,Ext!$A$2:$E$2,0)),\"invalid entry\")))","v":""}]
[null,null,null,null,null,null,null,null,null,null,null,{"$f":"IF(LEN(A260)=0,\"\",IF(LEN(E260)=0,\"HVI data needed\",INDEX('Staple Lookup'!$C$3:$C$100,MATCH(TRUE,'Staple Lookup'!$B$3:$B$100>=ROUND(E260,2),0))))","v":""},null,{"$f":"IF(OR(LEN(B260)=0,LEN(C260)=0,LEN(D260)=0),\"\",IF(AND(RIGHT(B260,1)*1=1,C260=8),-2000,IF(L260>=38,AB260,IF(L260<=31,AC260,AE260))))","v":""},{"$f":"IF(LEN(A260)=0,\"\",INDEX(Str!$C$1:$C$20,MATCH(ROUND(F260,1),Str!$A$1:$A$20,1)))","v":""},"","",{"$f":"IF(LEN(A260)=0,\"\",INDEX(Uni!$C$1:$C$20,MATCH(ROUND($G260,1),Uni!$A$1:$A$20,1)))","v":""},null,"",{"$f":"IF(LEN(A260)=0,\"\",IF(OR(LEN(B260)=0,LEN(C260)=0,LEN(D260)=0,LEN(E260)=0,LEN(F260)=0,LEN(G260)=0),\"no HVI data\",IF('Base Values'!$B$6+(SUM($N260:$R260)/100)<0,0,'Base Values'!$B$6+(SUM(N260:R260)/100))))","v":""},null,{"$f":"IF(LEN(A260)=0,\"\",IF(LEN(H260)=0,INDEX(Ext!$A$1:$G$5,MATCH(0,Ext!$A$1:$A$5,0),MATCH(H$7,Ext!$A$2:$E$2,0)),IF(AND(H260>=0,H260<3),INDEX(Ext!$A$1:$G$5,MATCH(H260,Ext!$A$1:$A$5,0),MATCH(H$7,Ext!$A$2:$E$2,0)),\"invalid entry\")))","v":""},{"$f":"IF(LEN(B260)=0,\"\",IF(LEN(I260)=0,INDEX(Ext!$A$1:$G$5,MATCH(0,Ext!$A$1:$A$5,0),MATCH(I$7,Ext!$A$2:$E$2,0)),IF(AND(I260>=0,I260<3),INDEX(Ext!$A$1:$G$5,MATCH(I260,Ext!$A$1:$A$5,0),MATCH(I$7,Ext!$A$2:$E$2,0)),\"invalid entry\")))","v":""},{"$f":"IF(LEN(C260)=0,\"\",IF(LEN(J260)=0,INDEX(Ext!$A$1:$G$5,MATCH(0,Ext!$A$1:$A$5,0),MATCH(J$7,Ext!$A$2:$E$2,0)),IF(AND(J260>=0,J260<3),INDEX(Ext!$A$1:$G$5,MATCH(J260,Ext!$A$1:$A$5,0),MATCH(J$7,Ext!$A$2:$E$2,0)),\"invalid entry\")))","v":""}]
[null,null,null,null,null,null,null,null,null,null,null,{"$f":"IF(LEN(A261)=0,\"\",IF(LEN(E261)=0,\"HVI data needed\",INDEX('Staple Lookup'!$C$3:$C$100,MATCH(TRUE,'Staple Lookup'!$B$3:$B$100>=ROUND(E261,2),0))))","v":""},null,{"$f":"IF(OR(LEN(B261)=0,LEN(C261)=0,LEN(D261)=0),\"\",IF(AND(RIGHT(B261,1)*1=1,C261=8),-2000,IF(L261>=38,AB261,IF(L261<=31,AC261,AE261))))","v":""},{"$f":"IF(LEN(A261)=0,\"\",INDEX(Str!$C$1:$C$20,MATCH(ROUND(F261,1),Str!$A$1:$A$20,1)))","v":""},"","",{"$f":"IF(LEN(A261)=0,\"\",INDEX(Uni!$C$1:$C$20,MATCH(ROUND($G261,1),Uni!$A$1:$A$20,1)))","v":""},null,"",{"$f":"IF(LEN(A261)=0,\"\",IF(OR(LEN(B261)=0,LEN(C261)=0,LEN(D261)=0,LEN(E261)=0,LEN(F261)=0,LEN(G261)=0),\"no HVI data\",IF('Base Values'!$B$6+(SUM($N261:$R261)/100)<0,0,'Base Values'!$B$6+(SUM(N261:R261)/100))))","v":""},null,{"$f":"IF(LEN(A261)=0,\"\",IF(LEN(H261)=0,INDEX(Ext!$A$1:$G$5,MATCH(0,Ext!$A$1:$A$5,0),MATCH(H$7,Ext!$A$2:$E$2,0)),IF(AND(H261>=0,H261<3),INDEX(Ext!$A$1:$G$5,MATCH(H261,Ext!$A$1:$A$5,0),MATCH(H$7,Ext!$A$2:$E$2,0)),\"invalid entry\")))","v":""},{"$f":"IF(LEN(B261)=0,\"\",IF(LEN(I261)=0,INDEX(Ext!$A$1:$G$5,MATCH(0,Ext!$A$1:$A$5,0),MATCH(I$7,Ext!$A$2:$E$2,0)),IF(AND(I261>=0,I261<3),INDEX(Ext!$A$1:$G$5,MATCH(I261,Ext!$A$1:$A$5,0),MATCH(I$7,Ext!$A$2:$E$2,0)),\"invalid entry\")))","v":""},{"$f":"IF(LEN(C261)=0,\"\",IF(LEN(J261)=0,INDEX(Ext!$A$1:$G$5,MATCH(0,Ext!$A$1:$A$5,0),MATCH(J$7,Ext!$A$2:$E$2,0)),IF(AND(J261>=0,J261<3),INDEX(Ext!$A$1:$G$5,MATCH(J261,Ext!$A$1:$A$5,0),MATCH(J$7,Ext!$A$2:$E$2,0)),\"invalid entry\")))","v":""}]
[null,null,null,null,null,null,null,null,null,null,null,{"$f":"IF(LEN(A262)=0,\"\",IF(LEN(E262)=0,\"HVI data needed\",INDEX('Staple Lookup'!$C$3:$C$100,MATCH(TRUE,'Staple Lookup'!$B$3:$B$100>=ROUND(E262,2),0))))","v":""},null,{"$f":"IF(OR(LEN(B262)=0,LEN(C262)=0,LEN(D262)=0),\"\",IF(AND(RIGHT(B262,1)*1=1,C262=8),-2000,IF(L262>=38,AB262,IF(L262<=31,AC262,AE262))))","v":""},{"$f":"IF(LEN(A262)=0,\"\",INDEX(Str!$C$1:$C$20,MATCH(ROUND(F262,1),Str!$A$1:$A$20,1)))","v":""},"","",{"$f":"IF(LEN(A262)=0,\"\",INDEX(Uni!$C$1:$C$20,MATCH(ROUND($G262,1),Uni!$A$1:$A$20,1)))","v":""},null,"",{"$f":"IF(LEN(A262)=0,\"\",IF(OR(LEN(B262)=0,LEN(C262)=0,LEN(D262)=0,LEN(E262)=0,LEN(F262)=0,LEN(G262)=0),\"no HVI data\",IF('Base Values'!$B$6+(SUM($N262:$R262)/100)<0,0,'Base Values'!$B$6+(SUM(N262:R262)/100))))","v":""},null,{"$f":"IF(LEN(A262)=0,\"\",IF(LEN(H262)=0,INDEX(Ext!$A$1:$G$5,MATCH(0,Ext!$A$1:$A$5,0),MATCH(H$7,Ext!$A$2:$E$2,0)),IF(AND(H262>=0,H262<3),INDEX(Ext!$A$1:$G$5,MATCH(H262,Ext!$A$1:$A$5,0),MATCH(H$7,Ext!$A$2:$E$2,0)),\"invalid entry\")))","v":""},{"$f":"IF(LEN(B262)=0,\"\",IF(LEN(I262)=0,INDEX(Ext!$A$1:$G$5,MATCH(0,Ext!$A$1:$A$5,0),MATCH(I$7,Ext!$A$2:$E$2,0)),IF(AND(I262>=0,I262<3),INDEX(Ext!$A$1:$G$5,MATCH(I262,Ext!$A$1:$A$5,0),MATCH(I$7,Ext!$A$2:$E$2,0)),\"invalid entry\")))","v":""},{"$f":"IF(LEN(C262)=0,\"\",IF(LEN(J262)=0,INDEX(Ext!$A$1:$G$5,MATCH(0,Ext!$A$1:$A$5,0),MATCH(J$7,Ext!$A$2:$E$2,0)),IF(AND(J262>=0,J262<3),INDEX(Ext!$A$1:$G$5,MATCH(J262,Ext!$A$1:$A$5,0),MATCH(J$7,Ext!$A$2:$E$2,0)),\"invalid entry\")))","v":""}]
[null,null,null,null,null,null,null,null,null,null,null,{"$f":"IF(LEN(A263)=0,\"\",IF(LEN(E263)=0,\"HVI data needed\",INDEX('Staple Lookup'!$C$3:$C$100,MATCH(TRUE,'Staple Lookup'!$B$3:$B$100>=ROUND(E263,2),0))))","v":""},null,{"$f":"IF(OR(LEN(B263)=0,LEN(C263)=0,LEN(D263)=0),\"\",IF(AND(RIGHT(B263,1)*1=1,C263=8),-2000,IF(L263>=38,AB263,IF(L263<=31,AC263,AE263))))","v":""},{"$f":"IF(LEN(A263)=0,\"\",INDEX(Str!$C$1:$C$20,MATCH(ROUND(F263,1),Str!$A$1:$A$20,1)))","v":""},"","",{"$f":"IF(LEN(A263)=0,\"\",INDEX(Uni!$C$1:$C$20,MATCH(ROUND($G263,1),Uni!$A$1:$A$20,1)))","v":""},null,"",{"$f":"IF(LEN(A263)=0,\"\",IF(OR(LEN(B263)=0,LEN(C263)=0,LEN(D263)=0,LEN(E263)=0,LEN(F263)=0,LEN(G263)=0),\"no HVI data\",IF('Base Values'!$B$6+(SUM($N263:$R263)/100)<0,0,'Base Values'!$B$6+(SUM(N263:R263)/100))))","v":""},null,{"$f":"IF(LEN(A263)=0,\"\",IF(LEN(H263)=0,INDEX(Ext!$A$1:$G$5,MATCH(0,Ext!$A$1:$A$5,0),MATCH(H$7,Ext!$A$2:$E$2,0)),IF(AND(H263>=0,H263<3),INDEX(Ext!$A$1:$G$5,MATCH(H263,Ext!$A$1:$A$5,0),MATCH(H$7,Ext!$A$2:$E$2,0)),\"invalid entry\")))","v":""},{"$f":"IF(LEN(B263)=0,\"\",IF(LEN(I263)=0,INDEX(Ext!$A$1:$G$5,MATCH(0,Ext!$A$1:$A$5,0),MATCH(I$7,Ext!$A$2:$E$2,0)),IF(AND(I263>=0,I263<3),INDEX(Ext!$A$1:$G$5,MATCH(I263,Ext!$A$1:$A$5,0),MATCH(I$7,Ext!$A$2:$E$2,0)),\"invalid entry\")))","v":""},{"$f":"IF(LEN(C263)=0,\"\",IF(LEN(J263)=0,INDEX(Ext!$A$1:$G$5,MATCH(0,Ext!$A$1:$A$5,0),MATCH(J$7,Ext!$A$2:$E$2,0)),IF(AND(J263>=0,J263<3),INDEX(Ext!$A$1:$G$5,MATCH(J263,Ext!$A$1:$A$5,0),MATCH(J$7,Ext!$A$2:$E$2,0)),\"invalid entry\")))","v":""}]
[null,null,null,null,null,null,null,null,null,null,null,{"$f":"IF(LEN(A264)=0,\"\",IF(LEN(E264)=0,\"HVI data needed\",INDEX('Staple Lookup'!$C$3:$C$100,MATCH(TRUE,'Staple Lookup'!$B$3:$B$100>=ROUND(E264,2),0))))","v":""},null,{"$f":"IF(OR(LEN(B264)=0,LEN(C264)=0,LEN(D264)=0),\"\",IF(AND(RIGHT(B264,1)*1=1,C264=8),-2000,IF(L264>=38,AB264,IF(L264<=31,AC264,AE264))))","v":""},{"$f":"IF(LEN(A264)=0,\"\",INDEX(Str!$C$1:$C$20,MATCH(ROUND(F264,1),Str!$A$1:$A$20,1)))","v":""},"","",{"$f":"IF(LEN(A264)=0,\"\",INDEX(Uni!$C$1:$C$20,MATCH(ROUND($G264,1),Uni!$A$1:$A$20,1)))","v":""},null,"",{"$f":"IF(LEN(A264)=0,\"\",IF(OR(LEN(B264)=0,LEN(C264)=0,LEN(D264)=0,LEN(E264)=0,LEN(F264)=0,LEN(G264)=0),\"no HVI data\",IF('Base Values'!$B$6+(SUM($N264:$R264)/100)<0,0,'Base Values'!$B$6+(SUM(N264:R264)/100))))","v":""},null,{"$f":"IF(LEN(A264)=0,\"\",IF(LEN(H264)=0,INDEX(Ext!$A$1:$G$5,MATCH(0,Ext!$A$1:$A$5,0),MATCH(H$7,Ext!$A$2:$E$2,0)),IF(AND(H264>=0,H264<3),INDEX(Ext!$A$1:$G$5,MATCH(H264,Ext!$A$1:$A$5,0),MATCH(H$7,Ext!$A$2:$E$2,0)),\"invalid entry\")))","v":""},{"$f":"IF(LEN(B264)=0,\"\",IF(LEN(I264)=0,INDEX(Ext!$A$1:$G$5,MATCH(0,Ext!$A$1:$A$5,0),MATCH(I$7,Ext!$A$2:$E$2,0)),IF(AND(I264>=0,I264<3),INDEX(Ext!$A$1:$G$5,MATCH(I264,Ext!$A$1:$A$5,0),MATCH(I$7,Ext!$A$2:$E$2,0)),\"invalid entry\")))","v":""},{"$f":"IF(LEN(C264)=0,\"\",IF(LEN(J264)=0,INDEX(Ext!$A$1:$G$5,MATCH(0,Ext!$A$1:$A$5,0),MATCH(J$7,Ext!$A$2:$E$2,0)),IF(AND(J264>=0,J264<3),INDEX(Ext!$A$1:$G$5,MATCH(J264,Ext!$A$1:$A$5,0),MATCH(J$7,Ext!$A$2:$E$2,0)),\"invalid entry\")))","v":""}]
[null,null,null,null,null,null,null,null,null,null,null,{"$f":"IF(LEN(A265)=0,\"\",IF(LEN(E265)=0,\"HVI data needed\",INDEX('Staple Lookup'!$C$3:$C$100,MATCH(TRUE,'Staple Lookup'!$B$3:$B$100>=ROUND(E265,2),0))))","v":""},null,{"$f":"IF(OR(LEN(B265)=0,LEN(C265)=0,LEN(D265)=0),\"\",IF(AND(RIGHT(B265,1)*1=1,C265=8),-2000,IF(L265>=38,AB265,IF(L265<=31,AC265,AE265))))","v":""},{"$f":"IF(LEN(A265)=0,\"\",INDEX(Str!$C$1:$C$20,MATCH(ROUND(F265,1),Str!$A$1:$A$20,1)))","v":""},{"$f":"IF(LEN(A265)=0,\"\",IF(AND(AG265=1,AH265>0),AH265,IF(AND(AG265=0,AH265>0),0,AH265)))","v":""},{"$f":"IF(LEN(A265)=0,\"\",SUM(W265:Z265))","v":""},{"$f":"IF(LEN(A265)=0,\"\",INDEX(Uni!$C$1:$C$20,MATCH(ROUND($G265,1),Uni!$A$1:$A$20,1)))","v":""},null,{"$f":"IF(LEN(A265)=0,\"\",IF(OR(LEN(B265)=0,LEN(C265)=0,LEN(D265)=0,LEN(E265)=0,LEN(F265)=0,LEN(G265)=0),\"no HVI data\",SUM(N265:R265)))","v":""},{"$f":"IF(LEN(A265)=0,\"\",IF(OR(LEN(B265)=0,LEN(C265)=0,LEN(D265)=0,LEN(E265)=0,LEN(F265)=0,LEN(G265)=0),\"no HVI data\",IF('Base Values'!$B$6+(SUM($N265:$R265)/100)<0,0,'Base Values'!$B$6+(SUM(N265:R265)/100))))","v":""},null,{"$f":"IF(LEN(A265)=0,\"\",IF(LEN(H265)=0,INDEX(Ext!$A$1:$G$5,MATCH(0,Ext!$A$1:$A$5,0),MATCH(H$7,Ext!$A$2:$E$2,0)),IF(AND(H265>=0,H265<3),INDEX(Ext!$A$1:$G$5,MATCH(H265,Ext!$A$1:$A$5,0),MATCH(H$7,Ext!$A$2:$E$2,0)),\"invalid entry\")))","v":""},{"$f":"IF(LEN(B265)=0,\"\",IF(LEN(I265)=0,INDEX(Ext!$A$1:$G$5,MATCH(0,Ext!$A$1:$A$5,0),MATCH(I$7,Ext!$A$2:$E$2,0)),IF(AND(I265>=0,I265<3),INDEX(Ext!$A$1:$G$5,MATCH(I265,Ext!$A$1:$A$5,0),MATCH(I$7,Ext!$A$2:$E$2,0)),\"invalid entry\")))","v":""},{"$f":"IF(LEN(C265)=0,\"\",IF(LEN(J265)=0,INDEX(Ext!$A$1:$G$5,MATCH(0,Ext!$A$1:$A$5,0),MATCH(J$7,Ext!$A$2:$E$2,0)),IF(AND(J265>=0,J265<3),INDEX(Ext!$A$1:$G$5,MATCH(J265,Ext!$A$1:$A$5,0),MATCH(J$7,Ext!$A$2:$E$2,0)),\"invalid entry\")))","v":""}]
[null,null,null,null,null,null,null,null,null,null,null,{"$f":"IF(LEN(A266)=0,\"\",IF(LEN(E266)=0,\"HVI data needed\",INDEX('Staple Lookup'!$C$3:$C$100,MATCH(TRUE,'Staple Lookup'!$B$3:$B$100>=ROUND(E266,2),0))))","v":""},null,{"$f":"IF(OR(LEN(B266)=0,LEN(C266)=0,LEN(D266)=0),\"\",IF(AND(RIGHT(B266,1)*1=1,C266=8),-2000,IF(L266>=38,AB266,IF(L266<=31,AC266,AE266))))","v":""},{"$f":"IF(LEN(A266)=0,\"\",INDEX(Str!$C$1:$C$20,MATCH(ROUND(F266,1),Str!$A$1:$A$20,1)))","v":""},"","",{"$f":"IF(LEN(A266)=0,\"\",INDEX(Uni!$C$1:$C$20,MATCH(ROUND($G266,1),Uni!$A$1:$A$20,1)))","v":""},null,"",{"$f":"IF(LEN(A266)=0,\"\",IF(OR(LEN(B266)=0,LEN(C266)=0,LEN(D266)=0,LEN(E266)=0,LEN(F266)=0,LEN(G266)=0),\"no HVI data\",IF('Base Values'!$B$6+(SUM($N266:$R266)/100)<0,0,'Base Values'!$B$6+(SUM(N266:R266)/100))))","v":""},null,{"$f":"IF(LEN(A266)=0,\"\",IF(LEN(H266)=0,INDEX(Ext!$A$1:$G$5,MATCH(0,Ext!$A$1:$A$5,0),MATCH(H$7,Ext!$A$2:$E$2,0)),IF(AND(H266>=0,H266<3),INDEX(Ext!$A$1:$G$5,MATCH(H266,Ext!$A$1:$A$5,0),MATCH(H$7,Ext!$A$2:$E$2,0)),\"invalid entry\")))","v":""},{"$f":"IF(LEN(B266)=0,\"\",IF(LEN(I266)=0,INDEX(Ext!$A$1:$G$5,MATCH(0,Ext!$A$1:$A$5,0),MATCH(I$7,Ext!$A$2:$E$2,0)),IF(AND(I266>=0,I266<3),INDEX(Ext!$A$1:$G$5,MATCH(I266,Ext!$A$1:$A$5,0),MATCH(I$7,Ext!$A$2:$E$2,0)),\"invalid entry\")))","v":""},{"$f":"IF(LEN(C266)=0,\"\",IF(LEN(J266)=0,INDEX(Ext!$A$1:$G$5,MATCH(0,Ext!$A$1:$A$5,0),MATCH(J$7,Ext!$A$2:$E$2,0)),IF(AND(J266>=0,J266<3),INDEX(Ext!$A$1:$G$5,MATCH(J266,Ext!$A$1:$A$5,0),MATCH(J$7,Ext!$A$2:$E$2,0)),\"invalid entry\")))","v":""}]
[null,null,null,null,null,null,null,null,null,null,null,{"$f":"IF(LEN(A267)=0,\"\",IF(LEN(E267)=0,\"HVI data needed\",INDEX('Staple Lookup'!$C$3:$C$100,MATCH(TRUE,'Staple Lookup'!$B$3:$B$100>=ROUND(E267,2),0))))","v":""},null,{"$f":"IF(OR(LEN(B267)=0,LEN(C267)=0,LEN(D267)=0),\"\",IF(AND(RIGHT(B267,1)*1=1,C267=8),-2000,IF(L267>=38,AB267,IF(L267<=31,AC267,AE267))))","v":""},{"$f":"IF(LEN(A267)=0,\"\",INDEX(Str!$C$1:$C$20,MATCH(ROUND(F267,1),Str!$A$1:$A$20,1)))","v":""},"","",{"$f":"IF(LEN(A267)=0,\"\",INDEX(Uni!$C$1:$C$20,MATCH(ROUND($G267,1),Uni!$A$1:$A$20,1)))","v":""},null,"",{"$f":"IF(LEN(A267)=0,\"\",IF(OR(LEN(B267)=0,LEN(C267)=0,LEN(D267)=0,LEN(E267)=0,LEN(F267)=0,LEN(G267)=0),\"no HVI data\",IF('Base Values'!$B$6+(SUM($N267:$R267)/100)<0,0,'Base Values'!$B$6+(SUM(N267:R267)/100))))","v":""},null,{"$f":"IF(LEN(A267)=0,\"\",IF(LEN(H267)=0,INDEX(Ext!$A$1:$G$5,MATCH(0,Ext!$A$1:$A$5,0),MATCH(H$7,Ext!$A$2:$E$2,0)),IF(AND(H267>=0,H267<3),INDEX(Ext!$A$1:$G$5,MATCH(H267,Ext!$A$1:$A$5,0),MATCH(H$7,Ext!$A$2:$E$2,0)),\"invalid entry\")))","v":""},{"$f":"IF(LEN(B267)=0,\"\",IF(LEN(I267)=0,INDEX(Ext!$A$1:$G$5,MATCH(0,Ext!$A$1:$A$5,0),MATCH(I$7,Ext!$A$2:$E$2,0)),IF(AND(I267>=0,I267<3),INDEX(Ext!$A$1:$G$5,MATCH(I267,Ext!$A$1:$A$5,0),MATCH(I$7,Ext!$A$2:$E$2,0)),\"invalid entry\")))","v":""},{"$f":"IF(LEN(C267)=0,\"\",IF(LEN(J267)=0,INDEX(Ext!$A$1:$G$5,MATCH(0,Ext!$A$1:$A$5,0),MATCH(J$7,Ext!$A$2:$E$2,0)),IF(AND(J267>=0,J267<3),INDEX(Ext!$A$1:$G$5,MATCH(J267,Ext!$A$1:$A$5,0),MATCH(J$7,Ext!$A$2:$E$2,0)),\"invalid entry\")))","v":""}]
[null,null,null,null,null,null,null,null,null,null,null,{"$f":"IF(LEN(A268)=0,\"\",IF(LEN(E268)=0,\"HVI data needed\",INDEX('Staple Lookup'!$C$3:$C$100,MATCH(TRUE,'Staple Lookup'!$B$3:$B$100>=ROUND(E268,2),0))))","v":""},null,{"$f":"IF(OR(LEN(B268)=0,LEN(C268)=0,LEN(D268)=0),\"\",IF(AND(RIGHT(B268,1)*1=1,C268=8),-2000,IF(L268>=38,AB268,IF(L268<=31,AC268,AE268))))","v":""},{"$f":"IF(LEN(A268)=0,\"\",INDEX(Str!$C$1:$C$20,MATCH(ROUND(F268,1),Str!$A$1:$A$20,1)))","v":""},"","",{"$f":"IF(LEN(A268)=0,\"\",INDEX(Uni!$C$1:$C$20,MATCH(ROUND($G268,1),Uni!$A$1:$A$20,1)))","v":""},null,"",{"$f":"IF(LEN(A268)=0,\"\",IF(OR(LEN(B268)=0,LEN(C268)=0,LEN(D268)=0,LEN(E268)=0,LEN(F268)=0,LEN(G268)=0),\"no HVI data\",IF('Base Values'!$B$6+(SUM($N268:$R268)/100)<0,0,'Base Values'!$B$6+(SUM(N268:R268)/100))))","v":""},null,{"$f":"IF(LEN(A268)=0,\"\",IF(LEN(H268)=0,INDEX(Ext!$A$1:$G$5,MATCH(0,Ext!$A$1:$A$5,0),MATCH(H$7,Ext!$A$2:$E$2,0)),IF(AND(H268>=0,H268<3),INDEX(Ext!$A$1:$G$5,MATCH(H268,Ext!$A$1:$A$5,0),MATCH(H$7,Ext!$A$2:$E$2,0)),\"invalid entry\")))","v":""},{"$f":"IF(LEN(B268)=0,\"\",IF(LEN(I268)=0,INDEX(Ext!$A$1:$G$5,MATCH(0,Ext!$A$1:$A$5,0),MATCH(I$7,Ext!$A$2:$E$2,0)),IF(AND(I268>=0,I268<3),INDEX(Ext!$A$1:$G$5,MATCH(I268,Ext!$A$1:$A$5,0),MATCH(I$7,Ext!$A$2:$E$2,0)),\"invalid entry\")))","v":""},{"$f":"IF(LEN(C268)=0,\"\",IF(LEN(J268)=0,INDEX(Ext!$A$1:$G$5,MATCH(0,Ext!$A$1:$A$5,0),MATCH(J$7,Ext!$A$2:$E$2,0)),IF(AND(J268>=0,J268<3),INDEX(Ext!$A$1:$G$5,MATCH(J268,Ext!$A$1:$A$5,0),MATCH(J$7,Ext!$A$2:$E$2,0)),\"invalid entry\")))","v":""}]
[null,null,null,null,null,null,null,null,null,null,null,{"$f":"IF(LEN(A269)=0,\"\",IF(LEN(E269)=0,\"HVI data needed\",INDEX('Staple Lookup'!$C$3:$C$100,MATCH(TRUE,'Staple Lookup'!$B$3:$B$100>=ROUND(E269,2),0))))","v":""},null,{"$f":"IF(OR(LEN(B269)=0,LEN(C269)=0,LEN(D269)=0),\"\",IF(AND(RIGHT(B269,1)*1=1,C269=8),-2000,IF(L269>=38,AB269,IF(L269<=31,AC269,AE269))))","v":""},{"$f":"IF(LEN(A269)=0,\"\",INDEX(Str!$C$1:$C$20,MATCH(ROUND(F269,1),Str!$A$1:$A$20,1)))","v":""},"","",{"$f":"IF(LEN(A269)=0,\"\",INDEX(Uni!$C$1:$C$20,MATCH(ROUND($G269,1),Uni!$A$1:$A$20,1)))","v":""},null,"",{"$f":"IF(LEN(A269)=0,\"\",IF(OR(LEN(B269)=0,LEN(C269)=0,LEN(D269)=0,LEN(E269)=0,LEN(F269)=0,LEN(G269)=0),\"no HVI data\",IF('Base Values'!$B$6+(SUM($N269:$R269)/100)<0,0,'Base Values'!$B$6+(SUM(N269:R269)/100))))","v":""},null,{"$f":"IF(LEN(A269)=0,\"\",IF(LEN(H269)=0,INDEX(Ext!$A$1:$G$5,MATCH(0,Ext!$A$1:$A$5,0),MATCH(H$7,Ext!$A$2:$E$2,0)),IF(AND(H269>=0,H269<3),INDEX(Ext!$A$1:$G$5,MATCH(H269,Ext!$A$1:$A$5,0),MATCH(H$7,Ext!$A$2:$E$2,0)),\"invalid entry\")))","v":""},{"$f":"IF(LEN(B269)=0,\"\",IF(LEN(I269)=0,INDEX(Ext!$A$1:$G$5,MATCH(0,Ext!$A$1:$A$5,0),MATCH(I$7,Ext!$A$2:$E$2,0)),IF(AND(I269>=0,I269<3),INDEX(Ext!$A$1:$G$5,MATCH(I269,Ext!$A$1:$A$5,0),MATCH(I$7,Ext!$A$2:$E$2,0)),\"invalid entry\")))","v":""},{"$f":"IF(LEN(C269)=0,\"\",IF(LEN(J269)=0,INDEX(Ext!$A$1:$G$5,MATCH(0,Ext!$A$1:$A$5,0),MATCH(J$7,Ext!$A$2:$E$2,0)),IF(AND(J269>=0,J269<3),INDEX(Ext!$A$1:$G$5,MATCH(J269,Ext!$A$1:$A$5,0),MATCH(J$7,Ext!$A$2:$E$2,0)),\"invalid entry\")))","v":""}]
[null,null,null,null,null,null,null,null,null,null,null,{"$f":"IF(LEN(A270)=0,\"\",IF(LEN(E270)=0,\"HVI data needed\",INDEX('Staple Lookup'!$C$3:$C$100,MATCH(TRUE,'Staple Lookup'!$B$3:$B$100>=ROUND(E270,2),0))))","v":""},null,{"$f":"IF(OR(LEN(B270)=0,LEN(C270)=0,LEN(D270)=0),\"\",IF(AND(RIGHT(B270,1)*1=1,C270=8),-2000,IF(L270>=38,AB270,IF(L270<=31,AC270,AE270))))","v":""},{"$f":"IF(LEN(A270)=0,\"\",INDEX(Str!$C$1:$C$20,MATCH(ROUND(F270,1),Str!$A$1:$A$20,1)))","v":""},"","",{"$f":"IF(LEN(A270)=0,\"\",INDEX(Uni!$C$1:$C$20,MATCH(ROUND($G270,1),Uni!$A$1:$A$20,1)))","v":""},null,"",{"$f":"IF(LEN(A270)=0,\"\",IF(OR(LEN(B270)=0,LEN(C270)=0,LEN(D270)=0,LEN(E270)=0,LEN(F270)=0,LEN(G270)=0),\"no HVI data\",IF('Base Values'!$B$6+(SUM($N270:$R270)/100)<0,0,'Base Values'!$B$6+(SUM(N270:R270)/100))))","v":""},null,{"$f":"IF(LEN(A270)=0,\"\",IF(LEN(H270)=0,INDEX(Ext!$A$1:$G$5,MATCH(0,Ext!$A$1:$A$5,0),MATCH(H$7,Ext!$A$2:$E$2,0)),IF(AND(H270>=0,H270<3),INDEX(Ext!$A$1:$G$5,MATCH(H270,Ext!$A$1:$A$5,0),MATCH(H$7,Ext!$A$2:$E$2,0)),\"invalid entry\")))","v":""},{"$f":"IF(LEN(B270)=0,\"\",IF(LEN(I270)=0,INDEX(Ext!$A$1:$G$5,MATCH(0,Ext!$A$1:$A$5,0),MATCH(I$7,Ext!$A$2:$E$2,0)),IF(AND(I270>=0,I270<3),INDEX(Ext!$A$1:$G$5,MATCH(I270,Ext!$A$1:$A$5,0),MATCH(I$7,Ext!$A$2:$E$2,0)),\"invalid entry\")))","v":""},{"$f":"IF(LEN(C270)=0,\"\",IF(LEN(J270)=0,INDEX(Ext!$A$1:$G$5,MATCH(0,Ext!$A$1:$A$5,0),MATCH(J$7,Ext!$A$2:$E$2,0)),IF(AND(J270>=0,J270<3),INDEX(Ext!$A$1:$G$5,MATCH(J270,Ext!$A$1:$A$5,0),MATCH(J$7,Ext!$A$2:$E$2,0)),\"invalid entry\")))","v":""}]
[null,null,null,null,null,null,null,null,null,null,null,{"$f":"IF(LEN(A271)=0,\"\",IF(LEN(E271)=0,\"HVI data needed\",INDEX('Staple Lookup'!$C$3:$C$100,MATCH(TRUE,'Staple Lookup'!$B$3:$B$100>=ROUND(E271,2),0))))","v":""},null,{"$f":"IF(OR(LEN(B271)=0,LEN(C271)=0,LEN(D271)=0),\"\",IF(AND(RIGHT(B271,1)*1=1,C271=8),-2000,IF(L271>=38,AB271,IF(L271<=31,AC271,AE271))))","v":""},{"$f":"IF(LEN(A271)=0,\"\",INDEX(Str!$C$1:$C$20,MATCH(ROUND(F271,1),Str!$A$1:$A$20,1)))","v":""},"","",{"$f":"IF(LEN(A271)=0,\"\",INDEX(Uni!$C$1:$C$20,MATCH(ROUND($G271,1),Uni!$A$1:$A$20,1)))","v":""},null,"",{"$f":"IF(LEN(A271)=0,\"\",IF(OR(LEN(B271)=0,LEN(C271)=0,LEN(D271)=0,LEN(E271)=0,LEN(F271)=0,LEN(G271)=0),\"no HVI data\",IF('Base Values'!$B$6+(SUM($N271:$R271)/100)<0,0,'Base Values'!$B$6+(SUM(N271:R271)/100))))","v":""},null,{"$f":"IF(LEN(A271)=0,\"\",IF(LEN(H271)=0,INDEX(Ext!$A$1:$G$5,MATCH(0,Ext!$A$1:$A$5,0),MATCH(H$7,Ext!$A$2:$E$2,0)),IF(AND(H271>=0,H271<3),INDEX(Ext!$A$1:$G$5,MATCH(H271,Ext!$A$1:$A$5,0),MATCH(H$7,Ext!$A$2:$E$2,0)),\"invalid entry\")))","v":""},{"$f":"IF(LEN(B271)=0,\"\",IF(LEN(I271)=0,INDEX(Ext!$A$1:$G$5,MATCH(0,Ext!$A$1:$A$5,0),MATCH(I$7,Ext!$A$2:$E$2,0)),IF(AND(I271>=0,I271<3),INDEX(Ext!$A$1:$G$5,MATCH(I271,Ext!$A$1:$A$5,0),MATCH(I$7,Ext!$A$2:$E$2,0)),\"invalid entry\")))","v":""},{"$f":"IF(LEN(C271)=0,\"\",IF(LEN(J271)=0,INDEX(Ext!$A$1:$G$5,MATCH(0,Ext!$A$1:$A$5,0),MATCH(J$7,Ext!$A$2:$E$2,0)),IF(AND(J271>=0,J271<3),INDEX(Ext!$A$1:$G$5,MATCH(J271,Ext!$A$1:$A$5,0),MATCH(J$7,Ext!$A$2:$E$2,0)),\"invalid entry\")))","v":""}]
[null,null,null,null,null,null,null,null,null,null,null,{"$f":"IF(LEN(A272)=0,\"\",IF(LEN(E272)=0,\"HVI data needed\",INDEX('Staple Lookup'!$C$3:$C$100,MATCH(TRUE,'Staple Lookup'!$B$3:$B$100>=ROUND(E272,2),0))))","v":""},null,{"$f":"IF(OR(LEN(B272)=0,LEN(C272)=0,LEN(D272)=0),\"\",IF(AND(RIGHT(B272,1)*1=1,C272=8),-2000,IF(L272>=38,AB272,IF(L272<=31,AC272,AE272))))","v":""},{"$f":"IF(LEN(A272)=0,\"\",INDEX(Str!$C$1:$C$20,MATCH(ROUND(F272,1),Str!$A$1:$A$20,1)))","v":""},"","",{"$f":"IF(LEN(A272)=0,\"\",INDEX(Uni!$C$1:$C$20,MATCH(ROUND($G272,1),Uni!$A$1:$A$20,1)))","v":""},null,"",{"$f":"IF(LEN(A272)=0,\"\",IF(OR(LEN(B272)=0,LEN(C272)=0,LEN(D272)=0,LEN(E272)=0,LEN(F272)=0,LEN(G272)=0),\"no HVI data\",IF('Base Values'!$B$6+(SUM($N272:$R272)/100)<0,0,'Base Values'!$B$6+(SUM(N272:R272)/100))))","v":""},null,{"$f":"IF(LEN(A272)=0,\"\",IF(LEN(H272)=0,INDEX(Ext!$A$1:$G$5,MATCH(0,Ext!$A$1:$A$5,0),MATCH(H$7,Ext!$A$2:$E$2,0)),IF(AND(H272>=0,H272<3),INDEX(Ext!$A$1:$G$5,MATCH(H272,Ext!$A$1:$A$5,0),MATCH(H$7,Ext!$A$2:$E$2,0)),\"invalid entry\")))","v":""},{"$f":"IF(LEN(B272)=0,\"\",IF(LEN(I272)=0,INDEX(Ext!$A$1:$G$5,MATCH(0,Ext!$A$1:$A$5,0),MATCH(I$7,Ext!$A$2:$E$2,0)),IF(AND(I272>=0,I272<3),INDEX(Ext!$A$1:$G$5,MATCH(I272,Ext!$A$1:$A$5,0),MATCH(I$7,Ext!$A$2:$E$2,0)),\"invalid entry\")))","v":""},{"$f":"IF(LEN(C272)=0,\"\",IF(LEN(J272)=0,INDEX(Ext!$A$1:$G$5,MATCH(0,Ext!$A$1:$A$5,0),MATCH(J$7,Ext!$A$2:$E$2,0)),IF(AND(J272>=0,J272<3),INDEX(Ext!$A$1:$G$5,MATCH(J272,Ext!$A$1:$A$5,0),MATCH(J$7,Ext!$A$2:$E$2,0)),\"invalid entry\")))","v":""}]
[null,null,null,null,null,null,null,null,null,null,null,{"$f":"IF(LEN(A273)=0,\"\",IF(LEN(E273)=0,\"HVI data needed\",INDEX('Staple Lookup'!$C$3:$C$100,MATCH(TRUE,'Staple Lookup'!$B$3:$B$100>=ROUND(E273,2),0))))","v":""},null,{"$f":"IF(OR(LEN(B273)=0,LEN(C273)=0,LEN(D273)=0),\"\",IF(AND(RIGHT(B273,1)*1=1,C273=8),-2000,IF(L273>=38,AB273,IF(L273<=31,AC273,AE273))))","v":""},{"$f":"IF(LEN(A273)=0,\"\",INDEX(Str!$C$1:$C$20,MATCH(ROUND(F273,1),Str!$A$1:$A$20,1)))","v":""},"","",{"$f":"IF(LEN(A273)=0,\"\",INDEX(Uni!$C$1:$C$20,MATCH(ROUND($G273,1),Uni!$A$1:$A$20,1)))","v":""},null,"",{"$f":"IF(LEN(A273)=0,\"\",IF(OR(LEN(B273)=0,LEN(C273)=0,LEN(D273)=0,LEN(E273)=0,LEN(F273)=0,LEN(G273)=0),\"no HVI data\",IF('Base Values'!$B$6+(SUM($N273:$R273)/100)<0,0,'Base Values'!$B$6+(SUM(N273:R273)/100))))","v":""},null,{"$f":"IF(LEN(A273)=0,\"\",IF(LEN(H273)=0,INDEX(Ext!$A$1:$G$5,MATCH(0,Ext!$A$1:$A$5,0),MATCH(H$7,Ext!$A$2:$E$2,0)),IF(AND(H273>=0,H273<3),INDEX(Ext!$A$1:$G$5,MATCH(H273,Ext!$A$1:$A$5,0),MATCH(H$7,Ext!$A$2:$E$2,0)),\"invalid entry\")))","v":""},{"$f":"IF(LEN(B273)=0,\"\",IF(LEN(I273)=0,INDEX(Ext!$A$1:$G$5,MATCH(0,Ext!$A$1:$A$5,0),MATCH(I$7,Ext!$A$2:$E$2,0)),IF(AND(I273>=0,I273<3),INDEX(Ext!$A$1:$G$5,MATCH(I273,Ext!$A$1:$A$5,0),MATCH(I$7,Ext!$A$2:$E$2,0)),\"invalid entry\")))","v":""},{"$f":"IF(LEN(C273)=0,\"\",IF(LEN(J273)=0,INDEX(Ext!$A$1:$G$5,MATCH(0,Ext!$A$1:$A$5,0),MATCH(J$7,Ext!$A$2:$E$2,0)),IF(AND(J273>=0,J273<3),INDEX(Ext!$A$1:$G$5,MATCH(J273,Ext!$A$1:$A$5,0),MATCH(J$7,Ext!$A$2:$E$2,0)),\"invalid entry\")))","v":""}]
[null,null,null,null,null,null,null,null,null,null,null,{"$f":"IF(LEN(A274)=0,\"\",IF(LEN(E274)=0,\"HVI data needed\",INDEX('Staple Lookup'!$C$3:$C$100,MATCH(TRUE,'Staple Lookup'!$B$3:$B$100>=ROUND(E274,2),0))))","v":""},null,{"$f":"IF(OR(LEN(B274)=0,LEN(C274)=0,LEN(D274)=0),\"\",IF(AND(RIGHT(B274,1)*1=1,C274=8),-2000,IF(L274>=38,AB274,IF(L274<=31,AC274,AE274))))","v":""},{"$f":"IF(LEN(A274)=0,\"\",INDEX(Str!$C$1:$C$20,MATCH(ROUND(F274,1),Str!$A$1:$A$20,1)))","v":""},"","",{"$f":"IF(LEN(A274)=0,\"\",INDEX(Uni!$C$1:$C$20,MATCH(ROUND($G274,1),Uni!$A$1:$A$20,1)))","v":""},null,"",{"$f":"IF(LEN(A274)=0,\"\",IF(OR(LEN(B274)=0,LEN(C274)=0,LEN(D274)=0,LEN(E274)=0,LEN(F274)=0,LEN(G274)=0),\"no HVI data\",IF('Base Values'!$B$6+(SUM($N274:$R274)/100)<0,0,'Base Values'!$B$6+(SUM(N274:R274)/100))))","v":""},null,{"$f":"IF(LEN(A274)=0,\"\",IF(LEN(H274)=0,INDEX(Ext!$A$1:$G$5,MATCH(0,Ext!$A$1:$A$5,0),MATCH(H$7,Ext!$A$2:$E$2,0)),IF(AND(H274>=0,H274<3),INDEX(Ext!$A$1:$G$5,MATCH(H274,Ext!$A$1:$A$5,0),MATCH(H$7,Ext!$A$2:$E$2,0)),\"invalid entry\")))","v":""},{"$f":"IF(LEN(B274)=0,\"\",IF(LEN(I274)=0,INDEX(Ext!$A$1:$G$5,MATCH(0,Ext!$A$1:$A$5,0),MATCH(I$7,Ext!$A$2:$E$2,0)),IF(AND(I274>=0,I274<3),INDEX(Ext!$A$1:$G$5,MATCH(I274,Ext!$A$1:$A$5,0),MATCH(I$7,Ext!$A$2:$E$2,0)),\"invalid entry\")))","v":""},{"$f":"IF(LEN(C274)=0,\"\",IF(LEN(J274)=0,INDEX(Ext!$A$1:$G$5,MATCH(0,Ext!$A$1:$A$5,0),MATCH(J$7,Ext!$A$2:$E$2,0)),IF(AND(J274>=0,J274<3),INDEX(Ext!$A$1:$G$5,MATCH(J274,Ext!$A$1:$A$5,0),MATCH(J$7,Ext!$A$2:$E$2,0)),\"invalid entry\")))","v":""}]
[null,null,null,null,null,null,null,null,null,null,null,{"$f":"IF(LEN(A275)=0,\"\",IF(LEN(E275)=0,\"HVI data needed\",INDEX('Staple Lookup'!$C$3:$C$100,MATCH(TRUE,'Staple Lookup'!$B$3:$B$100>=ROUND(E275,2),0))))","v":""},null,{"$f":"IF(OR(LEN(B275)=0,LEN(C275)=0,LEN(D275)=0),\"\",IF(AND(RIGHT(B275,1)*1=1,C275=8),-2000,IF(L275>=38,AB275,IF(L275<=31,AC275,AE275))))","v":""},{"$f":"IF(LEN(A275)=0,\"\",INDEX(Str!$C$1:$C$20,MATCH(ROUND(F275,1),Str!$A$1:$A$20,1)))","v":""},"","",{"$f":"IF(LEN(A275)=0,\"\",INDEX(Uni!$C$1:$C$20,MATCH(ROUND($G275,1),Uni!$A$1:$A$20,1)))","v":""},null,"",{"$f":"IF(LEN(A275)=0,\"\",IF(OR(LEN(B275)=0,LEN(C275)=0,LEN(D275)=0,LEN(E275)=0,LEN(F275)=0,LEN(G275)=0),\"no HVI data\",IF('Base Values'!$B$6+(SUM($N275:$R275)/100)<0,0,'Base Values'!$B$6+(SUM(N275:R275)/100))))","v":""},null,{"$f":"IF(LEN(A275)=0,\"\",IF(LEN(H275)=0,INDEX(Ext!$A$1:$G$5,MATCH(0,Ext!$A$1:$A$5,0),MATCH(H$7,Ext!$A$2:$E$2,0)),IF(AND(H275>=0,H275<3),INDEX(Ext!$A$1:$G$5,MATCH(H275,Ext!$A$1:$A$5,0),MATCH(H$7,Ext!$A$2:$E$2,0)),\"invalid entry\")))","v":""},{"$f":"IF(LEN(B275)=0,\"\",IF(LEN(I275)=0,INDEX(Ext!$A$1:$G$5,MATCH(0,Ext!$A$1:$A$5,0),MATCH(I$7,Ext!$A$2:$E$2,0)),IF(AND(I275>=0,I275<3),INDEX(Ext!$A$1:$G$5,MATCH(I275,Ext!$A$1:$A$5,0),MATCH(I$7,Ext!$A$2:$E$2,0)),\"invalid entry\")))","v":""},{"$f":"IF(LEN(C275)=0,\"\",IF(LEN(J275)=0,INDEX(Ext!$A$1:$G$5,MATCH(0,Ext!$A$1:$A$5,0),MATCH(J$7,Ext!$A$2:$E$2,0)),IF(AND(J275>=0,J275<3),INDEX(Ext!$A$1:$G$5,MATCH(J275,Ext!$A$1:$A$5,0),MATCH(J$7,Ext!$A$2:$E$2,0)),\"invalid entry\")))","v":""}]
[null,null,null,null,null,null,null,null,null,null,null,{"$f":"IF(LEN(A276)=0,\"\",IF(LEN(E276)=0,\"HVI data needed\",INDEX('Staple Lookup'!$C$3:$C$100,MATCH(TRUE,'Staple Lookup'!$B$3:$B$100>=ROUND(E276,2),0))))","v":""},null,{"$f":"IF(OR(LEN(B276)=0,LEN(C276)=0,LEN(D276)=0),\"\",IF(AND(RIGHT(B276,1)*1=1,C276=8),-2000,IF(L276>=38,AB276,IF(L276<=31,AC276,AE276))))","v":""},{"$f":"IF(LEN(A276)=0,\"\",INDEX(Str!$C$1:$C$20,MATCH(ROUND(F276,1),Str!$A$1:$A$20,1)))","v":""},"","",{"$f":"IF(LEN(A276)=0,\"\",INDEX(Uni!$C$1:$C$20,MATCH(ROUND($G276,1),Uni!$A$1:$A$20,1)))","v":""},null,"",{"$f":"IF(LEN(A276)=0,\"\",IF(OR(LEN(B276)=0,LEN(C276)=0,LEN(D276)=0,LEN(E276)=0,LEN(F276)=0,LEN(G276)=0),\"no HVI data\",IF('Base Values'!$B$6+(SUM($N276:$R276)/100)<0,0,'Base Values'!$B$6+(SUM(N276:R276)/100))))","v":""},null,{"$f":"IF(LEN(A276)=0,\"\",IF(LEN(H276)=0,INDEX(Ext!$A$1:$G$5,MATCH(0,Ext!$A$1:$A$5,0),MATCH(H$7,Ext!$A$2:$E$2,0)),IF(AND(H276>=0,H276<3),INDEX(Ext!$A$1:$G$5,MATCH(H276,Ext!$A$1:$A$5,0),MATCH(H$7,Ext!$A$2:$E$2,0)),\"invalid entry\")))","v":""},{"$f":"IF(LEN(B276)=0,\"\",IF(LEN(I276)=0,INDEX(Ext!$A$1:$G$5,MATCH(0,Ext!$A$1:$A$5,0),MATCH(I$7,Ext!$A$2:$E$2,0)),IF(AND(I276>=0,I276<3),INDEX(Ext!$A$1:$G$5,MATCH(I276,Ext!$A$1:$A$5,0),MATCH(I$7,Ext!$A$2:$E$2,0)),\"invalid entry\")))","v":""},{"$f":"IF(LEN(C276)=0,\"\",IF(LEN(J276)=0,INDEX(Ext!$A$1:$G$5,MATCH(0,Ext!$A$1:$A$5,0),MATCH(J$7,Ext!$A$2:$E$2,0)),IF(AND(J276>=0,J276<3),INDEX(Ext!$A$1:$G$5,MATCH(J276,Ext!$A$1:$A$5,0),MATCH(J$7,Ext!$A$2:$E$2,0)),\"invalid entry\")))","v":""}]
[null,null,null,null,null,null,null,null,null,null,null,{"$f":"IF(LEN(A277)=0,\"\",IF(LEN(E277)=0,\"HVI data needed\",INDEX('Staple Lookup'!$C$3:$C$100,MATCH(TRUE,'Staple Lookup'!$B$3:$B$100>=ROUND(E277,2),0))))","v":""},null,{"$f":"IF(OR(LEN(B277)=0,LEN(C277)=0,LEN(D277)=0),\"\",IF(AND(RIGHT(B277,1)*1=1,C277=8),-2000,IF(L277>=38,AB277,IF(L277<=31,AC277,AE277))))","v":""},{"$f":"IF(LEN(A277)=0,\"\",INDEX(Str!$C$1:$C$20,MATCH(ROUND(F277,1),Str!$A$1:$A$20,1)))","v":""},"","",{"$f":"IF(LEN(A277)=0,\"\",INDEX(Uni!$C$1:$C$20,MATCH(ROUND($G277,1),Uni!$A$1:$A$20,1)))","v":""},null,"",{"$f":"IF(LEN(A277)=0,\"\",IF(OR(LEN(B277)=0,LEN(C277)=0,LEN(D277)=0,LEN(E277)=0,LEN(F277)=0,LEN(G277)=0),\"no HVI data\",IF('Base Values'!$B$6+(SUM($N277:$R277)/100)<0,0,'Base Values'!$B$6+(SUM(N277:R277)/100))))","v":""},null,{"$f":"IF(LEN(A277)=0,\"\",IF(LEN(H277)=0,INDEX(Ext!$A$1:$G$5,MATCH(0,Ext!$A$1:$A$5,0),MATCH(H$7,Ext!$A$2:$E$2,0)),IF(AND(H277>=0,H277<3),INDEX(Ext!$A$1:$G$5,MATCH(H277,Ext!$A$1:$A$5,0),MATCH(H$7,Ext!$A$2:$E$2,0)),\"invalid entry\")))","v":""},{"$f":"IF(LEN(B277)=0,\"\",IF(LEN(I277)=0,INDEX(Ext!$A$1:$G$5,MATCH(0,Ext!$A$1:$A$5,0),MATCH(I$7,Ext!$A$2:$E$2,0)),IF(AND(I277>=0,I277<3),INDEX(Ext!$A$1:$G$5,MATCH(I277,Ext!$A$1:$A$5,0),MATCH(I$7,Ext!$A$2:$E$2,0)),\"invalid entry\")))","v":""},{"$f":"IF(LEN(C277)=0,\"\",IF(LEN(J277)=0,INDEX(Ext!$A$1:$G$5,MATCH(0,Ext!$A$1:$A$5,0),MATCH(J$7,Ext!$A$2:$E$2,0)),IF(AND(J277>=0,J277<3),INDEX(Ext!$A$1:$G$5,MATCH(J277,Ext!$A$1:$A$5,0),MATCH(J$7,Ext!$A$2:$E$2,0)),\"invalid entry\")))","v":""}]
[null,null,null,null,null,null,null,null,null,null,null,{"$f":"IF(LEN(A278)=0,\"\",IF(LEN(E278)=0,\"HVI data needed\",INDEX('Staple Lookup'!$C$3:$C$100,MATCH(TRUE,'Staple Lookup'!$B$3:$B$100>=ROUND(E278,2),0))))","v":""},null,{"$f":"IF(OR(LEN(B278)=0,LEN(C278)=0,LEN(D278)=0),\"\",IF(AND(RIGHT(B278,1)*1=1,C278=8),-2000,IF(L278>=38,AB278,IF(L278<=31,AC278,AE278))))","v":""},{"$f":"IF(LEN(A278)=0,\"\",INDEX(Str!$C$1:$C$20,MATCH(ROUND(F278,1),Str!$A$1:$A$20,1)))","v":""},"","",{"$f":"IF(LEN(A278)=0,\"\",INDEX(Uni!$C$1:$C$20,MATCH(ROUND($G278,1),Uni!$A$1:$A$20,1)))","v":""},null,"",{"$f":"IF(LEN(A278)=0,\"\",IF(OR(LEN(B278)=0,LEN(C278)=0,LEN(D278)=0,LEN(E278)=0,LEN(F278)=0,LEN(G278)=0),\"no HVI data\",IF('Base Values'!$B$6+(SUM($N278:$R278)/100)<0,0,'Base Values'!$B$6+(SUM(N278:R278)/100))))","v":""},null,{"$f":"IF(LEN(A278)=0,\"\",IF(LEN(H278)=0,INDEX(Ext!$A$1:$G$5,MATCH(0,Ext!$A$1:$A$5,0),MATCH(H$7,Ext!$A$2:$E$2,0)),IF(AND(H278>=0,H278<3),INDEX(Ext!$A$1:$G$5,MATCH(H278,Ext!$A$1:$A$5,0),MATCH(H$7,Ext!$A$2:$E$2,0)),\"invalid entry\")))","v":""},{"$f":"IF(LEN(B278)=0,\"\",IF(LEN(I278)=0,INDEX(Ext!$A$1:$G$5,MATCH(0,Ext!$A$1:$A$5,0),MATCH(I$7,Ext!$A$2:$E$2,0)),IF(AND(I278>=0,I278<3),INDEX(Ext!$A$1:$G$5,MATCH(I278,Ext!$A$1:$A$5,0),MATCH(I$7,Ext!$A$2:$E$2,0)),\"invalid entry\")))","v":""},{"$f":"IF(LEN(C278)=0,\"\",IF(LEN(J278)=0,INDEX(Ext!$A$1:$G$5,MATCH(0,Ext!$A$1:$A$5,0),MATCH(J$7,Ext!$A$2:$E$2,0)),IF(AND(J278>=0,J278<3),INDEX(Ext!$A$1:$G$5,MATCH(J278,Ext!$A$1:$A$5,0),MATCH(J$7,Ext!$A$2:$E$2,0)),\"invalid entry\")))","v":""}]
[null,null,null,null,null,null,null,null,null,null,null,{"$f":"IF(LEN(A279)=0,\"\",IF(LEN(E279)=0,\"HVI data needed\",INDEX('Staple Lookup'!$C$3:$C$100,MATCH(TRUE,'Staple Lookup'!$B$3:$B$100>=ROUND(E279,2),0))))","v":""},null,{"$f":"IF(OR(LEN(B279)=0,LEN(C279)=0,LEN(D279)=0),\"\",IF(AND(RIGHT(B279,1)*1=1,C279=8),-2000,IF(L279>=38,AB279,IF(L279<=31,AC279,AE279))))","v":""},{"$f":"IF(LEN(A279)=0,\"\",INDEX(Str!$C$1:$C$20,MATCH(ROUND(F279,1),Str!$A$1:$A$20,1)))","v":""},"","",{"$f":"IF(LEN(A279)=0,\"\",INDEX(Uni!$C$1:$C$20,MATCH(ROUND($G279,1),Uni!$A$1:$A$20,1)))","v":""},null,"",{"$f":"IF(LEN(A279)=0,\"\",IF(OR(LEN(B279)=0,LEN(C279)=0,LEN(D279)=0,LEN(E279)=0,LEN(F279)=0,LEN(G279)=0),\"no HVI data\",IF('Base Values'!$B$6+(SUM($N279:$R279)/100)<0,0,'Base Values'!$B$6+(SUM(N279:R279)/100))))","v":""},null,{"$f":"IF(LEN(A279)=0,\"\",IF(LEN(H279)=0,INDEX(Ext!$A$1:$G$5,MATCH(0,Ext!$A$1:$A$5,0),MATCH(H$7,Ext!$A$2:$E$2,0)),IF(AND(H279>=0,H279<3),INDEX(Ext!$A$1:$G$5,MATCH(H279,Ext!$A$1:$A$5,0),MATCH(H$7,Ext!$A$2:$E$2,0)),\"invalid entry\")))","v":""},{"$f":"IF(LEN(B279)=0,\"\",IF(LEN(I279)=0,INDEX(Ext!$A$1:$G$5,MATCH(0,Ext!$A$1:$A$5,0),MATCH(I$7,Ext!$A$2:$E$2,0)),IF(AND(I279>=0,I279<3),INDEX(Ext!$A$1:$G$5,MATCH(I279,Ext!$A$1:$A$5,0),MATCH(I$7,Ext!$A$2:$E$2,0)),\"invalid entry\")))","v":""},{"$f":"IF(LEN(C279)=0,\"\",IF(LEN(J279)=0,INDEX(Ext!$A$1:$G$5,MATCH(0,Ext!$A$1:$A$5,0),MATCH(J$7,Ext!$A$2:$E$2,0)),IF(AND(J279>=0,J279<3),INDEX(Ext!$A$1:$G$5,MATCH(J279,Ext!$A$1:$A$5,0),MATCH(J$7,Ext!$A$2:$E$2,0)),\"invalid entry\")))","v":""}]
[null,null,null,null,null,null,null,null,null,null,null,{"$f":"IF(LEN(A280)=0,\"\",IF(LEN(E280)=0,\"HVI data needed\",INDEX('Staple Lookup'!$C$3:$C$100,MATCH(TRUE,'Staple Lookup'!$B$3:$B$100>=ROUND(E280,2),0))))","v":""},null,{"$f":"IF(OR(LEN(B280)=0,LEN(C280)=0,LEN(D280)=0),\"\",IF(AND(RIGHT(B280,1)*1=1,C280=8),-2000,IF(L280>=38,AB280,IF(L280<=31,AC280,AE280))))","v":""},{"$f":"IF(LEN(A280)=0,\"\",INDEX(Str!$C$1:$C$20,MATCH(ROUND(F280,1),Str!$A$1:$A$20,1)))","v":""},"","",{"$f":"IF(LEN(A280)=0,\"\",INDEX(Uni!$C$1:$C$20,MATCH(ROUND($G280,1),Uni!$A$1:$A$20,1)))","v":""},null,"",{"$f":"IF(LEN(A280)=0,\"\",IF(OR(LEN(B280)=0,LEN(C280)=0,LEN(D280)=0,LEN(E280)=0,LEN(F280)=0,LEN(G280)=0),\"no HVI data\",IF('Base Values'!$B$6+(SUM($N280:$R280)/100)<0,0,'Base Values'!$B$6+(SUM(N280:R280)/100))))","v":""},null,{"$f":"IF(LEN(A280)=0,\"\",IF(LEN(H280)=0,INDEX(Ext!$A$1:$G$5,MATCH(0,Ext!$A$1:$A$5,0),MATCH(H$7,Ext!$A$2:$E$2,0)),IF(AND(H280>=0,H280<3),INDEX(Ext!$A$1:$G$5,MATCH(H280,Ext!$A$1:$A$5,0),MATCH(H$7,Ext!$A$2:$E$2,0)),\"invalid entry\")))","v":""},{"$f":"IF(LEN(B280)=0,\"\",IF(LEN(I280)=0,INDEX(Ext!$A$1:$G$5,MATCH(0,Ext!$A$1:$A$5,0),MATCH(I$7,Ext!$A$2:$E$2,0)),IF(AND(I280>=0,I280<3),INDEX(Ext!$A$1:$G$5,MATCH(I280,Ext!$A$1:$A$5,0),MATCH(I$7,Ext!$A$2:$E$2,0)),\"invalid entry\")))","v":""},{"$f":"IF(LEN(C280)=0,\"\",IF(LEN(J280)=0,INDEX(Ext!$A$1:$G$5,MATCH(0,Ext!$A$1:$A$5,0),MATCH(J$7,Ext!$A$2:$E$2,0)),IF(AND(J280>=0,J280<3),INDEX(Ext!$A$1:$G$5,MATCH(J280,Ext!$A$1:$A$5,0),MATCH(J$7,Ext!$A$2:$E$2,0)),\"invalid entry\")))","v":""}]
[null,null,null,null,null,null,null,null,null,null,null,{"$f":"IF(LEN(A281)=0,\"\",IF(LEN(E281)=0,\"HVI data needed\",INDEX('Staple Lookup'!$C$3:$C$100,MATCH(TRUE,'Staple Lookup'!$B$3:$B$100>=ROUND(E281,2),0))))","v":""},null,{"$f":"IF(OR(LEN(B281)=0,LEN(C281)=0,LEN(D281)=0),\"\",IF(AND(RIGHT(B281,1)*1=1,C281=8),-2000,IF(L281>=38,AB281,IF(L281<=31,AC281,AE281))))","v":""},{"$f":"IF(LEN(A281)=0,\"\",INDEX(Str!$C$1:$C$20,MATCH(ROUND(F281,1),Str!$A$1:$A$20,1)))","v":""},"","",{"$f":"IF(LEN(A281)=0,\"\",INDEX(Uni!$C$1:$C$20,MATCH(ROUND($G281,1),Uni!$A$1:$A$20,1)))","v":""},null,"",{"$f":"IF(LEN(A281)=0,\"\",IF(OR(LEN(B281)=0,LEN(C281)=0,LEN(D281)=0,LEN(E281)=0,LEN(F281)=0,LEN(G281)=0),\"no HVI data\",IF('Base Values'!$B$6+(SUM($N281:$R281)/100)<0,0,'Base Values'!$B$6+(SUM(N281:R281)/100))))","v":""},null,{"$f":"IF(LEN(A281)=0,\"\",IF(LEN(H281)=0,INDEX(Ext!$A$1:$G$5,MATCH(0,Ext!$A$1:$A$5,0),MATCH(H$7,Ext!$A$2:$E$2,0)),IF(AND(H281>=0,H281<3),INDEX(Ext!$A$1:$G$5,MATCH(H281,Ext!$A$1:$A$5,0),MATCH(H$7,Ext!$A$2:$E$2,0)),\"invalid entry\")))","v":""},{"$f":"IF(LEN(B281)=0,\"\",IF(LEN(I281)=0,INDEX(Ext!$A$1:$G$5,MATCH(0,Ext!$A$1:$A$5,0),MATCH(I$7,Ext!$A$2:$E$2,0)),IF(AND(I281>=0,I281<3),INDEX(Ext!$A$1:$G$5,MATCH(I281,Ext!$A$1:$A$5,0),MATCH(I$7,Ext!$A$2:$E$2,0)),\"invalid entry\")))","v":""},{"$f":"IF(LEN(C281)=0,\"\",IF(LEN(J281)=0,INDEX(Ext!$A$1:$G$5,MATCH(0,Ext!$A$1:$A$5,0),MATCH(J$7,Ext!$A$2:$E$2,0)),IF(AND(J281>=0,J281<3),INDEX(Ext!$A$1:$G$5,MATCH(J281,Ext!$A$1:$A$5,0),MATCH(J$7,Ext!$A$2:$E$2,0)),\"invalid entry\")))","v":""}]
[null,null,null,null,null,null,null,null,null,null,null,{"$f":"IF(LEN(A282)=0,\"\",IF(LEN(E282)=0,\"HVI data needed\",INDEX('Staple Lookup'!$C$3:$C$100,MATCH(TRUE,'Staple Lookup'!$B$3:$B$100>=ROUND(E282,2),0))))","v":""},null,{"$f":"IF(OR(LEN(B282)=0,LEN(C282)=0,LEN(D282)=0),\"\",IF(AND(RIGHT(B282,1)*1=1,C282=8),-2000,IF(L282>=38,AB282,IF(L282<=31,AC282,AE282))))","v":""},{"$f":"IF(LEN(A282)=0,\"\",INDEX(Str!$C$1:$C$20,MATCH(ROUND(F282,1),Str!$A$1:$A$20,1)))","v":""},"","",{"$f":"IF(LEN(A282)=0,\"\",INDEX(Uni!$C$1:$C$20,MATCH(ROUND($G282,1),Uni!$A$1:$A$20,1)))","v":""},null,"",{"$f":"IF(LEN(A282)=0,\"\",IF(OR(LEN(B282)=0,LEN(C282)=0,LEN(D282)=0,LEN(E282)=0,LEN(F282)=0,LEN(G282)=0),\"no HVI data\",IF('Base Values'!$B$6+(SUM($N282:$R282)/100)<0,0,'Base Values'!$B$6+(SUM(N282:R282)/100))))","v":""},null,{"$f":"IF(LEN(A282)=0,\"\",IF(LEN(H282)=0,INDEX(Ext!$A$1:$G$5,MATCH(0,Ext!$A$1:$A$5,0),MATCH(H$7,Ext!$A$2:$E$2,0)),IF(AND(H282>=0,H282<3),INDEX(Ext!$A$1:$G$5,MATCH(H282,Ext!$A$1:$A$5,0),MATCH(H$7,Ext!$A$2:$E$2,0)),\"invalid entry\")))","v":""},{"$f":"IF(LEN(B282)=0,\"\",IF(LEN(I282)=0,INDEX(Ext!$A$1:$G$5,MATCH(0,Ext!$A$1:$A$5,0),MATCH(I$7,Ext!$A$2:$E$2,0)),IF(AND(I282>=0,I282<3),INDEX(Ext!$A$1:$G$5,MATCH(I282,Ext!$A$1:$A$5,0),MATCH(I$7,Ext!$A$2:$E$2,0)),\"invalid entry\")))","v":""},{"$f":"IF(LEN(C282)=0,\"\",IF(LEN(J282)=0,INDEX(Ext!$A$1:$G$5,MATCH(0,Ext!$A$1:$A$5,0),MATCH(J$7,Ext!$A$2:$E$2,0)),IF(AND(J282>=0,J282<3),INDEX(Ext!$A$1:$G$5,MATCH(J282,Ext!$A$1:$A$5,0),MATCH(J$7,Ext!$A$2:$E$2,0)),\"invalid entry\")))","v":""}]
[null,null,null,null,null,null,null,null,null,null,null,{"$f":"IF(LEN(A283)=0,\"\",IF(LEN(E283)=0,\"HVI data needed\",INDEX('Staple Lookup'!$C$3:$C$100,MATCH(TRUE,'Staple Lookup'!$B$3:$B$100>=ROUND(E283,2),0))))","v":""},null,{"$f":"IF(OR(LEN(B283)=0,LEN(C283)=0,LEN(D283)=0),\"\",IF(AND(RIGHT(B283,1)*1=1,C283=8),-2000,IF(L283>=38,AB283,IF(L283<=31,AC283,AE283))))","v":""},{"$f":"IF(LEN(A283)=0,\"\",INDEX(Str!$C$1:$C$20,MATCH(ROUND(F283,1),Str!$A$1:$A$20,1)))","v":""},"","",{"$f":"IF(LEN(A283)=0,\"\",INDEX(Uni!$C$1:$C$20,MATCH(ROUND($G283,1),Uni!$A$1:$A$20,1)))","v":""},null,"",{"$f":"IF(LEN(A283)=0,\"\",IF(OR(LEN(B283)=0,LEN(C283)=0,LEN(D283)=0,LEN(E283)=0,LEN(F283)=0,LEN(G283)=0),\"no HVI data\",IF('Base Values'!$B$6+(SUM($N283:$R283)/100)<0,0,'Base Values'!$B$6+(SUM(N283:R283)/100))))","v":""},null,{"$f":"IF(LEN(A283)=0,\"\",IF(LEN(H283)=0,INDEX(Ext!$A$1:$G$5,MATCH(0,Ext!$A$1:$A$5,0),MATCH(H$7,Ext!$A$2:$E$2,0)),IF(AND(H283>=0,H283<3),INDEX(Ext!$A$1:$G$5,MATCH(H283,Ext!$A$1:$A$5,0),MATCH(H$7,Ext!$A$2:$E$2,0)),\"invalid entry\")))","v":""},{"$f":"IF(LEN(B283)=0,\"\",IF(LEN(I283)=0,INDEX(Ext!$A$1:$G$5,MATCH(0,Ext!$A$1:$A$5,0),MATCH(I$7,Ext!$A$2:$E$2,0)),IF(AND(I283>=0,I283<3),INDEX(Ext!$A$1:$G$5,MATCH(I283,Ext!$A$1:$A$5,0),MATCH(I$7,Ext!$A$2:$E$2,0)),\"invalid entry\")))","v":""},{"$f":"IF(LEN(C283)=0,\"\",IF(LEN(J283)=0,INDEX(Ext!$A$1:$G$5,MATCH(0,Ext!$A$1:$A$5,0),MATCH(J$7,Ext!$A$2:$E$2,0)),IF(AND(J283>=0,J283<3),INDEX(Ext!$A$1:$G$5,MATCH(J283,Ext!$A$1:$A$5,0),MATCH(J$7,Ext!$A$2:$E$2,0)),\"invalid entry\")))","v":""}]
[null,null,null,null,null,null,null,null,null,null,null,{"$f":"IF(LEN(A284)=0,\"\",IF(LEN(E284)=0,\"HVI data needed\",INDEX('Staple Lookup'!$C$3:$C$100,MATCH(TRUE,'Staple Lookup'!$B$3:$B$100>=ROUND(E284,2),0))))","v":""},null,{"$f":"IF(OR(LEN(B284)=0,LEN(C284)=0,LEN(D284)=0),\"\",IF(AND(RIGHT(B284,1)*1=1,C284=8),-2000,IF(L284>=38,AB284,IF(L284<=31,AC284,AE284))))","v":""},{"$f":"IF(LEN(A284)=0,\"\",INDEX(Str!$C$1:$C$20,MATCH(ROUND(F284,1),Str!$A$1:$A$20,1)))","v":""},"","",{"$f":"IF(LEN(A284)=0,\"\",INDEX(Uni!$C$1:$C$20,MATCH(ROUND($G284,1),Uni!$A$1:$A$20,1)))","v":""},null,"",{"$f":"IF(LEN(A284)=0,\"\",IF(OR(LEN(B284)=0,LEN(C284)=0,LEN(D284)=0,LEN(E284)=0,LEN(F284)=0,LEN(G284)=0),\"no HVI data\",IF('Base Values'!$B$6+(SUM($N284:$R284)/100)<0,0,'Base Values'!$B$6+(SUM(N284:R284)/100))))","v":""},null,{"$f":"IF(LEN(A284)=0,\"\",IF(LEN(H284)=0,INDEX(Ext!$A$1:$G$5,MATCH(0,Ext!$A$1:$A$5,0),MATCH(H$7,Ext!$A$2:$E$2,0)),IF(AND(H284>=0,H284<3),INDEX(Ext!$A$1:$G$5,MATCH(H284,Ext!$A$1:$A$5,0),MATCH(H$7,Ext!$A$2:$E$2,0)),\"invalid entry\")))","v":""},{"$f":"IF(LEN(B284)=0,\"\",IF(LEN(I284)=0,INDEX(Ext!$A$1:$G$5,MATCH(0,Ext!$A$1:$A$5,0),MATCH(I$7,Ext!$A$2:$E$2,0)),IF(AND(I284>=0,I284<3),INDEX(Ext!$A$1:$G$5,MATCH(I284,Ext!$A$1:$A$5,0),MATCH(I$7,Ext!$A$2:$E$2,0)),\"invalid entry\")))","v":""},{"$f":"IF(LEN(C284)=0,\"\",IF(LEN(J284)=0,INDEX(Ext!$A$1:$G$5,MATCH(0,Ext!$A$1:$A$5,0),MATCH(J$7,Ext!$A$2:$E$2,0)),IF(AND(J284>=0,J284<3),INDEX(Ext!$A$1:$G$5,MATCH(J284,Ext!$A$1:$A$5,0),MATCH(J$7,Ext!$A$2:$E$2,0)),\"invalid entry\")))","v":""}]
[null,null,null,null,null,null,null,null,null,null,null,{"$f":"IF(LEN(A285)=0,\"\",IF(LEN(E285)=0,\"HVI data needed\",INDEX('Staple Lookup'!$C$3:$C$100,MATCH(TRUE,'Staple Lookup'!$B$3:$B$100>=ROUND(E285,2),0))))","v":""},null,{"$f":"IF(OR(LEN(B285)=0,LEN(C285)=0,LEN(D285)=0),\"\",IF(AND(RIGHT(B285,1)*1=1,C285=8),-2000,IF(L285>=38,AB285,IF(L285<=31,AC285,AE285))))","v":""},{"$f":"IF(LEN(A285)=0,\"\",INDEX(Str!$C$1:$C$20,MATCH(ROUND(F285,1),Str!$A$1:$A$20,1)))","v":""},"","",{"$f":"IF(LEN(A285)=0,\"\",INDEX(Uni!$C$1:$C$20,MATCH(ROUND($G285,1),Uni!$A$1:$A$20,1)))","v":""},null,"",{"$f":"IF(LEN(A285)=0,\"\",IF(OR(LEN(B285)=0,LEN(C285)=0,LEN(D285)=0,LEN(E285)=0,LEN(F285)=0,LEN(G285)=0),\"no HVI data\",IF('Base Values'!$B$6+(SUM($N285:$R285)/100)<0,0,'Base Values'!$B$6+(SUM(N285:R285)/100))))","v":""},null,{"$f":"IF(LEN(A285)=0,\"\",IF(LEN(H285)=0,INDEX(Ext!$A$1:$G$5,MATCH(0,Ext!$A$1:$A$5,0),MATCH(H$7,Ext!$A$2:$E$2,0)),IF(AND(H285>=0,H285<3),INDEX(Ext!$A$1:$G$5,MATCH(H285,Ext!$A$1:$A$5,0),MATCH(H$7,Ext!$A$2:$E$2,0)),\"invalid entry\")))","v":""},{"$f":"IF(LEN(B285)=0,\"\",IF(LEN(I285)=0,INDEX(Ext!$A$1:$G$5,MATCH(0,Ext!$A$1:$A$5,0),MATCH(I$7,Ext!$A$2:$E$2,0)),IF(AND(I285>=0,I285<3),INDEX(Ext!$A$1:$G$5,MATCH(I285,Ext!$A$1:$A$5,0),MATCH(I$7,Ext!$A$2:$E$2,0)),\"invalid entry\")))","v":""},{"$f":"IF(LEN(C285)=0,\"\",IF(LEN(J285)=0,INDEX(Ext!$A$1:$G$5,MATCH(0,Ext!$A$1:$A$5,0),MATCH(J$7,Ext!$A$2:$E$2,0)),IF(AND(J285>=0,J285<3),INDEX(Ext!$A$1:$G$5,MATCH(J285,Ext!$A$1:$A$5,0),MATCH(J$7,Ext!$A$2:$E$2,0)),\"invalid entry\")))","v":""}]
[null,null,null,null,null,null,null,null,null,null,null,{"$f":"IF(LEN(A286)=0,\"\",IF(LEN(E286)=0,\"HVI data needed\",INDEX('Staple Lookup'!$C$3:$C$100,MATCH(TRUE,'Staple Lookup'!$B$3:$B$100>=ROUND(E286,2),0))))","v":""},null,{"$f":"IF(OR(LEN(B286)=0,LEN(C286)=0,LEN(D286)=0),\"\",IF(AND(RIGHT(B286,1)*1=1,C286=8),-2000,IF(L286>=38,AB286,IF(L286<=31,AC286,AE286))))","v":""},{"$f":"IF(LEN(A286)=0,\"\",INDEX(Str!$C$1:$C$20,MATCH(ROUND(F286,1),Str!$A$1:$A$20,1)))","v":""},"","",{"$f":"IF(LEN(A286)=0,\"\",INDEX(Uni!$C$1:$C$20,MATCH(ROUND($G286,1),Uni!$A$1:$A$20,1)))","v":""},null,"",{"$f":"IF(LEN(A286)=0,\"\",IF(OR(LEN(B286)=0,LEN(C286)=0,LEN(D286)=0,LEN(E286)=0,LEN(F286)=0,LEN(G286)=0),\"no HVI data\",IF('Base Values'!$B$6+(SUM($N286:$R286)/100)<0,0,'Base Values'!$B$6+(SUM(N286:R286)/100))))","v":""},null,{"$f":"IF(LEN(A286)=0,\"\",IF(LEN(H286)=0,INDEX(Ext!$A$1:$G$5,MATCH(0,Ext!$A$1:$A$5,0),MATCH(H$7,Ext!$A$2:$E$2,0)),IF(AND(H286>=0,H286<3),INDEX(Ext!$A$1:$G$5,MATCH(H286,Ext!$A$1:$A$5,0),MATCH(H$7,Ext!$A$2:$E$2,0)),\"invalid entry\")))","v":""},{"$f":"IF(LEN(B286)=0,\"\",IF(LEN(I286)=0,INDEX(Ext!$A$1:$G$5,MATCH(0,Ext!$A$1:$A$5,0),MATCH(I$7,Ext!$A$2:$E$2,0)),IF(AND(I286>=0,I286<3),INDEX(Ext!$A$1:$G$5,MATCH(I286,Ext!$A$1:$A$5,0),MATCH(I$7,Ext!$A$2:$E$2,0)),\"invalid entry\")))","v":""},{"$f":"IF(LEN(C286)=0,\"\",IF(LEN(J286)=0,INDEX(Ext!$A$1:$G$5,MATCH(0,Ext!$A$1:$A$5,0),MATCH(J$7,Ext!$A$2:$E$2,0)),IF(AND(J286>=0,J286<3),INDEX(Ext!$A$1:$G$5,MATCH(J286,Ext!$A$1:$A$5,0),MATCH(J$7,Ext!$A$2:$E$2,0)),\"invalid entry\")))","v":""}]
[null,null,null,null,null,null,null,null,null,null,null,{"$f":"IF(LEN(A287)=0,\"\",IF(LEN(E287)=0,\"HVI data needed\",INDEX('Staple Lookup'!$C$3:$C$100,MATCH(TRUE,'Staple Lookup'!$B$3:$B$100>=ROUND(E287,2),0))))","v":""},null,{"$f":"IF(OR(LEN(B287)=0,LEN(C287)=0,LEN(D287)=0),\"\",IF(AND(RIGHT(B287,1)*1=1,C287=8),-2000,IF(L287>=38,AB287,IF(L287<=31,AC287,AE287))))","v":""},{"$f":"IF(LEN(A287)=0,\"\",INDEX(Str!$C$1:$C$20,MATCH(ROUND(F287,1),Str!$A$1:$A$20,1)))","v":""},"","",{"$f":"IF(LEN(A287)=0,\"\",INDEX(Uni!$C$1:$C$20,MATCH(ROUND($G287,1),Uni!$A$1:$A$20,1)))","v":""},null,"",{"$f":"IF(LEN(A287)=0,\"\",IF(OR(LEN(B287)=0,LEN(C287)=0,LEN(D287)=0,LEN(E287)=0,LEN(F287)=0,LEN(G287)=0),\"no HVI data\",IF('Base Values'!$B$6+(SUM($N287:$R287)/100)<0,0,'Base Values'!$B$6+(SUM(N287:R287)/100))))","v":""},null,{"$f":"IF(LEN(A287)=0,\"\",IF(LEN(H287)=0,INDEX(Ext!$A$1:$G$5,MATCH(0,Ext!$A$1:$A$5,0),MATCH(H$7,Ext!$A$2:$E$2,0)),IF(AND(H287>=0,H287<3),INDEX(Ext!$A$1:$G$5,MATCH(H287,Ext!$A$1:$A$5,0),MATCH(H$7,Ext!$A$2:$E$2,0)),\"invalid entry\")))","v":""},{"$f":"IF(LEN(B287)=0,\"\",IF(LEN(I287)=0,INDEX(Ext!$A$1:$G$5,MATCH(0,Ext!$A$1:$A$5,0),MATCH(I$7,Ext!$A$2:$E$2,0)),IF(AND(I287>=0,I287<3),INDEX(Ext!$A$1:$G$5,MATCH(I287,Ext!$A$1:$A$5,0),MATCH(I$7,Ext!$A$2:$E$2,0)),\"invalid entry\")))","v":""},{"$f":"IF(LEN(C287)=0,\"\",IF(LEN(J287)=0,INDEX(Ext!$A$1:$G$5,MATCH(0,Ext!$A$1:$A$5,0),MATCH(J$7,Ext!$A$2:$E$2,0)),IF(AND(J287>=0,J287<3),INDEX(Ext!$A$1:$G$5,MATCH(J287,Ext!$A$1:$A$5,0),MATCH(J$7,Ext!$A$2:$E$2,0)),\"invalid entry\")))","v":""}]
[null,null,null,null,null,null,null,null,null,null,null,{"$f":"IF(LEN(A288)=0,\"\",IF(LEN(E288)=0,\"HVI data needed\",INDEX('Staple Lookup'!$C$3:$C$100,MATCH(TRUE,'Staple Lookup'!$B$3:$B$100>=ROUND(E288,2),0))))","v":""},null,{"$f":"IF(OR(LEN(B288)=0,LEN(C288)=0,LEN(D288)=0),\"\",IF(AND(RIGHT(B288,1)*1=1,C288=8),-2000,IF(L288>=38,AB288,IF(L288<=31,AC288,AE288))))","v":""},{"$f":"IF(LEN(A288)=0,\"\",INDEX(Str!$C$1:$C$20,MATCH(ROUND(F288,1),Str!$A$1:$A$20,1)))","v":""},"","",{"$f":"IF(LEN(A288)=0,\"\",INDEX(Uni!$C$1:$C$20,MATCH(ROUND($G288,1),Uni!$A$1:$A$20,1)))","v":""},null,"",{"$f":"IF(LEN(A288)=0,\"\",IF(OR(LEN(B288)=0,LEN(C288)=0,LEN(D288)=0,LEN(E288)=0,LEN(F288)=0,LEN(G288)=0),\"no HVI data\",IF('Base Values'!$B$6+(SUM($N288:$R288)/100)<0,0,'Base Values'!$B$6+(SUM(N288:R288)/100))))","v":""},null,{"$f":"IF(LEN(A288)=0,\"\",IF(LEN(H288)=0,INDEX(Ext!$A$1:$G$5,MATCH(0,Ext!$A$1:$A$5,0),MATCH(H$7,Ext!$A$2:$E$2,0)),IF(AND(H288>=0,H288<3),INDEX(Ext!$A$1:$G$5,MATCH(H288,Ext!$A$1:$A$5,0),MATCH(H$7,Ext!$A$2:$E$2,0)),\"invalid entry\")))","v":""},{"$f":"IF(LEN(B288)=0,\"\",IF(LEN(I288)=0,INDEX(Ext!$A$1:$G$5,MATCH(0,Ext!$A$1:$A$5,0),MATCH(I$7,Ext!$A$2:$E$2,0)),IF(AND(I288>=0,I288<3),INDEX(Ext!$A$1:$G$5,MATCH(I288,Ext!$A$1:$A$5,0),MATCH(I$7,Ext!$A$2:$E$2,0)),\"invalid entry\")))","v":""},{"$f":"IF(LEN(C288)=0,\"\",IF(LEN(J288)=0,INDEX(Ext!$A$1:$G$5,MATCH(0,Ext!$A$1:$A$5,0),MATCH(J$7,Ext!$A$2:$E$2,0)),IF(AND(J288>=0,J288<3),INDEX(Ext!$A$1:$G$5,MATCH(J288,Ext!$A$1:$A$5,0),MATCH(J$7,Ext!$A$2:$E$2,0)),\"invalid entry\")))","v":""}]
[null,null,null,null,null,null,null,null,null,null,null,{"$f":"IF(LEN(A289)=0,\"\",IF(LEN(E289)=0,\"HVI data needed\",INDEX('Staple Lookup'!$C$3:$C$100,MATCH(TRUE,'Staple Lookup'!$B$3:$B$100>=ROUND(E289,2),0))))","v":""},null,{"$f":"IF(OR(LEN(B289)=0,LEN(C289)=0,LEN(D289)=0),\"\",IF(AND(RIGHT(B289,1)*1=1,C289=8),-2000,IF(L289>=38,AB289,IF(L289<=31,AC289,AE289))))","v":""},{"$f":"IF(LEN(A289)=0,\"\",INDEX(Str!$C$1:$C$20,MATCH(ROUND(F289,1),Str!$A$1:$A$20,1)))","v":""},"","",{"$f":"IF(LEN(A289)=0,\"\",INDEX(Uni!$C$1:$C$20,MATCH(ROUND($G289,1),Uni!$A$1:$A$20,1)))","v":""},null,"",{"$f":"IF(LEN(A289)=0,\"\",IF(OR(LEN(B289)=0,LEN(C289)=0,LEN(D289)=0,LEN(E289)=0,LEN(F289)=0,LEN(G289)=0),\"no HVI data\",IF('Base Values'!$B$6+(SUM($N289:$R289)/100)<0,0,'Base Values'!$B$6+(SUM(N289:R289)/100))))","v":""},null,{"$f":"IF(LEN(A289)=0,\"\",IF(LEN(H289)=0,INDEX(Ext!$A$1:$G$5,MATCH(0,Ext!$A$1:$A$5,0),MATCH(H$7,Ext!$A$2:$E$2,0)),IF(AND(H289>=0,H289<3),INDEX(Ext!$A$1:$G$5,MATCH(H289,Ext!$A$1:$A$5,0),MATCH(H$7,Ext!$A$2:$E$2,0)),\"invalid entry\")))","v":""},{"$f":"IF(LEN(B289)=0,\"\",IF(LEN(I289)=0,INDEX(Ext!$A$1:$G$5,MATCH(0,Ext!$A$1:$A$5,0),MATCH(I$7,Ext!$A$2:$E$2,0)),IF(AND(I289>=0,I289<3),INDEX(Ext!$A$1:$G$5,MATCH(I289,Ext!$A$1:$A$5,0),MATCH(I$7,Ext!$A$2:$E$2,0)),\"invalid entry\")))","v":""},{"$f":"IF(LEN(C289)=0,\"\",IF(LEN(J289)=0,INDEX(Ext!$A$1:$G$5,MATCH(0,Ext!$A$1:$A$5,0),MATCH(J$7,Ext!$A$2:$E$2,0)),IF(AND(J289>=0,J289<3),INDEX(Ext!$A$1:$G$5,MATCH(J289,Ext!$A$1:$A$5,0),MATCH(J$7,Ext!$A$2:$E$2,0)),\"invalid entry\")))","v":""}]
[null,null,null,null,null,null,null,null,null,null,null,{"$f":"IF(LEN(A290)=0,\"\",IF(LEN(E290)=0,\"HVI data needed\",INDEX('Staple Lookup'!$C$3:$C$100,MATCH(TRUE,'Staple Lookup'!$B$3:$B$100>=ROUND(E290,2),0))))","v":""},null,{"$f":"IF(OR(LEN(B290)=0,LEN(C290)=0,LEN(D290)=0),\"\",IF(AND(RIGHT(B290,1)*1=1,C290=8),-2000,IF(L290>=38,AB290,IF(L290<=31,AC290,AE290))))","v":""},{"$f":"IF(LEN(A290)=0,\"\",INDEX(Str!$C$1:$C$20,MATCH(ROUND(F290,1),Str!$A$1:$A$20,1)))","v":""},"","",{"$f":"IF(LEN(A290)=0,\"\",INDEX(Uni!$C$1:$C$20,MATCH(ROUND($G290,1),Uni!$A$1:$A$20,1)))","v":""},null,"",{"$f":"IF(LEN(A290)=0,\"\",IF(OR(LEN(B290)=0,LEN(C290)=0,LEN(D290)=0,LEN(E290)=0,LEN(F290)=0,LEN(G290)=0),\"no HVI data\",IF('Base Values'!$B$6+(SUM($N290:$R290)/100)<0,0,'Base Values'!$B$6+(SUM(N290:R290)/100))))","v":""},null,{"$f":"IF(LEN(A290)=0,\"\",IF(LEN(H290)=0,INDEX(Ext!$A$1:$G$5,MATCH(0,Ext!$A$1:$A$5,0),MATCH(H$7,Ext!$A$2:$E$2,0)),IF(AND(H290>=0,H290<3),INDEX(Ext!$A$1:$G$5,MATCH(H290,Ext!$A$1:$A$5,0),MATCH(H$7,Ext!$A$2:$E$2,0)),\"invalid entry\")))","v":""},{"$f":"IF(LEN(B290)=0,\"\",IF(LEN(I290)=0,INDEX(Ext!$A$1:$G$5,MATCH(0,Ext!$A$1:$A$5,0),MATCH(I$7,Ext!$A$2:$E$2,0)),IF(AND(I290>=0,I290<3),INDEX(Ext!$A$1:$G$5,MATCH(I290,Ext!$A$1:$A$5,0),MATCH(I$7,Ext!$A$2:$E$2,0)),\"invalid entry\")))","v":""},{"$f":"IF(LEN(C290)=0,\"\",IF(LEN(J290)=0,INDEX(Ext!$A$1:$G$5,MATCH(0,Ext!$A$1:$A$5,0),MATCH(J$7,Ext!$A$2:$E$2,0)),IF(AND(J290>=0,J290<3),INDEX(Ext!$A$1:$G$5,MATCH(J290,Ext!$A$1:$A$5,0),MATCH(J$7,Ext!$A$2:$E$2,0)),\"invalid entry\")))","v":""}]
[null,null,null,null,null,null,null,null,null,null,null,{"$f":"IF(LEN(A291)=0,\"\",IF(LEN(E291)=0,\"HVI data needed\",INDEX('Staple Lookup'!$C$3:$C$100,MATCH(TRUE,'Staple Lookup'!$B$3:$B$100>=ROUND(E291,2),0))))","v":""},null,{"$f":"IF(OR(LEN(B291)=0,LEN(C291)=0,LEN(D291)=0),\"\",IF(AND(RIGHT(B291,1)*1=1,C291=8),-2000,IF(L291>=38,AB291,IF(L291<=31,AC291,AE291))))","v":""},{"$f":"IF(LEN(A291)=0,\"\",INDEX(Str!$C$1:$C$20,MATCH(ROUND(F291,1),Str!$A$1:$A$20,1)))","v":""},"","",{"$f":"IF(LEN(A291)=0,\"\",INDEX(Uni!$C$1:$C$20,MATCH(ROUND($G291,1),Uni!$A$1:$A$20,1)))","v":""},null,"",{"$f":"IF(LEN(A291)=0,\"\",IF(OR(LEN(B291)=0,LEN(C291)=0,LEN(D291)=0,LEN(E291)=0,LEN(F291)=0,LEN(G291)=0),\"no HVI data\",IF('Base Values'!$B$6+(SUM($N291:$R291)/100)<0,0,'Base Values'!$B$6+(SUM(N291:R291)/100))))","v":""},null,{"$f":"IF(LEN(A291)=0,\"\",IF(LEN(H291)=0,INDEX(Ext!$A$1:$G$5,MATCH(0,Ext!$A$1:$A$5,0),MATCH(H$7,Ext!$A$2:$E$2,0)),IF(AND(H291>=0,H291<3),INDEX(Ext!$A$1:$G$5,MATCH(H291,Ext!$A$1:$A$5,0),MATCH(H$7,Ext!$A$2:$E$2,0)),\"invalid entry\")))","v":""},{"$f":"IF(LEN(B291)=0,\"\",IF(LEN(I291)=0,INDEX(Ext!$A$1:$G$5,MATCH(0,Ext!$A$1:$A$5,0),MATCH(I$7,Ext!$A$2:$E$2,0)),IF(AND(I291>=0,I291<3),INDEX(Ext!$A$1:$G$5,MATCH(I291,Ext!$A$1:$A$5,0),MATCH(I$7,Ext!$A$2:$E$2,0)),\"invalid entry\")))","v":""},{"$f":"IF(LEN(C291)=0,\"\",IF(LEN(J291)=0,INDEX(Ext!$A$1:$G$5,MATCH(0,Ext!$A$1:$A$5,0),MATCH(J$7,Ext!$A$2:$E$2,0)),IF(AND(J291>=0,J291<3),INDEX(Ext!$A$1:$G$5,MATCH(J291,Ext!$A$1:$A$5,0),MATCH(J$7,Ext!$A$2:$E$2,0)),\"invalid entry\")))","v":""}]
[null,null,null,null,null,null,null,null,null,null,null,{"$f":"IF(LEN(A292)=0,\"\",IF(LEN(E292)=0,\"HVI data needed\",INDEX('Staple Lookup'!$C$3:$C$100,MATCH(TRUE,'Staple Lookup'!$B$3:$B$100>=ROUND(E292,2),0))))","v":""},null,{"$f":"IF(OR(LEN(B292)=0,LEN(C292)=0,LEN(D292)=0),\"\",IF(AND(RIGHT(B292,1)*1=1,C292=8),-2000,IF(L292>=38,AB292,IF(L292<=31,AC292,AE292))))","v":""},{"$f":"IF(LEN(A292)=0,\"\",INDEX(Str!$C$1:$C$20,MATCH(ROUND(F292,1),Str!$A$1:$A$20,1)))","v":""},"","",{"$f":"IF(LEN(A292)=0,\"\",INDEX(Uni!$C$1:$C$20,MATCH(ROUND($G292,1),Uni!$A$1:$A$20,1)))","v":""},null,"",{"$f":"IF(LEN(A292)=0,\"\",IF(OR(LEN(B292)=0,LEN(C292)=0,LEN(D292)=0,LEN(E292)=0,LEN(F292)=0,LEN(G292)=0),\"no HVI data\",IF('Base Values'!$B$6+(SUM($N292:$R292)/100)<0,0,'Base Values'!$B$6+(SUM(N292:R292)/100))))","v":""},null,{"$f":"IF(LEN(A292)=0,\"\",IF(LEN(H292)=0,INDEX(Ext!$A$1:$G$5,MATCH(0,Ext!$A$1:$A$5,0),MATCH(H$7,Ext!$A$2:$E$2,0)),IF(AND(H292>=0,H292<3),INDEX(Ext!$A$1:$G$5,MATCH(H292,Ext!$A$1:$A$5,0),MATCH(H$7,Ext!$A$2:$E$2,0)),\"invalid entry\")))","v":""},{"$f":"IF(LEN(B292)=0,\"\",IF(LEN(I292)=0,INDEX(Ext!$A$1:$G$5,MATCH(0,Ext!$A$1:$A$5,0),MATCH(I$7,Ext!$A$2:$E$2,0)),IF(AND(I292>=0,I292<3),INDEX(Ext!$A$1:$G$5,MATCH(I292,Ext!$A$1:$A$5,0),MATCH(I$7,Ext!$A$2:$E$2,0)),\"invalid entry\")))","v":""},{"$f":"IF(LEN(C292)=0,\"\",IF(LEN(J292)=0,INDEX(Ext!$A$1:$G$5,MATCH(0,Ext!$A$1:$A$5,0),MATCH(J$7,Ext!$A$2:$E$2,0)),IF(AND(J292>=0,J292<3),INDEX(Ext!$A$1:$G$5,MATCH(J292,Ext!$A$1:$A$5,0),MATCH(J$7,Ext!$A$2:$E$2,0)),\"invalid entry\")))","v":""}]
[null,null,null,null,null,null,null,null,null,null,null,{"$f":"IF(LEN(A293)=0,\"\",IF(LEN(E293)=0,\"HVI data needed\",INDEX('Staple Lookup'!$C$3:$C$100,MATCH(TRUE,'Staple Lookup'!$B$3:$B$100>=ROUND(E293,2),0))))","v":""},null,{"$f":"IF(OR(LEN(B293)=0,LEN(C293)=0,LEN(D293)=0),\"\",IF(AND(RIGHT(B293,1)*1=1,C293=8),-2000,IF(L293>=38,AB293,IF(L293<=31,AC293,AE293))))","v":""},{"$f":"IF(LEN(A293)=0,\"\",INDEX(Str!$C$1:$C$20,MATCH(ROUND(F293,1),Str!$A$1:$A$20,1)))","v":""},"","",{"$f":"IF(LEN(A293)=0,\"\",INDEX(Uni!$C$1:$C$20,MATCH(ROUND($G293,1),Uni!$A$1:$A$20,1)))","v":""},null,"",{"$f":"IF(LEN(A293)=0,\"\",IF(OR(LEN(B293)=0,LEN(C293)=0,LEN(D293)=0,LEN(E293)=0,LEN(F293)=0,LEN(G293)=0),\"no HVI data\",IF('Base Values'!$B$6+(SUM($N293:$R293)/100)<0,0,'Base Values'!$B$6+(SUM(N293:R293)/100))))","v":""},null,{"$f":"IF(LEN(A293)=0,\"\",IF(LEN(H293)=0,INDEX(Ext!$A$1:$G$5,MATCH(0,Ext!$A$1:$A$5,0),MATCH(H$7,Ext!$A$2:$E$2,0)),IF(AND(H293>=0,H293<3),INDEX(Ext!$A$1:$G$5,MATCH(H293,Ext!$A$1:$A$5,0),MATCH(H$7,Ext!$A$2:$E$2,0)),\"invalid entry\")))","v":""},{"$f":"IF(LEN(B293)=0,\"\",IF(LEN(I293)=0,INDEX(Ext!$A$1:$G$5,MATCH(0,Ext!$A$1:$A$5,0),MATCH(I$7,Ext!$A$2:$E$2,0)),IF(AND(I293>=0,I293<3),INDEX(Ext!$A$1:$G$5,MATCH(I293,Ext!$A$1:$A$5,0),MATCH(I$7,Ext!$A$2:$E$2,0)),\"invalid entry\")))","v":""},{"$f":"IF(LEN(C293)=0,\"\",IF(LEN(J293)=0,INDEX(Ext!$A$1:$G$5,MATCH(0,Ext!$A$1:$A$5,0),MATCH(J$7,Ext!$A$2:$E$2,0)),IF(AND(J293>=0,J293<3),INDEX(Ext!$A$1:$G$5,MATCH(J293,Ext!$A$1:$A$5,0),MATCH(J$7,Ext!$A$2:$E$2,0)),\"invalid entry\")))","v":""}]
[null,null,null,null,null,null,null,null,null,null,null,{"$f":"IF(LEN(A294)=0,\"\",IF(LEN(E294)=0,\"HVI data needed\",INDEX('Staple Lookup'!$C$3:$C$100,MATCH(TRUE,'Staple Lookup'!$B$3:$B$100>=ROUND(E294,2),0))))","v":""},null,{"$f":"IF(OR(LEN(B294)=0,LEN(C294)=0,LEN(D294)=0),\"\",IF(AND(RIGHT(B294,1)*1=1,C294=8),-2000,IF(L294>=38,AB294,IF(L294<=31,AC294,AE294))))","v":""},{"$f":"IF(LEN(A294)=0,\"\",INDEX(Str!$C$1:$C$20,MATCH(ROUND(F294,1),Str!$A$1:$A$20,1)))","v":""},"","",{"$f":"IF(LEN(A294)=0,\"\",INDEX(Uni!$C$1:$C$20,MATCH(ROUND($G294,1),Uni!$A$1:$A$20,1)))","v":""},null,"",{"$f":"IF(LEN(A294)=0,\"\",IF(OR(LEN(B294)=0,LEN(C294)=0,LEN(D294)=0,LEN(E294)=0,LEN(F294)=0,LEN(G294)=0),\"no HVI data\",IF('Base Values'!$B$6+(SUM($N294:$R294)/100)<0,0,'Base Values'!$B$6+(SUM(N294:R294)/100))))","v":""},null,{"$f":"IF(LEN(A294)=0,\"\",IF(LEN(H294)=0,INDEX(Ext!$A$1:$G$5,MATCH(0,Ext!$A$1:$A$5,0),MATCH(H$7,Ext!$A$2:$E$2,0)),IF(AND(H294>=0,H294<3),INDEX(Ext!$A$1:$G$5,MATCH(H294,Ext!$A$1:$A$5,0),MATCH(H$7,Ext!$A$2:$E$2,0)),\"invalid entry\")))","v":""},{"$f":"IF(LEN(B294)=0,\"\",IF(LEN(I294)=0,INDEX(Ext!$A$1:$G$5,MATCH(0,Ext!$A$1:$A$5,0),MATCH(I$7,Ext!$A$2:$E$2,0)),IF(AND(I294>=0,I294<3),INDEX(Ext!$A$1:$G$5,MATCH(I294,Ext!$A$1:$A$5,0),MATCH(I$7,Ext!$A$2:$E$2,0)),\"invalid entry\")))","v":""},{"$f":"IF(LEN(C294)=0,\"\",IF(LEN(J294)=0,INDEX(Ext!$A$1:$G$5,MATCH(0,Ext!$A$1:$A$5,0),MATCH(J$7,Ext!$A$2:$E$2,0)),IF(AND(J294>=0,J294<3),INDEX(Ext!$A$1:$G$5,MATCH(J294,Ext!$A$1:$A$5,0),MATCH(J$7,Ext!$A$2:$E$2,0)),\"invalid entry\")))","v":""}]
[null,null,null,null,null,null,null,null,null,null,null,{"$f":"IF(LEN(A295)=0,\"\",IF(LEN(E295)=0,\"HVI data needed\",INDEX('Staple Lookup'!$C$3:$C$100,MATCH(TRUE,'Staple Lookup'!$B$3:$B$100>=ROUND(E295,2),0))))","v":""},null,{"$f":"IF(OR(LEN(B295)=0,LEN(C295)=0,LEN(D295)=0),\"\",IF(AND(RIGHT(B295,1)*1=1,C295=8),-2000,IF(L295>=38,AB295,IF(L295<=31,AC295,AE295))))","v":""},{"$f":"IF(LEN(A295)=0,\"\",INDEX(Str!$C$1:$C$20,MATCH(ROUND(F295,1),Str!$A$1:$A$20,1)))","v":""},"","",{"$f":"IF(LEN(A295)=0,\"\",INDEX(Uni!$C$1:$C$20,MATCH(ROUND($G295,1),Uni!$A$1:$A$20,1)))","v":""},null,"",{"$f":"IF(LEN(A295)=0,\"\",IF(OR(LEN(B295)=0,LEN(C295)=0,LEN(D295)=0,LEN(E295)=0,LEN(F295)=0,LEN(G295)=0),\"no HVI data\",IF('Base Values'!$B$6+(SUM($N295:$R295)/100)<0,0,'Base Values'!$B$6+(SUM(N295:R295)/100))))","v":""},null,{"$f":"IF(LEN(A295)=0,\"\",IF(LEN(H295)=0,INDEX(Ext!$A$1:$G$5,MATCH(0,Ext!$A$1:$A$5,0),MATCH(H$7,Ext!$A$2:$E$2,0)),IF(AND(H295>=0,H295<3),INDEX(Ext!$A$1:$G$5,MATCH(H295,Ext!$A$1:$A$5,0),MATCH(H$7,Ext!$A$2:$E$2,0)),\"invalid entry\")))","v":""},{"$f":"IF(LEN(B295)=0,\"\",IF(LEN(I295)=0,INDEX(Ext!$A$1:$G$5,MATCH(0,Ext!$A$1:$A$5,0),MATCH(I$7,Ext!$A$2:$E$2,0)),IF(AND(I295>=0,I295<3),INDEX(Ext!$A$1:$G$5,MATCH(I295,Ext!$A$1:$A$5,0),MATCH(I$7,Ext!$A$2:$E$2,0)),\"invalid entry\")))","v":""},{"$f":"IF(LEN(C295)=0,\"\",IF(LEN(J295)=0,INDEX(Ext!$A$1:$G$5,MATCH(0,Ext!$A$1:$A$5,0),MATCH(J$7,Ext!$A$2:$E$2,0)),IF(AND(J295>=0,J295<3),INDEX(Ext!$A$1:$G$5,MATCH(J295,Ext!$A$1:$A$5,0),MATCH(J$7,Ext!$A$2:$E$2,0)),\"invalid entry\")))","v":""}]
[null,null,null,null,null,null,null,null,null,null,null,{"$f":"IF(LEN(A296)=0,\"\",IF(LEN(E296)=0,\"HVI data needed\",INDEX('Staple Lookup'!$C$3:$C$100,MATCH(TRUE,'Staple Lookup'!$B$3:$B$100>=ROUND(E296,2),0))))","v":""},null,{"$f":"IF(OR(LEN(B296)=0,LEN(C296)=0,LEN(D296)=0),\"\",IF(AND(RIGHT(B296,1)*1=1,C296=8),-2000,IF(L296>=38,AB296,IF(L296<=31,AC296,AE296))))","v":""},{"$f":"IF(LEN(A296)=0,\"\",INDEX(Str!$C$1:$C$20,MATCH(ROUND(F296,1),Str!$A$1:$A$20,1)))","v":""},"","",{"$f":"IF(LEN(A296)=0,\"\",INDEX(Uni!$C$1:$C$20,MATCH(ROUND($G296,1),Uni!$A$1:$A$20,1)))","v":""},null,"",{"$f":"IF(LEN(A296)=0,\"\",IF(OR(LEN(B296)=0,LEN(C296)=0,LEN(D296)=0,LEN(E296)=0,LEN(F296)=0,LEN(G296)=0),\"no HVI data\",IF('Base Values'!$B$6+(SUM($N296:$R296)/100)<0,0,'Base Values'!$B$6+(SUM(N296:R296)/100))))","v":""},null,{"$f":"IF(LEN(A296)=0,\"\",IF(LEN(H296)=0,INDEX(Ext!$A$1:$G$5,MATCH(0,Ext!$A$1:$A$5,0),MATCH(H$7,Ext!$A$2:$E$2,0)),IF(AND(H296>=0,H296<3),INDEX(Ext!$A$1:$G$5,MATCH(H296,Ext!$A$1:$A$5,0),MATCH(H$7,Ext!$A$2:$E$2,0)),\"invalid entry\")))","v":""},{"$f":"IF(LEN(B296)=0,\"\",IF(LEN(I296)=0,INDEX(Ext!$A$1:$G$5,MATCH(0,Ext!$A$1:$A$5,0),MATCH(I$7,Ext!$A$2:$E$2,0)),IF(AND(I296>=0,I296<3),INDEX(Ext!$A$1:$G$5,MATCH(I296,Ext!$A$1:$A$5,0),MATCH(I$7,Ext!$A$2:$E$2,0)),\"invalid entry\")))","v":""},{"$f":"IF(LEN(C296)=0,\"\",IF(LEN(J296)=0,INDEX(Ext!$A$1:$G$5,MATCH(0,Ext!$A$1:$A$5,0),MATCH(J$7,Ext!$A$2:$E$2,0)),IF(AND(J296>=0,J296<3),INDEX(Ext!$A$1:$G$5,MATCH(J296,Ext!$A$1:$A$5,0),MATCH(J$7,Ext!$A$2:$E$2,0)),\"invalid entry\")))","v":""}]
[null,null,null,null,null,null,null,null,null,null,null,{"$f":"IF(LEN(A297)=0,\"\",IF(LEN(E297)=0,\"HVI data needed\",INDEX('Staple Lookup'!$C$3:$C$100,MATCH(TRUE,'Staple Lookup'!$B$3:$B$100>=ROUND(E297,2),0))))","v":""},null,{"$f":"IF(OR(LEN(B297)=0,LEN(C297)=0,LEN(D297)=0),\"\",IF(AND(RIGHT(B297,1)*1=1,C297=8),-2000,IF(L297>=38,AB297,IF(L297<=31,AC297,AE297))))","v":""},{"$f":"IF(LEN(A297)=0,\"\",INDEX(Str!$C$1:$C$20,MATCH(ROUND(F297,1),Str!$A$1:$A$20,1)))","v":""},"","",{"$f":"IF(LEN(A297)=0,\"\",INDEX(Uni!$C$1:$C$20,MATCH(ROUND($G297,1),Uni!$A$1:$A$20,1)))","v":""},null,"",{"$f":"IF(LEN(A297)=0,\"\",IF(OR(LEN(B297)=0,LEN(C297)=0,LEN(D297)=0,LEN(E297)=0,LEN(F297)=0,LEN(G297)=0),\"no HVI data\",IF('Base Values'!$B$6+(SUM($N297:$R297)/100)<0,0,'Base Values'!$B$6+(SUM(N297:R297)/100))))","v":""},null,{"$f":"IF(LEN(A297)=0,\"\",IF(LEN(H297)=0,INDEX(Ext!$A$1:$G$5,MATCH(0,Ext!$A$1:$A$5,0),MATCH(H$7,Ext!$A$2:$E$2,0)),IF(AND(H297>=0,H297<3),INDEX(Ext!$A$1:$G$5,MATCH(H297,Ext!$A$1:$A$5,0),MATCH(H$7,Ext!$A$2:$E$2,0)),\"invalid entry\")))","v":""},{"$f":"IF(LEN(B297)=0,\"\",IF(LEN(I297)=0,INDEX(Ext!$A$1:$G$5,MATCH(0,Ext!$A$1:$A$5,0),MATCH(I$7,Ext!$A$2:$E$2,0)),IF(AND(I297>=0,I297<3),INDEX(Ext!$A$1:$G$5,MATCH(I297,Ext!$A$1:$A$5,0),MATCH(I$7,Ext!$A$2:$E$2,0)),\"invalid entry\")))","v":""},{"$f":"IF(LEN(C297)=0,\"\",IF(LEN(J297)=0,INDEX(Ext!$A$1:$G$5,MATCH(0,Ext!$A$1:$A$5,0),MATCH(J$7,Ext!$A$2:$E$2,0)),IF(AND(J297>=0,J297<3),INDEX(Ext!$A$1:$G$5,MATCH(J297,Ext!$A$1:$A$5,0),MATCH(J$7,Ext!$A$2:$E$2,0)),\"invalid entry\")))","v":""}]
[null,null,null,null,null,null,null,null,null,null,null,{"$f":"IF(LEN(A298)=0,\"\",IF(LEN(E298)=0,\"HVI data needed\",INDEX('Staple Lookup'!$C$3:$C$100,MATCH(TRUE,'Staple Lookup'!$B$3:$B$100>=ROUND(E298,2),0))))","v":""},null,{"$f":"IF(OR(LEN(B298)=0,LEN(C298)=0,LEN(D298)=0),\"\",IF(AND(RIGHT(B298,1)*1=1,C298=8),-2000,IF(L298>=38,AB298,IF(L298<=31,AC298,AE298))))","v":""},{"$f":"IF(LEN(A298)=0,\"\",INDEX(Str!$C$1:$C$20,MATCH(ROUND(F298,1),Str!$A$1:$A$20,1)))","v":""},"","",{"$f":"IF(LEN(A298)=0,\"\",INDEX(Uni!$C$1:$C$20,MATCH(ROUND($G298,1),Uni!$A$1:$A$20,1)))","v":""},null,"",{"$f":"IF(LEN(A298)=0,\"\",IF(OR(LEN(B298)=0,LEN(C298)=0,LEN(D298)=0,LEN(E298)=0,LEN(F298)=0,LEN(G298)=0),\"no HVI data\",IF('Base Values'!$B$6+(SUM($N298:$R298)/100)<0,0,'Base Values'!$B$6+(SUM(N298:R298)/100))))","v":""},null,{"$f":"IF(LEN(A298)=0,\"\",IF(LEN(H298)=0,INDEX(Ext!$A$1:$G$5,MATCH(0,Ext!$A$1:$A$5,0),MATCH(H$7,Ext!$A$2:$E$2,0)),IF(AND(H298>=0,H298<3),INDEX(Ext!$A$1:$G$5,MATCH(H298,Ext!$A$1:$A$5,0),MATCH(H$7,Ext!$A$2:$E$2,0)),\"invalid entry\")))","v":""},{"$f":"IF(LEN(B298)=0,\"\",IF(LEN(I298)=0,INDEX(Ext!$A$1:$G$5,MATCH(0,Ext!$A$1:$A$5,0),MATCH(I$7,Ext!$A$2:$E$2,0)),IF(AND(I298>=0,I298<3),INDEX(Ext!$A$1:$G$5,MATCH(I298,Ext!$A$1:$A$5,0),MATCH(I$7,Ext!$A$2:$E$2,0)),\"invalid entry\")))","v":""},{"$f":"IF(LEN(C298)=0,\"\",IF(LEN(J298)=0,INDEX(Ext!$A$1:$G$5,MATCH(0,Ext!$A$1:$A$5,0),MATCH(J$7,Ext!$A$2:$E$2,0)),IF(AND(J298>=0,J298<3),INDEX(Ext!$A$1:$G$5,MATCH(J298,Ext!$A$1:$A$5,0),MATCH(J$7,Ext!$A$2:$E$2,0)),\"invalid entry\")))","v":""}]
[null,null,null,null,null,null,null,null,null,null,null,{"$f":"IF(LEN(A299)=0,\"\",IF(LEN(E299)=0,\"HVI data needed\",INDEX('Staple Lookup'!$C$3:$C$100,MATCH(TRUE,'Staple Lookup'!$B$3:$B$100>=ROUND(E299,2),0))))","v":""},null,{"$f":"IF(OR(LEN(B299)=0,LEN(C299)=0,LEN(D299)=0),\"\",IF(AND(RIGHT(B299,1)*1=1,C299=8),-2000,IF(L299>=38,AB299,IF(L299<=31,AC299,AE299))))","v":""},{"$f":"IF(LEN(A299)=0,\"\",INDEX(Str!$C$1:$C$20,MATCH(ROUND(F299,1),Str!$A$1:$A$20,1)))","v":""},"","",{"$f":"IF(LEN(A299)=0,\"\",INDEX(Uni!$C$1:$C$20,MATCH(ROUND($G299,1),Uni!$A$1:$A$20,1)))","v":""},null,"",{"$f":"IF(LEN(A299)=0,\"\",IF(OR(LEN(B299)=0,LEN(C299)=0,LEN(D299)=0,LEN(E299)=0,LEN(F299)=0,LEN(G299)=0),\"no HVI data\",IF('Base Values'!$B$6+(SUM($N299:$R299)/100)<0,0,'Base Values'!$B$6+(SUM(N299:R299)/100))))","v":""},null,{"$f":"IF(LEN(A299)=0,\"\",IF(LEN(H299)=0,INDEX(Ext!$A$1:$G$5,MATCH(0,Ext!$A$1:$A$5,0),MATCH(H$7,Ext!$A$2:$E$2,0)),IF(AND(H299>=0,H299<3),INDEX(Ext!$A$1:$G$5,MATCH(H299,Ext!$A$1:$A$5,0),MATCH(H$7,Ext!$A$2:$E$2,0)),\"invalid entry\")))","v":""},{"$f":"IF(LEN(B299)=0,\"\",IF(LEN(I299)=0,INDEX(Ext!$A$1:$G$5,MATCH(0,Ext!$A$1:$A$5,0),MATCH(I$7,Ext!$A$2:$E$2,0)),IF(AND(I299>=0,I299<3),INDEX(Ext!$A$1:$G$5,MATCH(I299,Ext!$A$1:$A$5,0),MATCH(I$7,Ext!$A$2:$E$2,0)),\"invalid entry\")))","v":""},{"$f":"IF(LEN(C299)=0,\"\",IF(LEN(J299)=0,INDEX(Ext!$A$1:$G$5,MATCH(0,Ext!$A$1:$A$5,0),MATCH(J$7,Ext!$A$2:$E$2,0)),IF(AND(J299>=0,J299<3),INDEX(Ext!$A$1:$G$5,MATCH(J299,Ext!$A$1:$A$5,0),MATCH(J$7,Ext!$A$2:$E$2,0)),\"invalid entry\")))","v":""}]
[null,null,null,null,null,null,null,null,null,null,null,{"$f":"IF(LEN(A300)=0,\"\",IF(LEN(E300)=0,\"HVI data needed\",INDEX('Staple Lookup'!$C$3:$C$100,MATCH(TRUE,'Staple Lookup'!$B$3:$B$100>=ROUND(E300,2),0))))","v":""},null,{"$f":"IF(OR(LEN(B300)=0,LEN(C300)=0,LEN(D300)=0),\"\",IF(AND(RIGHT(B300,1)*1=1,C300=8),-2000,IF(L300>=38,AB300,IF(L300<=31,AC300,AE300))))","v":""},{"$f":"IF(LEN(A300)=0,\"\",INDEX(Str!$C$1:$C$20,MATCH(ROUND(F300,1),Str!$A$1:$A$20,1)))","v":""},"","",{"$f":"IF(LEN(A300)=0,\"\",INDEX(Uni!$C$1:$C$20,MATCH(ROUND($G300,1),Uni!$A$1:$A$20,1)))","v":""},null,"",{"$f":"IF(LEN(A300)=0,\"\",IF(OR(LEN(B300)=0,LEN(C300)=0,LEN(D300)=0,LEN(E300)=0,LEN(F300)=0,LEN(G300)=0),\"no HVI data\",IF('Base Values'!$B$6+(SUM($N300:$R300)/100)<0,0,'Base Values'!$B$6+(SUM(N300:R300)/100))))","v":""},null,{"$f":"IF(LEN(A300)=0,\"\",IF(LEN(H300)=0,INDEX(Ext!$A$1:$G$5,MATCH(0,Ext!$A$1:$A$5,0),MATCH(H$7,Ext!$A$2:$E$2,0)),IF(AND(H300>=0,H300<3),INDEX(Ext!$A$1:$G$5,MATCH(H300,Ext!$A$1:$A$5,0),MATCH(H$7,Ext!$A$2:$E$2,0)),\"invalid entry\")))","v":""},{"$f":"IF(LEN(B300)=0,\"\",IF(LEN(I300)=0,INDEX(Ext!$A$1:$G$5,MATCH(0,Ext!$A$1:$A$5,0),MATCH(I$7,Ext!$A$2:$E$2,0)),IF(AND(I300>=0,I300<3),INDEX(Ext!$A$1:$G$5,MATCH(I300,Ext!$A$1:$A$5,0),MATCH(I$7,Ext!$A$2:$E$2,0)),\"invalid entry\")))","v":""},{"$f":"IF(LEN(C300)=0,\"\",IF(LEN(J300)=0,INDEX(Ext!$A$1:$G$5,MATCH(0,Ext!$A$1:$A$5,0),MATCH(J$7,Ext!$A$2:$E$2,0)),IF(AND(J300>=0,J300<3),INDEX(Ext!$A$1:$G$5,MATCH(J300,Ext!$A$1:$A$5,0),MATCH(J$7,Ext!$A$2:$E$2,0)),\"invalid entry\")))","v":""}]
[null,null,null,null,null,null,null,null,null,null,null,{"$f":"IF(LEN(A301)=0,\"\",IF(LEN(E301)=0,\"HVI data needed\",INDEX('Staple Lookup'!$C$3:$C$100,MATCH(TRUE,'Staple Lookup'!$B$3:$B$100>=ROUND(E301,2),0))))","v":""},null,{"$f":"IF(OR(LEN(B301)=0,LEN(C301)=0,LEN(D301)=0),\"\",IF(AND(RIGHT(B301,1)*1=1,C301=8),-2000,IF(L301>=38,AB301,IF(L301<=31,AC301,AE301))))","v":""},{"$f":"IF(LEN(A301)=0,\"\",INDEX(Str!$C$1:$C$20,MATCH(ROUND(F301,1),Str!$A$1:$A$20,1)))","v":""},"","",{"$f":"IF(LEN(A301)=0,\"\",INDEX(Uni!$C$1:$C$20,MATCH(ROUND($G301,1),Uni!$A$1:$A$20,1)))","v":""},null,"",{"$f":"IF(LEN(A301)=0,\"\",IF(OR(LEN(B301)=0,LEN(C301)=0,LEN(D301)=0,LEN(E301)=0,LEN(F301)=0,LEN(G301)=0),\"no HVI data\",IF('Base Values'!$B$6+(SUM($N301:$R301)/100)<0,0,'Base Values'!$B$6+(SUM(N301:R301)/100))))","v":""},null,{"$f":"IF(LEN(A301)=0,\"\",IF(LEN(H301)=0,INDEX(Ext!$A$1:$G$5,MATCH(0,Ext!$A$1:$A$5,0),MATCH(H$7,Ext!$A$2:$E$2,0)),IF(AND(H301>=0,H301<3),INDEX(Ext!$A$1:$G$5,MATCH(H301,Ext!$A$1:$A$5,0),MATCH(H$7,Ext!$A$2:$E$2,0)),\"invalid entry\")))","v":""},{"$f":"IF(LEN(B301)=0,\"\",IF(LEN(I301)=0,INDEX(Ext!$A$1:$G$5,MATCH(0,Ext!$A$1:$A$5,0),MATCH(I$7,Ext!$A$2:$E$2,0)),IF(AND(I301>=0,I301<3),INDEX(Ext!$A$1:$G$5,MATCH(I301,Ext!$A$1:$A$5,0),MATCH(I$7,Ext!$A$2:$E$2,0)),\"invalid entry\")))","v":""},{"$f":"IF(LEN(C301)=0,\"\",IF(LEN(J301)=0,INDEX(Ext!$A$1:$G$5,MATCH(0,Ext!$A$1:$A$5,0),MATCH(J$7,Ext!$A$2:$E$2,0)),IF(AND(J301>=0,J301<3),INDEX(Ext!$A$1:$G$5,MATCH(J301,Ext!$A$1:$A$5,0),MATCH(J$7,Ext!$A$2:$E$2,0)),\"invalid entry\")))","v":""}]
[null,null,null,null,null,null,null,null,null,null,null,{"$f":"IF(LEN(A302)=0,\"\",IF(LEN(E302)=0,\"HVI data needed\",INDEX('Staple Lookup'!$C$3:$C$100,MATCH(TRUE,'Staple Lookup'!$B$3:$B$100>=ROUND(E302,2),0))))","v":""},null,{"$f":"IF(OR(LEN(B302)=0,LEN(C302)=0,LEN(D302)=0),\"\",IF(AND(RIGHT(B302,1)*1=1,C302=8),-2000,IF(L302>=38,AB302,IF(L302<=31,AC302,AE302))))","v":""},{"$f":"IF(LEN(A302)=0,\"\",INDEX(Str!$C$1:$C$20,MATCH(ROUND(F302,1),Str!$A$1:$A$20,1)))","v":""},"","",{"$f":"IF(LEN(A302)=0,\"\",INDEX(Uni!$C$1:$C$20,MATCH(ROUND($G302,1),Uni!$A$1:$A$20,1)))","v":""},null,"",{"$f":"IF(LEN(A302)=0,\"\",IF(OR(LEN(B302)=0,LEN(C302)=0,LEN(D302)=0,LEN(E302)=0,LEN(F302)=0,LEN(G302)=0),\"no HVI data\",IF('Base Values'!$B$6+(SUM($N302:$R302)/100)<0,0,'Base Values'!$B$6+(SUM(N302:R302)/100))))","v":""},null,{"$f":"IF(LEN(A302)=0,\"\",IF(LEN(H302)=0,INDEX(Ext!$A$1:$G$5,MATCH(0,Ext!$A$1:$A$5,0),MATCH(H$7,Ext!$A$2:$E$2,0)),IF(AND(H302>=0,H302<3),INDEX(Ext!$A$1:$G$5,MATCH(H302,Ext!$A$1:$A$5,0),MATCH(H$7,Ext!$A$2:$E$2,0)),\"invalid entry\")))","v":""},{"$f":"IF(LEN(B302)=0,\"\",IF(LEN(I302)=0,INDEX(Ext!$A$1:$G$5,MATCH(0,Ext!$A$1:$A$5,0),MATCH(I$7,Ext!$A$2:$E$2,0)),IF(AND(I302>=0,I302<3),INDEX(Ext!$A$1:$G$5,MATCH(I302,Ext!$A$1:$A$5,0),MATCH(I$7,Ext!$A$2:$E$2,0)),\"invalid entry\")))","v":""},{"$f":"IF(LEN(C302)=0,\"\",IF(LEN(J302)=0,INDEX(Ext!$A$1:$G$5,MATCH(0,Ext!$A$1:$A$5,0),MATCH(J$7,Ext!$A$2:$E$2,0)),IF(AND(J302>=0,J302<3),INDEX(Ext!$A$1:$G$5,MATCH(J302,Ext!$A$1:$A$5,0),MATCH(J$7,Ext!$A$2:$E$2,0)),\"invalid entry\")))","v":""}]
[null,null,null,null,null,null,null,null,null,null,null,{"$f":"IF(LEN(A303)=0,\"\",IF(LEN(E303)=0,\"HVI data needed\",INDEX('Staple Lookup'!$C$3:$C$100,MATCH(TRUE,'Staple Lookup'!$B$3:$B$100>=ROUND(E303,2),0))))","v":""},null,{"$f":"IF(OR(LEN(B303)=0,LEN(C303)=0,LEN(D303)=0),\"\",IF(AND(RIGHT(B303,1)*1=1,C303=8),-2000,IF(L303>=38,AB303,IF(L303<=31,AC303,AE303))))","v":""},{"$f":"IF(LEN(A303)=0,\"\",INDEX(Str!$C$1:$C$20,MATCH(ROUND(F303,1),Str!$A$1:$A$20,1)))","v":""},"","",{"$f":"IF(LEN(A303)=0,\"\",INDEX(Uni!$C$1:$C$20,MATCH(ROUND($G303,1),Uni!$A$1:$A$20,1)))","v":""},null,"",{"$f":"IF(LEN(A303)=0,\"\",IF(OR(LEN(B303)=0,LEN(C303)=0,LEN(D303)=0,LEN(E303)=0,LEN(F303)=0,LEN(G303)=0),\"no HVI data\",IF('Base Values'!$B$6+(SUM($N303:$R303)/100)<0,0,'Base Values'!$B$6+(SUM(N303:R303)/100))))","v":""},null,{"$f":"IF(LEN(A303)=0,\"\",IF(LEN(H303)=0,INDEX(Ext!$A$1:$G$5,MATCH(0,Ext!$A$1:$A$5,0),MATCH(H$7,Ext!$A$2:$E$2,0)),IF(AND(H303>=0,H303<3),INDEX(Ext!$A$1:$G$5,MATCH(H303,Ext!$A$1:$A$5,0),MATCH(H$7,Ext!$A$2:$E$2,0)),\"invalid entry\")))","v":""},{"$f":"IF(LEN(B303)=0,\"\",IF(LEN(I303)=0,INDEX(Ext!$A$1:$G$5,MATCH(0,Ext!$A$1:$A$5,0),MATCH(I$7,Ext!$A$2:$E$2,0)),IF(AND(I303>=0,I303<3),INDEX(Ext!$A$1:$G$5,MATCH(I303,Ext!$A$1:$A$5,0),MATCH(I$7,Ext!$A$2:$E$2,0)),\"invalid entry\")))","v":""},{"$f":"IF(LEN(C303)=0,\"\",IF(LEN(J303)=0,INDEX(Ext!$A$1:$G$5,MATCH(0,Ext!$A$1:$A$5,0),MATCH(J$7,Ext!$A$2:$E$2,0)),IF(AND(J303>=0,J303<3),INDEX(Ext!$A$1:$G$5,MATCH(J303,Ext!$A$1:$A$5,0),MATCH(J$7,Ext!$A$2:$E$2,0)),\"invalid entry\")))","v":""}]
[null,null,null,null,null,null,null,null,null,null,null,{"$f":"IF(LEN(A304)=0,\"\",IF(LEN(E304)=0,\"HVI data needed\",INDEX('Staple Lookup'!$C$3:$C$100,MATCH(TRUE,'Staple Lookup'!$B$3:$B$100>=ROUND(E304,2),0))))","v":""},null,{"$f":"IF(OR(LEN(B304)=0,LEN(C304)=0,LEN(D304)=0),\"\",IF(AND(RIGHT(B304,1)*1=1,C304=8),-2000,IF(L304>=38,AB304,IF(L304<=31,AC304,AE304))))","v":""},{"$f":"IF(LEN(A304)=0,\"\",INDEX(Str!$C$1:$C$20,MATCH(ROUND(F304,1),Str!$A$1:$A$20,1)))","v":""},"","",{"$f":"IF(LEN(A304)=0,\"\",INDEX(Uni!$C$1:$C$20,MATCH(ROUND($G304,1),Uni!$A$1:$A$20,1)))","v":""},null,"",{"$f":"IF(LEN(A304)=0,\"\",IF(OR(LEN(B304)=0,LEN(C304)=0,LEN(D304)=0,LEN(E304)=0,LEN(F304)=0,LEN(G304)=0),\"no HVI data\",IF('Base Values'!$B$6+(SUM($N304:$R304)/100)<0,0,'Base Values'!$B$6+(SUM(N304:R304)/100))))","v":""},null,{"$f":"IF(LEN(A304)=0,\"\",IF(LEN(H304)=0,INDEX(Ext!$A$1:$G$5,MATCH(0,Ext!$A$1:$A$5,0),MATCH(H$7,Ext!$A$2:$E$2,0)),IF(AND(H304>=0,H304<3),INDEX(Ext!$A$1:$G$5,MATCH(H304,Ext!$A$1:$A$5,0),MATCH(H$7,Ext!$A$2:$E$2,0)),\"invalid entry\")))","v":""},{"$f":"IF(LEN(B304)=0,\"\",IF(LEN(I304)=0,INDEX(Ext!$A$1:$G$5,MATCH(0,Ext!$A$1:$A$5,0),MATCH(I$7,Ext!$A$2:$E$2,0)),IF(AND(I304>=0,I304<3),INDEX(Ext!$A$1:$G$5,MATCH(I304,Ext!$A$1:$A$5,0),MATCH(I$7,Ext!$A$2:$E$2,0)),\"invalid entry\")))","v":""},{"$f":"IF(LEN(C304)=0,\"\",IF(LEN(J304)=0,INDEX(Ext!$A$1:$G$5,MATCH(0,Ext!$A$1:$A$5,0),MATCH(J$7,Ext!$A$2:$E$2,0)),IF(AND(J304>=0,J304<3),INDEX(Ext!$A$1:$G$5,MATCH(J304,Ext!$A$1:$A$5,0),MATCH(J$7,Ext!$A$2:$E$2,0)),\"invalid entry\")))","v":""}]
[null,null,null,null,null,null,null,null,null,null,null,{"$f":"IF(LEN(A305)=0,\"\",IF(LEN(E305)=0,\"HVI data needed\",INDEX('Staple Lookup'!$C$3:$C$100,MATCH(TRUE,'Staple Lookup'!$B$3:$B$100>=ROUND(E305,2),0))))","v":""},null,{"$f":"IF(OR(LEN(B305)=0,LEN(C305)=0,LEN(D305)=0),\"\",IF(AND(RIGHT(B305,1)*1=1,C305=8),-2000,IF(L305>=38,AB305,IF(L305<=31,AC305,AE305))))","v":""},{"$f":"IF(LEN(A305)=0,\"\",INDEX(Str!$C$1:$C$20,MATCH(ROUND(F305,1),Str!$A$1:$A$20,1)))","v":""},"","",{"$f":"IF(LEN(A305)=0,\"\",INDEX(Uni!$C$1:$C$20,MATCH(ROUND($G305,1),Uni!$A$1:$A$20,1)))","v":""},null,"",{"$f":"IF(LEN(A305)=0,\"\",IF(OR(LEN(B305)=0,LEN(C305)=0,LEN(D305)=0,LEN(E305)=0,LEN(F305)=0,LEN(G305)=0),\"no HVI data\",IF('Base Values'!$B$6+(SUM($N305:$R305)/100)<0,0,'Base Values'!$B$6+(SUM(N305:R305)/100))))","v":""},null,{"$f":"IF(LEN(A305)=0,\"\",IF(LEN(H305)=0,INDEX(Ext!$A$1:$G$5,MATCH(0,Ext!$A$1:$A$5,0),MATCH(H$7,Ext!$A$2:$E$2,0)),IF(AND(H305>=0,H305<3),INDEX(Ext!$A$1:$G$5,MATCH(H305,Ext!$A$1:$A$5,0),MATCH(H$7,Ext!$A$2:$E$2,0)),\"invalid entry\")))","v":""},{"$f":"IF(LEN(B305)=0,\"\",IF(LEN(I305)=0,INDEX(Ext!$A$1:$G$5,MATCH(0,Ext!$A$1:$A$5,0),MATCH(I$7,Ext!$A$2:$E$2,0)),IF(AND(I305>=0,I305<3),INDEX(Ext!$A$1:$G$5,MATCH(I305,Ext!$A$1:$A$5,0),MATCH(I$7,Ext!$A$2:$E$2,0)),\"invalid entry\")))","v":""},{"$f":"IF(LEN(C305)=0,\"\",IF(LEN(J305)=0,INDEX(Ext!$A$1:$G$5,MATCH(0,Ext!$A$1:$A$5,0),MATCH(J$7,Ext!$A$2:$E$2,0)),IF(AND(J305>=0,J305<3),INDEX(Ext!$A$1:$G$5,MATCH(J305,Ext!$A$1:$A$5,0),MATCH(J$7,Ext!$A$2:$E$2,0)),\"invalid entry\")))","v":""}]
[null,null,null,null,null,null,null,null,null,null,null,{"$f":"IF(LEN(A306)=0,\"\",IF(LEN(E306)=0,\"HVI data needed\",INDEX('Staple Lookup'!$C$3:$C$100,MATCH(TRUE,'Staple Lookup'!$B$3:$B$100>=ROUND(E306,2),0))))","v":""},null,{"$f":"IF(OR(LEN(B306)=0,LEN(C306)=0,LEN(D306)=0),\"\",IF(AND(RIGHT(B306,1)*1=1,C306=8),-2000,IF(L306>=38,AB306,IF(L306<=31,AC306,AE306))))","v":""},{"$f":"IF(LEN(A306)=0,\"\",INDEX(Str!$C$1:$C$20,MATCH(ROUND(F306,1),Str!$A$1:$A$20,1)))","v":""},"","",{"$f":"IF(LEN(A306)=0,\"\",INDEX(Uni!$C$1:$C$20,MATCH(ROUND($G306,1),Uni!$A$1:$A$20,1)))","v":""},null,"",{"$f":"IF(LEN(A306)=0,\"\",IF(OR(LEN(B306)=0,LEN(C306)=0,LEN(D306)=0,LEN(E306)=0,LEN(F306)=0,LEN(G306)=0),\"no HVI data\",IF('Base Values'!$B$6+(SUM($N306:$R306)/100)<0,0,'Base Values'!$B$6+(SUM(N306:R306)/100))))","v":""},null,{"$f":"IF(LEN(A306)=0,\"\",IF(LEN(H306)=0,INDEX(Ext!$A$1:$G$5,MATCH(0,Ext!$A$1:$A$5,0),MATCH(H$7,Ext!$A$2:$E$2,0)),IF(AND(H306>=0,H306<3),INDEX(Ext!$A$1:$G$5,MATCH(H306,Ext!$A$1:$A$5,0),MATCH(H$7,Ext!$A$2:$E$2,0)),\"invalid entry\")))","v":""},{"$f":"IF(LEN(B306)=0,\"\",IF(LEN(I306)=0,INDEX(Ext!$A$1:$G$5,MATCH(0,Ext!$A$1:$A$5,0),MATCH(I$7,Ext!$A$2:$E$2,0)),IF(AND(I306>=0,I306<3),INDEX(Ext!$A$1:$G$5,MATCH(I306,Ext!$A$1:$A$5,0),MATCH(I$7,Ext!$A$2:$E$2,0)),\"invalid entry\")))","v":""},{"$f":"IF(LEN(C306)=0,\"\",IF(LEN(J306)=0,INDEX(Ext!$A$1:$G$5,MATCH(0,Ext!$A$1:$A$5,0),MATCH(J$7,Ext!$A$2:$E$2,0)),IF(AND(J306>=0,J306<3),INDEX(Ext!$A$1:$G$5,MATCH(J306,Ext!$A$1:$A$5,0),MATCH(J$7,Ext!$A$2:$E$2,0)),\"invalid entry\")))","v":""}]
[null,null,null,null,null,null,null,null,null,null,null,{"$f":"IF(LEN(A307)=0,\"\",IF(LEN(E307)=0,\"HVI data needed\",INDEX('Staple Lookup'!$C$3:$C$100,MATCH(TRUE,'Staple Lookup'!$B$3:$B$100>=ROUND(E307,2),0))))","v":""},null,{"$f":"IF(OR(LEN(B307)=0,LEN(C307)=0,LEN(D307)=0),\"\",IF(AND(RIGHT(B307,1)*1=1,C307=8),-2000,IF(L307>=38,AB307,IF(L307<=31,AC307,AE307))))","v":""},{"$f":"IF(LEN(A307)=0,\"\",INDEX(Str!$C$1:$C$20,MATCH(ROUND(F307,1),Str!$A$1:$A$20,1)))","v":""},"","",{"$f":"IF(LEN(A307)=0,\"\",INDEX(Uni!$C$1:$C$20,MATCH(ROUND($G307,1),Uni!$A$1:$A$20,1)))","v":""},null,"",{"$f":"IF(LEN(A307)=0,\"\",IF(OR(LEN(B307)=0,LEN(C307)=0,LEN(D307)=0,LEN(E307)=0,LEN(F307)=0,LEN(G307)=0),\"no HVI data\",IF('Base Values'!$B$6+(SUM($N307:$R307)/100)<0,0,'Base Values'!$B$6+(SUM(N307:R307)/100))))","v":""},null,{"$f":"IF(LEN(A307)=0,\"\",IF(LEN(H307)=0,INDEX(Ext!$A$1:$G$5,MATCH(0,Ext!$A$1:$A$5,0),MATCH(H$7,Ext!$A$2:$E$2,0)),IF(AND(H307>=0,H307<3),INDEX(Ext!$A$1:$G$5,MATCH(H307,Ext!$A$1:$A$5,0),MATCH(H$7,Ext!$A$2:$E$2,0)),\"invalid entry\")))","v":""},{"$f":"IF(LEN(B307)=0,\"\",IF(LEN(I307)=0,INDEX(Ext!$A$1:$G$5,MATCH(0,Ext!$A$1:$A$5,0),MATCH(I$7,Ext!$A$2:$E$2,0)),IF(AND(I307>=0,I307<3),INDEX(Ext!$A$1:$G$5,MATCH(I307,Ext!$A$1:$A$5,0),MATCH(I$7,Ext!$A$2:$E$2,0)),\"invalid entry\")))","v":""},{"$f":"IF(LEN(C307)=0,\"\",IF(LEN(J307)=0,INDEX(Ext!$A$1:$G$5,MATCH(0,Ext!$A$1:$A$5,0),MATCH(J$7,Ext!$A$2:$E$2,0)),IF(AND(J307>=0,J307<3),INDEX(Ext!$A$1:$G$5,MATCH(J307,Ext!$A$1:$A$5,0),MATCH(J$7,Ext!$A$2:$E$2,0)),\"invalid entry\")))","v":""}]
[null,null,null,null,null,null,null,null,null,null,null,{"$f":"IF(LEN(A308)=0,\"\",IF(LEN(E308)=0,\"HVI data needed\",INDEX('Staple Lookup'!$C$3:$C$100,MATCH(TRUE,'Staple Lookup'!$B$3:$B$100>=ROUND(E308,2),0))))","v":""},null,{"$f":"IF(OR(LEN(B308)=0,LEN(C308)=0,LEN(D308)=0),\"\",IF(AND(RIGHT(B308,1)*1=1,C308=8),-2000,IF(L308>=38,AB308,IF(L308<=31,AC308,AE308))))","v":""},{"$f":"IF(LEN(A308)=0,\"\",INDEX(Str!$C$1:$C$20,MATCH(ROUND(F308,1),Str!$A$1:$A$20,1)))","v":""},"","",{"$f":"IF(LEN(A308)=0,\"\",INDEX(Uni!$C$1:$C$20,MATCH(ROUND($G308,1),Uni!$A$1:$A$20,1)))","v":""},null,"",{"$f":"IF(LEN(A308)=0,\"\",IF(OR(LEN(B308)=0,LEN(C308)=0,LEN(D308)=0,LEN(E308)=0,LEN(F308)=0,LEN(G308)=0),\"no HVI data\",IF('Base Values'!$B$6+(SUM($N308:$R308)/100)<0,0,'Base Values'!$B$6+(SUM(N308:R308)/100))))","v":""},null,{"$f":"IF(LEN(A308)=0,\"\",IF(LEN(H308)=0,INDEX(Ext!$A$1:$G$5,MATCH(0,Ext!$A$1:$A$5,0),MATCH(H$7,Ext!$A$2:$E$2,0)),IF(AND(H308>=0,H308<3),INDEX(Ext!$A$1:$G$5,MATCH(H308,Ext!$A$1:$A$5,0),MATCH(H$7,Ext!$A$2:$E$2,0)),\"invalid entry\")))","v":""},{"$f":"IF(LEN(B308)=0,\"\",IF(LEN(I308)=0,INDEX(Ext!$A$1:$G$5,MATCH(0,Ext!$A$1:$A$5,0),MATCH(I$7,Ext!$A$2:$E$2,0)),IF(AND(I308>=0,I308<3),INDEX(Ext!$A$1:$G$5,MATCH(I308,Ext!$A$1:$A$5,0),MATCH(I$7,Ext!$A$2:$E$2,0)),\"invalid entry\")))","v":""},{"$f":"IF(LEN(C308)=0,\"\",IF(LEN(J308)=0,INDEX(Ext!$A$1:$G$5,MATCH(0,Ext!$A$1:$A$5,0),MATCH(J$7,Ext!$A$2:$E$2,0)),IF(AND(J308>=0,J308<3),INDEX(Ext!$A$1:$G$5,MATCH(J308,Ext!$A$1:$A$5,0),MATCH(J$7,Ext!$A$2:$E$2,0)),\"invalid entry\")))","v":""}]
[null,null,null,null,null,null,null,null,null,null,null,{"$f":"IF(LEN(A309)=0,\"\",IF(LEN(E309)=0,\"HVI data needed\",INDEX('Staple Lookup'!$C$3:$C$100,MATCH(TRUE,'Staple Lookup'!$B$3:$B$100>=ROUND(E309,2),0))))","v":""},null,{"$f":"IF(OR(LEN(B309)=0,LEN(C309)=0,LEN(D309)=0),\"\",IF(AND(RIGHT(B309,1)*1=1,C309=8),-2000,IF(L309>=38,AB309,IF(L309<=31,AC309,AE309))))","v":""},{"$f":"IF(LEN(A309)=0,\"\",INDEX(Str!$C$1:$C$20,MATCH(ROUND(F309,1),Str!$A$1:$A$20,1)))","v":""},"","",{"$f":"IF(LEN(A309)=0,\"\",INDEX(Uni!$C$1:$C$20,MATCH(ROUND($G309,1),Uni!$A$1:$A$20,1)))","v":""},null,"",{"$f":"IF(LEN(A309)=0,\"\",IF(OR(LEN(B309)=0,LEN(C309)=0,LEN(D309)=0,LEN(E309)=0,LEN(F309)=0,LEN(G309)=0),\"no HVI data\",IF('Base Values'!$B$6+(SUM($N309:$R309)/100)<0,0,'Base Values'!$B$6+(SUM(N309:R309)/100))))","v":""},null,{"$f":"IF(LEN(A309)=0,\"\",IF(LEN(H309)=0,INDEX(Ext!$A$1:$G$5,MATCH(0,Ext!$A$1:$A$5,0),MATCH(H$7,Ext!$A$2:$E$2,0)),IF(AND(H309>=0,H309<3),INDEX(Ext!$A$1:$G$5,MATCH(H309,Ext!$A$1:$A$5,0),MATCH(H$7,Ext!$A$2:$E$2,0)),\"invalid entry\")))","v":""},{"$f":"IF(LEN(B309)=0,\"\",IF(LEN(I309)=0,INDEX(Ext!$A$1:$G$5,MATCH(0,Ext!$A$1:$A$5,0),MATCH(I$7,Ext!$A$2:$E$2,0)),IF(AND(I309>=0,I309<3),INDEX(Ext!$A$1:$G$5,MATCH(I309,Ext!$A$1:$A$5,0),MATCH(I$7,Ext!$A$2:$E$2,0)),\"invalid entry\")))","v":""},{"$f":"IF(LEN(C309)=0,\"\",IF(LEN(J309)=0,INDEX(Ext!$A$1:$G$5,MATCH(0,Ext!$A$1:$A$5,0),MATCH(J$7,Ext!$A$2:$E$2,0)),IF(AND(J309>=0,J309<3),INDEX(Ext!$A$1:$G$5,MATCH(J309,Ext!$A$1:$A$5,0),MATCH(J$7,Ext!$A$2:$E$2,0)),\"invalid entry\")))","v":""}]
[null,null,null,null,null,null,null,null,null,null,null,{"$f":"IF(LEN(A310)=0,\"\",IF(LEN(E310)=0,\"HVI data needed\",INDEX('Staple Lookup'!$C$3:$C$100,MATCH(TRUE,'Staple Lookup'!$B$3:$B$100>=ROUND(E310,2),0))))","v":""},null,{"$f":"IF(OR(LEN(B310)=0,LEN(C310)=0,LEN(D310)=0),\"\",IF(AND(RIGHT(B310,1)*1=1,C310=8),-2000,IF(L310>=38,AB310,IF(L310<=31,AC310,AE310))))","v":""},{"$f":"IF(LEN(A310)=0,\"\",INDEX(Str!$C$1:$C$20,MATCH(ROUND(F310,1),Str!$A$1:$A$20,1)))","v":""},"","",{"$f":"IF(LEN(A310)=0,\"\",INDEX(Uni!$C$1:$C$20,MATCH(ROUND($G310,1),Uni!$A$1:$A$20,1)))","v":""},null,"",{"$f":"IF(LEN(A310)=0,\"\",IF(OR(LEN(B310)=0,LEN(C310)=0,LEN(D310)=0,LEN(E310)=0,LEN(F310)=0,LEN(G310)=0),\"no HVI data\",IF('Base Values'!$B$6+(SUM($N310:$R310)/100)<0,0,'Base Values'!$B$6+(SUM(N310:R310)/100))))","v":""},null,{"$f":"IF(LEN(A310)=0,\"\",IF(LEN(H310)=0,INDEX(Ext!$A$1:$G$5,MATCH(0,Ext!$A$1:$A$5,0),MATCH(H$7,Ext!$A$2:$E$2,0)),IF(AND(H310>=0,H310<3),INDEX(Ext!$A$1:$G$5,MATCH(H310,Ext!$A$1:$A$5,0),MATCH(H$7,Ext!$A$2:$E$2,0)),\"invalid entry\")))","v":""},{"$f":"IF(LEN(B310)=0,\"\",IF(LEN(I310)=0,INDEX(Ext!$A$1:$G$5,MATCH(0,Ext!$A$1:$A$5,0),MATCH(I$7,Ext!$A$2:$E$2,0)),IF(AND(I310>=0,I310<3),INDEX(Ext!$A$1:$G$5,MATCH(I310,Ext!$A$1:$A$5,0),MATCH(I$7,Ext!$A$2:$E$2,0)),\"invalid entry\")))","v":""},{"$f":"IF(LEN(C310)=0,\"\",IF(LEN(J310)=0,INDEX(Ext!$A$1:$G$5,MATCH(0,Ext!$A$1:$A$5,0),MATCH(J$7,Ext!$A$2:$E$2,0)),IF(AND(J310>=0,J310<3),INDEX(Ext!$A$1:$G$5,MATCH(J310,Ext!$A$1:$A$5,0),MATCH(J$7,Ext!$A$2:$E$2,0)),\"invalid entry\")))","v":""}]
[null,null,null,null,null,null,null,null,null,null,null,{"$f":"IF(LEN(A311)=0,\"\",IF(LEN(E311)=0,\"HVI data needed\",INDEX('Staple Lookup'!$C$3:$C$100,MATCH(TRUE,'Staple Lookup'!$B$3:$B$100>=ROUND(E311,2),0))))","v":""},null,{"$f":"IF(OR(LEN(B311)=0,LEN(C311)=0,LEN(D311)=0),\"\",IF(AND(RIGHT(B311,1)*1=1,C311=8),-2000,IF(L311>=38,AB311,IF(L311<=31,AC311,AE311))))","v":""},{"$f":"IF(LEN(A311)=0,\"\",INDEX(Str!$C$1:$C$20,MATCH(ROUND(F311,1),Str!$A$1:$A$20,1)))","v":""},"","",{"$f":"IF(LEN(A311)=0,\"\",INDEX(Uni!$C$1:$C$20,MATCH(ROUND($G311,1),Uni!$A$1:$A$20,1)))","v":""},null,"",{"$f":"IF(LEN(A311)=0,\"\",IF(OR(LEN(B311)=0,LEN(C311)=0,LEN(D311)=0,LEN(E311)=0,LEN(F311)=0,LEN(G311)=0),\"no HVI data\",IF('Base Values'!$B$6+(SUM($N311:$R311)/100)<0,0,'Base Values'!$B$6+(SUM(N311:R311)/100))))","v":""},null,{"$f":"IF(LEN(A311)=0,\"\",IF(LEN(H311)=0,INDEX(Ext!$A$1:$G$5,MATCH(0,Ext!$A$1:$A$5,0),MATCH(H$7,Ext!$A$2:$E$2,0)),IF(AND(H311>=0,H311<3),INDEX(Ext!$A$1:$G$5,MATCH(H311,Ext!$A$1:$A$5,0),MATCH(H$7,Ext!$A$2:$E$2,0)),\"invalid entry\")))","v":""},{"$f":"IF(LEN(B311)=0,\"\",IF(LEN(I311)=0,INDEX(Ext!$A$1:$G$5,MATCH(0,Ext!$A$1:$A$5,0),MATCH(I$7,Ext!$A$2:$E$2,0)),IF(AND(I311>=0,I311<3),INDEX(Ext!$A$1:$G$5,MATCH(I311,Ext!$A$1:$A$5,0),MATCH(I$7,Ext!$A$2:$E$2,0)),\"invalid entry\")))","v":""},{"$f":"IF(LEN(C311)=0,\"\",IF(LEN(J311)=0,INDEX(Ext!$A$1:$G$5,MATCH(0,Ext!$A$1:$A$5,0),MATCH(J$7,Ext!$A$2:$E$2,0)),IF(AND(J311>=0,J311<3),INDEX(Ext!$A$1:$G$5,MATCH(J311,Ext!$A$1:$A$5,0),MATCH(J$7,Ext!$A$2:$E$2,0)),\"invalid entry\")))","v":""}]
[null,null,null,null,null,null,null,null,null,null,null,{"$f":"IF(LEN(A312)=0,\"\",IF(LEN(E312)=0,\"HVI data needed\",INDEX('Staple Lookup'!$C$3:$C$100,MATCH(TRUE,'Staple Lookup'!$B$3:$B$100>=ROUND(E312,2),0))))","v":""},null,{"$f":"IF(OR(LEN(B312)=0,LEN(C312)=0,LEN(D312)=0),\"\",IF(AND(RIGHT(B312,1)*1=1,C312=8),-2000,IF(L312>=38,AB312,IF(L312<=31,AC312,AE312))))","v":""},{"$f":"IF(LEN(A312)=0,\"\",INDEX(Str!$C$1:$C$20,MATCH(ROUND(F312,1),Str!$A$1:$A$20,1)))","v":""},"","",{"$f":"IF(LEN(A312)=0,\"\",INDEX(Uni!$C$1:$C$20,MATCH(ROUND($G312,1),Uni!$A$1:$A$20,1)))","v":""},null,"",{"$f":"IF(LEN(A312)=0,\"\",IF(OR(LEN(B312)=0,LEN(C312)=0,LEN(D312)=0,LEN(E312)=0,LEN(F312)=0,LEN(G312)=0),\"no HVI data\",IF('Base Values'!$B$6+(SUM($N312:$R312)/100)<0,0,'Base Values'!$B$6+(SUM(N312:R312)/100))))","v":""},null,{"$f":"IF(LEN(A312)=0,\"\",IF(LEN(H312)=0,INDEX(Ext!$A$1:$G$5,MATCH(0,Ext!$A$1:$A$5,0),MATCH(H$7,Ext!$A$2:$E$2,0)),IF(AND(H312>=0,H312<3),INDEX(Ext!$A$1:$G$5,MATCH(H312,Ext!$A$1:$A$5,0),MATCH(H$7,Ext!$A$2:$E$2,0)),\"invalid entry\")))","v":""},{"$f":"IF(LEN(B312)=0,\"\",IF(LEN(I312)=0,INDEX(Ext!$A$1:$G$5,MATCH(0,Ext!$A$1:$A$5,0),MATCH(I$7,Ext!$A$2:$E$2,0)),IF(AND(I312>=0,I312<3),INDEX(Ext!$A$1:$G$5,MATCH(I312,Ext!$A$1:$A$5,0),MATCH(I$7,Ext!$A$2:$E$2,0)),\"invalid entry\")))","v":""},{"$f":"IF(LEN(C312)=0,\"\",IF(LEN(J312)=0,INDEX(Ext!$A$1:$G$5,MATCH(0,Ext!$A$1:$A$5,0),MATCH(J$7,Ext!$A$2:$E$2,0)),IF(AND(J312>=0,J312<3),INDEX(Ext!$A$1:$G$5,MATCH(J312,Ext!$A$1:$A$5,0),MATCH(J$7,Ext!$A$2:$E$2,0)),\"invalid entry\")))","v":""}]
[null,null,null,null,null,null,null,null,null,null,null,{"$f":"IF(LEN(A313)=0,\"\",IF(LEN(E313)=0,\"HVI data needed\",INDEX('Staple Lookup'!$C$3:$C$100,MATCH(TRUE,'Staple Lookup'!$B$3:$B$100>=ROUND(E313,2),0))))","v":""},null,{"$f":"IF(OR(LEN(B313)=0,LEN(C313)=0,LEN(D313)=0),\"\",IF(AND(RIGHT(B313,1)*1=1,C313=8),-2000,IF(L313>=38,AB313,IF(L313<=31,AC313,AE313))))","v":""},{"$f":"IF(LEN(A313)=0,\"\",INDEX(Str!$C$1:$C$20,MATCH(ROUND(F313,1),Str!$A$1:$A$20,1)))","v":""},"","",{"$f":"IF(LEN(A313)=0,\"\",INDEX(Uni!$C$1:$C$20,MATCH(ROUND($G313,1),Uni!$A$1:$A$20,1)))","v":""},null,"",{"$f":"IF(LEN(A313)=0,\"\",IF(OR(LEN(B313)=0,LEN(C313)=0,LEN(D313)=0,LEN(E313)=0,LEN(F313)=0,LEN(G313)=0),\"no HVI data\",IF('Base Values'!$B$6+(SUM($N313:$R313)/100)<0,0,'Base Values'!$B$6+(SUM(N313:R313)/100))))","v":""},null,{"$f":"IF(LEN(A313)=0,\"\",IF(LEN(H313)=0,INDEX(Ext!$A$1:$G$5,MATCH(0,Ext!$A$1:$A$5,0),MATCH(H$7,Ext!$A$2:$E$2,0)),IF(AND(H313>=0,H313<3),INDEX(Ext!$A$1:$G$5,MATCH(H313,Ext!$A$1:$A$5,0),MATCH(H$7,Ext!$A$2:$E$2,0)),\"invalid entry\")))","v":""},{"$f":"IF(LEN(B313)=0,\"\",IF(LEN(I313)=0,INDEX(Ext!$A$1:$G$5,MATCH(0,Ext!$A$1:$A$5,0),MATCH(I$7,Ext!$A$2:$E$2,0)),IF(AND(I313>=0,I313<3),INDEX(Ext!$A$1:$G$5,MATCH(I313,Ext!$A$1:$A$5,0),MATCH(I$7,Ext!$A$2:$E$2,0)),\"invalid entry\")))","v":""},{"$f":"IF(LEN(C313)=0,\"\",IF(LEN(J313)=0,INDEX(Ext!$A$1:$G$5,MATCH(0,Ext!$A$1:$A$5,0),MATCH(J$7,Ext!$A$2:$E$2,0)),IF(AND(J313>=0,J313<3),INDEX(Ext!$A$1:$G$5,MATCH(J313,Ext!$A$1:$A$5,0),MATCH(J$7,Ext!$A$2:$E$2,0)),\"invalid entry\")))","v":""}]
[null,null,null,null,null,null,null,null,null,null,null,{"$f":"IF(LEN(A314)=0,\"\",IF(LEN(E314)=0,\"HVI data needed\",INDEX('Staple Lookup'!$C$3:$C$100,MATCH(TRUE,'Staple Lookup'!$B$3:$B$100>=ROUND(E314,2),0))))","v":""},null,{"$f":"IF(OR(LEN(B314)=0,LEN(C314)=0,LEN(D314)=0),\"\",IF(AND(RIGHT(B314,1)*1=1,C314=8),-2000,IF(L314>=38,AB314,IF(L314<=31,AC314,AE314))))","v":""},{"$f":"IF(LEN(A314)=0,\"\",INDEX(Str!$C$1:$C$20,MATCH(ROUND(F314,1),Str!$A$1:$A$20,1)))","v":""},"","",{"$f":"IF(LEN(A314)=0,\"\",INDEX(Uni!$C$1:$C$20,MATCH(ROUND($G314,1),Uni!$A$1:$A$20,1)))","v":""},null,"",{"$f":"IF(LEN(A314)=0,\"\",IF(OR(LEN(B314)=0,LEN(C314)=0,LEN(D314)=0,LEN(E314)=0,LEN(F314)=0,LEN(G314)=0),\"no HVI data\",IF('Base Values'!$B$6+(SUM($N314:$R314)/100)<0,0,'Base Values'!$B$6+(SUM(N314:R314)/100))))","v":""},null,{"$f":"IF(LEN(A314)=0,\"\",IF(LEN(H314)=0,INDEX(Ext!$A$1:$G$5,MATCH(0,Ext!$A$1:$A$5,0),MATCH(H$7,Ext!$A$2:$E$2,0)),IF(AND(H314>=0,H314<3),INDEX(Ext!$A$1:$G$5,MATCH(H314,Ext!$A$1:$A$5,0),MATCH(H$7,Ext!$A$2:$E$2,0)),\"invalid entry\")))","v":""},{"$f":"IF(LEN(B314)=0,\"\",IF(LEN(I314)=0,INDEX(Ext!$A$1:$G$5,MATCH(0,Ext!$A$1:$A$5,0),MATCH(I$7,Ext!$A$2:$E$2,0)),IF(AND(I314>=0,I314<3),INDEX(Ext!$A$1:$G$5,MATCH(I314,Ext!$A$1:$A$5,0),MATCH(I$7,Ext!$A$2:$E$2,0)),\"invalid entry\")))","v":""},{"$f":"IF(LEN(C314)=0,\"\",IF(LEN(J314)=0,INDEX(Ext!$A$1:$G$5,MATCH(0,Ext!$A$1:$A$5,0),MATCH(J$7,Ext!$A$2:$E$2,0)),IF(AND(J314>=0,J314<3),INDEX(Ext!$A$1:$G$5,MATCH(J314,Ext!$A$1:$A$5,0),MATCH(J$7,Ext!$A$2:$E$2,0)),\"invalid entry\")))","v":""}]
[null,null,null,null,null,null,null,null,null,null,null,{"$f":"IF(LEN(A315)=0,\"\",IF(LEN(E315)=0,\"HVI data needed\",INDEX('Staple Lookup'!$C$3:$C$100,MATCH(TRUE,'Staple Lookup'!$B$3:$B$100>=ROUND(E315,2),0))))","v":""},null,{"$f":"IF(OR(LEN(B315)=0,LEN(C315)=0,LEN(D315)=0),\"\",IF(AND(RIGHT(B315,1)*1=1,C315=8),-2000,IF(L315>=38,AB315,IF(L315<=31,AC315,AE315))))","v":""},{"$f":"IF(LEN(A315)=0,\"\",INDEX(Str!$C$1:$C$20,MATCH(ROUND(F315,1),Str!$A$1:$A$20,1)))","v":""},"","",{"$f":"IF(LEN(A315)=0,\"\",INDEX(Uni!$C$1:$C$20,MATCH(ROUND($G315,1),Uni!$A$1:$A$20,1)))","v":""},null,"",{"$f":"IF(LEN(A315)=0,\"\",IF(OR(LEN(B315)=0,LEN(C315)=0,LEN(D315)=0,LEN(E315)=0,LEN(F315)=0,LEN(G315)=0),\"no HVI data\",IF('Base Values'!$B$6+(SUM($N315:$R315)/100)<0,0,'Base Values'!$B$6+(SUM(N315:R315)/100))))","v":""},null,{"$f":"IF(LEN(A315)=0,\"\",IF(LEN(H315)=0,INDEX(Ext!$A$1:$G$5,MATCH(0,Ext!$A$1:$A$5,0),MATCH(H$7,Ext!$A$2:$E$2,0)),IF(AND(H315>=0,H315<3),INDEX(Ext!$A$1:$G$5,MATCH(H315,Ext!$A$1:$A$5,0),MATCH(H$7,Ext!$A$2:$E$2,0)),\"invalid entry\")))","v":""},{"$f":"IF(LEN(B315)=0,\"\",IF(LEN(I315)=0,INDEX(Ext!$A$1:$G$5,MATCH(0,Ext!$A$1:$A$5,0),MATCH(I$7,Ext!$A$2:$E$2,0)),IF(AND(I315>=0,I315<3),INDEX(Ext!$A$1:$G$5,MATCH(I315,Ext!$A$1:$A$5,0),MATCH(I$7,Ext!$A$2:$E$2,0)),\"invalid entry\")))","v":""},{"$f":"IF(LEN(C315)=0,\"\",IF(LEN(J315)=0,INDEX(Ext!$A$1:$G$5,MATCH(0,Ext!$A$1:$A$5,0),MATCH(J$7,Ext!$A$2:$E$2,0)),IF(AND(J315>=0,J315<3),INDEX(Ext!$A$1:$G$5,MATCH(J315,Ext!$A$1:$A$5,0),MATCH(J$7,Ext!$A$2:$E$2,0)),\"invalid entry\")))","v":""}]
[null,null,null,null,null,null,null,null,null,null,null,{"$f":"IF(LEN(A316)=0,\"\",IF(LEN(E316)=0,\"HVI data needed\",INDEX('Staple Lookup'!$C$3:$C$100,MATCH(TRUE,'Staple Lookup'!$B$3:$B$100>=ROUND(E316,2),0))))","v":""},null,{"$f":"IF(OR(LEN(B316)=0,LEN(C316)=0,LEN(D316)=0),\"\",IF(AND(RIGHT(B316,1)*1=1,C316=8),-2000,IF(L316>=38,AB316,IF(L316<=31,AC316,AE316))))","v":""},{"$f":"IF(LEN(A316)=0,\"\",INDEX(Str!$C$1:$C$20,MATCH(ROUND(F316,1),Str!$A$1:$A$20,1)))","v":""},"","",{"$f":"IF(LEN(A316)=0,\"\",INDEX(Uni!$C$1:$C$20,MATCH(ROUND($G316,1),Uni!$A$1:$A$20,1)))","v":""},null,"",{"$f":"IF(LEN(A316)=0,\"\",IF(OR(LEN(B316)=0,LEN(C316)=0,LEN(D316)=0,LEN(E316)=0,LEN(F316)=0,LEN(G316)=0),\"no HVI data\",IF('Base Values'!$B$6+(SUM($N316:$R316)/100)<0,0,'Base Values'!$B$6+(SUM(N316:R316)/100))))","v":""},null,{"$f":"IF(LEN(A316)=0,\"\",IF(LEN(H316)=0,INDEX(Ext!$A$1:$G$5,MATCH(0,Ext!$A$1:$A$5,0),MATCH(H$7,Ext!$A$2:$E$2,0)),IF(AND(H316>=0,H316<3),INDEX(Ext!$A$1:$G$5,MATCH(H316,Ext!$A$1:$A$5,0),MATCH(H$7,Ext!$A$2:$E$2,0)),\"invalid entry\")))","v":""},{"$f":"IF(LEN(B316)=0,\"\",IF(LEN(I316)=0,INDEX(Ext!$A$1:$G$5,MATCH(0,Ext!$A$1:$A$5,0),MATCH(I$7,Ext!$A$2:$E$2,0)),IF(AND(I316>=0,I316<3),INDEX(Ext!$A$1:$G$5,MATCH(I316,Ext!$A$1:$A$5,0),MATCH(I$7,Ext!$A$2:$E$2,0)),\"invalid entry\")))","v":""},{"$f":"IF(LEN(C316)=0,\"\",IF(LEN(J316)=0,INDEX(Ext!$A$1:$G$5,MATCH(0,Ext!$A$1:$A$5,0),MATCH(J$7,Ext!$A$2:$E$2,0)),IF(AND(J316>=0,J316<3),INDEX(Ext!$A$1:$G$5,MATCH(J316,Ext!$A$1:$A$5,0),MATCH(J$7,Ext!$A$2:$E$2,0)),\"invalid entry\")))","v":""}]
[null,null,null,null,null,null,null,null,null,null,null,{"$f":"IF(LEN(A317)=0,\"\",IF(LEN(E317)=0,\"HVI data needed\",INDEX('Staple Lookup'!$C$3:$C$100,MATCH(TRUE,'Staple Lookup'!$B$3:$B$100>=ROUND(E317,2),0))))","v":""},null,{"$f":"IF(OR(LEN(B317)=0,LEN(C317)=0,LEN(D317)=0),\"\",IF(AND(RIGHT(B317,1)*1=1,C317=8),-2000,IF(L317>=38,AB317,IF(L317<=31,AC317,AE317))))","v":""},{"$f":"IF(LEN(A317)=0,\"\",INDEX(Str!$C$1:$C$20,MATCH(ROUND(F317,1),Str!$A$1:$A$20,1)))","v":""},"","",{"$f":"IF(LEN(A317)=0,\"\",INDEX(Uni!$C$1:$C$20,MATCH(ROUND($G317,1),Uni!$A$1:$A$20,1)))","v":""},null,"",{"$f":"IF(LEN(A317)=0,\"\",IF(OR(LEN(B317)=0,LEN(C317)=0,LEN(D317)=0,LEN(E317)=0,LEN(F317)=0,LEN(G317)=0),\"no HVI data\",IF('Base Values'!$B$6+(SUM($N317:$R317)/100)<0,0,'Base Values'!$B$6+(SUM(N317:R317)/100))))","v":""},null,{"$f":"IF(LEN(A317)=0,\"\",IF(LEN(H317)=0,INDEX(Ext!$A$1:$G$5,MATCH(0,Ext!$A$1:$A$5,0),MATCH(H$7,Ext!$A$2:$E$2,0)),IF(AND(H317>=0,H317<3),INDEX(Ext!$A$1:$G$5,MATCH(H317,Ext!$A$1:$A$5,0),MATCH(H$7,Ext!$A$2:$E$2,0)),\"invalid entry\")))","v":""},{"$f":"IF(LEN(B317)=0,\"\",IF(LEN(I317)=0,INDEX(Ext!$A$1:$G$5,MATCH(0,Ext!$A$1:$A$5,0),MATCH(I$7,Ext!$A$2:$E$2,0)),IF(AND(I317>=0,I317<3),INDEX(Ext!$A$1:$G$5,MATCH(I317,Ext!$A$1:$A$5,0),MATCH(I$7,Ext!$A$2:$E$2,0)),\"invalid entry\")))","v":""},{"$f":"IF(LEN(C317)=0,\"\",IF(LEN(J317)=0,INDEX(Ext!$A$1:$G$5,MATCH(0,Ext!$A$1:$A$5,0),MATCH(J$7,Ext!$A$2:$E$2,0)),IF(AND(J317>=0,J317<3),INDEX(Ext!$A$1:$G$5,MATCH(J317,Ext!$A$1:$A$5,0),MATCH(J$7,Ext!$A$2:$E$2,0)),\"invalid entry\")))","v":""}]
[null,null,null,null,null,null,null,null,null,null,null,{"$f":"IF(LEN(A318)=0,\"\",IF(LEN(E318)=0,\"HVI data needed\",INDEX('Staple Lookup'!$C$3:$C$100,MATCH(TRUE,'Staple Lookup'!$B$3:$B$100>=ROUND(E318,2),0))))","v":""},null,{"$f":"IF(OR(LEN(B318)=0,LEN(C318)=0,LEN(D318)=0),\"\",IF(AND(RIGHT(B318,1)*1=1,C318=8),-2000,IF(L318>=38,AB318,IF(L318<=31,AC318,AE318))))","v":""},{"$f":"IF(LEN(A318)=0,\"\",INDEX(Str!$C$1:$C$20,MATCH(ROUND(F318,1),Str!$A$1:$A$20,1)))","v":""},"","",{"$f":"IF(LEN(A318)=0,\"\",INDEX(Uni!$C$1:$C$20,MATCH(ROUND($G318,1),Uni!$A$1:$A$20,1)))","v":""},null,"",{"$f":"IF(LEN(A318)=0,\"\",IF(OR(LEN(B318)=0,LEN(C318)=0,LEN(D318)=0,LEN(E318)=0,LEN(F318)=0,LEN(G318)=0),\"no HVI data\",IF('Base Values'!$B$6+(SUM($N318:$R318)/100)<0,0,'Base Values'!$B$6+(SUM(N318:R318)/100))))","v":""},null,{"$f":"IF(LEN(A318)=0,\"\",IF(LEN(H318)=0,INDEX(Ext!$A$1:$G$5,MATCH(0,Ext!$A$1:$A$5,0),MATCH(H$7,Ext!$A$2:$E$2,0)),IF(AND(H318>=0,H318<3),INDEX(Ext!$A$1:$G$5,MATCH(H318,Ext!$A$1:$A$5,0),MATCH(H$7,Ext!$A$2:$E$2,0)),\"invalid entry\")))","v":""},{"$f":"IF(LEN(B318)=0,\"\",IF(LEN(I318)=0,INDEX(Ext!$A$1:$G$5,MATCH(0,Ext!$A$1:$A$5,0),MATCH(I$7,Ext!$A$2:$E$2,0)),IF(AND(I318>=0,I318<3),INDEX(Ext!$A$1:$G$5,MATCH(I318,Ext!$A$1:$A$5,0),MATCH(I$7,Ext!$A$2:$E$2,0)),\"invalid entry\")))","v":""},{"$f":"IF(LEN(C318)=0,\"\",IF(LEN(J318)=0,INDEX(Ext!$A$1:$G$5,MATCH(0,Ext!$A$1:$A$5,0),MATCH(J$7,Ext!$A$2:$E$2,0)),IF(AND(J318>=0,J318<3),INDEX(Ext!$A$1:$G$5,MATCH(J318,Ext!$A$1:$A$5,0),MATCH(J$7,Ext!$A$2:$E$2,0)),\"invalid entry\")))","v":""}]
[null,null,null,null,null,null,null,null,null,null,null,{"$f":"IF(LEN(A319)=0,\"\",IF(LEN(E319)=0,\"HVI data needed\",INDEX('Staple Lookup'!$C$3:$C$100,MATCH(TRUE,'Staple Lookup'!$B$3:$B$100>=ROUND(E319,2),0))))","v":""},null,{"$f":"IF(OR(LEN(B319)=0,LEN(C319)=0,LEN(D319)=0),\"\",IF(AND(RIGHT(B319,1)*1=1,C319=8),-2000,IF(L319>=38,AB319,IF(L319<=31,AC319,AE319))))","v":""},{"$f":"IF(LEN(A319)=0,\"\",INDEX(Str!$C$1:$C$20,MATCH(ROUND(F319,1),Str!$A$1:$A$20,1)))","v":""},"","",{"$f":"IF(LEN(A319)=0,\"\",INDEX(Uni!$C$1:$C$20,MATCH(ROUND($G319,1),Uni!$A$1:$A$20,1)))","v":""},null,"",{"$f":"IF(LEN(A319)=0,\"\",IF(OR(LEN(B319)=0,LEN(C319)=0,LEN(D319)=0,LEN(E319)=0,LEN(F319)=0,LEN(G319)=0),\"no HVI data\",IF('Base Values'!$B$6+(SUM($N319:$R319)/100)<0,0,'Base Values'!$B$6+(SUM(N319:R319)/100))))","v":""},null,{"$f":"IF(LEN(A319)=0,\"\",IF(LEN(H319)=0,INDEX(Ext!$A$1:$G$5,MATCH(0,Ext!$A$1:$A$5,0),MATCH(H$7,Ext!$A$2:$E$2,0)),IF(AND(H319>=0,H319<3),INDEX(Ext!$A$1:$G$5,MATCH(H319,Ext!$A$1:$A$5,0),MATCH(H$7,Ext!$A$2:$E$2,0)),\"invalid entry\")))","v":""},{"$f":"IF(LEN(B319)=0,\"\",IF(LEN(I319)=0,INDEX(Ext!$A$1:$G$5,MATCH(0,Ext!$A$1:$A$5,0),MATCH(I$7,Ext!$A$2:$E$2,0)),IF(AND(I319>=0,I319<3),INDEX(Ext!$A$1:$G$5,MATCH(I319,Ext!$A$1:$A$5,0),MATCH(I$7,Ext!$A$2:$E$2,0)),\"invalid entry\")))","v":""},{"$f":"IF(LEN(C319)=0,\"\",IF(LEN(J319)=0,INDEX(Ext!$A$1:$G$5,MATCH(0,Ext!$A$1:$A$5,0),MATCH(J$7,Ext!$A$2:$E$2,0)),IF(AND(J319>=0,J319<3),INDEX(Ext!$A$1:$G$5,MATCH(J319,Ext!$A$1:$A$5,0),MATCH(J$7,Ext!$A$2:$E$2,0)),\"invalid entry\")))","v":""}]
[null,null,null,null,null,null,null,null,null,null,null,{"$f":"IF(LEN(A320)=0,\"\",IF(LEN(E320)=0,\"HVI data needed\",INDEX('Staple Lookup'!$C$3:$C$100,MATCH(TRUE,'Staple Lookup'!$B$3:$B$100>=ROUND(E320,2),0))))","v":""},null,{"$f":"IF(OR(LEN(B320)=0,LEN(C320)=0,LEN(D320)=0),\"\",IF(AND(RIGHT(B320,1)*1=1,C320=8),-2000,IF(L320>=38,AB320,IF(L320<=31,AC320,AE320))))","v":""},{"$f":"IF(LEN(A320)=0,\"\",INDEX(Str!$C$1:$C$20,MATCH(ROUND(F320,1),Str!$A$1:$A$20,1)))","v":""},"","",{"$f":"IF(LEN(A320)=0,\"\",INDEX(Uni!$C$1:$C$20,MATCH(ROUND($G320,1),Uni!$A$1:$A$20,1)))","v":""},null,"",{"$f":"IF(LEN(A320)=0,\"\",IF(OR(LEN(B320)=0,LEN(C320)=0,LEN(D320)=0,LEN(E320)=0,LEN(F320)=0,LEN(G320)=0),\"no HVI data\",IF('Base Values'!$B$6+(SUM($N320:$R320)/100)<0,0,'Base Values'!$B$6+(SUM(N320:R320)/100))))","v":""},null,{"$f":"IF(LEN(A320)=0,\"\",IF(LEN(H320)=0,INDEX(Ext!$A$1:$G$5,MATCH(0,Ext!$A$1:$A$5,0),MATCH(H$7,Ext!$A$2:$E$2,0)),IF(AND(H320>=0,H320<3),INDEX(Ext!$A$1:$G$5,MATCH(H320,Ext!$A$1:$A$5,0),MATCH(H$7,Ext!$A$2:$E$2,0)),\"invalid entry\")))","v":""},{"$f":"IF(LEN(B320)=0,\"\",IF(LEN(I320)=0,INDEX(Ext!$A$1:$G$5,MATCH(0,Ext!$A$1:$A$5,0),MATCH(I$7,Ext!$A$2:$E$2,0)),IF(AND(I320>=0,I320<3),INDEX(Ext!$A$1:$G$5,MATCH(I320,Ext!$A$1:$A$5,0),MATCH(I$7,Ext!$A$2:$E$2,0)),\"invalid entry\")))","v":""},{"$f":"IF(LEN(C320)=0,\"\",IF(LEN(J320)=0,INDEX(Ext!$A$1:$G$5,MATCH(0,Ext!$A$1:$A$5,0),MATCH(J$7,Ext!$A$2:$E$2,0)),IF(AND(J320>=0,J320<3),INDEX(Ext!$A$1:$G$5,MATCH(J320,Ext!$A$1:$A$5,0),MATCH(J$7,Ext!$A$2:$E$2,0)),\"invalid entry\")))","v":""}]
[null,null,null,null,null,null,null,null,null,null,null,{"$f":"IF(LEN(A321)=0,\"\",IF(LEN(E321)=0,\"HVI data needed\",INDEX('Staple Lookup'!$C$3:$C$100,MATCH(TRUE,'Staple Lookup'!$B$3:$B$100>=ROUND(E321,2),0))))","v":""},null,{"$f":"IF(OR(LEN(B321)=0,LEN(C321)=0,LEN(D321)=0),\"\",IF(AND(RIGHT(B321,1)*1=1,C321=8),-2000,IF(L321>=38,AB321,IF(L321<=31,AC321,AE321))))","v":""},{"$f":"IF(LEN(A321)=0,\"\",INDEX(Str!$C$1:$C$20,MATCH(ROUND(F321,1),Str!$A$1:$A$20,1)))","v":""},"","",{"$f":"IF(LEN(A321)=0,\"\",INDEX(Uni!$C$1:$C$20,MATCH(ROUND($G321,1),Uni!$A$1:$A$20,1)))","v":""},null,"",{"$f":"IF(LEN(A321)=0,\"\",IF(OR(LEN(B321)=0,LEN(C321)=0,LEN(D321)=0,LEN(E321)=0,LEN(F321)=0,LEN(G321)=0),\"no HVI data\",IF('Base Values'!$B$6+(SUM($N321:$R321)/100)<0,0,'Base Values'!$B$6+(SUM(N321:R321)/100))))","v":""},null,{"$f":"IF(LEN(A321)=0,\"\",IF(LEN(H321)=0,INDEX(Ext!$A$1:$G$5,MATCH(0,Ext!$A$1:$A$5,0),MATCH(H$7,Ext!$A$2:$E$2,0)),IF(AND(H321>=0,H321<3),INDEX(Ext!$A$1:$G$5,MATCH(H321,Ext!$A$1:$A$5,0),MATCH(H$7,Ext!$A$2:$E$2,0)),\"invalid entry\")))","v":""},{"$f":"IF(LEN(B321)=0,\"\",IF(LEN(I321)=0,INDEX(Ext!$A$1:$G$5,MATCH(0,Ext!$A$1:$A$5,0),MATCH(I$7,Ext!$A$2:$E$2,0)),IF(AND(I321>=0,I321<3),INDEX(Ext!$A$1:$G$5,MATCH(I321,Ext!$A$1:$A$5,0),MATCH(I$7,Ext!$A$2:$E$2,0)),\"invalid entry\")))","v":""},{"$f":"IF(LEN(C321)=0,\"\",IF(LEN(J321)=0,INDEX(Ext!$A$1:$G$5,MATCH(0,Ext!$A$1:$A$5,0),MATCH(J$7,Ext!$A$2:$E$2,0)),IF(AND(J321>=0,J321<3),INDEX(Ext!$A$1:$G$5,MATCH(J321,Ext!$A$1:$A$5,0),MATCH(J$7,Ext!$A$2:$E$2,0)),\"invalid entry\")))","v":""}]
[null,null,null,null,null,null,null,null,null,null,null,{"$f":"IF(LEN(A322)=0,\"\",IF(LEN(E322)=0,\"HVI data needed\",INDEX('Staple Lookup'!$C$3:$C$100,MATCH(TRUE,'Staple Lookup'!$B$3:$B$100>=ROUND(E322,2),0))))","v":""},null,{"$f":"IF(OR(LEN(B322)=0,LEN(C322)=0,LEN(D322)=0),\"\",IF(AND(RIGHT(B322,1)*1=1,C322=8),-2000,IF(L322>=38,AB322,IF(L322<=31,AC322,AE322))))","v":""},{"$f":"IF(LEN(A322)=0,\"\",INDEX(Str!$C$1:$C$20,MATCH(ROUND(F322,1),Str!$A$1:$A$20,1)))","v":""},"","",{"$f":"IF(LEN(A322)=0,\"\",INDEX(Uni!$C$1:$C$20,MATCH(ROUND($G322,1),Uni!$A$1:$A$20,1)))","v":""},null,"",{"$f":"IF(LEN(A322)=0,\"\",IF(OR(LEN(B322)=0,LEN(C322)=0,LEN(D322)=0,LEN(E322)=0,LEN(F322)=0,LEN(G322)=0),\"no HVI data\",IF('Base Values'!$B$6+(SUM($N322:$R322)/100)<0,0,'Base Values'!$B$6+(SUM(N322:R322)/100))))","v":""},null,{"$f":"IF(LEN(A322)=0,\"\",IF(LEN(H322)=0,INDEX(Ext!$A$1:$G$5,MATCH(0,Ext!$A$1:$A$5,0),MATCH(H$7,Ext!$A$2:$E$2,0)),IF(AND(H322>=0,H322<3),INDEX(Ext!$A$1:$G$5,MATCH(H322,Ext!$A$1:$A$5,0),MATCH(H$7,Ext!$A$2:$E$2,0)),\"invalid entry\")))","v":""},{"$f":"IF(LEN(B322)=0,\"\",IF(LEN(I322)=0,INDEX(Ext!$A$1:$G$5,MATCH(0,Ext!$A$1:$A$5,0),MATCH(I$7,Ext!$A$2:$E$2,0)),IF(AND(I322>=0,I322<3),INDEX(Ext!$A$1:$G$5,MATCH(I322,Ext!$A$1:$A$5,0),MATCH(I$7,Ext!$A$2:$E$2,0)),\"invalid entry\")))","v":""},{"$f":"IF(LEN(C322)=0,\"\",IF(LEN(J322)=0,INDEX(Ext!$A$1:$G$5,MATCH(0,Ext!$A$1:$A$5,0),MATCH(J$7,Ext!$A$2:$E$2,0)),IF(AND(J322>=0,J322<3),INDEX(Ext!$A$1:$G$5,MATCH(J322,Ext!$A$1:$A$5,0),MATCH(J$7,Ext!$A$2:$E$2,0)),\"invalid entry\")))","v":""}]
[null,null,null,null,null,null,null,null,null,null,null,{"$f":"IF(LEN(A323)=0,\"\",IF(LEN(E323)=0,\"HVI data needed\",INDEX('Staple Lookup'!$C$3:$C$100,MATCH(TRUE,'Staple Lookup'!$B$3:$B$100>=ROUND(E323,2),0))))","v":""},null,{"$f":"IF(OR(LEN(B323)=0,LEN(C323)=0,LEN(D323)=0),\"\",IF(AND(RIGHT(B323,1)*1=1,C323=8),-2000,IF(L323>=38,AB323,IF(L323<=31,AC323,AE323))))","v":""},{"$f":"IF(LEN(A323)=0,\"\",INDEX(Str!$C$1:$C$20,MATCH(ROUND(F323,1),Str!$A$1:$A$20,1)))","v":""},"","",{"$f":"IF(LEN(A323)=0,\"\",INDEX(Uni!$C$1:$C$20,MATCH(ROUND($G323,1),Uni!$A$1:$A$20,1)))","v":""},null,"",{"$f":"IF(LEN(A323)=0,\"\",IF(OR(LEN(B323)=0,LEN(C323)=0,LEN(D323)=0,LEN(E323)=0,LEN(F323)=0,LEN(G323)=0),\"no HVI data\",IF('Base Values'!$B$6+(SUM($N323:$R323)/100)<0,0,'Base Values'!$B$6+(SUM(N323:R323)/100))))","v":""},null,{"$f":"IF(LEN(A323)=0,\"\",IF(LEN(H323)=0,INDEX(Ext!$A$1:$G$5,MATCH(0,Ext!$A$1:$A$5,0),MATCH(H$7,Ext!$A$2:$E$2,0)),IF(AND(H323>=0,H323<3),INDEX(Ext!$A$1:$G$5,MATCH(H323,Ext!$A$1:$A$5,0),MATCH(H$7,Ext!$A$2:$E$2,0)),\"invalid entry\")))","v":""},{"$f":"IF(LEN(B323)=0,\"\",IF(LEN(I323)=0,INDEX(Ext!$A$1:$G$5,MATCH(0,Ext!$A$1:$A$5,0),MATCH(I$7,Ext!$A$2:$E$2,0)),IF(AND(I323>=0,I323<3),INDEX(Ext!$A$1:$G$5,MATCH(I323,Ext!$A$1:$A$5,0),MATCH(I$7,Ext!$A$2:$E$2,0)),\"invalid entry\")))","v":""},{"$f":"IF(LEN(C323)=0,\"\",IF(LEN(J323)=0,INDEX(Ext!$A$1:$G$5,MATCH(0,Ext!$A$1:$A$5,0),MATCH(J$7,Ext!$A$2:$E$2,0)),IF(AND(J323>=0,J323<3),INDEX(Ext!$A$1:$G$5,MATCH(J323,Ext!$A$1:$A$5,0),MATCH(J$7,Ext!$A$2:$E$2,0)),\"invalid entry\")))","v":""}]
[null,null,null,null,null,null,null,null,null,null,null,{"$f":"IF(LEN(A324)=0,\"\",IF(LEN(E324)=0,\"HVI data needed\",INDEX('Staple Lookup'!$C$3:$C$100,MATCH(TRUE,'Staple Lookup'!$B$3:$B$100>=ROUND(E324,2),0))))","v":""},null,{"$f":"IF(OR(LEN(B324)=0,LEN(C324)=0,LEN(D324)=0),\"\",IF(AND(RIGHT(B324,1)*1=1,C324=8),-2000,IF(L324>=38,AB324,IF(L324<=31,AC324,AE324))))","v":""},{"$f":"IF(LEN(A324)=0,\"\",INDEX(Str!$C$1:$C$20,MATCH(ROUND(F324,1),Str!$A$1:$A$20,1)))","v":""},"","",{"$f":"IF(LEN(A324)=0,\"\",INDEX(Uni!$C$1:$C$20,MATCH(ROUND($G324,1),Uni!$A$1:$A$20,1)))","v":""},null,"",{"$f":"IF(LEN(A324)=0,\"\",IF(OR(LEN(B324)=0,LEN(C324)=0,LEN(D324)=0,LEN(E324)=0,LEN(F324)=0,LEN(G324)=0),\"no HVI data\",IF('Base Values'!$B$6+(SUM($N324:$R324)/100)<0,0,'Base Values'!$B$6+(SUM(N324:R324)/100))))","v":""},null,{"$f":"IF(LEN(A324)=0,\"\",IF(LEN(H324)=0,INDEX(Ext!$A$1:$G$5,MATCH(0,Ext!$A$1:$A$5,0),MATCH(H$7,Ext!$A$2:$E$2,0)),IF(AND(H324>=0,H324<3),INDEX(Ext!$A$1:$G$5,MATCH(H324,Ext!$A$1:$A$5,0),MATCH(H$7,Ext!$A$2:$E$2,0)),\"invalid entry\")))","v":""},{"$f":"IF(LEN(B324)=0,\"\",IF(LEN(I324)=0,INDEX(Ext!$A$1:$G$5,MATCH(0,Ext!$A$1:$A$5,0),MATCH(I$7,Ext!$A$2:$E$2,0)),IF(AND(I324>=0,I324<3),INDEX(Ext!$A$1:$G$5,MATCH(I324,Ext!$A$1:$A$5,0),MATCH(I$7,Ext!$A$2:$E$2,0)),\"invalid entry\")))","v":""},{"$f":"IF(LEN(C324)=0,\"\",IF(LEN(J324)=0,INDEX(Ext!$A$1:$G$5,MATCH(0,Ext!$A$1:$A$5,0),MATCH(J$7,Ext!$A$2:$E$2,0)),IF(AND(J324>=0,J324<3),INDEX(Ext!$A$1:$G$5,MATCH(J324,Ext!$A$1:$A$5,0),MATCH(J$7,Ext!$A$2:$E$2,0)),\"invalid entry\")))","v":""}]
[null,null,null,null,null,null,null,null,null,null,null,{"$f":"IF(LEN(A325)=0,\"\",IF(LEN(E325)=0,\"HVI data needed\",INDEX('Staple Lookup'!$C$3:$C$100,MATCH(TRUE,'Staple Lookup'!$B$3:$B$100>=ROUND(E325,2),0))))","v":""},null,{"$f":"IF(OR(LEN(B325)=0,LEN(C325)=0,LEN(D325)=0),\"\",IF(AND(RIGHT(B325,1)*1=1,C325=8),-2000,IF(L325>=38,AB325,IF(L325<=31,AC325,AE325))))","v":""},{"$f":"IF(LEN(A325)=0,\"\",INDEX(Str!$C$1:$C$20,MATCH(ROUND(F325,1),Str!$A$1:$A$20,1)))","v":""},"","",{"$f":"IF(LEN(A325)=0,\"\",INDEX(Uni!$C$1:$C$20,MATCH(ROUND($G325,1),Uni!$A$1:$A$20,1)))","v":""},null,"",{"$f":"IF(LEN(A325)=0,\"\",IF(OR(LEN(B325)=0,LEN(C325)=0,LEN(D325)=0,LEN(E325)=0,LEN(F325)=0,LEN(G325)=0),\"no HVI data\",IF('Base Values'!$B$6+(SUM($N325:$R325)/100)<0,0,'Base Values'!$B$6+(SUM(N325:R325)/100))))","v":""},null,{"$f":"IF(LEN(A325)=0,\"\",IF(LEN(H325)=0,INDEX(Ext!$A$1:$G$5,MATCH(0,Ext!$A$1:$A$5,0),MATCH(H$7,Ext!$A$2:$E$2,0)),IF(AND(H325>=0,H325<3),INDEX(Ext!$A$1:$G$5,MATCH(H325,Ext!$A$1:$A$5,0),MATCH(H$7,Ext!$A$2:$E$2,0)),\"invalid entry\")))","v":""},{"$f":"IF(LEN(B325)=0,\"\",IF(LEN(I325)=0,INDEX(Ext!$A$1:$G$5,MATCH(0,Ext!$A$1:$A$5,0),MATCH(I$7,Ext!$A$2:$E$2,0)),IF(AND(I325>=0,I325<3),INDEX(Ext!$A$1:$G$5,MATCH(I325,Ext!$A$1:$A$5,0),MATCH(I$7,Ext!$A$2:$E$2,0)),\"invalid entry\")))","v":""},{"$f":"IF(LEN(C325)=0,\"\",IF(LEN(J325)=0,INDEX(Ext!$A$1:$G$5,MATCH(0,Ext!$A$1:$A$5,0),MATCH(J$7,Ext!$A$2:$E$2,0)),IF(AND(J325>=0,J325<3),INDEX(Ext!$A$1:$G$5,MATCH(J325,Ext!$A$1:$A$5,0),MATCH(J$7,Ext!$A$2:$E$2,0)),\"invalid entry\")))","v":""}]
[null,null,null,null,null,null,null,null,null,null,null,{"$f":"IF(LEN(A326)=0,\"\",IF(LEN(E326)=0,\"HVI data needed\",INDEX('Staple Lookup'!$C$3:$C$100,MATCH(TRUE,'Staple Lookup'!$B$3:$B$100>=ROUND(E326,2),0))))","v":""},null,{"$f":"IF(OR(LEN(B326)=0,LEN(C326)=0,LEN(D326)=0),\"\",IF(AND(RIGHT(B326,1)*1=1,C326=8),-2000,IF(L326>=38,AB326,IF(L326<=31,AC326,AE326))))","v":""},{"$f":"IF(LEN(A326)=0,\"\",INDEX(Str!$C$1:$C$20,MATCH(ROUND(F326,1),Str!$A$1:$A$20,1)))","v":""},"","",{"$f":"IF(LEN(A326)=0,\"\",INDEX(Uni!$C$1:$C$20,MATCH(ROUND($G326,1),Uni!$A$1:$A$20,1)))","v":""},null,"",{"$f":"IF(LEN(A326)=0,\"\",IF(OR(LEN(B326)=0,LEN(C326)=0,LEN(D326)=0,LEN(E326)=0,LEN(F326)=0,LEN(G326)=0),\"no HVI data\",IF('Base Values'!$B$6+(SUM($N326:$R326)/100)<0,0,'Base Values'!$B$6+(SUM(N326:R326)/100))))","v":""},null,{"$f":"IF(LEN(A326)=0,\"\",IF(LEN(H326)=0,INDEX(Ext!$A$1:$G$5,MATCH(0,Ext!$A$1:$A$5,0),MATCH(H$7,Ext!$A$2:$E$2,0)),IF(AND(H326>=0,H326<3),INDEX(Ext!$A$1:$G$5,MATCH(H326,Ext!$A$1:$A$5,0),MATCH(H$7,Ext!$A$2:$E$2,0)),\"invalid entry\")))","v":""},{"$f":"IF(LEN(B326)=0,\"\",IF(LEN(I326)=0,INDEX(Ext!$A$1:$G$5,MATCH(0,Ext!$A$1:$A$5,0),MATCH(I$7,Ext!$A$2:$E$2,0)),IF(AND(I326>=0,I326<3),INDEX(Ext!$A$1:$G$5,MATCH(I326,Ext!$A$1:$A$5,0),MATCH(I$7,Ext!$A$2:$E$2,0)),\"invalid entry\")))","v":""},{"$f":"IF(LEN(C326)=0,\"\",IF(LEN(J326)=0,INDEX(Ext!$A$1:$G$5,MATCH(0,Ext!$A$1:$A$5,0),MATCH(J$7,Ext!$A$2:$E$2,0)),IF(AND(J326>=0,J326<3),INDEX(Ext!$A$1:$G$5,MATCH(J326,Ext!$A$1:$A$5,0),MATCH(J$7,Ext!$A$2:$E$2,0)),\"invalid entry\")))","v":""}]
[null,null,null,null,null,null,null,null,null,null,null,{"$f":"IF(LEN(A327)=0,\"\",IF(LEN(E327)=0,\"HVI data needed\",INDEX('Staple Lookup'!$C$3:$C$100,MATCH(TRUE,'Staple Lookup'!$B$3:$B$100>=ROUND(E327,2),0))))","v":""},null,{"$f":"IF(OR(LEN(B327)=0,LEN(C327)=0,LEN(D327)=0),\"\",IF(AND(RIGHT(B327,1)*1=1,C327=8),-2000,IF(L327>=38,AB327,IF(L327<=31,AC327,AE327))))","v":""},{"$f":"IF(LEN(A327)=0,\"\",INDEX(Str!$C$1:$C$20,MATCH(ROUND(F327,1),Str!$A$1:$A$20,1)))","v":""},"","",{"$f":"IF(LEN(A327)=0,\"\",INDEX(Uni!$C$1:$C$20,MATCH(ROUND($G327,1),Uni!$A$1:$A$20,1)))","v":""},null,"",{"$f":"IF(LEN(A327)=0,\"\",IF(OR(LEN(B327)=0,LEN(C327)=0,LEN(D327)=0,LEN(E327)=0,LEN(F327)=0,LEN(G327)=0),\"no HVI data\",IF('Base Values'!$B$6+(SUM($N327:$R327)/100)<0,0,'Base Values'!$B$6+(SUM(N327:R327)/100))))","v":""},null,{"$f":"IF(LEN(A327)=0,\"\",IF(LEN(H327)=0,INDEX(Ext!$A$1:$G$5,MATCH(0,Ext!$A$1:$A$5,0),MATCH(H$7,Ext!$A$2:$E$2,0)),IF(AND(H327>=0,H327<3),INDEX(Ext!$A$1:$G$5,MATCH(H327,Ext!$A$1:$A$5,0),MATCH(H$7,Ext!$A$2:$E$2,0)),\"invalid entry\")))","v":""},{"$f":"IF(LEN(B327)=0,\"\",IF(LEN(I327)=0,INDEX(Ext!$A$1:$G$5,MATCH(0,Ext!$A$1:$A$5,0),MATCH(I$7,Ext!$A$2:$E$2,0)),IF(AND(I327>=0,I327<3),INDEX(Ext!$A$1:$G$5,MATCH(I327,Ext!$A$1:$A$5,0),MATCH(I$7,Ext!$A$2:$E$2,0)),\"invalid entry\")))","v":""},{"$f":"IF(LEN(C327)=0,\"\",IF(LEN(J327)=0,INDEX(Ext!$A$1:$G$5,MATCH(0,Ext!$A$1:$A$5,0),MATCH(J$7,Ext!$A$2:$E$2,0)),IF(AND(J327>=0,J327<3),INDEX(Ext!$A$1:$G$5,MATCH(J327,Ext!$A$1:$A$5,0),MATCH(J$7,Ext!$A$2:$E$2,0)),\"invalid entry\")))","v":""}]
[null,null,null,null,null,null,null,null,null,null,null,{"$f":"IF(LEN(A328)=0,\"\",IF(LEN(E328)=0,\"HVI data needed\",INDEX('Staple Lookup'!$C$3:$C$100,MATCH(TRUE,'Staple Lookup'!$B$3:$B$100>=ROUND(E328,2),0))))","v":""},null,{"$f":"IF(OR(LEN(B328)=0,LEN(C328)=0,LEN(D328)=0),\"\",IF(AND(RIGHT(B328,1)*1=1,C328=8),-2000,IF(L328>=38,AB328,IF(L328<=31,AC328,AE328))))","v":""},{"$f":"IF(LEN(A328)=0,\"\",INDEX(Str!$C$1:$C$20,MATCH(ROUND(F328,1),Str!$A$1:$A$20,1)))","v":""},"","",{"$f":"IF(LEN(A328)=0,\"\",INDEX(Uni!$C$1:$C$20,MATCH(ROUND($G328,1),Uni!$A$1:$A$20,1)))","v":""},null,"",{"$f":"IF(LEN(A328)=0,\"\",IF(OR(LEN(B328)=0,LEN(C328)=0,LEN(D328)=0,LEN(E328)=0,LEN(F328)=0,LEN(G328)=0),\"no HVI data\",IF('Base Values'!$B$6+(SUM($N328:$R328)/100)<0,0,'Base Values'!$B$6+(SUM(N328:R328)/100))))","v":""},null,{"$f":"IF(LEN(A328)=0,\"\",IF(LEN(H328)=0,INDEX(Ext!$A$1:$G$5,MATCH(0,Ext!$A$1:$A$5,0),MATCH(H$7,Ext!$A$2:$E$2,0)),IF(AND(H328>=0,H328<3),INDEX(Ext!$A$1:$G$5,MATCH(H328,Ext!$A$1:$A$5,0),MATCH(H$7,Ext!$A$2:$E$2,0)),\"invalid entry\")))","v":""},{"$f":"IF(LEN(B328)=0,\"\",IF(LEN(I328)=0,INDEX(Ext!$A$1:$G$5,MATCH(0,Ext!$A$1:$A$5,0),MATCH(I$7,Ext!$A$2:$E$2,0)),IF(AND(I328>=0,I328<3),INDEX(Ext!$A$1:$G$5,MATCH(I328,Ext!$A$1:$A$5,0),MATCH(I$7,Ext!$A$2:$E$2,0)),\"invalid entry\")))","v":""},{"$f":"IF(LEN(C328)=0,\"\",IF(LEN(J328)=0,INDEX(Ext!$A$1:$G$5,MATCH(0,Ext!$A$1:$A$5,0),MATCH(J$7,Ext!$A$2:$E$2,0)),IF(AND(J328>=0,J328<3),INDEX(Ext!$A$1:$G$5,MATCH(J328,Ext!$A$1:$A$5,0),MATCH(J$7,Ext!$A$2:$E$2,0)),\"invalid entry\")))","v":""}]
[null,null,null,null,null,null,null,null,null,null,null,{"$f":"IF(LEN(A329)=0,\"\",IF(LEN(E329)=0,\"HVI data needed\",INDEX('Staple Lookup'!$C$3:$C$100,MATCH(TRUE,'Staple Lookup'!$B$3:$B$100>=ROUND(E329,2),0))))","v":""},null,{"$f":"IF(OR(LEN(B329)=0,LEN(C329)=0,LEN(D329)=0),\"\",IF(AND(RIGHT(B329,1)*1=1,C329=8),-2000,IF(L329>=38,AB329,IF(L329<=31,AC329,AE329))))","v":""},{"$f":"IF(LEN(A329)=0,\"\",INDEX(Str!$C$1:$C$20,MATCH(ROUND(F329,1),Str!$A$1:$A$20,1)))","v":""},{"$f":"IF(LEN(A329)=0,\"\",IF(AND(AG329=1,AH329>0),AH329,IF(AND(AG329=0,AH329>0),0,AH329)))","v":""},{"$f":"IF(LEN(A329)=0,\"\",SUM(W329:Z329))","v":""},{"$f":"IF(LEN(A329)=0,\"\",INDEX(Uni!$C$1:$C$20,MATCH(ROUND($G329,1),Uni!$A$1:$A$20,1)))","v":""},null,{"$f":"IF(LEN(A329)=0,\"\",IF(OR(LEN(B329)=0,LEN(C329)=0,LEN(D329)=0,LEN(E329)=0,LEN(F329)=0,LEN(G329)=0),\"no HVI data\",SUM(N329:R329)))","v":""},{"$f":"IF(LEN(A329)=0,\"\",IF(OR(LEN(B329)=0,LEN(C329)=0,LEN(D329)=0,LEN(E329)=0,LEN(F329)=0,LEN(G329)=0),\"no HVI data\",IF('Base Values'!$B$6+(SUM($N329:$R329)/100)<0,0,'Base Values'!$B$6+(SUM(N329:R329)/100))))","v":""},null,{"$f":"IF(LEN(A329)=0,\"\",IF(LEN(H329)=0,INDEX(Ext!$A$1:$G$5,MATCH(0,Ext!$A$1:$A$5,0),MATCH(H$7,Ext!$A$2:$E$2,0)),IF(AND(H329>=0,H329<3),INDEX(Ext!$A$1:$G$5,MATCH(H329,Ext!$A$1:$A$5,0),MATCH(H$7,Ext!$A$2:$E$2,0)),\"invalid entry\")))","v":""},{"$f":"IF(LEN(B329)=0,\"\",IF(LEN(I329)=0,INDEX(Ext!$A$1:$G$5,MATCH(0,Ext!$A$1:$A$5,0),MATCH(I$7,Ext!$A$2:$E$2,0)),IF(AND(I329>=0,I329<3),INDEX(Ext!$A$1:$G$5,MATCH(I329,Ext!$A$1:$A$5,0),MATCH(I$7,Ext!$A$2:$E$2,0)),\"invalid entry\")))","v":""},{"$f":"IF(LEN(C329)=0,\"\",IF(LEN(J329)=0,INDEX(Ext!$A$1:$G$5,MATCH(0,Ext!$A$1:$A$5,0),MATCH(J$7,Ext!$A$2:$E$2,0)),IF(AND(J329>=0,J329<3),INDEX(Ext!$A$1:$G$5,MATCH(J329,Ext!$A$1:$A$5,0),MATCH(J$7,Ext!$A$2:$E$2,0)),\"invalid entry\")))","v":""}]
[null,null,null,null,null,null,null,null,null,null,null,{"$f":"IF(LEN(A330)=0,\"\",IF(LEN(E330)=0,\"HVI data needed\",INDEX('Staple Lookup'!$C$3:$C$100,MATCH(TRUE,'Staple Lookup'!$B$3:$B$100>=ROUND(E330,2),0))))","v":""},null,{"$f":"IF(OR(LEN(B330)=0,LEN(C330)=0,LEN(D330)=0),\"\",IF(AND(RIGHT(B330,1)*1=1,C330=8),-2000,IF(L330>=38,AB330,IF(L330<=31,AC330,AE330))))","v":""},{"$f":"IF(LEN(A330)=0,\"\",INDEX(Str!$C$1:$C$20,MATCH(ROUND(F330,1),Str!$A$1:$A$20,1)))","v":""},"","",{"$f":"IF(LEN(A330)=0,\"\",INDEX(Uni!$C$1:$C$20,MATCH(ROUND($G330,1),Uni!$A$1:$A$20,1)))","v":""},null,"",{"$f":"IF(LEN(A330)=0,\"\",IF(OR(LEN(B330)=0,LEN(C330)=0,LEN(D330)=0,LEN(E330)=0,LEN(F330)=0,LEN(G330)=0),\"no HVI data\",IF('Base Values'!$B$6+(SUM($N330:$R330)/100)<0,0,'Base Values'!$B$6+(SUM(N330:R330)/100))))","v":""},null,{"$f":"IF(LEN(A330)=0,\"\",IF(LEN(H330)=0,INDEX(Ext!$A$1:$G$5,MATCH(0,Ext!$A$1:$A$5,0),MATCH(H$7,Ext!$A$2:$E$2,0)),IF(AND(H330>=0,H330<3),INDEX(Ext!$A$1:$G$5,MATCH(H330,Ext!$A$1:$A$5,0),MATCH(H$7,Ext!$A$2:$E$2,0)),\"invalid entry\")))","v":""},{"$f":"IF(LEN(B330)=0,\"\",IF(LEN(I330)=0,INDEX(Ext!$A$1:$G$5,MATCH(0,Ext!$A$1:$A$5,0),MATCH(I$7,Ext!$A$2:$E$2,0)),IF(AND(I330>=0,I330<3),INDEX(Ext!$A$1:$G$5,MATCH(I330,Ext!$A$1:$A$5,0),MATCH(I$7,Ext!$A$2:$E$2,0)),\"invalid entry\")))","v":""},{"$f":"IF(LEN(C330)=0,\"\",IF(LEN(J330)=0,INDEX(Ext!$A$1:$G$5,MATCH(0,Ext!$A$1:$A$5,0),MATCH(J$7,Ext!$A$2:$E$2,0)),IF(AND(J330>=0,J330<3),INDEX(Ext!$A$1:$G$5,MATCH(J330,Ext!$A$1:$A$5,0),MATCH(J$7,Ext!$A$2:$E$2,0)),\"invalid entry\")))","v":""}]
[null,null,null,null,null,null,null,null,null,null,null,{"$f":"IF(LEN(A331)=0,\"\",IF(LEN(E331)=0,\"HVI data needed\",INDEX('Staple Lookup'!$C$3:$C$100,MATCH(TRUE,'Staple Lookup'!$B$3:$B$100>=ROUND(E331,2),0))))","v":""},null,{"$f":"IF(OR(LEN(B331)=0,LEN(C331)=0,LEN(D331)=0),\"\",IF(AND(RIGHT(B331,1)*1=1,C331=8),-2000,IF(L331>=38,AB331,IF(L331<=31,AC331,AE331))))","v":""},{"$f":"IF(LEN(A331)=0,\"\",INDEX(Str!$C$1:$C$20,MATCH(ROUND(F331,1),Str!$A$1:$A$20,1)))","v":""},"","",{"$f":"IF(LEN(A331)=0,\"\",INDEX(Uni!$C$1:$C$20,MATCH(ROUND($G331,1),Uni!$A$1:$A$20,1)))","v":""},null,"",{"$f":"IF(LEN(A331)=0,\"\",IF(OR(LEN(B331)=0,LEN(C331)=0,LEN(D331)=0,LEN(E331)=0,LEN(F331)=0,LEN(G331)=0),\"no HVI data\",IF('Base Values'!$B$6+(SUM($N331:$R331)/100)<0,0,'Base Values'!$B$6+(SUM(N331:R331)/100))))","v":""},null,{"$f":"IF(LEN(A331)=0,\"\",IF(LEN(H331)=0,INDEX(Ext!$A$1:$G$5,MATCH(0,Ext!$A$1:$A$5,0),MATCH(H$7,Ext!$A$2:$E$2,0)),IF(AND(H331>=0,H331<3),INDEX(Ext!$A$1:$G$5,MATCH(H331,Ext!$A$1:$A$5,0),MATCH(H$7,Ext!$A$2:$E$2,0)),\"invalid entry\")))","v":""},{"$f":"IF(LEN(B331)=0,\"\",IF(LEN(I331)=0,INDEX(Ext!$A$1:$G$5,MATCH(0,Ext!$A$1:$A$5,0),MATCH(I$7,Ext!$A$2:$E$2,0)),IF(AND(I331>=0,I331<3),INDEX(Ext!$A$1:$G$5,MATCH(I331,Ext!$A$1:$A$5,0),MATCH(I$7,Ext!$A$2:$E$2,0)),\"invalid entry\")))","v":""},{"$f":"IF(LEN(C331)=0,\"\",IF(LEN(J331)=0,INDEX(Ext!$A$1:$G$5,MATCH(0,Ext!$A$1:$A$5,0),MATCH(J$7,Ext!$A$2:$E$2,0)),IF(AND(J331>=0,J331<3),INDEX(Ext!$A$1:$G$5,MATCH(J331,Ext!$A$1:$A$5,0),MATCH(J$7,Ext!$A$2:$E$2,0)),\"invalid entry\")))","v":""}]
[null,null,null,null,null,null,null,null,null,null,null,{"$f":"IF(LEN(A332)=0,\"\",IF(LEN(E332)=0,\"HVI data needed\",INDEX('Staple Lookup'!$C$3:$C$100,MATCH(TRUE,'Staple Lookup'!$B$3:$B$100>=ROUND(E332,2),0))))","v":""},null,{"$f":"IF(OR(LEN(B332)=0,LEN(C332)=0,LEN(D332)=0),\"\",IF(AND(RIGHT(B332,1)*1=1,C332=8),-2000,IF(L332>=38,AB332,IF(L332<=31,AC332,AE332))))","v":""},{"$f":"IF(LEN(A332)=0,\"\",INDEX(Str!$C$1:$C$20,MATCH(ROUND(F332,1),Str!$A$1:$A$20,1)))","v":""},"","",{"$f":"IF(LEN(A332)=0,\"\",INDEX(Uni!$C$1:$C$20,MATCH(ROUND($G332,1),Uni!$A$1:$A$20,1)))","v":""},null,"",{"$f":"IF(LEN(A332)=0,\"\",IF(OR(LEN(B332)=0,LEN(C332)=0,LEN(D332)=0,LEN(E332)=0,LEN(F332)=0,LEN(G332)=0),\"no HVI data\",IF('Base Values'!$B$6+(SUM($N332:$R332)/100)<0,0,'Base Values'!$B$6+(SUM(N332:R332)/100))))","v":""},null,{"$f":"IF(LEN(A332)=0,\"\",IF(LEN(H332)=0,INDEX(Ext!$A$1:$G$5,MATCH(0,Ext!$A$1:$A$5,0),MATCH(H$7,Ext!$A$2:$E$2,0)),IF(AND(H332>=0,H332<3),INDEX(Ext!$A$1:$G$5,MATCH(H332,Ext!$A$1:$A$5,0),MATCH(H$7,Ext!$A$2:$E$2,0)),\"invalid entry\")))","v":""},{"$f":"IF(LEN(B332)=0,\"\",IF(LEN(I332)=0,INDEX(Ext!$A$1:$G$5,MATCH(0,Ext!$A$1:$A$5,0),MATCH(I$7,Ext!$A$2:$E$2,0)),IF(AND(I332>=0,I332<3),INDEX(Ext!$A$1:$G$5,MATCH(I332,Ext!$A$1:$A$5,0),MATCH(I$7,Ext!$A$2:$E$2,0)),\"invalid entry\")))","v":""},{"$f":"IF(LEN(C332)=0,\"\",IF(LEN(J332)=0,INDEX(Ext!$A$1:$G$5,MATCH(0,Ext!$A$1:$A$5,0),MATCH(J$7,Ext!$A$2:$E$2,0)),IF(AND(J332>=0,J332<3),INDEX(Ext!$A$1:$G$5,MATCH(J332,Ext!$A$1:$A$5,0),MATCH(J$7,Ext!$A$2:$E$2,0)),\"invalid entry\")))","v":""}]
[null,null,null,null,null,null,null,null,null,null,null,{"$f":"IF(LEN(A333)=0,\"\",IF(LEN(E333)=0,\"HVI data needed\",INDEX('Staple Lookup'!$C$3:$C$100,MATCH(TRUE,'Staple Lookup'!$B$3:$B$100>=ROUND(E333,2),0))))","v":""},null,{"$f":"IF(OR(LEN(B333)=0,LEN(C333)=0,LEN(D333)=0),\"\",IF(AND(RIGHT(B333,1)*1=1,C333=8),-2000,IF(L333>=38,AB333,IF(L333<=31,AC333,AE333))))","v":""},{"$f":"IF(LEN(A333)=0,\"\",INDEX(Str!$C$1:$C$20,MATCH(ROUND(F333,1),Str!$A$1:$A$20,1)))","v":""},"","",{"$f":"IF(LEN(A333)=0,\"\",INDEX(Uni!$C$1:$C$20,MATCH(ROUND($G333,1),Uni!$A$1:$A$20,1)))","v":""},null,"",{"$f":"IF(LEN(A333)=0,\"\",IF(OR(LEN(B333)=0,LEN(C333)=0,LEN(D333)=0,LEN(E333)=0,LEN(F333)=0,LEN(G333)=0),\"no HVI data\",IF('Base Values'!$B$6+(SUM($N333:$R333)/100)<0,0,'Base Values'!$B$6+(SUM(N333:R333)/100))))","v":""},null,{"$f":"IF(LEN(A333)=0,\"\",IF(LEN(H333)=0,INDEX(Ext!$A$1:$G$5,MATCH(0,Ext!$A$1:$A$5,0),MATCH(H$7,Ext!$A$2:$E$2,0)),IF(AND(H333>=0,H333<3),INDEX(Ext!$A$1:$G$5,MATCH(H333,Ext!$A$1:$A$5,0),MATCH(H$7,Ext!$A$2:$E$2,0)),\"invalid entry\")))","v":""},{"$f":"IF(LEN(B333)=0,\"\",IF(LEN(I333)=0,INDEX(Ext!$A$1:$G$5,MATCH(0,Ext!$A$1:$A$5,0),MATCH(I$7,Ext!$A$2:$E$2,0)),IF(AND(I333>=0,I333<3),INDEX(Ext!$A$1:$G$5,MATCH(I333,Ext!$A$1:$A$5,0),MATCH(I$7,Ext!$A$2:$E$2,0)),\"invalid entry\")))","v":""},{"$f":"IF(LEN(C333)=0,\"\",IF(LEN(J333)=0,INDEX(Ext!$A$1:$G$5,MATCH(0,Ext!$A$1:$A$5,0),MATCH(J$7,Ext!$A$2:$E$2,0)),IF(AND(J333>=0,J333<3),INDEX(Ext!$A$1:$G$5,MATCH(J333,Ext!$A$1:$A$5,0),MATCH(J$7,Ext!$A$2:$E$2,0)),\"invalid entry\")))","v":""}]
[null,null,null,null,null,null,null,null,null,null,null,{"$f":"IF(LEN(A334)=0,\"\",IF(LEN(E334)=0,\"HVI data needed\",INDEX('Staple Lookup'!$C$3:$C$100,MATCH(TRUE,'Staple Lookup'!$B$3:$B$100>=ROUND(E334,2),0))))","v":""},null,{"$f":"IF(OR(LEN(B334)=0,LEN(C334)=0,LEN(D334)=0),\"\",IF(AND(RIGHT(B334,1)*1=1,C334=8),-2000,IF(L334>=38,AB334,IF(L334<=31,AC334,AE334))))","v":""},{"$f":"IF(LEN(A334)=0,\"\",INDEX(Str!$C$1:$C$20,MATCH(ROUND(F334,1),Str!$A$1:$A$20,1)))","v":""},"","",{"$f":"IF(LEN(A334)=0,\"\",INDEX(Uni!$C$1:$C$20,MATCH(ROUND($G334,1),Uni!$A$1:$A$20,1)))","v":""},null,"",{"$f":"IF(LEN(A334)=0,\"\",IF(OR(LEN(B334)=0,LEN(C334)=0,LEN(D334)=0,LEN(E334)=0,LEN(F334)=0,LEN(G334)=0),\"no HVI data\",IF('Base Values'!$B$6+(SUM($N334:$R334)/100)<0,0,'Base Values'!$B$6+(SUM(N334:R334)/100))))","v":""},null,{"$f":"IF(LEN(A334)=0,\"\",IF(LEN(H334)=0,INDEX(Ext!$A$1:$G$5,MATCH(0,Ext!$A$1:$A$5,0),MATCH(H$7,Ext!$A$2:$E$2,0)),IF(AND(H334>=0,H334<3),INDEX(Ext!$A$1:$G$5,MATCH(H334,Ext!$A$1:$A$5,0),MATCH(H$7,Ext!$A$2:$E$2,0)),\"invalid entry\")))","v":""},{"$f":"IF(LEN(B334)=0,\"\",IF(LEN(I334)=0,INDEX(Ext!$A$1:$G$5,MATCH(0,Ext!$A$1:$A$5,0),MATCH(I$7,Ext!$A$2:$E$2,0)),IF(AND(I334>=0,I334<3),INDEX(Ext!$A$1:$G$5,MATCH(I334,Ext!$A$1:$A$5,0),MATCH(I$7,Ext!$A$2:$E$2,0)),\"invalid entry\")))","v":""},{"$f":"IF(LEN(C334)=0,\"\",IF(LEN(J334)=0,INDEX(Ext!$A$1:$G$5,MATCH(0,Ext!$A$1:$A$5,0),MATCH(J$7,Ext!$A$2:$E$2,0)),IF(AND(J334>=0,J334<3),INDEX(Ext!$A$1:$G$5,MATCH(J334,Ext!$A$1:$A$5,0),MATCH(J$7,Ext!$A$2:$E$2,0)),\"invalid entry\")))","v":""}]
[null,null,null,null,null,null,null,null,null,null,null,{"$f":"IF(LEN(A335)=0,\"\",IF(LEN(E335)=0,\"HVI data needed\",INDEX('Staple Lookup'!$C$3:$C$100,MATCH(TRUE,'Staple Lookup'!$B$3:$B$100>=ROUND(E335,2),0))))","v":""},null,{"$f":"IF(OR(LEN(B335)=0,LEN(C335)=0,LEN(D335)=0),\"\",IF(AND(RIGHT(B335,1)*1=1,C335=8),-2000,IF(L335>=38,AB335,IF(L335<=31,AC335,AE335))))","v":""},{"$f":"IF(LEN(A335)=0,\"\",INDEX(Str!$C$1:$C$20,MATCH(ROUND(F335,1),Str!$A$1:$A$20,1)))","v":""},"","",{"$f":"IF(LEN(A335)=0,\"\",INDEX(Uni!$C$1:$C$20,MATCH(ROUND($G335,1),Uni!$A$1:$A$20,1)))","v":""},null,"",{"$f":"IF(LEN(A335)=0,\"\",IF(OR(LEN(B335)=0,LEN(C335)=0,LEN(D335)=0,LEN(E335)=0,LEN(F335)=0,LEN(G335)=0),\"no HVI data\",IF('Base Values'!$B$6+(SUM($N335:$R335)/100)<0,0,'Base Values'!$B$6+(SUM(N335:R335)/100))))","v":""},null,{"$f":"IF(LEN(A335)=0,\"\",IF(LEN(H335)=0,INDEX(Ext!$A$1:$G$5,MATCH(0,Ext!$A$1:$A$5,0),MATCH(H$7,Ext!$A$2:$E$2,0)),IF(AND(H335>=0,H335<3),INDEX(Ext!$A$1:$G$5,MATCH(H335,Ext!$A$1:$A$5,0),MATCH(H$7,Ext!$A$2:$E$2,0)),\"invalid entry\")))","v":""},{"$f":"IF(LEN(B335)=0,\"\",IF(LEN(I335)=0,INDEX(Ext!$A$1:$G$5,MATCH(0,Ext!$A$1:$A$5,0),MATCH(I$7,Ext!$A$2:$E$2,0)),IF(AND(I335>=0,I335<3),INDEX(Ext!$A$1:$G$5,MATCH(I335,Ext!$A$1:$A$5,0),MATCH(I$7,Ext!$A$2:$E$2,0)),\"invalid entry\")))","v":""},{"$f":"IF(LEN(C335)=0,\"\",IF(LEN(J335)=0,INDEX(Ext!$A$1:$G$5,MATCH(0,Ext!$A$1:$A$5,0),MATCH(J$7,Ext!$A$2:$E$2,0)),IF(AND(J335>=0,J335<3),INDEX(Ext!$A$1:$G$5,MATCH(J335,Ext!$A$1:$A$5,0),MATCH(J$7,Ext!$A$2:$E$2,0)),\"invalid entry\")))","v":""}]
[null,null,null,null,null,null,null,null,null,null,null,{"$f":"IF(LEN(A336)=0,\"\",IF(LEN(E336)=0,\"HVI data needed\",INDEX('Staple Lookup'!$C$3:$C$100,MATCH(TRUE,'Staple Lookup'!$B$3:$B$100>=ROUND(E336,2),0))))","v":""},null,{"$f":"IF(OR(LEN(B336)=0,LEN(C336)=0,LEN(D336)=0),\"\",IF(AND(RIGHT(B336,1)*1=1,C336=8),-2000,IF(L336>=38,AB336,IF(L336<=31,AC336,AE336))))","v":""},{"$f":"IF(LEN(A336)=0,\"\",INDEX(Str!$C$1:$C$20,MATCH(ROUND(F336,1),Str!$A$1:$A$20,1)))","v":""},"","",{"$f":"IF(LEN(A336)=0,\"\",INDEX(Uni!$C$1:$C$20,MATCH(ROUND($G336,1),Uni!$A$1:$A$20,1)))","v":""},null,"",{"$f":"IF(LEN(A336)=0,\"\",IF(OR(LEN(B336)=0,LEN(C336)=0,LEN(D336)=0,LEN(E336)=0,LEN(F336)=0,LEN(G336)=0),\"no HVI data\",IF('Base Values'!$B$6+(SUM($N336:$R336)/100)<0,0,'Base Values'!$B$6+(SUM(N336:R336)/100))))","v":""},null,{"$f":"IF(LEN(A336)=0,\"\",IF(LEN(H336)=0,INDEX(Ext!$A$1:$G$5,MATCH(0,Ext!$A$1:$A$5,0),MATCH(H$7,Ext!$A$2:$E$2,0)),IF(AND(H336>=0,H336<3),INDEX(Ext!$A$1:$G$5,MATCH(H336,Ext!$A$1:$A$5,0),MATCH(H$7,Ext!$A$2:$E$2,0)),\"invalid entry\")))","v":""},{"$f":"IF(LEN(B336)=0,\"\",IF(LEN(I336)=0,INDEX(Ext!$A$1:$G$5,MATCH(0,Ext!$A$1:$A$5,0),MATCH(I$7,Ext!$A$2:$E$2,0)),IF(AND(I336>=0,I336<3),INDEX(Ext!$A$1:$G$5,MATCH(I336,Ext!$A$1:$A$5,0),MATCH(I$7,Ext!$A$2:$E$2,0)),\"invalid entry\")))","v":""},{"$f":"IF(LEN(C336)=0,\"\",IF(LEN(J336)=0,INDEX(Ext!$A$1:$G$5,MATCH(0,Ext!$A$1:$A$5,0),MATCH(J$7,Ext!$A$2:$E$2,0)),IF(AND(J336>=0,J336<3),INDEX(Ext!$A$1:$G$5,MATCH(J336,Ext!$A$1:$A$5,0),MATCH(J$7,Ext!$A$2:$E$2,0)),\"invalid entry\")))","v":""}]
[null,null,null,null,null,null,null,null,null,null,null,{"$f":"IF(LEN(A337)=0,\"\",IF(LEN(E337)=0,\"HVI data needed\",INDEX('Staple Lookup'!$C$3:$C$100,MATCH(TRUE,'Staple Lookup'!$B$3:$B$100>=ROUND(E337,2),0))))","v":""},null,{"$f":"IF(OR(LEN(B337)=0,LEN(C337)=0,LEN(D337)=0),\"\",IF(AND(RIGHT(B337,1)*1=1,C337=8),-2000,IF(L337>=38,AB337,IF(L337<=31,AC337,AE337))))","v":""},{"$f":"IF(LEN(A337)=0,\"\",INDEX(Str!$C$1:$C$20,MATCH(ROUND(F337,1),Str!$A$1:$A$20,1)))","v":""},"","",{"$f":"IF(LEN(A337)=0,\"\",INDEX(Uni!$C$1:$C$20,MATCH(ROUND($G337,1),Uni!$A$1:$A$20,1)))","v":""},null,"",{"$f":"IF(LEN(A337)=0,\"\",IF(OR(LEN(B337)=0,LEN(C337)=0,LEN(D337)=0,LEN(E337)=0,LEN(F337)=0,LEN(G337)=0),\"no HVI data\",IF('Base Values'!$B$6+(SUM($N337:$R337)/100)<0,0,'Base Values'!$B$6+(SUM(N337:R337)/100))))","v":""},null,{"$f":"IF(LEN(A337)=0,\"\",IF(LEN(H337)=0,INDEX(Ext!$A$1:$G$5,MATCH(0,Ext!$A$1:$A$5,0),MATCH(H$7,Ext!$A$2:$E$2,0)),IF(AND(H337>=0,H337<3),INDEX(Ext!$A$1:$G$5,MATCH(H337,Ext!$A$1:$A$5,0),MATCH(H$7,Ext!$A$2:$E$2,0)),\"invalid entry\")))","v":""},{"$f":"IF(LEN(B337)=0,\"\",IF(LEN(I337)=0,INDEX(Ext!$A$1:$G$5,MATCH(0,Ext!$A$1:$A$5,0),MATCH(I$7,Ext!$A$2:$E$2,0)),IF(AND(I337>=0,I337<3),INDEX(Ext!$A$1:$G$5,MATCH(I337,Ext!$A$1:$A$5,0),MATCH(I$7,Ext!$A$2:$E$2,0)),\"invalid entry\")))","v":""},{"$f":"IF(LEN(C337)=0,\"\",IF(LEN(J337)=0,INDEX(Ext!$A$1:$G$5,MATCH(0,Ext!$A$1:$A$5,0),MATCH(J$7,Ext!$A$2:$E$2,0)),IF(AND(J337>=0,J337<3),INDEX(Ext!$A$1:$G$5,MATCH(J337,Ext!$A$1:$A$5,0),MATCH(J$7,Ext!$A$2:$E$2,0)),\"invalid entry\")))","v":""}]
[null,null,null,null,null,null,null,null,null,null,null,{"$f":"IF(LEN(A338)=0,\"\",IF(LEN(E338)=0,\"HVI data needed\",INDEX('Staple Lookup'!$C$3:$C$100,MATCH(TRUE,'Staple Lookup'!$B$3:$B$100>=ROUND(E338,2),0))))","v":""},null,{"$f":"IF(OR(LEN(B338)=0,LEN(C338)=0,LEN(D338)=0),\"\",IF(AND(RIGHT(B338,1)*1=1,C338=8),-2000,IF(L338>=38,AB338,IF(L338<=31,AC338,AE338))))","v":""},{"$f":"IF(LEN(A338)=0,\"\",INDEX(Str!$C$1:$C$20,MATCH(ROUND(F338,1),Str!$A$1:$A$20,1)))","v":""},"","",{"$f":"IF(LEN(A338)=0,\"\",INDEX(Uni!$C$1:$C$20,MATCH(ROUND($G338,1),Uni!$A$1:$A$20,1)))","v":""},null,"",{"$f":"IF(LEN(A338)=0,\"\",IF(OR(LEN(B338)=0,LEN(C338)=0,LEN(D338)=0,LEN(E338)=0,LEN(F338)=0,LEN(G338)=0),\"no HVI data\",IF('Base Values'!$B$6+(SUM($N338:$R338)/100)<0,0,'Base Values'!$B$6+(SUM(N338:R338)/100))))","v":""},null,{"$f":"IF(LEN(A338)=0,\"\",IF(LEN(H338)=0,INDEX(Ext!$A$1:$G$5,MATCH(0,Ext!$A$1:$A$5,0),MATCH(H$7,Ext!$A$2:$E$2,0)),IF(AND(H338>=0,H338<3),INDEX(Ext!$A$1:$G$5,MATCH(H338,Ext!$A$1:$A$5,0),MATCH(H$7,Ext!$A$2:$E$2,0)),\"invalid entry\")))","v":""},{"$f":"IF(LEN(B338)=0,\"\",IF(LEN(I338)=0,INDEX(Ext!$A$1:$G$5,MATCH(0,Ext!$A$1:$A$5,0),MATCH(I$7,Ext!$A$2:$E$2,0)),IF(AND(I338>=0,I338<3),INDEX(Ext!$A$1:$G$5,MATCH(I338,Ext!$A$1:$A$5,0),MATCH(I$7,Ext!$A$2:$E$2,0)),\"invalid entry\")))","v":""},{"$f":"IF(LEN(C338)=0,\"\",IF(LEN(J338)=0,INDEX(Ext!$A$1:$G$5,MATCH(0,Ext!$A$1:$A$5,0),MATCH(J$7,Ext!$A$2:$E$2,0)),IF(AND(J338>=0,J338<3),INDEX(Ext!$A$1:$G$5,MATCH(J338,Ext!$A$1:$A$5,0),MATCH(J$7,Ext!$A$2:$E$2,0)),\"invalid entry\")))","v":""}]
[null,null,null,null,null,null,null,null,null,null,null,{"$f":"IF(LEN(A339)=0,\"\",IF(LEN(E339)=0,\"HVI data needed\",INDEX('Staple Lookup'!$C$3:$C$100,MATCH(TRUE,'Staple Lookup'!$B$3:$B$100>=ROUND(E339,2),0))))","v":""},null,{"$f":"IF(OR(LEN(B339)=0,LEN(C339)=0,LEN(D339)=0),\"\",IF(AND(RIGHT(B339,1)*1=1,C339=8),-2000,IF(L339>=38,AB339,IF(L339<=31,AC339,AE339))))","v":""},{"$f":"IF(LEN(A339)=0,\"\",INDEX(Str!$C$1:$C$20,MATCH(ROUND(F339,1),Str!$A$1:$A$20,1)))","v":""},"","",{"$f":"IF(LEN(A339)=0,\"\",INDEX(Uni!$C$1:$C$20,MATCH(ROUND($G339,1),Uni!$A$1:$A$20,1)))","v":""},null,"",{"$f":"IF(LEN(A339)=0,\"\",IF(OR(LEN(B339)=0,LEN(C339)=0,LEN(D339)=0,LEN(E339)=0,LEN(F339)=0,LEN(G339)=0),\"no HVI data\",IF('Base Values'!$B$6+(SUM($N339:$R339)/100)<0,0,'Base Values'!$B$6+(SUM(N339:R339)/100))))","v":""},null,{"$f":"IF(LEN(A339)=0,\"\",IF(LEN(H339)=0,INDEX(Ext!$A$1:$G$5,MATCH(0,Ext!$A$1:$A$5,0),MATCH(H$7,Ext!$A$2:$E$2,0)),IF(AND(H339>=0,H339<3),INDEX(Ext!$A$1:$G$5,MATCH(H339,Ext!$A$1:$A$5,0),MATCH(H$7,Ext!$A$2:$E$2,0)),\"invalid entry\")))","v":""},{"$f":"IF(LEN(B339)=0,\"\",IF(LEN(I339)=0,INDEX(Ext!$A$1:$G$5,MATCH(0,Ext!$A$1:$A$5,0),MATCH(I$7,Ext!$A$2:$E$2,0)),IF(AND(I339>=0,I339<3),INDEX(Ext!$A$1:$G$5,MATCH(I339,Ext!$A$1:$A$5,0),MATCH(I$7,Ext!$A$2:$E$2,0)),\"invalid entry\")))","v":""},{"$f":"IF(LEN(C339)=0,\"\",IF(LEN(J339)=0,INDEX(Ext!$A$1:$G$5,MATCH(0,Ext!$A$1:$A$5,0),MATCH(J$7,Ext!$A$2:$E$2,0)),IF(AND(J339>=0,J339<3),INDEX(Ext!$A$1:$G$5,MATCH(J339,Ext!$A$1:$A$5,0),MATCH(J$7,Ext!$A$2:$E$2,0)),\"invalid entry\")))","v":""}]
[null,null,null,null,null,null,null,null,null,null,null,{"$f":"IF(LEN(A340)=0,\"\",IF(LEN(E340)=0,\"HVI data needed\",INDEX('Staple Lookup'!$C$3:$C$100,MATCH(TRUE,'Staple Lookup'!$B$3:$B$100>=ROUND(E340,2),0))))","v":""},null,{"$f":"IF(OR(LEN(B340)=0,LEN(C340)=0,LEN(D340)=0),\"\",IF(AND(RIGHT(B340,1)*1=1,C340=8),-2000,IF(L340>=38,AB340,IF(L340<=31,AC340,AE340))))","v":""},{"$f":"IF(LEN(A340)=0,\"\",INDEX(Str!$C$1:$C$20,MATCH(ROUND(F340,1),Str!$A$1:$A$20,1)))","v":""},"","",{"$f":"IF(LEN(A340)=0,\"\",INDEX(Uni!$C$1:$C$20,MATCH(ROUND($G340,1),Uni!$A$1:$A$20,1)))","v":""},null,"",{"$f":"IF(LEN(A340)=0,\"\",IF(OR(LEN(B340)=0,LEN(C340)=0,LEN(D340)=0,LEN(E340)=0,LEN(F340)=0,LEN(G340)=0),\"no HVI data\",IF('Base Values'!$B$6+(SUM($N340:$R340)/100)<0,0,'Base Values'!$B$6+(SUM(N340:R340)/100))))","v":""},null,{"$f":"IF(LEN(A340)=0,\"\",IF(LEN(H340)=0,INDEX(Ext!$A$1:$G$5,MATCH(0,Ext!$A$1:$A$5,0),MATCH(H$7,Ext!$A$2:$E$2,0)),IF(AND(H340>=0,H340<3),INDEX(Ext!$A$1:$G$5,MATCH(H340,Ext!$A$1:$A$5,0),MATCH(H$7,Ext!$A$2:$E$2,0)),\"invalid entry\")))","v":""},{"$f":"IF(LEN(B340)=0,\"\",IF(LEN(I340)=0,INDEX(Ext!$A$1:$G$5,MATCH(0,Ext!$A$1:$A$5,0),MATCH(I$7,Ext!$A$2:$E$2,0)),IF(AND(I340>=0,I340<3),INDEX(Ext!$A$1:$G$5,MATCH(I340,Ext!$A$1:$A$5,0),MATCH(I$7,Ext!$A$2:$E$2,0)),\"invalid entry\")))","v":""},{"$f":"IF(LEN(C340)=0,\"\",IF(LEN(J340)=0,INDEX(Ext!$A$1:$G$5,MATCH(0,Ext!$A$1:$A$5,0),MATCH(J$7,Ext!$A$2:$E$2,0)),IF(AND(J340>=0,J340<3),INDEX(Ext!$A$1:$G$5,MATCH(J340,Ext!$A$1:$A$5,0),MATCH(J$7,Ext!$A$2:$E$2,0)),\"invalid entry\")))","v":""}]
[null,null,null,null,null,null,null,null,null,null,null,{"$f":"IF(LEN(A341)=0,\"\",IF(LEN(E341)=0,\"HVI data needed\",INDEX('Staple Lookup'!$C$3:$C$100,MATCH(TRUE,'Staple Lookup'!$B$3:$B$100>=ROUND(E341,2),0))))","v":""},null,{"$f":"IF(OR(LEN(B341)=0,LEN(C341)=0,LEN(D341)=0),\"\",IF(AND(RIGHT(B341,1)*1=1,C341=8),-2000,IF(L341>=38,AB341,IF(L341<=31,AC341,AE341))))","v":""},{"$f":"IF(LEN(A341)=0,\"\",INDEX(Str!$C$1:$C$20,MATCH(ROUND(F341,1),Str!$A$1:$A$20,1)))","v":""},"","",{"$f":"IF(LEN(A341)=0,\"\",INDEX(Uni!$C$1:$C$20,MATCH(ROUND($G341,1),Uni!$A$1:$A$20,1)))","v":""},null,"",{"$f":"IF(LEN(A341)=0,\"\",IF(OR(LEN(B341)=0,LEN(C341)=0,LEN(D341)=0,LEN(E341)=0,LEN(F341)=0,LEN(G341)=0),\"no HVI data\",IF('Base Values'!$B$6+(SUM($N341:$R341)/100)<0,0,'Base Values'!$B$6+(SUM(N341:R341)/100))))","v":""},null,{"$f":"IF(LEN(A341)=0,\"\",IF(LEN(H341)=0,INDEX(Ext!$A$1:$G$5,MATCH(0,Ext!$A$1:$A$5,0),MATCH(H$7,Ext!$A$2:$E$2,0)),IF(AND(H341>=0,H341<3),INDEX(Ext!$A$1:$G$5,MATCH(H341,Ext!$A$1:$A$5,0),MATCH(H$7,Ext!$A$2:$E$2,0)),\"invalid entry\")))","v":""},{"$f":"IF(LEN(B341)=0,\"\",IF(LEN(I341)=0,INDEX(Ext!$A$1:$G$5,MATCH(0,Ext!$A$1:$A$5,0),MATCH(I$7,Ext!$A$2:$E$2,0)),IF(AND(I341>=0,I341<3),INDEX(Ext!$A$1:$G$5,MATCH(I341,Ext!$A$1:$A$5,0),MATCH(I$7,Ext!$A$2:$E$2,0)),\"invalid entry\")))","v":""},{"$f":"IF(LEN(C341)=0,\"\",IF(LEN(J341)=0,INDEX(Ext!$A$1:$G$5,MATCH(0,Ext!$A$1:$A$5,0),MATCH(J$7,Ext!$A$2:$E$2,0)),IF(AND(J341>=0,J341<3),INDEX(Ext!$A$1:$G$5,MATCH(J341,Ext!$A$1:$A$5,0),MATCH(J$7,Ext!$A$2:$E$2,0)),\"invalid entry\")))","v":""}]
[null,null,null,null,null,null,null,null,null,null,null,{"$f":"IF(LEN(A342)=0,\"\",IF(LEN(E342)=0,\"HVI data needed\",INDEX('Staple Lookup'!$C$3:$C$100,MATCH(TRUE,'Staple Lookup'!$B$3:$B$100>=ROUND(E342,2),0))))","v":""},null,{"$f":"IF(OR(LEN(B342)=0,LEN(C342)=0,LEN(D342)=0),\"\",IF(AND(RIGHT(B342,1)*1=1,C342=8),-2000,IF(L342>=38,AB342,IF(L342<=31,AC342,AE342))))","v":""},{"$f":"IF(LEN(A342)=0,\"\",INDEX(Str!$C$1:$C$20,MATCH(ROUND(F342,1),Str!$A$1:$A$20,1)))","v":""},"","",{"$f":"IF(LEN(A342)=0,\"\",INDEX(Uni!$C$1:$C$20,MATCH(ROUND($G342,1),Uni!$A$1:$A$20,1)))","v":""},null,"",{"$f":"IF(LEN(A342)=0,\"\",IF(OR(LEN(B342)=0,LEN(C342)=0,LEN(D342)=0,LEN(E342)=0,LEN(F342)=0,LEN(G342)=0),\"no HVI data\",IF('Base Values'!$B$6+(SUM($N342:$R342)/100)<0,0,'Base Values'!$B$6+(SUM(N342:R342)/100))))","v":""},null,{"$f":"IF(LEN(A342)=0,\"\",IF(LEN(H342)=0,INDEX(Ext!$A$1:$G$5,MATCH(0,Ext!$A$1:$A$5,0),MATCH(H$7,Ext!$A$2:$E$2,0)),IF(AND(H342>=0,H342<3),INDEX(Ext!$A$1:$G$5,MATCH(H342,Ext!$A$1:$A$5,0),MATCH(H$7,Ext!$A$2:$E$2,0)),\"invalid entry\")))","v":""},{"$f":"IF(LEN(B342)=0,\"\",IF(LEN(I342)=0,INDEX(Ext!$A$1:$G$5,MATCH(0,Ext!$A$1:$A$5,0),MATCH(I$7,Ext!$A$2:$E$2,0)),IF(AND(I342>=0,I342<3),INDEX(Ext!$A$1:$G$5,MATCH(I342,Ext!$A$1:$A$5,0),MATCH(I$7,Ext!$A$2:$E$2,0)),\"invalid entry\")))","v":""},{"$f":"IF(LEN(C342)=0,\"\",IF(LEN(J342)=0,INDEX(Ext!$A$1:$G$5,MATCH(0,Ext!$A$1:$A$5,0),MATCH(J$7,Ext!$A$2:$E$2,0)),IF(AND(J342>=0,J342<3),INDEX(Ext!$A$1:$G$5,MATCH(J342,Ext!$A$1:$A$5,0),MATCH(J$7,Ext!$A$2:$E$2,0)),\"invalid entry\")))","v":""}]
[null,null,null,null,null,null,null,null,null,null,null,{"$f":"IF(LEN(A343)=0,\"\",IF(LEN(E343)=0,\"HVI data needed\",INDEX('Staple Lookup'!$C$3:$C$100,MATCH(TRUE,'Staple Lookup'!$B$3:$B$100>=ROUND(E343,2),0))))","v":""},null,{"$f":"IF(OR(LEN(B343)=0,LEN(C343)=0,LEN(D343)=0),\"\",IF(AND(RIGHT(B343,1)*1=1,C343=8),-2000,IF(L343>=38,AB343,IF(L343<=31,AC343,AE343))))","v":""},{"$f":"IF(LEN(A343)=0,\"\",INDEX(Str!$C$1:$C$20,MATCH(ROUND(F343,1),Str!$A$1:$A$20,1)))","v":""},"","",{"$f":"IF(LEN(A343)=0,\"\",INDEX(Uni!$C$1:$C$20,MATCH(ROUND($G343,1),Uni!$A$1:$A$20,1)))","v":""},null,"",{"$f":"IF(LEN(A343)=0,\"\",IF(OR(LEN(B343)=0,LEN(C343)=0,LEN(D343)=0,LEN(E343)=0,LEN(F343)=0,LEN(G343)=0),\"no HVI data\",IF('Base Values'!$B$6+(SUM($N343:$R343)/100)<0,0,'Base Values'!$B$6+(SUM(N343:R343)/100))))","v":""},null,{"$f":"IF(LEN(A343)=0,\"\",IF(LEN(H343)=0,INDEX(Ext!$A$1:$G$5,MATCH(0,Ext!$A$1:$A$5,0),MATCH(H$7,Ext!$A$2:$E$2,0)),IF(AND(H343>=0,H343<3),INDEX(Ext!$A$1:$G$5,MATCH(H343,Ext!$A$1:$A$5,0),MATCH(H$7,Ext!$A$2:$E$2,0)),\"invalid entry\")))","v":""},{"$f":"IF(LEN(B343)=0,\"\",IF(LEN(I343)=0,INDEX(Ext!$A$1:$G$5,MATCH(0,Ext!$A$1:$A$5,0),MATCH(I$7,Ext!$A$2:$E$2,0)),IF(AND(I343>=0,I343<3),INDEX(Ext!$A$1:$G$5,MATCH(I343,Ext!$A$1:$A$5,0),MATCH(I$7,Ext!$A$2:$E$2,0)),\"invalid entry\")))","v":""},{"$f":"IF(LEN(C343)=0,\"\",IF(LEN(J343)=0,INDEX(Ext!$A$1:$G$5,MATCH(0,Ext!$A$1:$A$5,0),MATCH(J$7,Ext!$A$2:$E$2,0)),IF(AND(J343>=0,J343<3),INDEX(Ext!$A$1:$G$5,MATCH(J343,Ext!$A$1:$A$5,0),MATCH(J$7,Ext!$A$2:$E$2,0)),\"invalid entry\")))","v":""}]
[null,null,null,null,null,null,null,null,null,null,null,{"$f":"IF(LEN(A344)=0,\"\",IF(LEN(E344)=0,\"HVI data needed\",INDEX('Staple Lookup'!$C$3:$C$100,MATCH(TRUE,'Staple Lookup'!$B$3:$B$100>=ROUND(E344,2),0))))","v":""},null,{"$f":"IF(OR(LEN(B344)=0,LEN(C344)=0,LEN(D344)=0),\"\",IF(AND(RIGHT(B344,1)*1=1,C344=8),-2000,IF(L344>=38,AB344,IF(L344<=31,AC344,AE344))))","v":""},{"$f":"IF(LEN(A344)=0,\"\",INDEX(Str!$C$1:$C$20,MATCH(ROUND(F344,1),Str!$A$1:$A$20,1)))","v":""},"","",{"$f":"IF(LEN(A344)=0,\"\",INDEX(Uni!$C$1:$C$20,MATCH(ROUND($G344,1),Uni!$A$1:$A$20,1)))","v":""},null,"",{"$f":"IF(LEN(A344)=0,\"\",IF(OR(LEN(B344)=0,LEN(C344)=0,LEN(D344)=0,LEN(E344)=0,LEN(F344)=0,LEN(G344)=0),\"no HVI data\",IF('Base Values'!$B$6+(SUM($N344:$R344)/100)<0,0,'Base Values'!$B$6+(SUM(N344:R344)/100))))","v":""},null,{"$f":"IF(LEN(A344)=0,\"\",IF(LEN(H344)=0,INDEX(Ext!$A$1:$G$5,MATCH(0,Ext!$A$1:$A$5,0),MATCH(H$7,Ext!$A$2:$E$2,0)),IF(AND(H344>=0,H344<3),INDEX(Ext!$A$1:$G$5,MATCH(H344,Ext!$A$1:$A$5,0),MATCH(H$7,Ext!$A$2:$E$2,0)),\"invalid entry\")))","v":""},{"$f":"IF(LEN(B344)=0,\"\",IF(LEN(I344)=0,INDEX(Ext!$A$1:$G$5,MATCH(0,Ext!$A$1:$A$5,0),MATCH(I$7,Ext!$A$2:$E$2,0)),IF(AND(I344>=0,I344<3),INDEX(Ext!$A$1:$G$5,MATCH(I344,Ext!$A$1:$A$5,0),MATCH(I$7,Ext!$A$2:$E$2,0)),\"invalid entry\")))","v":""},{"$f":"IF(LEN(C344)=0,\"\",IF(LEN(J344)=0,INDEX(Ext!$A$1:$G$5,MATCH(0,Ext!$A$1:$A$5,0),MATCH(J$7,Ext!$A$2:$E$2,0)),IF(AND(J344>=0,J344<3),INDEX(Ext!$A$1:$G$5,MATCH(J344,Ext!$A$1:$A$5,0),MATCH(J$7,Ext!$A$2:$E$2,0)),\"invalid entry\")))","v":""}]
[null,null,null,null,null,null,null,null,null,null,null,{"$f":"IF(LEN(A345)=0,\"\",IF(LEN(E345)=0,\"HVI data needed\",INDEX('Staple Lookup'!$C$3:$C$100,MATCH(TRUE,'Staple Lookup'!$B$3:$B$100>=ROUND(E345,2),0))))","v":""},null,{"$f":"IF(OR(LEN(B345)=0,LEN(C345)=0,LEN(D345)=0),\"\",IF(AND(RIGHT(B345,1)*1=1,C345=8),-2000,IF(L345>=38,AB345,IF(L345<=31,AC345,AE345))))","v":""},{"$f":"IF(LEN(A345)=0,\"\",INDEX(Str!$C$1:$C$20,MATCH(ROUND(F345,1),Str!$A$1:$A$20,1)))","v":""},"","",{"$f":"IF(LEN(A345)=0,\"\",INDEX(Uni!$C$1:$C$20,MATCH(ROUND($G345,1),Uni!$A$1:$A$20,1)))","v":""},null,"",{"$f":"IF(LEN(A345)=0,\"\",IF(OR(LEN(B345)=0,LEN(C345)=0,LEN(D345)=0,LEN(E345)=0,LEN(F345)=0,LEN(G345)=0),\"no HVI data\",IF('Base Values'!$B$6+(SUM($N345:$R345)/100)<0,0,'Base Values'!$B$6+(SUM(N345:R345)/100))))","v":""},null,{"$f":"IF(LEN(A345)=0,\"\",IF(LEN(H345)=0,INDEX(Ext!$A$1:$G$5,MATCH(0,Ext!$A$1:$A$5,0),MATCH(H$7,Ext!$A$2:$E$2,0)),IF(AND(H345>=0,H345<3),INDEX(Ext!$A$1:$G$5,MATCH(H345,Ext!$A$1:$A$5,0),MATCH(H$7,Ext!$A$2:$E$2,0)),\"invalid entry\")))","v":""},{"$f":"IF(LEN(B345)=0,\"\",IF(LEN(I345)=0,INDEX(Ext!$A$1:$G$5,MATCH(0,Ext!$A$1:$A$5,0),MATCH(I$7,Ext!$A$2:$E$2,0)),IF(AND(I345>=0,I345<3),INDEX(Ext!$A$1:$G$5,MATCH(I345,Ext!$A$1:$A$5,0),MATCH(I$7,Ext!$A$2:$E$2,0)),\"invalid entry\")))","v":""},{"$f":"IF(LEN(C345)=0,\"\",IF(LEN(J345)=0,INDEX(Ext!$A$1:$G$5,MATCH(0,Ext!$A$1:$A$5,0),MATCH(J$7,Ext!$A$2:$E$2,0)),IF(AND(J345>=0,J345<3),INDEX(Ext!$A$1:$G$5,MATCH(J345,Ext!$A$1:$A$5,0),MATCH(J$7,Ext!$A$2:$E$2,0)),\"invalid entry\")))","v":""}]
[null,null,null,null,null,null,null,null,null,null,null,{"$f":"IF(LEN(A346)=0,\"\",IF(LEN(E346)=0,\"HVI data needed\",INDEX('Staple Lookup'!$C$3:$C$100,MATCH(TRUE,'Staple Lookup'!$B$3:$B$100>=ROUND(E346,2),0))))","v":""},null,{"$f":"IF(OR(LEN(B346)=0,LEN(C346)=0,LEN(D346)=0),\"\",IF(AND(RIGHT(B346,1)*1=1,C346=8),-2000,IF(L346>=38,AB346,IF(L346<=31,AC346,AE346))))","v":""},{"$f":"IF(LEN(A346)=0,\"\",INDEX(Str!$C$1:$C$20,MATCH(ROUND(F346,1),Str!$A$1:$A$20,1)))","v":""},"","",{"$f":"IF(LEN(A346)=0,\"\",INDEX(Uni!$C$1:$C$20,MATCH(ROUND($G346,1),Uni!$A$1:$A$20,1)))","v":""},null,"",{"$f":"IF(LEN(A346)=0,\"\",IF(OR(LEN(B346)=0,LEN(C346)=0,LEN(D346)=0,LEN(E346)=0,LEN(F346)=0,LEN(G346)=0),\"no HVI data\",IF('Base Values'!$B$6+(SUM($N346:$R346)/100)<0,0,'Base Values'!$B$6+(SUM(N346:R346)/100))))","v":""},null,{"$f":"IF(LEN(A346)=0,\"\",IF(LEN(H346)=0,INDEX(Ext!$A$1:$G$5,MATCH(0,Ext!$A$1:$A$5,0),MATCH(H$7,Ext!$A$2:$E$2,0)),IF(AND(H346>=0,H346<3),INDEX(Ext!$A$1:$G$5,MATCH(H346,Ext!$A$1:$A$5,0),MATCH(H$7,Ext!$A$2:$E$2,0)),\"invalid entry\")))","v":""},{"$f":"IF(LEN(B346)=0,\"\",IF(LEN(I346)=0,INDEX(Ext!$A$1:$G$5,MATCH(0,Ext!$A$1:$A$5,0),MATCH(I$7,Ext!$A$2:$E$2,0)),IF(AND(I346>=0,I346<3),INDEX(Ext!$A$1:$G$5,MATCH(I346,Ext!$A$1:$A$5,0),MATCH(I$7,Ext!$A$2:$E$2,0)),\"invalid entry\")))","v":""},{"$f":"IF(LEN(C346)=0,\"\",IF(LEN(J346)=0,INDEX(Ext!$A$1:$G$5,MATCH(0,Ext!$A$1:$A$5,0),MATCH(J$7,Ext!$A$2:$E$2,0)),IF(AND(J346>=0,J346<3),INDEX(Ext!$A$1:$G$5,MATCH(J346,Ext!$A$1:$A$5,0),MATCH(J$7,Ext!$A$2:$E$2,0)),\"invalid entry\")))","v":""}]
[null,null,null,null,null,null,null,null,null,null,null,{"$f":"IF(LEN(A347)=0,\"\",IF(LEN(E347)=0,\"HVI data needed\",INDEX('Staple Lookup'!$C$3:$C$100,MATCH(TRUE,'Staple Lookup'!$B$3:$B$100>=ROUND(E347,2),0))))","v":""},null,{"$f":"IF(OR(LEN(B347)=0,LEN(C347)=0,LEN(D347)=0),\"\",IF(AND(RIGHT(B347,1)*1=1,C347=8),-2000,IF(L347>=38,AB347,IF(L347<=31,AC347,AE347))))","v":""},{"$f":"IF(LEN(A347)=0,\"\",INDEX(Str!$C$1:$C$20,MATCH(ROUND(F347,1),Str!$A$1:$A$20,1)))","v":""},"","",{"$f":"IF(LEN(A347)=0,\"\",INDEX(Uni!$C$1:$C$20,MATCH(ROUND($G347,1),Uni!$A$1:$A$20,1)))","v":""},null,"",{"$f":"IF(LEN(A347)=0,\"\",IF(OR(LEN(B347)=0,LEN(C347)=0,LEN(D347)=0,LEN(E347)=0,LEN(F347)=0,LEN(G347)=0),\"no HVI data\",IF('Base Values'!$B$6+(SUM($N347:$R347)/100)<0,0,'Base Values'!$B$6+(SUM(N347:R347)/100))))","v":""},null,{"$f":"IF(LEN(A347)=0,\"\",IF(LEN(H347)=0,INDEX(Ext!$A$1:$G$5,MATCH(0,Ext!$A$1:$A$5,0),MATCH(H$7,Ext!$A$2:$E$2,0)),IF(AND(H347>=0,H347<3),INDEX(Ext!$A$1:$G$5,MATCH(H347,Ext!$A$1:$A$5,0),MATCH(H$7,Ext!$A$2:$E$2,0)),\"invalid entry\")))","v":""},{"$f":"IF(LEN(B347)=0,\"\",IF(LEN(I347)=0,INDEX(Ext!$A$1:$G$5,MATCH(0,Ext!$A$1:$A$5,0),MATCH(I$7,Ext!$A$2:$E$2,0)),IF(AND(I347>=0,I347<3),INDEX(Ext!$A$1:$G$5,MATCH(I347,Ext!$A$1:$A$5,0),MATCH(I$7,Ext!$A$2:$E$2,0)),\"invalid entry\")))","v":""},{"$f":"IF(LEN(C347)=0,\"\",IF(LEN(J347)=0,INDEX(Ext!$A$1:$G$5,MATCH(0,Ext!$A$1:$A$5,0),MATCH(J$7,Ext!$A$2:$E$2,0)),IF(AND(J347>=0,J347<3),INDEX(Ext!$A$1:$G$5,MATCH(J347,Ext!$A$1:$A$5,0),MATCH(J$7,Ext!$A$2:$E$2,0)),\"invalid entry\")))","v":""}]
[null,null,null,null,null,null,null,null,null,null,null,{"$f":"IF(LEN(A348)=0,\"\",IF(LEN(E348)=0,\"HVI data needed\",INDEX('Staple Lookup'!$C$3:$C$100,MATCH(TRUE,'Staple Lookup'!$B$3:$B$100>=ROUND(E348,2),0))))","v":""},null,{"$f":"IF(OR(LEN(B348)=0,LEN(C348)=0,LEN(D348)=0),\"\",IF(AND(RIGHT(B348,1)*1=1,C348=8),-2000,IF(L348>=38,AB348,IF(L348<=31,AC348,AE348))))","v":""},{"$f":"IF(LEN(A348)=0,\"\",INDEX(Str!$C$1:$C$20,MATCH(ROUND(F348,1),Str!$A$1:$A$20,1)))","v":""},"","",{"$f":"IF(LEN(A348)=0,\"\",INDEX(Uni!$C$1:$C$20,MATCH(ROUND($G348,1),Uni!$A$1:$A$20,1)))","v":""},null,"",{"$f":"IF(LEN(A348)=0,\"\",IF(OR(LEN(B348)=0,LEN(C348)=0,LEN(D348)=0,LEN(E348)=0,LEN(F348)=0,LEN(G348)=0),\"no HVI data\",IF('Base Values'!$B$6+(SUM($N348:$R348)/100)<0,0,'Base Values'!$B$6+(SUM(N348:R348)/100))))","v":""},null,{"$f":"IF(LEN(A348)=0,\"\",IF(LEN(H348)=0,INDEX(Ext!$A$1:$G$5,MATCH(0,Ext!$A$1:$A$5,0),MATCH(H$7,Ext!$A$2:$E$2,0)),IF(AND(H348>=0,H348<3),INDEX(Ext!$A$1:$G$5,MATCH(H348,Ext!$A$1:$A$5,0),MATCH(H$7,Ext!$A$2:$E$2,0)),\"invalid entry\")))","v":""},{"$f":"IF(LEN(B348)=0,\"\",IF(LEN(I348)=0,INDEX(Ext!$A$1:$G$5,MATCH(0,Ext!$A$1:$A$5,0),MATCH(I$7,Ext!$A$2:$E$2,0)),IF(AND(I348>=0,I348<3),INDEX(Ext!$A$1:$G$5,MATCH(I348,Ext!$A$1:$A$5,0),MATCH(I$7,Ext!$A$2:$E$2,0)),\"invalid entry\")))","v":""},{"$f":"IF(LEN(C348)=0,\"\",IF(LEN(J348)=0,INDEX(Ext!$A$1:$G$5,MATCH(0,Ext!$A$1:$A$5,0),MATCH(J$7,Ext!$A$2:$E$2,0)),IF(AND(J348>=0,J348<3),INDEX(Ext!$A$1:$G$5,MATCH(J348,Ext!$A$1:$A$5,0),MATCH(J$7,Ext!$A$2:$E$2,0)),\"invalid entry\")))","v":""}]
[null,null,null,null,null,null,null,null,null,null,null,{"$f":"IF(LEN(A349)=0,\"\",IF(LEN(E349)=0,\"HVI data needed\",INDEX('Staple Lookup'!$C$3:$C$100,MATCH(TRUE,'Staple Lookup'!$B$3:$B$100>=ROUND(E349,2),0))))","v":""},null,{"$f":"IF(OR(LEN(B349)=0,LEN(C349)=0,LEN(D349)=0),\"\",IF(AND(RIGHT(B349,1)*1=1,C349=8),-2000,IF(L349>=38,AB349,IF(L349<=31,AC349,AE349))))","v":""},{"$f":"IF(LEN(A349)=0,\"\",INDEX(Str!$C$1:$C$20,MATCH(ROUND(F349,1),Str!$A$1:$A$20,1)))","v":""},"","",{"$f":"IF(LEN(A349)=0,\"\",INDEX(Uni!$C$1:$C$20,MATCH(ROUND($G349,1),Uni!$A$1:$A$20,1)))","v":""},null,"",{"$f":"IF(LEN(A349)=0,\"\",IF(OR(LEN(B349)=0,LEN(C349)=0,LEN(D349)=0,LEN(E349)=0,LEN(F349)=0,LEN(G349)=0),\"no HVI data\",IF('Base Values'!$B$6+(SUM($N349:$R349)/100)<0,0,'Base Values'!$B$6+(SUM(N349:R349)/100))))","v":""},null,{"$f":"IF(LEN(A349)=0,\"\",IF(LEN(H349)=0,INDEX(Ext!$A$1:$G$5,MATCH(0,Ext!$A$1:$A$5,0),MATCH(H$7,Ext!$A$2:$E$2,0)),IF(AND(H349>=0,H349<3),INDEX(Ext!$A$1:$G$5,MATCH(H349,Ext!$A$1:$A$5,0),MATCH(H$7,Ext!$A$2:$E$2,0)),\"invalid entry\")))","v":""},{"$f":"IF(LEN(B349)=0,\"\",IF(LEN(I349)=0,INDEX(Ext!$A$1:$G$5,MATCH(0,Ext!$A$1:$A$5,0),MATCH(I$7,Ext!$A$2:$E$2,0)),IF(AND(I349>=0,I349<3),INDEX(Ext!$A$1:$G$5,MATCH(I349,Ext!$A$1:$A$5,0),MATCH(I$7,Ext!$A$2:$E$2,0)),\"invalid entry\")))","v":""},{"$f":"IF(LEN(C349)=0,\"\",IF(LEN(J349)=0,INDEX(Ext!$A$1:$G$5,MATCH(0,Ext!$A$1:$A$5,0),MATCH(J$7,Ext!$A$2:$E$2,0)),IF(AND(J349>=0,J349<3),INDEX(Ext!$A$1:$G$5,MATCH(J349,Ext!$A$1:$A$5,0),MATCH(J$7,Ext!$A$2:$E$2,0)),\"invalid entry\")))","v":""}]
[null,null,null,null,null,null,null,null,null,null,null,{"$f":"IF(LEN(A350)=0,\"\",IF(LEN(E350)=0,\"HVI data needed\",INDEX('Staple Lookup'!$C$3:$C$100,MATCH(TRUE,'Staple Lookup'!$B$3:$B$100>=ROUND(E350,2),0))))","v":""},null,{"$f":"IF(OR(LEN(B350)=0,LEN(C350)=0,LEN(D350)=0),\"\",IF(AND(RIGHT(B350,1)*1=1,C350=8),-2000,IF(L350>=38,AB350,IF(L350<=31,AC350,AE350))))","v":""},{"$f":"IF(LEN(A350)=0,\"\",INDEX(Str!$C$1:$C$20,MATCH(ROUND(F350,1),Str!$A$1:$A$20,1)))","v":""},"","",{"$f":"IF(LEN(A350)=0,\"\",INDEX(Uni!$C$1:$C$20,MATCH(ROUND($G350,1),Uni!$A$1:$A$20,1)))","v":""},null,"",{"$f":"IF(LEN(A350)=0,\"\",IF(OR(LEN(B350)=0,LEN(C350)=0,LEN(D350)=0,LEN(E350)=0,LEN(F350)=0,LEN(G350)=0),\"no HVI data\",IF('Base Values'!$B$6+(SUM($N350:$R350)/100)<0,0,'Base Values'!$B$6+(SUM(N350:R350)/100))))","v":""},null,{"$f":"IF(LEN(A350)=0,\"\",IF(LEN(H350)=0,INDEX(Ext!$A$1:$G$5,MATCH(0,Ext!$A$1:$A$5,0),MATCH(H$7,Ext!$A$2:$E$2,0)),IF(AND(H350>=0,H350<3),INDEX(Ext!$A$1:$G$5,MATCH(H350,Ext!$A$1:$A$5,0),MATCH(H$7,Ext!$A$2:$E$2,0)),\"invalid entry\")))","v":""},{"$f":"IF(LEN(B350)=0,\"\",IF(LEN(I350)=0,INDEX(Ext!$A$1:$G$5,MATCH(0,Ext!$A$1:$A$5,0),MATCH(I$7,Ext!$A$2:$E$2,0)),IF(AND(I350>=0,I350<3),INDEX(Ext!$A$1:$G$5,MATCH(I350,Ext!$A$1:$A$5,0),MATCH(I$7,Ext!$A$2:$E$2,0)),\"invalid entry\")))","v":""},{"$f":"IF(LEN(C350)=0,\"\",IF(LEN(J350)=0,INDEX(Ext!$A$1:$G$5,MATCH(0,Ext!$A$1:$A$5,0),MATCH(J$7,Ext!$A$2:$E$2,0)),IF(AND(J350>=0,J350<3),INDEX(Ext!$A$1:$G$5,MATCH(J350,Ext!$A$1:$A$5,0),MATCH(J$7,Ext!$A$2:$E$2,0)),\"invalid entry\")))","v":""}]
[null,null,null,null,null,null,null,null,null,null,null,{"$f":"IF(LEN(A351)=0,\"\",IF(LEN(E351)=0,\"HVI data needed\",INDEX('Staple Lookup'!$C$3:$C$100,MATCH(TRUE,'Staple Lookup'!$B$3:$B$100>=ROUND(E351,2),0))))","v":""},null,{"$f":"IF(OR(LEN(B351)=0,LEN(C351)=0,LEN(D351)=0),\"\",IF(AND(RIGHT(B351,1)*1=1,C351=8),-2000,IF(L351>=38,AB351,IF(L351<=31,AC351,AE351))))","v":""},{"$f":"IF(LEN(A351)=0,\"\",INDEX(Str!$C$1:$C$20,MATCH(ROUND(F351,1),Str!$A$1:$A$20,1)))","v":""},"","",{"$f":"IF(LEN(A351)=0,\"\",INDEX(Uni!$C$1:$C$20,MATCH(ROUND($G351,1),Uni!$A$1:$A$20,1)))","v":""},null,"",{"$f":"IF(LEN(A351)=0,\"\",IF(OR(LEN(B351)=0,LEN(C351)=0,LEN(D351)=0,LEN(E351)=0,LEN(F351)=0,LEN(G351)=0),\"no HVI data\",IF('Base Values'!$B$6+(SUM($N351:$R351)/100)<0,0,'Base Values'!$B$6+(SUM(N351:R351)/100))))","v":""},null,{"$f":"IF(LEN(A351)=0,\"\",IF(LEN(H351)=0,INDEX(Ext!$A$1:$G$5,MATCH(0,Ext!$A$1:$A$5,0),MATCH(H$7,Ext!$A$2:$E$2,0)),IF(AND(H351>=0,H351<3),INDEX(Ext!$A$1:$G$5,MATCH(H351,Ext!$A$1:$A$5,0),MATCH(H$7,Ext!$A$2:$E$2,0)),\"invalid entry\")))","v":""},{"$f":"IF(LEN(B351)=0,\"\",IF(LEN(I351)=0,INDEX(Ext!$A$1:$G$5,MATCH(0,Ext!$A$1:$A$5,0),MATCH(I$7,Ext!$A$2:$E$2,0)),IF(AND(I351>=0,I351<3),INDEX(Ext!$A$1:$G$5,MATCH(I351,Ext!$A$1:$A$5,0),MATCH(I$7,Ext!$A$2:$E$2,0)),\"invalid entry\")))","v":""},{"$f":"IF(LEN(C351)=0,\"\",IF(LEN(J351)=0,INDEX(Ext!$A$1:$G$5,MATCH(0,Ext!$A$1:$A$5,0),MATCH(J$7,Ext!$A$2:$E$2,0)),IF(AND(J351>=0,J351<3),INDEX(Ext!$A$1:$G$5,MATCH(J351,Ext!$A$1:$A$5,0),MATCH(J$7,Ext!$A$2:$E$2,0)),\"invalid entry\")))","v":""}]
[null,null,null,null,null,null,null,null,null,null,null,{"$f":"IF(LEN(A352)=0,\"\",IF(LEN(E352)=0,\"HVI data needed\",INDEX('Staple Lookup'!$C$3:$C$100,MATCH(TRUE,'Staple Lookup'!$B$3:$B$100>=ROUND(E352,2),0))))","v":""},null,{"$f":"IF(OR(LEN(B352)=0,LEN(C352)=0,LEN(D352)=0),\"\",IF(AND(RIGHT(B352,1)*1=1,C352=8),-2000,IF(L352>=38,AB352,IF(L352<=31,AC352,AE352))))","v":""},{"$f":"IF(LEN(A352)=0,\"\",INDEX(Str!$C$1:$C$20,MATCH(ROUND(F352,1),Str!$A$1:$A$20,1)))","v":""},"","",{"$f":"IF(LEN(A352)=0,\"\",INDEX(Uni!$C$1:$C$20,MATCH(ROUND($G352,1),Uni!$A$1:$A$20,1)))","v":""},null,"",{"$f":"IF(LEN(A352)=0,\"\",IF(OR(LEN(B352)=0,LEN(C352)=0,LEN(D352)=0,LEN(E352)=0,LEN(F352)=0,LEN(G352)=0),\"no HVI data\",IF('Base Values'!$B$6+(SUM($N352:$R352)/100)<0,0,'Base Values'!$B$6+(SUM(N352:R352)/100))))","v":""},null,{"$f":"IF(LEN(A352)=0,\"\",IF(LEN(H352)=0,INDEX(Ext!$A$1:$G$5,MATCH(0,Ext!$A$1:$A$5,0),MATCH(H$7,Ext!$A$2:$E$2,0)),IF(AND(H352>=0,H352<3),INDEX(Ext!$A$1:$G$5,MATCH(H352,Ext!$A$1:$A$5,0),MATCH(H$7,Ext!$A$2:$E$2,0)),\"invalid entry\")))","v":""},{"$f":"IF(LEN(B352)=0,\"\",IF(LEN(I352)=0,INDEX(Ext!$A$1:$G$5,MATCH(0,Ext!$A$1:$A$5,0),MATCH(I$7,Ext!$A$2:$E$2,0)),IF(AND(I352>=0,I352<3),INDEX(Ext!$A$1:$G$5,MATCH(I352,Ext!$A$1:$A$5,0),MATCH(I$7,Ext!$A$2:$E$2,0)),\"invalid entry\")))","v":""},{"$f":"IF(LEN(C352)=0,\"\",IF(LEN(J352)=0,INDEX(Ext!$A$1:$G$5,MATCH(0,Ext!$A$1:$A$5,0),MATCH(J$7,Ext!$A$2:$E$2,0)),IF(AND(J352>=0,J352<3),INDEX(Ext!$A$1:$G$5,MATCH(J352,Ext!$A$1:$A$5,0),MATCH(J$7,Ext!$A$2:$E$2,0)),\"invalid entry\")))","v":""}]
[null,null,null,null,null,null,null,null,null,null,null,{"$f":"IF(LEN(A353)=0,\"\",IF(LEN(E353)=0,\"HVI data needed\",INDEX('Staple Lookup'!$C$3:$C$100,MATCH(TRUE,'Staple Lookup'!$B$3:$B$100>=ROUND(E353,2),0))))","v":""},null,{"$f":"IF(OR(LEN(B353)=0,LEN(C353)=0,LEN(D353)=0),\"\",IF(AND(RIGHT(B353,1)*1=1,C353=8),-2000,IF(L353>=38,AB353,IF(L353<=31,AC353,AE353))))","v":""},{"$f":"IF(LEN(A353)=0,\"\",INDEX(Str!$C$1:$C$20,MATCH(ROUND(F353,1),Str!$A$1:$A$20,1)))","v":""},"","",{"$f":"IF(LEN(A353)=0,\"\",INDEX(Uni!$C$1:$C$20,MATCH(ROUND($G353,1),Uni!$A$1:$A$20,1)))","v":""},null,"",{"$f":"IF(LEN(A353)=0,\"\",IF(OR(LEN(B353)=0,LEN(C353)=0,LEN(D353)=0,LEN(E353)=0,LEN(F353)=0,LEN(G353)=0),\"no HVI data\",IF('Base Values'!$B$6+(SUM($N353:$R353)/100)<0,0,'Base Values'!$B$6+(SUM(N353:R353)/100))))","v":""},null,{"$f":"IF(LEN(A353)=0,\"\",IF(LEN(H353)=0,INDEX(Ext!$A$1:$G$5,MATCH(0,Ext!$A$1:$A$5,0),MATCH(H$7,Ext!$A$2:$E$2,0)),IF(AND(H353>=0,H353<3),INDEX(Ext!$A$1:$G$5,MATCH(H353,Ext!$A$1:$A$5,0),MATCH(H$7,Ext!$A$2:$E$2,0)),\"invalid entry\")))","v":""},{"$f":"IF(LEN(B353)=0,\"\",IF(LEN(I353)=0,INDEX(Ext!$A$1:$G$5,MATCH(0,Ext!$A$1:$A$5,0),MATCH(I$7,Ext!$A$2:$E$2,0)),IF(AND(I353>=0,I353<3),INDEX(Ext!$A$1:$G$5,MATCH(I353,Ext!$A$1:$A$5,0),MATCH(I$7,Ext!$A$2:$E$2,0)),\"invalid entry\")))","v":""},{"$f":"IF(LEN(C353)=0,\"\",IF(LEN(J353)=0,INDEX(Ext!$A$1:$G$5,MATCH(0,Ext!$A$1:$A$5,0),MATCH(J$7,Ext!$A$2:$E$2,0)),IF(AND(J353>=0,J353<3),INDEX(Ext!$A$1:$G$5,MATCH(J353,Ext!$A$1:$A$5,0),MATCH(J$7,Ext!$A$2:$E$2,0)),\"invalid entry\")))","v":""}]
[null,null,null,null,null,null,null,null,null,null,null,{"$f":"IF(LEN(A354)=0,\"\",IF(LEN(E354)=0,\"HVI data needed\",INDEX('Staple Lookup'!$C$3:$C$100,MATCH(TRUE,'Staple Lookup'!$B$3:$B$100>=ROUND(E354,2),0))))","v":""},null,{"$f":"IF(OR(LEN(B354)=0,LEN(C354)=0,LEN(D354)=0),\"\",IF(AND(RIGHT(B354,1)*1=1,C354=8),-2000,IF(L354>=38,AB354,IF(L354<=31,AC354,AE354))))","v":""},{"$f":"IF(LEN(A354)=0,\"\",INDEX(Str!$C$1:$C$20,MATCH(ROUND(F354,1),Str!$A$1:$A$20,1)))","v":""},"","",{"$f":"IF(LEN(A354)=0,\"\",INDEX(Uni!$C$1:$C$20,MATCH(ROUND($G354,1),Uni!$A$1:$A$20,1)))","v":""},null,"",{"$f":"IF(LEN(A354)=0,\"\",IF(OR(LEN(B354)=0,LEN(C354)=0,LEN(D354)=0,LEN(E354)=0,LEN(F354)=0,LEN(G354)=0),\"no HVI data\",IF('Base Values'!$B$6+(SUM($N354:$R354)/100)<0,0,'Base Values'!$B$6+(SUM(N354:R354)/100))))","v":""},null,{"$f":"IF(LEN(A354)=0,\"\",IF(LEN(H354)=0,INDEX(Ext!$A$1:$G$5,MATCH(0,Ext!$A$1:$A$5,0),MATCH(H$7,Ext!$A$2:$E$2,0)),IF(AND(H354>=0,H354<3),INDEX(Ext!$A$1:$G$5,MATCH(H354,Ext!$A$1:$A$5,0),MATCH(H$7,Ext!$A$2:$E$2,0)),\"invalid entry\")))","v":""},{"$f":"IF(LEN(B354)=0,\"\",IF(LEN(I354)=0,INDEX(Ext!$A$1:$G$5,MATCH(0,Ext!$A$1:$A$5,0),MATCH(I$7,Ext!$A$2:$E$2,0)),IF(AND(I354>=0,I354<3),INDEX(Ext!$A$1:$G$5,MATCH(I354,Ext!$A$1:$A$5,0),MATCH(I$7,Ext!$A$2:$E$2,0)),\"invalid entry\")))","v":""},{"$f":"IF(LEN(C354)=0,\"\",IF(LEN(J354)=0,INDEX(Ext!$A$1:$G$5,MATCH(0,Ext!$A$1:$A$5,0),MATCH(J$7,Ext!$A$2:$E$2,0)),IF(AND(J354>=0,J354<3),INDEX(Ext!$A$1:$G$5,MATCH(J354,Ext!$A$1:$A$5,0),MATCH(J$7,Ext!$A$2:$E$2,0)),\"invalid entry\")))","v":""}]
[null,null,null,null,null,null,null,null,null,null,null,{"$f":"IF(LEN(A355)=0,\"\",IF(LEN(E355)=0,\"HVI data needed\",INDEX('Staple Lookup'!$C$3:$C$100,MATCH(TRUE,'Staple Lookup'!$B$3:$B$100>=ROUND(E355,2),0))))","v":""},null,{"$f":"IF(OR(LEN(B355)=0,LEN(C355)=0,LEN(D355)=0),\"\",IF(AND(RIGHT(B355,1)*1=1,C355=8),-2000,IF(L355>=38,AB355,IF(L355<=31,AC355,AE355))))","v":""},{"$f":"IF(LEN(A355)=0,\"\",INDEX(Str!$C$1:$C$20,MATCH(ROUND(F355,1),Str!$A$1:$A$20,1)))","v":""},"","",{"$f":"IF(LEN(A355)=0,\"\",INDEX(Uni!$C$1:$C$20,MATCH(ROUND($G355,1),Uni!$A$1:$A$20,1)))","v":""},null,"",{"$f":"IF(LEN(A355)=0,\"\",IF(OR(LEN(B355)=0,LEN(C355)=0,LEN(D355)=0,LEN(E355)=0,LEN(F355)=0,LEN(G355)=0),\"no HVI data\",IF('Base Values'!$B$6+(SUM($N355:$R355)/100)<0,0,'Base Values'!$B$6+(SUM(N355:R355)/100))))","v":""},null,{"$f":"IF(LEN(A355)=0,\"\",IF(LEN(H355)=0,INDEX(Ext!$A$1:$G$5,MATCH(0,Ext!$A$1:$A$5,0),MATCH(H$7,Ext!$A$2:$E$2,0)),IF(AND(H355>=0,H355<3),INDEX(Ext!$A$1:$G$5,MATCH(H355,Ext!$A$1:$A$5,0),MATCH(H$7,Ext!$A$2:$E$2,0)),\"invalid entry\")))","v":""},{"$f":"IF(LEN(B355)=0,\"\",IF(LEN(I355)=0,INDEX(Ext!$A$1:$G$5,MATCH(0,Ext!$A$1:$A$5,0),MATCH(I$7,Ext!$A$2:$E$2,0)),IF(AND(I355>=0,I355<3),INDEX(Ext!$A$1:$G$5,MATCH(I355,Ext!$A$1:$A$5,0),MATCH(I$7,Ext!$A$2:$E$2,0)),\"invalid entry\")))","v":""},{"$f":"IF(LEN(C355)=0,\"\",IF(LEN(J355)=0,INDEX(Ext!$A$1:$G$5,MATCH(0,Ext!$A$1:$A$5,0),MATCH(J$7,Ext!$A$2:$E$2,0)),IF(AND(J355>=0,J355<3),INDEX(Ext!$A$1:$G$5,MATCH(J355,Ext!$A$1:$A$5,0),MATCH(J$7,Ext!$A$2:$E$2,0)),\"invalid entry\")))","v":""}]
[null,null,null,null,null,null,null,null,null,null,null,{"$f":"IF(LEN(A356)=0,\"\",IF(LEN(E356)=0,\"HVI data needed\",INDEX('Staple Lookup'!$C$3:$C$100,MATCH(TRUE,'Staple Lookup'!$B$3:$B$100>=ROUND(E356,2),0))))","v":""},null,{"$f":"IF(OR(LEN(B356)=0,LEN(C356)=0,LEN(D356)=0),\"\",IF(AND(RIGHT(B356,1)*1=1,C356=8),-2000,IF(L356>=38,AB356,IF(L356<=31,AC356,AE356))))","v":""},{"$f":"IF(LEN(A356)=0,\"\",INDEX(Str!$C$1:$C$20,MATCH(ROUND(F356,1),Str!$A$1:$A$20,1)))","v":""},"","",{"$f":"IF(LEN(A356)=0,\"\",INDEX(Uni!$C$1:$C$20,MATCH(ROUND($G356,1),Uni!$A$1:$A$20,1)))","v":""},null,"",{"$f":"IF(LEN(A356)=0,\"\",IF(OR(LEN(B356)=0,LEN(C356)=0,LEN(D356)=0,LEN(E356)=0,LEN(F356)=0,LEN(G356)=0),\"no HVI data\",IF('Base Values'!$B$6+(SUM($N356:$R356)/100)<0,0,'Base Values'!$B$6+(SUM(N356:R356)/100))))","v":""},null,{"$f":"IF(LEN(A356)=0,\"\",IF(LEN(H356)=0,INDEX(Ext!$A$1:$G$5,MATCH(0,Ext!$A$1:$A$5,0),MATCH(H$7,Ext!$A$2:$E$2,0)),IF(AND(H356>=0,H356<3),INDEX(Ext!$A$1:$G$5,MATCH(H356,Ext!$A$1:$A$5,0),MATCH(H$7,Ext!$A$2:$E$2,0)),\"invalid entry\")))","v":""},{"$f":"IF(LEN(B356)=0,\"\",IF(LEN(I356)=0,INDEX(Ext!$A$1:$G$5,MATCH(0,Ext!$A$1:$A$5,0),MATCH(I$7,Ext!$A$2:$E$2,0)),IF(AND(I356>=0,I356<3),INDEX(Ext!$A$1:$G$5,MATCH(I356,Ext!$A$1:$A$5,0),MATCH(I$7,Ext!$A$2:$E$2,0)),\"invalid entry\")))","v":""},{"$f":"IF(LEN(C356)=0,\"\",IF(LEN(J356)=0,INDEX(Ext!$A$1:$G$5,MATCH(0,Ext!$A$1:$A$5,0),MATCH(J$7,Ext!$A$2:$E$2,0)),IF(AND(J356>=0,J356<3),INDEX(Ext!$A$1:$G$5,MATCH(J356,Ext!$A$1:$A$5,0),MATCH(J$7,Ext!$A$2:$E$2,0)),\"invalid entry\")))","v":""}]
[null,null,null,null,null,null,null,null,null,null,null,{"$f":"IF(LEN(A357)=0,\"\",IF(LEN(E357)=0,\"HVI data needed\",INDEX('Staple Lookup'!$C$3:$C$100,MATCH(TRUE,'Staple Lookup'!$B$3:$B$100>=ROUND(E357,2),0))))","v":""},null,{"$f":"IF(OR(LEN(B357)=0,LEN(C357)=0,LEN(D357)=0),\"\",IF(AND(RIGHT(B357,1)*1=1,C357=8),-2000,IF(L357>=38,AB357,IF(L357<=31,AC357,AE357))))","v":""},{"$f":"IF(LEN(A357)=0,\"\",INDEX(Str!$C$1:$C$20,MATCH(ROUND(F357,1),Str!$A$1:$A$20,1)))","v":""},"","",{"$f":"IF(LEN(A357)=0,\"\",INDEX(Uni!$C$1:$C$20,MATCH(ROUND($G357,1),Uni!$A$1:$A$20,1)))","v":""},null,"",{"$f":"IF(LEN(A357)=0,\"\",IF(OR(LEN(B357)=0,LEN(C357)=0,LEN(D357)=0,LEN(E357)=0,LEN(F357)=0,LEN(G357)=0),\"no HVI data\",IF('Base Values'!$B$6+(SUM($N357:$R357)/100)<0,0,'Base Values'!$B$6+(SUM(N357:R357)/100))))","v":""},null,{"$f":"IF(LEN(A357)=0,\"\",IF(LEN(H357)=0,INDEX(Ext!$A$1:$G$5,MATCH(0,Ext!$A$1:$A$5,0),MATCH(H$7,Ext!$A$2:$E$2,0)),IF(AND(H357>=0,H357<3),INDEX(Ext!$A$1:$G$5,MATCH(H357,Ext!$A$1:$A$5,0),MATCH(H$7,Ext!$A$2:$E$2,0)),\"invalid entry\")))","v":""},{"$f":"IF(LEN(B357)=0,\"\",IF(LEN(I357)=0,INDEX(Ext!$A$1:$G$5,MATCH(0,Ext!$A$1:$A$5,0),MATCH(I$7,Ext!$A$2:$E$2,0)),IF(AND(I357>=0,I357<3),INDEX(Ext!$A$1:$G$5,MATCH(I357,Ext!$A$1:$A$5,0),MATCH(I$7,Ext!$A$2:$E$2,0)),\"invalid entry\")))","v":""},{"$f":"IF(LEN(C357)=0,\"\",IF(LEN(J357)=0,INDEX(Ext!$A$1:$G$5,MATCH(0,Ext!$A$1:$A$5,0),MATCH(J$7,Ext!$A$2:$E$2,0)),IF(AND(J357>=0,J357<3),INDEX(Ext!$A$1:$G$5,MATCH(J357,Ext!$A$1:$A$5,0),MATCH(J$7,Ext!$A$2:$E$2,0)),\"invalid entry\")))","v":""}]
[null,null,null,null,null,null,null,null,null,null,null,{"$f":"IF(LEN(A358)=0,\"\",IF(LEN(E358)=0,\"HVI data needed\",INDEX('Staple Lookup'!$C$3:$C$100,MATCH(TRUE,'Staple Lookup'!$B$3:$B$100>=ROUND(E358,2),0))))","v":""},null,{"$f":"IF(OR(LEN(B358)=0,LEN(C358)=0,LEN(D358)=0),\"\",IF(AND(RIGHT(B358,1)*1=1,C358=8),-2000,IF(L358>=38,AB358,IF(L358<=31,AC358,AE358))))","v":""},{"$f":"IF(LEN(A358)=0,\"\",INDEX(Str!$C$1:$C$20,MATCH(ROUND(F358,1),Str!$A$1:$A$20,1)))","v":""},"","",{"$f":"IF(LEN(A358)=0,\"\",INDEX(Uni!$C$1:$C$20,MATCH(ROUND($G358,1),Uni!$A$1:$A$20,1)))","v":""},null,"",{"$f":"IF(LEN(A358)=0,\"\",IF(OR(LEN(B358)=0,LEN(C358)=0,LEN(D358)=0,LEN(E358)=0,LEN(F358)=0,LEN(G358)=0),\"no HVI data\",IF('Base Values'!$B$6+(SUM($N358:$R358)/100)<0,0,'Base Values'!$B$6+(SUM(N358:R358)/100))))","v":""},null,{"$f":"IF(LEN(A358)=0,\"\",IF(LEN(H358)=0,INDEX(Ext!$A$1:$G$5,MATCH(0,Ext!$A$1:$A$5,0),MATCH(H$7,Ext!$A$2:$E$2,0)),IF(AND(H358>=0,H358<3),INDEX(Ext!$A$1:$G$5,MATCH(H358,Ext!$A$1:$A$5,0),MATCH(H$7,Ext!$A$2:$E$2,0)),\"invalid entry\")))","v":""},{"$f":"IF(LEN(B358)=0,\"\",IF(LEN(I358)=0,INDEX(Ext!$A$1:$G$5,MATCH(0,Ext!$A$1:$A$5,0),MATCH(I$7,Ext!$A$2:$E$2,0)),IF(AND(I358>=0,I358<3),INDEX(Ext!$A$1:$G$5,MATCH(I358,Ext!$A$1:$A$5,0),MATCH(I$7,Ext!$A$2:$E$2,0)),\"invalid entry\")))","v":""},{"$f":"IF(LEN(C358)=0,\"\",IF(LEN(J358)=0,INDEX(Ext!$A$1:$G$5,MATCH(0,Ext!$A$1:$A$5,0),MATCH(J$7,Ext!$A$2:$E$2,0)),IF(AND(J358>=0,J358<3),INDEX(Ext!$A$1:$G$5,MATCH(J358,Ext!$A$1:$A$5,0),MATCH(J$7,Ext!$A$2:$E$2,0)),\"invalid entry\")))","v":""}]
[null,null,null,null,null,null,null,null,null,null,null,{"$f":"IF(LEN(A359)=0,\"\",IF(LEN(E359)=0,\"HVI data needed\",INDEX('Staple Lookup'!$C$3:$C$100,MATCH(TRUE,'Staple Lookup'!$B$3:$B$100>=ROUND(E359,2),0))))","v":""},null,{"$f":"IF(OR(LEN(B359)=0,LEN(C359)=0,LEN(D359)=0),\"\",IF(AND(RIGHT(B359,1)*1=1,C359=8),-2000,IF(L359>=38,AB359,IF(L359<=31,AC359,AE359))))","v":""},{"$f":"IF(LEN(A359)=0,\"\",INDEX(Str!$C$1:$C$20,MATCH(ROUND(F359,1),Str!$A$1:$A$20,1)))","v":""},"","",{"$f":"IF(LEN(A359)=0,\"\",INDEX(Uni!$C$1:$C$20,MATCH(ROUND($G359,1),Uni!$A$1:$A$20,1)))","v":""},null,"",{"$f":"IF(LEN(A359)=0,\"\",IF(OR(LEN(B359)=0,LEN(C359)=0,LEN(D359)=0,LEN(E359)=0,LEN(F359)=0,LEN(G359)=0),\"no HVI data\",IF('Base Values'!$B$6+(SUM($N359:$R359)/100)<0,0,'Base Values'!$B$6+(SUM(N359:R359)/100))))","v":""},null,{"$f":"IF(LEN(A359)=0,\"\",IF(LEN(H359)=0,INDEX(Ext!$A$1:$G$5,MATCH(0,Ext!$A$1:$A$5,0),MATCH(H$7,Ext!$A$2:$E$2,0)),IF(AND(H359>=0,H359<3),INDEX(Ext!$A$1:$G$5,MATCH(H359,Ext!$A$1:$A$5,0),MATCH(H$7,Ext!$A$2:$E$2,0)),\"invalid entry\")))","v":""},{"$f":"IF(LEN(B359)=0,\"\",IF(LEN(I359)=0,INDEX(Ext!$A$1:$G$5,MATCH(0,Ext!$A$1:$A$5,0),MATCH(I$7,Ext!$A$2:$E$2,0)),IF(AND(I359>=0,I359<3),INDEX(Ext!$A$1:$G$5,MATCH(I359,Ext!$A$1:$A$5,0),MATCH(I$7,Ext!$A$2:$E$2,0)),\"invalid entry\")))","v":""},{"$f":"IF(LEN(C359)=0,\"\",IF(LEN(J359)=0,INDEX(Ext!$A$1:$G$5,MATCH(0,Ext!$A$1:$A$5,0),MATCH(J$7,Ext!$A$2:$E$2,0)),IF(AND(J359>=0,J359<3),INDEX(Ext!$A$1:$G$5,MATCH(J359,Ext!$A$1:$A$5,0),MATCH(J$7,Ext!$A$2:$E$2,0)),\"invalid entry\")))","v":""}]
[null,null,null,null,null,null,null,null,null,null,null,{"$f":"IF(LEN(A360)=0,\"\",IF(LEN(E360)=0,\"HVI data needed\",INDEX('Staple Lookup'!$C$3:$C$100,MATCH(TRUE,'Staple Lookup'!$B$3:$B$100>=ROUND(E360,2),0))))","v":""},null,{"$f":"IF(OR(LEN(B360)=0,LEN(C360)=0,LEN(D360)=0),\"\",IF(AND(RIGHT(B360,1)*1=1,C360=8),-2000,IF(L360>=38,AB360,IF(L360<=31,AC360,AE360))))","v":""},{"$f":"IF(LEN(A360)=0,\"\",INDEX(Str!$C$1:$C$20,MATCH(ROUND(F360,1),Str!$A$1:$A$20,1)))","v":""},"","",{"$f":"IF(LEN(A360)=0,\"\",INDEX(Uni!$C$1:$C$20,MATCH(ROUND($G360,1),Uni!$A$1:$A$20,1)))","v":""},null,"",{"$f":"IF(LEN(A360)=0,\"\",IF(OR(LEN(B360)=0,LEN(C360)=0,LEN(D360)=0,LEN(E360)=0,LEN(F360)=0,LEN(G360)=0),\"no HVI data\",IF('Base Values'!$B$6+(SUM($N360:$R360)/100)<0,0,'Base Values'!$B$6+(SUM(N360:R360)/100))))","v":""},null,{"$f":"IF(LEN(A360)=0,\"\",IF(LEN(H360)=0,INDEX(Ext!$A$1:$G$5,MATCH(0,Ext!$A$1:$A$5,0),MATCH(H$7,Ext!$A$2:$E$2,0)),IF(AND(H360>=0,H360<3),INDEX(Ext!$A$1:$G$5,MATCH(H360,Ext!$A$1:$A$5,0),MATCH(H$7,Ext!$A$2:$E$2,0)),\"invalid entry\")))","v":""},{"$f":"IF(LEN(B360)=0,\"\",IF(LEN(I360)=0,INDEX(Ext!$A$1:$G$5,MATCH(0,Ext!$A$1:$A$5,0),MATCH(I$7,Ext!$A$2:$E$2,0)),IF(AND(I360>=0,I360<3),INDEX(Ext!$A$1:$G$5,MATCH(I360,Ext!$A$1:$A$5,0),MATCH(I$7,Ext!$A$2:$E$2,0)),\"invalid entry\")))","v":""},{"$f":"IF(LEN(C360)=0,\"\",IF(LEN(J360)=0,INDEX(Ext!$A$1:$G$5,MATCH(0,Ext!$A$1:$A$5,0),MATCH(J$7,Ext!$A$2:$E$2,0)),IF(AND(J360>=0,J360<3),INDEX(Ext!$A$1:$G$5,MATCH(J360,Ext!$A$1:$A$5,0),MATCH(J$7,Ext!$A$2:$E$2,0)),\"invalid entry\")))","v":""}]
[null,null,null,null,null,null,null,null,null,null,null,{"$f":"IF(LEN(A361)=0,\"\",IF(LEN(E361)=0,\"HVI data needed\",INDEX('Staple Lookup'!$C$3:$C$100,MATCH(TRUE,'Staple Lookup'!$B$3:$B$100>=ROUND(E361,2),0))))","v":""},null,{"$f":"IF(OR(LEN(B361)=0,LEN(C361)=0,LEN(D361)=0),\"\",IF(AND(RIGHT(B361,1)*1=1,C361=8),-2000,IF(L361>=38,AB361,IF(L361<=31,AC361,AE361))))","v":""},{"$f":"IF(LEN(A361)=0,\"\",INDEX(Str!$C$1:$C$20,MATCH(ROUND(F361,1),Str!$A$1:$A$20,1)))","v":""},"","",{"$f":"IF(LEN(A361)=0,\"\",INDEX(Uni!$C$1:$C$20,MATCH(ROUND($G361,1),Uni!$A$1:$A$20,1)))","v":""},null,"",{"$f":"IF(LEN(A361)=0,\"\",IF(OR(LEN(B361)=0,LEN(C361)=0,LEN(D361)=0,LEN(E361)=0,LEN(F361)=0,LEN(G361)=0),\"no HVI data\",IF('Base Values'!$B$6+(SUM($N361:$R361)/100)<0,0,'Base Values'!$B$6+(SUM(N361:R361)/100))))","v":""},null,{"$f":"IF(LEN(A361)=0,\"\",IF(LEN(H361)=0,INDEX(Ext!$A$1:$G$5,MATCH(0,Ext!$A$1:$A$5,0),MATCH(H$7,Ext!$A$2:$E$2,0)),IF(AND(H361>=0,H361<3),INDEX(Ext!$A$1:$G$5,MATCH(H361,Ext!$A$1:$A$5,0),MATCH(H$7,Ext!$A$2:$E$2,0)),\"invalid entry\")))","v":""},{"$f":"IF(LEN(B361)=0,\"\",IF(LEN(I361)=0,INDEX(Ext!$A$1:$G$5,MATCH(0,Ext!$A$1:$A$5,0),MATCH(I$7,Ext!$A$2:$E$2,0)),IF(AND(I361>=0,I361<3),INDEX(Ext!$A$1:$G$5,MATCH(I361,Ext!$A$1:$A$5,0),MATCH(I$7,Ext!$A$2:$E$2,0)),\"invalid entry\")))","v":""},{"$f":"IF(LEN(C361)=0,\"\",IF(LEN(J361)=0,INDEX(Ext!$A$1:$G$5,MATCH(0,Ext!$A$1:$A$5,0),MATCH(J$7,Ext!$A$2:$E$2,0)),IF(AND(J361>=0,J361<3),INDEX(Ext!$A$1:$G$5,MATCH(J361,Ext!$A$1:$A$5,0),MATCH(J$7,Ext!$A$2:$E$2,0)),\"invalid entry\")))","v":""}]
[null,null,null,null,null,null,null,null,null,null,null,{"$f":"IF(LEN(A362)=0,\"\",IF(LEN(E362)=0,\"HVI data needed\",INDEX('Staple Lookup'!$C$3:$C$100,MATCH(TRUE,'Staple Lookup'!$B$3:$B$100>=ROUND(E362,2),0))))","v":""},null,{"$f":"IF(OR(LEN(B362)=0,LEN(C362)=0,LEN(D362)=0),\"\",IF(AND(RIGHT(B362,1)*1=1,C362=8),-2000,IF(L362>=38,AB362,IF(L362<=31,AC362,AE362))))","v":""},{"$f":"IF(LEN(A362)=0,\"\",INDEX(Str!$C$1:$C$20,MATCH(ROUND(F362,1),Str!$A$1:$A$20,1)))","v":""},"","",{"$f":"IF(LEN(A362)=0,\"\",INDEX(Uni!$C$1:$C$20,MATCH(ROUND($G362,1),Uni!$A$1:$A$20,1)))","v":""},null,"",{"$f":"IF(LEN(A362)=0,\"\",IF(OR(LEN(B362)=0,LEN(C362)=0,LEN(D362)=0,LEN(E362)=0,LEN(F362)=0,LEN(G362)=0),\"no HVI data\",IF('Base Values'!$B$6+(SUM($N362:$R362)/100)<0,0,'Base Values'!$B$6+(SUM(N362:R362)/100))))","v":""},null,{"$f":"IF(LEN(A362)=0,\"\",IF(LEN(H362)=0,INDEX(Ext!$A$1:$G$5,MATCH(0,Ext!$A$1:$A$5,0),MATCH(H$7,Ext!$A$2:$E$2,0)),IF(AND(H362>=0,H362<3),INDEX(Ext!$A$1:$G$5,MATCH(H362,Ext!$A$1:$A$5,0),MATCH(H$7,Ext!$A$2:$E$2,0)),\"invalid entry\")))","v":""},{"$f":"IF(LEN(B362)=0,\"\",IF(LEN(I362)=0,INDEX(Ext!$A$1:$G$5,MATCH(0,Ext!$A$1:$A$5,0),MATCH(I$7,Ext!$A$2:$E$2,0)),IF(AND(I362>=0,I362<3),INDEX(Ext!$A$1:$G$5,MATCH(I362,Ext!$A$1:$A$5,0),MATCH(I$7,Ext!$A$2:$E$2,0)),\"invalid entry\")))","v":""},{"$f":"IF(LEN(C362)=0,\"\",IF(LEN(J362)=0,INDEX(Ext!$A$1:$G$5,MATCH(0,Ext!$A$1:$A$5,0),MATCH(J$7,Ext!$A$2:$E$2,0)),IF(AND(J362>=0,J362<3),INDEX(Ext!$A$1:$G$5,MATCH(J362,Ext!$A$1:$A$5,0),MATCH(J$7,Ext!$A$2:$E$2,0)),\"invalid entry\")))","v":""}]
[null,null,null,null,null,null,null,null,null,null,null,{"$f":"IF(LEN(A363)=0,\"\",IF(LEN(E363)=0,\"HVI data needed\",INDEX('Staple Lookup'!$C$3:$C$100,MATCH(TRUE,'Staple Lookup'!$B$3:$B$100>=ROUND(E363,2),0))))","v":""},null,{"$f":"IF(OR(LEN(B363)=0,LEN(C363)=0,LEN(D363)=0),\"\",IF(AND(RIGHT(B363,1)*1=1,C363=8),-2000,IF(L363>=38,AB363,IF(L363<=31,AC363,AE363))))","v":""},{"$f":"IF(LEN(A363)=0,\"\",INDEX(Str!$C$1:$C$20,MATCH(ROUND(F363,1),Str!$A$1:$A$20,1)))","v":""},"","",{"$f":"IF(LEN(A363)=0,\"\",INDEX(Uni!$C$1:$C$20,MATCH(ROUND($G363,1),Uni!$A$1:$A$20,1)))","v":""},null,"",{"$f":"IF(LEN(A363)=0,\"\",IF(OR(LEN(B363)=0,LEN(C363)=0,LEN(D363)=0,LEN(E363)=0,LEN(F363)=0,LEN(G363)=0),\"no HVI data\",IF('Base Values'!$B$6+(SUM($N363:$R363)/100)<0,0,'Base Values'!$B$6+(SUM(N363:R363)/100))))","v":""},null,{"$f":"IF(LEN(A363)=0,\"\",IF(LEN(H363)=0,INDEX(Ext!$A$1:$G$5,MATCH(0,Ext!$A$1:$A$5,0),MATCH(H$7,Ext!$A$2:$E$2,0)),IF(AND(H363>=0,H363<3),INDEX(Ext!$A$1:$G$5,MATCH(H363,Ext!$A$1:$A$5,0),MATCH(H$7,Ext!$A$2:$E$2,0)),\"invalid entry\")))","v":""},{"$f":"IF(LEN(B363)=0,\"\",IF(LEN(I363)=0,INDEX(Ext!$A$1:$G$5,MATCH(0,Ext!$A$1:$A$5,0),MATCH(I$7,Ext!$A$2:$E$2,0)),IF(AND(I363>=0,I363<3),INDEX(Ext!$A$1:$G$5,MATCH(I363,Ext!$A$1:$A$5,0),MATCH(I$7,Ext!$A$2:$E$2,0)),\"invalid entry\")))","v":""},{"$f":"IF(LEN(C363)=0,\"\",IF(LEN(J363)=0,INDEX(Ext!$A$1:$G$5,MATCH(0,Ext!$A$1:$A$5,0),MATCH(J$7,Ext!$A$2:$E$2,0)),IF(AND(J363>=0,J363<3),INDEX(Ext!$A$1:$G$5,MATCH(J363,Ext!$A$1:$A$5,0),MATCH(J$7,Ext!$A$2:$E$2,0)),\"invalid entry\")))","v":""}]
[null,null,null,null,null,null,null,null,null,null,null,{"$f":"IF(LEN(A364)=0,\"\",IF(LEN(E364)=0,\"HVI data needed\",INDEX('Staple Lookup'!$C$3:$C$100,MATCH(TRUE,'Staple Lookup'!$B$3:$B$100>=ROUND(E364,2),0))))","v":""},null,{"$f":"IF(OR(LEN(B364)=0,LEN(C364)=0,LEN(D364)=0),\"\",IF(AND(RIGHT(B364,1)*1=1,C364=8),-2000,IF(L364>=38,AB364,IF(L364<=31,AC364,AE364))))","v":""},{"$f":"IF(LEN(A364)=0,\"\",INDEX(Str!$C$1:$C$20,MATCH(ROUND(F364,1),Str!$A$1:$A$20,1)))","v":""},"","",{"$f":"IF(LEN(A364)=0,\"\",INDEX(Uni!$C$1:$C$20,MATCH(ROUND($G364,1),Uni!$A$1:$A$20,1)))","v":""},null,"",{"$f":"IF(LEN(A364)=0,\"\",IF(OR(LEN(B364)=0,LEN(C364)=0,LEN(D364)=0,LEN(E364)=0,LEN(F364)=0,LEN(G364)=0),\"no HVI data\",IF('Base Values'!$B$6+(SUM($N364:$R364)/100)<0,0,'Base Values'!$B$6+(SUM(N364:R364)/100))))","v":""},null,{"$f":"IF(LEN(A364)=0,\"\",IF(LEN(H364)=0,INDEX(Ext!$A$1:$G$5,MATCH(0,Ext!$A$1:$A$5,0),MATCH(H$7,Ext!$A$2:$E$2,0)),IF(AND(H364>=0,H364<3),INDEX(Ext!$A$1:$G$5,MATCH(H364,Ext!$A$1:$A$5,0),MATCH(H$7,Ext!$A$2:$E$2,0)),\"invalid entry\")))","v":""},{"$f":"IF(LEN(B364)=0,\"\",IF(LEN(I364)=0,INDEX(Ext!$A$1:$G$5,MATCH(0,Ext!$A$1:$A$5,0),MATCH(I$7,Ext!$A$2:$E$2,0)),IF(AND(I364>=0,I364<3),INDEX(Ext!$A$1:$G$5,MATCH(I364,Ext!$A$1:$A$5,0),MATCH(I$7,Ext!$A$2:$E$2,0)),\"invalid entry\")))","v":""},{"$f":"IF(LEN(C364)=0,\"\",IF(LEN(J364)=0,INDEX(Ext!$A$1:$G$5,MATCH(0,Ext!$A$1:$A$5,0),MATCH(J$7,Ext!$A$2:$E$2,0)),IF(AND(J364>=0,J364<3),INDEX(Ext!$A$1:$G$5,MATCH(J364,Ext!$A$1:$A$5,0),MATCH(J$7,Ext!$A$2:$E$2,0)),\"invalid entry\")))","v":""}]

{"sheet":"Yield & Return","index":4,"n_rows":7,"n_cols":10,"rows_kept":7,"cut":false,"hidden":false,"merged":[]}
["Yield & Return"]
["Required lint yield & turnout data to be entered on"]
["HVI & Yield Entry sheet (columns N:O)"]
[null,null,null,"Seed Yield","Lint Value","Seed Value","Gross Return","Picking/Stripping","Ginning Cost","Net Return"]
[null,null,null,"Equals Column B x","Equals Column B x","Equals Column D x","Equals Column E +","& Moduling Costs","Equals Column B x","Equals Column B -"]
[null,"Lint Yield","Turnout","Base Values B14","Loan Value","Base Values B8","Column F","=B/C * Base Values B10","Base Values B12","Columns H & I"]
["Sample Name/Code","(lbs acre)","(%)","(lbs acre)","($/acre)","($/acre)","($/acre)","($/acre)","($/acre)","($/acre)"]

{"sheet":"Mic","index":5,"n_rows":12,"n_cols":3,"rows_kept":12,"cut":false,"hidden":true,"merged":[]}
["Micronaire"]
["Lower","Upper","Points"]
[0,2.4,-1835]
[2.5,2.6,-1360]
[2.7,2.9,-925]
[3,3.2,-625]
[3.3,3.4,-460]
[3.5,3.6,0]
[3.7,4.2,10]
[4.3,4.9000000000000004,0]
[5,5.2,-240]
[5.3,20,-390]

{"sheet":"Str","index":6,"n_rows":18,"n_cols":3,"rows_kept":18,"cut":false,"hidden":true,"merged":[]}
["Strength"]
["Lower","Upper","Points"]
[0,17.899999999999999,-700]
[18,18.899999999999999,-645]
[19,19.899999999999999,-645]
[20,20.9,-640]
[21,21.9,-635]
[22,22.9,-600]
[23,23.9,-585]
[24,24.9,-570]
[25,25.9,-515]
[26,26.9,0]
[27,27.9,0]
[28,28.9,0]
[29,29.9,5]
[30,30.9,20]
[31,32.9,35]
[33,200,50]

{"sheet":"Staple Lookup","index":7,"n_rows":21,"n_cols":3,"rows_kept":21,"cut":false,"hidden":true,"merged":[]}
[null,"Decimal"]
["Floor","Ceiling","Staple"]
[0,0.79,24]
[{"$f":"B3+0.01","v":0.8},0.85,26]
[{"$f":"B4+0.01","v":0.86},0.89,28]
[0.9,0.92,29]
[0.93,0.95,30]
[0.96,0.98,31]
[0.99,1.01,32]
[1.02,1.04,33]
[1.05,1.07,34]
[1.08,1.1000000000000001,35]
[1.1100000000000001,1.1299999999999999,36]
[1.1399999999999999,1.17,37]
[1.18,1.2,38]
[1.21,1.23,39]
[1.24,1.26,40]
[1.27,1.29,41]
[1.3,1.32,42]
[{"$f":"B19+0.01","v":1.33},1.35,43]
[1.36,9999,44]

{"sheet":"G&S","index":8,"n_rows":211,"n_cols":13,"rows_kept":211,"cut":false,"hidden":true,"merged":[]}
[null,null,null,null,null,null,null,null,null,null,null,null,"Note: Data have to be manually copied over from the pdf (then transposed)"]
[null,null,null,null,null,null,null,null,null,null,null,null,"New section created to break out color grades 11 and 21"]
[null,"Color","Leaf","26-31",32,33,34,35,36,37,"38+",null,"Gaps in coverage are assigned -4000, handled by formulas."]
["White",11,1,-380,-250,-75,160,335,510,580,590]
["White",11,2,-380,-250,-75,160,335,510,580,590]
["White",11,3,-460,-280,-100,140,280,465,525,530]
["White",11,4,-495,-300,-190,70,175,340,385,385]
["White",11,5,-565,-450,-325,-140,5,85,120,120]
["White",11,6,-705,-550,-470,-355,-300,-255,-240,-240]
["White",11,7,-780,-645,-575,-470,-405,-360,-350,-350]
["White",11,8,-2000,-2000,-2000,-2000,-2000,-2000,-2000,-2000]
["White",21,1,-380,-250,-75,160,335,510,580,590]
["White",21,2,-380,-250,-75,160,335,510,580,590]
["White",21,3,-460,-280,-100,140,280,465,525,530]
["White",21,4,-495,-300,-190,70,175,340,385,385]
["White",21,5,-565,-450,-325,-140,5,85,120,120]
["White",21,6,-705,-550,-470,-355,-300,-255,-240,-240]
["White",21,7,-780,-645,-575,-470,-405,-360,-350,-350]
["White",21,8,-2000,-2000,-2000,-2000,-2000,-2000,-2000,-2000]
["White",31,1,-495,-280,-125,95,270,455,520,525]
["White",31,2,-495,-280,-125,95,270,455,520,525]
["White",31,3,-550,-295,-140,90,245,425,480,485]
["White",31,4,-610,-335,-240,60,155,280,335,335]
["White",31,5,-660,-490,-365,-185,-50,10,45,45]
["White",31,6,-775,-585,-495,-375,-340,-305,-300,-300]
["White",31,7,-865,-680,-600,-480,-440,-410,-400,-400]
["White",31,8,-2000,-2000,-2000,-2000,-2000,-2000,-2000,-2000]
["White",41,1,-660,-375,-240,35,115,215,235,255]
["White",41,2,-660,-375,-240,35,115,215,235,255]
["White",41,3,-660,-375,-240,35,115,215,235,255]
["White",41,4,-705,-395,-315,0,55,150,170,185]
["White",41,5,-800,-595,-495,-300,-180,-100,-85,-85]
["White",41,6,-895,-690,-605,-510,-445,-380,-380,-380]
["White",41,7,-1010,-795,-735,-630,-565,-525,-525,-525]
["White",41,8,-2000,-2000,-2000,-2000,-2000,-2000,-2000,-2000]
["White",51,1,-835,-655,-495,-335,-265,-235,-230,-230]
["White",51,2,-835,-655,-495,-335,-265,-235,-230,-230]
["White",51,3,-835,-655,-495,-335,-265,-235,-230,-230]
["White",51,4,-835,-655,-495,-335,-265,-235,-230,-230]
["White",51,5,-855,-760,-685,-535,-465,-420,-415,-410]
["White",51,6,-1005,-855,-785,-655,-610,-555,-555,-555]
["White",51,7,-1105,-930,-885,-770,-730,-675,-675,-675]
["White",51,8,-2000,-2000,-2000,-2000,-2000,-2000,-2000,-2000]
["White",61,1,-945,-800,-735,-545,-485,-445,-445,-445]
["White",61,2,-945,-800,-735,-545,-485,-445,-445,-445]
["White",61,3,-945,-800,-735,-545,-485,-445,-445,-445]
["White",61,4,-945,-800,-735,-545,-485,-445,-445,-445]
["White",61,5,-945,-800,-735,-545,-485,-445,-445,-445]
["White",61,6,-1095,-920,-880,-720,-670,-625,-625,-625]
["White",61,7,-1195,-1040,-980,-815,-760,-715,-715,-715]
["White",61,8,-2000,-2000,-2000,-2000,-2000,-2000,-2000,-2000]
["White",71,1,-1145,-1090,-1030,-875,-835,-795,-795,-795]
["White",71,2,-1145,-1090,-1030,-875,-835,-795,-795,-795]
["White",71,3,-1145,-1090,-1030,-875,-835,-795,-795,-795]
["White",71,4,-1145,-1090,-1030,-875,-835,-795,-795,-795]
["White",71,5,-1145,-1090,-1030,-875,-835,-795,-795,-795]
["White",71,6,-1145,-1090,-1030,-875,-835,-795,-795,-795]
["White",71,7,-1230,-1125,-1075,-905,-885,-850,-850,-850]
["White",71,8,-2000,-2000,-2000,-2000,-2000,-2000,-2000,-2000]
["White",81,1,-4000,-4000,-4000,-4000,-4000,-4000,-4000,-4000]
["White",81,2,-4000,-4000,-4000,-4000,-4000,-4000,-4000,-4000]
["White",81,3,-4000,-4000,-4000,-4000,-4000,-4000,-4000,-4000]
["White",81,4,-4000,-4000,-4000,-4000,-4000,-4000,-4000,-4000]
["White",81,5,-4000,-4000,-4000,-4000,-4000,-4000,-4000,-4000]
["White",81,6,-4000,-4000,-4000,-4000,-4000,-4000,-4000,-4000]
["White",81,7,-4000,-4000,-4000,-4000,-4000,-4000,-4000,-4000]
["White",81,8,-4000,-4000,-4000,-4000,-4000,-4000,-4000,-4000]
["Light Spotted",12,1,-655,-345,-175,55,170,300,350,360]
["Light Spotted",12,2,-655,-345,-175,55,170,300,350,360]
["Light Spotted",12,3,-680,-360,-185,50,125,260,290,300]
["Light Spotted",12,4,-725,-370,-270,-30,55,205,235,240]
["Light Spotted",12,5,-790,-585,-485,-260,-125,-45,-20,-20]
["Light Spotted",12,6,-905,-700,-620,-470,-405,-345,-315,-315]
["Light Spotted",12,7,-1025,-785,-730,-575,-530,-465,-440,-440]
["Light Spotted",12,8,-4000,-4000,-4000,-4000,-4000,-4000,-4000,-4000]
["Light Spotted",22,1,-655,-345,-175,55,170,300,350,360]
["Light Spotted",22,2,-655,-345,-175,55,170,300,350,360]
["Light Spotted",22,3,-680,-360,-185,50,125,260,290,300]
["Light Spotted",22,4,-725,-370,-270,-30,55,205,235,240]
["Light Spotted",22,5,-790,-585,-485,-260,-125,-45,-20,-20]
["Light Spotted",22,6,-905,-700,-620,-470,-405,-345,-315,-315]
["Light Spotted",22,7,-1025,-785,-730,-575,-530,-465,-440,-440]
["Light Spotted",22,8,-4000,-4000,-4000,-4000,-4000,-4000,-4000,-4000]
["Light Spotted",32,1,-815,-470,-300,-90,5,45,70,80]
["Light Spotted",32,2,-815,-470,-300,-90,5,45,70,80]
["Light Spotted",32,3,-855,-490,-320,-115,-20,20,40,40]
["Light Spotted",32,4,-905,-545,-375,-200,-100,-55,-45,-45]
["Light Spotted",32,5,-1020,-740,-600,-395,-325,-275,-260,-260]
["Light Spotted",32,6,-1120,-810,-735,-560,-505,-475,-455,-455]
["Light Spotted",32,7,-1240,-910,-835,-670,-610,-590,-570,-570]
["Light Spotted",32,8,-4000,-4000,-4000,-4000,-4000,-4000,-4000,-4000]
["Light Spotted",42,1,-920,-635,-500,-275,-190,-150,-135,-135]
["Light Spotted",42,2,-920,-635,-500,-275,-190,-150,-135,-135]
["Light Spotted",42,3,-920,-635,-500,-275,-190,-150,-135,-135]
["Light Spotted",42,4,-970,-670,-520,-315,-255,-215,-195,-195]
["Light Spotted",42,5,-1090,-825,-695,-450,-370,-340,-320,-320]
["Light Spotted",42,6,-1300,-905,-800,-615,-565,-535,-510,-510]
["Light Spotted",42,7,-1350,-985,-905,-740,-675,-645,-625,-625]
["Light Spotted",42,8,-4000,-4000,-4000,-4000,-4000,-4000,-4000,-4000]
["Light Spotted",52,1,-1140,-835,-725,-560,-500,-475,-455,-455]
["Light Spotted",52,2,-1140,-835,-725,-560,-500,-475,-455,-455]
["Light Spotted",52,3,-1140,-835,-725,-560,-500,-475,-455,-455]
["Light Spotted",52,4,-1140,-835,-725,-560,-500,-475,-455,-455]
["Light Spotted",52,5,-1215,-910,-840,-650,-595,-575,-555,-555]
["Light Spotted",52,6,-1425,-1040,-975,-800,-755,-735,-715,-715]
["Light Spotted",52,7,-1510,-1145,-1085,-910,-865,-835,-815,-815]
["Light Spotted",52,8,-4000,-4000,-4000,-4000,-4000,-4000,-4000,-4000]
["Light Spotted",62,1,-1265,-1025,-950,-785,-750,-725,-710,-710]
["Light Spotted",62,2,-1265,-1025,-950,-785,-750,-725,-710,-710]
["Light Spotted",62,3,-1265,-1025,-950,-785,-750,-725,-710,-710]
["Light Spotted",62,4,-1265,-1025,-950,-785,-750,-725,-710,-710]
["Light Spotted",62,5,-1265,-1025,-950,-785,-750,-725,-710,-710]
["Light Spotted",62,6,-1460,-1190,-1115,-935,-905,-880,-860,-860]
["Light Spotted",62,7,-4000,-4000,-4000,-4000,-4000,-4000,-4000,-4000]
["Light Spotted",62,8,-4000,-4000,-4000,-4000,-4000,-4000,-4000,-4000]
["Spotted",13,1,-1110,-915,-845,-470,-380,-325,-255,-255]
["Spotted",13,2,-1110,-915,-845,-470,-380,-325,-255,-255]
["Spotted",13,3,-1150,-940,-870,-495,-405,-350,-280,-280]
["Spotted",13,4,-1185,-1015,-935,-545,-455,-400,-330,-330]
["Spotted",13,5,-1295,-1100,-1045,-670,-580,-510,-440,-440]
["Spotted",13,6,-1405,-1175,-1110,-755,-665,-595,-525,-525]
["Spotted",13,7,-1490,-1275,-1205,-835,-775,-705,-635,-635]
["Spotted",13,8,-4000,-4000,-4000,-4000,-4000,-4000,-4000,-4000]
["Spotted",23,1,-1110,-915,-845,-470,-380,-325,-255,-255]
["Spotted",23,2,-1110,-915,-845,-470,-380,-325,-255,-255]
["Spotted",23,3,-1150,-940,-870,-495,-405,-350,-280,-280]
["Spotted",23,4,-1185,-1015,-935,-545,-455,-400,-330,-330]
["Spotted",23,5,-1295,-1100,-1045,-670,-580,-510,-440,-440]
["Spotted",23,6,-1405,-1175,-1110,-755,-665,-595,-525,-525]
["Spotted",23,7,-1490,-1275,-1205,-835,-775,-705,-635,-635]
["Spotted",23,8,-4000,-4000,-4000,-4000,-4000,-4000,-4000,-4000]
["Spotted",33,1,-1215,-955,-855,-510,-445,-390,-325,-325]
["Spotted",33,2,-1215,-955,-855,-510,-445,-390,-325,-325]
["Spotted",33,3,-1215,-980,-895,-520,-455,-400,-325,-325]
["Spotted",33,4,-1290,-1055,-975,-585,-520,-450,-375,-375]
["Spotted",33,5,-1425,-1155,-1085,-725,-645,-565,-485,-485]
["Spotted",33,6,-1485,-1230,-1190,-810,-760,-675,-595,-595]
["Spotted",33,7,-1570,-1340,-1260,-935,-870,-785,-705,-705]
["Spotted",33,8,-4000,-4000,-4000,-4000,-4000,-4000,-4000,-4000]
["Spotted",43,1,-1265,-995,-910,-630,-580,-545,-515,-515]
["Spotted",43,2,-1265,-995,-910,-630,-580,-545,-515,-515]
["Spotted",43,3,-1265,-995,-910,-630,-580,-545,-515,-515]
["Spotted",43,4,-1340,-1070,-985,-675,-610,-570,-540,-540]
["Spotted",43,5,-1450,-1170,-1095,-795,-745,-710,-680,-680]
["Spotted",43,6,-1535,-1245,-1200,-875,-845,-810,-780,-780]
["Spotted",43,7,-1625,-1355,-1270,-975,-945,-915,-885,-885]
["Spotted",43,8,-4000,-4000,-4000,-4000,-4000,-4000,-4000,-4000]
["Spotted",53,1,-1420,-1110,-1010,-815,-775,-755,-725,-725]
["Spotted",53,2,-1420,-1110,-1010,-815,-775,-755,-725,-725]
["Spotted",53,3,-1420,-1110,-1010,-815,-775,-755,-725,-725]
["Spotted",53,4,-1420,-1110,-1010,-815,-775,-755,-725,-725]
["Spotted",53,5,-1505,-1190,-1120,-915,-895,-870,-840,-840]
["Spotted",53,6,-1620,-1290,-1210,-1000,-980,-960,-930,-930]
["Spotted",53,7,-1705,-1360,-1310,-1110,-1090,-1065,-1035,-1035]
["Spotted",53,8,-4000,-4000,-4000,-4000,-4000,-4000,-4000,-4000]
["Spotted",63,1,-1635,-1275,-1200,-990,-955,-930,-900,-900]
["Spotted",63,2,-1635,-1275,-1200,-990,-955,-930,-900,-900]
["Spotted",63,3,-1635,-1275,-1200,-990,-955,-930,-900,-900]
["Spotted",63,4,-1635,-1275,-1200,-990,-955,-930,-900,-900]
["Spotted",63,5,-1635,-1275,-1200,-990,-955,-930,-900,-900]
["Spotted",63,6,-1705,-1365,-1285,-1085,-1055,-1030,-1000,-1000]
["Spotted",63,7,-4000,-4000,-4000,-4000,-4000,-4000,-4000,-4000]
["Spotted",63,8,-4000,-4000,-4000,-4000,-4000,-4000,-4000,-4000]
["Tinged",24,1,-1325,-1145,-1070,-675,-650,-590,-530,-530]
["Tinged",24,2,-1325,-1145,-1070,-675,-650,-590,-530,-530]
["Tinged",24,3,-1325,-1145,-1070,-675,-650,-590,-530,-530]
["Tinged",24,4,-1450,-1270,-1170,-775,-750,-690,-630,-630]
["Tinged",24,5,-1535,-1355,-1280,-900,-875,-815,-755,-755]
["Tinged",24,6,-1695,-1515,-1440,-1090,-1065,-1005,-945,-945]
["Tinged",24,7,-4000,-4000,-4000,-4000,-4000,-4000,-4000,-4000]
["Tinged",24,8,-4000,-4000,-4000,-4000,-4000,-4000,-4000,-4000]
["Tinged",34,1,-1340,-1160,-1085,-690,-665,-605,-545,-545]
["Tinged",34,2,-1340,-1160,-1085,-690,-665,-605,-545,-545]
["Tinged",34,3,-1340,-1160,-1085,-690,-665,-605,-545,-545]
["Tinged",34,4,-1465,-1285,-1185,-790,-765,-705,-645,-645]
["Tinged",34,5,-1550,-1370,-1295,-915,-890,-830,-770,-770]
["Tinged",34,6,-1710,-1530,-1455,-1105,-1080,-1020,-960,-960]
["Tinged",34,7,-4000,-4000,-4000,-4000,-4000,-4000,-4000,-4000]
["Tinged",34,8,-4000,-4000,-4000,-4000,-4000,-4000,-4000,-4000]
["Tinged",44,1,-1455,-1270,-1195,-805,-780,-720,-660,-660]
["Tinged",44,2,-1455,-1270,-1195,-805,-780,-720,-660,-660]
["Tinged",44,3,-1455,-1270,-1195,-805,-780,-720,-660,-660]
["Tinged",44,4,-1530,-1370,-1245,-855,-830,-770,-710,-710]
["Tinged",44,5,-1605,-1430,-1330,-955,-930,-870,-810,-810]
["Tinged",44,6,-1765,-1580,-1505,-1160,-1135,-1075,-1015,-1015]
["Tinged",44,7,-4000,-4000,-4000,-4000,-4000,-4000,-4000,-4000]
["Tinged",44,8,-4000,-4000,-4000,-4000,-4000,-4000,-4000,-4000]
["Tinged",54,1,-1555,-1395,-1320,-910,-895,-835,-785,-785]
["Tinged",54,2,-1555,-1395,-1320,-910,-895,-835,-785,-785]
["Tinged",54,3,-1555,-1395,-1320,-910,-895,-835,-785,-785]
["Tinged",54,4,-1555,-1395,-1320,-910,-895,-835,-785,-785]
["Tinged",54,5,-1640,-1465,-1365,-1025,-1000,-940,-890,-890]
["Tinged",54,6,-4000,-4000,-4000,-4000,-4000,-4000,-4000,-4000]
["Tinged",54,7,-4000,-4000,-4000,-4000,-4000,-4000,-4000,-4000]
["Tinged",54,8,-4000,-4000,-4000,-4000,-4000,-4000,-4000,-4000]
["Yellow Stained",25,1,-1585,-1400,-1325,-935,-910,-850,-790,-790]
["Yellow Stained",25,2,-1585,-1400,-1325,-935,-910,-850,-790,-790]
["Yellow Stained",25,3,-1585,-1400,-1325,-935,-910,-850,-790,-790]
["Yellow Stained",25,4,-1710,-1525,-1425,-1035,-1010,-950,-890,-890]
["Yellow Stained",25,5,-4000,-4000,-4000,-4000,-4000,-4000,-4000,-4000]
["Yellow Stained",25,6,-4000,-4000,-4000,-4000,-4000,-4000,-4000,-4000]
["Yellow Stained",25,7,-4000,-4000,-4000,-4000,-4000,-4000,-4000,-4000]
["Yellow Stained",25,8,-4000,-4000,-4000,-4000,-4000,-4000,-4000,-4000]
["Yellow Stained",35,1,-1600,-1415,-1340,-950,-925,-865,-805,-805]
["Yellow Stained",35,2,-1600,-1415,-1340,-950,-925,-865,-805,-805]
["Yellow Stained",35,3,-1600,-1415,-1340,-950,-925,-865,-805,-805]
["Yellow Stained",35,4,-4000,-4000,-4000,-4000,-4000,-4000,-4000,-4000]
["Yellow Stained",35,5,-4000,-4000,-4000,-4000,-4000,-4000,-4000,-4000]
["Yellow Stained",35,6,-4000,-4000,-4000,-4000,-4000,-4000,-4000,-4000]
["Yellow Stained",35,7,-4000,-4000,-4000,-4000,-4000,-4000,-4000,-4000]
["Yellow Stained",35,8,-4000,-4000,-4000,-4000,-4000,-4000,-4000,-4000]

{"sheet":"Uni","index":9,"n_rows":12,"n_cols":3,"rows_kept":12,"cut":false,"hidden":true,"merged":[]}
["Length Uniformity"]
["Lower","Upper","Points"]
[0,77.900000000000006,-110]
[78,78.900000000000006,-60]
[79,79.900000000000006,-50]
[80,80.900000000000006,0]
[81,81.900000000000006,0]
[82,82.9,5]
[83,83.9,10]
[84,84.9,15]
[85,85.9,20]
[86,200,25]

{"sheet":"Ext","index":10,"n_rows":5,"n_cols":5,"rows_kept":5,"cut":false,"hidden":true,"merged":[]}
["Extraneous Matter"]
[null,"TX/NM/OK/KS","Prep","Other","Plastic"]
[0,0,0,0,0]
[1,-375,-195,-480,-4000]
[2,-540,-685,-650,-4000]