{"text_format":"1","workbook":"xlsx","n_sheets":11,"sheets":["Main Menu","Base Values","HVI Quality Data","Yield and Turnout Data","Charts - Loan Value","Charts - Net Return","Loan - Grade & Staple","Loan - Strength","Loan - Micronaire","Loan - Uniformity","Loan - Extraneous"],"not_rendered":{"charts":5,"images":1,"macros":1,"external_links":1,"defined_names":4,"comments":2,"pivot_tables":0},"unopened":[],"bounds":{"document_bytes":16777216,"sheet_cells":100000,"rows_first":2000,"rows_last":500,"rows_between":2000,"halvings":0,"cell_chars":16384,"cell_head_chars":4096},"cells_cut":0,"cells_raw":0,"read":"whole","date_system":"1900"}

{"sheet":"Main Menu","index":0,"n_rows":23,"n_cols":2,"rows_kept":23,"cut":false,"hidden":false,"merged":[]}
[]
[]
[]
[]
[]
[]
[]
[]
[]
[]
[]
[]
[]
[]
[]
[]
[]
[]
[]
[]
[]
[null,"Developed by Dr. Lawrence Falconer, Mississippi State Extension and Jeanne Reeves, Cotton Incorporated."]
[null,"2017 update by Cotton Incorporated."]

{"sheet":"Base Values","index":1,"n_rows":18,"n_cols":3,"rows_kept":18,"cut":false,"hidden":false,"merged":[]}
[]
[]
[]
[]
[null,"Base Values","Value Units"]
["Study/Test Title (used in report & chart titles produced through this program)","2017/18 Sample Loan Values","n/a"]
[]
["Base Quality Price (41 Color, 4 Leaf, 34 Staple)",52,"cents/lb"]
[]
["Cottonseed Value (USD/ton)",185,"USD/ton"]
[]
["Picking/Stripping & Moduling Cost per Cwt of Seed Cotton",3.2,"USD/acre"]
[]
["Ginning Cost per Pound of Lint",0.12,"USD/lb"]
[]
["Pounds of Seed per Pound of Lint",1.4119999999999999,"lb of seed/lb of lint"]
[]
["Checkbox if cotton grown in TX/NM/OK/KS"]

{"sheet":"HVI Quality Data","index":2,"n_rows":500,"n_cols":22,"rows_kept":500,"cut":false,"hidden":false,"merged":[[12,7,12,9]]}
["Enter HVI Quality Data for Each Sample"]
["Enter HVI readings for each sample in boxes with blue font."]
["Premium/discount data in columns Q & R will automatically update with new HVI readings."]
[null,null,null,null,null,null,null,"Note: Extraneous matter readings are 0, 1, or 2."]
[null,null,null,null,null,null,null,"Please enter the value for the appropriate level."]
[null,null,null,null,null,null,null,"Blank cells for extraneous matter are treated as 0."]
[]
[null,null,null,null,null,null,null,"Note: All color/leaf/staple combinations that are"]
[null,null,null,null,null,null,null,"not listed in the CCC loan table have loan"]
[null,null,null,null,null,null,null,"discounts of -4000 points."]
[null,null,null,null,null,null,null,"link to USDA loan tables",null,null,null,"Grade/Length","Strength","Mike","Uniformity",null,"Net","Net"]
[null,null,null,null,null,null,null,null,null,null,null,"Premium","Premium","Premium","Premium","Extraneous","Premium","Loan"]
[null,null,null,null,null,null,null,"Extraneous Matter",null,null,null,"or","or","or","or","Matter","or","Price",null,false]
["Variety/Sample Name","Color","Leaf","Length (inches)","Strength","Mike","Uniformity","Bark","Preparation","Other","Staple (32nds)","Discount","Discount","Discount","Discount","Discount","Discount","(cents/lb)",null,"Bark","Preparation","Other"]
["Variety 1",11,1,1.03,17.899999999999999,2.2999999999999998,77.5,0,0,0,{"$f":"IF(LEN(D15)=0,\"data needed\",ROUND(D15*32,0))","v":33},{"$f":"IF(OR(LEN(B15)=0,LEN(C15)=0,LEN(D15)=0),\"data needed\",IF(K15>=38,INDEX('Loan - Grade & Staple'!$A$1:$K$1000,MATCH($B15&$C15,'Loan - Grade & Staple'!$B$1:$B$1000&'Loan - Grade & Staple'!$C$1:$C$1000,0),MATCH(\"38+\",'Loan - Grade & Staple'!$A$3:$K$3,0)),IF(K15<=31,INDEX('Loan - Grade & Staple'!$A$1:$K$1000,MATCH($B15&$C15,'Loan - Grade & Staple'!$B$1:$B$1000&'Loan - Grade & Staple'!$C$1:$C$1000,0),MATCH(\"26-31\",'Loan - Grade & Staple'!$A$3:$K$3,0)),IF(ISNA(INDEX('Loan - Grade & Staple'!$A$1:$K$1000,MATCH($B15&C15,'Loan - Grade & Staple'!$B$1:$B$1000&'Loan - Grade & Staple'!$C$1:$C$1000,0),MATCH($K15,'Loan - Grade & Staple'!$A$3:$K$3,0))),-4000,INDEX('Loan - Grade & Staple'!$A$1:$K$1000,MATCH($B15&C15,'Loan - Grade & Staple'!$B$1:$B$1000&'Loan - Grade & Staple'!$C$1:$C$1000,0),MATCH($K15,'Loan - Grade & Staple'!$A$3:$K$3,0))))))","v":-55},{"$f":"IF(LEN(E15)=0,\"data needed\",INDEX('Loan - Strength'!$C$1:$C$18,MATCH(E15,'Loan - Strength'!$A$1:$A$18,1)))","v":-500},{"$f":"IF(LEN(F15)=0,\"data needed\",INDEX('Loan - Micronaire'!$C$1:$C$20,MATCH($F15,'Loan - Micronaire'!$A$1:$A$20,1)))","v":-975},{"$f":"IF(LEN(G15)=0,\"data needed\",INDEX('Loan - Uniformity'!$C$1:$C$20,MATCH($G15,'Loan - Uniformity'!$A$1:$A$20,1)))","v":-100},{"$f":"SUM(T15:V15)","v":0},{"$f":"IF(OR(LEN(B15)=0,LEN(C15)=0,LEN(D15)=0,LEN(E15)=0,LEN(F15)=0,LEN(G15)=0),\"data needed\",SUM(L15:P15))","v":-1630},{"$f":"IF(OR(LEN(B15)=0,LEN(C15)=0,LEN(D15)=0,LEN(E15)=0,LEN(F15)=0,LEN(G15)=0),\"data needed\",IF('Base Values'!$B$8+(SUM($L15:$P15)/100)<0,0,'Base Values'!$B$8+(SUM(L15:P15)/100)))","v":35.700000000000003},null,{"$f":"IF(AND($T$13=TRUE,H15=1),'Loan - Extraneous'!B$3,IF(AND($T$13=TRUE,H15=2),'Loan - Extraneous'!C$3,0))","v":0},{"$f":"IF(I15=1,'Loan - Extraneous'!$B$4,IF(I15=2,'Loan - Extraneous'!$C$4,0))","v":0},{"$f":"IF(J15=1,'Loan - Extraneous'!$B$5,IF(J15=2,'Loan - Extraneous'!$C$5,0))","v":0}]
["Variety 2",21,2,1.05,19.399999999999999,2.6,79,0,0,1,{"$f":"IF(LEN(D16)=0,\"data needed\",ROUND(D16*32,0))","v":34},{"$f":"IF(OR(LEN(B16)=0,LEN(C16)=0,LEN(D16)=0),\"data needed\",IF(K16>=38,INDEX('Loan - Grade & Staple'!$A$1:$K$1000,MATCH($B16&$C16,'Loan - Grade & Staple'!$B$1:$B$1000&'Loan - Grade & Staple'!$C$1:$C$1000,0),MATCH(\"38+\",'Loan - Grade & Staple'!$A$3:$K$3,0)),IF(K16<=31,INDEX('Loan - Grade & Staple'!$A$1:$K$1000,MATCH($B16&$C16,'Loan - Grade & Staple'!$B$1:$B$1000&'Loan - Grade & Staple'!$C$1:$C$1000,0),MATCH(\"26-31\",'Loan - Grade & Staple'!$A$3:$K$3,0)),IF(ISNA(INDEX('Loan - Grade & Staple'!$A$1:$K$1000,MATCH($B16&C16,'Loan - Grade & Staple'!$B$1:$B$1000&'Loan - Grade & Staple'!$C$1:$C$1000,0),MATCH($K16,'Loan - Grade & Staple'!$A$3:$K$3,0))),-4000,INDEX('Loan - Grade & Staple'!$A$1:$K$1000,MATCH($B16&C16,'Loan - Grade & Staple'!$B$1:$B$1000&'Loan - Grade & Staple'!$C$1:$C$1000,0),MATCH($K16,'Loan - Grade & Staple'!$A$3:$K$3,0))))))","v":125},{"$f":"IF(LEN(E16)=0,\"data needed\",INDEX('Loan - Strength'!$C$1:$C$18,MATCH(E16,'Loan - Strength'!$A$1:$A$18,1)))","v":-250},{"$f":"IF(LEN(F16)=0,\"data needed\",INDEX('Loan - Micronaire'!$C$1:$C$20,MATCH($F16,'Loan - Micronaire'!$A$1:$A$20,1)))","v":-910},{"$f":"IF(LEN(G16)=0,\"data needed\",INDEX('Loan - Uniformity'!$C$1:$C$20,MATCH($G16,'Loan - Uniformity'!$A$1:$A$20,1)))","v":-75},{"$f":"SUM(T16:V16)","v":-455},{"$f":"IF(OR(LEN(B16)=0,LEN(C16)=0,LEN(D16)=0,LEN(E16)=0,LEN(F16)=0,LEN(G16)=0),\"data needed\",SUM(L16:P16))","v":-1565},{"$f":"IF(OR(LEN(B16)=0,LEN(C16)=0,LEN(D16)=0,LEN(E16)=0,LEN(F16)=0,LEN(G16)=0),\"data needed\",IF('Base Values'!$B$8+(SUM($L16:$P16)/100)<0,0,'Base Values'!$B$8+(SUM(L16:P16)/100)))","v":36.35},null,{"$f":"IF(AND($T$13=TRUE,H16=1),'Loan - Extraneous'!B$3,IF(AND($T$13=TRUE,H16=2),'Loan - Extraneous'!C$3,0))","v":0},{"$f":"IF(I16=1,'Loan - Extraneous'!$B$4,IF(I16=2,'Loan - Extraneous'!$C$4,0))","v":0},{"$f":"IF(J16=1,'Loan - Extraneous'!$B$5,IF(J16=2,'Loan - Extraneous'!$C$5,0))","v":-455}]
["Variety 3",31,3,1.07,20.9,2.9,80.5,0,0,2,34,{"$f":"IF(OR(LEN(B17)=0,LEN(C17)=0,LEN(D17)=0),\"data needed\",IF(K17>=38,INDEX('Loan - Grade & Staple'!$A$1:$K$1000,MATCH($B17&$C17,'Loan - Grade & Staple'!$B$1:$B$1000&'Loan - Grade & Staple'!$C$1:$C$1000,0),MATCH(\"38+\",'Loan - Grade & Staple'!$A$3:$K$3,0)),IF(K17<=31,INDEX('Loan - Grade & Staple'!$A$1:$K$1000,MATCH($B17&$C17,'Loan - Grade & Staple'!$B$1:$B$1000&'Loan - Grade & Staple'!$C$1:$C$1000,0),MATCH(\"26-31\",'Loan - Grade & Staple'!$A$3:$K$3,0)),IF(ISNA(INDEX('Loan - Grade & Staple'!$A$1:$K$1000,MATCH($B17&C17,'Loan - Grade & Staple'!$B$1:$B$1000&'Loan - Grade & Staple'!$C$1:$C$1000,0),MATCH($K17,'Loan - Grade & Staple'!$A$3:$K$3,0))),-4000,INDEX('Loan - Grade & Staple'!$A$1:$K$1000,MATCH($B17&C17,'Loan - Grade & Staple'!$B$1:$B$1000&'Loan - Grade & Staple'!$C$1:$C$1000,0),MATCH($K17,'Loan - Grade & Staple'!$A$3:$K$3,0))))))","v":80},{"$f":"IF(LEN(E17)=0,\"data needed\",INDEX('Loan - Strength'!$C$1:$C$18,MATCH(E17,'Loan - Strength'!$A$1:$A$18,1)))","v":-250},{"$f":"IF(LEN(F17)=0,\"data needed\",INDEX('Loan - Micronaire'!$C$1:$C$20,MATCH($F17,'Loan - Micronaire'!$A$1:$A$20,1)))","v":-605},{"$f":"IF(LEN(G17)=0,\"data needed\",INDEX('Loan - Uniformity'!$C$1:$C$20,MATCH($G17,'Loan - Uniformity'!$A$1:$A$20,1)))","v":0},-695,-1470,{"$f":"IF(OR(LEN(B17)=0,LEN(C17)=0,LEN(D17)=0,LEN(E17)=0,LEN(F17)=0,LEN(G17)=0),\"data needed\",IF('Base Values'!$B$8+(SUM($L17:$P17)/100)<0,0,'Base Values'!$B$8+(SUM(L17:P17)/100)))","v":37.299999999999997},null,{"$f":"IF(AND($T$13=TRUE,H17=1),'Loan - Extraneous'!B$3,IF(AND($T$13=TRUE,H17=2),'Loan - Extraneous'!C$3,0))","v":0},{"$f":"IF(I17=1,'Loan - Extraneous'!$B$4,IF(I17=2,'Loan - Extraneous'!$C$4,0))","v":0},{"$f":"IF(J17=1,'Loan - Extraneous'!$B$5,IF(J17=2,'Loan - Extraneous'!$C$5,0))","v":-695}]
["Variety 4",41,4,1.0900000000000001,21.4,3.2,82,0,0,3,35,{"$f":"IF(OR(LEN(B18)=0,LEN(C18)=0,LEN(D18)=0),\"data needed\",IF(K18>=38,INDEX('Loan - Grade & Staple'!$A$1:$K$1000,MATCH($B18&$C18,'Loan - Grade & Staple'!$B$1:$B$1000&'Loan - Grade & Staple'!$C$1:$C$1000,0),MATCH(\"38+\",'Loan - Grade & Staple'!$A$3:$K$3,0)),IF(K18<=31,INDEX('Loan - Grade & Staple'!$A$1:$K$1000,MATCH($B18&$C18,'Loan - Grade & Staple'!$B$1:$B$1000&'Loan - Grade & Staple'!$C$1:$C$1000,0),MATCH(\"26-31\",'Loan - Grade & Staple'!$A$3:$K$3,0)),IF(ISNA(INDEX('Loan - Grade & Staple'!$A$1:$K$1000,MATCH($B18&C18,'Loan - Grade & Staple'!$B$1:$B$1000&'Loan - Grade & Staple'!$C$1:$C$1000,0),MATCH($K18,'Loan - Grade & Staple'!$A$3:$K$3,0))),-4000,INDEX('Loan - Grade & Staple'!$A$1:$K$1000,MATCH($B18&C18,'Loan - Grade & Staple'!$B$1:$B$1000&'Loan - Grade & Staple'!$C$1:$C$1000,0),MATCH($K18,'Loan - Grade & Staple'!$A$3:$K$3,0))))))","v":95},{"$f":"IF(LEN(E18)=0,\"data needed\",INDEX('Loan - Strength'!$C$1:$C$18,MATCH(E18,'Loan - Strength'!$A$1:$A$18,1)))","v":-250},{"$f":"IF(LEN(F18)=0,\"data needed\",INDEX('Loan - Micronaire'!$C$1:$C$20,MATCH($F18,'Loan - Micronaire'!$A$1:$A$20,1)))","v":-365},{"$f":"IF(LEN(G18)=0,\"data needed\",INDEX('Loan - Uniformity'!$C$1:$C$20,MATCH($G18,'Loan - Uniformity'!$A$1:$A$20,1)))","v":5},0,-515,{"$f":"IF(OR(LEN(B18)=0,LEN(C18)=0,LEN(D18)=0,LEN(E18)=0,LEN(F18)=0,LEN(G18)=0),\"data needed\",IF('Base Values'!$B$8+(SUM($L18:$P18)/100)<0,0,'Base Values'!$B$8+(SUM(L18:P18)/100)))","v":46.85},null,{"$f":"IF(AND($T$13=TRUE,H18=1),'Loan - Extraneous'!B$3,IF(AND($T$13=TRUE,H18=2),'Loan - Extraneous'!C$3,0))","v":0},{"$f":"IF(I18=1,'Loan - Extraneous'!$B$4,IF(I18=2,'Loan - Extraneous'!$C$4,0))","v":0},{"$f":"IF(J18=1,'Loan - Extraneous'!$B$5,IF(J18=2,'Loan - Extraneous'!$C$5,0))","v":0}]
["Variety 5",51,5,1.1100000000000001,22.9,3.5,83.5,0,0,4,36,{"$f":"IF(OR(LEN(B19)=0,LEN(C19)=0,LEN(D19)=0),\"data needed\",IF(K19>=38,INDEX('Loan - Grade & Staple'!$A$1:$K$1000,MATCH($B19&$C19,'Loan - Grade & Staple'!$B$1:$B$1000&'Loan - Grade & Staple'!$C$1:$C$1000,0),MATCH(\"38+\",'Loan - Grade & Staple'!$A$3:$K$3,0)),IF(K19<=31,INDEX('Loan - Grade & Staple'!$A$1:$K$1000,MATCH($B19&$C19,'Loan - Grade & Staple'!$B$1:$B$1000&'Loan - Grade & Staple'!$C$1:$C$1000,0),MATCH(\"26-31\",'Loan - Grade & Staple'!$A$3:$K$3,0)),IF(ISNA(INDEX('Loan - Grade & Staple'!$A$1:$K$1000,MATCH($B19&C19,'Loan - Grade & Staple'!$B$1:$B$1000&'Loan - Grade & Staple'!$C$1:$C$1000,0),MATCH($K19,'Loan - Grade & Staple'!$A$3:$K$3,0))),-4000,INDEX('Loan - Grade & Staple'!$A$1:$K$1000,MATCH($B19&C19,'Loan - Grade & Staple'!$B$1:$B$1000&'Loan - Grade & Staple'!$C$1:$C$1000,0),MATCH($K19,'Loan - Grade & Staple'!$A$3:$K$3,0))))))","v":-275},{"$f":"IF(LEN(E19)=0,\"data needed\",INDEX('Loan - Strength'!$C$1:$C$18,MATCH(E19,'Loan - Strength'!$A$1:$A$18,1)))","v":-205},{"$f":"IF(LEN(F19)=0,\"data needed\",INDEX('Loan - Micronaire'!$C$1:$C$20,MATCH($F19,'Loan - Micronaire'!$A$1:$A$20,1)))","v":0},{"$f":"IF(LEN(G19)=0,\"data needed\",INDEX('Loan - Uniformity'!$C$1:$C$20,MATCH($G19,'Loan - Uniformity'!$A$1:$A$20,1)))","v":15},0,-465,{"$f":"IF(OR(LEN(B19)=0,LEN(C19)=0,LEN(D19)=0,LEN(E19)=0,LEN(F19)=0,LEN(G19)=0),\"data needed\",IF('Base Values'!$B$8+(SUM($L19:$P19)/100)<0,0,'Base Values'!$B$8+(SUM(L19:P19)/100)))","v":47.35},null,{"$f":"IF(AND($T$13=TRUE,H19=1),'Loan - Extraneous'!B$3,IF(AND($T$13=TRUE,H19=2),'Loan - Extraneous'!C$3,0))","v":0},{"$f":"IF(I19=1,'Loan - Extraneous'!$B$4,IF(I19=2,'Loan - Extraneous'!$C$4,0))","v":0},{"$f":"IF(J19=1,'Loan - Extraneous'!$B$5,IF(J19=2,'Loan - Extraneous'!$C$5,0))","v":0}]
["Variety 6",61,6,1.1299999999999999,24.4,3.8,85,0,0,5,36,{"$f":"IF(OR(LEN(B20)=0,LEN(C20)=0,LEN(D20)=0),\"data needed\",IF(K20>=38,INDEX('Loan - Grade & Staple'!$A$1:$K$1000,MATCH($B20&$C20,'Loan - Grade & Staple'!$B$1:$B$1000&'Loan - Grade & Staple'!$C$1:$C$1000,0),MATCH(\"38+\",'Loan - Grade & Staple'!$A$3:$K$3,0)),IF(K20<=31,INDEX('Loan - Grade & Staple'!$A$1:$K$1000,MATCH($B20&$C20,'Loan - Grade & Staple'!$B$1:$B$1000&'Loan - Grade & Staple'!$C$1:$C$1000,0),MATCH(\"26-31\",'Loan - Grade & Staple'!$A$3:$K$3,0)),IF(ISNA(INDEX('Loan - Grade & Staple'!$A$1:$K$1000,MATCH($B20&C20,'Loan - Grade & Staple'!$B$1:$B$1000&'Loan - Grade & Staple'!$C$1:$C$1000,0),MATCH($K20,'Loan - Grade & Staple'!$A$3:$K$3,0))),-4000,INDEX('Loan - Grade & Staple'!$A$1:$K$1000,MATCH($B20&C20,'Loan - Grade & Staple'!$B$1:$B$1000&'Loan - Grade & Staple'!$C$1:$C$1000,0),MATCH($K20,'Loan - Grade & Staple'!$A$3:$K$3,0))))))","v":-575},{"$f":"IF(LEN(E20)=0,\"data needed\",INDEX('Loan - Strength'!$C$1:$C$18,MATCH(E20,'Loan - Strength'!$A$1:$A$18,1)))","v":-165},{"$f":"IF(LEN(F20)=0,\"data needed\",INDEX('Loan - Micronaire'!$C$1:$C$20,MATCH($F20,'Loan - Micronaire'!$A$1:$A$20,1)))","v":10},{"$f":"IF(LEN(G20)=0,\"data needed\",INDEX('Loan - Uniformity'!$C$1:$C$20,MATCH($G20,'Loan - Uniformity'!$A$1:$A$20,1)))","v":35},0,-695,{"$f":"IF(OR(LEN(B20)=0,LEN(C20)=0,LEN(D20)=0,LEN(E20)=0,LEN(F20)=0,LEN(G20)=0),\"data needed\",IF('Base Values'!$B$8+(SUM($L20:$P20)/100)<0,0,'Base Values'!$B$8+(SUM(L20:P20)/100)))","v":45.05},null,{"$f":"IF(AND($T$13=TRUE,H20=1),'Loan - Extraneous'!B$3,IF(AND($T$13=TRUE,H20=2),'Loan - Extraneous'!C$3,0))","v":0},{"$f":"IF(I20=1,'Loan - Extraneous'!$B$4,IF(I20=2,'Loan - Extraneous'!$C$4,0))","v":0},{"$f":"IF(J20=1,'Loan - Extraneous'!$B$5,IF(J20=2,'Loan - Extraneous'!$C$5,0))","v":0}]
["Variety 7",71,7,1.1499999999999999,25.9,4.0999999999999996,86.5,0,0,6,37,{"$f":"IF(OR(LEN(B21)=0,LEN(C21)=0,LEN(D21)=0),\"data needed\",IF(K21>=38,INDEX('Loan - Grade & Staple'!$A$1:$K$1000,MATCH($B21&$C21,'Loan - Grade & Staple'!$B$1:$B$1000&'Loan - Grade & Staple'!$C$1:$C$1000,0),MATCH(\"38+\",'Loan - Grade & Staple'!$A$3:$K$3,0)),IF(K21<=31,INDEX('Loan - Grade & Staple'!$A$1:$K$1000,MATCH($B21&$C21,'Loan - Grade & Staple'!$B$1:$B$1000&'Loan - Grade & Staple'!$C$1:$C$1000,0),MATCH(\"26-31\",'Loan - Grade & Staple'!$A$3:$K$3,0)),IF(ISNA(INDEX('Loan - Grade & Staple'!$A$1:$K$1000,MATCH($B21&C21,'Loan - Grade & Staple'!$B$1:$B$1000&'Loan - Grade & Staple'!$C$1:$C$1000,0),MATCH($K21,'Loan - Grade & Staple'!$A$3:$K$3,0))),-4000,INDEX('Loan - Grade & Staple'!$A$1:$K$1000,MATCH($B21&C21,'Loan - Grade & Staple'!$B$1:$B$1000&'Loan - Grade & Staple'!$C$1:$C$1000,0),MATCH($K21,'Loan - Grade & Staple'!$A$3:$K$3,0))))))","v":-780},{"$f":"IF(LEN(E21)=0,\"data needed\",INDEX('Loan - Strength'!$C$1:$C$18,MATCH(E21,'Loan - Strength'!$A$1:$A$18,1)))","v":-145},{"$f":"IF(LEN(F21)=0,\"data needed\",INDEX('Loan - Micronaire'!$C$1:$C$20,MATCH($F21,'Loan - Micronaire'!$A$1:$A$20,1)))","v":10},{"$f":"IF(LEN(G21)=0,\"data needed\",INDEX('Loan - Uniformity'!$C$1:$C$20,MATCH($G21,'Loan - Uniformity'!$A$1:$A$20,1)))","v":45},0,-870,{"$f":"IF(OR(LEN(B21)=0,LEN(C21)=0,LEN(D21)=0,LEN(E21)=0,LEN(F21)=0,LEN(G21)=0),\"data needed\",IF('Base Values'!$B$8+(SUM($L21:$P21)/100)<0,0,'Base Values'!$B$8+(SUM(L21:P21)/100)))","v":43.3},null,{"$f":"IF(AND($T$13=TRUE,H21=1),'Loan - Extraneous'!B$3,IF(AND($T$13=TRUE,H21=2),'Loan - Extraneous'!C$3,0))","v":0},{"$f":"IF(I21=1,'Loan - Extraneous'!$B$4,IF(I21=2,'Loan - Extraneous'!$C$4,0))","v":0},{"$f":"IF(J21=1,'Loan - Extraneous'!$B$5,IF(J21=2,'Loan - Extraneous'!$C$5,0))","v":0}]
["Variety 8",11,1,1.17,27.4,4.5,80,0,0,7,37,{"$f":"IF(OR(LEN(B22)=0,LEN(C22)=0,LEN(D22)=0),\"data needed\",IF(K22>=38,INDEX('Loan - Grade & Staple'!$A$1:$K$1000,MATCH($B22&$C22,'Loan - Grade & Staple'!$B$1:$B$1000&'Loan - Grade & Staple'!$C$1:$C$1000,0),MATCH(\"38+\",'Loan - Grade & Staple'!$A$3:$K$3,0)),IF(K22<=31,INDEX('Loan - Grade & Staple'!$A$1:$K$1000,MATCH($B22&$C22,'Loan - Grade & Staple'!$B$1:$B$1000&'Loan - Grade & Staple'!$C$1:$C$1000,0),MATCH(\"26-31\",'Loan - Grade & Staple'!$A$3:$K$3,0)),IF(ISNA(INDEX('Loan - Grade & Staple'!$A$1:$K$1000,MATCH($B22&C22,'Loan - Grade & Staple'!$B$1:$B$1000&'Loan - Grade & Staple'!$C$1:$C$1000,0),MATCH($K22,'Loan - Grade & Staple'!$A$3:$K$3,0))),-4000,INDEX('Loan - Grade & Staple'!$A$1:$K$1000,MATCH($B22&C22,'Loan - Grade & Staple'!$B$1:$B$1000&'Loan - Grade & Staple'!$C$1:$C$1000,0),MATCH($K22,'Loan - Grade & Staple'!$A$3:$K$3,0))))))","v":520},{"$f":"IF(LEN(E22)=0,\"data needed\",INDEX('Loan - Strength'!$C$1:$C$18,MATCH(E22,'Loan - Strength'!$A$1:$A$18,1)))","v":0},{"$f":"IF(LEN(F22)=0,\"data needed\",INDEX('Loan - Micronaire'!$C$1:$C$20,MATCH($F22,'Loan - Micronaire'!$A$1:$A$20,1)))","v":0},{"$f":"IF(LEN(G22)=0,\"data needed\",INDEX('Loan - Uniformity'!$C$1:$C$20,MATCH($G22,'Loan - Uniformity'!$A$1:$A$20,1)))","v":0},0,520,{"$f":"IF(OR(LEN(B22)=0,LEN(C22)=0,LEN(D22)=0,LEN(E22)=0,LEN(F22)=0,LEN(G22)=0),\"data needed\",IF('Base Values'!$B$8+(SUM($L22:$P22)/100)<0,0,'Base Values'!$B$8+(SUM(L22:P22)/100)))","v":57.2},null,{"$f":"IF(AND($T$13=TRUE,H22=1),'Loan - Extraneous'!B$3,IF(AND($T$13=TRUE,H22=2),'Loan - Extraneous'!C$3,0))","v":0},{"$f":"IF(I22=1,'Loan - Extraneous'!$B$4,IF(I22=2,'Loan - Extraneous'!$C$4,0))","v":0},{"$f":"IF(J22=1,'Loan - Extraneous'!$B$5,IF(J22=2,'Loan - Extraneous'!$C$5,0))","v":0}]
["Variety 9",21,2,1.19,29.9,4.8,81,0,0,8,38,{"$f":"IF(OR(LEN(B23)=0,LEN(C23)=0,LEN(D23)=0),\"data needed\",IF(K23>=38,INDEX('Loan - Grade & Staple'!$A$1:$K$1000,MATCH($B23&$C23,'Loan - Grade & Staple'!$B$1:$B$1000&'Loan - Grade & Staple'!$C$1:$C$1000,0),MATCH(\"38+\",'Loan - Grade & Staple'!$A$3:$K$3,0)),IF(K23<=31,INDEX('Loan - Grade & Staple'!$A$1:$K$1000,MATCH($B23&$C23,'Loan - Grade & Staple'!$B$1:$B$1000&'Loan - Grade & Staple'!$C$1:$C$1000,0),MATCH(\"26-31\",'Loan - Grade & Staple'!$A$3:$K$3,0)),IF(ISNA(INDEX('Loan - Grade & Staple'!$A$1:$K$1000,MATCH($B23&C23,'Loan - Grade & Staple'!$B$1:$B$1000&'Loan - Grade & Staple'!$C$1:$C$1000,0),MATCH($K23,'Loan - Grade & Staple'!$A$3:$K$3,0))),-4000,INDEX('Loan - Grade & Staple'!$A$1:$K$1000,MATCH($B23&C23,'Loan - Grade & Staple'!$B$1:$B$1000&'Loan - Grade & Staple'!$C$1:$C$1000,0),MATCH($K23,'Loan - Grade & Staple'!$A$3:$K$3,0))))))","v":535},{"$f":"IF(LEN(E23)=0,\"data needed\",INDEX('Loan - Strength'!$C$1:$C$18,MATCH(E23,'Loan - Strength'!$A$1:$A$18,1)))","v":10},{"$f":"IF(LEN(F23)=0,\"data needed\",INDEX('Loan - Micronaire'!$C$1:$C$20,MATCH($F23,'Loan - Micronaire'!$A$1:$A$20,1)))","v":0},{"$f":"IF(LEN(G23)=0,\"data needed\",INDEX('Loan - Uniformity'!$C$1:$C$20,MATCH($G23,'Loan - Uniformity'!$A$1:$A$20,1)))","v":0},0,545,{"$f":"IF(OR(LEN(B23)=0,LEN(C23)=0,LEN(D23)=0,LEN(E23)=0,LEN(F23)=0,LEN(G23)=0),\"data needed\",IF('Base Values'!$B$8+(SUM($L23:$P23)/100)<0,0,'Base Values'!$B$8+(SUM(L23:P23)/100)))","v":57.45},null,{"$f":"IF(AND($T$13=TRUE,H23=1),'Loan - Extraneous'!B$3,IF(AND($T$13=TRUE,H23=2),'Loan - Extraneous'!C$3,0))","v":0},{"$f":"IF(I23=1,'Loan - Extraneous'!$B$4,IF(I23=2,'Loan - Extraneous'!$C$4,0))","v":0},{"$f":"IF(J23=1,'Loan - Extraneous'!$B$5,IF(J23=2,'Loan - Extraneous'!$C$5,0))","v":0}]
["Variety 10",31,3,1.21,31.9,5.3,82,0,0,9,39,{"$f":"IF(OR(LEN(B24)=0,LEN(C24)=0,LEN(D24)=0),\"data needed\",IF(K24>=38,INDEX('Loan - Grade & Staple'!$A$1:$K$1000,MATCH($B24&$C24,'Loan - Grade & Staple'!$B$1:$B$1000&'Loan - Grade & Staple'!$C$1:$C$1000,0),MATCH(\"38+\",'Loan - Grade & Staple'!$A$3:$K$3,0)),IF(K24<=31,INDEX('Loan - Grade & Staple'!$A$1:$K$1000,MATCH($B24&$C24,'Loan - Grade & Staple'!$B$1:$B$1000&'Loan - Grade & Staple'!$C$1:$C$1000,0),MATCH(\"26-31\",'Loan - Grade & Staple'!$A$3:$K$3,0)),IF(ISNA(INDEX('Loan - Grade & Staple'!$A$1:$K$1000,MATCH($B24&C24,'Loan - Grade & Staple'!$B$1:$B$1000&'Loan - Grade & Staple'!$C$1:$C$1000,0),MATCH($K24,'Loan - Grade & Staple'!$A$3:$K$3,0))),-4000,INDEX('Loan - Grade & Staple'!$A$1:$K$1000,MATCH($B24&C24,'Loan - Grade & Staple'!$B$1:$B$1000&'Loan - Grade & Staple'!$C$1:$C$1000,0),MATCH($K24,'Loan - Grade & Staple'!$A$3:$K$3,0))))))","v":415},{"$f":"IF(LEN(E24)=0,\"data needed\",INDEX('Loan - Strength'!$C$1:$C$18,MATCH(E24,'Loan - Strength'!$A$1:$A$18,1)))","v":50},{"$f":"IF(LEN(F24)=0,\"data needed\",INDEX('Loan - Micronaire'!$C$1:$C$20,MATCH($F24,'Loan - Micronaire'!$A$1:$A$20,1)))","v":-380},{"$f":"IF(LEN(G24)=0,\"data needed\",INDEX('Loan - Uniformity'!$C$1:$C$20,MATCH($G24,'Loan - Uniformity'!$A$1:$A$20,1)))","v":5},0,90,{"$f":"IF(OR(LEN(B24)=0,LEN(C24)=0,LEN(D24)=0,LEN(E24)=0,LEN(F24)=0,LEN(G24)=0),\"data needed\",IF('Base Values'!$B$8+(SUM($L24:$P24)/100)<0,0,'Base Values'!$B$8+(SUM(L24:P24)/100)))","v":52.9},null,{"$f":"IF(AND($T$13=TRUE,H24=1),'Loan - Extraneous'!B$3,IF(AND($T$13=TRUE,H24=2),'Loan - Extraneous'!C$3,0))","v":0},{"$f":"IF(I24=1,'Loan - Extraneous'!$B$4,IF(I24=2,'Loan - Extraneous'!$C$4,0))","v":0},{"$f":"IF(J24=1,'Loan - Extraneous'!$B$5,IF(J24=2,'Loan - Extraneous'!$C$5,0))","v":0}]
[null,null,null,null,null,null,null,null,null,null,{"$f":"IF(LEN(D25)=0,\"\",ROUND(D25*32,0))","v":""},{"$f":"IF(OR(LEN(B25)=0,LEN(C25)=0,LEN(D25)=0),\"\",IF(K25>=38,INDEX('Loan - Grade & Staple'!$A$1:$K$1000,MATCH($B25&$C25,'Loan - Grade & Staple'!$B$1:$B$1000&'Loan - Grade & Staple'!$C$1:$C$1000,0),MATCH(\"38+\",'Loan - Grade & Staple'!$A$3:$K$3,0)),IF(K25<=31,INDEX('Loan - Grade & Staple'!$A$1:$K$1000,MATCH($B25&$C25,'Loan - Grade & Staple'!$B$1:$B$1000&'Loan - Grade & Staple'!$C$1:$C$1000,0),MATCH(\"26-31\",'Loan - Grade & Staple'!$A$3:$K$3,0)),IF(ISNA(INDEX('Loan - Grade & Staple'!$A$1:$K$1000,MATCH($B25&C25,'Loan - Grade & Staple'!$B$1:$B$1000&'Loan - Grade & Staple'!$C$1:$C$1000,0),MATCH($K25,'Loan - Grade & Staple'!$A$3:$K$3,0))),-4000,INDEX('Loan - Grade & Staple'!$A$1:$K$1000,MATCH($B25&C25,'Loan - Grade & Staple'!$B$1:$B$1000&'Loan - Grade & Staple'!$C$1:$C$1000,0),MATCH($K25,'Loan - Grade & Staple'!$A$3:$K$3,0))))))","v":""},{"$f":"IF(LEN(E25)=0,\"\",INDEX('Loan - Strength'!$C$1:$C$18,MATCH(E25,'Loan - Strength'!$A$1:$A$18,1)))","v":""},{"$f":"IF(LEN(F25)=0,\"\",INDEX('Loan - Micronaire'!$C$1:$C$20,MATCH($F25,'Loan - Micronaire'!$A$1:$A$20,1)))","v":""},{"$f":"IF(LEN(G25)=0,\"\",INDEX('Loan - Uniformity'!$C$1:$C$20,MATCH($G25,'Loan - Uniformity'!$A$1:$A$20,1)))","v":""},{"$f":"IF(LEN(A25)=0,\"\",SUM(T25:V25))","v":""},{"$f":"IF(OR(LEN(B25)=0,LEN(C25)=0,LEN(D25)=0,LEN(E25)=0,LEN(F25)=0,LEN(G25)=0),\"\",SUM(L25:P25))","v":""},{"$f":"IF(OR(LEN(B25)=0,LEN(C25)=0,LEN(D25)=0,LEN(E25)=0,LEN(F25)=0,LEN(G25)=0),\"\",IF('Base Values'!$B$8+(SUM($L25:$P25)/100)<0,0,'Base Values'!$B$8+(SUM(L25:P25)/100)))","v":""},null,{"$f":"IF(AND($T$13=TRUE,H25=1),'Loan - Extraneous'!B$3,IF(AND($T$13=TRUE,H25=2),'Loan - Extraneous'!C$3,0))","v":0},{"$f":"IF(I25=1,'Loan - Extraneous'!$B$4,IF(I25=2,'Loan - Extraneous'!$C$4,0))","v":0},{"$f":"IF(J25=1,'Loan - Extraneous'!$B$5,IF(J25=2,'Loan - Extraneous'!$C$5,0))","v":0}]
[null,null,null,null,null,null,null,null,null,null,{"$f":"IF(LEN(D26)=0,\"\",ROUND(D26*32,0))","v":""},{"$f":"IF(OR(LEN(B26)=0,LEN(C26)=0,LEN(D26)=0),\"\",IF(K26>=38,INDEX('Loan - Grade & Staple'!$A$1:$K$1000,MATCH($B26&$C26,'Loan - Grade & Staple'!$B$1:$B$1000&'Loan - Grade & Staple'!$C$1:$C$1000,0),MATCH(\"38+\",'Loan - Grade & Staple'!$A$3:$K$3,0)),IF(K26<=31,INDEX('Loan - Grade & Staple'!$A$1:$K$1000,MATCH($B26&$C26,'Loan - Grade & Staple'!$B$1:$B$1000&'Loan - Grade & Staple'!$C$1:$C$1000,0),MATCH(\"26-31\",'Loan - Grade & Staple'!$A$3:$K$3,0)),IF(ISNA(INDEX('Loan - Grade & Staple'!$A$1:$K$1000,MATCH($B26&C26,'Loan - Grade & Staple'!$B$1:$B$1000&'Loan - Grade & Staple'!$C$1:$C$1000,0),MATCH($K26,'Loan - Grade & Staple'!$A$3:$K$3,0))),-4000,INDEX('Loan - Grade & Staple'!$A$1:$K$1000,MATCH($B26&C26,'Loan - Grade & Staple'!$B$1:$B$1000&'Loan - Grade & Staple'!$C$1:$C$1000,0),MATCH($K26,'Loan - Grade & Staple'!$A$3:$K$3,0))))))","v":""},{"$f":"IF(LEN(E26)=0,\"\",INDEX('Loan - Strength'!$C$1:$C$18,MATCH(E26,'Loan - Strength'!$A$1:$A$18,1)))","v":""},{"$f":"IF(LEN(F26)=0,\"\",INDEX('Loan - Micronaire'!$C$1:$C$20,MATCH($F26,'Loan - Micronaire'!$A$1:$A$20,1)))","v":""},{"$f":"IF(LEN(G26)=0,\"\",INDEX('Loan - Uniformity'!$C$1:$C$20,MATCH($G26,'Loan - Uniformity'!$A$1:$A$20,1)))","v":""},{"$f":"IF(LEN(A26)=0,\"\",SUM(T26:V26))","v":""},{"$f":"IF(OR(LEN(B26)=0,LEN(C26)=0,LEN(D26)=0,LEN(E26)=0,LEN(F26)=0,LEN(G26)=0),\"\",SUM(L26:P26))","v":""},{"$f":"IF(OR(LEN(B26)=0,LEN(C26)=0,LEN(D26)=0,LEN(E26)=0,LEN(F26)=0,LEN(G26)=0),\"\",IF('Base Values'!$B$8+(SUM($L26:$P26)/100)<0,0,'Base Values'!$B$8+(SUM(L26:P26)/100)))","v":""},null,{"$f":"IF(AND($T$13=TRUE,H26=1),'Loan - Extraneous'!B$3,IF(AND($T$13=TRUE,H26=2),'Loan - Extraneous'!C$3,0))","v":0},{"$f":"IF(I26=1,'Loan - Extraneous'!$B$4,IF(I26=2,'Loan - Extraneous'!$C$4,0))","v":0},{"$f":"IF(J26=1,'Loan - Extraneous'!$B$5,IF(J26=2,'Loan - Extraneous'!$C$5,0))","v":0}]
[null,null,null,null,null,null,null,null,null,null,"",{"$f":"IF(OR(LEN(B27)=0,LEN(C27)=0,LEN(D27)=0),\"\",IF(K27>=38,INDEX('Loan - Grade & Staple'!$A$1:$K$1000,MATCH($B27&$C27,'Loan - Grade & Staple'!$B$1:$B$1000&'Loan - Grade & Staple'!$C$1:$C$1000,0),MATCH(\"38+\",'Loan - Grade & Staple'!$A$3:$K$3,0)),IF(K27<=31,INDEX('Loan - Grade & Staple'!$A$1:$K$1000,MATCH($B27&$C27,'Loan - Grade & Staple'!$B$1:$B$1000&'Loan - Grade & Staple'!$C$1:$C$1000,0),MATCH(\"26-31\",'Loan - Grade & Staple'!$A$3:$K$3,0)),IF(ISNA(INDEX('Loan - Grade & Staple'!$A$1:$K$1000,MATCH($B27&C27,'Loan - Grade & Staple'!$B$1:$B$1000&'Loan - Grade & Staple'!$C$1:$C$1000,0),MATCH($K27,'Loan - Grade & Staple'!$A$3:$K$3,0))),-4000,INDEX('Loan - Grade & Staple'!$A$1:$K$1000,MATCH($B27&C27,'Loan - Grade & Staple'!$B$1:$B$1000&'Loan - Grade & Staple'!$C$1:$C$1000,0),MATCH($K27,'Loan - Grade & Staple'!$A$3:$K$3,0))))))","v":""},{"$f":"IF(LEN(E27)=0,\"\",INDEX('Loan - Strength'!$C$1:$C$18,MATCH(E27,'Loan - Strength'!$A$1:$A$18,1)))","v":""},{"$f":"IF(LEN(F27)=0,\"\",INDEX('Loan - Micronaire'!$C$1:$C$20,MATCH($F27,'Loan - Micronaire'!$A$1:$A$20,1)))","v":""},{"$f":"IF(LEN(G27)=0,\"\",INDEX('Loan - Uniformity'!$C$1:$C$20,MATCH($G27,'Loan - Uniformity'!$A$1:$A$20,1)))","v":""},"","",{"$f":"IF(OR(LEN(B27)=0,LEN(C27)=0,LEN(D27)=0,LEN(E27)=0,LEN(F27)=0,LEN(G27)=0),\"\",IF('Base Values'!$B$8+(SUM($L27:$P27)/100)<0,0,'Base Values'!$B$8+(SUM(L27:P27)/100)))","v":""},null,{"$f":"IF(AND($T$13=TRUE,H27=1),'Loan - Extraneous'!B$3,IF(AND($T$13=TRUE,H27=2),'Loan - Extraneous'!C$3,0))","v":0},{"$f":"IF(I27=1,'Loan - Extraneous'!$B$4,IF(I27=2,'Loan - Extraneous'!$C$4,0))","v":0},{"$f":"IF(J27=1,'Loan - Extraneous'!$B$5,IF(J27=2,'Loan - Extraneous'!$C$5,0))","v":0}]
[null,null,null,null,null,null,null,null,null,null,"",{"$f":"IF(OR(LEN(B28)=0,LEN(C28)=0,LEN(D28)=0),\"\",IF(K28>=38,INDEX('Loan - Grade & Staple'!$A$1:$K$1000,MATCH($B28&$C28,'Loan - Grade & Staple'!$B$1:$B$1000&'Loan - Grade & Staple'!$C$1:$C$1000,0),MATCH(\"38+\",'Loan - Grade & Staple'!$A$3:$K$3,0)),IF(K28<=31,INDEX('Loan - Grade & Staple'!$A$1:$K$1000,MATCH($B28&$C28,'Loan - Grade & Staple'!$B$1:$B$1000&'Loan - Grade & Staple'!$C$1:$C$1000,0),MATCH(\"26-31\",'Loan - Grade & Staple'!$A$3:$K$3,0)),IF(ISNA(INDEX('Loan - Grade & Staple'!$A$1:$K$1000,MATCH($B28&C28,'Loan - Grade & Staple'!$B$1:$B$1000&'Loan - Grade & Staple'!$C$1:$C$1000,0),MATCH($K28,'Loan - Grade & Staple'!$A$3:$K$3,0))),-4000,INDEX('Loan - Grade & Staple'!$A$1:$K$1000,MATCH($B28&C28,'Loan - Grade & Staple'!$B$1:$B$1000&'Loan - Grade & Staple'!$C$1:$C$1000,0),MATCH($K28,'Loan - Grade & Staple'!$A$3:$K$3,0))))))","v":""},{"$f":"IF(LEN(E28)=0,\"\",INDEX('Loan - Strength'!$C$1:$C$18,MATCH(E28,'Loan - Strength'!$A$1:$A$18,1)))","v":""},{"$f":"IF(LEN(F28)=0,\"\",INDEX('Loan - Micronaire'!$C$1:$C$20,MATCH($F28,'Loan - Micronaire'!$A$1:$A$20,1)))","v":""},{"$f":"IF(LEN(G28)=0,\"\",INDEX('Loan - Uniformity'!$C$1:$C$20,MATCH($G28,'Loan - Uniformity'!$A$1:$A$20,1)))","v":""},"","",{"$f":"IF(OR(LEN(B28)=0,LEN(C28)=0,LEN(D28)=0,LEN(E28)=0,LEN(F28)=0,LEN(G28)=0),\"\",IF('Base Values'!$B$8+(SUM($L28:$P28)/100)<0,0,'Base Values'!$B$8+(SUM(L28:P28)/100)))","v":""},null,{"$f":"IF(AND($T$13=TRUE,H28=1),'Loan - Extraneous'!B$3,IF(AND($T$13=TRUE,H28=2),'Loan - Extraneous'!C$3,0))","v":0},{"$f":"IF(I28=1,'Loan - Extraneous'!$B$4,IF(I28=2,'Loan - Extraneous'!$C$4,0))","v":0},{"$f":"IF(J28=1,'Loan - Extraneous'!$B$5,IF(J28=2,'Loan - Extraneous'!$C$5,0))","v":0}]
[null,null,null,null,null,null,null,null,null,null,"",{"$f":"IF(OR(LEN(B29)=0,LEN(C29)=0,LEN(D29)=0),\"\",IF(K29>=38,INDEX('Loan - Grade & Staple'!$A$1:$K$1000,MATCH($B29&$C29,'Loan - Grade & Staple'!$B$1:$B$1000&'Loan - Grade & Staple'!$C$1:$C$1000,0),MATCH(\"38+\",'Loan - Grade & Staple'!$A$3:$K$3,0)),IF(K29<=31,INDEX('Loan - Grade & Staple'!$A$1:$K$1000,MATCH($B29&$C29,'Loan - Grade & Staple'!$B$1:$B$1000&'Loan - Grade & Staple'!$C$1:$C$1000,0),MATCH(\"26-31\",'Loan - Grade & Staple'!$A$3:$K$3,0)),IF(ISNA(INDEX('Loan - Grade & Staple'!$A$1:$K$1000,MATCH($B29&C29,'Loan - Grade & Staple'!$B$1:$B$1000&'Loan - Grade & Staple'!$C$1:$C$1000,0),MATCH($K29,'Loan - Grade & Staple'!$A$3:$K$3,0))),-4000,INDEX('Loan - Grade & Staple'!$A$1:$K$1000,MATCH($B29&C29,'Loan - Grade & Staple'!$B$1:$B$1000&'Loan - Grade & Staple'!$C$1:$C$1000,0),MATCH($K29,'Loan - Grade & Staple'!$A$3:$K$3,0))))))","v":""},{"$f":"IF(LEN(E29)=0,\"\",INDEX('Loan - Strength'!$C$1:$C$18,MATCH(E29,'Loan - Strength'!$A$1:$A$18,1)))","v":""},{"$f":"IF(LEN(F29)=0,\"\",INDEX('Loan - Micronaire'!$C$1:$C$20,MATCH($F29,'Loan - Micronaire'!$A$1:$A$20,1)))","v":""},{"$f":"IF(LEN(G29)=0,\"\",INDEX('Loan - Uniformity'!$C$1:$C$20,MATCH($G29,'Loan - Uniformity'!$A$1:$A$20,1)))","v":""},"","",{"$f":"IF(OR(LEN(B29)=0,LEN(C29)=0,LEN(D29)=0,LEN(E29)=0,LEN(F29)=0,LEN(G29)=0),\"\",IF('Base Values'!$B$8+(SUM($L29:$P29)/100)<0,0,'Base Values'!$B$8+(SUM(L29:P29)/100)))","v":""},null,{"$f":"IF(AND($T$13=TRUE,H29=1),'Loan - Extraneous'!B$3,IF(AND($T$13=TRUE,H29=2),'Loan - Extraneous'!C$3,0))","v":0},{"$f":"IF(I29=1,'Loan - Extraneous'!$B$4,IF(I29=2,'Loan - Extraneous'!$C$4,0))","v":0},{"$f":"IF(J29=1,'Loan - Extraneous'!$B$5,IF(J29=2,'Loan - Extraneous'!$C$5,0))","v":0}]
[null,null,null,null,null,null,null,null,null,null,"",{"$f":"IF(OR(LEN(B30)=0,LEN(C30)=0,LEN(D30)=0),\"\",IF(K30>=38,INDEX('Loan - Grade & Staple'!$A$1:$K$1000,MATCH($B30&$C30,'Loan - Grade & Staple'!$B$1:$B$1000&'Loan - Grade & Staple'!$C$1:$C$1000,0),MATCH(\"38+\",'Loan - Grade & Staple'!$A$3:$K$3,0)),IF(K30<=31,INDEX('Loan - Grade & Staple'!$A$1:$K$1000,MATCH($B30&$C30,'Loan - Grade & Staple'!$B$1:$B$1000&'Loan - Grade & Staple'!$C$1:$C$1000,0),MATCH(\"26-31\",'Loan - Grade & Staple'!$A$3:$K$3,0)),IF(ISNA(INDEX('Loan - Grade & Staple'!$A$1:$K$1000,MATCH($B30&C30,'Loan - Grade & Staple'!$B$1:$B$1000&'Loan - Grade & Staple'!$C$1:$C$1000,0),MATCH($K30,'Loan - Grade & Staple'!$A$3:$K$3,0))),-4000,INDEX('Loan - Grade & Staple'!$A$1:$K$1000,MATCH($B30&C30,'Loan - Grade & Staple'!$B$1:$B$1000&'Loan - Grade & Staple'!$C$1:$C$1000,0),MATCH($K30,'Loan - Grade & Staple'!$A$3:$K$3,0))))))","v":""},{"$f":"IF(LEN(E30)=0,\"\",INDEX('Loan - Strength'!$C$1:$C$18,MATCH(E30,'Loan - Strength'!$A$1:$A$18,1)))","v":""},{"$f":"IF(LEN(F30)=0,\"\",INDEX('Loan - Micronaire'!$C$1:$C$20,MATCH($F30,'Loan - Micronaire'!$A$1:$A$20,1)))","v":""},{"$f":"IF(LEN(G30)=0,\"\",INDEX('Loan - Uniformity'!$C$1:$C$20,MATCH($G30,'Loan - Uniformity'!$A$1:$A$20,1)))","v":""},"","",{"$f":"IF(OR(LEN(B30)=0,LEN(C30)=0,LEN(D30)=0,LEN(E30)=0,LEN(F30)=0,LEN(G30)=0),\"\",IF('Base Values'!$B$8+(SUM($L30:$P30)/100)<0,0,'Base Values'!$B$8+(SUM(L30:P30)/100)))","v":""},null,{"$f":"IF(AND($T$13=TRUE,H30=1),'Loan - Extraneous'!B$3,IF(AND($T$13=TRUE,H30=2),'Loan - Extraneous'!C$3,0))","v":0},{"$f":"IF(I30=1,'Loan - Extraneous'!$B$4,IF(I30=2,'Loan - Extraneous'!$C$4,0))","v":0},{"$f":"IF(J30=1,'Loan - Extraneous'!$B$5,IF(J30=2,'Loan - Extraneous'!$C$5,0))","v":0}]
[null,null,null,null,null,null,null,null,null,null,"",{"$f":"IF(OR(LEN(B31)=0,LEN(C31)=0,LEN(D31)=0),\"\",IF(K31>=38,INDEX('Loan - Grade & Staple'!$A$1:$K$1000,MATCH($B31&$C31,'Loan - Grade & Staple'!$B$1:$B$1000&'Loan - Grade & Staple'!$C$1:$C$1000,0),MATCH(\"38+\",'Loan - Grade & Staple'!$A$3:$K$3,0)),IF(K31<=31,INDEX('Loan - Grade & Staple'!$A$1:$K$1000,MATCH($B31&$C31,'Loan - Grade & Staple'!$B$1:$B$1000&'Loan - Grade & Staple'!$C$1:$C$1000,0),MATCH(\"26-31\",'Loan - Grade & Staple'!$A$3:$K$3,0)),IF(ISNA(INDEX('Loan - Grade & Staple'!$A$1:$K$1000,MATCH($B31&C31,'Loan - Grade & Staple'!$B$1:$B$1000&'Loan - Grade & Staple'!$C$1:$C$1000,0),MATCH($K31,'Loan - Grade & Staple'!$A$3:$K$3,0))),-4000,INDEX('Loan - Grade & Staple'!$A$1:$K$1000,MATCH($B31&C31,'Loan - Grade & Staple'!$B$1:$B$1000&'Loan - Grade & Staple'!$C$1:$C$1000,0),MATCH($K31,'Loan - Grade & Staple'!$A$3:$K$3,0))))))","v":""},{"$f":"IF(LEN(E31)=0,\"\",INDEX('Loan - Strength'!$C$1:$C$18,MATCH(E31,'Loan - Strength'!$A$1:$A$18,1)))","v":""},{"$f":"IF(LEN(F31)=0,\"\",INDEX('Loan - Micronaire'!$C$1:$C$20,MATCH($F31,'Loan - Micronaire'!$A$1:$A$20,1)))","v":""},{"$f":"IF(LEN(G31)=0,\"\",INDEX('Loan - Uniformity'!$C$1:$C$20,MATCH($G31,'Loan - Uniformity'!$A$1:$A$20,1)))","v":""},"","",{"$f":"IF(OR(LEN(B31)=0,LEN(C31)=0,LEN(D31)=0,LEN(E31)=0,LEN(F31)=0,LEN(G31)=0),\"\",IF('Base Values'!$B$8+(SUM($L31:$P31)/100)<0,0,'Base Values'!$B$8+(SUM(L31:P31)/100)))","v":""},null,{"$f":"IF(AND($T$13=TRUE,H31=1),'Loan - Extraneous'!B$3,IF(AND($T$13=TRUE,H31=2),'Loan - Extraneous'!C$3,0))","v":0},{"$f":"IF(I31=1,'Loan - Extraneous'!$B$4,IF(I31=2,'Loan - Extraneous'!$C$4,0))","v":0},{"$f":"IF(J31=1,'Loan - Extraneous'!$B$5,IF(J31=2,'Loan - Extraneous'!$C$5,0))","v":0}]
[null,null,null,null,null,null,null,null,null,null,"",{"$f":"IF(OR(LEN(B32)=0,LEN(C32)=0,LEN(D32)=0),\"\",IF(K32>=38,INDEX('Loan - Grade & Staple'!$A$1:$K$1000,MATCH($B32&$C32,'Loan - Grade & Staple'!$B$1:$B$1000&'Loan - Grade & Staple'!$C$1:$C$1000,0),MATCH(\"38+\",'Loan - Grade & Staple'!$A$3:$K$3,0)),IF(K32<=31,INDEX('Loan - Grade & Staple'!$A$1:$K$1000,MATCH($B32&$C32,'Loan - Grade & Staple'!$B$1:$B$1000&'Loan - Grade & Staple'!$C$1:$C$1000,0),MATCH(\"26-31\",'Loan - Grade & Staple'!$A$3:$K$3,0)),IF(ISNA(INDEX('Loan - Grade & Staple'!$A$1:$K$1000,MATCH($B32&C32,'Loan - Grade & Staple'!$B$1:$B$1000&'Loan - Grade & Staple'!$C$1:$C$1000,0),MATCH($K32,'Loan - Grade & Staple'!$A$3:$K$3,0))),-4000,INDEX('Loan - Grade & Staple'!$A$1:$K$1000,MATCH($B32&C32,'Loan - Grade & Staple'!$B$1:$B$1000&'Loan - Grade & Staple'!$C$1:$C$1000,0),MATCH($K32,'Loan - Grade & Staple'!$A$3:$K$3,0))))))","v":""},{"$f":"IF(LEN(E32)=0,\"\",INDEX('Loan - Strength'!$C$1:$C$18,MATCH(E32,'Loan - Strength'!$A$1:$A$18,1)))","v":""},{"$f":"IF(LEN(F32)=0,\"\",INDEX('Loan - Micronaire'!$C$1:$C$20,MATCH($F32,'Loan - Micronaire'!$A$1:$A$20,1)))","v":""},{"$f":"IF(LEN(G32)=0,\"\",INDEX('Loan - Uniformity'!$C$1:$C$20,MATCH($G32,'Loan - Uniformity'!$A$1:$A$20,1)))","v":""},"","",{"$f":"IF(OR(LEN(B32)=0,LEN(C32)=0,LEN(D32)=0,LEN(E32)=0,LEN(F32)=0,LEN(G32)=0),\"\",IF('Base Values'!$B$8+(SUM($L32:$P32)/100)<0,0,'Base Values'!$B$8+(SUM(L32:P32)/100)))","v":""},null,{"$f":"IF(AND($T$13=TRUE,H32=1),'Loan - Extraneous'!B$3,IF(AND($T$13=TRUE,H32=2),'Loan - Extraneous'!C$3,0))","v":0},{"$f":"IF(I32=1,'Loan - Extraneous'!$B$4,IF(I32=2,'Loan - Extraneous'!$C$4,0))","v":0},{"$f":"IF(J32=1,'Loan - Extraneous'!$B$5,IF(J32=2,'Loan - Extraneous'!$C$5,0))","v":0}]
[null,null,null,null,null,null,null,null,null,null,"",{"$f":"IF(OR(LEN(B33)=0,LEN(C33)=0,LEN(D33)=0),\"\",IF(K33>=38,INDEX('Loan - Grade & Staple'!$A$1:$K$1000,MATCH($B33&$C33,'Loan - Grade & Staple'!$B$1:$B$1000&'Loan - Grade & Staple'!$C$1:$C$1000,0),MATCH(\"38+\",'Loan - Grade & Staple'!$A$3:$K$3,0)),IF(K33<=31,INDEX('Loan - Grade & Staple'!$A$1:$K$1000,MATCH($B33&$C33,'Loan - Grade & Staple'!$B$1:$B$1000&'Loan - Grade & Staple'!$C$1:$C$1000,0),MATCH(\"26-31\",'Loan - Grade & Staple'!$A$3:$K$3,0)),IF(ISNA(INDEX('Loan - Grade & Staple'!$A$1:$K$1000,MATCH($B33&C33,'Loan - Grade & Staple'!$B$1:$B$1000&'Loan - Grade & Staple'!$C$1:$C$1000,0),MATCH($K33,'Loan - Grade & Staple'!$A$3:$K$3,0))),-4000,INDEX('Loan - Grade & Staple'!$A$1:$K$1000,MATCH($B33&C33,'Loan - Grade & Staple'!$B$1:$B$1000&'Loan - Grade & Staple'!$C$1:$C$1000,0),MATCH($K33,'Loan - Grade & Staple'!$A$3:$K$3,0))))))","v":""},{"$f":"IF(LEN(E33)=0,\"\",INDEX('Loan - Strength'!$C$1:$C$18,MATCH(E33,'Loan - Strength'!$A$1:$A$18,1)))","v":""},{"$f":"IF(LEN(F33)=0,\"\",INDEX('Loan - Micronaire'!$C$1:$C$20,MATCH($F33,'Loan - Micronaire'!$A$1:$A$20,1)))","v":""},{"$f":"IF(LEN(G33)=0,\"\",INDEX('Loan - Uniformity'!$C$1:$C$20,MATCH($G33,'Loan - Uniformity'!$A$1:$A$20,1)))","v":""},"","",{"$f":"IF(OR(LEN(B33)=0,LEN(C33)=0,LEN(D33)=0,LEN(E33)=0,LEN(F33)=0,LEN(G33)=0),\"\",IF('Base Values'!$B$8+(SUM($L33:$P33)/100)<0,0,'Base Values'!$B$8+(SUM(L33:P33)/100)))","v":""},null,{"$f":"IF(AND($T$13=TRUE,H33=1),'Loan - Extraneous'!B$3,IF(AND($T$13=TRUE,H33=2),'Loan - Extraneous'!C$3,0))","v":0},{"$f":"IF(I33=1,'Loan - Extraneous'!$B$4,IF(I33=2,'Loan - Extraneous'!$C$4,0))","v":0},{"$f":"IF(J33=1,'Loan - Extraneous'!$B$5,IF(J33=2,'Loan - Extraneous'!$C$5,0))","v":0}]
[null,null,null,null,null,null,null,null,null,null,"",{"$f":"IF(OR(LEN(B34)=0,LEN(C34)=0,LEN(D34)=0),\"\",IF(K34>=38,INDEX('Loan - Grade & Staple'!$A$1:$K$1000,MATCH($B34&$C34,'Loan - Grade & Staple'!$B$1:$B$1000&'Loan - Grade & Staple'!$C$1:$C$1000,0),MATCH(\"38+\",'Loan - Grade & Staple'!$A$3:$K$3,0)),IF(K34<=31,INDEX('Loan - Grade & Staple'!$A$1:$K$1000,MATCH($B34&$C34,'Loan - Grade & Staple'!$B$1:$B$1000&'Loan - Grade & Staple'!$C$1:$C$1000,0),MATCH(\"26-31\",'Loan - Grade & Staple'!$A$3:$K$3,0)),IF(ISNA(INDEX('Loan - Grade & Staple'!$A$1:$K$1000,MATCH($B34&C34,'Loan - Grade & Staple'!$B$1:$B$1000&'Loan - Grade & Staple'!$C$1:$C$1000,0),MATCH($K34,'Loan - Grade & Staple'!$A$3:$K$3,0))),-4000,INDEX('Loan - Grade & Staple'!$A$1:$K$1000,MATCH($B34&C34,'Loan - Grade & Staple'!$B$1:$B$1000&'Loan - Grade & Staple'!$C$1:$C$1000,0),MATCH($K34,'Loan - Grade & Staple'!$A$3:$K$3,0))))))","v":""},{"$f":"IF(LEN(E34)=0,\"\",INDEX('Loan - Strength'!$C$1:$C$18,MATCH(E34,'Loan - Strength'!$A$1:$A$18,1)))","v":""},{"$f":"IF(LEN(F34)=0,\"\",INDEX('Loan - Micronaire'!$C$1:$C$20,MATCH($F34,'Loan - Micronaire'!$A$1:$A$20,1)))","v":""},{"$f":"IF(LEN(G34)=0,\"\",INDEX('Loan - Uniformity'!$C$1:$C$20,MATCH($G34,'Loan - Uniformity'!$A$1:$A$20,1)))","v":""},"","",{"$f":"IF(OR(LEN(B34)=0,LEN(C34)=0,LEN(D34)=0,LEN(E34)=0,LEN(F34)=0,LEN(G34)=0),\"\",IF('Base Values'!$B$8+(SUM($L34:$P34)/100)<0,0,'Base Values'!$B$8+(SUM(L34:P34)/100)))","v":""},null,{"$f":"IF(AND($T$13=TRUE,H34=1),'Loan - Extraneous'!B$3,IF(AND($T$13=TRUE,H34=2),'Loan - Extraneous'!C$3,0))","v":0},{"$f":"IF(I34=1,'Loan - Extraneous'!$B$4,IF(I34=2,'Loan - Extraneous'!$C$4,0))","v":0},{"$f":"IF(J34=1,'Loan - Extraneous'!$B$5,IF(J34=2,'Loan - Extraneous'!$C$5,0))","v":0}]
[null,null,null,null,null,null,null,null,null,null,"",{"$f":"IF(OR(LEN(B35)=0,LEN(C35)=0,LEN(D35)=0),\"\",IF(K35>=38,INDEX('Loan - Grade & Staple'!$A$1:$K$1000,MATCH($B35&$C35,'Loan - Grade & Staple'!$B$1:$B$1000&'Loan - Grade & Staple'!$C$1:$C$1000,0),MATCH(\"38+\",'Loan - Grade & Staple'!$A$3:$K$3,0)),IF(K35<=31,INDEX('Loan - Grade & Staple'!$A$1:$K$1000,MATCH($B35&$C35,'Loan - Grade & Staple'!$B$1:$B$1000&'Loan - Grade & Staple'!$C$1:$C$1000,0),MATCH(\"26-31\",'Loan - Grade & Staple'!$A$3:$K$3,0)),IF(ISNA(INDEX('Loan - Grade & Staple'!$A$1:$K$1000,MATCH($B35&C35,'Loan - Grade & Staple'!$B$1:$B$1000&'Loan - Grade & Staple'!$C$1:$C$1000,0),MATCH($K35,'Loan - Grade & Staple'!$A$3:$K$3,0))),-4000,INDEX('Loan - Grade & Staple'!$A$1:$K$1000,MATCH($B35&C35,'Loan - Grade & Staple'!$B$1:$B$1000&'Loan - Grade & Staple'!$C$1:$C$1000,0),MATCH($K35,'Loan - Grade & Staple'!$A$3:$K$3,0))))))","v":""},{"$f":"IF(LEN(E35)=0,\"\",INDEX('Loan - Strength'!$C$1:$C$18,MATCH(E35,'Loan - Strength'!$A$1:$A$18,1)))","v":""},{"$f":"IF(LEN(F35)=0,\"\",INDEX('Loan - Micronaire'!$C$1:$C$20,MATCH($F35,'Loan - Micronaire'!$A$1:$A$20,1)))","v":""},{"$f":"IF(LEN(G35)=0,\"\",INDEX('Loan - Uniformity'!$C$1:$C$20,MATCH($G35,'Loan - Uniformity'!$A$1:$A$20,1)))","v":""},"","",{"$f":"IF(OR(LEN(B35)=0,LEN(C35)=0,LEN(D35)=0,LEN(E35)=0,LEN(F35)=0,LEN(G35)=0),\"\",IF('Base Values'!$B$8+(SUM($L35:$P35)/100)<0,0,'Base Values'!$B$8+(SUM(L35:P35)/100)))","v":""},null,{"$f":"IF(AND($T$13=TRUE,H35=1),'Loan - Extraneous'!B$3,IF(AND($T$13=TRUE,H35=2),'Loan - Extraneous'!C$3,0))","v":0},{"$f":"IF(I35=1,'Loan - Extraneous'!$B$4,IF(I35=2,'Loan - Extraneous'!$C$4,0))","v":0},{"$f":"IF(J35=1,'Loan - Extraneous'!$B$5,IF(J35=2,'Loan - Extraneous'!$C$5,0))","v":0}]
[null,null,null,null,null,null,null,null,null,null,"",{"$f":"IF(OR(LEN(B36)=0,LEN(C36)=0,LEN(D36)=0),\"\",IF(K36>=38,INDEX('Loan - Grade & Staple'!$A$1:$K$1000,MATCH($B36&$C36,'Loan - Grade & Staple'!$B$1:$B$1000&'Loan - Grade & Staple'!$C$1:$C$1000,0),MATCH(\"38+\",'Loan - Grade & Staple'!$A$3:$K$3,0)),IF(K36<=31,INDEX('Loan - Grade & Staple'!$A$1:$K$1000,MATCH($B36&$C36,'Loan - Grade & Staple'!$B$1:$B$1000&'Loan - Grade & Staple'!$C$1:$C$1000,0),MATCH(\"26-31\",'Loan - Grade & Staple'!$A$3:$K$3,0)),IF(ISNA(INDEX('Loan - Grade & Staple'!$A$1:$K$1000,MATCH($B36&C36,'Loan - Grade & Staple'!$B$1:$B$1000&'Loan - Grade & Staple'!$C$1:$C$1000,0),MATCH($K36,'Loan - Grade & Staple'!$A$3:$K$3,0))),-4000,INDEX('Loan - Grade & Staple'!$A$1:$K$1000,MATCH($B36&C36,'Loan - Grade & Staple'!$B$1:$B$1000&'Loan - Grade & Staple'!$C$1:$C$1000,0),MATCH($K36,'Loan - Grade & Staple'!$A$3:$K$3,0))))))","v":""},{"$f":"IF(LEN(E36)=0,\"\",INDEX('Loan - Strength'!$C$1:$C$18,MATCH(E36,'Loan - Strength'!$A$1:$A$18,1)))","v":""},{"$f":"IF(LEN(F36)=0,\"\",INDEX('Loan - Micronaire'!$C$1:$C$20,MATCH($F36,'Loan - Micronaire'!$A$1:$A$20,1)))","v":""},{"$f":"IF(LEN(G36)=0,\"\",INDEX('Loan - Uniformity'!$C$1:$C$20,MATCH($G36,'Loan - Uniformity'!$A$1:$A$20,1)))","v":""},"","",{"$f":"IF(OR(LEN(B36)=0,LEN(C36)=0,LEN(D36)=0,LEN(E36)=0,LEN(F36)=0,LEN(G36)=0),\"\",IF('Base Values'!$B$8+(SUM($L36:$P36)/100)<0,0,'Base Values'!$B$8+(SUM(L36:P36)/100)))","v":""},null,{"$f":"IF(AND($T$13=TRUE,H36=1),'Loan - Extraneous'!B$3,IF(AND($T$13=TRUE,H36=2),'Loan - Extraneous'!C$3,0))","v":0},{"$f":"IF(I36=1,'Loan - Extraneous'!$B$4,IF(I36=2,'Loan - Extraneous'!$C$4,0))","v":0},{"$f":"IF(J36=1,'Loan - Extraneous'!$B$5,IF(J36=2,'Loan - Extraneous'!$C$5,0))","v":0}]
[null,null,null,null,null,null,null,null,null,null,"",{"$f":"IF(OR(LEN(B37)=0,LEN(C37)=0,LEN(D37)=0),\"\",IF(K37>=38,INDEX('Loan - Grade & Staple'!$A$1:$K$1000,MATCH($B37&$C37,'Loan - Grade & Staple'!$B$1:$B$1000&'Loan - Grade & Staple'!$C$1:$C$1000,0),MATCH(\"38+\",'Loan - Grade & Staple'!$A$3:$K$3,0)),IF(K37<=31,INDEX('Loan - Grade & Staple'!$A$1:$K$1000,MATCH($B37&$C37,'Loan - Grade & Staple'!$B$1:$B$1000&'Loan - Grade & Staple'!$C$1:$C$1000,0),MATCH(\"26-31\",'Loan - Grade & Staple'!$A$3:$K$3,0)),IF(ISNA(INDEX('Loan - Grade & Staple'!$A$1:$K$1000,MATCH($B37&C37,'Loan - Grade & Staple'!$B$1:$B$1000&'Loan - Grade & Staple'!$C$1:$C$1000,0),MATCH($K37,'Loan - Grade & Staple'!$A$3:$K$3,0))),-4000,INDEX('Loan - Grade & Staple'!$A$1:$K$1000,MATCH($B37&C37,'Loan - Grade & Staple'!$B$1:$B$1000&'Loan - Grade & Staple'!$C$1:$C$1000,0),MATCH($K37,'Loan - Grade & Staple'!$A$3:$K$3,0))))))","v":""},{"$f":"IF(LEN(E37)=0,\"\",INDEX('Loan - Strength'!$C$1:$C$18,MATCH(E37,'Loan - Strength'!$A$1:$A$18,1)))","v":""},{"$f":"IF(LEN(F37)=0,\"\",INDEX('Loan - Micronaire'!$C$1:$C$20,MATCH($F37,'Loan - Micronaire'!$A$1:$A$20,1)))","v":""},{"$f":"IF(LEN(G37)=0,\"\",INDEX('Loan - Uniformity'!$C$1:$C$20,MATCH($G37,'Loan - Uniformity'!$A$1:$A$20,1)))","v":""},"","",{"$f":"IF(OR(LEN(B37)=0,LEN(C37)=0,LEN(D37)=0,LEN(E37)=0,LEN(F37)=0,LEN(G37)=0),\"\",IF('Base Values'!$B$8+(SUM($L37:$P37)/100)<0,0,'Base Values'!$B$8+(SUM(L37:P37)/100)))","v":""},null,{"$f":"IF(AND($T$13=TRUE,H37=1),'Loan - Extraneous'!B$3,IF(AND($T$13=TRUE,H37=2),'Loan - Extraneous'!C$3,0))","v":0},{"$f":"IF(I37=1,'Loan - Extraneous'!$B$4,IF(I37=2,'Loan - Extraneous'!$C$4,0))","v":0},{"$f":"IF(J37=1,'Loan - Extraneous'!$B$5,IF(J37=2,'Loan - Extraneous'!$C$5,0))","v":0}]
[null,null,null,null,null,null,null,null,null,null,"",{"$f":"IF(OR(LEN(B38)=0,LEN(C38)=0,LEN(D38)=0),\"\",IF(K38>=38,INDEX('Loan - Grade & Staple'!$A$1:$K$1000,MATCH($B38&$C38,'Loan - Grade & Staple'!$B$1:$B$1000&'Loan - Grade & Staple'!$C$1:$C$1000,0),MATCH(\"38+\",'Loan - Grade & Staple'!$A$3:$K$3,0)),IF(K38<=31,INDEX('Loan - Grade & Staple'!$A$1:$K$1000,MATCH($B38&$C38,'Loan - Grade & Staple'!$B$1:$B$1000&'Loan - Grade & Staple'!$C$1:$C$1000,0),MATCH(\"26-31\",'Loan - Grade & Staple'!$A$3:$K$3,0)),IF(ISNA(INDEX('Loan - Grade & Staple'!$A$1:$K$1000,MATCH($B38&C38,'Loan - Grade & Staple'!$B$1:$B$1000&'Loan - Grade & Staple'!$C$1:$C$1000,0),MATCH($K38,'Loan - Grade & Staple'!$A$3:$K$3,0))),-4000,INDEX('Loan - Grade & Staple'!$A$1:$K$1000,MATCH($B38&C38,'Loan - Grade & Staple'!$B$1:$B$1000&'Loan - Grade & Staple'!$C$1:$C$1000,0),MATCH($K38,'Loan - Grade & Staple'!$A$3:$K$3,0))))))","v":""},{"$f":"IF(LEN(E38)=0,\"\",INDEX('Loan - Strength'!$C$1:$C$18,MATCH(E38,'Loan - Strength'!$A$1:$A$18,1)))","v":""},{"$f":"IF(LEN(F38)=0,\"\",INDEX('Loan - Micronaire'!$C$1:$C$20,MATCH($F38,'Loan - Micronaire'!$A$1:$A$20,1)))","v":""},{"$f":"IF(LEN(G38)=0,\"\",INDEX('Loan - Uniformity'!$C$1:$C$20,MATCH($G38,'Loan - Uniformity'!$A$1:$A$20,1)))","v":""},"","",{"$f":"IF(OR(LEN(B38)=0,LEN(C38)=0,LEN(D38)=0,LEN(E38)=0,LEN(F38)=0,LEN(G38)=0),\"\",IF('Base Values'!$B$8+(SUM($L38:$P38)/100)<0,0,'Base Values'!$B$8+(SUM(L38:P38)/100)))","v":""},null,{"$f":"IF(AND($T$13=TRUE,H38=1),'Loan - Extraneous'!B$3,IF(AND($T$13=TRUE,H38=2),'Loan - Extraneous'!C$3,0))","v":0},{"$f":"IF(I38=1,'Loan - Extraneous'!$B$4,IF(I38=2,'Loan - Extraneous'!$C$4,0))","v":0},{"$f":"IF(J38=1,'Loan - Extraneous'!$B$5,IF(J38=2,'Loan - Extraneous'!$C$5,0))","v":0}]
[null,null,null,null,null,null,null,null,null,null,"",{"$f":"IF(OR(LEN(B39)=0,LEN(C39)=0,LEN(D39)=0),\"\",IF(K39>=38,INDEX('Loan - Grade & Staple'!$A$1:$K$1000,MATCH($B39&$C39,'Loan - Grade & Staple'!$B$1:$B$1000&'Loan - Grade & Staple'!$C$1:$C$1000,0),MATCH(\"38+\",'Loan - Grade & Staple'!$A$3:$K$3,0)),IF(K39<=31,INDEX('Loan - Grade & Staple'!$A$1:$K$1000,MATCH($B39&$C39,'Loan - Grade & Staple'!$B$1:$B$1000&'Loan - Grade & Staple'!$C$1:$C$1000,0),MATCH(\"26-31\",'Loan - Grade & Staple'!$A$3:$K$3,0)),IF(ISNA(INDEX('Loan - Grade & Staple'!$A$1:$K$1000,MATCH($B39&C39,'Loan - Grade & Staple'!$B$1:$B$1000&'Loan - Grade & Staple'!$C$1:$C$1000,0),MATCH($K39,'Loan - Grade & Staple'!$A$3:$K$3,0))),-4000,INDEX('Loan - Grade & Staple'!$A$1:$K$1000,MATCH($B39&C39,'Loan - Grade & Staple'!$B$1:$B$1000&'Loan - Grade & Staple'!$C$1:$C$1000,0),MATCH($K39,'Loan - Grade & Staple'!$A$3:$K$3,0))))))","v":""},{"$f":"IF(LEN(E39)=0,\"\",INDEX('Loan - Strength'!$C$1:$C$18,MATCH(E39,'Loan - Strength'!$A$1:$A$18,1)))","v":""},{"$f":"IF(LEN(F39)=0,\"\",INDEX('Loan - Micronaire'!$C$1:$C$20,MATCH($F39,'Loan - Micronaire'!$A$1:$A$20,1)))","v":""},{"$f":"IF(LEN(G39)=0,\"\",INDEX('Loan - Uniformity'!$C$1:$C$20,MATCH($G39,'Loan - Uniformity'!$A$1:$A$20,1)))","v":""},"","",{"$f":"IF(OR(LEN(B39)=0,LEN(C39)=0,LEN(D39)=0,LEN(E39)=0,LEN(F39)=0,LEN(G39)=0),\"\",IF('Base Values'!$B$8+(SUM($L39:$P39)/100)<0,0,'Base Values'!$B$8+(SUM(L39:P39)/100)))","v":""},null,{"$f":"IF(AND($T$13=TRUE,H39=1),'Loan - Extraneous'!B$3,IF(AND($T$13=TRUE,H39=2),'Loan - Extraneous'!C$3,0))","v":0},{"$f":"IF(I39=1,'Loan - Extraneous'!$B$4,IF(I39=2,'Loan - Extraneous'!$C$4,0))","v":0},{"$f":"IF(J39=1,'Loan - Extraneous'!$B$5,IF(J39=2,'Loan - Extraneous'!$C$5,0))","v":0}]
[null,null,null,null,null,null,null,null,null,null,"",{"$f":"IF(OR(LEN(B40)=0,LEN(C40)=0,LEN(D40)=0),\"\",IF(K40>=38,INDEX('Loan - Grade & Staple'!$A$1:$K$1000,MATCH($B40&$C40,'Loan - Grade & Staple'!$B$1:$B$1000&'Loan - Grade & Staple'!$C$1:$C$1000,0),MATCH(\"38+\",'Loan - Grade & Staple'!$A$3:$K$3,0)),IF(K40<=31,INDEX('Loan - Grade & Staple'!$A$1:$K$1000,MATCH($B40&$C40,'Loan - Grade & Staple'!$B$1:$B$1000&'Loan - Grade & Staple'!$C$1:$C$1000,0),MATCH(\"26-31\",'Loan - Grade & Staple'!$A$3:$K$3,0)),IF(ISNA(INDEX('Loan - Grade & Staple'!$A$1:$K$1000,MATCH($B40&C40,'Loan - Grade & Staple'!$B$1:$B$1000&'Loan - Grade & Staple'!$C$1:$C$1000,0),MATCH($K40,'Loan - Grade & Staple'!$A$3:$K$3,0))),-4000,INDEX('Loan - Grade & Staple'!$A$1:$K$1000,MATCH($B40&C40,'Loan - Grade & Staple'!$B$1:$B$1000&'Loan - Grade & Staple'!$C$1:$C$1000,0),MATCH($K40,'Loan - Grade & Staple'!$A$3:$K$3,0))))))","v":""},{"$f":"IF(LEN(E40)=0,\"\",INDEX('Loan - Strength'!$C$1:$C$18,MATCH(E40,'Loan - Strength'!$A$1:$A$18,1)))","v":""},{"$f":"IF(LEN(F40)=0,\"\",INDEX('Loan - Micronaire'!$C$1:$C$20,MATCH($F40,'Loan - Micronaire'!$A$1:$A$20,1)))","v":""},{"$f":"IF(LEN(G40)=0,\"\",INDEX('Loan - Uniformity'!$C$1:$C$20,MATCH($G40,'Loan - Uniformity'!$A$1:$A$20,1)))","v":""},"","",{"$f":"IF(OR(LEN(B40)=0,LEN(C40)=0,LEN(D40)=0,LEN(E40)=0,LEN(F40)=0,LEN(G40)=0),\"\",IF('Base Values'!$B$8+(SUM($L40:$P40)/100)<0,0,'Base Values'!$B$8+(SUM(L40:P40)/100)))","v":""},null,{"$f":"IF(AND($T$13=TRUE,H40=1),'Loan - Extraneous'!B$3,IF(AND($T$13=TRUE,H40=2),'Loan - Extraneous'!C$3,0))","v":0},{"$f":"IF(I40=1,'Loan - Extraneous'!$B$4,IF(I40=2,'Loan - Extraneous'!$C$4,0))","v":0},{"$f":"IF(J40=1,'Loan - Extraneous'!$B$5,IF(J40=2,'Loan - Extraneous'!$C$5,0))","v":0}]
[null,null,null,null,null,null,null,null,null,null,"",{"$f":"IF(OR(LEN(B41)=0,LEN(C41)=0,LEN(D41)=0),\"\",IF(K41>=38,INDEX('Loan - Grade & Staple'!$A$1:$K$1000,MATCH($B41&$C41,'Loan - Grade & Staple'!$B$1:$B$1000&'Loan - Grade & Staple'!$C$1:$C$1000,0),MATCH(\"38+\",'Loan - Grade & Staple'!$A$3:$K$3,0)),IF(K41<=31,INDEX('Loan - Grade & Staple'!$A$1:$K$1000,MATCH($B41&$C41,'Loan - Grade & Staple'!$B$1:$B$1000&'Loan - Grade & Staple'!$C$1:$C$1000,0),MATCH(\"26-31\",'Loan - Grade & Staple'!$A$3:$K$3,0)),IF(ISNA(INDEX('Loan - Grade & Staple'!$A$1:$K$1000,MATCH($B41&C41,'Loan - Grade & Staple'!$B$1:$B$1000&'Loan - Grade & Staple'!$C$1:$C$1000,0),MATCH($K41,'Loan - Grade & Staple'!$A$3:$K$3,0))),-4000,INDEX('Loan - Grade & Staple'!$A$1:$K$1000,MATCH($B41&C41,'Loan - Grade & Staple'!$B$1:$B$1000&'Loan - Grade & Staple'!$C$1:$C$1000,0),MATCH($K41,'Loan - Grade & Staple'!$A$3:$K$3,0))))))","v":""},{"$f":"IF(LEN(E41)=0,\"\",INDEX('Loan - Strength'!$C$1:$C$18,MATCH(E41,'Loan - Strength'!$A$1:$A$18,1)))","v":""},{"$f":"IF(LEN(F41)=0,\"\",INDEX('Loan - Micronaire'!$C$1:$C$20,MATCH($F41,'Loan - Micronaire'!$A$1:$A$20,1)))","v":""},{"$f":"IF(LEN(G41)=0,\"\",INDEX('Loan - Uniformity'!$C$1:$C$20,MATCH($G41,'Loan - Uniformity'!$A$1:$A$20,1)))","v":""},"","",{"$f":"IF(OR(LEN(B41)=0,LEN(C41)=0,LEN(D41)=0,LEN(E41)=0,LEN(F41)=0,LEN(G41)=0),\"\",IF('Base Values'!$B$8+(SUM($L41:$P41)/100)<0,0,'Base Values'!$B$8+(SUM(L41:P41)/100)))","v":""},null,{"$f":"IF(AND($T$13=TRUE,H41=1),'Loan - Extraneous'!B$3,IF(AND($T$13=TRUE,H41=2),'Loan - Extraneous'!C$3,0))","v":0},{"$f":"IF(I41=1,'Loan - Extraneous'!$B$4,IF(I41=2,'Loan - Extraneous'!$C$4,0))","v":0},{"$f":"IF(J41=1,'Loan - Extraneous'!$B$5,IF(J41=2,'Loan - Extraneous'!$C$5,0))","v":0}]
[null,null,null,null,null,null,null,null,null,null,"",{"$f":"IF(OR(LEN(B42)=0,LEN(C42)=0,LEN(D42)=0),\"\",IF(K42>=38,INDEX('Loan - Grade & Staple'!$A$1:$K$1000,MATCH($B42&$C42,'Loan - Grade & Staple'!$B$1:$B$1000&'Loan - Grade & Staple'!$C$1:$C$1000,0),MATCH(\"38+\",'Loan - Grade & Staple'!$A$3:$K$3,0)),IF(K42<=31,INDEX('Loan - Grade & Staple'!$A$1:$K$1000,MATCH($B42&$C42,'Loan - Grade & Staple'!$B$1:$B$1000&'Loan - Grade & Staple'!$C$1:$C$1000,0),MATCH(\"26-31\",'Loan - Grade & Staple'!$A$3:$K$3,0)),IF(ISNA(INDEX('Loan - Grade & Staple'!$A$1:$K$1000,MATCH($B42&C42,'Loan - Grade & Staple'!$B$1:$B$1000&'Loan - Grade & Staple'!$C$1:$C$1000,0),MATCH($K42,'Loan - Grade & Staple'!$A$3:$K$3,0))),-4000,INDEX('Loan - Grade & Staple'!$A$1:$K$1000,MATCH($B42&C42,'Loan - Grade & Staple'!$B$1:$B$1000&'Loan - Grade & Staple'!$C$1:$C$1000,0),MATCH($K42,'Loan - Grade & Staple'!$A$3:$K$3,0))))))","v":""},{"$f":"IF(LEN(E42)=0,\"\",INDEX('Loan - Strength'!$C$1:$C$18,MATCH(E42,'Loan - Strength'!$A$1:$A$18,1)))","v":""},{"$f":"IF(LEN(F42)=0,\"\",INDEX('Loan - Micronaire'!$C$1:$C$20,MATCH($F42,'Loan - Micronaire'!$A$1:$A$20,1)))","v":""},{"$f":"IF(LEN(G42)=0,\"\",INDEX('Loan - Uniformity'!$C$1:$C$20,MATCH($G42,'Loan - Uniformity'!$A$1:$A$20,1)))","v":""},"","",{"$f":"IF(OR(LEN(B42)=0,LEN(C42)=0,LEN(D42)=0,LEN(E42)=0,LEN(F42)=0,LEN(G42)=0),\"\",IF('Base Values'!$B$8+(SUM($L42:$P42)/100)<0,0,'Base Values'!$B$8+(SUM(L42:P42)/100)))","v":""},null,{"$f":"IF(AND($T$13=TRUE,H42=1),'Loan - Extraneous'!B$3,IF(AND($T$13=TRUE,H42=2),'Loan - Extraneous'!C$3,0))","v":0},{"$f":"IF(I42=1,'Loan - Extraneous'!$B$4,IF(I42=2,'Loan - Extraneous'!$C$4,0))","v":0},{"$f":"IF(J42=1,'Loan - Extraneous'!$B$5,IF(J42=2,'Loan - Extraneous'!$C$5,0))","v":0}]
[null,null,null,null,null,null,null,null,null,null,"",{"$f":"IF(OR(LEN(B43)=0,LEN(C43)=0,LEN(D43)=0),\"\",IF(K43>=38,INDEX('Loan - Grade & Staple'!$A$1:$K$1000,MATCH($B43&$C43,'Loan - Grade & Staple'!$B$1:$B$1000&'Loan - Grade & Staple'!$C$1:$C$1000,0),MATCH(\"38+\",'Loan - Grade & Staple'!$A$3:$K$3,0)),IF(K43<=31,INDEX('Loan - Grade & Staple'!$A$1:$K$1000,MATCH($B43&$C43,'Loan - Grade & Staple'!$B$1:$B$1000&'Loan - Grade & Staple'!$C$1:$C$1000,0),MATCH(\"26-31\",'Loan - Grade & Staple'!$A$3:$K$3,0)),IF(ISNA(INDEX('Loan - Grade & Staple'!$A$1:$K$1000,MATCH($B43&C43,'Loan - Grade & Staple'!$B$1:$B$1000&'Loan - Grade & Staple'!$C$1:$C$1000,0),MATCH($K43,'Loan - Grade & Staple'!$A$3:$K$3,0))),-4000,INDEX('Loan - Grade & Staple'!$A$1:$K$1000,MATCH($B43&C43,'Loan - Grade & Staple'!$B$1:$B$1000&'Loan - Grade & Staple'!$C$1:$C$1000,0),MATCH($K43,'Loan - Grade & Staple'!$A$3:$K$3,0))))))","v":""},{"$f":"IF(LEN(E43)=0,\"\",INDEX('Loan - Strength'!$C$1:$C$18,MATCH(E43,'Loan - Strength'!$A$1:$A$18,1)))","v":""},{"$f":"IF(LEN(F43)=0,\"\",INDEX('Loan - Micronaire'!$C$1:$C$20,MATCH($F43,'Loan - Micronaire'!$A$1:$A$20,1)))","v":""},{"$f":"IF(LEN(G43)=0,\"\",INDEX('Loan - Uniformity'!$C$1:$C$20,MATCH($G43,'Loan - Uniformity'!$A$1:$A$20,1)))","v":""},"","",{"$f":"IF(OR(LEN(B43)=0,LEN(C43)=0,LEN(D43)=0,LEN(E43)=0,LEN(F43)=0,LEN(G43)=0),\"\",IF('Base Values'!$B$8+(SUM($L43:$P43)/100)<0,0,'Base Values'!$B$8+(SUM(L43:P43)/100)))","v":""},null,{"$f":"IF(AND($T$13=TRUE,H43=1),'Loan - Extraneous'!B$3,IF(AND($T$13=TRUE,H43=2),'Loan - Extraneous'!C$3,0))","v":0},{"$f":"IF(I43=1,'Loan - Extraneous'!$B$4,IF(I43=2,'Loan - Extraneous'!$C$4,0))","v":0},{"$f":"IF(J43=1,'Loan - Extraneous'!$B$5,IF(J43=2,'Loan - Extraneous'!$C$5,0))","v":0}]
[null,null,null,null,null,null,null,null,null,null,"",{"$f":"IF(OR(LEN(B44)=0,LEN(C44)=0,LEN(D44)=0),\"\",IF(K44>=38,INDEX('Loan - Grade & Staple'!$A$1:$K$1000,MATCH($B44&$C44,'Loan - Grade & Staple'!$B$1:$B$1000&'Loan - Grade & Staple'!$C$1:$C$1000,0),MATCH(\"38+\",'Loan - Grade & Staple'!$A$3:$K$3,0)),IF(K44<=31,INDEX('Loan - Grade & Staple'!$A$1:$K$1000,MATCH($B44&$C44,'Loan - Grade & Staple'!$B$1:$B$1000&'Loan - Grade & Staple'!$C$1:$C$1000,0),MATCH(\"26-31\",'Loan - Grade & Staple'!$A$3:$K$3,0)),IF(ISNA(INDEX('Loan - Grade & Staple'!$A$1:$K$1000,MATCH($B44&C44,'Loan - Grade & Staple'!$B$1:$B$1000&'Loan - Grade & Staple'!$C$1:$C$1000,0),MATCH($K44,'Loan - Grade & Staple'!$A$3:$K$3,0))),-4000,INDEX('Loan - Grade & Staple'!$A$1:$K$1000,MATCH($B44&C44,'Loan - Grade & Staple'!$B$1:$B$1000&'Loan - Grade & Staple'!$C$1:$C$1000,0),MATCH($K44,'Loan - Grade & Staple'!$A$3:$K$3,0))))))","v":""},{"$f":"IF(LEN(E44)=0,\"\",INDEX('Loan - Strength'!$C$1:$C$18,MATCH(E44,'Loan - Strength'!$A$1:$A$18,1)))","v":""},{"$f":"IF(LEN(F44)=0,\"\",INDEX('Loan - Micronaire'!$C$1:$C$20,MATCH($F44,'Loan - Micronaire'!$A$1:$A$20,1)))","v":""},{"$f":"IF(LEN(G44)=0,\"\",INDEX('Loan - Uniformity'!$C$1:$C$20,MATCH($G44,'Loan - Uniformity'!$A$1:$A$20,1)))","v":""},"","",{"$f":"IF(OR(LEN(B44)=0,LEN(C44)=0,LEN(D44)=0,LEN(E44)=0,LEN(F44)=0,LEN(G44)=0),\"\",IF('Base Values'!$B$8+(SUM($L44:$P44)/100)<0,0,'Base Values'!$B$8+(SUM(L44:P44)/100)))","v":""},null,{"$f":"IF(AND($T$13=TRUE,H44=1),'Loan - Extraneous'!B$3,IF(AND($T$13=TRUE,H44=2),'Loan - Extraneous'!C$3,0))","v":0},{"$f":"IF(I44=1,'Loan - Extraneous'!$B$4,IF(I44=2,'Loan - Extraneous'!$C$4,0))","v":0},{"$f":"IF(J44=1,'Loan - Extraneous'!$B$5,IF(J44=2,'Loan - Extraneous'!$C$5,0))","v":0}]
[null,null,null,null,null,null,null,null,null,null,"",{"$f":"IF(OR(LEN(B45)=0,LEN(C45)=0,LEN(D45)=0),\"\",IF(K45>=38,INDEX('Loan - Grade & Staple'!$A$1:$K$1000,MATCH($B45&$C45,'Loan - Grade & Staple'!$B$1:$B$1000&'Loan - Grade & Staple'!$C$1:$C$1000,0),MATCH(\"38+\",'Loan - Grade & Staple'!$A$3:$K$3,0)),IF(K45<=31,INDEX('Loan - Grade & Staple'!$A$1:$K$1000,MATCH($B45&$C45,'Loan - Grade & Staple'!$B$1:$B$1000&'Loan - Grade & Staple'!$C$1:$C$1000,0),MATCH(\"26-31\",'Loan - Grade & Staple'!$A$3:$K$3,0)),IF(ISNA(INDEX('Loan - Grade & Staple'!$A$1:$K$1000,MATCH($B45&C45,'Loan - Grade & Staple'!$B$1:$B$1000&'Loan - Grade & Staple'!$C$1:$C$1000,0),MATCH($K45,'Loan - Grade & Staple'!$A$3:$K$3,0))),-4000,INDEX('Loan - Grade & Staple'!$A$1:$K$1000,MATCH($B45&C45,'Loan - Grade & Staple'!$B$1:$B$1000&'Loan - Grade & Staple'!$C$1:$C$1000,0),MATCH($K45,'Loan - Grade & Staple'!$A$3:$K$3,0))))))","v":""},{"$f":"IF(LEN(E45)=0,\"\",INDEX('Loan - Strength'!$C$1:$C$18,MATCH(E45,'Loan - Strength'!$A$1:$A$18,1)))","v":""},{"$f":"IF(LEN(F45)=0,\"\",INDEX('Loan - Micronaire'!$C$1:$C$20,MATCH($F45,'Loan - Micronaire'!$A$1:$A$20,1)))","v":""},{"$f":"IF(LEN(G45)=0,\"\",INDEX('Loan - Uniformity'!$C$1:$C$20,MATCH($G45,'Loan - Uniformity'!$A$1:$A$20,1)))","v":""},"","",{"$f":"IF(OR(LEN(B45)=0,LEN(C45)=0,LEN(D45)=0,LEN(E45)=0,LEN(F45)=0,LEN(G45)=0),\"\",IF('Base Values'!$B$8+(SUM($L45:$P45)/100)<0,0,'Base Values'!$B$8+(SUM(L45:P45)/100)))","v":""},null,{"$f":"IF(AND($T$13=TRUE,H45=1),'Loan - Extraneous'!B$3,IF(AND($T$13=TRUE,H45=2),'Loan - Extraneous'!C$3,0))","v":0},{"$f":"IF(I45=1,'Loan - Extraneous'!$B$4,IF(I45=2,'Loan - Extraneous'!$C$4,0))","v":0},{"$f":"IF(J45=1,'Loan - Extraneous'!$B$5,IF(J45=2,'Loan - Extraneous'!$C$5,0))","v":0}]
[null,null,null,null,null,null,null,null,null,null,"",{"$f":"IF(OR(LEN(B46)=0,LEN(C46)=0,LEN(D46)=0),\"\",IF(K46>=38,INDEX('Loan - Grade & Staple'!$A$1:$K$1000,MATCH($B46&$C46,'Loan - Grade & Staple'!$B$1:$B$1000&'Loan - Grade & Staple'!$C$1:$C$1000,0),MATCH(\"38+\",'Loan - Grade & Staple'!$A$3:$K$3,0)),IF(K46<=31,INDEX('Loan - Grade & Staple'!$A$1:$K$1000,MATCH($B46&$C46,'Loan - Grade & Staple'!$B$1:$B$1000&'Loan - Grade & Staple'!$C$1:$C$1000,0),MATCH(\"26-31\",'Loan - Grade & Staple'!$A$3:$K$3,0)),IF(ISNA(INDEX('Loan - Grade & Staple'!$A$1:$K$1000,MATCH($B46&C46,'Loan - Grade & Staple'!$B$1:$B$1000&'Loan - Grade & Staple'!$C$1:$C$1000,0),MATCH($K46,'Loan - Grade & Staple'!$A$3:$K$3,0))),-4000,INDEX('Loan - Grade & Staple'!$A$1:$K$1000,MATCH($B46&C46,'Loan - Grade & Staple'!$B$1:$B$1000&'Loan - Grade & Staple'!$C$1:$C$1000,0),MATCH($K46,'Loan - Grade & Staple'!$A$3:$K$3,0))))))","v":""},{"$f":"IF(LEN(E46)=0,\"\",INDEX('Loan - Strength'!$C$1:$C$18,MATCH(E46,'Loan - Strength'!$A$1:$A$18,1)))","v":""},{"$f":"IF(LEN(F46)=0,\"\",INDEX('Loan - Micronaire'!$C$1:$C$20,MATCH($F46,'Loan - Micronaire'!$A$1:$A$20,1)))","v":""},{"$f":"IF(LEN(G46)=0,\"\",INDEX('Loan - Uniformity'!$C$1:$C$20,MATCH($G46,'Loan - Uniformity'!$A$1:$A$20,1)))","v":""},"","",{"$f":"IF(OR(LEN(B46)=0,LEN(C46)=0,LEN(D46)=0,LEN(E46)=0,LEN(F46)=0,LEN(G46)=0),\"\",IF('Base Values'!$B$8+(SUM($L46:$P46)/100)<0,0,'Base Values'!$B$8+(SUM(L46:P46)/100)))","v":""},null,{"$f":"IF(AND($T$13=TRUE,H46=1),'Loan - Extraneous'!B$3,IF(AND($T$13=TRUE,H46=2),'Loan - Extraneous'!C$3,0))","v":0},{"$f":"IF(I46=1,'Loan - Extraneous'!$B$4,IF(I46=2,'Loan - Extraneous'!$C$4,0))","v":0},{"$f":"IF(J46=1,'Loan - Extraneous'!$B$5,IF(J46=2,'Loan - Extraneous'!$C$5,0))","v":0}]
[null,null,null,null,null,null,null,null,null,null,"",{"$f":"IF(OR(LEN(B47)=0,LEN(C47)=0,LEN(D47)=0),\"\",IF(K47>=38,INDEX('Loan - Grade & Staple'!$A$1:$K$1000,MATCH($B47&$C47,'Loan - Grade & Staple'!$B$1:$B$1000&'Loan - Grade & Staple'!$C$1:$C$1000,0),MATCH(\"38+\",'Loan - Grade & Staple'!$A$3:$K$3,0)),IF(K47<=31,INDEX('Loan - Grade & Staple'!$A$1:$K$1000,MATCH($B47&$C47,'Loan - Grade & Staple'!$B$1:$B$1000&'Loan - Grade & Staple'!$C$1:$C$1000,0),MATCH(\"26-31\",'Loan - Grade & Staple'!$A$3:$K$3,0)),IF(ISNA(INDEX('Loan - Grade & Staple'!$A$1:$K$1000,MATCH($B47&C47,'Loan - Grade & Staple'!$B$1:$B$1000&'Loan - Grade & Staple'!$C$1:$C$1000,0),MATCH($K47,'Loan - Grade & Staple'!$A$3:$K$3,0))),-4000,INDEX('Loan - Grade & Staple'!$A$1:$K$1000,MATCH($B47&C47,'Loan - Grade & Staple'!$B$1:$B$1000&'Loan - Grade & Staple'!$C$1:$C$1000,0),MATCH($K47,'Loan - Grade & Staple'!$A$3:$K$3,0))))))","v":""},{"$f":"IF(LEN(E47)=0,\"\",INDEX('Loan - Strength'!$C$1:$C$18,MATCH(E47,'Loan - Strength'!$A$1:$A$18,1)))","v":""},{"$f":"IF(LEN(F47)=0,\"\",INDEX('Loan - Micronaire'!$C$1:$C$20,MATCH($F47,'Loan - Micronaire'!$A$1:$A$20,1)))","v":""},{"$f":"IF(LEN(G47)=0,\"\",INDEX('Loan - Uniformity'!$C$1:$C$20,MATCH($G47,'Loan - Uniformity'!$A$1:$A$20,1)))","v":""},"","",{"$f":"IF(OR(LEN(B47)=0,LEN(C47)=0,LEN(D47)=0,LEN(E47)=0,LEN(F47)=0,LEN(G47)=0),\"\",IF('Base Values'!$B$8+(SUM($L47:$P47)/100)<0,0,'Base Values'!$B$8+(SUM(L47:P47)/100)))","v":""},null,{"$f":"IF(AND($T$13=TRUE,H47=1),'Loan - Extraneous'!B$3,IF(AND($T$13=TRUE,H47=2),'Loan - Extraneous'!C$3,0))","v":0},{"$f":"IF(I47=1,'Loan - Extraneous'!$B$4,IF(I47=2,'Loan - Extraneous'!$C$4,0))","v":0},{"$f":"IF(J47=1,'Loan - Extraneous'!$B$5,IF(J47=2,'Loan - Extraneous'!$C$5,0))","v":0}]
[null,null,null,null,null,null,null,null,null,null,"",{"$f":"IF(OR(LEN(B48)=0,LEN(C48)=0,LEN(D48)=0),\"\",IF(K48>=38,INDEX('Loan - Grade & Staple'!$A$1:$K$1000,MATCH($B48&$C48,'Loan - Grade & Staple'!$B$1:$B$1000&'Loan - Grade & Staple'!$C$1:$C$1000,0),MATCH(\"38+\",'Loan - Grade & Staple'!$A$3:$K$3,0)),IF(K48<=31,INDEX('Loan - Grade & Staple'!$A$1:$K$1000,MATCH($B48&$C48,'Loan - Grade & Staple'!$B$1:$B$1000&'Loan - Grade & Staple'!$C$1:$C$1000,0),MATCH(\"26-31\",'Loan - Grade & Staple'!$A$3:$K$3,0)),IF(ISNA(INDEX('Loan - Grade & Staple'!$A$1:$K$1000,MATCH($B48&C48,'Loan - Grade & Staple'!$B$1:$B$1000&'Loan - Grade & Staple'!$C$1:$C$1000,0),MATCH($K48,'Loan - Grade & Staple'!$A$3:$K$3,0))),-4000,INDEX('Loan - Grade & Staple'!$A$1:$K$1000,MATCH($B48&C48,'Loan - Grade & Staple'!$B$1:$B$1000&'Loan - Grade & Staple'!$C$1:$C$1000,0),MATCH($K48,'Loan - Grade & Staple'!$A$3:$K$3,0))))))","v":""},{"$f":"IF(LEN(E48)=0,\"\",INDEX('Loan - Strength'!$C$1:$C$18,MATCH(E48,'Loan - Strength'!$A$1:$A$18,1)))","v":""},{"$f":"IF(LEN(F48)=0,\"\",INDEX('Loan - Micronaire'!$C$1:$C$20,MATCH($F48,'Loan - Micronaire'!$A$1:$A$20,1)))","v":""},{"$f":"IF(LEN(G48)=0,\"\",INDEX('Loan - Uniformity'!$C$1:$C$20,MATCH($G48,'Loan - Uniformity'!$A$1:$A$20,1)))","v":""},"","",{"$f":"IF(OR(LEN(B48)=0,LEN(C48)=0,LEN(D48)=0,LEN(E48)=0,LEN(F48)=0,LEN(G48)=0),\"\",IF('Base Values'!$B$8+(SUM($L48:$P48)/100)<0,0,'Base Values'!$B$8+(SUM(L48:P48)/100)))","v":""},null,{"$f":"IF(AND($T$13=TRUE,H48=1),'Loan - Extraneous'!B$3,IF(AND($T$13=TRUE,H48=2),'Loan - Extraneous'!C$3,0))","v":0},{"$f":"IF(I48=1,'Loan - Extraneous'!$B$4,IF(I48=2,'Loan - Extraneous'!$C$4,0))","v":0},{"$f":"IF(J48=1,'Loan - Extraneous'!$B$5,IF(J48=2,'Loan - Extraneous'!$C$5,0))","v":0}]
[null,null,null,null,null,null,null,null,null,null,"",{"$f":"IF(OR(LEN(B49)=0,LEN(C49)=0,LEN(D49)=0),\"\",IF(K49>=38,INDEX('Loan - Grade & Staple'!$A$1:$K$1000,MATCH($B49&$C49,'Loan - Grade & Staple'!$B$1:$B$1000&'Loan - Grade & Staple'!$C$1:$C$1000,0),MATCH(\"38+\",'Loan - Grade & Staple'!$A$3:$K$3,0)),IF(K49<=31,INDEX('Loan - Grade & Staple'!$A$1:$K$1000,MATCH($B49&$C49,'Loan - Grade & Staple'!$B$1:$B$1000&'Loan - Grade & Staple'!$C$1:$C$1000,0),MATCH(\"26-31\",'Loan - Grade & Staple'!$A$3:$K$3,0)),IF(ISNA(INDEX('Loan - Grade & Staple'!$A$1:$K$1000,MATCH($B49&C49,'Loan - Grade & Staple'!$B$1:$B$1000&'Loan - Grade & Staple'!$C$1:$C$1000,0),MATCH($K49,'Loan - Grade & Staple'!$A$3:$K$3,0))),-4000,INDEX('Loan - Grade & Staple'!$A$1:$K$1000,MATCH($B49&C49,'Loan - Grade & Staple'!$B$1:$B$1000&'Loan - Grade & Staple'!$C$1:$C$1000,0),MATCH($K49,'Loan - Grade & Staple'!$A$3:$K$3,0))))))","v":""},{"$f":"IF(LEN(E49)=0,\"\",INDEX('Loan - Strength'!$C$1:$C$18,MATCH(E49,'Loan - Strength'!$A$1:$A$18,1)))","v":""},{"$f":"IF(LEN(F49)=0,\"\",INDEX('Loan - Micronaire'!$C$1:$C$20,MATCH($F49,'Loan - Micronaire'!$A$1:$A$20,1)))","v":""},{"$f":"IF(LEN(G49)=0,\"\",INDEX('Loan - Uniformity'!$C$1:$C$20,MATCH($G49,'Loan - Uniformity'!$A$1:$A$20,1)))","v":""},"","",{"$f":"IF(OR(LEN(B49)=0,LEN(C49)=0,LEN(D49)=0,LEN(E49)=0,LEN(F49)=0,LEN(G49)=0),\"\",IF('Base Values'!$B$8+(SUM($L49:$P49)/100)<0,0,'Base Values'!$B$8+(SUM(L49:P49)/100)))","v":""},null,{"$f":"IF(AND($T$13=TRUE,H49=1),'Loan - Extraneous'!B$3,IF(AND($T$13=TRUE,H49=2),'Loan - Extraneous'!C$3,0))","v":0},{"$f":"IF(I49=1,'Loan - Extraneous'!$B$4,IF(I49=2,'Loan - Extraneous'!$C$4,0))","v":0},{"$f":"IF(J49=1,'Loan - Extraneous'!$B$5,IF(J49=2,'Loan - Extraneous'!$C$5,0))","v":0}]
[null,null,null,null,null,null,null,null,null,null,"",{"$f":"IF(OR(LEN(B50)=0,LEN(C50)=0,LEN(D50)=0),\"\",IF(K50>=38,INDEX('Loan - Grade & Staple'!$A$1:$K$1000,MATCH($B50&$C50,'Loan - Grade & Staple'!$B$1:$B$1000&'Loan - Grade & Staple'!$C$1:$C$1000,0),MATCH(\"38+\",'Loan - Grade & Staple'!$A$3:$K$3,0)),IF(K50<=31,INDEX('Loan - Grade & Staple'!$A$1:$K$1000,MATCH($B50&$C50,'Loan - Grade & Staple'!$B$1:$B$1000&'Loan - Grade & Staple'!$C$1:$C$1000,0),MATCH(\"26-31\",'Loan - Grade & Staple'!$A$3:$K$3,0)),IF(ISNA(INDEX('Loan - Grade & Staple'!$A$1:$K$1000,MATCH($B50&C50,'Loan - Grade & Staple'!$B$1:$B$1000&'Loan - Grade & Staple'!$C$1:$C$1000,0),MATCH($K50,'Loan - Grade & Staple'!$A$3:$K$3,0))),-4000,INDEX('Loan - Grade & Staple'!$A$1:$K$1000,MATCH($B50&C50,'Loan - Grade & Staple'!$B$1:$B$1000&'Loan - Grade & Staple'!$C$1:$C$1000,0),MATCH($K50,'Loan - Grade & Staple'!$A$3:$K$3,0))))))","v":""},{"$f":"IF(LEN(E50)=0,\"\",INDEX('Loan - Strength'!$C$1:$C$18,MATCH(E50,'Loan - Strength'!$A$1:$A$18,1)))","v":""},{"$f":"IF(LEN(F50)=0,\"\",INDEX('Loan - Micronaire'!$C$1:$C$20,MATCH($F50,'Loan - Micronaire'!$A$1:$A$20,1)))","v":""},{"$f":"IF(LEN(G50)=0,\"\",INDEX('Loan - Uniformity'!$C$1:$C$20,MATCH($G50,'Loan - Uniformity'!$A$1:$A$20,1)))","v":""},"","",{"$f":"IF(OR(LEN(B50)=0,LEN(C50)=0,LEN(D50)=0,LEN(E50)=0,LEN(F50)=0,LEN(G50)=0),\"\",IF('Base Values'!$B$8+(SUM($L50:$P50)/100)<0,0,'Base Values'!$B$8+(SUM(L50:P50)/100)))","v":""},null,{"$f":"IF(AND($T$13=TRUE,H50=1),'Loan - Extraneous'!B$3,IF(AND($T$13=TRUE,H50=2),'Loan - Extraneous'!C$3,0))","v":0},{"$f":"IF(I50=1,'Loan - Extraneous'!$B$4,IF(I50=2,'Loan - Extraneous'!$C$4,0))","v":0},{"$f":"IF(J50=1,'Loan - Extraneous'!$B$5,IF(J50=2,'Loan - Extraneous'!$C$5,0))","v":0}]
[null,null,null,null,null,null,null,null,null,null,"",{"$f":"IF(OR(LEN(B51)=0,LEN(C51)=0,LEN(D51)=0),\"\",IF(K51>=38,INDEX('Loan - Grade & Staple'!$A$1:$K$1000,MATCH($B51&$C51,'Loan - Grade & Staple'!$B$1:$B$1000&'Loan - Grade & Staple'!$C$1:$C$1000,0),MATCH(\"38+\",'Loan - Grade & Staple'!$A$3:$K$3,0)),IF(K51<=31,INDEX('Loan - Grade & Staple'!$A$1:$K$1000,MATCH($B51&$C51,'Loan - Grade & Staple'!$B$1:$B$1000&'Loan - Grade & Staple'!$C$1:$C$1000,0),MATCH(\"26-31\",'Loan - Grade & Staple'!$A$3:$K$3,0)),IF(ISNA(INDEX('Loan - Grade & Staple'!$A$1:$K$1000,MATCH($B51&C51,'Loan - Grade & Staple'!$B$1:$B$1000&'Loan - Grade & Staple'!$C$1:$C$1000,0),MATCH($K51,'Loan - Grade & Staple'!$A$3:$K$3,0))),-4000,INDEX('Loan - Grade & Staple'!$A$1:$K$1000,MATCH($B51&C51,'Loan - Grade & Staple'!$B$1:$B$1000&'Loan - Grade & Staple'!$C$1:$C$1000,0),MATCH($K51,'Loan - Grade & Staple'!$A$3:$K$3,0))))))","v":""},{"$f":"IF(LEN(E51)=0,\"\",INDEX('Loan - Strength'!$C$1:$C$18,MATCH(E51,'Loan - Strength'!$A$1:$A$18,1)))","v":""},{"$f":"IF(LEN(F51)=0,\"\",INDEX('Loan - Micronaire'!$C$1:$C$20,MATCH($F51,'Loan - Micronaire'!$A$1:$A$20,1)))","v":""},{"$f":"IF(LEN(G51)=0,\"\",INDEX('Loan - Uniformity'!$C$1:$C$20,MATCH($G51,'Loan - Uniformity'!$A$1:$A$20,1)))","v":""},"","",{"$f":"IF(OR(LEN(B51)=0,LEN(C51)=0,LEN(D51)=0,LEN(E51)=0,LEN(F51)=0,LEN(G51)=0),\"\",IF('Base Values'!$B$8+(SUM($L51:$P51)/100)<0,0,'Base Values'!$B$8+(SUM(L51:P51)/100)))","v":""},null,{"$f":"IF(AND($T$13=TRUE,H51=1),'Loan - Extraneous'!B$3,IF(AND($T$13=TRUE,H51=2),'Loan - Extraneous'!C$3,0))","v":0},{"$f":"IF(I51=1,'Loan - Extraneous'!$B$4,IF(I51=2,'Loan - Extraneous'!$C$4,0))","v":0},{"$f":"IF(J51=1,'Loan - Extraneous'!$B$5,IF(J51=2,'Loan - Extraneous'!$C$5,0))","v":0}]
[null,null,null,null,null,null,null,null,null,null,"",{"$f":"IF(OR(LEN(B52)=0,LEN(C52)=0,LEN(D52)=0),\"\",IF(K52>=38,INDEX('Loan - Grade & Staple'!$A$1:$K$1000,MATCH($B52&$C52,'Loan - Grade & Staple'!$B$1:$B$1000&'Loan - Grade & Staple'!$C$1:$C$1000,0),MATCH(\"38+\",'Loan - Grade & Staple'!$A$3:$K$3,0)),IF(K52<=31,INDEX('Loan - Grade & Staple'!$A$1:$K$1000,MATCH($B52&$C52,'Loan - Grade & Staple'!$B$1:$B$1000&'Loan - Grade & Staple'!$C$1:$C$1000,0),MATCH(\"26-31\",'Loan - Grade & Staple'!$A$3:$K$3,0)),IF(ISNA(INDEX('Loan - Grade & Staple'!$A$1:$K$1000,MATCH($B52&C52,'Loan - Grade & Staple'!$B$1:$B$1000&'Loan - Grade & Staple'!$C$1:$C$1000,0),MATCH($K52,'Loan - Grade & Staple'!$A$3:$K$3,0))),-4000,INDEX('Loan - Grade & Staple'!$A$1:$K$1000,MATCH($B52&C52,'Loan - Grade & Staple'!$B$1:$B$1000&'Loan - Grade & Staple'!$C$1:$C$1000,0),MATCH($K52,'Loan - Grade & Staple'!$A$3:$K$3,0))))))","v":""},{"$f":"IF(LEN(E52)=0,\"\",INDEX('Loan - Strength'!$C$1:$C$18,MATCH(E52,'Loan - Strength'!$A$1:$A$18,1)))","v":""},{"$f":"IF(LEN(F52)=0,\"\",INDEX('Loan - Micronaire'!$C$1:$C$20,MATCH($F52,'Loan - Micronaire'!$A$1:$A$20,1)))","v":""},{"$f":"IF(LEN(G52)=0,\"\",INDEX('Loan - Uniformity'!$C$1:$C$20,MATCH($G52,'Loan - Uniformity'!$A$1:$A$20,1)))","v":""},"","",{"$f":"IF(OR(LEN(B52)=0,LEN(C52)=0,LEN(D52)=0,LEN(E52)=0,LEN(F52)=0,LEN(G52)=0),\"\",IF('Base Values'!$B$8+(SUM($L52:$P52)/100)<0,0,'Base Values'!$B$8+(SUM(L52:P52)/100)))","v":""},null,{"$f":"IF(AND($T$13=TRUE,H52=1),'Loan - Extraneous'!B$3,IF(AND($T$13=TRUE,H52=2),'Loan - Extraneous'!C$3,0))","v":0},{"$f":"IF(I52=1,'Loan - Extraneous'!$B$4,IF(I52=2,'Loan - Extraneous'!$C$4,0))","v":0},{"$f":"IF(J52=1,'Loan - Extraneous'!$B$5,IF(J52=2,'Loan - Extraneous'!$C$5,0))","v":0}]
[null,null,null,null,null,null,null,null,null,null,"",{"$f":"IF(OR(LEN(B53)=0,LEN(C53)=0,LEN(D53)=0),\"\",IF(K53>=38,INDEX('Loan - Grade & Staple'!$A$1:$K$1000,MATCH($B53&$C53,'Loan - Grade & Staple'!$B$1:$B$1000&'Loan - Grade & Staple'!$C$1:$C$1000,0),MATCH(\"38+\",'Loan - Grade & Staple'!$A$3:$K$3,0)),IF(K53<=31,INDEX('Loan - Grade & Staple'!$A$1:$K$1000,MATCH($B53&$C53,'Loan - Grade & Staple'!$B$1:$B$1000&'Loan - Grade & Staple'!$C$1:$C$1000,0),MATCH(\"26-31\",'Loan - Grade & Staple'!$A$3:$K$3,0)),IF(ISNA(INDEX('Loan - Grade & Staple'!$A$1:$K$1000,MATCH($B53&C53,'Loan - Grade & Staple'!$B$1:$B$1000&'Loan - Grade & Staple'!$C$1:$C$1000,0),MATCH($K53,'Loan - Grade & Staple'!$A$3:$K$3,0))),-4000,INDEX('Loan - Grade & Staple'!$A$1:$K$1000,MATCH($B53&C53,'Loan - Grade & Staple'!$B$1:$B$1000&'Loan - Grade & Staple'!$C$1:$C$1000,0),MATCH($K53,'Loan - Grade & Staple'!$A$3:$K$3,0))))))","v":""},{"$f":"IF(LEN(E53)=0,\"\",INDEX('Loan - Strength'!$C$1:$C$18,MATCH(E53,'Loan - Strength'!$A$1:$A$18,1)))","v":""},{"$f":"IF(LEN(F53)=0,\"\",INDEX('Loan - Micronaire'!$C$1:$C$20,MATCH($F53,'Loan - Micronaire'!$A$1:$A$20,1)))","v":""},{"$f":"IF(LEN(G53)=0,\"\",INDEX('Loan - Uniformity'!$C$1:$C$20,MATCH($G53,'Loan - Uniformity'!$A$1:$A$20,1)))","v":""},"","",{"$f":"IF(OR(LEN(B53)=0,LEN(C53)=0,LEN(D53)=0,LEN(E53)=0,LEN(F53)=0,LEN(G53)=0),\"\",IF('Base Values'!$B$8+(SUM($L53:$P53)/100)<0,0,'Base Values'!$B$8+(SUM(L53:P53)/100)))","v":""},null,{"$f":"IF(AND($T$13=TRUE,H53=1),'Loan - Extraneous'!B$3,IF(AND($T$13=TRUE,H53=2),'Loan - Extraneous'!C$3,0))","v":0},{"$f":"IF(I53=1,'Loan - Extraneous'!$B$4,IF(I53=2,'Loan - Extraneous'!$C$4,0))","v":0},{"$f":"IF(J53=1,'Loan - Extraneous'!$B$5,IF(J53=2,'Loan - Extraneous'!$C$5,0))","v":0}]
[null,null,null,null,null,null,null,null,null,null,"",{"$f":"IF(OR(LEN(B54)=0,LEN(C54)=0,LEN(D54)=0),\"\",IF(K54>=38,INDEX('Loan - Grade & Staple'!$A$1:$K$1000,MATCH($B54&$C54,'Loan - Grade & Staple'!$B$1:$B$1000&'Loan - Grade & Staple'!$C$1:$C$1000,0),MATCH(\"38+\",'Loan - Grade & Staple'!$A$3:$K$3,0)),IF(K54<=31,INDEX('Loan - Grade & Staple'!$A$1:$K$1000,MATCH($B54&$C54,'Loan - Grade & Staple'!$B$1:$B$1000&'Loan - Grade & Staple'!$C$1:$C$1000,0),MATCH(\"26-31\",'Loan - Grade & Staple'!$A$3:$K$3,0)),IF(ISNA(INDEX('Loan - Grade & Staple'!$A$1:$K$1000,MATCH($B54&C54,'Loan - Grade & Staple'!$B$1:$B$1000&'Loan - Grade & Staple'!$C$1:$C$1000,0),MATCH($K54,'Loan - Grade & Staple'!$A$3:$K$3,0))),-4000,INDEX('Loan - Grade & Staple'!$A$1:$K$1000,MATCH($B54&C54,'Loan - Grade & Staple'!$B$1:$B$1000&'Loan - Grade & Staple'!$C$1:$C$1000,0),MATCH($K54,'Loan - Grade & Staple'!$A$3:$K$3,0))))))","v":""},{"$f":"IF(LEN(E54)=0,\"\",INDEX('Loan - Strength'!$C$1:$C$18,MATCH(E54,'Loan - Strength'!$A$1:$A$18,1)))","v":""},{"$f":"IF(LEN(F54)=0,\"\",INDEX('Loan - Micronaire'!$C$1:$C$20,MATCH($F54,'Loan - Micronaire'!$A$1:$A$20,1)))","v":""},{"$f":"IF(LEN(G54)=0,\"\",INDEX('Loan - Uniformity'!$C$1:$C$20,MATCH($G54,'Loan - Uniformity'!$A$1:$A$20,1)))","v":""},"","",{"$f":"IF(OR(LEN(B54)=0,LEN(C54)=0,LEN(D54)=0,LEN(E54)=0,LEN(F54)=0,LEN(G54)=0),\"\",IF('Base Values'!$B$8+(SUM($L54:$P54)/100)<0,0,'Base Values'!$B$8+(SUM(L54:P54)/100)))","v":""},null,{"$f":"IF(AND($T$13=TRUE,H54=1),'Loan - Extraneous'!B$3,IF(AND($T$13=TRUE,H54=2),'Loan - Extraneous'!C$3,0))","v":0},{"$f":"IF(I54=1,'Loan - Extraneous'!$B$4,IF(I54=2,'Loan - Extraneous'!$C$4,0))","v":0},{"$f":"IF(J54=1,'Loan - Extraneous'!$B$5,IF(J54=2,'Loan - Extraneous'!$C$5,0))","v":0}]
[null,null,null,null,null,null,null,null,null,null,"",{"$f":"IF(OR(LEN(B55)=0,LEN(C55)=0,LEN(D55)=0),\"\",IF(K55>=38,INDEX('Loan - Grade & Staple'!$A$1:$K$1000,MATCH($B55&$C55,'Loan - Grade & Staple'!$B$1:$B$1000&'Loan - Grade & Staple'!$C$1:$C$1000,0),MATCH(\"38+\",'Loan - Grade & Staple'!$A$3:$K$3,0)),IF(K55<=31,INDEX('Loan - Grade & Staple'!$A$1:$K$1000,MATCH($B55&$C55,'Loan - Grade & Staple'!$B$1:$B$1000&'Loan - Grade & Staple'!$C$1:$C$1000,0),MATCH(\"26-31\",'Loan - Grade & Staple'!$A$3:$K$3,0)),IF(ISNA(INDEX('Loan - Grade & Staple'!$A$1:$K$1000,MATCH($B55&C55,'Loan - Grade & Staple'!$B$1:$B$1000&'Loan - Grade & Staple'!$C$1:$C$1000,0),MATCH($K55,'Loan - Grade & Staple'!$A$3:$K$3,0))),-4000,INDEX('Loan - Grade & Staple'!$A$1:$K$1000,MATCH($B55&C55,'Loan - Grade & Staple'!$B$1:$B$1000&'Loan - Grade & Staple'!$C$1:$C$1000,0),MATCH($K55,'Loan - Grade & Staple'!$A$3:$K$3,0))))))","v":""},{"$f":"IF(LEN(E55)=0,\"\",INDEX('Loan - Strength'!$C$1:$C$18,MATCH(E55,'Loan - Strength'!$A$1:$A$18,1)))","v":""},{"$f":"IF(LEN(F55)=0,\"\",INDEX('Loan - Micronaire'!$C$1:$C$20,MATCH($F55,'Loan - Micronaire'!$A$1:$A$20,1)))","v":""},{"$f":"IF(LEN(G55)=0,\"\",INDEX('Loan - Uniformity'!$C$1:$C$20,MATCH($G55,'Loan - Uniformity'!$A$1:$A$20,1)))","v":""},"","",{"$f":"IF(OR(LEN(B55)=0,LEN(C55)=0,LEN(D55)=0,LEN(E55)=0,LEN(F55)=0,LEN(G55)=0),\"\",IF('Base Values'!$B$8+(SUM($L55:$P55)/100)<0,0,'Base Values'!$B$8+(SUM(L55:P55)/100)))","v":""},null,{"$f":"IF(AND($T$13=TRUE,H55=1),'Loan - Extraneous'!B$3,IF(AND($T$13=TRUE,H55=2),'Loan - Extraneous'!C$3,0))","v":0},{"$f":"IF(I55=1,'Loan - Extraneous'!$B$4,IF(I55=2,'Loan - Extraneous'!$C$4,0))","v":0},{"$f":"IF(J55=1,'Loan - Extraneous'!$B$5,IF(J55=2,'Loan - Extraneous'!$C$5,0))","v":0}]
[null,null,null,null,null,null,null,null,null,null,"",{"$f":"IF(OR(LEN(B56)=0,LEN(C56)=0,LEN(D56)=0),\"\",IF(K56>=38,INDEX('Loan - Grade & Staple'!$A$1:$K$1000,MATCH($B56&$C56,'Loan - Grade & Staple'!$B$1:$B$1000&'Loan - Grade & Staple'!$C$1:$C$1000,0),MATCH(\"38+\",'Loan - Grade & Staple'!$A$3:$K$3,0)),IF(K56<=31,INDEX('Loan - Grade & Staple'!$A$1:$K$1000,MATCH($B56&$C56,'Loan - Grade & Staple'!$B$1:$B$1000&'Loan - Grade & Staple'!$C$1:$C$1000,0),MATCH(\"26-31\",'Loan - Grade & Staple'!$A$3:$K$3,0)),IF(ISNA(INDEX('Loan - Grade & Staple'!$A$1:$K$1000,MATCH($B56&C56,'Loan - Grade & Staple'!$B$1:$B$1000&'Loan - Grade & Staple'!$C$1:$C$1000,0),MATCH($K56,'Loan - Grade & Staple'!$A$3:$K$3,0))),-4000,INDEX('Loan - Grade & Staple'!$A$1:$K$1000,MATCH($B56&C56,'Loan - Grade & Staple'!$B$1:$B$1000&'Loan - Grade & Staple'!$C$1:$C$1000,0),MATCH($K56,'Loan - Grade & Staple'!$A$3:$K$3,0))))))","v":""},{"$f":"IF(LEN(E56)=0,\"\",INDEX('Loan - Strength'!$C$1:$C$18,MATCH(E56,'Loan - Strength'!$A$1:$A$18,1)))","v":""},{"$f":"IF(LEN(F56)=0,\"\",INDEX('Loan - Micronaire'!$C$1:$C$20,MATCH($F56,'Loan - Micronaire'!$A$1:$A$20,1)))","v":""},{"$f":"IF(LEN(G56)=0,\"\",INDEX('Loan - Uniformity'!$C$1:$C$20,MATCH($G56,'Loan - Uniformity'!$A$1:$A$20,1)))","v":""},"","",{"$f":"IF(OR(LEN(B56)=0,LEN(C56)=0,LEN(D56)=0,LEN(E56)=0,LEN(F56)=0,LEN(G56)=0),\"\",IF('Base Values'!$B$8+(SUM($L56:$P56)/100)<0,0,'Base Values'!$B$8+(SUM(L56:P56)/100)))","v":""},null,{"$f":"IF(AND($T$13=TRUE,H56=1),'Loan - Extraneous'!B$3,IF(AND($T$13=TRUE,H56=2),'Loan - Extraneous'!C$3,0))","v":0},{"$f":"IF(I56=1,'Loan - Extraneous'!$B$4,IF(I56=2,'Loan - Extraneous'!$C$4,0))","v":0},{"$f":"IF(J56=1,'Loan - Extraneous'!$B$5,IF(J56=2,'Loan - Extraneous'!$C$5,0))","v":0}]
[null,null,null,null,null,null,null,null,null,null,"",{"$f":"IF(OR(LEN(B57)=0,LEN(C57)=0,LEN(D57)=0),\"\",IF(K57>=38,INDEX('Loan - Grade & Staple'!$A$1:$K$1000,MATCH($B57&$C57,'Loan - Grade & Staple'!$B$1:$B$1000&'Loan - Grade & Staple'!$C$1:$C$1000,0),MATCH(\"38+\",'Loan - Grade & Staple'!$A$3:$K$3,0)),IF(K57<=31,INDEX('Loan - Grade & Staple'!$A$1:$K$1000,MATCH($B57&$C57,'Loan - Grade & Staple'!$B$1:$B$1000&'Loan - Grade & Staple'!$C$1:$C$1000,0),MATCH(\"26-31\",'Loan - Grade & Staple'!$A$3:$K$3,0)),IF(ISNA(INDEX('Loan - Grade & Staple'!$A$1:$K$1000,MATCH($B57&C57,'Loan - Grade & Staple'!$B$1:$B$1000&'Loan - Grade & Staple'!$C$1:$C$1000,0),MATCH($K57,'Loan - Grade & Staple'!$A$3:$K$3,0))),-4000,INDEX('Loan - Grade & Staple'!$A$1:$K$1000,MATCH($B57&C57,'Loan - Grade & Staple'!$B$1:$B$1000&'Loan - Grade & Staple'!$C$1:$C$1000,0),MATCH($K57,'Loan - Grade & Staple'!$A$3:$K$3,0))))))","v":""},{"$f":"IF(LEN(E57)=0,\"\",INDEX('Loan - Strength'!$C$1:$C$18,MATCH(E57,'Loan - Strength'!$A$1:$A$18,1)))","v":""},{"$f":"IF(LEN(F57)=0,\"\",INDEX('Loan - Micronaire'!$C$1:$C$20,MATCH($F57,'Loan - Micronaire'!$A$1:$A$20,1)))","v":""},{"$f":"IF(LEN(G57)=0,\"\",INDEX('Loan - Uniformity'!$C$1:$C$20,MATCH($G57,'Loan - Uniformity'!$A$1:$A$20,1)))","v":""},"","",{"$f":"IF(OR(LEN(B57)=0,LEN(C57)=0,LEN(D57)=0,LEN(E57)=0,LEN(F57)=0,LEN(G57)=0),\"\",IF('Base Values'!$B$8+(SUM($L57:$P57)/100)<0,0,'Base Values'!$B$8+(SUM(L57:P57)/100)))","v":""},null,{"$f":"IF(AND($T$13=TRUE,H57=1),'Loan - Extraneous'!B$3,IF(AND($T$13=TRUE,H57=2),'Loan - Extraneous'!C$3,0))","v":0},{"$f":"IF(I57=1,'Loan - Extraneous'!$B$4,IF(I57=2,'Loan - Extraneous'!$C$4,0))","v":0},{"$f":"IF(J57=1,'Loan - Extraneous'!$B$5,IF(J57=2,'Loan - Extraneous'!$C$5,0))","v":0}]
[null,null,null,null,null,null,null,null,null,null,"",{"$f":"IF(OR(LEN(B58)=0,LEN(C58)=0,LEN(D58)=0),\"\",IF(K58>=38,INDEX('Loan - Grade & Staple'!$A$1:$K$1000,MATCH($B58&$C58,'Loan - Grade & Staple'!$B$1:$B$1000&'Loan - Grade & Staple'!$C$1:$C$1000,0),MATCH(\"38+\",'Loan - Grade & Staple'!$A$3:$K$3,0)),IF(K58<=31,INDEX('Loan - Grade & Staple'!$A$1:$K$1000,MATCH($B58&$C58,'Loan - Grade & Staple'!$B$1:$B$1000&'Loan - Grade & Staple'!$C$1:$C$1000,0),MATCH(\"26-31\",'Loan - Grade & Staple'!$A$3:$K$3,0)),IF(ISNA(INDEX('Loan - Grade & Staple'!$A$1:$K$1000,MATCH($B58&C58,'Loan - Grade & Staple'!$B$1:$B$1000&'Loan - Grade & Staple'!$C$1:$C$1000,0),MATCH($K58,'Loan - Grade & Staple'!$A$3:$K$3,0))),-4000,INDEX('Loan - Grade & Staple'!$A$1:$K$1000,MATCH($B58&C58,'Loan - Grade & Staple'!$B$1:$B$1000&'Loan - Grade & Staple'!$C$1:$C$1000,0),MATCH($K58,'Loan - Grade & Staple'!$A$3:$K$3,0))))))","v":""},{"$f":"IF(LEN(E58)=0,\"\",INDEX('Loan - Strength'!$C$1:$C$18,MATCH(E58,'Loan - Strength'!$A$1:$A$18,1)))","v":""},{"$f":"IF(LEN(F58)=0,\"\",INDEX('Loan - Micronaire'!$C$1:$C$20,MATCH($F58,'Loan - Micronaire'!$A$1:$A$20,1)))","v":""},{"$f":"IF(LEN(G58)=0,\"\",INDEX('Loan - Uniformity'!$C$1:$C$20,MATCH($G58,'Loan - Uniformity'!$A$1:$A$20,1)))","v":""},"","",{"$f":"IF(OR(LEN(B58)=0,LEN(C58)=0,LEN(D58)=0,LEN(E58)=0,LEN(F58)=0,LEN(G58)=0),\"\",IF('Base Values'!$B$8+(SUM($L58:$P58)/100)<0,0,'Base Values'!$B$8+(SUM(L58:P58)/100)))","v":""},null,{"$f":"IF(AND($T$13=TRUE,H58=1),'Loan - Extraneous'!B$3,IF(AND($T$13=TRUE,H58=2),'Loan - Extraneous'!C$3,0))","v":0},{"$f":"IF(I58=1,'Loan - Extraneous'!$B$4,IF(I58=2,'Loan - Extraneous'!$C$4,0))","v":0},{"$f":"IF(J58=1,'Loan - Extraneous'!$B$5,IF(J58=2,'Loan - Extraneous'!$C$5,0))","v":0}]
[null,null,null,null,null,null,null,null,null,null,"",{"$f":"IF(OR(LEN(B59)=0,LEN(C59)=0,LEN(D59)=0),\"\",IF(K59>=38,INDEX('Loan - Grade & Staple'!$A$1:$K$1000,MATCH($B59&$C59,'Loan - Grade & Staple'!$B$1:$B$1000&'Loan - Grade & Staple'!$C$1:$C$1000,0),MATCH(\"38+\",'Loan - Grade & Staple'!$A$3:$K$3,0)),IF(K59<=31,INDEX('Loan - Grade & Staple'!$A$1:$K$1000,MATCH($B59&$C59,'Loan - Grade & Staple'!$B$1:$B$1000&'Loan - Grade & Staple'!$C$1:$C$1000,0),MATCH(\"26-31\",'Loan - Grade & Staple'!$A$3:$K$3,0)),IF(ISNA(INDEX('Loan - Grade & Staple'!$A$1:$K$1000,MATCH($B59&C59,'Loan - Grade & Staple'!$B$1:$B$1000&'Loan - Grade & Staple'!$C$1:$C$1000,0),MATCH($K59,'Loan - Grade & Staple'!$A$3:$K$3,0))),-4000,INDEX('Loan - Grade & Staple'!$A$1:$K$1000,MATCH($B59&C59,'Loan - Grade & Staple'!$B$1:$B$1000&'Loan - Grade & Staple'!$C$1:$C$1000,0),MATCH($K59,'Loan - Grade & Staple'!$A$3:$K$3,0))))))","v":""},{"$f":"IF(LEN(E59)=0,\"\",INDEX('Loan - Strength'!$C$1:$C$18,MATCH(E59,'Loan - Strength'!$A$1:$A$18,1)))","v":""},{"$f":"IF(LEN(F59)=0,\"\",INDEX('Loan - Micronaire'!$C$1:$C$20,MATCH($F59,'Loan - Micronaire'!$A$1:$A$20,1)))","v":""},{"$f":"IF(LEN(G59)=0,\"\",INDEX('Loan - Uniformity'!$C$1:$C$20,MATCH($G59,'Loan - Uniformity'!$A$1:$A$20,1)))","v":""},"","",{"$f":"IF(OR(LEN(B59)=0,LEN(C59)=0,LEN(D59)=0,LEN(E59)=0,LEN(F59)=0,LEN(G59)=0),\"\",IF('Base Values'!$B$8+(SUM($L59:$P59)/100)<0,0,'Base Values'!$B$8+(SUM(L59:P59)/100)))","v":""},null,{"$f":"IF(AND($T$13=TRUE,H59=1),'Loan - Extraneous'!B$3,IF(AND($T$13=TRUE,H59=2),'Loan - Extraneous'!C$3,0))","v":0},{"$f":"IF(I59=1,'Loan - Extraneous'!$B$4,IF(I59=2,'Loan - Extraneous'!$C$4,0))","v":0},{"$f":"IF(J59=1,'Loan - Extraneous'!$B$5,IF(J59=2,'Loan - Extraneous'!$C$5,0))","v":0}]
[null,null,null,null,null,null,null,null,null,null,"",{"$f":"IF(OR(LEN(B60)=0,LEN(C60)=0,LEN(D60)=0),\"\",IF(K60>=38,INDEX('Loan - Grade & Staple'!$A$1:$K$1000,MATCH($B60&$C60,'Loan - Grade & Staple'!$B$1:$B$1000&'Loan - Grade & Staple'!$C$1:$C$1000,0),MATCH(\"38+\",'Loan - Grade & Staple'!$A$3:$K$3,0)),IF(K60<=31,INDEX('Loan - Grade & Staple'!$A$1:$K$1000,MATCH($B60&$C60,'Loan - Grade & Staple'!$B$1:$B$1000&'Loan - Grade & Staple'!$C$1:$C$1000,0),MATCH(\"26-31\",'Loan - Grade & Staple'!$A$3:$K$3,0)),IF(ISNA(INDEX('Loan - Grade & Staple'!$A$1:$K$1000,MATCH($B60&C60,'Loan - Grade & Staple'!$B$1:$B$1000&'Loan - Grade & Staple'!$C$1:$C$1000,0),MATCH($K60,'Loan - Grade & Staple'!$A$3:$K$3,0))),-4000,INDEX('Loan - Grade & Staple'!$A$1:$K$1000,MATCH($B60&C60,'Loan - Grade & Staple'!$B$1:$B$1000&'Loan - Grade & Staple'!$C$1:$C$1000,0),MATCH($K60,'Loan - Grade & Staple'!$A$3:$K$3,0))))))","v":""},{"$f":"IF(LEN(E60)=0,\"\",INDEX('Loan - Strength'!$C$1:$C$18,MATCH(E60,'Loan - Strength'!$A$1:$A$18,1)))","v":""},{"$f":"IF(LEN(F60)=0,\"\",INDEX('Loan - Micronaire'!$C$1:$C$20,MATCH($F60,'Loan - Micronaire'!$A$1:$A$20,1)))","v":""},{"$f":"IF(LEN(G60)=0,\"\",INDEX('Loan - Uniformity'!$C$1:$C$20,MATCH($G60,'Loan - Uniformity'!$A$1:$A$20,1)))","v":""},"","",{"$f":"IF(OR(LEN(B60)=0,LEN(C60)=0,LEN(D60)=0,LEN(E60)=0,LEN(F60)=0,LEN(G60)=0),\"\",IF('Base Values'!$B$8+(SUM($L60:$P60)/100)<0,0,'Base Values'!$B$8+(SUM(L60:P60)/100)))","v":""},null,{"$f":"IF(AND($T$13=TRUE,H60=1),'Loan - Extraneous'!B$3,IF(AND($T$13=TRUE,H60=2),'Loan - Extraneous'!C$3,0))","v":0},{"$f":"IF(I60=1,'Loan - Extraneous'!$B$4,IF(I60=2,'Loan - Extraneous'!$C$4,0))","v":0},{"$f":"IF(J60=1,'Loan - Extraneous'!$B$5,IF(J60=2,'Loan - Extraneous'!$C$5,0))","v":0}]
[null,null,null,null,null,null,null,null,null,null,"",{"$f":"IF(OR(LEN(B61)=0,LEN(C61)=0,LEN(D61)=0),\"\",IF(K61>=38,INDEX('Loan - Grade & Staple'!$A$1:$K$1000,MATCH($B61&$C61,'Loan - Grade & Staple'!$B$1:$B$1000&'Loan - Grade & Staple'!$C$1:$C$1000,0),MATCH(\"38+\",'Loan - Grade & Staple'!$A$3:$K$3,0)),IF(K61<=31,INDEX('Loan - Grade & Staple'!$A$1:$K$1000,MATCH($B61&$C61,'Loan - Grade & Staple'!$B$1:$B$1000&'Loan - Grade & Staple'!$C$1:$C$1000,0),MATCH(\"26-31\",'Loan - Grade & Staple'!$A$3:$K$3,0)),IF(ISNA(INDEX('Loan - Grade & Staple'!$A$1:$K$1000,MATCH($B61&C61,'Loan - Grade & Staple'!$B$1:$B$1000&'Loan - Grade & Staple'!$C$1:$C$1000,0),MATCH($K61,'Loan - Grade & Staple'!$A$3:$K$3,0))),-4000,INDEX('Loan - Grade & Staple'!$A$1:$K$1000,MATCH($B61&C61,'Loan - Grade & Staple'!$B$1:$B$1000&'Loan - Grade & Staple'!$C$1:$C$1000,0),MATCH($K61,'Loan - Grade & Staple'!$A$3:$K$3,0))))))","v":""},{"$f":"IF(LEN(E61)=0,\"\",INDEX('Loan - Strength'!$C$1:$C$18,MATCH(E61,'Loan - Strength'!$A$1:$A$18,1)))","v":""},{"$f":"IF(LEN(F61)=0,\"\",INDEX('Loan - Micronaire'!$C$1:$C$20,MATCH($F61,'Loan - Micronaire'!$A$1:$A$20,1)))","v":""},{"$f":"IF(LEN(G61)=0,\"\",INDEX('Loan - Uniformity'!$C$1:$C$20,MATCH($G61,'Loan - Uniformity'!$A$1:$A$20,1)))","v":""},"","",{"$f":"IF(OR(LEN(B61)=0,LEN(C61)=0,LEN(D61)=0,LEN(E61)=0,LEN(F61)=0,LEN(G61)=0),\"\",IF('Base Values'!$B$8+(SUM($L61:$P61)/100)<0,0,'Base Values'!$B$8+(SUM(L61:P61)/100)))","v":""},null,{"$f":"IF(AND($T$13=TRUE,H61=1),'Loan - Extraneous'!B$3,IF(AND($T$13=TRUE,H61=2),'Loan - Extraneous'!C$3,0))","v":0},{"$f":"IF(I61=1,'Loan - Extraneous'!$B$4,IF(I61=2,'Loan - Extraneous'!$C$4,0))","v":0},{"$f":"IF(J61=1,'Loan - Extraneous'!$B$5,IF(J61=2,'Loan - Extraneous'!$C$5,0))","v":0}]
[null,null,null,null,null,null,null,null,null,null,"",{"$f":"IF(OR(LEN(B62)=0,LEN(C62)=0,LEN(D62)=0),\"\",IF(K62>=38,INDEX('Loan - Grade & Staple'!$A$1:$K$1000,MATCH($B62&$C62,'Loan - Grade & Staple'!$B$1:$B$1000&'Loan - Grade & Staple'!$C$1:$C$1000,0),MATCH(\"38+\",'Loan - Grade & Staple'!$A$3:$K$3,0)),IF(K62<=31,INDEX('Loan - Grade & Staple'!$A$1:$K$1000,MATCH($B62&$C62,'Loan - Grade & Staple'!$B$1:$B$1000&'Loan - Grade & Staple'!$C$1:$C$1000,0),MATCH(\"26-31\",'Loan - Grade & Staple'!$A$3:$K$3,0)),IF(ISNA(INDEX('Loan - Grade & Staple'!$A$1:$K$1000,MATCH($B62&C62,'Loan - Grade & Staple'!$B$1:$B$1000&'Loan - Grade & Staple'!$C$1:$C$1000,0),MATCH($K62,'Loan - Grade & Staple'!$A$3:$K$3,0))),-4000,INDEX('Loan - Grade & Staple'!$A$1:$K$1000,MATCH($B62&C62,'Loan - Grade & Staple'!$B$1:$B$1000&'Loan - Grade & Staple'!$C$1:$C$1000,0),MATCH($K62,'Loan - Grade & Staple'!$A$3:$K$3,0))))))","v":""},{"$f":"IF(LEN(E62)=0,\"\",INDEX('Loan - Strength'!$C$1:$C$18,MATCH(E62,'Loan - Strength'!$A$1:$A$18,1)))","v":""},{"$f":"IF(LEN(F62)=0,\"\",INDEX('Loan - Micronaire'!$C$1:$C$20,MATCH($F62,'Loan - Micronaire'!$A$1:$A$20,1)))","v":""},{"$f":"IF(LEN(G62)=0,\"\",INDEX('Loan - Uniformity'!$C$1:$C$20,MATCH($G62,'Loan - Uniformity'!$A$1:$A$20,1)))","v":""},"","",{"$f":"IF(OR(LEN(B62)=0,LEN(C62)=0,LEN(D62)=0,LEN(E62)=0,LEN(F62)=0,LEN(G62)=0),\"\",IF('Base Values'!$B$8+(SUM($L62:$P62)/100)<0,0,'Base Values'!$B$8+(SUM(L62:P62)/100)))","v":""},null,{"$f":"IF(AND($T$13=TRUE,H62=1),'Loan - Extraneous'!B$3,IF(AND($T$13=TRUE,H62=2),'Loan - Extraneous'!C$3,0))","v":0},{"$f":"IF(I62=1,'Loan - Extraneous'!$B$4,IF(I62=2,'Loan - Extraneous'!$C$4,0))","v":0},{"$f":"IF(J62=1,'Loan - Extraneous'!$B$5,IF(J62=2,'Loan - Extraneous'!$C$5,0))","v":0}]
[null,null,null,null,null,null,null,null,null,null,"",{"$f":"IF(OR(LEN(B63)=0,LEN(C63)=0,LEN(D63)=0),\"\",IF(K63>=38,INDEX('Loan - Grade & Staple'!$A$1:$K$1000,MATCH($B63&$C63,'Loan - Grade & Staple'!$B$1:$B$1000&'Loan - Grade & Staple'!$C$1:$C$1000,0),MATCH(\"38+\",'Loan - Grade & Staple'!$A$3:$K$3,0)),IF(K63<=31,INDEX('Loan - Grade & Staple'!$A$1:$K$1000,MATCH($B63&$C63,'Loan - Grade & Staple'!$B$1:$B$1000&'Loan - Grade & Staple'!$C$1:$C$1000,0),MATCH(\"26-31\",'Loan - Grade & Staple'!$A$3:$K$3,0)),IF(ISNA(INDEX('Loan - Grade & Staple'!$A$1:$K$1000,MATCH($B63&C63,'Loan - Grade & Staple'!$B$1:$B$1000&'Loan - Grade & Staple'!$C$1:$C$1000,0),MATCH($K63,'Loan - Grade & Staple'!$A$3:$K$3,0))),-4000,INDEX('Loan - Grade & Staple'!$A$1:$K$1000,MATCH($B63&C63,'Loan - Grade & Staple'!$B$1:$B$1000&'Loan - Grade & Staple'!$C$1:$C$1000,0),MATCH($K63,'Loan - Grade & Staple'!$A$3:$K$3,0))))))","v":""},{"$f":"IF(LEN(E63)=0,\"\",INDEX('Loan - Strength'!$C$1:$C$18,MATCH(E63,'Loan - Strength'!$A$1:$A$18,1)))","v":""},{"$f":"IF(LEN(F63)=0,\"\",INDEX('Loan - Micronaire'!$C$1:$C$20,MATCH($F63,'Loan - Micronaire'!$A$1:$A$20,1)))","v":""},{"$f":"IF(LEN(G63)=0,\"\",INDEX('Loan - Uniformity'!$C$1:$C$20,MATCH($G63,'Loan - Uniformity'!$A$1:$A$20,1)))","v":""},"","",{"$f":"IF(OR(LEN(B63)=0,LEN(C63)=0,LEN(D63)=0,LEN(E63)=0,LEN(F63)=0,LEN(G63)=0),\"\",IF('Base Values'!$B$8+(SUM($L63:$P63)/100)<0,0,'Base Values'!$B$8+(SUM(L63:P63)/100)))","v":""},null,{"$f":"IF(AND($T$13=TRUE,H63=1),'Loan - Extraneous'!B$3,IF(AND($T$13=TRUE,H63=2),'Loan - Extraneous'!C$3,0))","v":0},{"$f":"IF(I63=1,'Loan - Extraneous'!$B$4,IF(I63=2,'Loan - Extraneous'!$C$4,0))","v":0},{"$f":"IF(J63=1,'Loan - Extraneous'!$B$5,IF(J63=2,'Loan - Extraneous'!$C$5,0))","v":0}]
[null,null,null,null,null,null,null,null,null,null,"",{"$f":"IF(OR(LEN(B64)=0,LEN(C64)=0,LEN(D64)=0),\"\",IF(K64>=38,INDEX('Loan - Grade & Staple'!$A$1:$K$1000,MATCH($B64&$C64,'Loan - Grade & Staple'!$B$1:$B$1000&'Loan - Grade & Staple'!$C$1:$C$1000,0),MATCH(\"38+\",'Loan - Grade & Staple'!$A$3:$K$3,0)),IF(K64<=31,INDEX('Loan - Grade & Staple'!$A$1:$K$1000,MATCH($B64&$C64,'Loan - Grade & Staple'!$B$1:$B$1000&'Loan - Grade & Staple'!$C$1:$C$1000,0),MATCH(\"26-31\",'Loan - Grade & Staple'!$A$3:$K$3,0)),IF(ISNA(INDEX('Loan - Grade & Staple'!$A$1:$K$1000,MATCH($B64&C64,'Loan - Grade & Staple'!$B$1:$B$1000&'Loan - Grade & Staple'!$C$1:$C$1000,0),MATCH($K64,'Loan - Grade & Staple'!$A$3:$K$3,0))),-4000,INDEX('Loan - Grade & Staple'!$A$1:$K$1000,MATCH($B64&C64,'Loan - Grade & Staple'!$B$1:$B$1000&'Loan - Grade & Staple'!$C$1:$C$1000,0),MATCH($K64,'Loan - Grade & Staple'!$A$3:$K$3,0))))))","v":""},{"$f":"IF(LEN(E64)=0,\"\",INDEX('Loan - Strength'!$C$1:$C$18,MATCH(E64,'Loan - Strength'!$A$1:$A$18,1)))","v":""},{"$f":"IF(LEN(F64)=0,\"\",INDEX('Loan - Micronaire'!$C$1:$C$20,MATCH($F64,'Loan - Micronaire'!$A$1:$A$20,1)))","v":""},{"$f":"IF(LEN(G64)=0,\"\",INDEX('Loan - Uniformity'!$C$1:$C$20,MATCH($G64,'Loan - Uniformity'!$A$1:$A$20,1)))","v":""},"","",{"$f":"IF(OR(LEN(B64)=0,LEN(C64)=0,LEN(D64)=0,LEN(E64)=0,LEN(F64)=0,LEN(G64)=0),\"\",IF('Base Values'!$B$8+(SUM($L64:$P64)/100)<0,0,'Base Values'!$B$8+(SUM(L64:P64)/100)))","v":""},null,{"$f":"IF(AND($T$13=TRUE,H64=1),'Loan - Extraneous'!B$3,IF(AND($T$13=TRUE,H64=2),'Loan - Extraneous'!C$3,0))","v":0},{"$f":"IF(I64=1,'Loan - Extraneous'!$B$4,IF(I64=2,'Loan - Extraneous'!$C$4,0))","v":0},{"$f":"IF(J64=1,'Loan - Extraneous'!$B$5,IF(J64=2,'Loan - Extraneous'!$C$5,0))","v":0}]
[null,null,null,null,null,null,null,null,null,null,"",{"$f":"IF(OR(LEN(B65)=0,LEN(C65)=0,LEN(D65)=0),\"\",IF(K65>=38,INDEX('Loan - Grade & Staple'!$A$1:$K$1000,MATCH($B65&$C65,'Loan - Grade & Staple'!$B$1:$B$1000&'Loan - Grade & Staple'!$C$1:$C$1000,0),MATCH(\"38+\",'Loan - Grade & Staple'!$A$3:$K$3,0)),IF(K65<=31,INDEX('Loan - Grade & Staple'!$A$1:$K$1000,MATCH($B65&$C65,'Loan - Grade & Staple'!$B$1:$B$1000&'Loan - Grade & Staple'!$C$1:$C$1000,0),MATCH(\"26-31\",'Loan - Grade & Staple'!$A$3:$K$3,0)),IF(ISNA(INDEX('Loan - Grade & Staple'!$A$1:$K$1000,MATCH($B65&C65,'Loan - Grade & Staple'!$B$1:$B$1000&'Loan - Grade & Staple'!$C$1:$C$1000,0),MATCH($K65,'Loan - Grade & Staple'!$A$3:$K$3,0))),-4000,INDEX('Loan - Grade & Staple'!$A$1:$K$1000,MATCH($B65&C65,'Loan - Grade & Staple'!$B$1:$B$1000&'Loan - Grade & Staple'!$C$1:$C$1000,0),MATCH($K65,'Loan - Grade & Staple'!$A$3:$K$3,0))))))","v":""},{"$f":"IF(LEN(E65)=0,\"\",INDEX('Loan - Strength'!$C$1:$C$18,MATCH(E65,'Loan - Strength'!$A$1:$A$18,1)))","v":""},{"$f":"IF(LEN(F65)=0,\"\",INDEX('Loan - Micronaire'!$C$1:$C$20,MATCH($F65,'Loan - Micronaire'!$A$1:$A$20,1)))","v":""},{"$f":"IF(LEN(G65)=0,\"\",INDEX('Loan - Uniformity'!$C$1:$C$20,MATCH($G65,'Loan - Uniformity'!$A$1:$A$20,1)))","v":""},"","",{"$f":"IF(OR(LEN(B65)=0,LEN(C65)=0,LEN(D65)=0,LEN(E65)=0,LEN(F65)=0,LEN(G65)=0),\"\",IF('Base Values'!$B$8+(SUM($L65:$P65)/100)<0,0,'Base Values'!$B$8+(SUM(L65:P65)/100)))","v":""},null,{"$f":"IF(AND($T$13=TRUE,H65=1),'Loan - Extraneous'!B$3,IF(AND($T$13=TRUE,H65=2),'Loan - Extraneous'!C$3,0))","v":0},{"$f":"IF(I65=1,'Loan - Extraneous'!$B$4,IF(I65=2,'Loan - Extraneous'!$C$4,0))","v":0},{"$f":"IF(J65=1,'Loan - Extraneous'!$B$5,IF(J65=2,'Loan - Extraneous'!$C$5,0))","v":0}]
[null,null,null,null,null,null,null,null,null,null,"",{"$f":"IF(OR(LEN(B66)=0,LEN(C66)=0,LEN(D66)=0),\"\",IF(K66>=38,INDEX('Loan - Grade & Staple'!$A$1:$K$1000,MATCH($B66&$C66,'Loan - Grade & Staple'!$B$1:$B$1000&'Loan - Grade & Staple'!$C$1:$C$1000,0),MATCH(\"38+\",'Loan - Grade & Staple'!$A$3:$K$3,0)),IF(K66<=31,INDEX('Loan - Grade & Staple'!$A$1:$K$1000,MATCH($B66&$C66,'Loan - Grade & Staple'!$B$1:$B$1000&'Loan - Grade & Staple'!$C$1:$C$1000,0),MATCH(\"26-31\",'Loan - Grade & Staple'!$A$3:$K$3,0)),IF(ISNA(INDEX('Loan - Grade & Staple'!$A$1:$K$1000,MATCH($B66&C66,'Loan - Grade & Staple'!$B$1:$B$1000&'Loan - Grade & Staple'!$C$1:$C$1000,0),MATCH($K66,'Loan - Grade & Staple'!$A$3:$K$3,0))),-4000,INDEX('Loan - Grade & Staple'!$A$1:$K$1000,MATCH($B66&C66,'Loan - Grade & Staple'!$B$1:$B$1000&'Loan - Grade & Staple'!$C$1:$C$1000,0),MATCH($K66,'Loan - Grade & Staple'!$A$3:$K$3,0))))))","v":""},{"$f":"IF(LEN(E66)=0,\"\",INDEX('Loan - Strength'!$C$1:$C$18,MATCH(E66,'Loan - Strength'!$A$1:$A$18,1)))","v":""},{"$f":"IF(LEN(F66)=0,\"\",INDEX('Loan - Micronaire'!$C$1:$C$20,MATCH($F66,'Loan - Micronaire'!$A$1:$A$20,1)))","v":""},{"$f":"IF(LEN(G66)=0,\"\",INDEX('Loan - Uniformity'!$C$1:$C$20,MATCH($G66,'Loan - Uniformity'!$A$1:$A$20,1)))","v":""},"","",{"$f":"IF(OR(LEN(B66)=0,LEN(C66)=0,LEN(D66)=0,LEN(E66)=0,LEN(F66)=0,LEN(G66)=0),\"\",IF('Base Values'!$B$8+(SUM($L66:$P66)/100)<0,0,'Base Values'!$B$8+(SUM(L66:P66)/100)))","v":""},null,{"$f":"IF(AND($T$13=TRUE,H66=1),'Loan - Extraneous'!B$3,IF(AND($T$13=TRUE,H66=2),'Loan - Extraneous'!C$3,0))","v":0},{"$f":"IF(I66=1,'Loan - Extraneous'!$B$4,IF(I66=2,'Loan - Extraneous'!$C$4,0))","v":0},{"$f":"IF(J66=1,'Loan - Extraneous'!$B$5,IF(J66=2,'Loan - Extraneous'!$C$5,0))","v":0}]
[null,null,null,null,null,null,null,null,null,null,"",{"$f":"IF(OR(LEN(B67)=0,LEN(C67)=0,LEN(D67)=0),\"\",IF(K67>=38,INDEX('Loan - Grade & Staple'!$A$1:$K$1000,MATCH($B67&$C67,'Loan - Grade & Staple'!$B$1:$B$1000&'Loan - Grade & Staple'!$C$1:$C$1000,0),MATCH(\"38+\",'Loan - Grade & Staple'!$A$3:$K$3,0)),IF(K67<=31,INDEX('Loan - Grade & Staple'!$A$1:$K$1000,MATCH($B67&$C67,'Loan - Grade & Staple'!$B$1:$B$1000&'Loan - Grade & Staple'!$C$1:$C$1000,0),MATCH(\"26-31\",'Loan - Grade & Staple'!$A$3:$K$3,0)),IF(ISNA(INDEX('Loan - Grade & Staple'!$A$1:$K$1000,MATCH($B67&C67,'Loan - Grade & Staple'!$B$1:$B$1000&'Loan - Grade & Staple'!$C$1:$C$1000,0),MATCH($K67,'Loan - Grade & Staple'!$A$3:$K$3,0))),-4000,INDEX('Loan - Grade & Staple'!$A$1:$K$1000,MATCH($B67&C67,'Loan - Grade & Staple'!$B$1:$B$1000&'Loan - Grade & Staple'!$C$1:$C$1000,0),MATCH($K67,'Loan - Grade & Staple'!$A$3:$K$3,0))))))","v":""},{"$f":"IF(LEN(E67)=0,\"\",INDEX('Loan - Strength'!$C$1:$C$18,MATCH(E67,'Loan - Strength'!$A$1:$A$18,1)))","v":""},{"$f":"IF(LEN(F67)=0,\"\",INDEX('Loan - Micronaire'!$C$1:$C$20,MATCH($F67,'Loan - Micronaire'!$A$1:$A$20,1)))","v":""},{"$f":"IF(LEN(G67)=0,\"\",INDEX('Loan - Uniformity'!$C$1:$C$20,MATCH($G67,'Loan - Uniformity'!$A$1:$A$20,1)))","v":""},"","",{"$f":"IF(OR(LEN(B67)=0,LEN(C67)=0,LEN(D67)=0,LEN(E67)=0,LEN(F67)=0,LEN(G67)=0),\"\",IF('Base Values'!$B$8+(SUM($L67:$P67)/100)<0,0,'Base Values'!$B$8+(SUM(L67:P67)/100)))","v":""},null,{"$f":"IF(AND($T$13=TRUE,H67=1),'Loan - Extraneous'!B$3,IF(AND($T$13=TRUE,H67=2),'Loan - Extraneous'!C$3,0))","v":0},{"$f":"IF(I67=1,'Loan - Extraneous'!$B$4,IF(I67=2,'Loan - Extraneous'!$C$4,0))","v":0},{"$f":"IF(J67=1,'Loan - Extraneous'!$B$5,IF(J67=2,'Loan - Extraneous'!$C$5,0))","v":0}]
[null,null,null,null,null,null,null,null,null,null,"",{"$f":"IF(OR(LEN(B68)=0,LEN(C68)=0,LEN(D68)=0),\"\",IF(K68>=38,INDEX('Loan - Grade & Staple'!$A$1:$K$1000,MATCH($B68&$C68,'Loan - Grade & Staple'!$B$1:$B$1000&'Loan - Grade & Staple'!$C$1:$C$1000,0),MATCH(\"38+\",'Loan - Grade & Staple'!$A$3:$K$3,0)),IF(K68<=31,INDEX('Loan - Grade & Staple'!$A$1:$K$1000,MATCH($B68&$C68,'Loan - Grade & Staple'!$B$1:$B$1000&'Loan - Grade & Staple'!$C$1:$C$1000,0),MATCH(\"26-31\",'Loan - Grade & Staple'!$A$3:$K$3,0)),IF(ISNA(INDEX('Loan - Grade & Staple'!$A$1:$K$1000,MATCH($B68&C68,'Loan - Grade & Staple'!$B$1:$B$1000&'Loan - Grade & Staple'!$C$1:$C$1000,0),MATCH($K68,'Loan - Grade & Staple'!$A$3:$K$3,0))),-4000,INDEX('Loan - Grade & Staple'!$A$1:$K$1000,MATCH($B68&C68,'Loan - Grade & Staple'!$B$1:$B$1000&'Loan - Grade & Staple'!$C$1:$C$1000,0),MATCH($K68,'Loan - Grade & Staple'!$A$3:$K$3,0))))))","v":""},{"$f":"IF(LEN(E68)=0,\"\",INDEX('Loan - Strength'!$C$1:$C$18,MATCH(E68,'Loan - Strength'!$A$1:$A$18,1)))","v":""},{"$f":"IF(LEN(F68)=0,\"\",INDEX('Loan - Micronaire'!$C$1:$C$20,MATCH($F68,'Loan - Micronaire'!$A$1:$A$20,1)))","v":""},{"$f":"IF(LEN(G68)=0,\"\",INDEX('Loan - Uniformity'!$C$1:$C$20,MATCH($G68,'Loan - Uniformity'!$A$1:$A$20,1)))","v":""},"","",{"$f":"IF(OR(LEN(B68)=0,LEN(C68)=0,LEN(D68)=0,LEN(E68)=0,LEN(F68)=0,LEN(G68)=0),\"\",IF('Base Values'!$B$8+(SUM($L68:$P68)/100)<0,0,'Base Values'!$B$8+(SUM(L68:P68)/100)))","v":""},null,{"$f":"IF(AND($T$13=TRUE,H68=1),'Loan - Extraneous'!B$3,IF(AND($T$13=TRUE,H68=2),'Loan - Extraneous'!C$3,0))","v":0},{"$f":"IF(I68=1,'Loan - Extraneous'!$B$4,IF(I68=2,'Loan - Extraneous'!$C$4,0))","v":0},{"$f":"IF(J68=1,'Loan - Extraneous'!$B$5,IF(J68=2,'Loan - Extraneous'!$C$5,0))","v":0}]
[null,null,null,null,null,null,null,null,null,null,"",{"$f":"IF(OR(LEN(B69)=0,LEN(C69)=0,LEN(D69)=0),\"\",IF(K69>=38,INDEX('Loan - Grade & Staple'!$A$1:$K$1000,MATCH($B69&$C69,'Loan - Grade & Staple'!$B$1:$B$1000&'Loan - Grade & Staple'!$C$1:$C$1000,0),MATCH(\"38+\",'Loan - Grade & Staple'!$A$3:$K$3,0)),IF(K69<=31,INDEX('Loan - Grade & Staple'!$A$1:$K$1000,MATCH($B69&$C69,'Loan - Grade & Staple'!$B$1:$B$1000&'Loan - Grade & Staple'!$C$1:$C$1000,0),MATCH(\"26-31\",'Loan - Grade & Staple'!$A$3:$K$3,0)),IF(ISNA(INDEX('Loan - Grade & Staple'!$A$1:$K$1000,MATCH($B69&C69,'Loan - Grade & Staple'!$B$1:$B$1000&'Loan - Grade & Staple'!$C$1:$C$1000,0),MATCH($K69,'Loan - Grade & Staple'!$A$3:$K$3,0))),-4000,INDEX('Loan - Grade & Staple'!$A$1:$K$1000,MATCH($B69&C69,'Loan - Grade & Staple'!$B$1:$B$1000&'Loan - Grade & Staple'!$C$1:$C$1000,0),MATCH($K69,'Loan - Grade & Staple'!$A$3:$K$3,0))))))","v":""},{"$f":"IF(LEN(E69)=0,\"\",INDEX('Loan - Strength'!$C$1:$C$18,MATCH(E69,'Loan - Strength'!$A$1:$A$18,1)))","v":""},{"$f":"IF(LEN(F69)=0,\"\",INDEX('Loan - Micronaire'!$C$1:$C$20,MATCH($F69,'Loan - Micronaire'!$A$1:$A$20,1)))","v":""},{"$f":"IF(LEN(G69)=0,\"\",INDEX('Loan - Uniformity'!$C$1:$C$20,MATCH($G69,'Loan - Uniformity'!$A$1:$A$20,1)))","v":""},"","",{"$f":"IF(OR(LEN(B69)=0,LEN(C69)=0,LEN(D69)=0,LEN(E69)=0,LEN(F69)=0,LEN(G69)=0),\"\",IF('Base Values'!$B$8+(SUM($L69:$P69)/100)<0,0,'Base Values'!$B$8+(SUM(L69:P69)/100)))","v":""},null,{"$f":"IF(AND($T$13=TRUE,H69=1),'Loan - Extraneous'!B$3,IF(AND($T$13=TRUE,H69=2),'Loan - Extraneous'!C$3,0))","v":0},{"$f":"IF(I69=1,'Loan - Extraneous'!$B$4,IF(I69=2,'Loan - Extraneous'!$C$4,0))","v":0},{"$f":"IF(J69=1,'Loan - Extraneous'!$B$5,IF(J69=2,'Loan - Extraneous'!$C$5,0))","v":0}]
[null,null,null,null,null,null,null,null,null,null,"",{"$f":"IF(OR(LEN(B70)=0,LEN(C70)=0,LEN(D70)=0),\"\",IF(K70>=38,INDEX('Loan - Grade & Staple'!$A$1:$K$1000,MATCH($B70&$C70,'Loan - Grade & Staple'!$B$1:$B$1000&'Loan - Grade & Staple'!$C$1:$C$1000,0),MATCH(\"38+\",'Loan - Grade & Staple'!$A$3:$K$3,0)),IF(K70<=31,INDEX('Loan - Grade & Staple'!$A$1:$K$1000,MATCH($B70&$C70,'Loan - Grade & Staple'!$B$1:$B$1000&'Loan - Grade & Staple'!$C$1:$C$1000,0),MATCH(\"26-31\",'Loan - Grade & Staple'!$A$3:$K$3,0)),IF(ISNA(INDEX('Loan - Grade & Staple'!$A$1:$K$1000,MATCH($B70&C70,'Loan - Grade & Staple'!$B$1:$B$1000&'Loan - Grade & Staple'!$C$1:$C$1000,0),MATCH($K70,'Loan - Grade & Staple'!$A$3:$K$3,0))),-4000,INDEX('Loan - Grade & Staple'!$A$1:$K$1000,MATCH($B70&C70,'Loan - Grade & Staple'!$B$1:$B$1000&'Loan - Grade & Staple'!$C$1:$C$1000,0),MATCH($K70,'Loan - Grade & Staple'!$A$3:$K$3,0))))))","v":""},{"$f":"IF(LEN(E70)=0,\"\",INDEX('Loan - Strength'!$C$1:$C$18,MATCH(E70,'Loan - Strength'!$A$1:$A$18,1)))","v":""},{"$f":"IF(LEN(F70)=0,\"\",INDEX('Loan - Micronaire'!$C$1:$C$20,MATCH($F70,'Loan - Micronaire'!$A$1:$A$20,1)))","v":""},{"$f":"IF(LEN(G70)=0,\"\",INDEX('Loan - Uniformity'!$C$1:$C$20,MATCH($G70,'Loan - Uniformity'!$A$1:$A$20,1)))","v":""},"","",{"$f":"IF(OR(LEN(B70)=0,LEN(C70)=0,LEN(D70)=0,LEN(E70)=0,LEN(F70)=0,LEN(G70)=0),\"\",IF('Base Values'!$B$8+(SUM($L70:$P70)/100)<0,0,'Base Values'!$B$8+(SUM(L70:P70)/100)))","v":""},null,{"$f":"IF(AND($T$13=TRUE,H70=1),'Loan - Extraneous'!B$3,IF(AND($T$13=TRUE,H70=2),'Loan - Extraneous'!C$3,0))","v":0},{"$f":"IF(I70=1,'Loan - Extraneous'!$B$4,IF(I70=2,'Loan - Extraneous'!$C$4,0))","v":0},{"$f":"IF(J70=1,'Loan - Extraneous'!$B$5,IF(J70=2,'Loan - Extraneous'!$C$5,0))","v":0}]
[null,null,null,null,null,null,null,null,null,null,"",{"$f":"IF(OR(LEN(B71)=0,LEN(C71)=0,LEN(D71)=0),\"\",IF(K71>=38,INDEX('Loan - Grade & Staple'!$A$1:$K$1000,MATCH($B71&$C71,'Loan - Grade & Staple'!$B$1:$B$1000&'Loan - Grade & Staple'!$C$1:$C$1000,0),MATCH(\"38+\",'Loan - Grade & Staple'!$A$3:$K$3,0)),IF(K71<=31,INDEX('Loan - Grade & Staple'!$A$1:$K$1000,MATCH($B71&$C71,'Loan - Grade & Staple'!$B$1:$B$1000&'Loan - Grade & Staple'!$C$1:$C$1000,0),MATCH(\"26-31\",'Loan - Grade & Staple'!$A$3:$K$3,0)),IF(ISNA(INDEX('Loan - Grade & Staple'!$A$1:$K$1000,MATCH($B71&C71,'Loan - Grade & Staple'!$B$1:$B$1000&'Loan - Grade & Staple'!$C$1:$C$1000,0),MATCH($K71,'Loan - Grade & Staple'!$A$3:$K$3,0))),-4000,INDEX('Loan - Grade & Staple'!$A$1:$K$1000,MATCH($B71&C71,'Loan - Grade & Staple'!$B$1:$B$1000&'Loan - Grade & Staple'!$C$1:$C$1000,0),MATCH($K71,'Loan - Grade & Staple'!$A$3:$K$3,0))))))","v":""},{"$f":"IF(LEN(E71)=0,\"\",INDEX('Loan - Strength'!$C$1:$C$18,MATCH(E71,'Loan - Strength'!$A$1:$A$18,1)))","v":""},{"$f":"IF(LEN(F71)=0,\"\",INDEX('Loan - Micronaire'!$C$1:$C$20,MATCH($F71,'Loan - Micronaire'!$A$1:$A$20,1)))","v":""},{"$f":"IF(LEN(G71)=0,\"\",INDEX('Loan - Uniformity'!$C$1:$C$20,MATCH($G71,'Loan - Uniformity'!$A$1:$A$20,1)))","v":""},"","",{"$f":"IF(OR(LEN(B71)=0,LEN(C71)=0,LEN(D71)=0,LEN(E71)=0,LEN(F71)=0,LEN(G71)=0),\"\",IF('Base Values'!$B$8+(SUM($L71:$P71)/100)<0,0,'Base Values'!$B$8+(SUM(L71:P71)/100)))","v":""},null,{"$f":"IF(AND($T$13=TRUE,H71=1),'Loan - Extraneous'!B$3,IF(AND($T$13=TRUE,H71=2),'Loan - Extraneous'!C$3,0))","v":0},{"$f":"IF(I71=1,'Loan - Extraneous'!$B$4,IF(I71=2,'Loan - Extraneous'!$C$4,0))","v":0},{"$f":"IF(J71=1,'Loan - Extraneous'!$B$5,IF(J71=2,'Loan - Extraneous'!$C$5,0))","v":0}]
[null,null,null,null,null,null,null,null,null,null,"",{"$f":"IF(OR(LEN(B72)=0,LEN(C72)=0,LEN(D72)=0),\"\",IF(K72>=38,INDEX('Loan - Grade & Staple'!$A$1:$K$1000,MATCH($B72&$C72,'Loan - Grade & Staple'!$B$1:$B$1000&'Loan - Grade & Staple'!$C$1:$C$1000,0),MATCH(\"38+\",'Loan - Grade & Staple'!$A$3:$K$3,0)),IF(K72<=31,INDEX('Loan - Grade & Staple'!$A$1:$K$1000,MATCH($B72&$C72,'Loan - Grade & Staple'!$B$1:$B$1000&'Loan - Grade & Staple'!$C$1:$C$1000,0),MATCH(\"26-31\",'Loan - Grade & Staple'!$A$3:$K$3,0)),IF(ISNA(INDEX('Loan - Grade & Staple'!$A$1:$K$1000,MATCH($B72&C72,'Loan - Grade & Staple'!$B$1:$B$1000&'Loan - Grade & Staple'!$C$1:$C$1000,0),MATCH($K72,'Loan - Grade & Staple'!$A$3:$K$3,0))),-4000,INDEX('Loan - Grade & Staple'!$A$1:$K$1000,MATCH($B72&C72,'Loan - Grade & Staple'!$B$1:$B$1000&'Loan - Grade & Staple'!$C$1:$C$1000,0),MATCH($K72,'Loan - Grade & Staple'!$A$3:$K$3,0))))))","v":""},{"$f":"IF(LEN(E72)=0,\"\",INDEX('Loan - Strength'!$C$1:$C$18,MATCH(E72,'Loan - Strength'!$A$1:$A$18,1)))","v":""},{"$f":"IF(LEN(F72)=0,\"\",INDEX('Loan - Micronaire'!$C$1:$C$20,MATCH($F72,'Loan - Micronaire'!$A$1:$A$20,1)))","v":""},{"$f":"IF(LEN(G72)=0,\"\",INDEX('Loan - Uniformity'!$C$1:$C$20,MATCH($G72,'Loan - Uniformity'!$A$1:$A$20,1)))","v":""},"","",{"$f":"IF(OR(LEN(B72)=0,LEN(C72)=0,LEN(D72)=0,LEN(E72)=0,LEN(F72)=0,LEN(G72)=0),\"\",IF('Base Values'!$B$8+(SUM($L72:$P72)/100)<0,0,'Base Values'!$B$8+(SUM(L72:P72)/100)))","v":""},null,{"$f":"IF(AND($T$13=TRUE,H72=1),'Loan - Extraneous'!B$3,IF(AND($T$13=TRUE,H72=2),'Loan - Extraneous'!C$3,0))","v":0},{"$f":"IF(I72=1,'Loan - Extraneous'!$B$4,IF(I72=2,'Loan - Extraneous'!$C$4,0))","v":0},{"$f":"IF(J72=1,'Loan - Extraneous'!$B$5,IF(J72=2,'Loan - Extraneous'!$C$5,0))","v":0}]
[null,null,null,null,null,null,null,null,null,null,"",{"$f":"IF(OR(LEN(B73)=0,LEN(C73)=0,LEN(D73)=0),\"\",IF(K73>=38,INDEX('Loan - Grade & Staple'!$A$1:$K$1000,MATCH($B73&$C73,'Loan - Grade & Staple'!$B$1:$B$1000&'Loan - Grade & Staple'!$C$1:$C$1000,0),MATCH(\"38+\",'Loan - Grade & Staple'!$A$3:$K$3,0)),IF(K73<=31,INDEX('Loan - Grade & Staple'!$A$1:$K$1000,MATCH($B73&$C73,'Loan - Grade & Staple'!$B$1:$B$1000&'Loan - Grade & Staple'!$C$1:$C$1000,0),MATCH(\"26-31\",'Loan - Grade & Staple'!$A$3:$K$3,0)),IF(ISNA(INDEX('Loan - Grade & Staple'!$A$1:$K$1000,MATCH($B73&C73,'Loan - Grade & Staple'!$B$1:$B$1000&'Loan - Grade & Staple'!$C$1:$C$1000,0),MATCH($K73,'Loan - Grade & Staple'!$A$3:$K$3,0))),-4000,INDEX('Loan - Grade & Staple'!$A$1:$K$1000,MATCH($B73&C73,'Loan - Grade & Staple'!$B$1:$B$1000&'Loan - Grade & Staple'!$C$1:$C$1000,0),MATCH($K73,'Loan - Grade & Staple'!$A$3:$K$3,0))))))","v":""},{"$f":"IF(LEN(E73)=0,\"\",INDEX('Loan - Strength'!$C$1:$C$18,MATCH(E73,'Loan - Strength'!$A$1:$A$18,1)))","v":""},{"$f":"IF(LEN(F73)=0,\"\",INDEX('Loan - Micronaire'!$C$1:$C$20,MATCH($F73,'Loan - Micronaire'!$A$1:$A$20,1)))","v":""},{"$f":"IF(LEN(G73)=0,\"\",INDEX('Loan - Uniformity'!$C$1:$C$20,MATCH($G73,'Loan - Uniformity'!$A$1:$A$20,1)))","v":""},"","",{"$f":"IF(OR(LEN(B73)=0,LEN(C73)=0,LEN(D73)=0,LEN(E73)=0,LEN(F73)=0,LEN(G73)=0),\"\",IF('Base Values'!$B$8+(SUM($L73:$P73)/100)<0,0,'Base Values'!$B$8+(SUM(L73:P73)/100)))","v":""},null,{"$f":"IF(AND($T$13=TRUE,H73=1),'Loan - Extraneous'!B$3,IF(AND($T$13=TRUE,H73=2),'Loan - Extraneous'!C$3,0))","v":0},{"$f":"IF(I73=1,'Loan - Extraneous'!$B$4,IF(I73=2,'Loan - Extraneous'!$C$4,0))","v":0},{"$f":"IF(J73=1,'Loan - Extraneous'!$B$5,IF(J73=2,'Loan - Extraneous'!$C$5,0))","v":0}]
[null,null,null,null,null,null,null,null,null,null,"",{"$f":"IF(OR(LEN(B74)=0,LEN(C74)=0,LEN(D74)=0),\"\",IF(K74>=38,INDEX('Loan - Grade & Staple'!$A$1:$K$1000,MATCH($B74&$C74,'Loan - Grade & Staple'!$B$1:$B$1000&'Loan - Grade & Staple'!$C$1:$C$1000,0),MATCH(\"38+\",'Loan - Grade & Staple'!$A$3:$K$3,0)),IF(K74<=31,INDEX('Loan - Grade & Staple'!$A$1:$K$1000,MATCH($B74&$C74,'Loan - Grade & Staple'!$B$1:$B$1000&'Loan - Grade & Staple'!$C$1:$C$1000,0),MATCH(\"26-31\",'Loan - Grade & Staple'!$A$3:$K$3,0)),IF(ISNA(INDEX('Loan - Grade & Staple'!$A$1:$K$1000,MATCH($B74&C74,'Loan - Grade & Staple'!$B$1:$B$1000&'Loan - Grade & Staple'!$C$1:$C$1000,0),MATCH($K74,'Loan - Grade & Staple'!$A$3:$K$3,0))),-4000,INDEX('Loan - Grade & Staple'!$A$1:$K$1000,MATCH($B74&C74,'Loan - Grade & Staple'!$B$1:$B$1000&'Loan - Grade & Staple'!$C$1:$C$1000,0),MATCH($K74,'Loan - Grade & Staple'!$A$3:$K$3,0))))))","v":""},{"$f":"IF(LEN(E74)=0,\"\",INDEX('Loan - Strength'!$C$1:$C$18,MATCH(E74,'Loan - Strength'!$A$1:$A$18,1)))","v":""},{"$f":"IF(LEN(F74)=0,\"\",INDEX('Loan - Micronaire'!$C$1:$C$20,MATCH($F74,'Loan - Micronaire'!$A$1:$A$20,1)))","v":""},{"$f":"IF(LEN(G74)=0,\"\",INDEX('Loan - Uniformity'!$C$1:$C$20,MATCH($G74,'Loan - Uniformity'!$A$1:$A$20,1)))","v":""},"","",{"$f":"IF(OR(LEN(B74)=0,LEN(C74)=0,LEN(D74)=0,LEN(E74)=0,LEN(F74)=0,LEN(G74)=0),\"\",IF('Base Values'!$B$8+(SUM($L74:$P74)/100)<0,0,'Base Values'!$B$8+(SUM(L74:P74)/100)))","v":""},null,{"$f":"IF(AND($T$13=TRUE,H74=1),'Loan - Extraneous'!B$3,IF(AND($T$13=TRUE,H74=2),'Loan - Extraneous'!C$3,0))","v":0},{"$f":"IF(I74=1,'Loan - Extraneous'!$B$4,IF(I74=2,'Loan - Extraneous'!$C$4,0))","v":0},{"$f":"IF(J74=1,'Loan - Extraneous'!$B$5,IF(J74=2,'Loan - Extraneous'!$C$5,0))","v":0}]
[null,null,null,null,null,null,null,null,null,null,"",{"$f":"IF(OR(LEN(B75)=0,LEN(C75)=0,LEN(D75)=0),\"\",IF(K75>=38,INDEX('Loan - Grade & Staple'!$A$1:$K$1000,MATCH($B75&$C75,'Loan - Grade & Staple'!$B$1:$B$1000&'Loan - Grade & Staple'!$C$1:$C$1000,0),MATCH(\"38+\",'Loan - Grade & Staple'!$A$3:$K$3,0)),IF(K75<=31,INDEX('Loan - Grade & Staple'!$A$1:$K$1000,MATCH($B75&$C75,'Loan - Grade & Staple'!$B$1:$B$1000&'Loan - Grade & Staple'!$C$1:$C$1000,0),MATCH(\"26-31\",'Loan - Grade & Staple'!$A$3:$K$3,0)),IF(ISNA(INDEX('Loan - Grade & Staple'!$A$1:$K$1000,MATCH($B75&C75,'Loan - Grade & Staple'!$B$1:$B$1000&'Loan - Grade & Staple'!$C$1:$C$1000,0),MATCH($K75,'Loan - Grade & Staple'!$A$3:$K$3,0))),-4000,INDEX('Loan - Grade & Staple'!$A$1:$K$1000,MATCH($B75&C75,'Loan - Grade & Staple'!$B$1:$B$1000&'Loan - Grade & Staple'!$C$1:$C$1000,0),MATCH($K75,'Loan - Grade & Staple'!$A$3:$K$3,0))))))","v":""},{"$f":"IF(LEN(E75)=0,\"\",INDEX('Loan - Strength'!$C$1:$C$18,MATCH(E75,'Loan - Strength'!$A$1:$A$18,1)))","v":""},{"$f":"IF(LEN(F75)=0,\"\",INDEX('Loan - Micronaire'!$C$1:$C$20,MATCH($F75,'Loan - Micronaire'!$A$1:$A$20,1)))","v":""},{"$f":"IF(LEN(G75)=0,\"\",INDEX('Loan - Uniformity'!$C$1:$C$20,MATCH($G75,'Loan - Uniformity'!$A$1:$A$20,1)))","v":""},"","",{"$f":"IF(OR(LEN(B75)=0,LEN(C75)=0,LEN(D75)=0,LEN(E75)=0,LEN(F75)=0,LEN(G75)=0),\"\",IF('Base Values'!$B$8+(SUM($L75:$P75)/100)<0,0,'Base Values'!$B$8+(SUM(L75:P75)/100)))","v":""},null,{"$f":"IF(AND($T$13=TRUE,H75=1),'Loan - Extraneous'!B$3,IF(AND($T$13=TRUE,H75=2),'Loan - Extraneous'!C$3,0))","v":0},{"$f":"IF(I75=1,'Loan - Extraneous'!$B$4,IF(I75=2,'Loan - Extraneous'!$C$4,0))","v":0},{"$f":"IF(J75=1,'Loan - Extraneous'!$B$5,IF(J75=2,'Loan - Extraneous'!$C$5,0))","v":0}]
[null,null,null,null,null,null,null,null,null,null,"",{"$f":"IF(OR(LEN(B76)=0,LEN(C76)=0,LEN(D76)=0),\"\",IF(K76>=38,INDEX('Loan - Grade & Staple'!$A$1:$K$1000,MATCH($B76&$C76,'Loan - Grade & Staple'!$B$1:$B$1000&'Loan - Grade & Staple'!$C$1:$C$1000,0),MATCH(\"38+\",'Loan - Grade & Staple'!$A$3:$K$3,0)),IF(K76<=31,INDEX('Loan - Grade & Staple'!$A$1:$K$1000,MATCH($B76&$C76,'Loan - Grade & Staple'!$B$1:$B$1000&'Loan - Grade & Staple'!$C$1:$C$1000,0),MATCH(\"26-31\",'Loan - Grade & Staple'!$A$3:$K$3,0)),IF(ISNA(INDEX('Loan - Grade & Staple'!$A$1:$K$1000,MATCH($B76&C76,'Loan - Grade & Staple'!$B$1:$B$1000&'Loan - Grade & Staple'!$C$1:$C$1000,0),MATCH($K76,'Loan - Grade & Staple'!$A$3:$K$3,0))),-4000,INDEX('Loan - Grade & Staple'!$A$1:$K$1000,MATCH($B76&C76,'Loan - Grade & Staple'!$B$1:$B$1000&'Loan - Grade & Staple'!$C$1:$C$1000,0),MATCH($K76,'Loan - Grade & Staple'!$A$3:$K$3,0))))))","v":""},{"$f":"IF(LEN(E76)=0,\"\",INDEX('Loan - Strength'!$C$1:$C$18,MATCH(E76,'Loan - Strength'!$A$1:$A$18,1)))","v":""},{"$f":"IF(LEN(F76)=0,\"\",INDEX('Loan - Micronaire'!$C$1:$C$20,MATCH($F76,'Loan - Micronaire'!$A$1:$A$20,1)))","v":""},{"$f":"IF(LEN(G76)=0,\"\",INDEX('Loan - Uniformity'!$C$1:$C$20,MATCH($G76,'Loan - Uniformity'!$A$1:$A$20,1)))","v":""},"","",{"$f":"IF(OR(LEN(B76)=0,LEN(C76)=0,LEN(D76)=0,LEN(E76)=0,LEN(F76)=0,LEN(G76)=0),\"\",IF('Base Values'!$B$8+(SUM($L76:$P76)/100)<0,0,'Base Values'!$B$8+(SUM(L76:P76)/100)))","v":""},null,{"$f":"IF(AND($T$13=TRUE,H76=1),'Loan - Extraneous'!B$3,IF(AND($T$13=TRUE,H76=2),'Loan - Extraneous'!C$3,0))","v":0},{"$f":"IF(I76=1,'Loan - Extraneous'!$B$4,IF(I76=2,'Loan - Extraneous'!$C$4,0))","v":0},{"$f":"IF(J76=1,'Loan - Extraneous'!$B$5,IF(J76=2,'Loan - Extraneous'!$C$5,0))","v":0}]
[null,null,null,null,null,null,null,null,null,null,"",{"$f":"IF(OR(LEN(B77)=0,LEN(C77)=0,LEN(D77)=0),\"\",IF(K77>=38,INDEX('Loan - Grade & Staple'!$A$1:$K$1000,MATCH($B77&$C77,'Loan - Grade & Staple'!$B$1:$B$1000&'Loan - Grade & Staple'!$C$1:$C$1000,0),MATCH(\"38+\",'Loan - Grade & Staple'!$A$3:$K$3,0)),IF(K77<=31,INDEX('Loan - Grade & Staple'!$A$1:$K$1000,MATCH($B77&$C77,'Loan - Grade & Staple'!$B$1:$B$1000&'Loan - Grade & Staple'!$C$1:$C$1000,0),MATCH(\"26-31\",'Loan - Grade & Staple'!$A$3:$K$3,0)),IF(ISNA(INDEX('Loan - Grade & Staple'!$A$1:$K$1000,MATCH($B77&C77,'Loan - Grade & Staple'!$B$1:$B$1000&'Loan - Grade & Staple'!$C$1:$C$1000,0),MATCH($K77,'Loan - Grade & Staple'!$A$3:$K$3,0))),-4000,INDEX('Loan - Grade & Staple'!$A$1:$K$1000,MATCH($B77&C77,'Loan - Grade & Staple'!$B$1:$B$1000&'Loan - Grade & Staple'!$C$1:$C$1000,0),MATCH($K77,'Loan - Grade & Staple'!$A$3:$K$3,0))))))","v":""},{"$f":"IF(LEN(E77)=0,\"\",INDEX('Loan - Strength'!$C$1:$C$18,MATCH(E77,'Loan - Strength'!$A$1:$A$18,1)))","v":""},{"$f":"IF(LEN(F77)=0,\"\",INDEX('Loan - Micronaire'!$C$1:$C$20,MATCH($F77,'Loan - Micronaire'!$A$1:$A$20,1)))","v":""},{"$f":"IF(LEN(G77)=0,\"\",INDEX('Loan - Uniformity'!$C$1:$C$20,MATCH($G77,'Loan - Uniformity'!$A$1:$A$20,1)))","v":""},"","",{"$f":"IF(OR(LEN(B77)=0,LEN(C77)=0,LEN(D77)=0,LEN(E77)=0,LEN(F77)=0,LEN(G77)=0),\"\",IF('Base Values'!$B$8+(SUM($L77:$P77)/100)<0,0,'Base Values'!$B$8+(SUM(L77:P77)/100)))","v":""},null,{"$f":"IF(AND($T$13=TRUE,H77=1),'Loan - Extraneous'!B$3,IF(AND($T$13=TRUE,H77=2),'Loan - Extraneous'!C$3,0))","v":0},{"$f":"IF(I77=1,'Loan - Extraneous'!$B$4,IF(I77=2,'Loan - Extraneous'!$C$4,0))","v":0},{"$f":"IF(J77=1,'Loan - Extraneous'!$B$5,IF(J77=2,'Loan - Extraneous'!$C$5,0))","v":0}]
[null,null,null,null,null,null,null,null,null,null,"",{"$f":"IF(OR(LEN(B78)=0,LEN(C78)=0,LEN(D78)=0),\"\",IF(K78>=38,INDEX('Loan - Grade & Staple'!$A$1:$K$1000,MATCH($B78&$C78,'Loan - Grade & Staple'!$B$1:$B$1000&'Loan - Grade & Staple'!$C$1:$C$1000,0),MATCH(\"38+\",'Loan - Grade & Staple'!$A$3:$K$3,0)),IF(K78<=31,INDEX('Loan - Grade & Staple'!$A$1:$K$1000,MATCH($B78&$C78,'Loan - Grade & Staple'!$B$1:$B$1000&'Loan - Grade & Staple'!$C$1:$C$1000,0),MATCH(\"26-31\",'Loan - Grade & Staple'!$A$3:$K$3,0)),IF(ISNA(INDEX('Loan - Grade & Staple'!$A$1:$K$1000,MATCH($B78&C78,'Loan - Grade & Staple'!$B$1:$B$1000&'Loan - Grade & Staple'!$C$1:$C$1000,0),MATCH($K78,'Loan - Grade & Staple'!$A$3:$K$3,0))),-4000,INDEX('Loan - Grade & Staple'!$A$1:$K$1000,MATCH($B78&C78,'Loan - Grade & Staple'!$B$1:$B$1000&'Loan - Grade & Staple'!$C$1:$C$1000,0),MATCH($K78,'Loan - Grade & Staple'!$A$3:$K$3,0))))))","v":""},{"$f":"IF(LEN(E78)=0,\"\",INDEX('Loan - Strength'!$C$1:$C$18,MATCH(E78,'Loan - Strength'!$A$1:$A$18,1)))","v":""},{"$f":"IF(LEN(F78)=0,\"\",INDEX('Loan - Micronaire'!$C$1:$C$20,MATCH($F78,'Loan - Micronaire'!$A$1:$A$20,1)))","v":""},{"$f":"IF(LEN(G78)=0,\"\",INDEX('Loan - Uniformity'!$C$1:$C$20,MATCH($G78,'Loan - Uniformity'!$A$1:$A$20,1)))","v":""},"","",{"$f":"IF(OR(LEN(B78)=0,LEN(C78)=0,LEN(D78)=0,LEN(E78)=0,LEN(F78)=0,LEN(G78)=0),\"\",IF('Base Values'!$B$8+(SUM($L78:$P78)/100)<0,0,'Base Values'!$B$8+(SUM(L78:P78)/100)))","v":""},null,{"$f":"IF(AND($T$13=TRUE,H78=1),'Loan - Extraneous'!B$3,IF(AND($T$13=TRUE,H78=2),'Loan - Extraneous'!C$3,0))","v":0},{"$f":"IF(I78=1,'Loan - Extraneous'!$B$4,IF(I78=2,'Loan - Extraneous'!$C$4,0))","v":0},{"$f":"IF(J78=1,'Loan - Extraneous'!$B$5,IF(J78=2,'Loan - Extraneous'!$C$5,0))","v":0}]
[null,null,null,null,null,null,null,null,null,null,"",{"$f":"IF(OR(LEN(B79)=0,LEN(C79)=0,LEN(D79)=0),\"\",IF(K79>=38,INDEX('Loan - Grade & Staple'!$A$1:$K$1000,MATCH($B79&$C79,'Loan - Grade & Staple'!$B$1:$B$1000&'Loan - Grade & Staple'!$C$1:$C$1000,0),MATCH(\"38+\",'Loan - Grade & Staple'!$A$3:$K$3,0)),IF(K79<=31,INDEX('Loan - Grade & Staple'!$A$1:$K$1000,MATCH($B79&$C79,'Loan - Grade & Staple'!$B$1:$B$1000&'Loan - Grade & Staple'!$C$1:$C$1000,0),MATCH(\"26-31\",'Loan - Grade & Staple'!$A$3:$K$3,0)),IF(ISNA(INDEX('Loan - Grade & Staple'!$A$1:$K$1000,MATCH($B79&C79,'Loan - Grade & Staple'!$B$1:$B$1000&'Loan - Grade & Staple'!$C$1:$C$1000,0),MATCH($K79,'Loan - Grade & Staple'!$A$3:$K$3,0))),-4000,INDEX('Loan - Grade & Staple'!$A$1:$K$1000,MATCH($B79&C79,'Loan - Grade & Staple'!$B$1:$B$1000&'Loan - Grade & Staple'!$C$1:$C$1000,0),MATCH($K79,'Loan - Grade & Staple'!$A$3:$K$3,0))))))","v":""},{"$f":"IF(LEN(E79)=0,\"\",INDEX('Loan - Strength'!$C$1:$C$18,MATCH(E79,'Loan - Strength'!$A$1:$A$18,1)))","v":""},{"$f":"IF(LEN(F79)=0,\"\",INDEX('Loan - Micronaire'!$C$1:$C$20,MATCH($F79,'Loan - Micronaire'!$A$1:$A$20,1)))","v":""},{"$f":"IF(LEN(G79)=0,\"\",INDEX('Loan - Uniformity'!$C$1:$C$20,MATCH($G79,'Loan - Uniformity'!$A$1:$A$20,1)))","v":""},"","",{"$f":"IF(OR(LEN(B79)=0,LEN(C79)=0,LEN(D79)=0,LEN(E79)=0,LEN(F79)=0,LEN(G79)=0),\"\",IF('Base Values'!$B$8+(SUM($L79:$P79)/100)<0,0,'Base Values'!$B$8+(SUM(L79:P79)/100)))","v":""},null,{"$f":"IF(AND($T$13=TRUE,H79=1),'Loan - Extraneous'!B$3,IF(AND($T$13=TRUE,H79=2),'Loan - Extraneous'!C$3,0))","v":0},{"$f":"IF(I79=1,'Loan - Extraneous'!$B$4,IF(I79=2,'Loan - Extraneous'!$C$4,0))","v":0},{"$f":"IF(J79=1,'Loan - Extraneous'!$B$5,IF(J79=2,'Loan - Extraneous'!$C$5,0))","v":0}]
[null,null,null,null,null,null,null,null,null,null,"",{"$f":"IF(OR(LEN(B80)=0,LEN(C80)=0,LEN(D80)=0),\"\",IF(K80>=38,INDEX('Loan - Grade & Staple'!$A$1:$K$1000,MATCH($B80&$C80,'Loan - Grade & Staple'!$B$1:$B$1000&'Loan - Grade & Staple'!$C$1:$C$1000,0),MATCH(\"38+\",'Loan - Grade & Staple'!$A$3:$K$3,0)),IF(K80<=31,INDEX('Loan - Grade & Staple'!$A$1:$K$1000,MATCH($B80&$C80,'Loan - Grade & Staple'!$B$1:$B$1000&'Loan - Grade & Staple'!$C$1:$C$1000,0),MATCH(\"26-31\",'Loan - Grade & Staple'!$A$3:$K$3,0)),IF(ISNA(INDEX('Loan - Grade & Staple'!$A$1:$K$1000,MATCH($B80&C80,'Loan - Grade & Staple'!$B$1:$B$1000&'Loan - Grade & Staple'!$C$1:$C$1000,0),MATCH($K80,'Loan - Grade & Staple'!$A$3:$K$3,0))),-4000,INDEX('Loan - Grade & Staple'!$A$1:$K$1000,MATCH($B80&C80,'Loan - Grade & Staple'!$B$1:$B$1000&'Loan - Grade & Staple'!$C$1:$C$1000,0),MATCH($K80,'Loan - Grade & Staple'!$A$3:$K$3,0))))))","v":""},{"$f":"IF(LEN(E80)=0,\"\",INDEX('Loan - Strength'!$C$1:$C$18,MATCH(E80,'Loan - Strength'!$A$1:$A$18,1)))","v":""},{"$f":"IF(LEN(F80)=0,\"\",INDEX('Loan - Micronaire'!$C$1:$C$20,MATCH($F80,'Loan - Micronaire'!$A$1:$A$20,1)))","v":""},{"$f":"IF(LEN(G80)=0,\"\",INDEX('Loan - Uniformity'!$C$1:$C$20,MATCH($G80,'Loan - Uniformity'!$A$1:$A$20,1)))","v":""},"","",{"$f":"IF(OR(LEN(B80)=0,LEN(C80)=0,LEN(D80)=0,LEN(E80)=0,LEN(F80)=0,LEN(G80)=0),\"\",IF('Base Values'!$B$8+(SUM($L80:$P80)/100)<0,0,'Base Values'!$B$8+(SUM(L80:P80)/100)))","v":""},null,{"$f":"IF(AND($T$13=TRUE,H80=1),'Loan - Extraneous'!B$3,IF(AND($T$13=TRUE,H80=2),'Loan - Extraneous'!C$3,0))","v":0},{"$f":"IF(I80=1,'Loan - Extraneous'!$B$4,IF(I80=2,'Loan - Extraneous'!$C$4,0))","v":0},{"$f":"IF(J80=1,'Loan - Extraneous'!$B$5,IF(J80=2,'Loan - Extraneous'!$C$5,0))","v":0}]
[null,null,null,null,null,null,null,null,null,null,"",{"$f":"IF(OR(LEN(B81)=0,LEN(C81)=0,LEN(D81)=0),\"\",IF(K81>=38,INDEX('Loan - Grade & Staple'!$A$1:$K$1000,MATCH($B81&$C81,'Loan - Grade & Staple'!$B$1:$B$1000&'Loan - Grade & Staple'!$C$1:$C$1000,0),MATCH(\"38+\",'Loan - Grade & Staple'!$A$3:$K$3,0)),IF(K81<=31,INDEX('Loan - Grade & Staple'!$A$1:$K$1000,MATCH($B81&$C81,'Loan - Grade & Staple'!$B$1:$B$1000&'Loan - Grade & Staple'!$C$1:$C$1000,0),MATCH(\"26-31\",'Loan - Grade & Staple'!$A$3:$K$3,0)),IF(ISNA(INDEX('Loan - Grade & Staple'!$A$1:$K$1000,MATCH($B81&C81,'Loan - Grade & Staple'!$B$1:$B$1000&'Loan - Grade & Staple'!$C$1:$C$1000,0),MATCH($K81,'Loan - Grade & Staple'!$A$3:$K$3,0))),-4000,INDEX('Loan - Grade & Staple'!$A$1:$K$1000,MATCH($B81&C81,'Loan - Grade & Staple'!$B$1:$B$1000&'Loan - Grade & Staple'!$C$1:$C$1000,0),MATCH($K81,'Loan - Grade & Staple'!$A$3:$K$3,0))))))","v":""},{"$f":"IF(LEN(E81)=0,\"\",INDEX('Loan - Strength'!$C$1:$C$18,MATCH(E81,'Loan - Strength'!$A$1:$A$18,1)))","v":""},{"$f":"IF(LEN(F81)=0,\"\",INDEX('Loan - Micronaire'!$C$1:$C$20,MATCH($F81,'Loan - Micronaire'!$A$1:$A$20,1)))","v":""},{"$f":"IF(LEN(G81)=0,\"\",INDEX('Loan - Uniformity'!$C$1:$C$20,MATCH($G81,'Loan - Uniformity'!$A$1:$A$20,1)))","v":""},"","",{"$f":"IF(OR(LEN(B81)=0,LEN(C81)=0,LEN(D81)=0,LEN(E81)=0,LEN(F81)=0,LEN(G81)=0),\"\",IF('Base Values'!$B$8+(SUM($L81:$P81)/100)<0,0,'Base Values'!$B$8+(SUM(L81:P81)/100)))","v":""},null,{"$f":"IF(AND($T$13=TRUE,H81=1),'Loan - Extraneous'!B$3,IF(AND($T$13=TRUE,H81=2),'Loan - Extraneous'!C$3,0))","v":0},{"$f":"IF(I81=1,'Loan - Extraneous'!$B$4,IF(I81=2,'Loan - Extraneous'!$C$4,0))","v":0},{"$f":"IF(J81=1,'Loan - Extraneous'!$B$5,IF(J81=2,'Loan - Extraneous'!$C$5,0))","v":0}]
[null,null,null,null,null,null,null,null,null,null,"",{"$f":"IF(OR(LEN(B82)=0,LEN(C82)=0,LEN(D82)=0),\"\",IF(K82>=38,INDEX('Loan - Grade & Staple'!$A$1:$K$1000,MATCH($B82&$C82,'Loan - Grade & Staple'!$B$1:$B$1000&'Loan - Grade & Staple'!$C$1:$C$1000,0),MATCH(\"38+\",'Loan - Grade & Staple'!$A$3:$K$3,0)),IF(K82<=31,INDEX('Loan - Grade & Staple'!$A$1:$K$1000,MATCH($B82&$C82,'Loan - Grade & Staple'!$B$1:$B$1000&'Loan - Grade & Staple'!$C$1:$C$1000,0),MATCH(\"26-31\",'Loan - Grade & Staple'!$A$3:$K$3,0)),IF(ISNA(INDEX('Loan - Grade & Staple'!$A$1:$K$1000,MATCH($B82&C82,'Loan - Grade & Staple'!$B$1:$B$1000&'Loan - Grade & Staple'!$C$1:$C$1000,0),MATCH($K82,'Loan - Grade & Staple'!$A$3:$K$3,0))),-4000,INDEX('Loan - Grade & Staple'!$A$1:$K$1000,MATCH($B82&C82,'Loan - Grade & Staple'!$B$1:$B$1000&'Loan - Grade & Staple'!$C$1:$C$1000,0),MATCH($K82,'Loan - Grade & Staple'!$A$3:$K$3,0))))))","v":""},{"$f":"IF(LEN(E82)=0,\"\",INDEX('Loan - Strength'!$C$1:$C$18,MATCH(E82,'Loan - Strength'!$A$1:$A$18,1)))","v":""},{"$f":"IF(LEN(F82)=0,\"\",INDEX('Loan - Micronaire'!$C$1:$C$20,MATCH($F82,'Loan - Micronaire'!$A$1:$A$20,1)))","v":""},{"$f":"IF(LEN(G82)=0,\"\",INDEX('Loan - Uniformity'!$C$1:$C$20,MATCH($G82,'Loan - Uniformity'!$A$1:$A$20,1)))","v":""},"","",{"$f":"IF(OR(LEN(B82)=0,LEN(C82)=0,LEN(D82)=0,LEN(E82)=0,LEN(F82)=0,LEN(G82)=0),\"\",IF('Base Values'!$B$8+(SUM($L82:$P82)/100)<0,0,'Base Values'!$B$8+(SUM(L82:P82)/100)))","v":""},null,{"$f":"IF(AND($T$13=TRUE,H82=1),'Loan - Extraneous'!B$3,IF(AND($T$13=TRUE,H82=2),'Loan - Extraneous'!C$3,0))","v":0},{"$f":"IF(I82=1,'Loan - Extraneous'!$B$4,IF(I82=2,'Loan - Extraneous'!$C$4,0))","v":0},{"$f":"IF(J82=1,'Loan - Extraneous'!$B$5,IF(J82=2,'Loan - Extraneous'!$C$5,0))","v":0}]
[null,null,null,null,null,null,null,null,null,null,"",{"$f":"IF(OR(LEN(B83)=0,LEN(C83)=0,LEN(D83)=0),\"\",IF(K83>=38,INDEX('Loan - Grade & Staple'!$A$1:$K$1000,MATCH($B83&$C83,'Loan - Grade & Staple'!$B$1:$B$1000&'Loan - Grade & Staple'!$C$1:$C$1000,0),MATCH(\"38+\",'Loan - Grade & Staple'!$A$3:$K$3,0)),IF(K83<=31,INDEX('Loan - Grade & Staple'!$A$1:$K$1000,MATCH($B83&$C83,'Loan - Grade & Staple'!$B$1:$B$1000&'Loan - Grade & Staple'!$C$1:$C$1000,0),MATCH(\"26-31\",'Loan - Grade & Staple'!$A$3:$K$3,0)),IF(ISNA(INDEX('Loan - Grade & Staple'!$A$1:$K$1000,MATCH($B83&C83,'Loan - Grade & Staple'!$B$1:$B$1000&'Loan - Grade & Staple'!$C$1:$C$1000,0),MATCH($K83,'Loan - Grade & Staple'!$A$3:$K$3,0))),-4000,INDEX('Loan - Grade & Staple'!$A$1:$K$1000,MATCH($B83&C83,'Loan - Grade & Staple'!$B$1:$B$1000&'Loan - Grade & Staple'!$C$1:$C$1000,0),MATCH($K83,'Loan - Grade & Staple'!$A$3:$K$3,0))))))","v":""},{"$f":"IF(LEN(E83)=0,\"\",INDEX('Loan - Strength'!$C$1:$C$18,MATCH(E83,'Loan - Strength'!$A$1:$A$18,1)))","v":""},{"$f":"IF(LEN(F83)=0,\"\",INDEX('Loan - Micronaire'!$C$1:$C$20,MATCH($F83,'Loan - Micronaire'!$A$1:$A$20,1)))","v":""},{"$f":"IF(LEN(G83)=0,\"\",INDEX('Loan - Uniformity'!$C$1:$C$20,MATCH($G83,'Loan - Uniformity'!$A$1:$A$20,1)))","v":""},"","",{"$f":"IF(OR(LEN(B83)=0,LEN(C83)=0,LEN(D83)=0,LEN(E83)=0,LEN(F83)=0,LEN(G83)=0),\"\",IF('Base Values'!$B$8+(SUM($L83:$P83)/100)<0,0,'Base Values'!$B$8+(SUM(L83:P83)/100)))","v":""},null,{"$f":"IF(AND($T$13=TRUE,H83=1),'Loan - Extraneous'!B$3,IF(AND($T$13=TRUE,H83=2),'Loan - Extraneous'!C$3,0))","v":0},{"$f":"IF(I83=1,'Loan - Extraneous'!$B$4,IF(I83=2,'Loan - Extraneous'!$C$4,0))","v":0},{"$f":"IF(J83=1,'Loan - Extraneous'!$B$5,IF(J83=2,'Loan - Extraneous'!$C$5,0))","v":0}]
[null,null,null,null,null,null,null,null,null,null,"",{"$f":"IF(OR(LEN(B84)=0,LEN(C84)=0,LEN(D84)=0),\"\",IF(K84>=38,INDEX('Loan - Grade & Staple'!$A$1:$K$1000,MATCH($B84&$C84,'Loan - Grade & Staple'!$B$1:$B$1000&'Loan - Grade & Staple'!$C$1:$C$1000,0),MATCH(\"38+\",'Loan - Grade & Staple'!$A$3:$K$3,0)),IF(K84<=31,INDEX('Loan - Grade & Staple'!$A$1:$K$1000,MATCH($B84&$C84,'Loan - Grade & Staple'!$B$1:$B$1000&'Loan - Grade & Staple'!$C$1:$C$1000,0),MATCH(\"26-31\",'Loan - Grade & Staple'!$A$3:$K$3,0)),IF(ISNA(INDEX('Loan - Grade & Staple'!$A$1:$K$1000,MATCH($B84&C84,'Loan - Grade & Staple'!$B$1:$B$1000&'Loan - Grade & Staple'!$C$1:$C$1000,0),MATCH($K84,'Loan - Grade & Staple'!$A$3:$K$3,0))),-4000,INDEX('Loan - Grade & Staple'!$A$1:$K$1000,MATCH($B84&C84,'Loan - Grade & Staple'!$B$1:$B$1000&'Loan - Grade & Staple'!$C$1:$C$1000,0),MATCH($K84,'Loan - Grade & Staple'!$A$3:$K$3,0))))))","v":""},{"$f":"IF(LEN(E84)=0,\"\",INDEX('Loan - Strength'!$C$1:$C$18,MATCH(E84,'Loan - Strength'!$A$1:$A$18,1)))","v":""},{"$f":"IF(LEN(F84)=0,\"\",INDEX('Loan - Micronaire'!$C$1:$C$20,MATCH($F84,'Loan - Micronaire'!$A$1:$A$20,1)))","v":""},{"$f":"IF(LEN(G84)=0,\"\",INDEX('Loan - Uniformity'!$C$1:$C$20,MATCH($G84,'Loan - Uniformity'!$A$1:$A$20,1)))","v":""},"","",{"$f":"IF(OR(LEN(B84)=0,LEN(C84)=0,LEN(D84)=0,LEN(E84)=0,LEN(F84)=0,LEN(G84)=0),\"\",IF('Base Values'!$B$8+(SUM($L84:$P84)/100)<0,0,'Base Values'!$B$8+(SUM(L84:P84)/100)))","v":""},null,{"$f":"IF(AND($T$13=TRUE,H84=1),'Loan - Extraneous'!B$3,IF(AND($T$13=TRUE,H84=2),'Loan - Extraneous'!C$3,0))","v":0},{"$f":"IF(I84=1,'Loan - Extraneous'!$B$4,IF(I84=2,'Loan - Extraneous'!$C$4,0))","v":0},{"$f":"IF(J84=1,'Loan - Extraneous'!$B$5,IF(J84=2,'Loan - Extraneous'!$C$5,0))","v":0}]
[null,null,null,null,null,null,null,null,null,null,"",{"$f":"IF(OR(LEN(B85)=0,LEN(C85)=0,LEN(D85)=0),\"\",IF(K85>=38,INDEX('Loan - Grade & Staple'!$A$1:$K$1000,MATCH($B85&$C85,'Loan - Grade & Staple'!$B$1:$B$1000&'Loan - Grade & Staple'!$C$1:$C$1000,0),MATCH(\"38+\",'Loan - Grade & Staple'!$A$3:$K$3,0)),IF(K85<=31,INDEX('Loan - Grade & Staple'!$A$1:$K$1000,MATCH($B85&$C85,'Loan - Grade & Staple'!$B$1:$B$1000&'Loan - Grade & Staple'!$C$1:$C$1000,0),MATCH(\"26-31\",'Loan - Grade & Staple'!$A$3:$K$3,0)),IF(ISNA(INDEX('Loan - Grade & Staple'!$A$1:$K$1000,MATCH($B85&C85,'Loan - Grade & Staple'!$B$1:$B$1000&'Loan - Grade & Staple'!$C$1:$C$1000,0),MATCH($K85,'Loan - Grade & Staple'!$A$3:$K$3,0))),-4000,INDEX('Loan - Grade & Staple'!$A$1:$K$1000,MATCH($B85&C85,'Loan - Grade & Staple'!$B$1:$B$1000&'Loan - Grade & Staple'!$C$1:$C$1000,0),MATCH($K85,'Loan - Grade & Staple'!$A$3:$K$3,0))))))","v":""},{"$f":"IF(LEN(E85)=0,\"\",INDEX('Loan - Strength'!$C$1:$C$18,MATCH(E85,'Loan - Strength'!$A$1:$A$18,1)))","v":""},{"$f":"IF(LEN(F85)=0,\"\",INDEX('Loan - Micronaire'!$C$1:$C$20,MATCH($F85,'Loan - Micronaire'!$A$1:$A$20,1)))","v":""},{"$f":"IF(LEN(G85)=0,\"\",INDEX('Loan - Uniformity'!$C$1:$C$20,MATCH($G85,'Loan - Uniformity'!$A$1:$A$20,1)))","v":""},"","",{"$f":"IF(OR(LEN(B85)=0,LEN(C85)=0,LEN(D85)=0,LEN(E85)=0,LEN(F85)=0,LEN(G85)=0),\"\",IF('Base Values'!$B$8+(SUM($L85:$P85)/100)<0,0,'Base Values'!$B$8+(SUM(L85:P85)/100)))","v":""},null,{"$f":"IF(AND($T$13=TRUE,H85=1),'Loan - Extraneous'!B$3,IF(AND($T$13=TRUE,H85=2),'Loan - Extraneous'!C$3,0))","v":0},{"$f":"IF(I85=1,'Loan - Extraneous'!$B$4,IF(I85=2,'Loan - Extraneous'!$C$4,0))","v":0},{"$f":"IF(J85=1,'Loan - Extraneous'!$B$5,IF(J85=2,'Loan - Extraneous'!$C$5,0))","v":0}]
[null,null,null,null,null,null,null,null,null,null,"",{"$f":"IF(OR(LEN(B86)=0,LEN(C86)=0,LEN(D86)=0),\"\",IF(K86>=38,INDEX('Loan - Grade & Staple'!$A$1:$K$1000,MATCH($B86&$C86,'Loan - Grade & Staple'!$B$1:$B$1000&'Loan - Grade & Staple'!$C$1:$C$1000,0),MATCH(\"38+\",'Loan - Grade & Staple'!$A$3:$K$3,0)),IF(K86<=31,INDEX('Loan - Grade & Staple'!$A$1:$K$1000,MATCH($B86&$C86,'Loan - Grade & Staple'!$B$1:$B$1000&'Loan - Grade & Staple'!$C$1:$C$1000,0),MATCH(\"26-31\",'Loan - Grade & Staple'!$A$3:$K$3,0)),IF(ISNA(INDEX('Loan - Grade & Staple'!$A$1:$K$1000,MATCH($B86&C86,'Loan - Grade & Staple'!$B$1:$B$1000&'Loan - Grade & Staple'!$C$1:$C$1000,0),MATCH($K86,'Loan - Grade & Staple'!$A$3:$K$3,0))),-4000,INDEX('Loan - Grade & Staple'!$A$1:$K$1000,MATCH($B86&C86,'Loan - Grade & Staple'!$B$1:$B$1000&'Loan - Grade & Staple'!$C$1:$C$1000,0),MATCH($K86,'Loan - Grade & Staple'!$A$3:$K$3,0))))))","v":""},{"$f":"IF(LEN(E86)=0,\"\",INDEX('Loan - Strength'!$C$1:$C$18,MATCH(E86,'Loan - Strength'!$A$1:$A$18,1)))","v":""},{"$f":"IF(LEN(F86)=0,\"\",INDEX('Loan - Micronaire'!$C$1:$C$20,MATCH($F86,'Loan - Micronaire'!$A$1:$A$20,1)))","v":""},{"$f":"IF(LEN(G86)=0,\"\",INDEX('Loan - Uniformity'!$C$1:$C$20,MATCH($G86,'Loan - Uniformity'!$A$1:$A$20,1)))","v":""},"","",{"$f":"IF(OR(LEN(B86)=0,LEN(C86)=0,LEN(D86)=0,LEN(E86)=0,LEN(F86)=0,LEN(G86)=0),\"\",IF('Base Values'!$B$8+(SUM($L86:$P86)/100)<0,0,'Base Values'!$B$8+(SUM(L86:P86)/100)))","v":""},null,{"$f":"IF(AND($T$13=TRUE,H86=1),'Loan - Extraneous'!B$3,IF(AND($T$13=TRUE,H86=2),'Loan - Extraneous'!C$3,0))","v":0},{"$f":"IF(I86=1,'Loan - Extraneous'!$B$4,IF(I86=2,'Loan - Extraneous'!$C$4,0))","v":0},{"$f":"IF(J86=1,'Loan - Extraneous'!$B$5,IF(J86=2,'Loan - Extraneous'!$C$5,0))","v":0}]
[null,null,null,null,null,null,null,null,null,null,"",{"$f":"IF(OR(LEN(B87)=0,LEN(C87)=0,LEN(D87)=0),\"\",IF(K87>=38,INDEX('Loan - Grade & Staple'!$A$1:$K$1000,MATCH($B87&$C87,'Loan - Grade & Staple'!$B$1:$B$1000&'Loan - Grade & Staple'!$C$1:$C$1000,0),MATCH(\"38+\",'Loan - Grade & Staple'!$A$3:$K$3,0)),IF(K87<=31,INDEX('Loan - Grade & Staple'!$A$1:$K$1000,MATCH($B87&$C87,'Loan - Grade & Staple'!$B$1:$B$1000&'Loan - Grade & Staple'!$C$1:$C$1000,0),MATCH(\"26-31\",'Loan - Grade & Staple'!$A$3:$K$3,0)),IF(ISNA(INDEX('Loan - Grade & Staple'!$A$1:$K$1000,MATCH($B87&C87,'Loan - Grade & Staple'!$B$1:$B$1000&'Loan - Grade & Staple'!$C$1:$C$1000,0),MATCH($K87,'Loan - Grade & Staple'!$A$3:$K$3,0))),-4000,INDEX('Loan - Grade & Staple'!$A$1:$K$1000,MATCH($B87&C87,'Loan - Grade & Staple'!$B$1:$B$1000&'Loan - Grade & Staple'!$C$1:$C$1000,0),MATCH($K87,'Loan - Grade & Staple'!$A$3:$K$3,0))))))","v":""},{"$f":"IF(LEN(E87)=0,\"\",INDEX('Loan - Strength'!$C$1:$C$18,MATCH(E87,'Loan - Strength'!$A$1:$A$18,1)))","v":""},{"$f":"IF(LEN(F87)=0,\"\",INDEX('Loan - Micronaire'!$C$1:$C$20,MATCH($F87,'Loan - Micronaire'!$A$1:$A$20,1)))","v":""},{"$f":"IF(LEN(G87)=0,\"\",INDEX('Loan - Uniformity'!$C$1:$C$20,MATCH($G87,'Loan - Uniformity'!$A$1:$A$20,1)))","v":""},"","",{"$f":"IF(OR(LEN(B87)=0,LEN(C87)=0,LEN(D87)=0,LEN(E87)=0,LEN(F87)=0,LEN(G87)=0),\"\",IF('Base Values'!$B$8+(SUM($L87:$P87)/100)<0,0,'Base Values'!$B$8+(SUM(L87:P87)/100)))","v":""},null,{"$f":"IF(AND($T$13=TRUE,H87=1),'Loan - Extraneous'!B$3,IF(AND($T$13=TRUE,H87=2),'Loan - Extraneous'!C$3,0))","v":0},{"$f":"IF(I87=1,'Loan - Extraneous'!$B$4,IF(I87=2,'Loan - Extraneous'!$C$4,0))","v":0},{"$f":"IF(J87=1,'Loan - Extraneous'!$B$5,IF(J87=2,'Loan - Extraneous'!$C$5,0))","v":0}]
[null,null,null,null,null,null,null,null,null,null,"",{"$f":"IF(OR(LEN(B88)=0,LEN(C88)=0,LEN(D88)=0),\"\",IF(K88>=38,INDEX('Loan - Grade & Staple'!$A$1:$K$1000,MATCH($B88&$C88,'Loan - Grade & Staple'!$B$1:$B$1000&'Loan - Grade & Staple'!$C$1:$C$1000,0),MATCH(\"38+\",'Loan - Grade & Staple'!$A$3:$K$3,0)),IF(K88<=31,INDEX('Loan - Grade & Staple'!$A$1:$K$1000,MATCH($B88&$C88,'Loan - Grade & Staple'!$B$1:$B$1000&'Loan - Grade & Staple'!$C$1:$C$1000,0),MATCH(\"26-31\",'Loan - Grade & Staple'!$A$3:$K$3,0)),IF(ISNA(INDEX('Loan - Grade & Staple'!$A$1:$K$1000,MATCH($B88&C88,'Loan - Grade & Staple'!$B$1:$B$1000&'Loan - Grade & Staple'!$C$1:$C$1000,0),MATCH($K88,'Loan - Grade & Staple'!$A$3:$K$3,0))),-4000,INDEX('Loan - Grade & Staple'!$A$1:$K$1000,MATCH($B88&C88,'Loan - Grade & Staple'!$B$1:$B$1000&'Loan - Grade & Staple'!$C$1:$C$1000,0),MATCH($K88,'Loan - Grade & Staple'!$A$3:$K$3,0))))))","v":""},{"$f":"IF(LEN(E88)=0,\"\",INDEX('Loan - Strength'!$C$1:$C$18,MATCH(E88,'Loan - Strength'!$A$1:$A$18,1)))","v":""},{"$f":"IF(LEN(F88)=0,\"\",INDEX('Loan - Micronaire'!$C$1:$C$20,MATCH($F88,'Loan - Micronaire'!$A$1:$A$20,1)))","v":""},{"$f":"IF(LEN(G88)=0,\"\",INDEX('Loan - Uniformity'!$C$1:$C$20,MATCH($G88,'Loan - Uniformity'!$A$1:$A$20,1)))","v":""},"","",{"$f":"IF(OR(LEN(B88)=0,LEN(C88)=0,LEN(D88)=0,LEN(E88)=0,LEN(F88)=0,LEN(G88)=0),\"\",IF('Base Values'!$B$8+(SUM($L88:$P88)/100)<0,0,'Base Values'!$B$8+(SUM(L88:P88)/100)))","v":""},null,{"$f":"IF(AND($T$13=TRUE,H88=1),'Loan - Extraneous'!B$3,IF(AND($T$13=TRUE,H88=2),'Loan - Extraneous'!C$3,0))","v":0},{"$f":"IF(I88=1,'Loan - Extraneous'!$B$4,IF(I88=2,'Loan - Extraneous'!$C$4,0))","v":0},{"$f":"IF(J88=1,'Loan - Extraneous'!$B$5,IF(J88=2,'Loan - Extraneous'!$C$5,0))","v":0}]
[null,null,null,null,null,null,null,null,null,null,"",{"$f":"IF(OR(LEN(B89)=0,LEN(C89)=0,LEN(D89)=0),\"\",IF(K89>=38,INDEX('Loan - Grade & Staple'!$A$1:$K$1000,MATCH($B89&$C89,'Loan - Grade & Staple'!$B$1:$B$1000&'Loan - Grade & Staple'!$C$1:$C$1000,0),MATCH(\"38+\",'Loan - Grade & Staple'!$A$3:$K$3,0)),IF(K89<=31,INDEX('Loan - Grade & Staple'!$A$1:$K$1000,MATCH($B89&$C89,'Loan - Grade & Staple'!$B$1:$B$1000&'Loan - Grade & Staple'!$C$1:$C$1000,0),MATCH(\"26-31\",'Loan - Grade & Staple'!$A$3:$K$3,0)),IF(ISNA(INDEX('Loan - Grade & Staple'!$A$1:$K$1000,MATCH($B89&C89,'Loan - Grade & Staple'!$B$1:$B$1000&'Loan - Grade & Staple'!$C$1:$C$1000,0),MATCH($K89,'Loan - Grade & Staple'!$A$3:$K$3,0))),-4000,INDEX('Loan - Grade & Staple'!$A$1:$K$1000,MATCH($B89&C89,'Loan - Grade & Staple'!$B$1:$B$1000&'Loan - Grade & Staple'!$C$1:$C$1000,0),MATCH($K89,'Loan - Grade & Staple'!$A$3:$K$3,0))))))","v":""},{"$f":"IF(LEN(E89)=0,\"\",INDEX('Loan - Strength'!$C$1:$C$18,MATCH(E89,'Loan - Strength'!$A$1:$A$18,1)))","v":""},{"$f":"IF(LEN(F89)=0,\"\",INDEX('Loan - Micronaire'!$C$1:$C$20,MATCH($F89,'Loan - Micronaire'!$A$1:$A$20,1)))","v":""},{"$f":"IF(LEN(G89)=0,\"\",INDEX('Loan - Uniformity'!$C$1:$C$20,MATCH($G89,'Loan - Uniformity'!$A$1:$A$20,1)))","v":""},"","",{"$f":"IF(OR(LEN(B89)=0,LEN(C89)=0,LEN(D89)=0,LEN(E89)=0,LEN(F89)=0,LEN(G89)=0),\"\",IF('Base Values'!$B$8+(SUM($L89:$P89)/100)<0,0,'Base Values'!$B$8+(SUM(L89:P89)/100)))","v":""},null,{"$f":"IF(AND($T$13=TRUE,H89=1),'Loan - Extraneous'!B$3,IF(AND($T$13=TRUE,H89=2),'Loan - Extraneous'!C$3,0))","v":0},{"$f":"IF(I89=1,'Loan - Extraneous'!$B$4,IF(I89=2,'Loan - Extraneous'!$C$4,0))","v":0},{"$f":"IF(J89=1,'Loan - Extraneous'!$B$5,IF(J89=2,'Loan - Extraneous'!$C$5,0))","v":0}]
[null,null,null,null,null,null,null,null,null,null,{"$f":"IF(LEN(D90)=0,\"\",ROUND(D90*32,0))","v":""},{"$f":"IF(OR(LEN(B90)=0,LEN(C90)=0,LEN(D90)=0),\"\",IF(K90>=38,INDEX('Loan - Grade & Staple'!$A$1:$K$1000,MATCH($B90&$C90,'Loan - Grade & Staple'!$B$1:$B$1000&'Loan - Grade & Staple'!$C$1:$C$1000,0),MATCH(\"38+\",'Loan - Grade & Staple'!$A$3:$K$3,0)),IF(K90<=31,INDEX('Loan - Grade & Staple'!$A$1:$K$1000,MATCH($B90&$C90,'Loan - Grade & Staple'!$B$1:$B$1000&'Loan - Grade & Staple'!$C$1:$C$1000,0),MATCH(\"26-31\",'Loan - Grade & Staple'!$A$3:$K$3,0)),IF(ISNA(INDEX('Loan - Grade & Staple'!$A$1:$K$1000,MATCH($B90&C90,'Loan - Grade & Staple'!$B$1:$B$1000&'Loan - Grade & Staple'!$C$1:$C$1000,0),MATCH($K90,'Loan - Grade & Staple'!$A$3:$K$3,0))),-4000,INDEX('Loan - Grade & Staple'!$A$1:$K$1000,MATCH($B90&C90,'Loan - Grade & Staple'!$B$1:$B$1000&'Loan - Grade & Staple'!$C$1:$C$1000,0),MATCH($K90,'Loan - Grade & Staple'!$A$3:$K$3,0))))))","v":""},{"$f":"IF(LEN(E90)=0,\"\",INDEX('Loan - Strength'!$C$1:$C$18,MATCH(E90,'Loan - Strength'!$A$1:$A$18,1)))","v":""},{"$f":"IF(LEN(F90)=0,\"\",INDEX('Loan - Micronaire'!$C$1:$C$20,MATCH($F90,'Loan - Micronaire'!$A$1:$A$20,1)))","v":""},{"$f":"IF(LEN(G90)=0,\"\",INDEX('Loan - Uniformity'!$C$1:$C$20,MATCH($G90,'Loan - Uniformity'!$A$1:$A$20,1)))","v":""},{"$f":"IF(LEN(A90)=0,\"\",SUM(T90:V90))","v":""},{"$f":"IF(OR(LEN(B90)=0,LEN(C90)=0,LEN(D90)=0,LEN(E90)=0,LEN(F90)=0,LEN(G90)=0),\"\",SUM(L90:P90))","v":""},{"$f":"IF(OR(LEN(B90)=0,LEN(C90)=0,LEN(D90)=0,LEN(E90)=0,LEN(F90)=0,LEN(G90)=0),\"\",IF('Base Values'!$B$8+(SUM($L90:$P90)/100)<0,0,'Base Values'!$B$8+(SUM(L90:P90)/100)))","v":""},null,{"$f":"IF(AND($T$13=TRUE,H90=1),'Loan - Extraneous'!B$3,IF(AND($T$13=TRUE,H90=2),'Loan - Extraneous'!C$3,0))","v":0},{"$f":"IF(I90=1,'Loan - Extraneous'!$B$4,IF(I90=2,'Loan - Extraneous'!$C$4,0))","v":0},{"$f":"IF(J90=1,'Loan - Extraneous'!$B$5,IF(J90=2,'Loan - Extraneous'!$C$5,0))","v":0}]
[null,null,null,null,null,null,null,null,null,null,"",{"$f":"IF(OR(LEN(B91)=0,LEN(C91)=0,LEN(D91)=0),\"\",IF(K91>=38,INDEX('Loan - Grade & Staple'!$A$1:$K$1000,MATCH($B91&$C91,'Loan - Grade & Staple'!$B$1:$B$1000&'Loan - Grade & Staple'!$C$1:$C$1000,0),MATCH(\"38+\",'Loan - Grade & Staple'!$A$3:$K$3,0)),IF(K91<=31,INDEX('Loan - Grade & Staple'!$A$1:$K$1000,MATCH($B91&$C91,'Loan - Grade & Staple'!$B$1:$B$1000&'Loan - Grade & Staple'!$C$1:$C$1000,0),MATCH(\"26-31\",'Loan - Grade & Staple'!$A$3:$K$3,0)),IF(ISNA(INDEX('Loan - Grade & Staple'!$A$1:$K$1000,MATCH($B91&C91,'Loan - Grade & Staple'!$B$1:$B$1000&'Loan - Grade & Staple'!$C$1:$C$1000,0),MATCH($K91,'Loan - Grade & Staple'!$A$3:$K$3,0))),-4000,INDEX('Loan - Grade & Staple'!$A$1:$K$1000,MATCH($B91&C91,'Loan - Grade & Staple'!$B$1:$B$1000&'Loan - Grade & Staple'!$C$1:$C$1000,0),MATCH($K91,'Loan - Grade & Staple'!$A$3:$K$3,0))))))","v":""},{"$f":"IF(LEN(E91)=0,\"\",INDEX('Loan - Strength'!$C$1:$C$18,MATCH(E91,'Loan - Strength'!$A$1:$A$18,1)))","v":""},{"$f":"IF(LEN(F91)=0,\"\",INDEX('Loan - Micronaire'!$C$1:$C$20,MATCH($F91,'Loan - Micronaire'!$A$1:$A$20,1)))","v":""},{"$f":"IF(LEN(G91)=0,\"\",INDEX('Loan - Uniformity'!$C$1:$C$20,MATCH($G91,'Loan - Uniformity'!$A$1:$A$20,1)))","v":""},"","",{"$f":"IF(OR(LEN(B91)=0,LEN(C91)=0,LEN(D91)=0,LEN(E91)=0,LEN(F91)=0,LEN(G91)=0),\"\",IF('Base Values'!$B$8+(SUM($L91:$P91)/100)<0,0,'Base Values'!$B$8+(SUM(L91:P91)/100)))","v":""},null,{"$f":"IF(AND($T$13=TRUE,H91=1),'Loan - Extraneous'!B$3,IF(AND($T$13=TRUE,H91=2),'Loan - Extraneous'!C$3,0))","v":0},{"$f":"IF(I91=1,'Loan - Extraneous'!$B$4,IF(I91=2,'Loan - Extraneous'!$C$4,0))","v":0},{"$f":"IF(J91=1,'Loan - Extraneous'!$B$5,IF(J91=2,'Loan - Extraneous'!$C$5,0))","v":0}]
[null,null,null,null,null,null,null,null,null,null,"",{"$f":"IF(OR(LEN(B92)=0,LEN(C92)=0,LEN(D92)=0),\"\",IF(K92>=38,INDEX('Loan - Grade & Staple'!$A$1:$K$1000,MATCH($B92&$C92,'Loan - Grade & Staple'!$B$1:$B$1000&'Loan - Grade & Staple'!$C$1:$C$1000,0),MATCH(\"38+\",'Loan - Grade & Staple'!$A$3:$K$3,0)),IF(K92<=31,INDEX('Loan - Grade & Staple'!$A$1:$K$1000,MATCH($B92&$C92,'Loan - Grade & Staple'!$B$1:$B$1000&'Loan - Grade & Staple'!$C$1:$C$1000,0),MATCH(\"26-31\",'Loan - Grade & Staple'!$A$3:$K$3,0)),IF(ISNA(INDEX('Loan - Grade & Staple'!$A$1:$K$1000,MATCH($B92&C92,'Loan - Grade & Staple'!$B$1:$B$1000&'Loan - Grade & Staple'!$C$1:$C$1000,0),MATCH($K92,'Loan - Grade & Staple'!$A$3:$K$3,0))),-4000,INDEX('Loan - Grade & Staple'!$A$1:$K$1000,MATCH($B92&C92,'Loan - Grade & Staple'!$B$1:$B$1000&'Loan - Grade & Staple'!$C$1:$C$1000,0),MATCH($K92,'Loan - Grade & Staple'!$A$3:$K$3,0))))))","v":""},{"$f":"IF(LEN(E92)=0,\"\",INDEX('Loan - Strength'!$C$1:$C$18,MATCH(E92,'Loan - Strength'!$A$1:$A$18,1)))","v":""},{"$f":"IF(LEN(F92)=0,\"\",INDEX('Loan - Micronaire'!$C$1:$C$20,MATCH($F92,'Loan - Micronaire'!$A$1:$A$20,1)))","v":""},{"$f":"IF(LEN(G92)=0,\"\",INDEX('Loan - Uniformity'!$C$1:$C$20,MATCH($G92,'Loan - Uniformity'!$A$1:$A$20,1)))","v":""},"","",{"$f":"IF(OR(LEN(B92)=0,LEN(C92)=0,LEN(D92)=0,LEN(E92)=0,LEN(F92)=0,LEN(G92)=0),\"\",IF('Base Values'!$B$8+(SUM($L92:$P92)/100)<0,0,'Base Values'!$B$8+(SUM(L92:P92)/100)))","v":""},null,{"$f":"IF(AND($T$13=TRUE,H92=1),'Loan - Extraneous'!B$3,IF(AND($T$13=TRUE,H92=2),'Loan - Extraneous'!C$3,0))","v":0},{"$f":"IF(I92=1,'Loan - Extraneous'!$B$4,IF(I92=2,'Loan - Extraneous'!$C$4,0))","v":0},{"$f":"IF(J92=1,'Loan - Extraneous'!$B$5,IF(J92=2,'Loan - Extraneous'!$C$5,0))","v":0}]
[null,null,null,null,null,null,null,null,null,null,"",{"$f":"IF(OR(LEN(B93)=0,LEN(C93)=0,LEN(D93)=0),\"\",IF(K93>=38,INDEX('Loan - Grade & Staple'!$A$1:$K$1000,MATCH($B93&$C93,'Loan - Grade & Staple'!$B$1:$B$1000&'Loan - Grade & Staple'!$C$1:$C$1000,0),MATCH(\"38+\",'Loan - Grade & Staple'!$A$3:$K$3,0)),IF(K93<=31,INDEX('Loan - Grade & Staple'!$A$1:$K$1000,MATCH($B93&$C93,'Loan - Grade & Staple'!$B$1:$B$1000&'Loan - Grade & Staple'!$C$1:$C$1000,0),MATCH(\"26-31\",'Loan - Grade & Staple'!$A$3:$K$3,0)),IF(ISNA(INDEX('Loan - Grade & Staple'!$A$1:$K$1000,MATCH($B93&C93,'Loan - Grade & Staple'!$B$1:$B$1000&'Loan - Grade & Staple'!$C$1:$C$1000,0),MATCH($K93,'Loan - Grade & Staple'!$A$3:$K$3,0))),-4000,INDEX('Loan - Grade & Staple'!$A$1:$K$1000,MATCH($B93&C93,'Loan - Grade & Staple'!$B$1:$B$1000&'Loan - Grade & Staple'!$C$1:$C$1000,0),MATCH($K93,'Loan - Grade & Staple'!$A$3:$K$3,0))))))","v":""},{"$f":"IF(LEN(E93)=0,\"\",INDEX('Loan - Strength'!$C$1:$C$18,MATCH(E93,'Loan - Strength'!$A$1:$A$18,1)))","v":""},{"$f":"IF(LEN(F93)=0,\"\",INDEX('Loan - Micronaire'!$C$1:$C$20,MATCH($F93,'Loan - Micronaire'!$A$1:$A$20,1)))","v":""},{"$f":"IF(LEN(G93)=0,\"\",INDEX('Loan - Uniformity'!$C$1:$C$20,MATCH($G93,'Loan - Uniformity'!$A$1:$A$20,1)))","v":""},"","",{"$f":"IF(OR(LEN(B93)=0,LEN(C93)=0,LEN(D93)=0,LEN(E93)=0,LEN(F93)=0,LEN(G93)=0),\"\",IF('Base Values'!$B$8+(SUM($L93:$P93)/100)<0,0,'Base Values'!$B$8+(SUM(L93:P93)/100)))","v":""},null,{"$f":"IF(AND($T$13=TRUE,H93=1),'Loan - Extraneous'!B$3,IF(AND($T$13=TRUE,H93=2),'Loan - Extraneous'!C$3,0))","v":0},{"$f":"IF(I93=1,'Loan - Extraneous'!$B$4,IF(I93=2,'Loan - Extraneous'!$C$4,0))","v":0},{"$f":"IF(J93=1,'Loan - Extraneous'!$B$5,IF(J93=2,'Loan - Extraneous'!$C$5,0))","v":0}]
[null,null,null,null,null,null,null,null,null,null,"",{"$f":"IF(OR(LEN(B94)=0,LEN(C94)=0,LEN(D94)=0),\"\",IF(K94>=38,INDEX('Loan - Grade & Staple'!$A$1:$K$1000,MATCH($B94&$C94,'Loan - Grade & Staple'!$B$1:$B$1000&'Loan - Grade & Staple'!$C$1:$C$1000,0),MATCH(\"38+\",'Loan - Grade & Staple'!$A$3:$K$3,0)),IF(K94<=31,INDEX('Loan - Grade & Staple'!$A$1:$K$1000,MATCH($B94&$C94,'Loan - Grade & Staple'!$B$1:$B$1000&'Loan - Grade & Staple'!$C$1:$C$1000,0),MATCH(\"26-31\",'Loan - Grade & Staple'!$A$3:$K$3,0)),IF(ISNA(INDEX('Loan - Grade & Staple'!$A$1:$K$1000,MATCH($B94&C94,'Loan - Grade & Staple'!$B$1:$B$1000&'Loan - Grade & Staple'!$C$1:$C$1000,0),MATCH($K94,'Loan - Grade & Staple'!$A$3:$K$3,0))),-4000,INDEX('Loan - Grade & Staple'!$A$1:$K$1000,MATCH($B94&C94,'Loan - Grade & Staple'!$B$1:$B$1000&'Loan - Grade & Staple'!$C$1:$C$1000,0),MATCH($K94,'Loan - Grade & Staple'!$A$3:$K$3,0))))))","v":""},{"$f":"IF(LEN(E94)=0,\"\",INDEX('Loan - Strength'!$C$1:$C$18,MATCH(E94,'Loan - Strength'!$A$1:$A$18,1)))","v":""},{"$f":"IF(LEN(F94)=0,\"\",INDEX('Loan - Micronaire'!$C$1:$C$20,MATCH($F94,'Loan - Micronaire'!$A$1:$A$20,1)))","v":""},{"$f":"IF(LEN(G94)=0,\"\",INDEX('Loan - Uniformity'!$C$1:$C$20,MATCH($G94,'Loan - Uniformity'!$A$1:$A$20,1)))","v":""},"","",{"$f":"IF(OR(LEN(B94)=0,LEN(C94)=0,LEN(D94)=0,LEN(E94)=0,LEN(F94)=0,LEN(G94)=0),\"\",IF('Base Values'!$B$8+(SUM($L94:$P94)/100)<0,0,'Base Values'!$B$8+(SUM(L94:P94)/100)))","v":""},null,{"$f":"IF(AND($T$13=TRUE,H94=1),'Loan - Extraneous'!B$3,IF(AND($T$13=TRUE,H94=2),'Loan - Extraneous'!C$3,0))","v":0},{"$f":"IF(I94=1,'Loan - Extraneous'!$B$4,IF(I94=2,'Loan - Extraneous'!$C$4,0))","v":0},{"$f":"IF(J94=1,'Loan - Extraneous'!$B$5,IF(J94=2,'Loan - Extraneous'!$C$5,0))","v":0}]
[null,null,null,null,null,null,null,null,null,null,"",{"$f":"IF(OR(LEN(B95)=0,LEN(C95)=0,LEN(D95)=0),\"\",IF(K95>=38,INDEX('Loan - Grade & Staple'!$A$1:$K$1000,MATCH($B95&$C95,'Loan - Grade & Staple'!$B$1:$B$1000&'Loan - Grade & Staple'!$C$1:$C$1000,0),MATCH(\"38+\",'Loan - Grade & Staple'!$A$3:$K$3,0)),IF(K95<=31,INDEX('Loan - Grade & Staple'!$A$1:$K$1000,MATCH($B95&$C95,'Loan - Grade & Staple'!$B$1:$B$1000&'Loan - Grade & Staple'!$C$1:$C$1000,0),MATCH(\"26-31\",'Loan - Grade & Staple'!$A$3:$K$3,0)),IF(ISNA(INDEX('Loan - Grade & Staple'!$A$1:$K$1000,MATCH($B95&C95,'Loan - Grade & Staple'!$B$1:$B$1000&'Loan - Grade & Staple'!$C$1:$C$1000,0),MATCH($K95,'Loan - Grade & Staple'!$A$3:$K$3,0))),-4000,INDEX('Loan - Grade & Staple'!$A$1:$K$1000,MATCH($B95&C95,'Loan - Grade & Staple'!$B$1:$B$1000&'Loan - Grade & Staple'!$C$1:$C$1000,0),MATCH($K95,'Loan - Grade & Staple'!$A$3:$K$3,0))))))","v":""},{"$f":"IF(LEN(E95)=0,\"\",INDEX('Loan - Strength'!$C$1:$C$18,MATCH(E95,'Loan - Strength'!$A$1:$A$18,1)))","v":""},{"$f":"IF(LEN(F95)=0,\"\",INDEX('Loan - Micronaire'!$C$1:$C$20,MATCH($F95,'Loan - Micronaire'!$A$1:$A$20,1)))","v":""},{"$f":"IF(LEN(G95)=0,\"\",INDEX('Loan - Uniformity'!$C$1:$C$20,MATCH($G95,'Loan - Uniformity'!$A$1:$A$20,1)))","v":""},"","",{"$f":"IF(OR(LEN(B95)=0,LEN(C95)=0,LEN(D95)=0,LEN(E95)=0,LEN(F95)=0,LEN(G95)=0),\"\",IF('Base Values'!$B$8+(SUM($L95:$P95)/100)<0,0,'Base Values'!$B$8+(SUM(L95:P95)/100)))","v":""},null,{"$f":"IF(AND($T$13=TRUE,H95=1),'Loan - Extraneous'!B$3,IF(AND($T$13=TRUE,H95=2),'Loan - Extraneous'!C$3,0))","v":0},{"$f":"IF(I95=1,'Loan - Extraneous'!$B$4,IF(I95=2,'Loan - Extraneous'!$C$4,0))","v":0},{"$f":"IF(J95=1,'Loan - Extraneous'!$B$5,IF(J95=2,'Loan - Extraneous'!$C$5,0))","v":0}]
[null,null,null,null,null,null,null,null,null,null,"",{"$f":"IF(OR(LEN(B96)=0,LEN(C96)=0,LEN(D96)=0),\"\",IF(K96>=38,INDEX('Loan - Grade & Staple'!$A$1:$K$1000,MATCH($B96&$C96,'Loan - Grade & Staple'!$B$1:$B$1000&'Loan - Grade & Staple'!$C$1:$C$1000,0),MATCH(\"38+\",'Loan - Grade & Staple'!$A$3:$K$3,0)),IF(K96<=31,INDEX('Loan - Grade & Staple'!$A$1:$K$1000,MATCH($B96&$C96,'Loan - Grade & Staple'!$B$1:$B$1000&'Loan - Grade & Staple'!$C$1:$C$1000,0),MATCH(\"26-31\",'Loan - Grade & Staple'!$A$3:$K$3,0)),IF(ISNA(INDEX('Loan - Grade & Staple'!$A$1:$K$1000,MATCH($B96&C96,'Loan - Grade & Staple'!$B$1:$B$1000&'Loan - Grade & Staple'!$C$1:$C$1000,0),MATCH($K96,'Loan - Grade & Staple'!$A$3:$K$3,0))),-4000,INDEX('Loan - Grade & Staple'!$A$1:$K$1000,MATCH($B96&C96,'Loan - Grade & Staple'!$B$1:$B$1000&'Loan - Grade & Staple'!$C$1:$C$1000,0),MATCH($K96,'Loan - Grade & Staple'!$A$3:$K$3,0))))))","v":""},{"$f":"IF(LEN(E96)=0,\"\",INDEX('Loan - Strength'!$C$1:$C$18,MATCH(E96,'Loan - Strength'!$A$1:$A$18,1)))","v":""},{"$f":"IF(LEN(F96)=0,\"\",INDEX('Loan - Micronaire'!$C$1:$C$20,MATCH($F96,'Loan - Micronaire'!$A$1:$A$20,1)))","v":""},{"$f":"IF(LEN(G96)=0,\"\",INDEX('Loan - Uniformity'!$C$1:$C$20,MATCH($G96,'Loan - Uniformity'!$A$1:$A$20,1)))","v":""},"","",{"$f":"IF(OR(LEN(B96)=0,LEN(C96)=0,LEN(D96)=0,LEN(E96)=0,LEN(F96)=0,LEN(G96)=0),\"\",IF('Base Values'!$B$8+(SUM($L96:$P96)/100)<0,0,'Base Values'!$B$8+(SUM(L96:P96)/100)))","v":""},null,{"$f":"IF(AND($T$13=TRUE,H96=1),'Loan - Extraneous'!B$3,IF(AND($T$13=TRUE,H96=2),'Loan - Extraneous'!C$3,0))","v":0},{"$f":"IF(I96=1,'Loan - Extraneous'!$B$4,IF(I96=2,'Loan - Extraneous'!$C$4,0))","v":0},{"$f":"IF(J96=1,'Loan - Extraneous'!$B$5,IF(J96=2,'Loan - Extraneous'!$C$5,0))","v":0}]
[null,null,null,null,null,null,null,null,null,null,"",{"$f":"IF(OR(LEN(B97)=0,LEN(C97)=0,LEN(D97)=0),\"\",IF(K97>=38,INDEX('Loan - Grade & Staple'!$A$1:$K$1000,MATCH($B97&$C97,'Loan - Grade & Staple'!$B$1:$B$1000&'Loan - Grade & Staple'!$C$1:$C$1000,0),MATCH(\"38+\",'Loan - Grade & Staple'!$A$3:$K$3,0)),IF(K97<=31,INDEX('Loan - Grade & Staple'!$A$1:$K$1000,MATCH($B97&$C97,'Loan - Grade & Staple'!$B$1:$B$1000&'Loan - Grade & Staple'!$C$1:$C$1000,0),MATCH(\"26-31\",'Loan - Grade & Staple'!$A$3:$K$3,0)),IF(ISNA(INDEX('Loan - Grade & Staple'!$A$1:$K$1000,MATCH($B97&C97,'Loan - Grade & Staple'!$B$1:$B$1000&'Loan - Grade & Staple'!$C$1:$C$1000,0),MATCH($K97,'Loan - Grade & Staple'!$A$3:$K$3,0))),-4000,INDEX('Loan - Grade & Staple'!$A$1:$K$1000,MATCH($B97&C97,'Loan - Grade & Staple'!$B$1:$B$1000&'Loan - Grade & Staple'!$C$1:$C$1000,0),MATCH($K97,'Loan - Grade & Staple'!$A$3:$K$3,0))))))","v":""},{"$f":"IF(LEN(E97)=0,\"\",INDEX('Loan - Strength'!$C$1:$C$18,MATCH(E97,'Loan - Strength'!$A$1:$A$18,1)))","v":""},{"$f":"IF(LEN(F97)=0,\"\",INDEX('Loan - Micronaire'!$C$1:$C$20,MATCH($F97,'Loan - Micronaire'!$A$1:$A$20,1)))","v":""},{"$f":"IF(LEN(G97)=0,\"\",INDEX('Loan - Uniformity'!$C$1:$C$20,MATCH($G97,'Loan - Uniformity'!$A$1:$A$20,1)))","v":""},"","",{"$f":"IF(OR(LEN(B97)=0,LEN(C97)=0,LEN(D97)=0,LEN(E97)=0,LEN(F97)=0,LEN(G97)=0),\"\",IF('Base Values'!$B$8+(SUM($L97:$P97)/100)<0,0,'Base Values'!$B$8+(SUM(L97:P97)/100)))","v":""},null,{"$f":"IF(AND($T$13=TRUE,H97=1),'Loan - Extraneous'!B$3,IF(AND($T$13=TRUE,H97=2),'Loan - Extraneous'!C$3,0))","v":0},{"$f":"IF(I97=1,'Loan - Extraneous'!$B$4,IF(I97=2,'Loan - Extraneous'!$C$4,0))","v":0},{"$f":"IF(J97=1,'Loan - Extraneous'!$B$5,IF(J97=2,'Loan - Extraneous'!$C$5,0))","v":0}]
[null,null,null,null,null,null,null,null,null,null,"",{"$f":"IF(OR(LEN(B98)=0,LEN(C98)=0,LEN(D98)=0),\"\",IF(K98>=38,INDEX('Loan - Grade & Staple'!$A$1:$K$1000,MATCH($B98&$C98,'Loan - Grade & Staple'!$B$1:$B$1000&'Loan - Grade & Staple'!$C$1:$C$1000,0),MATCH(\"38+\",'Loan - Grade & Staple'!$A$3:$K$3,0)),IF(K98<=31,INDEX('Loan - Grade & Staple'!$A$1:$K$1000,MATCH($B98&$C98,'Loan - Grade & Staple'!$B$1:$B$1000&'Loan - Grade & Staple'!$C$1:$C$1000,0),MATCH(\"26-31\",'Loan - Grade & Staple'!$A$3:$K$3,0)),IF(ISNA(INDEX('Loan - Grade & Staple'!$A$1:$K$1000,MATCH($B98&C98,'Loan - Grade & Staple'!$B$1:$B$1000&'Loan - Grade & Staple'!$C$1:$C$1000,0),MATCH($K98,'Loan - Grade & Staple'!$A$3:$K$3,0))),-4000,INDEX('Loan - Grade & Staple'!$A$1:$K$1000,MATCH($B98&C98,'Loan - Grade & Staple'!$B$1:$B$1000&'Loan - Grade & Staple'!$C$1:$C$1000,0),MATCH($K98,'Loan - Grade & Staple'!$A$3:$K$3,0))))))","v":""},{"$f":"IF(LEN(E98)=0,\"\",INDEX('Loan - Strength'!$C$1:$C$18,MATCH(E98,'Loan - Strength'!$A$1:$A$18,1)))","v":""},{"$f":"IF(LEN(F98)=0,\"\",INDEX('Loan - Micronaire'!$C$1:$C$20,MATCH($F98,'Loan - Micronaire'!$A$1:$A$20,1)))","v":""},{"$f":"IF(LEN(G98)=0,\"\",INDEX('Loan - Uniformity'!$C$1:$C$20,MATCH($G98,'Loan - Uniformity'!$A$1:$A$20,1)))","v":""},"","",{"$f":"IF(OR(LEN(B98)=0,LEN(C98)=0,LEN(D98)=0,LEN(E98)=0,LEN(F98)=0,LEN(G98)=0),\"\",IF('Base Values'!$B$8+(SUM($L98:$P98)/100)<0,0,'Base Values'!$B$8+(SUM(L98:P98)/100)))","v":""},null,{"$f":"IF(AND($T$13=TRUE,H98=1),'Loan - Extraneous'!B$3,IF(AND($T$13=TRUE,H98=2),'Loan - Extraneous'!C$3,0))","v":0},{"$f":"IF(I98=1,'Loan - Extraneous'!$B$4,IF(I98=2,'Loan - Extraneous'!$C$4,0))","v":0},{"$f":"IF(J98=1,'Loan - Extraneous'!$B$5,IF(J98=2,'Loan - Extraneous'!$C$5,0))","v":0}]
[null,null,null,null,null,null,null,null,null,null,"",{"$f":"IF(OR(LEN(B99)=0,LEN(C99)=0,LEN(D99)=0),\"\",IF(K99>=38,INDEX('Loan - Grade & Staple'!$A$1:$K$1000,MATCH($B99&$C99,'Loan - Grade & Staple'!$B$1:$B$1000&'Loan - Grade & Staple'!$C$1:$C$1000,0),MATCH(\"38+\",'Loan - Grade & Staple'!$A$3:$K$3,0)),IF(K99<=31,INDEX('Loan - Grade & Staple'!$A$1:$K$1000,MATCH($B99&$C99,'Loan - Grade & Staple'!$B$1:$B$1000&'Loan - Grade & Staple'!$C$1:$C$1000,0),MATCH(\"26-31\",'Loan - Grade & Staple'!$A$3:$K$3,0)),IF(ISNA(INDEX('Loan - Grade & Staple'!$A$1:$K$1000,MATCH($B99&C99,'Loan - Grade & Staple'!$B$1:$B$1000&'Loan - Grade & Staple'!$C$1:$C$1000,0),MATCH($K99,'Loan - Grade & Staple'!$A$3:$K$3,0))),-4000,INDEX('Loan - Grade & Staple'!$A$1:$K$1000,MATCH($B99&C99,'Loan - Grade & Staple'!$B$1:$B$1000&'Loan - Grade & Staple'!$C$1:$C$1000,0),MATCH($K99,'Loan - Grade & Staple'!$A$3:$K$3,0))))))","v":""},{"$f":"IF(LEN(E99)=0,\"\",INDEX('Loan - Strength'!$C$1:$C$18,MATCH(E99,'Loan - Strength'!$A$1:$A$18,1)))","v":""},{"$f":"IF(LEN(F99)=0,\"\",INDEX('Loan - Micronaire'!$C$1:$C$20,MATCH($F99,'Loan - Micronaire'!$A$1:$A$20,1)))","v":""},{"$f":"IF(LEN(G99)=0,\"\",INDEX('Loan - Uniformity'!$C$1:$C$20,MATCH($G99,'Loan - Uniformity'!$A$1:$A$20,1)))","v":""},"","",{"$f":"IF(OR(LEN(B99)=0,LEN(C99)=0,LEN(D99)=0,LEN(E99)=0,LEN(F99)=0,LEN(G99)=0),\"\",IF('Base Values'!$B$8+(SUM($L99:$P99)/100)<0,0,'Base Values'!$B$8+(SUM(L99:P99)/100)))","v":""},null,{"$f":"IF(AND($T$13=TRUE,H99=1),'Loan - Extraneous'!B$3,IF(AND($T$13=TRUE,H99=2),'Loan - Extraneous'!C$3,0))","v":0},{"$f":"IF(I99=1,'Loan - Extraneous'!$B$4,IF(I99=2,'Loan - Extraneous'!$C$4,0))","v":0},{"$f":"IF(J99=1,'Loan - Extraneous'!$B$5,IF(J99=2,'Loan - Extraneous'!$C$5,0))","v":0}]
[null,null,null,null,null,null,null,null,null,null,"",{"$f":"IF(OR(LEN(B100)=0,LEN(C100)=0,LEN(D100)=0),\"\",IF(K100>=38,INDEX('Loan - Grade & Staple'!$A$1:$K$1000,MATCH($B100&$C100,'Loan - Grade & Staple'!$B$1:$B$1000&'Loan - Grade & Staple'!$C$1:$C$1000,0),MATCH(\"38+\",'Loan - Grade & Staple'!$A$3:$K$3,0)),IF(K100<=31,INDEX('Loan - Grade & Staple'!$A$1:$K$1000,MATCH($B100&$C100,'Loan - Grade & Staple'!$B$1:$B$1000&'Loan - Grade & Staple'!$C$1:$C$1000,0),MATCH(\"26-31\",'Loan - Grade & Staple'!$A$3:$K$3,0)),IF(ISNA(INDEX('Loan - Grade & Staple'!$A$1:$K$1000,MATCH($B100&C100,'Loan - Grade & Staple'!$B$1:$B$1000&'Loan - Grade & Staple'!$C$1:$C$1000,0),MATCH($K100,'Loan - Grade & Staple'!$A$3:$K$3,0))),-4000,INDEX('Loan - Grade & Staple'!$A$1:$K$1000,MATCH($B100&C100,'Loan - Grade & Staple'!$B$1:$B$1000&'Loan - Grade & Staple'!$C$1:$C$1000,0),MATCH($K100,'Loan - Grade & Staple'!$A$3:$K$3,0))))))","v":""},{"$f":"IF(LEN(E100)=0,\"\",INDEX('Loan - Strength'!$C$1:$C$18,MATCH(E100,'Loan - Strength'!$A$1:$A$18,1)))","v":""},{"$f":"IF(LEN(F100)=0,\"\",INDEX('Loan - Micronaire'!$C$1:$C$20,MATCH($F100,'Loan - Micronaire'!$A$1:$A$20,1)))","v":""},{"$f":"IF(LEN(G100)=0,\"\",INDEX('Loan - Uniformity'!$C$1:$C$20,MATCH($G100,'Loan - Uniformity'!$A$1:$A$20,1)))","v":""},"","",{"$f":"IF(OR(LEN(B100)=0,LEN(C100)=0,LEN(D100)=0,LEN(E100)=0,LEN(F100)=0,LEN(G100)=0),\"\",IF('Base Values'!$B$8+(SUM($L100:$P100)/100)<0,0,'Base Values'!$B$8+(SUM(L100:P100)/100)))","v":""},null,{"$f":"IF(AND($T$13=TRUE,H100=1),'Loan - Extraneous'!B$3,IF(AND($T$13=TRUE,H100=2),'Loan - Extraneous'!C$3,0))","v":0},{"$f":"IF(I100=1,'Loan - Extraneous'!$B$4,IF(I100=2,'Loan - Extraneous'!$C$4,0))","v":0},{"$f":"IF(J100=1,'Loan - Extraneous'!$B$5,IF(J100=2,'Loan - Extraneous'!$C$5,0))","v":0}]
[null,null,null,null,null,null,null,null,null,null,"",{"$f":"IF(OR(LEN(B101)=0,LEN(C101)=0,LEN(D101)=0),\"\",IF(K101>=38,INDEX('Loan - Grade & Staple'!$A$1:$K$1000,MATCH($B101&$C101,'Loan - Grade & Staple'!$B$1:$B$1000&'Loan - Grade & Staple'!$C$1:$C$1000,0),MATCH(\"38+\",'Loan - Grade & Staple'!$A$3:$K$3,0)),IF(K101<=31,INDEX('Loan - Grade & Staple'!$A$1:$K$1000,MATCH($B101&$C101,'Loan - Grade & Staple'!$B$1:$B$1000&'Loan - Grade & Staple'!$C$1:$C$1000,0),MATCH(\"26-31\",'Loan - Grade & Staple'!$A$3:$K$3,0)),IF(ISNA(INDEX('Loan - Grade & Staple'!$A$1:$K$1000,MATCH($B101&C101,'Loan - Grade & Staple'!$B$1:$B$1000&'Loan - Grade & Staple'!$C$1:$C$1000,0),MATCH($K101,'Loan - Grade & Staple'!$A$3:$K$3,0))),-4000,INDEX('Loan - Grade & Staple'!$A$1:$K$1000,MATCH($B101&C101,'Loan - Grade & Staple'!$B$1:$B$1000&'Loan - Grade & Staple'!$C$1:$C$1000,0),MATCH($K101,'Loan - Grade & Staple'!$A$3:$K$3,0))))))","v":""},{"$f":"IF(LEN(E101)=0,\"\",INDEX('Loan - Strength'!$C$1:$C$18,MATCH(E101,'Loan - Strength'!$A$1:$A$18,1)))","v":""},{"$f":"IF(LEN(F101)=0,\"\",INDEX('Loan - Micronaire'!$C$1:$C$20,MATCH($F101,'Loan - Micronaire'!$A$1:$A$20,1)))","v":""},{"$f":"IF(LEN(G101)=0,\"\",INDEX('Loan - Uniformity'!$C$1:$C$20,MATCH($G101,'Loan - Uniformity'!$A$1:$A$20,1)))","v":""},"","",{"$f":"IF(OR(LEN(B101)=0,LEN(C101)=0,LEN(D101)=0,LEN(E101)=0,LEN(F101)=0,LEN(G101)=0),\"\",IF('Base Values'!$B$8+(SUM($L101:$P101)/100)<0,0,'Base Values'!$B$8+(SUM(L101:P101)/100)))","v":""},null,{"$f":"IF(AND($T$13=TRUE,H101=1),'Loan - Extraneous'!B$3,IF(AND($T$13=TRUE,H101=2),'Loan - Extraneous'!C$3,0))","v":0},{"$f":"IF(I101=1,'Loan - Extraneous'!$B$4,IF(I101=2,'Loan - Extraneous'!$C$4,0))","v":0},{"$f":"IF(J101=1,'Loan - Extraneous'!$B$5,IF(J101=2,'Loan - Extraneous'!$C$5,0))","v":0}]
[null,null,null,null,null,null,null,null,null,null,"",{"$f":"IF(OR(LEN(B102)=0,LEN(C102)=0,LEN(D102)=0),\"\",IF(K102>=38,INDEX('Loan - Grade & Staple'!$A$1:$K$1000,MATCH($B102&$C102,'Loan - Grade & Staple'!$B$1:$B$1000&'Loan - Grade & Staple'!$C$1:$C$1000,0),MATCH(\"38+\",'Loan - Grade & Staple'!$A$3:$K$3,0)),IF(K102<=31,INDEX('Loan - Grade & Staple'!$A$1:$K$1000,MATCH($B102&$C102,'Loan - Grade & Staple'!$B$1:$B$1000&'Loan - Grade & Staple'!$C$1:$C$1000,0),MATCH(\"26-31\",'Loan - Grade & Staple'!$A$3:$K$3,0)),IF(ISNA(INDEX('Loan - Grade & Staple'!$A$1:$K$1000,MATCH($B102&C102,'Loan - Grade & Staple'!$B$1:$B$1000&'Loan - Grade & Staple'!$C$1:$C$1000,0),MATCH($K102,'Loan - Grade & Staple'!$A$3:$K$3,0))),-4000,INDEX('Loan - Grade & Staple'!$A$1:$K$1000,MATCH($B102&C102,'Loan - Grade & Staple'!$B$1:$B$1000&'Loan - Grade & Staple'!$C$1:$C$1000,0),MATCH($K102,'Loan - Grade & Staple'!$A$3:$K$3,0))))))","v":""},{"$f":"IF(LEN(E102)=0,\"\",INDEX('Loan - Strength'!$C$1:$C$18,MATCH(E102,'Loan - Strength'!$A$1:$A$18,1)))","v":""},{"$f":"IF(LEN(F102)=0,\"\",INDEX('Loan - Micronaire'!$C$1:$C$20,MATCH($F102,'Loan - Micronaire'!$A$1:$A$20,1)))","v":""},{"$f":"IF(LEN(G102)=0,\"\",INDEX('Loan - Uniformity'!$C$1:$C$20,MATCH($G102,'Loan - Uniformity'!$A$1:$A$20,1)))","v":""},"","",{"$f":"IF(OR(LEN(B102)=0,LEN(C102)=0,LEN(D102)=0,LEN(E102)=0,LEN(F102)=0,LEN(G102)=0),\"\",IF('Base Values'!$B$8+(SUM($L102:$P102)/100)<0,0,'Base Values'!$B$8+(SUM(L102:P102)/100)))","v":""},null,{"$f":"IF(AND($T$13=TRUE,H102=1),'Loan - Extraneous'!B$3,IF(AND($T$13=TRUE,H102=2),'Loan - Extraneous'!C$3,0))","v":0},{"$f":"IF(I102=1,'Loan - Extraneous'!$B$4,IF(I102=2,'Loan - Extraneous'!$C$4,0))","v":0},{"$f":"IF(J102=1,'Loan - Extraneous'!$B$5,IF(J102=2,'Loan - Extraneous'!$C$5,0))","v":0}]
[null,null,null,null,null,null,null,null,null,null,"",{"$f":"IF(OR(LEN(B103)=0,LEN(C103)=0,LEN(D103)=0),\"\",IF(K103>=38,INDEX('Loan - Grade & Staple'!$A$1:$K$1000,MATCH($B103&$C103,'Loan - Grade & Staple'!$B$1:$B$1000&'Loan - Grade & Staple'!$C$1:$C$1000,0),MATCH(\"38+\",'Loan - Grade & Staple'!$A$3:$K$3,0)),IF(K103<=31,INDEX('Loan - Grade & Staple'!$A$1:$K$1000,MATCH($B103&$C103,'Loan - Grade & Staple'!$B$1:$B$1000&'Loan - Grade & Staple'!$C$1:$C$1000,0),MATCH(\"26-31\",'Loan - Grade & Staple'!$A$3:$K$3,0)),IF(ISNA(INDEX('Loan - Grade & Staple'!$A$1:$K$1000,MATCH($B103&C103,'Loan - Grade & Staple'!$B$1:$B$1000&'Loan - Grade & Staple'!$C$1:$C$1000,0),MATCH($K103,'Loan - Grade & Staple'!$A$3:$K$3,0))),-4000,INDEX('Loan - Grade & Staple'!$A$1:$K$1000,MATCH($B103&C103,'Loan - Grade & Staple'!$B$1:$B$1000&'Loan - Grade & Staple'!$C$1:$C$1000,0),MATCH($K103,'Loan - Grade & Staple'!$A$3:$K$3,0))))))","v":""},{"$f":"IF(LEN(E103)=0,\"\",INDEX('Loan - Strength'!$C$1:$C$18,MATCH(E103,'Loan - Strength'!$A$1:$A$18,1)))","v":""},{"$f":"IF(LEN(F103)=0,\"\",INDEX('Loan - Micronaire'!$C$1:$C$20,MATCH($F103,'Loan - Micronaire'!$A$1:$A$20,1)))","v":""},{"$f":"IF(LEN(G103)=0,\"\",INDEX('Loan - Uniformity'!$C$1:$C$20,MATCH($G103,'Loan - Uniformity'!$A$1:$A$20,1)))","v":""},"","",{"$f":"IF(OR(LEN(B103)=0,LEN(C103)=0,LEN(D103)=0,LEN(E103)=0,LEN(F103)=0,LEN(G103)=0),\"\",IF('Base Values'!$B$8+(SUM($L103:$P103)/100)<0,0,'Base Values'!$B$8+(SUM(L103:P103)/100)))","v":""},null,{"$f":"IF(AND($T$13=TRUE,H103=1),'Loan - Extraneous'!B$3,IF(AND($T$13=TRUE,H103=2),'Loan - Extraneous'!C$3,0))","v":0},{"$f":"IF(I103=1,'Loan - Extraneous'!$B$4,IF(I103=2,'Loan - Extraneous'!$C$4,0))","v":0},{"$f":"IF(J103=1,'Loan - Extraneous'!$B$5,IF(J103=2,'Loan - Extraneous'!$C$5,0))","v":0}]
[null,null,null,null,null,null,null,null,null,null,"",{"$f":"IF(OR(LEN(B104)=0,LEN(C104)=0,LEN(D104)=0),\"\",IF(K104>=38,INDEX('Loan - Grade & Staple'!$A$1:$K$1000,MATCH($B104&$C104,'Loan - Grade & Staple'!$B$1:$B$1000&'Loan - Grade & Staple'!$C$1:$C$1000,0),MATCH(\"38+\",'Loan - Grade & Staple'!$A$3:$K$3,0)),IF(K104<=31,INDEX('Loan - Grade & Staple'!$A$1:$K$1000,MATCH($B104&$C104,'Loan - Grade & Staple'!$B$1:$B$1000&'Loan - Grade & Staple'!$C$1:$C$1000,0),MATCH(\"26-31\",'Loan - Grade & Staple'!$A$3:$K$3,0)),IF(ISNA(INDEX('Loan - Grade & Staple'!$A$1:$K$1000,MATCH($B104&C104,'Loan - Grade & Staple'!$B$1:$B$1000&'Loan - Grade & Staple'!$C$1:$C$1000,0),MATCH($K104,'Loan - Grade & Staple'!$A$3:$K$3,0))),-4000,INDEX('Loan - Grade & Staple'!$A$1:$K$1000,MATCH($B104&C104,'Loan - Grade & Staple'!$B$1:$B$1000&'Loan - Grade & Staple'!$C$1:$C$1000,0),MATCH($K104,'Loan - Grade & Staple'!$A$3:$K$3,0))))))","v":""},{"$f":"IF(LEN(E104)=0,\"\",INDEX('Loan - Strength'!$C$1:$C$18,MATCH(E104,'Loan - Strength'!$A$1:$A$18,1)))","v":""},{"$f":"IF(LEN(F104)=0,\"\",INDEX('Loan - Micronaire'!$C$1:$C$20,MATCH($F104,'Loan - Micronaire'!$A$1:$A$20,1)))","v":""},{"$f":"IF(LEN(G104)=0,\"\",INDEX('Loan - Uniformity'!$C$1:$C$20,MATCH($G104,'Loan - Uniformity'!$A$1:$A$20,1)))","v":""},"","",{"$f":"IF(OR(LEN(B104)=0,LEN(C104)=0,LEN(D104)=0,LEN(E104)=0,LEN(F104)=0,LEN(G104)=0),\"\",IF('Base Values'!$B$8+(SUM($L104:$P104)/100)<0,0,'Base Values'!$B$8+(SUM(L104:P104)/100)))","v":""},null,{"$f":"IF(AND($T$13=TRUE,H104=1),'Loan - Extraneous'!B$3,IF(AND($T$13=TRUE,H104=2),'Loan - Extraneous'!C$3,0))","v":0},{"$f":"IF(I104=1,'Loan - Extraneous'!$B$4,IF(I104=2,'Loan - Extraneous'!$C$4,0))","v":0},{"$f":"IF(J104=1,'Loan - Extraneous'!$B$5,IF(J104=2,'Loan - Extraneous'!$C$5,0))","v":0}]
[null,null,null,null,null,null,null,null,null,null,"",{"$f":"IF(OR(LEN(B105)=0,LEN(C105)=0,LEN(D105)=0),\"\",IF(K105>=38,INDEX('Loan - Grade & Staple'!$A$1:$K$1000,MATCH($B105&$C105,'Loan - Grade & Staple'!$B$1:$B$1000&'Loan - Grade & Staple'!$C$1:$C$1000,0),MATCH(\"38+\",'Loan - Grade & Staple'!$A$3:$K$3,0)),IF(K105<=31,INDEX('Loan - Grade & Staple'!$A$1:$K$1000,MATCH($B105&$C105,'Loan - Grade & Staple'!$B$1:$B$1000&'Loan - Grade & Staple'!$C$1:$C$1000,0),MATCH(\"26-31\",'Loan - Grade & Staple'!$A$3:$K$3,0)),IF(ISNA(INDEX('Loan - Grade & Staple'!$A$1:$K$1000,MATCH($B105&C105,'Loan - Grade & Staple'!$B$1:$B$1000&'Loan - Grade & Staple'!$C$1:$C$1000,0),MATCH($K105,'Loan - Grade & Staple'!$A$3:$K$3,0))),-4000,INDEX('Loan - Grade & Staple'!$A$1:$K$1000,MATCH($B105&C105,'Loan - Grade & Staple'!$B$1:$B$1000&'Loan - Grade & Staple'!$C$1:$C$1000,0),MATCH($K105,'Loan - Grade & Staple'!$A$3:$K$3,0))))))","v":""},{"$f":"IF(LEN(E105)=0,\"\",INDEX('Loan - Strength'!$C$1:$C$18,MATCH(E105,'Loan - Strength'!$A$1:$A$18,1)))","v":""},{"$f":"IF(LEN(F105)=0,\"\",INDEX('Loan - Micronaire'!$C$1:$C$20,MATCH($F105,'Loan - Micronaire'!$A$1:$A$20,1)))","v":""},{"$f":"IF(LEN(G105)=0,\"\",INDEX('Loan - Uniformity'!$C$1:$C$20,MATCH($G105,'Loan - Uniformity'!$A$1:$A$20,1)))","v":""},"","",{"$f":"IF(OR(LEN(B105)=0,LEN(C105)=0,LEN(D105)=0,LEN(E105)=0,LEN(F105)=0,LEN(G105)=0),\"\",IF('Base Values'!$B$8+(SUM($L105:$P105)/100)<0,0,'Base Values'!$B$8+(SUM(L105:P105)/100)))","v":""},null,{"$f":"IF(AND($T$13=TRUE,H105=1),'Loan - Extraneous'!B$3,IF(AND($T$13=TRUE,H105=2),'Loan - Extraneous'!C$3,0))","v":0},{"$f":"IF(I105=1,'Loan - Extraneous'!$B$4,IF(I105=2,'Loan - Extraneous'!$C$4,0))","v":0},{"$f":"IF(J105=1,'Loan - Extraneous'!$B$5,IF(J105=2,'Loan - Extraneous'!$C$5,0))","v":0}]
[null,null,null,null,null,null,null,null,null,null,"",{"$f":"IF(OR(LEN(B106)=0,LEN(C106)=0,LEN(D106)=0),\"\",IF(K106>=38,INDEX('Loan - Grade & Staple'!$A$1:$K$1000,MATCH($B106&$C106,'Loan - Grade & Staple'!$B$1:$B$1000&'Loan - Grade & Staple'!$C$1:$C$1000,0),MATCH(\"38+\",'Loan - Grade & Staple'!$A$3:$K$3,0)),IF(K106<=31,INDEX('Loan - Grade & Staple'!$A$1:$K$1000,MATCH($B106&$C106,'Loan - Grade & Staple'!$B$1:$B$1000&'Loan - Grade & Staple'!$C$1:$C$1000,0),MATCH(\"26-31\",'Loan - Grade & Staple'!$A$3:$K$3,0)),IF(ISNA(INDEX('Loan - Grade & Staple'!$A$1:$K$1000,MATCH($B106&C106,'Loan - Grade & Staple'!$B$1:$B$1000&'Loan - Grade & Staple'!$C$1:$C$1000,0),MATCH($K106,'Loan - Grade & Staple'!$A$3:$K$3,0))),-4000,INDEX('Loan - Grade & Staple'!$A$1:$K$1000,MATCH($B106&C106,'Loan - Grade & Staple'!$B$1:$B$1000&'Loan - Grade & Staple'!$C$1:$C$1000,0),MATCH($K106,'Loan - Grade & Staple'!$A$3:$K$3,0))))))","v":""},{"$f":"IF(LEN(E106)=0,\"\",INDEX('Loan - Strength'!$C$1:$C$18,MATCH(E106,'Loan - Strength'!$A$1:$A$18,1)))","v":""},{"$f":"IF(LEN(F106)=0,\"\",INDEX('Loan - Micronaire'!$C$1:$C$20,MATCH($F106,'Loan - Micronaire'!$A$1:$A$20,1)))","v":""},{"$f":"IF(LEN(G106)=0,\"\",INDEX('Loan - Uniformity'!$C$1:$C$20,MATCH($G106,'Loan - Uniformity'!$A$1:$A$20,1)))","v":""},"","",{"$f":"IF(OR(LEN(B106)=0,LEN(C106)=0,LEN(D106)=0,LEN(E106)=0,LEN(F106)=0,LEN(G106)=0),\"\",IF('Base Values'!$B$8+(SUM($L106:$P106)/100)<0,0,'Base Values'!$B$8+(SUM(L106:P106)/100)))","v":""},null,{"$f":"IF(AND($T$13=TRUE,H106=1),'Loan - Extraneous'!B$3,IF(AND($T$13=TRUE,H106=2),'Loan - Extraneous'!C$3,0))","v":0},{"$f":"IF(I106=1,'Loan - Extraneous'!$B$4,IF(I106=2,'Loan - Extraneous'!$C$4,0))","v":0},{"$f":"IF(J106=1,'Loan - Extraneous'!$B$5,IF(J106=2,'Loan - Extraneous'!$C$5,0))","v":0}]
[null,null,null,null,null,null,null,null,null,null,"",{"$f":"IF(OR(LEN(B107)=0,LEN(C107)=0,LEN(D107)=0),\"\",IF(K107>=38,INDEX('Loan - Grade & Staple'!$A$1:$K$1000,MATCH($B107&$C107,'Loan - Grade & Staple'!$B$1:$B$1000&'Loan - Grade & Staple'!$C$1:$C$1000,0),MATCH(\"38+\",'Loan - Grade & Staple'!$A$3:$K$3,0)),IF(K107<=31,INDEX('Loan - Grade & Staple'!$A$1:$K$1000,MATCH($B107&$C107,'Loan - Grade & Staple'!$B$1:$B$1000&'Loan - Grade & Staple'!$C$1:$C$1000,0),MATCH(\"26-31\",'Loan - Grade & Staple'!$A$3:$K$3,0)),IF(ISNA(INDEX('Loan - Grade & Staple'!$A$1:$K$1000,MATCH($B107&C107,'Loan - Grade & Staple'!$B$1:$B$1000&'Loan - Grade & Staple'!$C$1:$C$1000,0),MATCH($K107,'Loan - Grade & Staple'!$A$3:$K$3,0))),-4000,INDEX('Loan - Grade & Staple'!$A$1:$K$1000,MATCH($B107&C107,'Loan - Grade & Staple'!$B$1:$B$1000&'Loan - Grade & Staple'!$C$1:$C$1000,0),MATCH($K107,'Loan - Grade & Staple'!$A$3:$K$3,0))))))","v":""},{"$f":"IF(LEN(E107)=0,\"\",INDEX('Loan - Strength'!$C$1:$C$18,MATCH(E107,'Loan - Strength'!$A$1:$A$18,1)))","v":""},{"$f":"IF(LEN(F107)=0,\"\",INDEX('Loan - Micronaire'!$C$1:$C$20,MATCH($F107,'Loan - Micronaire'!$A$1:$A$20,1)))","v":""},{"$f":"IF(LEN(G107)=0,\"\",INDEX('Loan - Uniformity'!$C$1:$C$20,MATCH($G107,'Loan - Uniformity'!$A$1:$A$20,1)))","v":""},"","",{"$f":"IF(OR(LEN(B107)=0,LEN(C107)=0,LEN(D107)=0,LEN(E107)=0,LEN(F107)=0,LEN(G107)=0),\"\",IF('Base Values'!$B$8+(SUM($L107:$P107)/100)<0,0,'Base Values'!$B$8+(SUM(L107:P107)/100)))","v":""},null,{"$f":"IF(AND($T$13=TRUE,H107=1),'Loan - Extraneous'!B$3,IF(AND($T$13=TRUE,H107=2),'Loan - Extraneous'!C$3,0))","v":0},{"$f":"IF(I107=1,'Loan - Extraneous'!$B$4,IF(I107=2,'Loan - Extraneous'!$C$4,0))","v":0},{"$f":"IF(J107=1,'Loan - Extraneous'!$B$5,IF(J107=2,'Loan - Extraneous'!$C$5,0))","v":0}]
[null,null,null,null,null,null,null,null,null,null,"",{"$f":"IF(OR(LEN(B108)=0,LEN(C108)=0,LEN(D108)=0),\"\",IF(K108>=38,INDEX('Loan - Grade & Staple'!$A$1:$K$1000,MATCH($B108&$C108,'Loan - Grade & Staple'!$B$1:$B$1000&'Loan - Grade & Staple'!$C$1:$C$1000,0),MATCH(\"38+\",'Loan - Grade & Staple'!$A$3:$K$3,0)),IF(K108<=31,INDEX('Loan - Grade & Staple'!$A$1:$K$1000,MATCH($B108&$C108,'Loan - Grade & Staple'!$B$1:$B$1000&'Loan - Grade & Staple'!$C$1:$C$1000,0),MATCH(\"26-31\",'Loan - Grade & Staple'!$A$3:$K$3,0)),IF(ISNA(INDEX('Loan - Grade & Staple'!$A$1:$K$1000,MATCH($B108&C108,'Loan - Grade & Staple'!$B$1:$B$1000&'Loan - Grade & Staple'!$C$1:$C$1000,0),MATCH($K108,'Loan - Grade & Staple'!$A$3:$K$3,0))),-4000,INDEX('Loan - Grade & Staple'!$A$1:$K$1000,MATCH($B108&C108,'Loan - Grade & Staple'!$B$1:$B$1000&'Loan - Grade & Staple'!$C$1:$C$1000,0),MATCH($K108,'Loan - Grade & Staple'!$A$3:$K$3,0))))))","v":""},{"$f":"IF(LEN(E108)=0,\"\",INDEX('Loan - Strength'!$C$1:$C$18,MATCH(E108,'Loan - Strength'!$A$1:$A$18,1)))","v":""},{"$f":"IF(LEN(F108)=0,\"\",INDEX('Loan - Micronaire'!$C$1:$C$20,MATCH($F108,'Loan - Micronaire'!$A$1:$A$20,1)))","v":""},{"$f":"IF(LEN(G108)=0,\"\",INDEX('Loan - Uniformity'!$C$1:$C$20,MATCH($G108,'Loan - Uniformity'!$A$1:$A$20,1)))","v":""},"","",{"$f":"IF(OR(LEN(B108)=0,LEN(C108)=0,LEN(D108)=0,LEN(E108)=0,LEN(F108)=0,LEN(G108)=0),\"\",IF('Base Values'!$B$8+(SUM($L108:$P108)/100)<0,0,'Base Values'!$B$8+(SUM(L108:P108)/100)))","v":""},null,{"$f":"IF(AND($T$13=TRUE,H108=1),'Loan - Extraneous'!B$3,IF(AND($T$13=TRUE,H108=2),'Loan - Extraneous'!C$3,0))","v":0},{"$f":"IF(I108=1,'Loan - Extraneous'!$B$4,IF(I108=2,'Loan - Extraneous'!$C$4,0))","v":0},{"$f":"IF(J108=1,'Loan - Extraneous'!$B$5,IF(J108=2,'Loan - Extraneous'!$C$5,0))","v":0}]
[null,null,null,null,null,null,null,null,null,null,"",{"$f":"IF(OR(LEN(B109)=0,LEN(C109)=0,LEN(D109)=0),\"\",IF(K109>=38,INDEX('Loan - Grade & Staple'!$A$1:$K$1000,MATCH($B109&$C109,'Loan - Grade & Staple'!$B$1:$B$1000&'Loan - Grade & Staple'!$C$1:$C$1000,0),MATCH(\"38+\",'Loan - Grade & Staple'!$A$3:$K$3,0)),IF(K109<=31,INDEX('Loan - Grade & Staple'!$A$1:$K$1000,MATCH($B109&$C109,'Loan - Grade & Staple'!$B$1:$B$1000&'Loan - Grade & Staple'!$C$1:$C$1000,0),MATCH(\"26-31\",'Loan - Grade & Staple'!$A$3:$K$3,0)),IF(ISNA(INDEX('Loan - Grade & Staple'!$A$1:$K$1000,MATCH($B109&C109,'Loan - Grade & Staple'!$B$1:$B$1000&'Loan - Grade & Staple'!$C$1:$C$1000,0),MATCH($K109,'Loan - Grade & Staple'!$A$3:$K$3,0))),-4000,INDEX('Loan - Grade & Staple'!$A$1:$K$1000,MATCH($B109&C109,'Loan - Grade & Staple'!$B$1:$B$1000&'Loan - Grade & Staple'!$C$1:$C$1000,0),MATCH($K109,'Loan - Grade & Staple'!$A$3:$K$3,0))))))","v":""},{"$f":"IF(LEN(E109)=0,\"\",INDEX('Loan - Strength'!$C$1:$C$18,MATCH(E109,'Loan - Strength'!$A$1:$A$18,1)))","v":""},{"$f":"IF(LEN(F109)=0,\"\",INDEX('Loan - Micronaire'!$C$1:$C$20,MATCH($F109,'Loan - Micronaire'!$A$1:$A$20,1)))","v":""},{"$f":"IF(LEN(G109)=0,\"\",INDEX('Loan - Uniformity'!$C$1:$C$20,MATCH($G109,'Loan - Uniformity'!$A$1:$A$20,1)))","v":""},"","",{"$f":"IF(OR(LEN(B109)=0,LEN(C109)=0,LEN(D109)=0,LEN(E109)=0,LEN(F109)=0,LEN(G109)=0),\"\",IF('Base Values'!$B$8+(SUM($L109:$P109)/100)<0,0,'Base Values'!$B$8+(SUM(L109:P109)/100)))","v":""},null,{"$f":"IF(AND($T$13=TRUE,H109=1),'Loan - Extraneous'!B$3,IF(AND($T$13=TRUE,H109=2),'Loan - Extraneous'!C$3,0))","v":0},{"$f":"IF(I109=1,'Loan - Extraneous'!$B$4,IF(I109=2,'Loan - Extraneous'!$C$4,0))","v":0},{"$f":"IF(J109=1,'Loan - Extraneous'!$B$5,IF(J109=2,'Loan - Extraneous'!$C$5,0))","v":0}]
[null,null,null,null,null,null,null,null,null,null,"",{"$f":"IF(OR(LEN(B110)=0,LEN(C110)=0,LEN(D110)=0),\"\",IF(K110>=38,INDEX('Loan - Grade & Staple'!$A$1:$K$1000,MATCH($B110&$C110,'Loan - Grade & Staple'!$B$1:$B$1000&'Loan - Grade & Staple'!$C$1:$C$1000,0),MATCH(\"38+\",'Loan - Grade & Staple'!$A$3:$K$3,0)),IF(K110<=31,INDEX('Loan - Grade & Staple'!$A$1:$K$1000,MATCH($B110&$C110,'Loan - Grade & Staple'!$B$1:$B$1000&'Loan - Grade & Staple'!$C$1:$C$1000,0),MATCH(\"26-31\",'Loan - Grade & Staple'!$A$3:$K$3,0)),IF(ISNA(INDEX('Loan - Grade & Staple'!$A$1:$K$1000,MATCH($B110&C110,'Loan - Grade & Staple'!$B$1:$B$1000&'Loan - Grade & Staple'!$C$1:$C$1000,0),MATCH($K110,'Loan - Grade & Staple'!$A$3:$K$3,0))),-4000,INDEX('Loan - Grade & Staple'!$A$1:$K$1000,MATCH($B110&C110,'Loan - Grade & Staple'!$B$1:$B$1000&'Loan - Grade & Staple'!$C$1:$C$1000,0),MATCH($K110,'Loan - Grade & Staple'!$A$3:$K$3,0))))))","v":""},{"$f":"IF(LEN(E110)=0,\"\",INDEX('Loan - Strength'!$C$1:$C$18,MATCH(E110,'Loan - Strength'!$A$1:$A$18,1)))","v":""},{"$f":"IF(LEN(F110)=0,\"\",INDEX('Loan - Micronaire'!$C$1:$C$20,MATCH($F110,'Loan - Micronaire'!$A$1:$A$20,1)))","v":""},{"$f":"IF(LEN(G110)=0,\"\",INDEX('Loan - Uniformity'!$C$1:$C$20,MATCH($G110,'Loan - Uniformity'!$A$1:$A$20,1)))","v":""},"","",{"$f":"IF(OR(LEN(B110)=0,LEN(C110)=0,LEN(D110)=0,LEN(E110)=0,LEN(F110)=0,LEN(G110)=0),\"\",IF('Base Values'!$B$8+(SUM($L110:$P110)/100)<0,0,'Base Values'!$B$8+(SUM(L110:P110)/100)))","v":""},null,{"$f":"IF(AND($T$13=TRUE,H110=1),'Loan - Extraneous'!B$3,IF(AND($T$13=TRUE,H110=2),'Loan - Extraneous'!C$3,0))","v":0},{"$f":"IF(I110=1,'Loan - Extraneous'!$B$4,IF(I110=2,'Loan - Extraneous'!$C$4,0))","v":0},{"$f":"IF(J110=1,'Loan - Extraneous'!$B$5,IF(J110=2,'Loan - Extraneous'!$C$5,0))","v":0}]
[null,null,null,null,null,null,null,null,null,null,"",{"$f":"IF(OR(LEN(B111)=0,LEN(C111)=0,LEN(D111)=0),\"\",IF(K111>=38,INDEX('Loan - Grade & Staple'!$A$1:$K$1000,MATCH($B111&$C111,'Loan - Grade & Staple'!$B$1:$B$1000&'Loan - Grade & Staple'!$C$1:$C$1000,0),MATCH(\"38+\",'Loan - Grade & Staple'!$A$3:$K$3,0)),IF(K111<=31,INDEX('Loan - Grade & Staple'!$A$1:$K$1000,MATCH($B111&$C111,'Loan - Grade & Staple'!$B$1:$B$1000&'Loan - Grade & Staple'!$C$1:$C$1000,0),MATCH(\"26-31\",'Loan - Grade & Staple'!$A$3:$K$3,0)),IF(ISNA(INDEX('Loan - Grade & Staple'!$A$1:$K$1000,MATCH($B111&C111,'Loan - Grade & Staple'!$B$1:$B$1000&'Loan - Grade & Staple'!$C$1:$C$1000,0),MATCH($K111,'Loan - Grade & Staple'!$A$3:$K$3,0))),-4000,INDEX('Loan - Grade & Staple'!$A$1:$K$1000,MATCH($B111&C111,'Loan - Grade & Staple'!$B$1:$B$1000&'Loan - Grade & Staple'!$C$1:$C$1000,0),MATCH($K111,'Loan - Grade & Staple'!$A$3:$K$3,0))))))","v":""},{"$f":"IF(LEN(E111)=0,\"\",INDEX('Loan - Strength'!$C$1:$C$18,MATCH(E111,'Loan - Strength'!$A$1:$A$18,1)))","v":""},{"$f":"IF(LEN(F111)=0,\"\",INDEX('Loan - Micronaire'!$C$1:$C$20,MATCH($F111,'Loan - Micronaire'!$A$1:$A$20,1)))","v":""},{"$f":"IF(LEN(G111)=0,\"\",INDEX('Loan - Uniformity'!$C$1:$C$20,MATCH($G111,'Loan - Uniformity'!$A$1:$A$20,1)))","v":""},"","",{"$f":"IF(OR(LEN(B111)=0,LEN(C111)=0,LEN(D111)=0,LEN(E111)=0,LEN(F111)=0,LEN(G111)=0),\"\",IF('Base Values'!$B$8+(SUM($L111:$P111)/100)<0,0,'Base Values'!$B$8+(SUM(L111:P111)/100)))","v":""},null,{"$f":"IF(AND($T$13=TRUE,H111=1),'Loan - Extraneous'!B$3,IF(AND($T$13=TRUE,H111=2),'Loan - Extraneous'!C$3,0))","v":0},{"$f":"IF(I111=1,'Loan - Extraneous'!$B$4,IF(I111=2,'Loan - Extraneous'!$C$4,0))","v":0},{"$f":"IF(J111=1,'Loan - Extraneous'!$B$5,IF(J111=2,'Loan - Extraneous'!$C$5,0))","v":0}]
[null,null,null,null,null,null,null,null,null,null,"",{"$f":"IF(OR(LEN(B112)=0,LEN(C112)=0,LEN(D112)=0),\"\",IF(K112>=38,INDEX('Loan - Grade & Staple'!$A$1:$K$1000,MATCH($B112&$C112,'Loan - Grade & Staple'!$B$1:$B$1000&'Loan - Grade & Staple'!$C$1:$C$1000,0),MATCH(\"38+\",'Loan - Grade & Staple'!$A$3:$K$3,0)),IF(K112<=31,INDEX('Loan - Grade & Staple'!$A$1:$K$1000,MATCH($B112&$C112,'Loan - Grade & Staple'!$B$1:$B$1000&'Loan - Grade & Staple'!$C$1:$C$1000,0),MATCH(\"26-31\",'Loan - Grade & Staple'!$A$3:$K$3,0)),IF(ISNA(INDEX('Loan - Grade & Staple'!$A$1:$K$1000,MATCH($B112&C112,'Loan - Grade & Staple'!$B$1:$B$1000&'Loan - Grade & Staple'!$C$1:$C$1000,0),MATCH($K112,'Loan - Grade & Staple'!$A$3:$K$3,0))),-4000,INDEX('Loan - Grade & Staple'!$A$1:$K$1000,MATCH($B112&C112,'Loan - Grade & Staple'!$B$1:$B$1000&'Loan - Grade & Staple'!$C$1:$C$1000,0),MATCH($K112,'Loan - Grade & Staple'!$A$3:$K$3,0))))))","v":""},{"$f":"IF(LEN(E112)=0,\"\",INDEX('Loan - Strength'!$C$1:$C$18,MATCH(E112,'Loan - Strength'!$A$1:$A$18,1)))","v":""},{"$f":"IF(LEN(F112)=0,\"\",INDEX('Loan - Micronaire'!$C$1:$C$20,MATCH($F112,'Loan - Micronaire'!$A$1:$A$20,1)))","v":""},{"$f":"IF(LEN(G112)=0,\"\",INDEX('Loan - Uniformity'!$C$1:$C$20,MATCH($G112,'Loan - Uniformity'!$A$1:$A$20,1)))","v":""},"","",{"$f":"IF(OR(LEN(B112)=0,LEN(C112)=0,LEN(D112)=0,LEN(E112)=0,LEN(F112)=0,LEN(G112)=0),\"\",IF('Base Values'!$B$8+(SUM($L112:$P112)/100)<0,0,'Base Values'!$B$8+(SUM(L112:P112)/100)))","v":""},null,{"$f":"IF(AND($T$13=TRUE,H112=1),'Loan - Extraneous'!B$3,IF(AND($T$13=TRUE,H112=2),'Loan - Extraneous'!C$3,0))","v":0},{"$f":"IF(I112=1,'Loan - Extraneous'!$B$4,IF(I112=2,'Loan - Extraneous'!$C$4,0))","v":0},{"$f":"IF(J112=1,'Loan - Extraneous'!$B$5,IF(J112=2,'Loan - Extraneous'!$C$5,0))","v":0}]
[null,null,null,null,null,null,null,null,null,null,"",{"$f":"IF(OR(LEN(B113)=0,LEN(C113)=0,LEN(D113)=0),\"\",IF(K113>=38,INDEX('Loan - Grade & Staple'!$A$1:$K$1000,MATCH($B113&$C113,'Loan - Grade & Staple'!$B$1:$B$1000&'Loan - Grade & Staple'!$C$1:$C$1000,0),MATCH(\"38+\",'Loan - Grade & Staple'!$A$3:$K$3,0)),IF(K113<=31,INDEX('Loan - Grade & Staple'!$A$1:$K$1000,MATCH($B113&$C113,'Loan - Grade & Staple'!$B$1:$B$1000&'Loan - Grade & Staple'!$C$1:$C$1000,0),MATCH(\"26-31\",'Loan - Grade & Staple'!$A$3:$K$3,0)),IF(ISNA(INDEX('Loan - Grade & Staple'!$A$1:$K$1000,MATCH($B113&C113,'Loan - Grade & Staple'!$B$1:$B$1000&'Loan - Grade & Staple'!$C$1:$C$1000,0),MATCH($K113,'Loan - Grade & Staple'!$A$3:$K$3,0))),-4000,INDEX('Loan - Grade & Staple'!$A$1:$K$1000,MATCH($B113&C113,'Loan - Grade & Staple'!$B$1:$B$1000&'Loan - Grade & Staple'!$C$1:$C$1000,0),MATCH($K113,'Loan - Grade & Staple'!$A$3:$K$3,0))))))","v":""},{"$f":"IF(LEN(E113)=0,\"\",INDEX('Loan - Strength'!$C$1:$C$18,MATCH(E113,'Loan - Strength'!$A$1:$A$18,1)))","v":""},{"$f":"IF(LEN(F113)=0,\"\",INDEX('Loan - Micronaire'!$C$1:$C$20,MATCH($F113,'Loan - Micronaire'!$A$1:$A$20,1)))","v":""},{"$f":"IF(LEN(G113)=0,\"\",INDEX('Loan - Uniformity'!$C$1:$C$20,MATCH($G113,'Loan - Uniformity'!$A$1:$A$20,1)))","v":""},"","",{"$f":"IF(OR(LEN(B113)=0,LEN(C113)=0,LEN(D113)=0,LEN(E113)=0,LEN(F113)=0,LEN(G113)=0),\"\",IF('Base Values'!$B$8+(SUM($L113:$P113)/100)<0,0,'Base Values'!$B$8+(SUM(L113:P113)/100)))","v":""},null,{"$f":"IF(AND($T$13=TRUE,H113=1),'Loan - Extraneous'!B$3,IF(AND($T$13=TRUE,H113=2),'Loan - Extraneous'!C$3,0))","v":0},{"$f":"IF(I113=1,'Loan - Extraneous'!$B$4,IF(I113=2,'Loan - Extraneous'!$C$4,0))","v":0},{"$f":"IF(J113=1,'Loan - Extraneous'!$B$5,IF(J113=2,'Loan - Extraneous'!$C$5,0))","v":0}]
[null,null,null,null,null,null,null,null,null,null,"",{"$f":"IF(OR(LEN(B114)=0,LEN(C114)=0,LEN(D114)=0),\"\",IF(K114>=38,INDEX('Loan - Grade & Staple'!$A$1:$K$1000,MATCH($B114&$C114,'Loan - Grade & Staple'!$B$1:$B$1000&'Loan - Grade & Staple'!$C$1:$C$1000,0),MATCH(\"38+\",'Loan - Grade & Staple'!$A$3:$K$3,0)),IF(K114<=31,INDEX('Loan - Grade & Staple'!$A$1:$K$1000,MATCH($B114&$C114,'Loan - Grade & Staple'!$B$1:$B$1000&'Loan - Grade & Staple'!$C$1:$C$1000,0),MATCH(\"26-31\",'Loan - Grade & Staple'!$A$3:$K$3,0)),IF(ISNA(INDEX('Loan - Grade & Staple'!$A$1:$K$1000,MATCH($B114&C114,'Loan - Grade & Staple'!$B$1:$B$1000&'Loan - Grade & Staple'!$C$1:$C$1000,0),MATCH($K114,'Loan - Grade & Staple'!$A$3:$K$3,0))),-4000,INDEX('Loan - Grade & Staple'!$A$1:$K$1000,MATCH($B114&C114,'Loan - Grade & Staple'!$B$1:$B$1000&'Loan - Grade & Staple'!$C$1:$C$1000,0),MATCH($K114,'Loan - Grade & Staple'!$A$3:$K$3,0))))))","v":""},{"$f":"IF(LEN(E114)=0,\"\",INDEX('Loan - Strength'!$C$1:$C$18,MATCH(E114,'Loan - Strength'!$A$1:$A$18,1)))","v":""},{"$f":"IF(LEN(F114)=0,\"\",INDEX('Loan - Micronaire'!$C$1:$C$20,MATCH($F114,'Loan - Micronaire'!$A$1:$A$20,1)))","v":""},{"$f":"IF(LEN(G114)=0,\"\",INDEX('Loan - Uniformity'!$C$1:$C$20,MATCH($G114,'Loan - Uniformity'!$A$1:$A$20,1)))","v":""},"","",{"$f":"IF(OR(LEN(B114)=0,LEN(C114)=0,LEN(D114)=0,LEN(E114)=0,LEN(F114)=0,LEN(G114)=0),\"\",IF('Base Values'!$B$8+(SUM($L114:$P114)/100)<0,0,'Base Values'!$B$8+(SUM(L114:P114)/100)))","v":""},null,{"$f":"IF(AND($T$13=TRUE,H114=1),'Loan - Extraneous'!B$3,IF(AND($T$13=TRUE,H114=2),'Loan - Extraneous'!C$3,0))","v":0},{"$f":"IF(I114=1,'Loan - Extraneous'!$B$4,IF(I114=2,'Loan - Extraneous'!$C$4,0))","v":0},{"$f":"IF(J114=1,'Loan - Extraneous'!$B$5,IF(J114=2,'Loan - Extraneous'!$C$5,0))","v":0}]
[null,null,null,null,null,null,null,null,null,null,"",{"$f":"IF(OR(LEN(B115)=0,LEN(C115)=0,LEN(D115)=0),\"\",IF(K115>=38,INDEX('Loan - Grade & Staple'!$A$1:$K$1000,MATCH($B115&$C115,'Loan - Grade & Staple'!$B$1:$B$1000&'Loan - Grade & Staple'!$C$1:$C$1000,0),MATCH(\"38+\",'Loan - Grade & Staple'!$A$3:$K$3,0)),IF(K115<=31,INDEX('Loan - Grade & Staple'!$A$1:$K$1000,MATCH($B115&$C115,'Loan - Grade & Staple'!$B$1:$B$1000&'Loan - Grade & Staple'!$C$1:$C$1000,0),MATCH(\"26-31\",'Loan - Grade & Staple'!$A$3:$K$3,0)),IF(ISNA(INDEX('Loan - Grade & Staple'!$A$1:$K$1000,MATCH($B115&C115,'Loan - Grade & Staple'!$B$1:$B$1000&'Loan - Grade & Staple'!$C$1:$C$1000,0),MATCH($K115,'Loan - Grade & Staple'!$A$3:$K$3,0))),-4000,INDEX('Loan - Grade & Staple'!$A$1:$K$1000,MATCH($B115&C115,'Loan - Grade & Staple'!$B$1:$B$1000&'Loan - Grade & Staple'!$C$1:$C$1000,0),MATCH($K115,'Loan - Grade & Staple'!$A$3:$K$3,0))))))","v":""},{"$f":"IF(LEN(E115)=0,\"\",INDEX('Loan - Strength'!$C$1:$C$18,MATCH(E115,'Loan - Strength'!$A$1:$A$18,1)))","v":""},{"$f":"IF(LEN(F115)=0,\"\",INDEX('Loan - Micronaire'!$C$1:$C$20,MATCH($F115,'Loan - Micronaire'!$A$1:$A$20,1)))","v":""},{"$f":"IF(LEN(G115)=0,\"\",INDEX('Loan - Uniformity'!$C$1:$C$20,MATCH($G115,'Loan - Uniformity'!$A$1:$A$20,1)))","v":""},"","",{"$f":"IF(OR(LEN(B115)=0,LEN(C115)=0,LEN(D115)=0,LEN(E115)=0,LEN(F115)=0,LEN(G115)=0),\"\",IF('Base Values'!$B$8+(SUM($L115:$P115)/100)<0,0,'Base Values'!$B$8+(SUM(L115:P115)/100)))","v":""},null,{"$f":"IF(AND($T$13=TRUE,H115=1),'Loan - Extraneous'!B$3,IF(AND($T$13=TRUE,H115=2),'Loan - Extraneous'!C$3,0))","v":0},{"$f":"IF(I115=1,'Loan - Extraneous'!$B$4,IF(I115=2,'Loan - Extraneous'!$C$4,0))","v":0},{"$f":"IF(J115=1,'Loan - Extraneous'!$B$5,IF(J115=2,'Loan - Extraneous'!$C$5,0))","v":0}]
[null,null,null,null,null,null,null,null,null,null,"",{"$f":"IF(OR(LEN(B116)=0,LEN(C116)=0,LEN(D116)=0),\"\",IF(K116>=38,INDEX('Loan - Grade & Staple'!$A$1:$K$1000,MATCH($B116&$C116,'Loan - Grade & Staple'!$B$1:$B$1000&'Loan - Grade & Staple'!$C$1:$C$1000,0),MATCH(\"38+\",'Loan - Grade & Staple'!$A$3:$K$3,0)),IF(K116<=31,INDEX('Loan - Grade & Staple'!$A$1:$K$1000,MATCH($B116&$C116,'Loan - Grade & Staple'!$B$1:$B$1000&'Loan - Grade & Staple'!$C$1:$C$1000,0),MATCH(\"26-31\",'Loan - Grade & Staple'!$A$3:$K$3,0)),IF(ISNA(INDEX('Loan - Grade & Staple'!$A$1:$K$1000,MATCH($B116&C116,'Loan - Grade & Staple'!$B$1:$B$1000&'Loan - Grade & Staple'!$C$1:$C$1000,0),MATCH($K116,'Loan - Grade & Staple'!$A$3:$K$3,0))),-4000,INDEX('Loan - Grade & Staple'!$A$1:$K$1000,MATCH($B116&C116,'Loan - Grade & Staple'!$B$1:$B$1000&'Loan - Grade & Staple'!$C$1:$C$1000,0),MATCH($K116,'Loan - Grade & Staple'!$A$3:$K$3,0))))))","v":""},{"$f":"IF(LEN(E116)=0,\"\",INDEX('Loan - Strength'!$C$1:$C$18,MATCH(E116,'Loan - Strength'!$A$1:$A$18,1)))","v":""},{"$f":"IF(LEN(F116)=0,\"\",INDEX('Loan - Micronaire'!$C$1:$C$20,MATCH($F116,'Loan - Micronaire'!$A$1:$A$20,1)))","v":""},{"$f":"IF(LEN(G116)=0,\"\",INDEX('Loan - Uniformity'!$C$1:$C$20,MATCH($G116,'Loan - Uniformity'!$A$1:$A$20,1)))","v":""},"","",{"$f":"IF(OR(LEN(B116)=0,LEN(C116)=0,LEN(D116)=0,LEN(E116)=0,LEN(F116)=0,LEN(G116)=0),\"\",IF('Base Values'!$B$8+(SUM($L116:$P116)/100)<0,0,'Base Values'!$B$8+(SUM(L116:P116)/100)))","v":""},null,{"$f":"IF(AND($T$13=TRUE,H116=1),'Loan - Extraneous'!B$3,IF(AND($T$13=TRUE,H116=2),'Loan - Extraneous'!C$3,0))","v":0},{"$f":"IF(I116=1,'Loan - Extraneous'!$B$4,IF(I116=2,'Loan - Extraneous'!$C$4,0))","v":0},{"$f":"IF(J116=1,'Loan - Extraneous'!$B$5,IF(J116=2,'Loan - Extraneous'!$C$5,0))","v":0}]
[null,null,null,null,null,null,null,null,null,null,"",{"$f":"IF(OR(LEN(B117)=0,LEN(C117)=0,LEN(D117)=0),\"\",IF(K117>=38,INDEX('Loan - Grade & Staple'!$A$1:$K$1000,MATCH($B117&$C117,'Loan - Grade & Staple'!$B$1:$B$1000&'Loan - Grade & Staple'!$C$1:$C$1000,0),MATCH(\"38+\",'Loan - Grade & Staple'!$A$3:$K$3,0)),IF(K117<=31,INDEX('Loan - Grade & Staple'!$A$1:$K$1000,MATCH($B117&$C117,'Loan - Grade & Staple'!$B$1:$B$1000&'Loan - Grade & Staple'!$C$1:$C$1000,0),MATCH(\"26-31\",'Loan - Grade & Staple'!$A$3:$K$3,0)),IF(ISNA(INDEX('Loan - Grade & Staple'!$A$1:$K$1000,MATCH($B117&C117,'Loan - Grade & Staple'!$B$1:$B$1000&'Loan - Grade & Staple'!$C$1:$C$1000,0),MATCH($K117,'Loan - Grade & Staple'!$A$3:$K$3,0))),-4000,INDEX('Loan - Grade & Staple'!$A$1:$K$1000,MATCH($B117&C117,'Loan - Grade & Staple'!$B$1:$B$1000&'Loan - Grade & Staple'!$C$1:$C$1000,0),MATCH($K117,'Loan - Grade & Staple'!$A$3:$K$3,0))))))","v":""},{"$f":"IF(LEN(E117)=0,\"\",INDEX('Loan - Strength'!$C$1:$C$18,MATCH(E117,'Loan - Strength'!$A$1:$A$18,1)))","v":""},{"$f":"IF(LEN(F117)=0,\"\",INDEX('Loan - Micronaire'!$C$1:$C$20,MATCH($F117,'Loan - Micronaire'!$A$1:$A$20,1)))","v":""},{"$f":"IF(LEN(G117)=0,\"\",INDEX('Loan - Uniformity'!$C$1:$C$20,MATCH($G117,'Loan - Uniformity'!$A$1:$A$20,1)))","v":""},"","",{"$f":"IF(OR(LEN(B117)=0,LEN(C117)=0,LEN(D117)=0,LEN(E117)=0,LEN(F117)=0,LEN(G117)=0),\"\",IF('Base Values'!$B$8+(SUM($L117:$P117)/100)<0,0,'Base Values'!$B$8+(SUM(L117:P117)/100)))","v":""},null,{"$f":"IF(AND($T$13=TRUE,H117=1),'Loan - Extraneous'!B$3,IF(AND($T$13=TRUE,H117=2),'Loan - Extraneous'!C$3,0))","v":0},{"$f":"IF(I117=1,'Loan - Extraneous'!$B$4,IF(I117=2,'Loan - Extraneous'!$C$4,0))","v":0},{"$f":"IF(J117=1,'Loan - Extraneous'!$B$5,IF(J117=2,'Loan - Extraneous'!$C$5,0))","v":0}]
[null,null,null,null,null,null,null,null,null,null,"",{"$f":"IF(OR(LEN(B118)=0,LEN(C118)=0,LEN(D118)=0),\"\",IF(K118>=38,INDEX('Loan - Grade & Staple'!$A$1:$K$1000,MATCH($B118&$C118,'Loan - Grade & Staple'!$B$1:$B$1000&'Loan - Grade & Staple'!$C$1:$C$1000,0),MATCH(\"38+\",'Loan - Grade & Staple'!$A$3:$K$3,0)),IF(K118<=31,INDEX('Loan - Grade & Staple'!$A$1:$K$1000,MATCH($B118&$C118,'Loan - Grade & Staple'!$B$1:$B$1000&'Loan - Grade & Staple'!$C$1:$C$1000,0),MATCH(\"26-31\",'Loan - Grade & Staple'!$A$3:$K$3,0)),IF(ISNA(INDEX('Loan - Grade & Staple'!$A$1:$K$1000,MATCH($B118&C118,'Loan - Grade & Staple'!$B$1:$B$1000&'Loan - Grade & Staple'!$C$1:$C$1000,0),MATCH($K118,'Loan - Grade & Staple'!$A$3:$K$3,0))),-4000,INDEX('Loan - Grade & Staple'!$A$1:$K$1000,MATCH($B118&C118,'Loan - Grade & Staple'!$B$1:$B$1000&'Loan - Grade & Staple'!$C$1:$C$1000,0),MATCH($K118,'Loan - Grade & Staple'!$A$3:$K$3,0))))))","v":""},{"$f":"IF(LEN(E118)=0,\"\",INDEX('Loan - Strength'!$C$1:$C$18,MATCH(E118,'Loan - Strength'!$A$1:$A$18,1)))","v":""},{"$f":"IF(LEN(F118)=0,\"\",INDEX('Loan - Micronaire'!$C$1:$C$20,MATCH($F118,'Loan - Micronaire'!$A$1:$A$20,1)))","v":""},{"$f":"IF(LEN(G118)=0,\"\",INDEX('Loan - Uniformity'!$C$1:$C$20,MATCH($G118,'Loan - Uniformity'!$A$1:$A$20,1)))","v":""},"","",{"$f":"IF(OR(LEN(B118)=0,LEN(C118)=0,LEN(D118)=0,LEN(E118)=0,LEN(F118)=0,LEN(G118)=0),\"\",IF('Base Values'!$B$8+(SUM($L118:$P118)/100)<0,0,'Base Values'!$B$8+(SUM(L118:P118)/100)))","v":""},null,{"$f":"IF(AND($T$13=TRUE,H118=1),'Loan - Extraneous'!B$3,IF(AND($T$13=TRUE,H118=2),'Loan - Extraneous'!C$3,0))","v":0},{"$f":"IF(I118=1,'Loan - Extraneous'!$B$4,IF(I118=2,'Loan - Extraneous'!$C$4,0))","v":0},{"$f":"IF(J118=1,'Loan - Extraneous'!$B$5,IF(J118=2,'Loan - Extraneous'!$C$5,0))","v":0}]
[null,null,null,null,null,null,null,null,null,null,"",{"$f":"IF(OR(LEN(B119)=0,LEN(C119)=0,LEN(D119)=0),\"\",IF(K119>=38,INDEX('Loan - Grade & Staple'!$A$1:$K$1000,MATCH($B119&$C119,'Loan - Grade & Staple'!$B$1:$B$1000&'Loan - Grade & Staple'!$C$1:$C$1000,0),MATCH(\"38+\",'Loan - Grade & Staple'!$A$3:$K$3,0)),IF(K119<=31,INDEX('Loan - Grade & Staple'!$A$1:$K$1000,MATCH($B119&$C119,'Loan - Grade & Staple'!$B$1:$B$1000&'Loan - Grade & Staple'!$C$1:$C$1000,0),MATCH(\"26-31\",'Loan - Grade & Staple'!$A$3:$K$3,0)),IF(ISNA(INDEX('Loan - Grade & Staple'!$A$1:$K$1000,MATCH($B119&C119,'Loan - Grade & Staple'!$B$1:$B$1000&'Loan - Grade & Staple'!$C$1:$C$1000,0),MATCH($K119,'Loan - Grade & Staple'!$A$3:$K$3,0))),-4000,INDEX('Loan - Grade & Staple'!$A$1:$K$1000,MATCH($B119&C119,'Loan - Grade & Staple'!$B$1:$B$1000&'Loan - Grade & Staple'!$C$1:$C$1000,0),MATCH($K119,'Loan - Grade & Staple'!$A$3:$K$3,0))))))","v":""},{"$f":"IF(LEN(E119)=0,\"\",INDEX('Loan - Strength'!$C$1:$C$18,MATCH(E119,'Loan - Strength'!$A$1:$A$18,1)))","v":""},{"$f":"IF(LEN(F119)=0,\"\",INDEX('Loan - Micronaire'!$C$1:$C$20,MATCH($F119,'Loan - Micronaire'!$A$1:$A$20,1)))","v":""},{"$f":"IF(LEN(G119)=0,\"\",INDEX('Loan - Uniformity'!$C$1:$C$20,MATCH($G119,'Loan - Uniformity'!$A$1:$A$20,1)))","v":""},"","",{"$f":"IF(OR(LEN(B119)=0,LEN(C119)=0,LEN(D119)=0,LEN(E119)=0,LEN(F119)=0,LEN(G119)=0),\"\",IF('Base Values'!$B$8+(SUM($L119:$P119)/100)<0,0,'Base Values'!$B$8+(SUM(L119:P119)/100)))","v":""},null,{"$f":"IF(AND($T$13=TRUE,H119=1),'Loan - Extraneous'!B$3,IF(AND($T$13=TRUE,H119=2),'Loan - Extraneous'!C$3,0))","v":0},{"$f":"IF(I119=1,'Loan - Extraneous'!$B$4,IF(I119=2,'Loan - Extraneous'!$C$4,0))","v":0},{"$f":"IF(J119=1,'Loan - Extraneous'!$B$5,IF(J119=2,'Loan - Extraneous'!$C$5,0))","v":0}]
[null,null,null,null,null,null,null,null,null,null,"",{"$f":"IF(OR(LEN(B120)=0,LEN(C120)=0,LEN(D120)=0),\"\",IF(K120>=38,INDEX('Loan - Grade & Staple'!$A$1:$K$1000,MATCH($B120&$C120,'Loan - Grade & Staple'!$B$1:$B$1000&'Loan - Grade & Staple'!$C$1:$C$1000,0),MATCH(\"38+\",'Loan - Grade & Staple'!$A$3:$K$3,0)),IF(K120<=31,INDEX('Loan - Grade & Staple'!$A$1:$K$1000,MATCH($B120&$C120,'Loan - Grade & Staple'!$B$1:$B$1000&'Loan - Grade & Staple'!$C$1:$C$1000,0),MATCH(\"26-31\",'Loan - Grade & Staple'!$A$3:$K$3,0)),IF(ISNA(INDEX('Loan - Grade & Staple'!$A$1:$K$1000,MATCH($B120&C120,'Loan - Grade & Staple'!$B$1:$B$1000&'Loan - Grade & Staple'!$C$1:$C$1000,0),MATCH($K120,'Loan - Grade & Staple'!$A$3:$K$3,0))),-4000,INDEX('Loan - Grade & Staple'!$A$1:$K$1000,MATCH($B120&C120,'Loan - Grade & Staple'!$B$1:$B$1000&'Loan - Grade & Staple'!$C$1:$C$1000,0),MATCH($K120,'Loan - Grade & Staple'!$A$3:$K$3,0))))))","v":""},{"$f":"IF(LEN(E120)=0,\"\",INDEX('Loan - Strength'!$C$1:$C$18,MATCH(E120,'Loan - Strength'!$A$1:$A$18,1)))","v":""},{"$f":"IF(LEN(F120)=0,\"\",INDEX('Loan - Micronaire'!$C$1:$C$20,MATCH($F120,'Loan - Micronaire'!$A$1:$A$20,1)))","v":""},{"$f":"IF(LEN(G120)=0,\"\",INDEX('Loan - Uniformity'!$C$1:$C$20,MATCH($G120,'Loan - Uniformity'!$A$1:$A$20,1)))","v":""},"","",{"$f":"IF(OR(LEN(B120)=0,LEN(C120)=0,LEN(D120)=0,LEN(E120)=0,LEN(F120)=0,LEN(G120)=0),\"\",IF('Base Values'!$B$8+(SUM($L120:$P120)/100)<0,0,'Base Values'!$B$8+(SUM(L120:P120)/100)))","v":""},null,{"$f":"IF(AND($T$13=TRUE,H120=1),'Loan - Extraneous'!B$3,IF(AND($T$13=TRUE,H120=2),'Loan - Extraneous'!C$3,0))","v":0},{"$f":"IF(I120=1,'Loan - Extraneous'!$B$4,IF(I120=2,'Loan - Extraneous'!$C$4,0))","v":0},{"$f":"IF(J120=1,'Loan - Extraneous'!$B$5,IF(J120=2,'Loan - Extraneous'!$C$5,0))","v":0}]
[null,null,null,null,null,null,null,null,null,null,"",{"$f":"IF(OR(LEN(B121)=0,LEN(C121)=0,LEN(D121)=0),\"\",IF(K121>=38,INDEX('Loan - Grade & Staple'!$A$1:$K$1000,MATCH($B121&$C121,'Loan - Grade & Staple'!$B$1:$B$1000&'Loan - Grade & Staple'!$C$1:$C$1000,0),MATCH(\"38+\",'Loan - Grade & Staple'!$A$3:$K$3,0)),IF(K121<=31,INDEX('Loan - Grade & Staple'!$A$1:$K$1000,MATCH($B121&$C121,'Loan - Grade & Staple'!$B$1:$B$1000&'Loan - Grade & Staple'!$C$1:$C$1000,0),MATCH(\"26-31\",'Loan - Grade & Staple'!$A$3:$K$3,0)),IF(ISNA(INDEX('Loan - Grade & Staple'!$A$1:$K$1000,MATCH($B121&C121,'Loan - Grade & Staple'!$B$1:$B$1000&'Loan - Grade & Staple'!$C$1:$C$1000,0),MATCH($K121,'Loan - Grade & Staple'!$A$3:$K$3,0))),-4000,INDEX('Loan - Grade & Staple'!$A$1:$K$1000,MATCH($B121&C121,'Loan - Grade & Staple'!$B$1:$B$1000&'Loan - Grade & Staple'!$C$1:$C$1000,0),MATCH($K121,'Loan - Grade & Staple'!$A$3:$K$3,0))))))","v":""},{"$f":"IF(LEN(E121)=0,\"\",INDEX('Loan - Strength'!$C$1:$C$18,MATCH(E121,'Loan - Strength'!$A$1:$A$18,1)))","v":""},{"$f":"IF(LEN(F121)=0,\"\",INDEX('Loan - Micronaire'!$C$1:$C$20,MATCH($F121,'Loan - Micronaire'!$A$1:$A$20,1)))","v":""},{"$f":"IF(LEN(G121)=0,\"\",INDEX('Loan - Uniformity'!$C$1:$C$20,MATCH($G121,'Loan - Uniformity'!$A$1:$A$20,1)))","v":""},"","",{"$f":"IF(OR(LEN(B121)=0,LEN(C121)=0,LEN(D121)=0,LEN(E121)=0,LEN(F121)=0,LEN(G121)=0),\"\",IF('Base Values'!$B$8+(SUM($L121:$P121)/100)<0,0,'Base Values'!$B$8+(SUM(L121:P121)/100)))","v":""},null,{"$f":"IF(AND($T$13=TRUE,H121=1),'Loan - Extraneous'!B$3,IF(AND($T$13=TRUE,H121=2),'Loan - Extraneous'!C$3,0))","v":0},{"$f":"IF(I121=1,'Loan - Extraneous'!$B$4,IF(I121=2,'Loan - Extraneous'!$C$4,0))","v":0},{"$f":"IF(J121=1,'Loan - Extraneous'!$B$5,IF(J121=2,'Loan - Extraneous'!$C$5,0))","v":0}]
[null,null,null,null,null,null,null,null,null,null,"",{"$f":"IF(OR(LEN(B122)=0,LEN(C122)=0,LEN(D122)=0),\"\",IF(K122>=38,INDEX('Loan - Grade & Staple'!$A$1:$K$1000,MATCH($B122&$C122,'Loan - Grade & Staple'!$B$1:$B$1000&'Loan - Grade & Staple'!$C$1:$C$1000,0),MATCH(\"38+\",'Loan - Grade & Staple'!$A$3:$K$3,0)),IF(K122<=31,INDEX('Loan - Grade & Staple'!$A$1:$K$1000,MATCH($B122&$C122,'Loan - Grade & Staple'!$B$1:$B$1000&'Loan - Grade & Staple'!$C$1:$C$1000,0),MATCH(\"26-31\",'Loan - Grade & Staple'!$A$3:$K$3,0)),IF(ISNA(INDEX('Loan - Grade & Staple'!$A$1:$K$1000,MATCH($B122&C122,'Loan - Grade & Staple'!$B$1:$B$1000&'Loan - Grade & Staple'!$C$1:$C$1000,0),MATCH($K122,'Loan - Grade & Staple'!$A$3:$K$3,0))),-4000,INDEX('Loan - Grade & Staple'!$A$1:$K$1000,MATCH($B122&C122,'Loan - Grade & Staple'!$B$1:$B$1000&'Loan - Grade & Staple'!$C$1:$C$1000,0),MATCH($K122,'Loan - Grade & Staple'!$A$3:$K$3,0))))))","v":""},{"$f":"IF(LEN(E122)=0,\"\",INDEX('Loan - Strength'!$C$1:$C$18,MATCH(E122,'Loan - Strength'!$A$1:$A$18,1)))","v":""},{"$f":"IF(LEN(F122)=0,\"\",INDEX('Loan - Micronaire'!$C$1:$C$20,MATCH($F122,'Loan - Micronaire'!$A$1:$A$20,1)))","v":""},{"$f":"IF(LEN(G122)=0,\"\",INDEX('Loan - Uniformity'!$C$1:$C$20,MATCH($G122,'Loan - Uniformity'!$A$1:$A$20,1)))","v":""},"","",{"$f":"IF(OR(LEN(B122)=0,LEN(C122)=0,LEN(D122)=0,LEN(E122)=0,LEN(F122)=0,LEN(G122)=0),\"\",IF('Base Values'!$B$8+(SUM($L122:$P122)/100)<0,0,'Base Values'!$B$8+(SUM(L122:P122)/100)))","v":""},null,{"$f":"IF(AND($T$13=TRUE,H122=1),'Loan - Extraneous'!B$3,IF(AND($T$13=TRUE,H122=2),'Loan - Extraneous'!C$3,0))","v":0},{"$f":"IF(I122=1,'Loan - Extraneous'!$B$4,IF(I122=2,'Loan - Extraneous'!$C$4,0))","v":0},{"$f":"IF(J122=1,'Loan - Extraneous'!$B$5,IF(J122=2,'Loan - Extraneous'!$C$5,0))","v":0}]
[null,null,null,null,null,null,null,null,null,null,"",{"$f":"IF(OR(LEN(B123)=0,LEN(C123)=0,LEN(D123)=0),\"\",IF(K123>=38,INDEX('Loan - Grade & Staple'!$A$1:$K$1000,MATCH($B123&$C123,'Loan - Grade & Staple'!$B$1:$B$1000&'Loan - Grade & Staple'!$C$1:$C$1000,0),MATCH(\"38+\",'Loan - Grade & Staple'!$A$3:$K$3,0)),IF(K123<=31,INDEX('Loan - Grade & Staple'!$A$1:$K$1000,MATCH($B123&$C123,'Loan - Grade & Staple'!$B$1:$B$1000&'Loan - Grade & Staple'!$C$1:$C$1000,0),MATCH(\"26-31\",'Loan - Grade & Staple'!$A$3:$K$3,0)),IF(ISNA(INDEX('Loan - Grade & Staple'!$A$1:$K$1000,MATCH($B123&C123,'Loan - Grade & Staple'!$B$1:$B$1000&'Loan - Grade & Staple'!$C$1:$C$1000,0),MATCH($K123,'Loan - Grade & Staple'!$A$3:$K$3,0))),-4000,INDEX('Loan - Grade & Staple'!$A$1:$K$1000,MATCH($B123&C123,'Loan - Grade & Staple'!$B$1:$B$1000&'Loan - Grade & Staple'!$C$1:$C$1000,0),MATCH($K123,'Loan - Grade & Staple'!$A$3:$K$3,0))))))","v":""},{"$f":"IF(LEN(E123)=0,\"\",INDEX('Loan - Strength'!$C$1:$C$18,MATCH(E123,'Loan - Strength'!$A$1:$A$18,1)))","v":""},{"$f":"IF(LEN(F123)=0,\"\",INDEX('Loan - Micronaire'!$C$1:$C$20,MATCH($F123,'Loan - Micronaire'!$A$1:$A$20,1)))","v":""},{"$f":"IF(LEN(G123)=0,\"\",INDEX('Loan - Uniformity'!$C$1:$C$20,MATCH($G123,'Loan - Uniformity'!$A$1:$A$20,1)))","v":""},"","",{"$f":"IF(OR(LEN(B123)=0,LEN(C123)=0,LEN(D123)=0,LEN(E123)=0,LEN(F123)=0,LEN(G123)=0),\"\",IF('Base Values'!$B$8+(SUM($L123:$P123)/100)<0,0,'Base Values'!$B$8+(SUM(L123:P123)/100)))","v":""},null,{"$f":"IF(AND($T$13=TRUE,H123=1),'Loan - Extraneous'!B$3,IF(AND($T$13=TRUE,H123=2),'Loan - Extraneous'!C$3,0))","v":0},{"$f":"IF(I123=1,'Loan - Extraneous'!$B$4,IF(I123=2,'Loan - Extraneous'!$C$4,0))","v":0},{"$f":"IF(J123=1,'Loan - Extraneous'!$B$5,IF(J123=2,'Loan - Extraneous'!$C$5,0))","v":0}]
[null,null,null,null,null,null,null,null,null,null,"",{"$f":"IF(OR(LEN(B124)=0,LEN(C124)=0,LEN(D124)=0),\"\",IF(K124>=38,INDEX('Loan - Grade & Staple'!$A$1:$K$1000,MATCH($B124&$C124,'Loan - Grade & Staple'!$B$1:$B$1000&'Loan - Grade & Staple'!$C$1:$C$1000,0),MATCH(\"38+\",'Loan - Grade & Staple'!$A$3:$K$3,0)),IF(K124<=31,INDEX('Loan - Grade & Staple'!$A$1:$K$1000,MATCH($B124&$C124,'Loan - Grade & Staple'!$B$1:$B$1000&'Loan - Grade & Staple'!$C$1:$C$1000,0),MATCH(\"26-31\",'Loan - Grade & Staple'!$A$3:$K$3,0)),IF(ISNA(INDEX('Loan - Grade & Staple'!$A$1:$K$1000,MATCH($B124&C124,'Loan - Grade & Staple'!$B$1:$B$1000&'Loan - Grade & Staple'!$C$1:$C$1000,0),MATCH($K124,'Loan - Grade & Staple'!$A$3:$K$3,0))),-4000,INDEX('Loan - Grade & Staple'!$A$1:$K$1000,MATCH($B124&C124,'Loan - Grade & Staple'!$B$1:$B$1000&'Loan - Grade & Staple'!$C$1:$C$1000,0),MATCH($K124,'Loan - Grade & Staple'!$A$3:$K$3,0))))))","v":""},{"$f":"IF(LEN(E124)=0,\"\",INDEX('Loan - Strength'!$C$1:$C$18,MATCH(E124,'Loan - Strength'!$A$1:$A$18,1)))","v":""},{"$f":"IF(LEN(F124)=0,\"\",INDEX('Loan - Micronaire'!$C$1:$C$20,MATCH($F124,'Loan - Micronaire'!$A$1:$A$20,1)))","v":""},{"$f":"IF(LEN(G124)=0,\"\",INDEX('Loan - Uniformity'!$C$1:$C$20,MATCH($G124,'Loan - Uniformity'!$A$1:$A$20,1)))","v":""},"","",{"$f":"IF(OR(LEN(B124)=0,LEN(C124)=0,LEN(D124)=0,LEN(E124)=0,LEN(F124)=0,LEN(G124)=0),\"\",IF('Base Values'!$B$8+(SUM($L124:$P124)/100)<0,0,'Base Values'!$B$8+(SUM(L124:P124)/100)))","v":""},null,{"$f":"IF(AND($T$13=TRUE,H124=1),'Loan - Extraneous'!B$3,IF(AND($T$13=TRUE,H124=2),'Loan - Extraneous'!C$3,0))","v":0},{"$f":"IF(I124=1,'Loan - Extraneous'!$B$4,IF(I124=2,'Loan - Extraneous'!$C$4,0))","v":0},{"$f":"IF(J124=1,'Loan - Extraneous'!$B$5,IF(J124=2,'Loan - Extraneous'!$C$5,0))","v":0}]
[null,null,null,null,null,null,null,null,null,null,"",{"$f":"IF(OR(LEN(B125)=0,LEN(C125)=0,LEN(D125)=0),\"\",IF(K125>=38,INDEX('Loan - Grade & Staple'!$A$1:$K$1000,MATCH($B125&$C125,'Loan - Grade & Staple'!$B$1:$B$1000&'Loan - Grade & Staple'!$C$1:$C$1000,0),MATCH(\"38+\",'Loan - Grade & Staple'!$A$3:$K$3,0)),IF(K125<=31,INDEX('Loan - Grade & Staple'!$A$1:$K$1000,MATCH($B125&$C125,'Loan - Grade & Staple'!$B$1:$B$1000&'Loan - Grade & Staple'!$C$1:$C$1000,0),MATCH(\"26-31\",'Loan - Grade & Staple'!$A$3:$K$3,0)),IF(ISNA(INDEX('Loan - Grade & Staple'!$A$1:$K$1000,MATCH($B125&C125,'Loan - Grade & Staple'!$B$1:$B$1000&'Loan - Grade & Staple'!$C$1:$C$1000,0),MATCH($K125,'Loan - Grade & Staple'!$A$3:$K$3,0))),-4000,INDEX('Loan - Grade & Staple'!$A$1:$K$1000,MATCH($B125&C125,'Loan - Grade & Staple'!$B$1:$B$1000&'Loan - Grade & Staple'!$C$1:$C$1000,0),MATCH($K125,'Loan - Grade & Staple'!$A$3:$K$3,0))))))","v":""},{"$f":"IF(LEN(E125)=0,\"\",INDEX('Loan - Strength'!$C$1:$C$18,MATCH(E125,'Loan - Strength'!$A$1:$A$18,1)))","v":""},{"$f":"IF(LEN(F125)=0,\"\",INDEX('Loan - Micronaire'!$C$1:$C$20,MATCH($F125,'Loan - Micronaire'!$A$1:$A$20,1)))","v":""},{"$f":"IF(LEN(G125)=0,\"\",INDEX('Loan - Uniformity'!$C$1:$C$20,MATCH($G125,'Loan - Uniformity'!$A$1:$A$20,1)))","v":""},"","",{"$f":"IF(OR(LEN(B125)=0,LEN(C125)=0,LEN(D125)=0,LEN(E125)=0,LEN(F125)=0,LEN(G125)=0),\"\",IF('Base Values'!$B$8+(SUM($L125:$P125)/100)<0,0,'Base Values'!$B$8+(SUM(L125:P125)/100)))","v":""},null,{"$f":"IF(AND($T$13=TRUE,H125=1),'Loan - Extraneous'!B$3,IF(AND($T$13=TRUE,H125=2),'Loan - Extraneous'!C$3,0))","v":0},{"$f":"IF(I125=1,'Loan - Extraneous'!$B$4,IF(I125=2,'Loan - Extraneous'!$C$4,0))","v":0},{"$f":"IF(J125=1,'Loan - Extraneous'!$B$5,IF(J125=2,'Loan - Extraneous'!$C$5,0))","v":0}]
[null,null,null,null,null,null,null,null,null,null,"",{"$f":"IF(OR(LEN(B126)=0,LEN(C126)=0,LEN(D126)=0),\"\",IF(K126>=38,INDEX('Loan - Grade & Staple'!$A$1:$K$1000,MATCH($B126&$C126,'Loan - Grade & Staple'!$B$1:$B$1000&'Loan - Grade & Staple'!$C$1:$C$1000,0),MATCH(\"38+\",'Loan - Grade & Staple'!$A$3:$K$3,0)),IF(K126<=31,INDEX('Loan - Grade & Staple'!$A$1:$K$1000,MATCH($B126&$C126,'Loan - Grade & Staple'!$B$1:$B$1000&'Loan - Grade & Staple'!$C$1:$C$1000,0),MATCH(\"26-31\",'Loan - Grade & Staple'!$A$3:$K$3,0)),IF(ISNA(INDEX('Loan - Grade & Staple'!$A$1:$K$1000,MATCH($B126&C126,'Loan - Grade & Staple'!$B$1:$B$1000&'Loan - Grade & Staple'!$C$1:$C$1000,0),MATCH($K126,'Loan - Grade & Staple'!$A$3:$K$3,0))),-4000,INDEX('Loan - Grade & Staple'!$A$1:$K$1000,MATCH($B126&C126,'Loan - Grade & Staple'!$B$1:$B$1000&'Loan - Grade & Staple'!$C$1:$C$1000,0),MATCH($K126,'Loan - Grade & Staple'!$A$3:$K$3,0))))))","v":""},{"$f":"IF(LEN(E126)=0,\"\",INDEX('Loan - Strength'!$C$1:$C$18,MATCH(E126,'Loan - Strength'!$A$1:$A$18,1)))","v":""},{"$f":"IF(LEN(F126)=0,\"\",INDEX('Loan - Micronaire'!$C$1:$C$20,MATCH($F126,'Loan - Micronaire'!$A$1:$A$20,1)))","v":""},{"$f":"IF(LEN(G126)=0,\"\",INDEX('Loan - Uniformity'!$C$1:$C$20,MATCH($G126,'Loan - Uniformity'!$A$1:$A$20,1)))","v":""},"","",{"$f":"IF(OR(LEN(B126)=0,LEN(C126)=0,LEN(D126)=0,LEN(E126)=0,LEN(F126)=0,LEN(G126)=0),\"\",IF('Base Values'!$B$8+(SUM($L126:$P126)/100)<0,0,'Base Values'!$B$8+(SUM(L126:P126)/100)))","v":""},null,{"$f":"IF(AND($T$13=TRUE,H126=1),'Loan - Extraneous'!B$3,IF(AND($T$13=TRUE,H126=2),'Loan - Extraneous'!C$3,0))","v":0},{"$f":"IF(I126=1,'Loan - Extraneous'!$B$4,IF(I126=2,'Loan - Extraneous'!$C$4,0))","v":0},{"$f":"IF(J126=1,'Loan - Extraneous'!$B$5,IF(J126=2,'Loan - Extraneous'!$C$5,0))","v":0}]
[null,null,null,null,null,null,null,null,null,null,"",{"$f":"IF(OR(LEN(B127)=0,LEN(C127)=0,LEN(D127)=0),\"\",IF(K127>=38,INDEX('Loan - Grade & Staple'!$A$1:$K$1000,MATCH($B127&$C127,'Loan - Grade & Staple'!$B$1:$B$1000&'Loan - Grade & Staple'!$C$1:$C$1000,0),MATCH(\"38+\",'Loan - Grade & Staple'!$A$3:$K$3,0)),IF(K127<=31,INDEX('Loan - Grade & Staple'!$A$1:$K$1000,MATCH($B127&$C127,'Loan - Grade & Staple'!$B$1:$B$1000&'Loan - Grade & Staple'!$C$1:$C$1000,0),MATCH(\"26-31\",'Loan - Grade & Staple'!$A$3:$K$3,0)),IF(ISNA(INDEX('Loan - Grade & Staple'!$A$1:$K$1000,MATCH($B127&C127,'Loan - Grade & Staple'!$B$1:$B$1000&'Loan - Grade & Staple'!$C$1:$C$1000,0),MATCH($K127,'Loan - Grade & Staple'!$A$3:$K$3,0))),-4000,INDEX('Loan - Grade & Staple'!$A$1:$K$1000,MATCH($B127&C127,'Loan - Grade & Staple'!$B$1:$B$1000&'Loan - Grade & Staple'!$C$1:$C$1000,0),MATCH($K127,'Loan - Grade & Staple'!$A$3:$K$3,0))))))","v":""},{"$f":"IF(LEN(E127)=0,\"\",INDEX('Loan - Strength'!$C$1:$C$18,MATCH(E127,'Loan - Strength'!$A$1:$A$18,1)))","v":""},{"$f":"IF(LEN(F127)=0,\"\",INDEX('Loan - Micronaire'!$C$1:$C$20,MATCH($F127,'Loan - Micronaire'!$A$1:$A$20,1)))","v":""},{"$f":"IF(LEN(G127)=0,\"\",INDEX('Loan - Uniformity'!$C$1:$C$20,MATCH($G127,'Loan - Uniformity'!$A$1:$A$20,1)))","v":""},"","",{"$f":"IF(OR(LEN(B127)=0,LEN(C127)=0,LEN(D127)=0,LEN(E127)=0,LEN(F127)=0,LEN(G127)=0),\"\",IF('Base Values'!$B$8+(SUM($L127:$P127)/100)<0,0,'Base Values'!$B$8+(SUM(L127:P127)/100)))","v":""},null,{"$f":"IF(AND($T$13=TRUE,H127=1),'Loan - Extraneous'!B$3,IF(AND($T$13=TRUE,H127=2),'Loan - Extraneous'!C$3,0))","v":0},{"$f":"IF(I127=1,'Loan - Extraneous'!$B$4,IF(I127=2,'Loan - Extraneous'!$C$4,0))","v":0},{"$f":"IF(J127=1,'Loan - Extraneous'!$B$5,IF(J127=2,'Loan - Extraneous'!$C$5,0))","v":0}]
[null,null,null,null,null,null,null,null,null,null,"",{"$f":"IF(OR(LEN(B128)=0,LEN(C128)=0,LEN(D128)=0),\"\",IF(K128>=38,INDEX('Loan - Grade & Staple'!$A$1:$K$1000,MATCH($B128&$C128,'Loan - Grade & Staple'!$B$1:$B$1000&'Loan - Grade & Staple'!$C$1:$C$1000,0),MATCH(\"38+\",'Loan - Grade & Staple'!$A$3:$K$3,0)),IF(K128<=31,INDEX('Loan - Grade & Staple'!$A$1:$K$1000,MATCH($B128&$C128,'Loan - Grade & Staple'!$B$1:$B$1000&'Loan - Grade & Staple'!$C$1:$C$1000,0),MATCH(\"26-31\",'Loan - Grade & Staple'!$A$3:$K$3,0)),IF(ISNA(INDEX('Loan - Grade & Staple'!$A$1:$K$1000,MATCH($B128&C128,'Loan - Grade & Staple'!$B$1:$B$1000&'Loan - Grade & Staple'!$C$1:$C$1000,0),MATCH($K128,'Loan - Grade & Staple'!$A$3:$K$3,0))),-4000,INDEX('Loan - Grade & Staple'!$A$1:$K$1000,MATCH($B128&C128,'Loan - Grade & Staple'!$B$1:$B$1000&'Loan - Grade & Staple'!$C$1:$C$1000,0),MATCH($K128,'Loan - Grade & Staple'!$A$3:$K$3,0))))))","v":""},{"$f":"IF(LEN(E128)=0,\"\",INDEX('Loan - Strength'!$C$1:$C$18,MATCH(E128,'Loan - Strength'!$A$1:$A$18,1)))","v":""},{"$f":"IF(LEN(F128)=0,\"\",INDEX('Loan - Micronaire'!$C$1:$C$20,MATCH($F128,'Loan - Micronaire'!$A$1:$A$20,1)))","v":""},{"$f":"IF(LEN(G128)=0,\"\",INDEX('Loan - Uniformity'!$C$1:$C$20,MATCH($G128,'Loan - Uniformity'!$A$1:$A$20,1)))","v":""},"","",{"$f":"IF(OR(LEN(B128)=0,LEN(C128)=0,LEN(D128)=0,LEN(E128)=0,LEN(F128)=0,LEN(G128)=0),\"\",IF('Base Values'!$B$8+(SUM($L128:$P128)/100)<0,0,'Base Values'!$B$8+(SUM(L128:P128)/100)))","v":""},null,{"$f":"IF(AND($T$13=TRUE,H128=1),'Loan - Extraneous'!B$3,IF(AND($T$13=TRUE,H128=2),'Loan - Extraneous'!C$3,0))","v":0},{"$f":"IF(I128=1,'Loan - Extraneous'!$B$4,IF(I128=2,'Loan - Extraneous'!$C$4,0))","v":0},{"$f":"IF(J128=1,'Loan - Extraneous'!$B$5,IF(J128=2,'Loan - Extraneous'!$C$5,0))","v":0}]
[null,null,null,null,null,null,null,null,null,null,"",{"$f":"IF(OR(LEN(B129)=0,LEN(C129)=0,LEN(D129)=0),\"\",IF(K129>=38,INDEX('Loan - Grade & Staple'!$A$1:$K$1000,MATCH($B129&$C129,'Loan - Grade & Staple'!$B$1:$B$1000&'Loan - Grade & Staple'!$C$1:$C$1000,0),MATCH(\"38+\",'Loan - Grade & Staple'!$A$3:$K$3,0)),IF(K129<=31,INDEX('Loan - Grade & Staple'!$A$1:$K$1000,MATCH($B129&$C129,'Loan - Grade & Staple'!$B$1:$B$1000&'Loan - Grade & Staple'!$C$1:$C$1000,0),MATCH(\"26-31\",'Loan - Grade & Staple'!$A$3:$K$3,0)),IF(ISNA(INDEX('Loan - Grade & Staple'!$A$1:$K$1000,MATCH($B129&C129,'Loan - Grade & Staple'!$B$1:$B$1000&'Loan - Grade & Staple'!$C$1:$C$1000,0),MATCH($K129,'Loan - Grade & Staple'!$A$3:$K$3,0))),-4000,INDEX('Loan - Grade & Staple'!$A$1:$K$1000,MATCH($B129&C129,'Loan - Grade & Staple'!$B$1:$B$1000&'Loan - Grade & Staple'!$C$1:$C$1000,0),MATCH($K129,'Loan - Grade & Staple'!$A$3:$K$3,0))))))","v":""},{"$f":"IF(LEN(E129)=0,\"\",INDEX('Loan - Strength'!$C$1:$C$18,MATCH(E129,'Loan - Strength'!$A$1:$A$18,1)))","v":""},{"$f":"IF(LEN(F129)=0,\"\",INDEX('Loan - Micronaire'!$C$1:$C$20,MATCH($F129,'Loan - Micronaire'!$A$1:$A$20,1)))","v":""},{"$f":"IF(LEN(G129)=0,\"\",INDEX('Loan - Uniformity'!$C$1:$C$20,MATCH($G129,'Loan - Uniformity'!$A$1:$A$20,1)))","v":""},"","",{"$f":"IF(OR(LEN(B129)=0,LEN(C129)=0,LEN(D129)=0,LEN(E129)=0,LEN(F129)=0,LEN(G129)=0),\"\",IF('Base Values'!$B$8+(SUM($L129:$P129)/100)<0,0,'Base Values'!$B$8+(SUM(L129:P129)/100)))","v":""},null,{"$f":"IF(AND($T$13=TRUE,H129=1),'Loan - Extraneous'!B$3,IF(AND($T$13=TRUE,H129=2),'Loan - Extraneous'!C$3,0))","v":0},{"$f":"IF(I129=1,'Loan - Extraneous'!$B$4,IF(I129=2,'Loan - Extraneous'!$C$4,0))","v":0},{"$f":"IF(J129=1,'Loan - Extraneous'!$B$5,IF(J129=2,'Loan - Extraneous'!$C$5,0))","v":0}]
[null,null,null,null,null,null,null,null,null,null,"",{"$f":"IF(OR(LEN(B130)=0,LEN(C130)=0,LEN(D130)=0),\"\",IF(K130>=38,INDEX('Loan - Grade & Staple'!$A$1:$K$1000,MATCH($B130&$C130,'Loan - Grade & Staple'!$B$1:$B$1000&'Loan - Grade & Staple'!$C$1:$C$1000,0),MATCH(\"38+\",'Loan - Grade & Staple'!$A$3:$K$3,0)),IF(K130<=31,INDEX('Loan - Grade & Staple'!$A$1:$K$1000,MATCH($B130&$C130,'Loan - Grade & Staple'!$B$1:$B$1000&'Loan - Grade & Staple'!$C$1:$C$1000,0),MATCH(\"26-31\",'Loan - Grade & Staple'!$A$3:$K$3,0)),IF(ISNA(INDEX('Loan - Grade & Staple'!$A$1:$K$1000,MATCH($B130&C130,'Loan - Grade & Staple'!$B$1:$B$1000&'Loan - Grade & Staple'!$C$1:$C$1000,0),MATCH($K130,'Loan - Grade & Staple'!$A$3:$K$3,0))),-4000,INDEX('Loan - Grade & Staple'!$A$1:$K$1000,MATCH($B130&C130,'Loan - Grade & Staple'!$B$1:$B$1000&'Loan - Grade & Staple'!$C$1:$C$1000,0),MATCH($K130,'Loan - Grade & Staple'!$A$3:$K$3,0))))))","v":""},{"$f":"IF(LEN(E130)=0,\"\",INDEX('Loan - Strength'!$C$1:$C$18,MATCH(E130,'Loan - Strength'!$A$1:$A$18,1)))","v":""},{"$f":"IF(LEN(F130)=0,\"\",INDEX('Loan - Micronaire'!$C$1:$C$20,MATCH($F130,'Loan - Micronaire'!$A$1:$A$20,1)))","v":""},{"$f":"IF(LEN(G130)=0,\"\",INDEX('Loan - Uniformity'!$C$1:$C$20,MATCH($G130,'Loan - Uniformity'!$A$1:$A$20,1)))","v":""},"","",{"$f":"IF(OR(LEN(B130)=0,LEN(C130)=0,LEN(D130)=0,LEN(E130)=0,LEN(F130)=0,LEN(G130)=0),\"\",IF('Base Values'!$B$8+(SUM($L130:$P130)/100)<0,0,'Base Values'!$B$8+(SUM(L130:P130)/100)))","v":""},null,{"$f":"IF(AND($T$13=TRUE,H130=1),'Loan - Extraneous'!B$3,IF(AND($T$13=TRUE,H130=2),'Loan - Extraneous'!C$3,0))","v":0},{"$f":"IF(I130=1,'Loan - Extraneous'!$B$4,IF(I130=2,'Loan - Extraneous'!$C$4,0))","v":0},{"$f":"IF(J130=1,'Loan - Extraneous'!$B$5,IF(J130=2,'Loan - Extraneous'!$C$5,0))","v":0}]
[null,null,null,null,null,null,null,null,null,null,"",{"$f":"IF(OR(LEN(B131)=0,LEN(C131)=0,LEN(D131)=0),\"\",IF(K131>=38,INDEX('Loan - Grade & Staple'!$A$1:$K$1000,MATCH($B131&$C131,'Loan - Grade & Staple'!$B$1:$B$1000&'Loan - Grade & Staple'!$C$1:$C$1000,0),MATCH(\"38+\",'Loan - Grade & Staple'!$A$3:$K$3,0)),IF(K131<=31,INDEX('Loan - Grade & Staple'!$A$1:$K$1000,MATCH($B131&$C131,'Loan - Grade & Staple'!$B$1:$B$1000&'Loan - Grade & Staple'!$C$1:$C$1000,0),MATCH(\"26-31\",'Loan - Grade & Staple'!$A$3:$K$3,0)),IF(ISNA(INDEX('Loan - Grade & Staple'!$A$1:$K$1000,MATCH($B131&C131,'Loan - Grade & Staple'!$B$1:$B$1000&'Loan - Grade & Staple'!$C$1:$C$1000,0),MATCH($K131,'Loan - Grade & Staple'!$A$3:$K$3,0))),-4000,INDEX('Loan - Grade & Staple'!$A$1:$K$1000,MATCH($B131&C131,'Loan - Grade & Staple'!$B$1:$B$1000&'Loan - Grade & Staple'!$C$1:$C$1000,0),MATCH($K131,'Loan - Grade & Staple'!$A$3:$K$3,0))))))","v":""},{"$f":"IF(LEN(E131)=0,\"\",INDEX('Loan - Strength'!$C$1:$C$18,MATCH(E131,'Loan - Strength'!$A$1:$A$18,1)))","v":""},{"$f":"IF(LEN(F131)=0,\"\",INDEX('Loan - Micronaire'!$C$1:$C$20,MATCH($F131,'Loan - Micronaire'!$A$1:$A$20,1)))","v":""},{"$f":"IF(LEN(G131)=0,\"\",INDEX('Loan - Uniformity'!$C$1:$C$20,MATCH($G131,'Loan - Uniformity'!$A$1:$A$20,1)))","v":""},"","",{"$f":"IF(OR(LEN(B131)=0,LEN(C131)=0,LEN(D131)=0,LEN(E131)=0,LEN(F131)=0,LEN(G131)=0),\"\",IF('Base Values'!$B$8+(SUM($L131:$P131)/100)<0,0,'Base Values'!$B$8+(SUM(L131:P131)/100)))","v":""},null,{"$f":"IF(AND($T$13=TRUE,H131=1),'Loan - Extraneous'!B$3,IF(AND($T$13=TRUE,H131=2),'Loan - Extraneous'!C$3,0))","v":0},{"$f":"IF(I131=1,'Loan - Extraneous'!$B$4,IF(I131=2,'Loan - Extraneous'!$C$4,0))","v":0},{"$f":"IF(J131=1,'Loan - Extraneous'!$B$5,IF(J131=2,'Loan - Extraneous'!$C$5,0))","v":0}]
[null,null,null,null,null,null,null,null,null,null,"",{"$f":"IF(OR(LEN(B132)=0,LEN(C132)=0,LEN(D132)=0),\"\",IF(K132>=38,INDEX('Loan - Grade & Staple'!$A$1:$K$1000,MATCH($B132&$C132,'Loan - Grade & Staple'!$B$1:$B$1000&'Loan - Grade & Staple'!$C$1:$C$1000,0),MATCH(\"38+\",'Loan - Grade & Staple'!$A$3:$K$3,0)),IF(K132<=31,INDEX('Loan - Grade & Staple'!$A$1:$K$1000,MATCH($B132&$C132,'Loan - Grade & Staple'!$B$1:$B$1000&'Loan - Grade & Staple'!$C$1:$C$1000,0),MATCH(\"26-31\",'Loan - Grade & Staple'!$A$3:$K$3,0)),IF(ISNA(INDEX('Loan - Grade & Staple'!$A$1:$K$1000,MATCH($B132&C132,'Loan - Grade & Staple'!$B$1:$B$1000&'Loan - Grade & Staple'!$C$1:$C$1000,0),MATCH($K132,'Loan - Grade & Staple'!$A$3:$K$3,0))),-4000,INDEX('Loan - Grade & Staple'!$A$1:$K$1000,MATCH($B132&C132,'Loan - Grade & Staple'!$B$1:$B$1000&'Loan - Grade & Staple'!$C$1:$C$1000,0),MATCH($K132,'Loan - Grade & Staple'!$A$3:$K$3,0))))))","v":""},{"$f":"IF(LEN(E132)=0,\"\",INDEX('Loan - Strength'!$C$1:$C$18,MATCH(E132,'Loan - Strength'!$A$1:$A$18,1)))","v":""},{"$f":"IF(LEN(F132)=0,\"\",INDEX('Loan - Micronaire'!$C$1:$C$20,MATCH($F132,'Loan - Micronaire'!$A$1:$A$20,1)))","v":""},{"$f":"IF(LEN(G132)=0,\"\",INDEX('Loan - Uniformity'!$C$1:$C$20,MATCH($G132,'Loan - Uniformity'!$A$1:$A$20,1)))","v":""},"","",{"$f":"IF(OR(LEN(B132)=0,LEN(C132)=0,LEN(D132)=0,LEN(E132)=0,LEN(F132)=0,LEN(G132)=0),\"\",IF('Base Values'!$B$8+(SUM($L132:$P132)/100)<0,0,'Base Values'!$B$8+(SUM(L132:P132)/100)))","v":""},null,{"$f":"IF(AND($T$13=TRUE,H132=1),'Loan - Extraneous'!B$3,IF(AND($T$13=TRUE,H132=2),'Loan - Extraneous'!C$3,0))","v":0},{"$f":"IF(I132=1,'Loan - Extraneous'!$B$4,IF(I132=2,'Loan - Extraneous'!$C$4,0))","v":0},{"$f":"IF(J132=1,'Loan - Extraneous'!$B$5,IF(J132=2,'Loan - Extraneous'!$C$5,0))","v":0}]
[null,null,null,null,null,null,null,null,null,null,"",{"$f":"IF(OR(LEN(B133)=0,LEN(C133)=0,LEN(D133)=0),\"\",IF(K133>=38,INDEX('Loan - Grade & Staple'!$A$1:$K$1000,MATCH($B133&$C133,'Loan - Grade & Staple'!$B$1:$B$1000&'Loan - Grade & Staple'!$C$1:$C$1000,0),MATCH(\"38+\",'Loan - Grade & Staple'!$A$3:$K$3,0)),IF(K133<=31,INDEX('Loan - Grade & Staple'!$A$1:$K$1000,MATCH($B133&$C133,'Loan - Grade & Staple'!$B$1:$B$1000&'Loan - Grade & Staple'!$C$1:$C$1000,0),MATCH(\"26-31\",'Loan - Grade & Staple'!$A$3:$K$3,0)),IF(ISNA(INDEX('Loan - Grade & Staple'!$A$1:$K$1000,MATCH($B133&C133,'Loan - Grade & Staple'!$B$1:$B$1000&'Loan - Grade & Staple'!$C$1:$C$1000,0),MATCH($K133,'Loan - Grade & Staple'!$A$3:$K$3,0))),-4000,INDEX('Loan - Grade & Staple'!$A$1:$K$1000,MATCH($B133&C133,'Loan - Grade & Staple'!$B$1:$B$1000&'Loan - Grade & Staple'!$C$1:$C$1000,0),MATCH($K133,'Loan - Grade & Staple'!$A$3:$K$3,0))))))","v":""},{"$f":"IF(LEN(E133)=0,\"\",INDEX('Loan - Strength'!$C$1:$C$18,MATCH(E133,'Loan - Strength'!$A$1:$A$18,1)))","v":""},{"$f":"IF(LEN(F133)=0,\"\",INDEX('Loan - Micronaire'!$C$1:$C$20,MATCH($F133,'Loan - Micronaire'!$A$1:$A$20,1)))","v":""},{"$f":"IF(LEN(G133)=0,\"\",INDEX('Loan - Uniformity'!$C$1:$C$20,MATCH($G133,'Loan - Uniformity'!$A$1:$A$20,1)))","v":""},"","",{"$f":"IF(OR(LEN(B133)=0,LEN(C133)=0,LEN(D133)=0,LEN(E133)=0,LEN(F133)=0,LEN(G133)=0),\"\",IF('Base Values'!$B$8+(SUM($L133:$P133)/100)<0,0,'Base Values'!$B$8+(SUM(L133:P133)/100)))","v":""},null,{"$f":"IF(AND($T$13=TRUE,H133=1),'Loan - Extraneous'!B$3,IF(AND($T$13=TRUE,H133=2),'Loan - Extraneous'!C$3,0))","v":0},{"$f":"IF(I133=1,'Loan - Extraneous'!$B$4,IF(I133=2,'Loan - Extraneous'!$C$4,0))","v":0},{"$f":"IF(J133=1,'Loan - Extraneous'!$B$5,IF(J133=2,'Loan - Extraneous'!$C$5,0))","v":0}]
[null,null,null,null,null,null,null,null,null,null,"",{"$f":"IF(OR(LEN(B134)=0,LEN(C134)=0,LEN(D134)=0),\"\",IF(K134>=38,INDEX('Loan - Grade & Staple'!$A$1:$K$1000,MATCH($B134&$C134,'Loan - Grade & Staple'!$B$1:$B$1000&'Loan - Grade & Staple'!$C$1:$C$1000,0),MATCH(\"38+\",'Loan - Grade & Staple'!$A$3:$K$3,0)),IF(K134<=31,INDEX('Loan - Grade & Staple'!$A$1:$K$1000,MATCH($B134&$C134,'Loan - Grade & Staple'!$B$1:$B$1000&'Loan - Grade & Staple'!$C$1:$C$1000,0),MATCH(\"26-31\",'Loan - Grade & Staple'!$A$3:$K$3,0)),IF(ISNA(INDEX('Loan - Grade & Staple'!$A$1:$K$1000,MATCH($B134&C134,'Loan - Grade & Staple'!$B$1:$B$1000&'Loan - Grade & Staple'!$C$1:$C$1000,0),MATCH($K134,'Loan - Grade & Staple'!$A$3:$K$3,0))),-4000,INDEX('Loan - Grade & Staple'!$A$1:$K$1000,MATCH($B134&C134,'Loan - Grade & Staple'!$B$1:$B$1000&'Loan - Grade & Staple'!$C$1:$C$1000,0),MATCH($K134,'Loan - Grade & Staple'!$A$3:$K$3,0))))))","v":""},{"$f":"IF(LEN(E134)=0,\"\",INDEX('Loan - Strength'!$C$1:$C$18,MATCH(E134,'Loan - Strength'!$A$1:$A$18,1)))","v":""},{"$f":"IF(LEN(F134)=0,\"\",INDEX('Loan - Micronaire'!$C$1:$C$20,MATCH($F134,'Loan - Micronaire'!$A$1:$A$20,1)))","v":""},{"$f":"IF(LEN(G134)=0,\"\",INDEX('Loan - Uniformity'!$C$1:$C$20,MATCH($G134,'Loan - Uniformity'!$A$1:$A$20,1)))","v":""},"","",{"$f":"IF(OR(LEN(B134)=0,LEN(C134)=0,LEN(D134)=0,LEN(E134)=0,LEN(F134)=0,LEN(G134)=0),\"\",IF('Base Values'!$B$8+(SUM($L134:$P134)/100)<0,0,'Base Values'!$B$8+(SUM(L134:P134)/100)))","v":""},null,{"$f":"IF(AND($T$13=TRUE,H134=1),'Loan - Extraneous'!B$3,IF(AND($T$13=TRUE,H134=2),'Loan - Extraneous'!C$3,0))","v":0},{"$f":"IF(I134=1,'Loan - Extraneous'!$B$4,IF(I134=2,'Loan - Extraneous'!$C$4,0))","v":0},{"$f":"IF(J134=1,'Loan - Extraneous'!$B$5,IF(J134=2,'Loan - Extraneous'!$C$5,0))","v":0}]
[null,null,null,null,null,null,null,null,null,null,"",{"$f":"IF(OR(LEN(B135)=0,LEN(C135)=0,LEN(D135)=0),\"\",IF(K135>=38,INDEX('Loan - Grade & Staple'!$A$1:$K$1000,MATCH($B135&$C135,'Loan - Grade & Staple'!$B$1:$B$1000&'Loan - Grade & Staple'!$C$1:$C$1000,0),MATCH(\"38+\",'Loan - Grade & Staple'!$A$3:$K$3,0)),IF(K135<=31,INDEX('Loan - Grade & Staple'!$A$1:$K$1000,MATCH($B135&$C135,'Loan - Grade & Staple'!$B$1:$B$1000&'Loan - Grade & Staple'!$C$1:$C$1000,0),MATCH(\"26-31\",'Loan - Grade & Staple'!$A$3:$K$3,0)),IF(ISNA(INDEX('Loan - Grade & Staple'!$A$1:$K$1000,MATCH($B135&C135,'Loan - Grade & Staple'!$B$1:$B$1000&'Loan - Grade & Staple'!$C$1:$C$1000,0),MATCH($K135,'Loan - Grade & Staple'!$A$3:$K$3,0))),-4000,INDEX('Loan - Grade & Staple'!$A$1:$K$1000,MATCH($B135&C135,'Loan - Grade & Staple'!$B$1:$B$1000&'Loan - Grade & Staple'!$C$1:$C$1000,0),MATCH($K135,'Loan - Grade & Staple'!$A$3:$K$3,0))))))","v":""},{"$f":"IF(LEN(E135)=0,\"\",INDEX('Loan - Strength'!$C$1:$C$18,MATCH(E135,'Loan - Strength'!$A$1:$A$18,1)))","v":""},{"$f":"IF(LEN(F135)=0,\"\",INDEX('Loan - Micronaire'!$C$1:$C$20,MATCH($F135,'Loan - Micronaire'!$A$1:$A$20,1)))","v":""},{"$f":"IF(LEN(G135)=0,\"\",INDEX('Loan - Uniformity'!$C$1:$C$20,MATCH($G135,'Loan - Uniformity'!$A$1:$A$20,1)))","v":""},"","",{"$f":"IF(OR(LEN(B135)=0,LEN(C135)=0,LEN(D135)=0,LEN(E135)=0,LEN(F135)=0,LEN(G135)=0),\"\",IF('Base Values'!$B$8+(SUM($L135:$P135)/100)<0,0,'Base Values'!$B$8+(SUM(L135:P135)/100)))","v":""},null,{"$f":"IF(AND($T$13=TRUE,H135=1),'Loan - Extraneous'!B$3,IF(AND($T$13=TRUE,H135=2),'Loan - Extraneous'!C$3,0))","v":0},{"$f":"IF(I135=1,'Loan - Extraneous'!$B$4,IF(I135=2,'Loan - Extraneous'!$C$4,0))","v":0},{"$f":"IF(J135=1,'Loan - Extraneous'!$B$5,IF(J135=2,'Loan - Extraneous'!$C$5,0))","v":0}]
[null,null,null,null,null,null,null,null,null,null,"",{"$f":"IF(OR(LEN(B136)=0,LEN(C136)=0,LEN(D136)=0),\"\",IF(K136>=38,INDEX('Loan - Grade & Staple'!$A$1:$K$1000,MATCH($B136&$C136,'Loan - Grade & Staple'!$B$1:$B$1000&'Loan - Grade & Staple'!$C$1:$C$1000,0),MATCH(\"38+\",'Loan - Grade & Staple'!$A$3:$K$3,0)),IF(K136<=31,INDEX('Loan - Grade & Staple'!$A$1:$K$1000,MATCH($B136&$C136,'Loan - Grade & Staple'!$B$1:$B$1000&'Loan - Grade & Staple'!$C$1:$C$1000,0),MATCH(\"26-31\",'Loan - Grade & Staple'!$A$3:$K$3,0)),IF(ISNA(INDEX('Loan - Grade & Staple'!$A$1:$K$1000,MATCH($B136&C136,'Loan - Grade & Staple'!$B$1:$B$1000&'Loan - Grade & Staple'!$C$1:$C$1000,0),MATCH($K136,'Loan - Grade & Staple'!$A$3:$K$3,0))),-4000,INDEX('Loan - Grade & Staple'!$A$1:$K$1000,MATCH($B136&C136,'Loan - Grade & Staple'!$B$1:$B$1000&'Loan - Grade & Staple'!$C$1:$C$1000,0),MATCH($K136,'Loan - Grade & Staple'!$A$3:$K$3,0))))))","v":""},{"$f":"IF(LEN(E136)=0,\"\",INDEX('Loan - Strength'!$C$1:$C$18,MATCH(E136,'Loan - Strength'!$A$1:$A$18,1)))","v":""},{"$f":"IF(LEN(F136)=0,\"\",INDEX('Loan - Micronaire'!$C$1:$C$20,MATCH($F136,'Loan - Micronaire'!$A$1:$A$20,1)))","v":""},{"$f":"IF(LEN(G136)=0,\"\",INDEX('Loan - Uniformity'!$C$1:$C$20,MATCH($G136,'Loan - Uniformity'!$A$1:$A$20,1)))","v":""},"","",{"$f":"IF(OR(LEN(B136)=0,LEN(C136)=0,LEN(D136)=0,LEN(E136)=0,LEN(F136)=0,LEN(G136)=0),\"\",IF('Base Values'!$B$8+(SUM($L136:$P136)/100)<0,0,'Base Values'!$B$8+(SUM(L136:P136)/100)))","v":""},null,{"$f":"IF(AND($T$13=TRUE,H136=1),'Loan - Extraneous'!B$3,IF(AND($T$13=TRUE,H136=2),'Loan - Extraneous'!C$3,0))","v":0},{"$f":"IF(I136=1,'Loan - Extraneous'!$B$4,IF(I136=2,'Loan - Extraneous'!$C$4,0))","v":0},{"$f":"IF(J136=1,'Loan - Extraneous'!$B$5,IF(J136=2,'Loan - Extraneous'!$C$5,0))","v":0}]
[null,null,null,null,null,null,null,null,null,null,"",{"$f":"IF(OR(LEN(B137)=0,LEN(C137)=0,LEN(D137)=0),\"\",IF(K137>=38,INDEX('Loan - Grade & Staple'!$A$1:$K$1000,MATCH($B137&$C137,'Loan - Grade & Staple'!$B$1:$B$1000&'Loan - Grade & Staple'!$C$1:$C$1000,0),MATCH(\"38+\",'Loan - Grade & Staple'!$A$3:$K$3,0)),IF(K137<=31,INDEX('Loan - Grade & Staple'!$A$1:$K$1000,MATCH($B137&$C137,'Loan - Grade & Staple'!$B$1:$B$1000&'Loan - Grade & Staple'!$C$1:$C$1000,0),MATCH(\"26-31\",'Loan - Grade & Staple'!$A$3:$K$3,0)),IF(ISNA(INDEX('Loan - Grade & Staple'!$A$1:$K$1000,MATCH($B137&C137,'Loan - Grade & Staple'!$B$1:$B$1000&'Loan - Grade & Staple'!$C$1:$C$1000,0),MATCH($K137,'Loan - Grade & Staple'!$A$3:$K$3,0))),-4000,INDEX('Loan - Grade & Staple'!$A$1:$K$1000,MATCH($B137&C137,'Loan - Grade & Staple'!$B$1:$B$1000&'Loan - Grade & Staple'!$C$1:$C$1000,0),MATCH($K137,'Loan - Grade & Staple'!$A$3:$K$3,0))))))","v":""},{"$f":"IF(LEN(E137)=0,\"\",INDEX('Loan - Strength'!$C$1:$C$18,MATCH(E137,'Loan - Strength'!$A$1:$A$18,1)))","v":""},{"$f":"IF(LEN(F137)=0,\"\",INDEX('Loan - Micronaire'!$C$1:$C$20,MATCH($F137,'Loan - Micronaire'!$A$1:$A$20,1)))","v":""},{"$f":"IF(LEN(G137)=0,\"\",INDEX('Loan - Uniformity'!$C$1:$C$20,MATCH($G137,'Loan - Uniformity'!$A$1:$A$20,1)))","v":""},"","",{"$f":"IF(OR(LEN(B137)=0,LEN(C137)=0,LEN(D137)=0,LEN(E137)=0,LEN(F137)=0,LEN(G137)=0),\"\",IF('Base Values'!$B$8+(SUM($L137:$P137)/100)<0,0,'Base Values'!$B$8+(SUM(L137:P137)/100)))","v":""},null,{"$f":"IF(AND($T$13=TRUE,H137=1),'Loan - Extraneous'!B$3,IF(AND($T$13=TRUE,H137=2),'Loan - Extraneous'!C$3,0))","v":0},{"$f":"IF(I137=1,'Loan - Extraneous'!$B$4,IF(I137=2,'Loan - Extraneous'!$C$4,0))","v":0},{"$f":"IF(J137=1,'Loan - Extraneous'!$B$5,IF(J137=2,'Loan - Extraneous'!$C$5,0))","v":0}]
[null,null,null,null,null,null,null,null,null,null,"",{"$f":"IF(OR(LEN(B138)=0,LEN(C138)=0,LEN(D138)=0),\"\",IF(K138>=38,INDEX('Loan - Grade & Staple'!$A$1:$K$1000,MATCH($B138&$C138,'Loan - Grade & Staple'!$B$1:$B$1000&'Loan - Grade & Staple'!$C$1:$C$1000,0),MATCH(\"38+\",'Loan - Grade & Staple'!$A$3:$K$3,0)),IF(K138<=31,INDEX('Loan - Grade & Staple'!$A$1:$K$1000,MATCH($B138&$C138,'Loan - Grade & Staple'!$B$1:$B$1000&'Loan - Grade & Staple'!$C$1:$C$1000,0),MATCH(\"26-31\",'Loan - Grade & Staple'!$A$3:$K$3,0)),IF(ISNA(INDEX('Loan - Grade & Staple'!$A$1:$K$1000,MATCH($B138&C138,'Loan - Grade & Staple'!$B$1:$B$1000&'Loan - Grade & Staple'!$C$1:$C$1000,0),MATCH($K138,'Loan - Grade & Staple'!$A$3:$K$3,0))),-4000,INDEX('Loan - Grade & Staple'!$A$1:$K$1000,MATCH($B138&C138,'Loan - Grade & Staple'!$B$1:$B$1000&'Loan - Grade & Staple'!$C$1:$C$1000,0),MATCH($K138,'Loan - Grade & Staple'!$A$3:$K$3,0))))))","v":""},{"$f":"IF(LEN(E138)=0,\"\",INDEX('Loan - Strength'!$C$1:$C$18,MATCH(E138,'Loan - Strength'!$A$1:$A$18,1)))","v":""},{"$f":"IF(LEN(F138)=0,\"\",INDEX('Loan - Micronaire'!$C$1:$C$20,MATCH($F138,'Loan - Micronaire'!$A$1:$A$20,1)))","v":""},{"$f":"IF(LEN(G138)=0,\"\",INDEX('Loan - Uniformity'!$C$1:$C$20,MATCH($G138,'Loan - Uniformity'!$A$1:$A$20,1)))","v":""},"","",{"$f":"IF(OR(LEN(B138)=0,LEN(C138)=0,LEN(D138)=0,LEN(E138)=0,LEN(F138)=0,LEN(G138)=0),\"\",IF('Base Values'!$B$8+(SUM($L138:$P138)/100)<0,0,'Base Values'!$B$8+(SUM(L138:P138)/100)))","v":""},null,{"$f":"IF(AND($T$13=TRUE,H138=1),'Loan - Extraneous'!B$3,IF(AND($T$13=TRUE,H138=2),'Loan - Extraneous'!C$3,0))","v":0},{"$f":"IF(I138=1,'Loan - Extraneous'!$B$4,IF(I138=2,'Loan - Extraneous'!$C$4,0))","v":0},{"$f":"IF(J138=1,'Loan - Extraneous'!$B$5,IF(J138=2,'Loan - Extraneous'!$C$5,0))","v":0}]
[null,null,null,null,null,null,null,null,null,null,"",{"$f":"IF(OR(LEN(B139)=0,LEN(C139)=0,LEN(D139)=0),\"\",IF(K139>=38,INDEX('Loan - Grade & Staple'!$A$1:$K$1000,MATCH($B139&$C139,'Loan - Grade & Staple'!$B$1:$B$1000&'Loan - Grade & Staple'!$C$1:$C$1000,0),MATCH(\"38+\",'Loan - Grade & Staple'!$A$3:$K$3,0)),IF(K139<=31,INDEX('Loan - Grade & Staple'!$A$1:$K$1000,MATCH($B139&$C139,'Loan - Grade & Staple'!$B$1:$B$1000&'Loan - Grade & Staple'!$C$1:$C$1000,0),MATCH(\"26-31\",'Loan - Grade & Staple'!$A$3:$K$3,0)),IF(ISNA(INDEX('Loan - Grade & Staple'!$A$1:$K$1000,MATCH($B139&C139,'Loan - Grade & Staple'!$B$1:$B$1000&'Loan - Grade & Staple'!$C$1:$C$1000,0),MATCH($K139,'Loan - Grade & Staple'!$A$3:$K$3,0))),-4000,INDEX('Loan - Grade & Staple'!$A$1:$K$1000,MATCH($B139&C139,'Loan - Grade & Staple'!$B$1:$B$1000&'Loan - Grade & Staple'!$C$1:$C$1000,0),MATCH($K139,'Loan - Grade & Staple'!$A$3:$K$3,0))))))","v":""},{"$f":"IF(LEN(E139)=0,\"\",INDEX('Loan - Strength'!$C$1:$C$18,MATCH(E139,'Loan - Strength'!$A$1:$A$18,1)))","v":""},{"$f":"IF(LEN(F139)=0,\"\",INDEX('Loan - Micronaire'!$C$1:$C$20,MATCH($F139,'Loan - Micronaire'!$A$1:$A$20,1)))","v":""},{"$f":"IF(LEN(G139)=0,\"\",INDEX('Loan - Uniformity'!$C$1:$C$20,MATCH($G139,'Loan - Uniformity'!$A$1:$A$20,1)))","v":""},"","",{"$f":"IF(OR(LEN(B139)=0,LEN(C139)=0,LEN(D139)=0,LEN(E139)=0,LEN(F139)=0,LEN(G139)=0),\"\",IF('Base Values'!$B$8+(SUM($L139:$P139)/100)<0,0,'Base Values'!$B$8+(SUM(L139:P139)/100)))","v":""},null,{"$f":"IF(AND($T$13=TRUE,H139=1),'Loan - Extraneous'!B$3,IF(AND($T$13=TRUE,H139=2),'Loan - Extraneous'!C$3,0))","v":0},{"$f":"IF(I139=1,'Loan - Extraneous'!$B$4,IF(I139=2,'Loan - Extraneous'!$C$4,0))","v":0},{"$f":"IF(J139=1,'Loan - Extraneous'!$B$5,IF(J139=2,'Loan - Extraneous'!$C$5,0))","v":0}]
[null,null,null,null,null,null,null,null,null,null,"",{"$f":"IF(OR(LEN(B140)=0,LEN(C140)=0,LEN(D140)=0),\"\",IF(K140>=38,INDEX('Loan - Grade & Staple'!$A$1:$K$1000,MATCH($B140&$C140,'Loan - Grade & Staple'!$B$1:$B$1000&'Loan - Grade & Staple'!$C$1:$C$1000,0),MATCH(\"38+\",'Loan - Grade & Staple'!$A$3:$K$3,0)),IF(K140<=31,INDEX('Loan - Grade & Staple'!$A$1:$K$1000,MATCH($B140&$C140,'Loan - Grade & Staple'!$B$1:$B$1000&'Loan - Grade & Staple'!$C$1:$C$1000,0),MATCH(\"26-31\",'Loan - Grade & Staple'!$A$3:$K$3,0)),IF(ISNA(INDEX('Loan - Grade & Staple'!$A$1:$K$1000,MATCH($B140&C140,'Loan - Grade & Staple'!$B$1:$B$1000&'Loan - Grade & Staple'!$C$1:$C$1000,0),MATCH($K140,'Loan - Grade & Staple'!$A$3:$K$3,0))),-4000,INDEX('Loan - Grade & Staple'!$A$1:$K$1000,MATCH($B140&C140,'Loan - Grade & Staple'!$B$1:$B$1000&'Loan - Grade & Staple'!$C$1:$C$1000,0),MATCH($K140,'Loan - Grade & Staple'!$A$3:$K$3,0))))))","v":""},{"$f":"IF(LEN(E140)=0,\"\",INDEX('Loan - Strength'!$C$1:$C$18,MATCH(E140,'Loan - Strength'!$A$1:$A$18,1)))","v":""},{"$f":"IF(LEN(F140)=0,\"\",INDEX('Loan - Micronaire'!$C$1:$C$20,MATCH($F140,'Loan - Micronaire'!$A$1:$A$20,1)))","v":""},{"$f":"IF(LEN(G140)=0,\"\",INDEX('Loan - Uniformity'!$C$1:$C$20,MATCH($G140,'Loan - Uniformity'!$A$1:$A$20,1)))","v":""},"","",{"$f":"IF(OR(LEN(B140)=0,LEN(C140)=0,LEN(D140)=0,LEN(E140)=0,LEN(F140)=0,LEN(G140)=0),\"\",IF('Base Values'!$B$8+(SUM($L140:$P140)/100)<0,0,'Base Values'!$B$8+(SUM(L140:P140)/100)))","v":""},null,{"$f":"IF(AND($T$13=TRUE,H140=1),'Loan - Extraneous'!B$3,IF(AND($T$13=TRUE,H140=2),'Loan - Extraneous'!C$3,0))","v":0},{"$f":"IF(I140=1,'Loan - Extraneous'!$B$4,IF(I140=2,'Loan - Extraneous'!$C$4,0))","v":0},{"$f":"IF(J140=1,'Loan - Extraneous'!$B$5,IF(J140=2,'Loan - Extraneous'!$C$5,0))","v":0}]
[null,null,null,null,null,null,null,null,null,null,"",{"$f":"IF(OR(LEN(B141)=0,LEN(C141)=0,LEN(D141)=0),\"\",IF(K141>=38,INDEX('Loan - Grade & Staple'!$A$1:$K$1000,MATCH($B141&$C141,'Loan - Grade & Staple'!$B$1:$B$1000&'Loan - Grade & Staple'!$C$1:$C$1000,0),MATCH(\"38+\",'Loan - Grade & Staple'!$A$3:$K$3,0)),IF(K141<=31,INDEX('Loan - Grade & Staple'!$A$1:$K$1000,MATCH($B141&$C141,'Loan - Grade & Staple'!$B$1:$B$1000&'Loan - Grade & Staple'!$C$1:$C$1000,0),MATCH(\"26-31\",'Loan - Grade & Staple'!$A$3:$K$3,0)),IF(ISNA(INDEX('Loan - Grade & Staple'!$A$1:$K$1000,MATCH($B141&C141,'Loan - Grade & Staple'!$B$1:$B$1000&'Loan - Grade & Staple'!$C$1:$C$1000,0),MATCH($K141,'Loan - Grade & Staple'!$A$3:$K$3,0))),-4000,INDEX('Loan - Grade & Staple'!$A$1:$K$1000,MATCH($B141&C141,'Loan - Grade & Staple'!$B$1:$B$1000&'Loan - Grade & Staple'!$C$1:$C$1000,0),MATCH($K141,'Loan - Grade & Staple'!$A$3:$K$3,0))))))","v":""},{"$f":"IF(LEN(E141)=0,\"\",INDEX('Loan - Strength'!$C$1:$C$18,MATCH(E141,'Loan - Strength'!$A$1:$A$18,1)))","v":""},{"$f":"IF(LEN(F141)=0,\"\",INDEX('Loan - Micronaire'!$C$1:$C$20,MATCH($F141,'Loan - Micronaire'!$A$1:$A$20,1)))","v":""},{"$f":"IF(LEN(G141)=0,\"\",INDEX('Loan - Uniformity'!$C$1:$C$20,MATCH($G141,'Loan - Uniformity'!$A$1:$A$20,1)))","v":""},"","",{"$f":"IF(OR(LEN(B141)=0,LEN(C141)=0,LEN(D141)=0,LEN(E141)=0,LEN(F141)=0,LEN(G141)=0),\"\",IF('Base Values'!$B$8+(SUM($L141:$P141)/100)<0,0,'Base Values'!$B$8+(SUM(L141:P141)/100)))","v":""},null,{"$f":"IF(AND($T$13=TRUE,H141=1),'Loan - Extraneous'!B$3,IF(AND($T$13=TRUE,H141=2),'Loan - Extraneous'!C$3,0))","v":0},{"$f":"IF(I141=1,'Loan - Extraneous'!$B$4,IF(I141=2,'Loan - Extraneous'!$C$4,0))","v":0},{"$f":"IF(J141=1,'Loan - Extraneous'!$B$5,IF(J141=2,'Loan - Extraneous'!$C$5,0))","v":0}]
[null,null,null,null,null,null,null,null,null,null,"",{"$f":"IF(OR(LEN(B142)=0,LEN(C142)=0,LEN(D142)=0),\"\",IF(K142>=38,INDEX('Loan - Grade & Staple'!$A$1:$K$1000,MATCH($B142&$C142,'Loan - Grade & Staple'!$B$1:$B$1000&'Loan - Grade & Staple'!$C$1:$C$1000,0),MATCH(\"38+\",'Loan - Grade & Staple'!$A$3:$K$3,0)),IF(K142<=31,INDEX('Loan - Grade & Staple'!$A$1:$K$1000,MATCH($B142&$C142,'Loan - Grade & Staple'!$B$1:$B$1000&'Loan - Grade & Staple'!$C$1:$C$1000,0),MATCH(\"26-31\",'Loan - Grade & Staple'!$A$3:$K$3,0)),IF(ISNA(INDEX('Loan - Grade & Staple'!$A$1:$K$1000,MATCH($B142&C142,'Loan - Grade & Staple'!$B$1:$B$1000&'Loan - Grade & Staple'!$C$1:$C$1000,0),MATCH($K142,'Loan - Grade & Staple'!$A$3:$K$3,0))),-4000,INDEX('Loan - Grade & Staple'!$A$1:$K$1000,MATCH($B142&C142,'Loan - Grade & Staple'!$B$1:$B$1000&'Loan - Grade & Staple'!$C$1:$C$1000,0),MATCH($K142,'Loan - Grade & Staple'!$A$3:$K$3,0))))))","v":""},{"$f":"IF(LEN(E142)=0,\"\",INDEX('Loan - Strength'!$C$1:$C$18,MATCH(E142,'Loan - Strength'!$A$1:$A$18,1)))","v":""},{"$f":"IF(LEN(F142)=0,\"\",INDEX('Loan - Micronaire'!$C$1:$C$20,MATCH($F142,'Loan - Micronaire'!$A$1:$A$20,1)))","v":""},{"$f":"IF(LEN(G142)=0,\"\",INDEX('Loan - Uniformity'!$C$1:$C$20,MATCH($G142,'Loan - Uniformity'!$A$1:$A$20,1)))","v":""},"","",{"$f":"IF(OR(LEN(B142)=0,LEN(C142)=0,LEN(D142)=0,LEN(E142)=0,LEN(F142)=0,LEN(G142)=0),\"\",IF('Base Values'!$B$8+(SUM($L142:$P142)/100)<0,0,'Base Values'!$B$8+(SUM(L142:P142)/100)))","v":""},null,{"$f":"IF(AND($T$13=TRUE,H142=1),'Loan - Extraneous'!B$3,IF(AND($T$13=TRUE,H142=2),'Loan - Extraneous'!C$3,0))","v":0},{"$f":"IF(I142=1,'Loan - Extraneous'!$B$4,IF(I142=2,'Loan - Extraneous'!$C$4,0))","v":0},{"$f":"IF(J142=1,'Loan - Extraneous'!$B$5,IF(J142=2,'Loan - Extraneous'!$C$5,0))","v":0}]
[null,null,null,null,null,null,null,null,null,null,"",{"$f":"IF(OR(LEN(B143)=0,LEN(C143)=0,LEN(D143)=0),\"\",IF(K143>=38,INDEX('Loan - Grade & Staple'!$A$1:$K$1000,MATCH($B143&$C143,'Loan - Grade & Staple'!$B$1:$B$1000&'Loan - Grade & Staple'!$C$1:$C$1000,0),MATCH(\"38+\",'Loan - Grade & Staple'!$A$3:$K$3,0)),IF(K143<=31,INDEX('Loan - Grade & Staple'!$A$1:$K$1000,MATCH($B143&$C143,'Loan - Grade & Staple'!$B$1:$B$1000&'Loan - Grade & Staple'!$C$1:$C$1000,0),MATCH(\"26-31\",'Loan - Grade & Staple'!$A$3:$K$3,0)),IF(ISNA(INDEX('Loan - Grade & Staple'!$A$1:$K$1000,MATCH($B143&C143,'Loan - Grade & Staple'!$B$1:$B$1000&'Loan - Grade & Staple'!$C$1:$C$1000,0),MATCH($K143,'Loan - Grade & Staple'!$A$3:$K$3,0))),-4000,INDEX('Loan - Grade & Staple'!$A$1:$K$1000,MATCH($B143&C143,'Loan - Grade & Staple'!$B$1:$B$1000&'Loan - Grade & Staple'!$C$1:$C$1000,0),MATCH($K143,'Loan - Grade & Staple'!$A$3:$K$3,0))))))","v":""},{"$f":"IF(LEN(E143)=0,\"\",INDEX('Loan - Strength'!$C$1:$C$18,MATCH(E143,'Loan - Strength'!$A$1:$A$18,1)))","v":""},{"$f":"IF(LEN(F143)=0,\"\",INDEX('Loan - Micronaire'!$C$1:$C$20,MATCH($F143,'Loan - Micronaire'!$A$1:$A$20,1)))","v":""},{"$f":"IF(LEN(G143)=0,\"\",INDEX('Loan - Uniformity'!$C$1:$C$20,MATCH($G143,'Loan - Uniformity'!$A$1:$A$20,1)))","v":""},"","",{"$f":"IF(OR(LEN(B143)=0,LEN(C143)=0,LEN(D143)=0,LEN(E143)=0,LEN(F143)=0,LEN(G143)=0),\"\",IF('Base Values'!$B$8+(SUM($L143:$P143)/100)<0,0,'Base Values'!$B$8+(SUM(L143:P143)/100)))","v":""},null,{"$f":"IF(AND($T$13=TRUE,H143=1),'Loan - Extraneous'!B$3,IF(AND($T$13=TRUE,H143=2),'Loan - Extraneous'!C$3,0))","v":0},{"$f":"IF(I143=1,'Loan - Extraneous'!$B$4,IF(I143=2,'Loan - Extraneous'!$C$4,0))","v":0},{"$f":"IF(J143=1,'Loan - Extraneous'!$B$5,IF(J143=2,'Loan - Extraneous'!$C$5,0))","v":0}]
[null,null,null,null,null,null,null,null,null,null,"",{"$f":"IF(OR(LEN(B144)=0,LEN(C144)=0,LEN(D144)=0),\"\",IF(K144>=38,INDEX('Loan - Grade & Staple'!$A$1:$K$1000,MATCH($B144&$C144,'Loan - Grade & Staple'!$B$1:$B$1000&'Loan - Grade & Staple'!$C$1:$C$1000,0),MATCH(\"38+\",'Loan - Grade & Staple'!$A$3:$K$3,0)),IF(K144<=31,INDEX('Loan - Grade & Staple'!$A$1:$K$1000,MATCH($B144&$C144,'Loan - Grade & Staple'!$B$1:$B$1000&'Loan - Grade & Staple'!$C$1:$C$1000,0),MATCH(\"26-31\",'Loan - Grade & Staple'!$A$3:$K$3,0)),IF(ISNA(INDEX('Loan - Grade & Staple'!$A$1:$K$1000,MATCH($B144&C144,'Loan - Grade & Staple'!$B$1:$B$1000&'Loan - Grade & Staple'!$C$1:$C$1000,0),MATCH($K144,'Loan - Grade & Staple'!$A$3:$K$3,0))),-4000,INDEX('Loan - Grade & Staple'!$A$1:$K$1000,MATCH($B144&C144,'Loan - Grade & Staple'!$B$1:$B$1000&'Loan - Grade & Staple'!$C$1:$C$1000,0),MATCH($K144,'Loan - Grade & Staple'!$A$3:$K$3,0))))))","v":""},{"$f":"IF(LEN(E144)=0,\"\",INDEX('Loan - Strength'!$C$1:$C$18,MATCH(E144,'Loan - Strength'!$A$1:$A$18,1)))","v":""},{"$f":"IF(LEN(F144)=0,\"\",INDEX('Loan - Micronaire'!$C$1:$C$20,MATCH($F144,'Loan - Micronaire'!$A$1:$A$20,1)))","v":""},{"$f":"IF(LEN(G144)=0,\"\",INDEX('Loan - Uniformity'!$C$1:$C$20,MATCH($G144,'Loan - Uniformity'!$A$1:$A$20,1)))","v":""},"","",{"$f":"IF(OR(LEN(B144)=0,LEN(C144)=0,LEN(D144)=0,LEN(E144)=0,LEN(F144)=0,LEN(G144)=0),\"\",IF('Base Values'!$B$8+(SUM($L144:$P144)/100)<0,0,'Base Values'!$B$8+(SUM(L144:P144)/100)))","v":""},null,{"$f":"IF(AND($T$13=TRUE,H144=1),'Loan - Extraneous'!B$3,IF(AND($T$13=TRUE,H144=2),'Loan - Extraneous'!C$3,0))","v":0},{"$f":"IF(I144=1,'Loan - Extraneous'!$B$4,IF(I144=2,'Loan - Extraneous'!$C$4,0))","v":0},{"$f":"IF(J144=1,'Loan - Extraneous'!$B$5,IF(J144=2,'Loan - Extraneous'!$C$5,0))","v":0}]
[null,null,null,null,null,null,null,null,null,null,"",{"$f":"IF(OR(LEN(B145)=0,LEN(C145)=0,LEN(D145)=0),\"\",IF(K145>=38,INDEX('Loan - Grade & Staple'!$A$1:$K$1000,MATCH($B145&$C145,'Loan - Grade & Staple'!$B$1:$B$1000&'Loan - Grade & Staple'!$C$1:$C$1000,0),MATCH(\"38+\",'Loan - Grade & Staple'!$A$3:$K$3,0)),IF(K145<=31,INDEX('Loan - Grade & Staple'!$A$1:$K$1000,MATCH($B145&$C145,'Loan - Grade & Staple'!$B$1:$B$1000&'Loan - Grade & Staple'!$C$1:$C$1000,0),MATCH(\"26-31\",'Loan - Grade & Staple'!$A$3:$K$3,0)),IF(ISNA(INDEX('Loan - Grade & Staple'!$A$1:$K$1000,MATCH($B145&C145,'Loan - Grade & Staple'!$B$1:$B$1000&'Loan - Grade & Staple'!$C$1:$C$1000,0),MATCH($K145,'Loan - Grade & Staple'!$A$3:$K$3,0))),-4000,INDEX('Loan - Grade & Staple'!$A$1:$K$1000,MATCH($B145&C145,'Loan - Grade & Staple'!$B$1:$B$1000&'Loan - Grade & Staple'!$C$1:$C$1000,0),MATCH($K145,'Loan - Grade & Staple'!$A$3:$K$3,0))))))","v":""},{"$f":"IF(LEN(E145)=0,\"\",INDEX('Loan - Strength'!$C$1:$C$18,MATCH(E145,'Loan - Strength'!$A$1:$A$18,1)))","v":""},{"$f":"IF(LEN(F145)=0,\"\",INDEX('Loan - Micronaire'!$C$1:$C$20,MATCH($F145,'Loan - Micronaire'!$A$1:$A$20,1)))","v":""},{"$f":"IF(LEN(G145)=0,\"\",INDEX('Loan - Uniformity'!$C$1:$C$20,MATCH($G145,'Loan - Uniformity'!$A$1:$A$20,1)))","v":""},"","",{"$f":"IF(OR(LEN(B145)=0,LEN(C145)=0,LEN(D145)=0,LEN(E145)=0,LEN(F145)=0,LEN(G145)=0),\"\",IF('Base Values'!$B$8+(SUM($L145:$P145)/100)<0,0,'Base Values'!$B$8+(SUM(L145:P145)/100)))","v":""},null,{"$f":"IF(AND($T$13=TRUE,H145=1),'Loan - Extraneous'!B$3,IF(AND($T$13=TRUE,H145=2),'Loan - Extraneous'!C$3,0))","v":0},{"$f":"IF(I145=1,'Loan - Extraneous'!$B$4,IF(I145=2,'Loan - Extraneous'!$C$4,0))","v":0},{"$f":"IF(J145=1,'Loan - Extraneous'!$B$5,IF(J145=2,'Loan - Extraneous'!$C$5,0))","v":0}]
[null,null,null,null,null,null,null,null,null,null,"",{"$f":"IF(OR(LEN(B146)=0,LEN(C146)=0,LEN(D146)=0),\"\",IF(K146>=38,INDEX('Loan - Grade & Staple'!$A$1:$K$1000,MATCH($B146&$C146,'Loan - Grade & Staple'!$B$1:$B$1000&'Loan - Grade & Staple'!$C$1:$C$1000,0),MATCH(\"38+\",'Loan - Grade & Staple'!$A$3:$K$3,0)),IF(K146<=31,INDEX('Loan - Grade & Staple'!$A$1:$K$1000,MATCH($B146&$C146,'Loan - Grade & Staple'!$B$1:$B$1000&'Loan - Grade & Staple'!$C$1:$C$1000,0),MATCH(\"26-31\",'Loan - Grade & Staple'!$A$3:$K$3,0)),IF(ISNA(INDEX('Loan - Grade & Staple'!$A$1:$K$1000,MATCH($B146&C146,'Loan - Grade & Staple'!$B$1:$B$1000&'Loan - Grade & Staple'!$C$1:$C$1000,0),MATCH($K146,'Loan - Grade & Staple'!$A$3:$K$3,0))),-4000,INDEX('Loan - Grade & Staple'!$A$1:$K$1000,MATCH($B146&C146,'Loan - Grade & Staple'!$B$1:$B$1000&'Loan - Grade & Staple'!$C$1:$C$1000,0),MATCH($K146,'Loan - Grade & Staple'!$A$3:$K$3,0))))))","v":""},{"$f":"IF(LEN(E146)=0,\"\",INDEX('Loan - Strength'!$C$1:$C$18,MATCH(E146,'Loan - Strength'!$A$1:$A$18,1)))","v":""},{"$f":"IF(LEN(F146)=0,\"\",INDEX('Loan - Micronaire'!$C$1:$C$20,MATCH($F146,'Loan - Micronaire'!$A$1:$A$20,1)))","v":""},{"$f":"IF(LEN(G146)=0,\"\",INDEX('Loan - Uniformity'!$C$1:$C$20,MATCH($G146,'Loan - Uniformity'!$A$1:$A$20,1)))","v":""},"","",{"$f":"IF(OR(LEN(B146)=0,LEN(C146)=0,LEN(D146)=0,LEN(E146)=0,LEN(F146)=0,LEN(G146)=0),\"\",IF('Base Values'!$B$8+(SUM($L146:$P146)/100)<0,0,'Base Values'!$B$8+(SUM(L146:P146)/100)))","v":""},null,{"$f":"IF(AND($T$13=TRUE,H146=1),'Loan - Extraneous'!B$3,IF(AND($T$13=TRUE,H146=2),'Loan - Extraneous'!C$3,0))","v":0},{"$f":"IF(I146=1,'Loan - Extraneous'!$B$4,IF(I146=2,'Loan - Extraneous'!$C$4,0))","v":0},{"$f":"IF(J146=1,'Loan - Extraneous'!$B$5,IF(J146=2,'Loan - Extraneous'!$C$5,0))","v":0}]
[null,null,null,null,null,null,null,null,null,null,"",{"$f":"IF(OR(LEN(B147)=0,LEN(C147)=0,LEN(D147)=0),\"\",IF(K147>=38,INDEX('Loan - Grade & Staple'!$A$1:$K$1000,MATCH($B147&$C147,'Loan - Grade & Staple'!$B$1:$B$1000&'Loan - Grade & Staple'!$C$1:$C$1000,0),MATCH(\"38+\",'Loan - Grade & Staple'!$A$3:$K$3,0)),IF(K147<=31,INDEX('Loan - Grade & Staple'!$A$1:$K$1000,MATCH($B147&$C147,'Loan - Grade & Staple'!$B$1:$B$1000&'Loan - Grade & Staple'!$C$1:$C$1000,0),MATCH(\"26-31\",'Loan - Grade & Staple'!$A$3:$K$3,0)),IF(ISNA(INDEX('Loan - Grade & Staple'!$A$1:$K$1000,MATCH($B147&C147,'Loan - Grade & Staple'!$B$1:$B$1000&'Loan - Grade & Staple'!$C$1:$C$1000,0),MATCH($K147,'Loan - Grade & Staple'!$A$3:$K$3,0))),-4000,INDEX('Loan - Grade & Staple'!$A$1:$K$1000,MATCH($B147&C147,'Loan - Grade & Staple'!$B$1:$B$1000&'Loan - Grade & Staple'!$C$1:$C$1000,0),MATCH($K147,'Loan - Grade & Staple'!$A$3:$K$3,0))))))","v":""},{"$f":"IF(LEN(E147)=0,\"\",INDEX('Loan - Strength'!$C$1:$C$18,MATCH(E147,'Loan - Strength'!$A$1:$A$18,1)))","v":""},{"$f":"IF(LEN(F147)=0,\"\",INDEX('Loan - Micronaire'!$C$1:$C$20,MATCH($F147,'Loan - Micronaire'!$A$1:$A$20,1)))","v":""},{"$f":"IF(LEN(G147)=0,\"\",INDEX('Loan - Uniformity'!$C$1:$C$20,MATCH($G147,'Loan - Uniformity'!$A$1:$A$20,1)))","v":""},"","",{"$f":"IF(OR(LEN(B147)=0,LEN(C147)=0,LEN(D147)=0,LEN(E147)=0,LEN(F147)=0,LEN(G147)=0),\"\",IF('Base Values'!$B$8+(SUM($L147:$P147)/100)<0,0,'Base Values'!$B$8+(SUM(L147:P147)/100)))","v":""},null,{"$f":"IF(AND($T$13=TRUE,H147=1),'Loan - Extraneous'!B$3,IF(AND($T$13=TRUE,H147=2),'Loan - Extraneous'!C$3,0))","v":0},{"$f":"IF(I147=1,'Loan - Extraneous'!$B$4,IF(I147=2,'Loan - Extraneous'!$C$4,0))","v":0},{"$f":"IF(J147=1,'Loan - Extraneous'!$B$5,IF(J147=2,'Loan - Extraneous'!$C$5,0))","v":0}]
[null,null,null,null,null,null,null,null,null,null,"",{"$f":"IF(OR(LEN(B148)=0,LEN(C148)=0,LEN(D148)=0),\"\",IF(K148>=38,INDEX('Loan - Grade & Staple'!$A$1:$K$1000,MATCH($B148&$C148,'Loan - Grade & Staple'!$B$1:$B$1000&'Loan - Grade & Staple'!$C$1:$C$1000,0),MATCH(\"38+\",'Loan - Grade & Staple'!$A$3:$K$3,0)),IF(K148<=31,INDEX('Loan - Grade & Staple'!$A$1:$K$1000,MATCH($B148&$C148,'Loan - Grade & Staple'!$B$1:$B$1000&'Loan - Grade & Staple'!$C$1:$C$1000,0),MATCH(\"26-31\",'Loan - Grade & Staple'!$A$3:$K$3,0)),IF(ISNA(INDEX('Loan - Grade & Staple'!$A$1:$K$1000,MATCH($B148&C148,'Loan - Grade & Staple'!$B$1:$B$1000&'Loan - Grade & Staple'!$C$1:$C$1000,0),MATCH($K148,'Loan - Grade & Staple'!$A$3:$K$3,0))),-4000,INDEX('Loan - Grade & Staple'!$A$1:$K$1000,MATCH($B148&C148,'Loan - Grade & Staple'!$B$1:$B$1000&'Loan - Grade & Staple'!$C$1:$C$1000,0),MATCH($K148,'Loan - Grade & Staple'!$A$3:$K$3,0))))))","v":""},{"$f":"IF(LEN(E148)=0,\"\",INDEX('Loan - Strength'!$C$1:$C$18,MATCH(E148,'Loan - Strength'!$A$1:$A$18,1)))","v":""},{"$f":"IF(LEN(F148)=0,\"\",INDEX('Loan - Micronaire'!$C$1:$C$20,MATCH($F148,'Loan - Micronaire'!$A$1:$A$20,1)))","v":""},{"$f":"IF(LEN(G148)=0,\"\",INDEX('Loan - Uniformity'!$C$1:$C$20,MATCH($G148,'Loan - Uniformity'!$A$1:$A$20,1)))","v":""},"","",{"$f":"IF(OR(LEN(B148)=0,LEN(C148)=0,LEN(D148)=0,LEN(E148)=0,LEN(F148)=0,LEN(G148)=0),\"\",IF('Base Values'!$B$8+(SUM($L148:$P148)/100)<0,0,'Base Values'!$B$8+(SUM(L148:P148)/100)))","v":""},null,{"$f":"IF(AND($T$13=TRUE,H148=1),'Loan - Extraneous'!B$3,IF(AND($T$13=TRUE,H148=2),'Loan - Extraneous'!C$3,0))","v":0},{"$f":"IF(I148=1,'Loan - Extraneous'!$B$4,IF(I148=2,'Loan - Extraneous'!$C$4,0))","v":0},{"$f":"IF(J148=1,'Loan - Extraneous'!$B$5,IF(J148=2,'Loan - Extraneous'!$C$5,0))","v":0}]
[null,null,null,null,null,null,null,null,null,null,"",{"$f":"IF(OR(LEN(B149)=0,LEN(C149)=0,LEN(D149)=0),\"\",IF(K149>=38,INDEX('Loan - Grade & Staple'!$A$1:$K$1000,MATCH($B149&$C149,'Loan - Grade & Staple'!$B$1:$B$1000&'Loan - Grade & Staple'!$C$1:$C$1000,0),MATCH(\"38+\",'Loan - Grade & Staple'!$A$3:$K$3,0)),IF(K149<=31,INDEX('Loan - Grade & Staple'!$A$1:$K$1000,MATCH($B149&$C149,'Loan - Grade & Staple'!$B$1:$B$1000&'Loan - Grade & Staple'!$C$1:$C$1000,0),MATCH(\"26-31\",'Loan - Grade & Staple'!$A$3:$K$3,0)),IF(ISNA(INDEX('Loan - Grade & Staple'!$A$1:$K$1000,MATCH($B149&C149,'Loan - Grade & Staple'!$B$1:$B$1000&'Loan - Grade & Staple'!$C$1:$C$1000,0),MATCH($K149,'Loan - Grade & Staple'!$A$3:$K$3,0))),-4000,INDEX('Loan - Grade & Staple'!$A$1:$K$1000,MATCH($B149&C149,'Loan - Grade & Staple'!$B$1:$B$1000&'Loan - Grade & Staple'!$C$1:$C$1000,0),MATCH($K149,'Loan - Grade & Staple'!$A$3:$K$3,0))))))","v":""},{"$f":"IF(LEN(E149)=0,\"\",INDEX('Loan - Strength'!$C$1:$C$18,MATCH(E149,'Loan - Strength'!$A$1:$A$18,1)))","v":""},{"$f":"IF(LEN(F149)=0,\"\",INDEX('Loan - Micronaire'!$C$1:$C$20,MATCH($F149,'Loan - Micronaire'!$A$1:$A$20,1)))","v":""},{"$f":"IF(LEN(G149)=0,\"\",INDEX('Loan - Uniformity'!$C$1:$C$20,MATCH($G149,'Loan - Uniformity'!$A$1:$A$20,1)))","v":""},"","",{"$f":"IF(OR(LEN(B149)=0,LEN(C149)=0,LEN(D149)=0,LEN(E149)=0,LEN(F149)=0,LEN(G149)=0),\"\",IF('Base Values'!$B$8+(SUM($L149:$P149)/100)<0,0,'Base Values'!$B$8+(SUM(L149:P149)/100)))","v":""},null,{"$f":"IF(AND($T$13=TRUE,H149=1),'Loan - Extraneous'!B$3,IF(AND($T$13=TRUE,H149=2),'Loan - Extraneous'!C$3,0))","v":0},{"$f":"IF(I149=1,'Loan - Extraneous'!$B$4,IF(I149=2,'Loan - Extraneous'!$C$4,0))","v":0},{"$f":"IF(J149=1,'Loan - Extraneous'!$B$5,IF(J149=2,'Loan - Extraneous'!$C$5,0))","v":0}]
[null,null,null,null,null,null,null,null,null,null,"",{"$f":"IF(OR(LEN(B150)=0,LEN(C150)=0,LEN(D150)=0),\"\",IF(K150>=38,INDEX('Loan - Grade & Staple'!$A$1:$K$1000,MATCH($B150&$C150,'Loan - Grade & Staple'!$B$1:$B$1000&'Loan - Grade & Staple'!$C$1:$C$1000,0),MATCH(\"38+\",'Loan - Grade & Staple'!$A$3:$K$3,0)),IF(K150<=31,INDEX('Loan - Grade & Staple'!$A$1:$K$1000,MATCH($B150&$C150,'Loan - Grade & Staple'!$B$1:$B$1000&'Loan - Grade & Staple'!$C$1:$C$1000,0),MATCH(\"26-31\",'Loan - Grade & Staple'!$A$3:$K$3,0)),IF(ISNA(INDEX('Loan - Grade & Staple'!$A$1:$K$1000,MATCH($B150&C150,'Loan - Grade & Staple'!$B$1:$B$1000&'Loan - Grade & Staple'!$C$1:$C$1000,0),MATCH($K150,'Loan - Grade & Staple'!$A$3:$K$3,0))),-4000,INDEX('Loan - Grade & Staple'!$A$1:$K$1000,MATCH($B150&C150,'Loan - Grade & Staple'!$B$1:$B$1000&'Loan - Grade & Staple'!$C$1:$C$1000,0),MATCH($K150,'Loan - Grade & Staple'!$A$3:$K$3,0))))))","v":""},{"$f":"IF(LEN(E150)=0,\"\",INDEX('Loan - Strength'!$C$1:$C$18,MATCH(E150,'Loan - Strength'!$A$1:$A$18,1)))","v":""},{"$f":"IF(LEN(F150)=0,\"\",INDEX('Loan - Micronaire'!$C$1:$C$20,MATCH($F150,'Loan - Micronaire'!$A$1:$A$20,1)))","v":""},{"$f":"IF(LEN(G150)=0,\"\",INDEX('Loan - Uniformity'!$C$1:$C$20,MATCH($G150,'Loan - Uniformity'!$A$1:$A$20,1)))","v":""},"","",{"$f":"IF(OR(LEN(B150)=0,LEN(C150)=0,LEN(D150)=0,LEN(E150)=0,LEN(F150)=0,LEN(G150)=0),\"\",IF('Base Values'!$B$8+(SUM($L150:$P150)/100)<0,0,'Base Values'!$B$8+(SUM(L150:P150)/100)))","v":""},null,{"$f":"IF(AND($T$13=TRUE,H150=1),'Loan - Extraneous'!B$3,IF(AND($T$13=TRUE,H150=2),'Loan - Extraneous'!C$3,0))","v":0},{"$f":"IF(I150=1,'Loan - Extraneous'!$B$4,IF(I150=2,'Loan - Extraneous'!$C$4,0))","v":0},{"$f":"IF(J150=1,'Loan - Extraneous'!$B$5,IF(J150=2,'Loan - Extraneous'!$C$5,0))","v":0}]
[null,null,null,null,null,null,null,null,null,null,"",{"$f":"IF(OR(LEN(B151)=0,LEN(C151)=0,LEN(D151)=0),\"\",IF(K151>=38,INDEX('Loan - Grade & Staple'!$A$1:$K$1000,MATCH($B151&$C151,'Loan - Grade & Staple'!$B$1:$B$1000&'Loan - Grade & Staple'!$C$1:$C$1000,0),MATCH(\"38+\",'Loan - Grade & Staple'!$A$3:$K$3,0)),IF(K151<=31,INDEX('Loan - Grade & Staple'!$A$1:$K$1000,MATCH($B151&$C151,'Loan - Grade & Staple'!$B$1:$B$1000&'Loan - Grade & Staple'!$C$1:$C$1000,0),MATCH(\"26-31\",'Loan - Grade & Staple'!$A$3:$K$3,0)),IF(ISNA(INDEX('Loan - Grade & Staple'!$A$1:$K$1000,MATCH($B151&C151,'Loan - Grade & Staple'!$B$1:$B$1000&'Loan - Grade & Staple'!$C$1:$C$1000,0),MATCH($K151,'Loan - Grade & Staple'!$A$3:$K$3,0))),-4000,INDEX('Loan - Grade & Staple'!$A$1:$K$1000,MATCH($B151&C151,'Loan - Grade & Staple'!$B$1:$B$1000&'Loan - Grade & Staple'!$C$1:$C$1000,0),MATCH($K151,'Loan - Grade & Staple'!$A$3:$K$3,0))))))","v":""},{"$f":"IF(LEN(E151)=0,\"\",INDEX('Loan - Strength'!$C$1:$C$18,MATCH(E151,'Loan - Strength'!$A$1:$A$18,1)))","v":""},{"$f":"IF(LEN(F151)=0,\"\",INDEX('Loan - Micronaire'!$C$1:$C$20,MATCH($F151,'Loan - Micronaire'!$A$1:$A$20,1)))","v":""},{"$f":"IF(LEN(G151)=0,\"\",INDEX('Loan - Uniformity'!$C$1:$C$20,MATCH($G151,'Loan - Uniformity'!$A$1:$A$20,1)))","v":""},"","",{"$f":"IF(OR(LEN(B151)=0,LEN(C151)=0,LEN(D151)=0,LEN(E151)=0,LEN(F151)=0,LEN(G151)=0),\"\",IF('Base Values'!$B$8+(SUM($L151:$P151)/100)<0,0,'Base Values'!$B$8+(SUM(L151:P151)/100)))","v":""},null,{"$f":"IF(AND($T$13=TRUE,H151=1),'Loan - Extraneous'!B$3,IF(AND($T$13=TRUE,H151=2),'Loan - Extraneous'!C$3,0))","v":0},{"$f":"IF(I151=1,'Loan - Extraneous'!$B$4,IF(I151=2,'Loan - Extraneous'!$C$4,0))","v":0},{"$f":"IF(J151=1,'Loan - Extraneous'!$B$5,IF(J151=2,'Loan - Extraneous'!$C$5,0))","v":0}]
[null,null,null,null,null,null,null,null,null,null,"",{"$f":"IF(OR(LEN(B152)=0,LEN(C152)=0,LEN(D152)=0),\"\",IF(K152>=38,INDEX('Loan - Grade & Staple'!$A$1:$K$1000,MATCH($B152&$C152,'Loan - Grade & Staple'!$B$1:$B$1000&'Loan - Grade & Staple'!$C$1:$C$1000,0),MATCH(\"38+\",'Loan - Grade & Staple'!$A$3:$K$3,0)),IF(K152<=31,INDEX('Loan - Grade & Staple'!$A$1:$K$1000,MATCH($B152&$C152,'Loan - Grade & Staple'!$B$1:$B$1000&'Loan - Grade & Staple'!$C$1:$C$1000,0),MATCH(\"26-31\",'Loan - Grade & Staple'!$A$3:$K$3,0)),IF(ISNA(INDEX('Loan - Grade & Staple'!$A$1:$K$1000,MATCH($B152&C152,'Loan - Grade & Staple'!$B$1:$B$1000&'Loan - Grade & Staple'!$C$1:$C$1000,0),MATCH($K152,'Loan - Grade & Staple'!$A$3:$K$3,0))),-4000,INDEX('Loan - Grade & Staple'!$A$1:$K$1000,MATCH($B152&C152,'Loan - Grade & Staple'!$B$1:$B$1000&'Loan - Grade & Staple'!$C$1:$C$1000,0),MATCH($K152,'Loan - Grade & Staple'!$A$3:$K$3,0))))))","v":""},{"$f":"IF(LEN(E152)=0,\"\",INDEX('Loan - Strength'!$C$1:$C$18,MATCH(E152,'Loan - Strength'!$A$1:$A$18,1)))","v":""},{"$f":"IF(LEN(F152)=0,\"\",INDEX('Loan - Micronaire'!$C$1:$C$20,MATCH($F152,'Loan - Micronaire'!$A$1:$A$20,1)))","v":""},{"$f":"IF(LEN(G152)=0,\"\",INDEX('Loan - Uniformity'!$C$1:$C$20,MATCH($G152,'Loan - Uniformity'!$A$1:$A$20,1)))","v":""},"","",{"$f":"IF(OR(LEN(B152)=0,LEN(C152)=0,LEN(D152)=0,LEN(E152)=0,LEN(F152)=0,LEN(G152)=0),\"\",IF('Base Values'!$B$8+(SUM($L152:$P152)/100)<0,0,'Base Values'!$B$8+(SUM(L152:P152)/100)))","v":""},null,{"$f":"IF(AND($T$13=TRUE,H152=1),'Loan - Extraneous'!B$3,IF(AND($T$13=TRUE,H152=2),'Loan - Extraneous'!C$3,0))","v":0},{"$f":"IF(I152=1,'Loan - Extraneous'!$B$4,IF(I152=2,'Loan - Extraneous'!$C$4,0))","v":0},{"$f":"IF(J152=1,'Loan - Extraneous'!$B$5,IF(J152=2,'Loan - Extraneous'!$C$5,0))","v":0}]
[null,null,null,null,null,null,null,null,null,null,"",{"$f":"IF(OR(LEN(B153)=0,LEN(C153)=0,LEN(D153)=0),\"\",IF(K153>=38,INDEX('Loan - Grade & Staple'!$A$1:$K$1000,MATCH($B153&$C153,'Loan - Grade & Staple'!$B$1:$B$1000&'Loan - Grade & Staple'!$C$1:$C$1000,0),MATCH(\"38+\",'Loan - Grade & Staple'!$A$3:$K$3,0)),IF(K153<=31,INDEX('Loan - Grade & Staple'!$A$1:$K$1000,MATCH($B153&$C153,'Loan - Grade & Staple'!$B$1:$B$1000&'Loan - Grade & Staple'!$C$1:$C$1000,0),MATCH(\"26-31\",'Loan - Grade & Staple'!$A$3:$K$3,0)),IF(ISNA(INDEX('Loan - Grade & Staple'!$A$1:$K$1000,MATCH($B153&C153,'Loan - Grade & Staple'!$B$1:$B$1000&'Loan - Grade & Staple'!$C$1:$C$1000,0),MATCH($K153,'Loan - Grade & Staple'!$A$3:$K$3,0))),-4000,INDEX('Loan - Grade & Staple'!$A$1:$K$1000,MATCH($B153&C153,'Loan - Grade & Staple'!$B$1:$B$1000&'Loan - Grade & Staple'!$C$1:$C$1000,0),MATCH($K153,'Loan - Grade & Staple'!$A$3:$K$3,0))))))","v":""},{"$f":"IF(LEN(E153)=0,\"\",INDEX('Loan - Strength'!$C$1:$C$18,MATCH(E153,'Loan - Strength'!$A$1:$A$18,1)))","v":""},{"$f":"IF(LEN(F153)=0,\"\",INDEX('Loan - Micronaire'!$C$1:$C$20,MATCH($F153,'Loan - Micronaire'!$A$1:$A$20,1)))","v":""},{"$f":"IF(LEN(G153)=0,\"\",INDEX('Loan - Uniformity'!$C$1:$C$20,MATCH($G153,'Loan - Uniformity'!$A$1:$A$20,1)))","v":""},"","",{"$f":"IF(OR(LEN(B153)=0,LEN(C153)=0,LEN(D153)=0,LEN(E153)=0,LEN(F153)=0,LEN(G153)=0),\"\",IF('Base Values'!$B$8+(SUM($L153:$P153)/100)<0,0,'Base Values'!$B$8+(SUM(L153:P153)/100)))","v":""},null,{"$f":"IF(AND($T$13=TRUE,H153=1),'Loan - Extraneous'!B$3,IF(AND($T$13=TRUE,H153=2),'Loan - Extraneous'!C$3,0))","v":0},{"$f":"IF(I153=1,'Loan - Extraneous'!$B$4,IF(I153=2,'Loan - Extraneous'!$C$4,0))","v":0},{"$f":"IF(J153=1,'Loan - Extraneous'!$B$5,IF(J153=2,'Loan - Extraneous'!$C$5,0))","v":0}]
[null,null,null,null,null,null,null,null,null,null,{"$f":"IF(LEN(D154)=0,\"\",ROUND(D154*32,0))","v":""},{"$f":"IF(OR(LEN(B154)=0,LEN(C154)=0,LEN(D154)=0),\"\",IF(K154>=38,INDEX('Loan - Grade & Staple'!$A$1:$K$1000,MATCH($B154&$C154,'Loan - Grade & Staple'!$B$1:$B$1000&'Loan - Grade & Staple'!$C$1:$C$1000,0),MATCH(\"38+\",'Loan - Grade & Staple'!$A$3:$K$3,0)),IF(K154<=31,INDEX('Loan - Grade & Staple'!$A$1:$K$1000,MATCH($B154&$C154,'Loan - Grade & Staple'!$B$1:$B$1000&'Loan - Grade & Staple'!$C$1:$C$1000,0),MATCH(\"26-31\",'Loan - Grade & Staple'!$A$3:$K$3,0)),IF(ISNA(INDEX('Loan - Grade & Staple'!$A$1:$K$1000,MATCH($B154&C154,'Loan - Grade & Staple'!$B$1:$B$1000&'Loan - Grade & Staple'!$C$1:$C$1000,0),MATCH($K154,'Loan - Grade & Staple'!$A$3:$K$3,0))),-4000,INDEX('Loan - Grade & Staple'!$A$1:$K$1000,MATCH($B154&C154,'Loan - Grade & Staple'!$B$1:$B$1000&'Loan - Grade & Staple'!$C$1:$C$1000,0),MATCH($K154,'Loan - Grade & Staple'!$A$3:$K$3,0))))))","v":""},{"$f":"IF(LEN(E154)=0,\"\",INDEX('Loan - Strength'!$C$1:$C$18,MATCH(E154,'Loan - Strength'!$A$1:$A$18,1)))","v":""},{"$f":"IF(LEN(F154)=0,\"\",INDEX('Loan - Micronaire'!$C$1:$C$20,MATCH($F154,'Loan - Micronaire'!$A$1:$A$20,1)))","v":""},{"$f":"IF(LEN(G154)=0,\"\",INDEX('Loan - Uniformity'!$C$1:$C$20,MATCH($G154,'Loan - Uniformity'!$A$1:$A$20,1)))","v":""},{"$f":"IF(LEN(A154)=0,\"\",SUM(T154:V154))","v":""},{"$f":"IF(OR(LEN(B154)=0,LEN(C154)=0,LEN(D154)=0,LEN(E154)=0,LEN(F154)=0,LEN(G154)=0),\"\",SUM(L154:P154))","v":""},{"$f":"IF(OR(LEN(B154)=0,LEN(C154)=0,LEN(D154)=0,LEN(E154)=0,LEN(F154)=0,LEN(G154)=0),\"\",IF('Base Values'!$B$8+(SUM($L154:$P154)/100)<0,0,'Base Values'!$B$8+(SUM(L154:P154)/100)))","v":""},null,{"$f":"IF(AND($T$13=TRUE,H154=1),'Loan - Extraneous'!B$3,IF(AND($T$13=TRUE,H154=2),'Loan - Extraneous'!C$3,0))","v":0},{"$f":"IF(I154=1,'Loan - Extraneous'!$B$4,IF(I154=2,'Loan - Extraneous'!$C$4,0))","v":0},{"$f":"IF(J154=1,'Loan - Extraneous'!$B$5,IF(J154=2,'Loan - Extraneous'!$C$5,0))","v":0}]
[null,null,null,null,null,null,null,null,null,null,"",{"$f":"IF(OR(LEN(B155)=0,LEN(C155)=0,LEN(D155)=0),\"\",IF(K155>=38,INDEX('Loan - Grade & Staple'!$A$1:$K$1000,MATCH($B155&$C155,'Loan - Grade & Staple'!$B$1:$B$1000&'Loan - Grade & Staple'!$C$1:$C$1000,0),MATCH(\"38+\",'Loan - Grade & Staple'!$A$3:$K$3,0)),IF(K155<=31,INDEX('Loan - Grade & Staple'!$A$1:$K$1000,MATCH($B155&$C155,'Loan - Grade & Staple'!$B$1:$B$1000&'Loan - Grade & Staple'!$C$1:$C$1000,0),MATCH(\"26-31\",'Loan - Grade & Staple'!$A$3:$K$3,0)),IF(ISNA(INDEX('Loan - Grade & Staple'!$A$1:$K$1000,MATCH($B155&C155,'Loan - Grade & Staple'!$B$1:$B$1000&'Loan - Grade & Staple'!$C$1:$C$1000,0),MATCH($K155,'Loan - Grade & Staple'!$A$3:$K$3,0))),-4000,INDEX('Loan - Grade & Staple'!$A$1:$K$1000,MATCH($B155&C155,'Loan - Grade & Staple'!$B$1:$B$1000&'Loan - Grade & Staple'!$C$1:$C$1000,0),MATCH($K155,'Loan - Grade & Staple'!$A$3:$K$3,0))))))","v":""},{"$f":"IF(LEN(E155)=0,\"\",INDEX('Loan - Strength'!$C$1:$C$18,MATCH(E155,'Loan - Strength'!$A$1:$A$18,1)))","v":""},{"$f":"IF(LEN(F155)=0,\"\",INDEX('Loan - Micronaire'!$C$1:$C$20,MATCH($F155,'Loan - Micronaire'!$A$1:$A$20,1)))","v":""},{"$f":"IF(LEN(G155)=0,\"\",INDEX('Loan - Uniformity'!$C$1:$C$20,MATCH($G155,'Loan - Uniformity'!$A$1:$A$20,1)))","v":""},"","",{"$f":"IF(OR(LEN(B155)=0,LEN(C155)=0,LEN(D155)=0,LEN(E155)=0,LEN(F155)=0,LEN(G155)=0),\"\",IF('Base Values'!$B$8+(SUM($L155:$P155)/100)<0,0,'Base Values'!$B$8+(SUM(L155:P155)/100)))","v":""},null,{"$f":"IF(AND($T$13=TRUE,H155=1),'Loan - Extraneous'!B$3,IF(AND($T$13=TRUE,H155=2),'Loan - Extraneous'!C$3,0))","v":0},{"$f":"IF(I155=1,'Loan - Extraneous'!$B$4,IF(I155=2,'Loan - Extraneous'!$C$4,0))","v":0},{"$f":"IF(J155=1,'Loan - Extraneous'!$B$5,IF(J155=2,'Loan - Extraneous'!$C$5,0))","v":0}]
[null,null,null,null,null,null,null,null,null,null,"",{"$f":"IF(OR(LEN(B156)=0,LEN(C156)=0,LEN(D156)=0),\"\",IF(K156>=38,INDEX('Loan - Grade & Staple'!$A$1:$K$1000,MATCH($B156&$C156,'Loan - Grade & Staple'!$B$1:$B$1000&'Loan - Grade & Staple'!$C$1:$C$1000,0),MATCH(\"38+\",'Loan - Grade & Staple'!$A$3:$K$3,0)),IF(K156<=31,INDEX('Loan - Grade & Staple'!$A$1:$K$1000,MATCH($B156&$C156,'Loan - Grade & Staple'!$B$1:$B$1000&'Loan - Grade & Staple'!$C$1:$C$1000,0),MATCH(\"26-31\",'Loan - Grade & Staple'!$A$3:$K$3,0)),IF(ISNA(INDEX('Loan - Grade & Staple'!$A$1:$K$1000,MATCH($B156&C156,'Loan - Grade & Staple'!$B$1:$B$1000&'Loan - Grade & Staple'!$C$1:$C$1000,0),MATCH($K156,'Loan - Grade & Staple'!$A$3:$K$3,0))),-4000,INDEX('Loan - Grade & Staple'!$A$1:$K$1000,MATCH($B156&C156,'Loan - Grade & Staple'!$B$1:$B$1000&'Loan - Grade & Staple'!$C$1:$C$1000,0),MATCH($K156,'Loan - Grade & Staple'!$A$3:$K$3,0))))))","v":""},{"$f":"IF(LEN(E156)=0,\"\",INDEX('Loan - Strength'!$C$1:$C$18,MATCH(E156,'Loan - Strength'!$A$1:$A$18,1)))","v":""},{"$f":"IF(LEN(F156)=0,\"\",INDEX('Loan - Micronaire'!$C$1:$C$20,MATCH($F156,'Loan - Micronaire'!$A$1:$A$20,1)))","v":""},{"$f":"IF(LEN(G156)=0,\"\",INDEX('Loan - Uniformity'!$C$1:$C$20,MATCH($G156,'Loan - Uniformity'!$A$1:$A$20,1)))","v":""},"","",{"$f":"IF(OR(LEN(B156)=0,LEN(C156)=0,LEN(D156)=0,LEN(E156)=0,LEN(F156)=0,LEN(G156)=0),\"\",IF('Base Values'!$B$8+(SUM($L156:$P156)/100)<0,0,'Base Values'!$B$8+(SUM(L156:P156)/100)))","v":""},null,{"$f":"IF(AND($T$13=TRUE,H156=1),'Loan - Extraneous'!B$3,IF(AND($T$13=TRUE,H156=2),'Loan - Extraneous'!C$3,0))","v":0},{"$f":"IF(I156=1,'Loan - Extraneous'!$B$4,IF(I156=2,'Loan - Extraneous'!$C$4,0))","v":0},{"$f":"IF(J156=1,'Loan - Extraneous'!$B$5,IF(J156=2,'Loan - Extraneous'!$C$5,0))","v":0}]
[null,null,null,null,null,null,null,null,null,null,"",{"$f":"IF(OR(LEN(B157)=0,LEN(C157)=0,LEN(D157)=0),\"\",IF(K157>=38,INDEX('Loan - Grade & Staple'!$A$1:$K$1000,MATCH($B157&$C157,'Loan - Grade & Staple'!$B$1:$B$1000&'Loan - Grade & Staple'!$C$1:$C$1000,0),MATCH(\"38+\",'Loan - Grade & Staple'!$A$3:$K$3,0)),IF(K157<=31,INDEX('Loan - Grade & Staple'!$A$1:$K$1000,MATCH($B157&$C157,'Loan - Grade & Staple'!$B$1:$B$1000&'Loan - Grade & Staple'!$C$1:$C$1000,0),MATCH(\"26-31\",'Loan - Grade & Staple'!$A$3:$K$3,0)),IF(ISNA(INDEX('Loan - Grade & Staple'!$A$1:$K$1000,MATCH($B157&C157,'Loan - Grade & Staple'!$B$1:$B$1000&'Loan - Grade & Staple'!$C$1:$C$1000,0),MATCH($K157,'Loan - Grade & Staple'!$A$3:$K$3,0))),-4000,INDEX('Loan - Grade & Staple'!$A$1:$K$1000,MATCH($B157&C157,'Loan - Grade & Staple'!$B$1:$B$1000&'Loan - Grade & Staple'!$C$1:$C$1000,0),MATCH($K157,'Loan - Grade & Staple'!$A$3:$K$3,0))))))","v":""},{"$f":"IF(LEN(E157)=0,\"\",INDEX('Loan - Strength'!$C$1:$C$18,MATCH(E157,'Loan - Strength'!$A$1:$A$18,1)))","v":""},{"$f":"IF(LEN(F157)=0,\"\",INDEX('Loan - Micronaire'!$C$1:$C$20,MATCH($F157,'Loan - Micronaire'!$A$1:$A$20,1)))","v":""},{"$f":"IF(LEN(G157)=0,\"\",INDEX('Loan - Uniformity'!$C$1:$C$20,MATCH($G157,'Loan - Uniformity'!$A$1:$A$20,1)))","v":""},"","",{"$f":"IF(OR(LEN(B157)=0,LEN(C157)=0,LEN(D157)=0,LEN(E157)=0,LEN(F157)=0,LEN(G157)=0),\"\",IF('Base Values'!$B$8+(SUM($L157:$P157)/100)<0,0,'Base Values'!$B$8+(SUM(L157:P157)/100)))","v":""},null,{"$f":"IF(AND($T$13=TRUE,H157=1),'Loan - Extraneous'!B$3,IF(AND($T$13=TRUE,H157=2),'Loan - Extraneous'!C$3,0))","v":0},{"$f":"IF(I157=1,'Loan - Extraneous'!$B$4,IF(I157=2,'Loan - Extraneous'!$C$4,0))","v":0},{"$f":"IF(J157=1,'Loan - Extraneous'!$B$5,IF(J157=2,'Loan - Extraneous'!$C$5,0))","v":0}]
[null,null,null,null,null,null,null,null,null,null,"",{"$f":"IF(OR(LEN(B158)=0,LEN(C158)=0,LEN(D158)=0),\"\",IF(K158>=38,INDEX('Loan - Grade & Staple'!$A$1:$K$1000,MATCH($B158&$C158,'Loan - Grade & Staple'!$B$1:$B$1000&'Loan - Grade & Staple'!$C$1:$C$1000,0),MATCH(\"38+\",'Loan - Grade & Staple'!$A$3:$K$3,0)),IF(K158<=31,INDEX('Loan - Grade & Staple'!$A$1:$K$1000,MATCH($B158&$C158,'Loan - Grade & Staple'!$B$1:$B$1000&'Loan - Grade & Staple'!$C$1:$C$1000,0),MATCH(\"26-31\",'Loan - Grade & Staple'!$A$3:$K$3,0)),IF(ISNA(INDEX('Loan - Grade & Staple'!$A$1:$K$1000,MATCH($B158&C158,'Loan - Grade & Staple'!$B$1:$B$1000&'Loan - Grade & Staple'!$C$1:$C$1000,0),MATCH($K158,'Loan - Grade & Staple'!$A$3:$K$3,0))),-4000,INDEX('Loan - Grade & Staple'!$A$1:$K$1000,MATCH($B158&C158,'Loan - Grade & Staple'!$B$1:$B$1000&'Loan - Grade & Staple'!$C$1:$C$1000,0),MATCH($K158,'Loan - Grade & Staple'!$A$3:$K$3,0))))))","v":""},{"$f":"IF(LEN(E158)=0,\"\",INDEX('Loan - Strength'!$C$1:$C$18,MATCH(E158,'Loan - Strength'!$A$1:$A$18,1)))","v":""},{"$f":"IF(LEN(F158)=0,\"\",INDEX('Loan - Micronaire'!$C$1:$C$20,MATCH($F158,'Loan - Micronaire'!$A$1:$A$20,1)))","v":""},{"$f":"IF(LEN(G158)=0,\"\",INDEX('Loan - Uniformity'!$C$1:$C$20,MATCH($G158,'Loan - Uniformity'!$A$1:$A$20,1)))","v":""},"","",{"$f":"IF(OR(LEN(B158)=0,LEN(C158)=0,LEN(D158)=0,LEN(E158)=0,LEN(F158)=0,LEN(G158)=0),\"\",IF('Base Values'!$B$8+(SUM($L158:$P158)/100)<0,0,'Base Values'!$B$8+(SUM(L158:P158)/100)))","v":""},null,{"$f":"IF(AND($T$13=TRUE,H158=1),'Loan - Extraneous'!B$3,IF(AND($T$13=TRUE,H158=2),'Loan - Extraneous'!C$3,0))","v":0},{"$f":"IF(I158=1,'Loan - Extraneous'!$B$4,IF(I158=2,'Loan - Extraneous'!$C$4,0))","v":0},{"$f":"IF(J158=1,'Loan - Extraneous'!$B$5,IF(J158=2,'Loan - Extraneous'!$C$5,0))","v":0}]
[null,null,null,null,null,null,null,null,null,null,"",{"$f":"IF(OR(LEN(B159)=0,LEN(C159)=0,LEN(D159)=0),\"\",IF(K159>=38,INDEX('Loan - Grade & Staple'!$A$1:$K$1000,MATCH($B159&$C159,'Loan - Grade & Staple'!$B$1:$B$1000&'Loan - Grade & Staple'!$C$1:$C$1000,0),MATCH(\"38+\",'Loan - Grade & Staple'!$A$3:$K$3,0)),IF(K159<=31,INDEX('Loan - Grade & Staple'!$A$1:$K$1000,MATCH($B159&$C159,'Loan - Grade & Staple'!$B$1:$B$1000&'Loan - Grade & Staple'!$C$1:$C$1000,0),MATCH(\"26-31\",'Loan - Grade & Staple'!$A$3:$K$3,0)),IF(ISNA(INDEX('Loan - Grade & Staple'!$A$1:$K$1000,MATCH($B159&C159,'Loan - Grade & Staple'!$B$1:$B$1000&'Loan - Grade & Staple'!$C$1:$C$1000,0),MATCH($K159,'Loan - Grade & Staple'!$A$3:$K$3,0))),-4000,INDEX('Loan - Grade & Staple'!$A$1:$K$1000,MATCH($B159&C159,'Loan - Grade & Staple'!$B$1:$B$1000&'Loan - Grade & Staple'!$C$1:$C$1000,0),MATCH($K159,'Loan - Grade & Staple'!$A$3:$K$3,0))))))","v":""},{"$f":"IF(LEN(E159)=0,\"\",INDEX('Loan - Strength'!$C$1:$C$18,MATCH(E159,'Loan - Strength'!$A$1:$A$18,1)))","v":""},{"$f":"IF(LEN(F159)=0,\"\",INDEX('Loan - Micronaire'!$C$1:$C$20,MATCH($F159,'Loan - Micronaire'!$A$1:$A$20,1)))","v":""},{"$f":"IF(LEN(G159)=0,\"\",INDEX('Loan - Uniformity'!$C$1:$C$20,MATCH($G159,'Loan - Uniformity'!$A$1:$A$20,1)))","v":""},"","",{"$f":"IF(OR(LEN(B159)=0,LEN(C159)=0,LEN(D159)=0,LEN(E159)=0,LEN(F159)=0,LEN(G159)=0),\"\",IF('Base Values'!$B$8+(SUM($L159:$P159)/100)<0,0,'Base Values'!$B$8+(SUM(L159:P159)/100)))","v":""},null,{"$f":"IF(AND($T$13=TRUE,H159=1),'Loan - Extraneous'!B$3,IF(AND($T$13=TRUE,H159=2),'Loan - Extraneous'!C$3,0))","v":0},{"$f":"IF(I159=1,'Loan - Extraneous'!$B$4,IF(I159=2,'Loan - Extraneous'!$C$4,0))","v":0},{"$f":"IF(J159=1,'Loan - Extraneous'!$B$5,IF(J159=2,'Loan - Extraneous'!$C$5,0))","v":0}]
[null,null,null,null,null,null,null,null,null,null,"",{"$f":"IF(OR(LEN(B160)=0,LEN(C160)=0,LEN(D160)=0),\"\",IF(K160>=38,INDEX('Loan - Grade & Staple'!$A$1:$K$1000,MATCH($B160&$C160,'Loan - Grade & Staple'!$B$1:$B$1000&'Loan - Grade & Staple'!$C$1:$C$1000,0),MATCH(\"38+\",'Loan - Grade & Staple'!$A$3:$K$3,0)),IF(K160<=31,INDEX('Loan - Grade & Staple'!$A$1:$K$1000,MATCH($B160&$C160,'Loan - Grade & Staple'!$B$1:$B$1000&'Loan - Grade & Staple'!$C$1:$C$1000,0),MATCH(\"26-31\",'Loan - Grade & Staple'!$A$3:$K$3,0)),IF(ISNA(INDEX('Loan - Grade & Staple'!$A$1:$K$1000,MATCH($B160&C160,'Loan - Grade & Staple'!$B$1:$B$1000&'Loan - Grade & Staple'!$C$1:$C$1000,0),MATCH($K160,'Loan - Grade & Staple'!$A$3:$K$3,0))),-4000,INDEX('Loan - Grade & Staple'!$A$1:$K$1000,MATCH($B160&C160,'Loan - Grade & Staple'!$B$1:$B$1000&'Loan - Grade & Staple'!$C$1:$C$1000,0),MATCH($K160,'Loan - Grade & Staple'!$A$3:$K$3,0))))))","v":""},{"$f":"IF(LEN(E160)=0,\"\",INDEX('Loan - Strength'!$C$1:$C$18,MATCH(E160,'Loan - Strength'!$A$1:$A$18,1)))","v":""},{"$f":"IF(LEN(F160)=0,\"\",INDEX('Loan - Micronaire'!$C$1:$C$20,MATCH($F160,'Loan - Micronaire'!$A$1:$A$20,1)))","v":""},{"$f":"IF(LEN(G160)=0,\"\",INDEX('Loan - Uniformity'!$C$1:$C$20,MATCH($G160,'Loan - Uniformity'!$A$1:$A$20,1)))","v":""},"","",{"$f":"IF(OR(LEN(B160)=0,LEN(C160)=0,LEN(D160)=0,LEN(E160)=0,LEN(F160)=0,LEN(G160)=0),\"\",IF('Base Values'!$B$8+(SUM($L160:$P160)/100)<0,0,'Base Values'!$B$8+(SUM(L160:P160)/100)))","v":""},null,{"$f":"IF(AND($T$13=TRUE,H160=1),'Loan - Extraneous'!B$3,IF(AND($T$13=TRUE,H160=2),'Loan - Extraneous'!C$3,0))","v":0},{"$f":"IF(I160=1,'Loan - Extraneous'!$B$4,IF(I160=2,'Loan - Extraneous'!$C$4,0))","v":0},{"$f":"IF(J160=1,'Loan - Extraneous'!$B$5,IF(J160=2,'Loan - Extraneous'!$C$5,0))","v":0}]
[null,null,null,null,null,null,null,null,null,null,"",{"$f":"IF(OR(LEN(B161)=0,LEN(C161)=0,LEN(D161)=0),\"\",IF(K161>=38,INDEX('Loan - Grade & Staple'!$A$1:$K$1000,MATCH($B161&$C161,'Loan - Grade & Staple'!$B$1:$B$1000&'Loan - Grade & Staple'!$C$1:$C$1000,0),MATCH(\"38+\",'Loan - Grade & Staple'!$A$3:$K$3,0)),IF(K161<=31,INDEX('Loan - Grade & Staple'!$A$1:$K$1000,MATCH($B161&$C161,'Loan - Grade & Staple'!$B$1:$B$1000&'Loan - Grade & Staple'!$C$1:$C$1000,0),MATCH(\"26-31\",'Loan - Grade & Staple'!$A$3:$K$3,0)),IF(ISNA(INDEX('Loan - Grade & Staple'!$A$1:$K$1000,MATCH($B161&C161,'Loan - Grade & Staple'!$B$1:$B$1000&'Loan - Grade & Staple'!$C$1:$C$1000,0),MATCH($K161,'Loan - Grade & Staple'!$A$3:$K$3,0))),-4000,INDEX('Loan - Grade & Staple'!$A$1:$K$1000,MATCH($B161&C161,'Loan - Grade & Staple'!$B$1:$B$1000&'Loan - Grade & Staple'!$C$1:$C$1000,0),MATCH($K161,'Loan - Grade & Staple'!$A$3:$K$3,0))))))","v":""},{"$f":"IF(LEN(E161)=0,\"\",INDEX('Loan - Strength'!$C$1:$C$18,MATCH(E161,'Loan - Strength'!$A$1:$A$18,1)))","v":""},{"$f":"IF(LEN(F161)=0,\"\",INDEX('Loan - Micronaire'!$C$1:$C$20,MATCH($F161,'Loan - Micronaire'!$A$1:$A$20,1)))","v":""},{"$f":"IF(LEN(G161)=0,\"\",INDEX('Loan - Uniformity'!$C$1:$C$20,MATCH($G161,'Loan - Uniformity'!$A$1:$A$20,1)))","v":""},"","",{"$f":"IF(OR(LEN(B161)=0,LEN(C161)=0,LEN(D161)=0,LEN(E161)=0,LEN(F161)=0,LEN(G161)=0),\"\",IF('Base Values'!$B$8+(SUM($L161:$P161)/100)<0,0,'Base Values'!$B$8+(SUM(L161:P161)/100)))","v":""},null,{"$f":"IF(AND($T$13=TRUE,H161=1),'Loan - Extraneous'!B$3,IF(AND($T$13=TRUE,H161=2),'Loan - Extraneous'!C$3,0))","v":0},{"$f":"IF(I161=1,'Loan - Extraneous'!$B$4,IF(I161=2,'Loan - Extraneous'!$C$4,0))","v":0},{"$f":"IF(J161=1,'Loan - Extraneous'!$B$5,IF(J161=2,'Loan - Extraneous'!$C$5,0))","v":0}]
[null,null,null,null,null,null,null,null,null,null,"",{"$f":"IF(OR(LEN(B162)=0,LEN(C162)=0,LEN(D162)=0),\"\",IF(K162>=38,INDEX('Loan - Grade & Staple'!$A$1:$K$1000,MATCH($B162&$C162,'Loan - Grade & Staple'!$B$1:$B$1000&'Loan - Grade & Staple'!$C$1:$C$1000,0),MATCH(\"38+\",'Loan - Grade & Staple'!$A$3:$K$3,0)),IF(K162<=31,INDEX('Loan - Grade & Staple'!$A$1:$K$1000,MATCH($B162&$C162,'Loan - Grade & Staple'!$B$1:$B$1000&'Loan - Grade & Staple'!$C$1:$C$1000,0),MATCH(\"26-31\",'Loan - Grade & Staple'!$A$3:$K$3,0)),IF(ISNA(INDEX('Loan - Grade & Staple'!$A$1:$K$1000,MATCH($B162&C162,'Loan - Grade & Staple'!$B$1:$B$1000&'Loan - Grade & Staple'!$C$1:$C$1000,0),MATCH($K162,'Loan - Grade & Staple'!$A$3:$K$3,0))),-4000,INDEX('Loan - Grade & Staple'!$A$1:$K$1000,MATCH($B162&C162,'Loan - Grade & Staple'!$B$1:$B$1000&'Loan - Grade & Staple'!$C$1:$C$1000,0),MATCH($K162,'Loan - Grade & Staple'!$A$3:$K$3,0))))))","v":""},{"$f":"IF(LEN(E162)=0,\"\",INDEX('Loan - Strength'!$C$1:$C$18,MATCH(E162,'Loan - Strength'!$A$1:$A$18,1)))","v":""},{"$f":"IF(LEN(F162)=0,\"\",INDEX('Loan - Micronaire'!$C$1:$C$20,MATCH($F162,'Loan - Micronaire'!$A$1:$A$20,1)))","v":""},{"$f":"IF(LEN(G162)=0,\"\",INDEX('Loan - Uniformity'!$C$1:$C$20,MATCH($G162,'Loan - Uniformity'!$A$1:$A$20,1)))","v":""},"","",{"$f":"IF(OR(LEN(B162)=0,LEN(C162)=0,LEN(D162)=0,LEN(E162)=0,LEN(F162)=0,LEN(G162)=0),\"\",IF('Base Values'!$B$8+(SUM($L162:$P162)/100)<0,0,'Base Values'!$B$8+(SUM(L162:P162)/100)))","v":""},null,{"$f":"IF(AND($T$13=TRUE,H162=1),'Loan - Extraneous'!B$3,IF(AND($T$13=TRUE,H162=2),'Loan - Extraneous'!C$3,0))","v":0},{"$f":"IF(I162=1,'Loan - Extraneous'!$B$4,IF(I162=2,'Loan - Extraneous'!$C$4,0))","v":0},{"$f":"IF(J162=1,'Loan - Extraneous'!$B$5,IF(J162=2,'Loan - Extraneous'!$C$5,0))","v":0}]
[null,null,null,null,null,null,null,null,null,null,"",{"$f":"IF(OR(LEN(B163)=0,LEN(C163)=0,LEN(D163)=0),\"\",IF(K163>=38,INDEX('Loan - Grade & Staple'!$A$1:$K$1000,MATCH($B163&$C163,'Loan - Grade & Staple'!$B$1:$B$1000&'Loan - Grade & Staple'!$C$1:$C$1000,0),MATCH(\"38+\",'Loan - Grade & Staple'!$A$3:$K$3,0)),IF(K163<=31,INDEX('Loan - Grade & Staple'!$A$1:$K$1000,MATCH($B163&$C163,'Loan - Grade & Staple'!$B$1:$B$1000&'Loan - Grade & Staple'!$C$1:$C$1000,0),MATCH(\"26-31\",'Loan - Grade & Staple'!$A$3:$K$3,0)),IF(ISNA(INDEX('Loan - Grade & Staple'!$A$1:$K$1000,MATCH($B163&C163,'Loan - Grade & Staple'!$B$1:$B$1000&'Loan - Grade & Staple'!$C$1:$C$1000,0),MATCH($K163,'Loan - Grade & Staple'!$A$3:$K$3,0))),-4000,INDEX('Loan - Grade & Staple'!$A$1:$K$1000,MATCH($B163&C163,'Loan - Grade & Staple'!$B$1:$B$1000&'Loan - Grade & Staple'!$C$1:$C$1000,0),MATCH($K163,'Loan - Grade & Staple'!$A$3:$K$3,0))))))","v":""},{"$f":"IF(LEN(E163)=0,\"\",INDEX('Loan - Strength'!$C$1:$C$18,MATCH(E163,'Loan - Strength'!$A$1:$A$18,1)))","v":""},{"$f":"IF(LEN(F163)=0,\"\",INDEX('Loan - Micronaire'!$C$1:$C$20,MATCH($F163,'Loan - Micronaire'!$A$1:$A$20,1)))","v":""},{"$f":"IF(LEN(G163)=0,\"\",INDEX('Loan - Uniformity'!$C$1:$C$20,MATCH($G163,'Loan - Uniformity'!$A$1:$A$20,1)))","v":""},"","",{"$f":"IF(OR(LEN(B163)=0,LEN(C163)=0,LEN(D163)=0,LEN(E163)=0,LEN(F163)=0,LEN(G163)=0),\"\",IF('Base Values'!$B$8+(SUM($L163:$P163)/100)<0,0,'Base Values'!$B$8+(SUM(L163:P163)/100)))","v":""},null,{"$f":"IF(AND($T$13=TRUE,H163=1),'Loan - Extraneous'!B$3,IF(AND($T$13=TRUE,H163=2),'Loan - Extraneous'!C$3,0))","v":0},{"$f":"IF(I163=1,'Loan - Extraneous'!$B$4,IF(I163=2,'Loan - Extraneous'!$C$4,0))","v":0},{"$f":"IF(J163=1,'Loan - Extraneous'!$B$5,IF(J163=2,'Loan - Extraneous'!$C$5,0))","v":0}]
[null,null,null,null,null,null,null,null,null,null,"",{"$f":"IF(OR(LEN(B164)=0,LEN(C164)=0,LEN(D164)=0),\"\",IF(K164>=38,INDEX('Loan - Grade & Staple'!$A$1:$K$1000,MATCH($B164&$C164,'Loan - Grade & Staple'!$B$1:$B$1000&'Loan - Grade & Staple'!$C$1:$C$1000,0),MATCH(\"38+\",'Loan - Grade & Staple'!$A$3:$K$3,0)),IF(K164<=31,INDEX('Loan - Grade & Staple'!$A$1:$K$1000,MATCH($B164&$C164,'Loan - Grade & Staple'!$B$1:$B$1000&'Loan - Grade & Staple'!$C$1:$C$1000,0),MATCH(\"26-31\",'Loan - Grade & Staple'!$A$3:$K$3,0)),IF(ISNA(INDEX('Loan - Grade & Staple'!$A$1:$K$1000,MATCH($B164&C164,'Loan - Grade & Staple'!$B$1:$B$1000&'Loan - Grade & Staple'!$C$1:$C$1000,0),MATCH($K164,'Loan - Grade & Staple'!$A$3:$K$3,0))),-4000,INDEX('Loan - Grade & Staple'!$A$1:$K$1000,MATCH($B164&C164,'Loan - Grade & Staple'!$B$1:$B$1000&'Loan - Grade & Staple'!$C$1:$C$1000,0),MATCH($K164,'Loan - Grade & Staple'!$A$3:$K$3,0))))))","v":""},{"$f":"IF(LEN(E164)=0,\"\",INDEX('Loan - Strength'!$C$1:$C$18,MATCH(E164,'Loan - Strength'!$A$1:$A$18,1)))","v":""},{"$f":"IF(LEN(F164)=0,\"\",INDEX('Loan - Micronaire'!$C$1:$C$20,MATCH($F164,'Loan - Micronaire'!$A$1:$A$20,1)))","v":""},{"$f":"IF(LEN(G164)=0,\"\",INDEX('Loan - Uniformity'!$C$1:$C$20,MATCH($G164,'Loan - Uniformity'!$A$1:$A$20,1)))","v":""},"","",{"$f":"IF(OR(LEN(B164)=0,LEN(C164)=0,LEN(D164)=0,LEN(E164)=0,LEN(F164)=0,LEN(G164)=0),\"\",IF('Base Values'!$B$8+(SUM($L164:$P164)/100)<0,0,'Base Values'!$B$8+(SUM(L164:P164)/100)))","v":""},null,{"$f":"IF(AND($T$13=TRUE,H164=1),'Loan - Extraneous'!B$3,IF(AND($T$13=TRUE,H164=2),'Loan - Extraneous'!C$3,0))","v":0},{"$f":"IF(I164=1,'Loan - Extraneous'!$B$4,IF(I164=2,'Loan - Extraneous'!$C$4,0))","v":0},{"$f":"IF(J164=1,'Loan - Extraneous'!$B$5,IF(J164=2,'Loan - Extraneous'!$C$5,0))","v":0}]
[null,null,null,null,null,null,null,null,null,null,"",{"$f":"IF(OR(LEN(B165)=0,LEN(C165)=0,LEN(D165)=0),\"\",IF(K165>=38,INDEX('Loan - Grade & Staple'!$A$1:$K$1000,MATCH($B165&$C165,'Loan - Grade & Staple'!$B$1:$B$1000&'Loan - Grade & Staple'!$C$1:$C$1000,0),MATCH(\"38+\",'Loan - Grade & Staple'!$A$3:$K$3,0)),IF(K165<=31,INDEX('Loan - Grade & Staple'!$A$1:$K$1000,MATCH($B165&$C165,'Loan - Grade & Staple'!$B$1:$B$1000&'Loan - Grade & Staple'!$C$1:$C$1000,0),MATCH(\"26-31\",'Loan - Grade & Staple'!$A$3:$K$3,0)),IF(ISNA(INDEX('Loan - Grade & Staple'!$A$1:$K$1000,MATCH($B165&C165,'Loan - Grade & Staple'!$B$1:$B$1000&'Loan - Grade & Staple'!$C$1:$C$1000,0),MATCH($K165,'Loan - Grade & Staple'!$A$3:$K$3,0))),-4000,INDEX('Loan - Grade & Staple'!$A$1:$K$1000,MATCH($B165&C165,'Loan - Grade & Staple'!$B$1:$B$1000&'Loan - Grade & Staple'!$C$1:$C$1000,0),MATCH($K165,'Loan - Grade & Staple'!$A$3:$K$3,0))))))","v":""},{"$f":"IF(LEN(E165)=0,\"\",INDEX('Loan - Strength'!$C$1:$C$18,MATCH(E165,'Loan - Strength'!$A$1:$A$18,1)))","v":""},{"$f":"IF(LEN(F165)=0,\"\",INDEX('Loan - Micronaire'!$C$1:$C$20,MATCH($F165,'Loan - Micronaire'!$A$1:$A$20,1)))","v":""},{"$f":"IF(LEN(G165)=0,\"\",INDEX('Loan - Uniformity'!$C$1:$C$20,MATCH($G165,'Loan - Uniformity'!$A$1:$A$20,1)))","v":""},"","",{"$f":"IF(OR(LEN(B165)=0,LEN(C165)=0,LEN(D165)=0,LEN(E165)=0,LEN(F165)=0,LEN(G165)=0),\"\",IF('Base Values'!$B$8+(SUM($L165:$P165)/100)<0,0,'Base Values'!$B$8+(SUM(L165:P165)/100)))","v":""},null,{"$f":"IF(AND($T$13=TRUE,H165=1),'Loan - Extraneous'!B$3,IF(AND($T$13=TRUE,H165=2),'Loan - Extraneous'!C$3,0))","v":0},{"$f":"IF(I165=1,'Loan - Extraneous'!$B$4,IF(I165=2,'Loan - Extraneous'!$C$4,0))","v":0},{"$f":"IF(J165=1,'Loan - Extraneous'!$B$5,IF(J165=2,'Loan - Extraneous'!$C$5,0))","v":0}]
[null,null,null,null,null,null,null,null,null,null,"",{"$f":"IF(OR(LEN(B166)=0,LEN(C166)=0,LEN(D166)=0),\"\",IF(K166>=38,INDEX('Loan - Grade & Staple'!$A$1:$K$1000,MATCH($B166&$C166,'Loan - Grade & Staple'!$B$1:$B$1000&'Loan - Grade & Staple'!$C$1:$C$1000,0),MATCH(\"38+\",'Loan - Grade & Staple'!$A$3:$K$3,0)),IF(K166<=31,INDEX('Loan - Grade & Staple'!$A$1:$K$1000,MATCH($B166&$C166,'Loan - Grade & Staple'!$B$1:$B$1000&'Loan - Grade & Staple'!$C$1:$C$1000,0),MATCH(\"26-31\",'Loan - Grade & Staple'!$A$3:$K$3,0)),IF(ISNA(INDEX('Loan - Grade & Staple'!$A$1:$K$1000,MATCH($B166&C166,'Loan - Grade & Staple'!$B$1:$B$1000&'Loan - Grade & Staple'!$C$1:$C$1000,0),MATCH($K166,'Loan - Grade & Staple'!$A$3:$K$3,0))),-4000,INDEX('Loan - Grade & Staple'!$A$1:$K$1000,MATCH($B166&C166,'Loan - Grade & Staple'!$B$1:$B$1000&'Loan - Grade & Staple'!$C$1:$C$1000,0),MATCH($K166,'Loan - Grade & Staple'!$A$3:$K$3,0))))))","v":""},{"$f":"IF(LEN(E166)=0,\"\",INDEX('Loan - Strength'!$C$1:$C$18,MATCH(E166,'Loan - Strength'!$A$1:$A$18,1)))","v":""},{"$f":"IF(LEN(F166)=0,\"\",INDEX('Loan - Micronaire'!$C$1:$C$20,MATCH($F166,'Loan - Micronaire'!$A$1:$A$20,1)))","v":""},{"$f":"IF(LEN(G166)=0,\"\",INDEX('Loan - Uniformity'!$C$1:$C$20,MATCH($G166,'Loan - Uniformity'!$A$1:$A$20,1)))","v":""},"","",{"$f":"IF(OR(LEN(B166)=0,LEN(C166)=0,LEN(D166)=0,LEN(E166)=0,LEN(F166)=0,LEN(G166)=0),\"\",IF('Base Values'!$B$8+(SUM($L166:$P166)/100)<0,0,'Base Values'!$B$8+(SUM(L166:P166)/100)))","v":""},null,{"$f":"IF(AND($T$13=TRUE,H166=1),'Loan - Extraneous'!B$3,IF(AND($T$13=TRUE,H166=2),'Loan - Extraneous'!C$3,0))","v":0},{"$f":"IF(I166=1,'Loan - Extraneous'!$B$4,IF(I166=2,'Loan - Extraneous'!$C$4,0))","v":0},{"$f":"IF(J166=1,'Loan - Extraneous'!$B$5,IF(J166=2,'Loan - Extraneous'!$C$5,0))","v":0}]
[null,null,null,null,null,null,null,null,null,null,"",{"$f":"IF(OR(LEN(B167)=0,LEN(C167)=0,LEN(D167)=0),\"\",IF(K167>=38,INDEX('Loan - Grade & Staple'!$A$1:$K$1000,MATCH($B167&$C167,'Loan - Grade & Staple'!$B$1:$B$1000&'Loan - Grade & Staple'!$C$1:$C$1000,0),MATCH(\"38+\",'Loan - Grade & Staple'!$A$3:$K$3,0)),IF(K167<=31,INDEX('Loan - Grade & Staple'!$A$1:$K$1000,MATCH($B167&$C167,'Loan - Grade & Staple'!$B$1:$B$1000&'Loan - Grade & Staple'!$C$1:$C$1000,0),MATCH(\"26-31\",'Loan - Grade & Staple'!$A$3:$K$3,0)),IF(ISNA(INDEX('Loan - Grade & Staple'!$A$1:$K$1000,MATCH($B167&C167,'Loan - Grade & Staple'!$B$1:$B$1000&'Loan - Grade & Staple'!$C$1:$C$1000,0),MATCH($K167,'Loan - Grade & Staple'!$A$3:$K$3,0))),-4000,INDEX('Loan - Grade & Staple'!$A$1:$K$1000,MATCH($B167&C167,'Loan - Grade & Staple'!$B$1:$B$1000&'Loan - Grade & Staple'!$C$1:$C$1000,0),MATCH($K167,'Loan - Grade & Staple'!$A$3:$K$3,0))))))","v":""},{"$f":"IF(LEN(E167)=0,\"\",INDEX('Loan - Strength'!$C$1:$C$18,MATCH(E167,'Loan - Strength'!$A$1:$A$18,1)))","v":""},{"$f":"IF(LEN(F167)=0,\"\",INDEX('Loan - Micronaire'!$C$1:$C$20,MATCH($F167,'Loan - Micronaire'!$A$1:$A$20,1)))","v":""},{"$f":"IF(LEN(G167)=0,\"\",INDEX('Loan - Uniformity'!$C$1:$C$20,MATCH($G167,'Loan - Uniformity'!$A$1:$A$20,1)))","v":""},"","",{"$f":"IF(OR(LEN(B167)=0,LEN(C167)=0,LEN(D167)=0,LEN(E167)=0,LEN(F167)=0,LEN(G167)=0),\"\",IF('Base Values'!$B$8+(SUM($L167:$P167)/100)<0,0,'Base Values'!$B$8+(SUM(L167:P167)/100)))","v":""},null,{"$f":"IF(AND($T$13=TRUE,H167=1),'Loan - Extraneous'!B$3,IF(AND($T$13=TRUE,H167=2),'Loan - Extraneous'!C$3,0))","v":0},{"$f":"IF(I167=1,'Loan - Extraneous'!$B$4,IF(I167=2,'Loan - Extraneous'!$C$4,0))","v":0},{"$f":"IF(J167=1,'Loan - Extraneous'!$B$5,IF(J167=2,'Loan - Extraneous'!$C$5,0))","v":0}]
[null,null,null,null,null,null,null,null,null,null,"",{"$f":"IF(OR(LEN(B168)=0,LEN(C168)=0,LEN(D168)=0),\"\",IF(K168>=38,INDEX('Loan - Grade & Staple'!$A$1:$K$1000,MATCH($B168&$C168,'Loan - Grade & Staple'!$B$1:$B$1000&'Loan - Grade & Staple'!$C$1:$C$1000,0),MATCH(\"38+\",'Loan - Grade & Staple'!$A$3:$K$3,0)),IF(K168<=31,INDEX('Loan - Grade & Staple'!$A$1:$K$1000,MATCH($B168&$C168,'Loan - Grade & Staple'!$B$1:$B$1000&'Loan - Grade & Staple'!$C$1:$C$1000,0),MATCH(\"26-31\",'Loan - Grade & Staple'!$A$3:$K$3,0)),IF(ISNA(INDEX('Loan - Grade & Staple'!$A$1:$K$1000,MATCH($B168&C168,'Loan - Grade & Staple'!$B$1:$B$1000&'Loan - Grade & Staple'!$C$1:$C$1000,0),MATCH($K168,'Loan - Grade & Staple'!$A$3:$K$3,0))),-4000,INDEX('Loan - Grade & Staple'!$A$1:$K$1000,MATCH($B168&C168,'Loan - Grade & Staple'!$B$1:$B$1000&'Loan - Grade & Staple'!$C$1:$C$1000,0),MATCH($K168,'Loan - Grade & Staple'!$A$3:$K$3,0))))))","v":""},{"$f":"IF(LEN(E168)=0,\"\",INDEX('Loan - Strength'!$C$1:$C$18,MATCH(E168,'Loan - Strength'!$A$1:$A$18,1)))","v":""},{"$f":"IF(LEN(F168)=0,\"\",INDEX('Loan - Micronaire'!$C$1:$C$20,MATCH($F168,'Loan - Micronaire'!$A$1:$A$20,1)))","v":""},{"$f":"IF(LEN(G168)=0,\"\",INDEX('Loan - Uniformity'!$C$1:$C$20,MATCH($G168,'Loan - Uniformity'!$A$1:$A$20,1)))","v":""},"","",{"$f":"IF(OR(LEN(B168)=0,LEN(C168)=0,LEN(D168)=0,LEN(E168)=0,LEN(F168)=0,LEN(G168)=0),\"\",IF('Base Values'!$B$8+(SUM($L168:$P168)/100)<0,0,'Base Values'!$B$8+(SUM(L168:P168)/100)))","v":""},null,{"$f":"IF(AND($T$13=TRUE,H168=1),'Loan - Extraneous'!B$3,IF(AND($T$13=TRUE,H168=2),'Loan - Extraneous'!C$3,0))","v":0},{"$f":"IF(I168=1,'Loan - Extraneous'!$B$4,IF(I168=2,'Loan - Extraneous'!$C$4,0))","v":0},{"$f":"IF(J168=1,'Loan - Extraneous'!$B$5,IF(J168=2,'Loan - Extraneous'!$C$5,0))","v":0}]
[null,null,null,null,null,null,null,null,null,null,"",{"$f":"IF(OR(LEN(B169)=0,LEN(C169)=0,LEN(D169)=0),\"\",IF(K169>=38,INDEX('Loan - Grade & Staple'!$A$1:$K$1000,MATCH($B169&$C169,'Loan - Grade & Staple'!$B$1:$B$1000&'Loan - Grade & Staple'!$C$1:$C$1000,0),MATCH(\"38+\",'Loan - Grade & Staple'!$A$3:$K$3,0)),IF(K169<=31,INDEX('Loan - Grade & Staple'!$A$1:$K$1000,MATCH($B169&$C169,'Loan - Grade & Staple'!$B$1:$B$1000&'Loan - Grade & Staple'!$C$1:$C$1000,0),MATCH(\"26-31\",'Loan - Grade & Staple'!$A$3:$K$3,0)),IF(ISNA(INDEX('Loan - Grade & Staple'!$A$1:$K$1000,MATCH($B169&C169,'Loan - Grade & Staple'!$B$1:$B$1000&'Loan - Grade & Staple'!$C$1:$C$1000,0),MATCH($K169,'Loan - Grade & Staple'!$A$3:$K$3,0))),-4000,INDEX('Loan - Grade & Staple'!$A$1:$K$1000,MATCH($B169&C169,'Loan - Grade & Staple'!$B$1:$B$1000&'Loan - Grade & Staple'!$C$1:$C$1000,0),MATCH($K169,'Loan - Grade & Staple'!$A$3:$K$3,0))))))","v":""},{"$f":"IF(LEN(E169)=0,\"\",INDEX('Loan - Strength'!$C$1:$C$18,MATCH(E169,'Loan - Strength'!$A$1:$A$18,1)))","v":""},{"$f":"IF(LEN(F169)=0,\"\",INDEX('Loan - Micronaire'!$C$1:$C$20,MATCH($F169,'Loan - Micronaire'!$A$1:$A$20,1)))","v":""},{"$f":"IF(LEN(G169)=0,\"\",INDEX('Loan - Uniformity'!$C$1:$C$20,MATCH($G169,'Loan - Uniformity'!$A$1:$A$20,1)))","v":""},"","",{"$f":"IF(OR(LEN(B169)=0,LEN(C169)=0,LEN(D169)=0,LEN(E169)=0,LEN(F169)=0,LEN(G169)=0),\"\",IF('Base Values'!$B$8+(SUM($L169:$P169)/100)<0,0,'Base Values'!$B$8+(SUM(L169:P169)/100)))","v":""},null,{"$f":"IF(AND($T$13=TRUE,H169=1),'Loan - Extraneous'!B$3,IF(AND($T$13=TRUE,H169=2),'Loan - Extraneous'!C$3,0))","v":0},{"$f":"IF(I169=1,'Loan - Extraneous'!$B$4,IF(I169=2,'Loan - Extraneous'!$C$4,0))","v":0},{"$f":"IF(J169=1,'Loan - Extraneous'!$B$5,IF(J169=2,'Loan - Extraneous'!$C$5,0))","v":0}]
[null,null,null,null,null,null,null,null,null,null,"",{"$f":"IF(OR(LEN(B170)=0,LEN(C170)=0,LEN(D170)=0),\"\",IF(K170>=38,INDEX('Loan - Grade & Staple'!$A$1:$K$1000,MATCH($B170&$C170,'Loan - Grade & Staple'!$B$1:$B$1000&'Loan - Grade & Staple'!$C$1:$C$1000,0),MATCH(\"38+\",'Loan - Grade & Staple'!$A$3:$K$3,0)),IF(K170<=31,INDEX('Loan - Grade & Staple'!$A$1:$K$1000,MATCH($B170&$C170,'Loan - Grade & Staple'!$B$1:$B$1000&'Loan - Grade & Staple'!$C$1:$C$1000,0),MATCH(\"26-31\",'Loan - Grade & Staple'!$A$3:$K$3,0)),IF(ISNA(INDEX('Loan - Grade & Staple'!$A$1:$K$1000,MATCH($B170&C170,'Loan - Grade & Staple'!$B$1:$B$1000&'Loan - Grade & Staple'!$C$1:$C$1000,0),MATCH($K170,'Loan - Grade & Staple'!$A$3:$K$3,0))),-4000,INDEX('Loan - Grade & Staple'!$A$1:$K$1000,MATCH($B170&C170,'Loan - Grade & Staple'!$B$1:$B$1000&'Loan - Grade & Staple'!$C$1:$C$1000,0),MATCH($K170,'Loan - Grade & Staple'!$A$3:$K$3,0))))))","v":""},{"$f":"IF(LEN(E170)=0,\"\",INDEX('Loan - Strength'!$C$1:$C$18,MATCH(E170,'Loan - Strength'!$A$1:$A$18,1)))","v":""},{"$f":"IF(LEN(F170)=0,\"\",INDEX('Loan - Micronaire'!$C$1:$C$20,MATCH($F170,'Loan - Micronaire'!$A$1:$A$20,1)))","v":""},{"$f":"IF(LEN(G170)=0,\"\",INDEX('Loan - Uniformity'!$C$1:$C$20,MATCH($G170,'Loan - Uniformity'!$A$1:$A$20,1)))","v":""},"","",{"$f":"IF(OR(LEN(B170)=0,LEN(C170)=0,LEN(D170)=0,LEN(E170)=0,LEN(F170)=0,LEN(G170)=0),\"\",IF('Base Values'!$B$8+(SUM($L170:$P170)/100)<0,0,'Base Values'!$B$8+(SUM(L170:P170)/100)))","v":""},null,{"$f":"IF(AND($T$13=TRUE,H170=1),'Loan - Extraneous'!B$3,IF(AND($T$13=TRUE,H170=2),'Loan - Extraneous'!C$3,0))","v":0},{"$f":"IF(I170=1,'Loan - Extraneous'!$B$4,IF(I170=2,'Loan - Extraneous'!$C$4,0))","v":0},{"$f":"IF(J170=1,'Loan - Extraneous'!$B$5,IF(J170=2,'Loan - Extraneous'!$C$5,0))","v":0}]
[null,null,null,null,null,null,null,null,null,null,"",{"$f":"IF(OR(LEN(B171)=0,LEN(C171)=0,LEN(D171)=0),\"\",IF(K171>=38,INDEX('Loan - Grade & Staple'!$A$1:$K$1000,MATCH($B171&$C171,'Loan - Grade & Staple'!$B$1:$B$1000&'Loan - Grade & Staple'!$C$1:$C$1000,0),MATCH(\"38+\",'Loan - Grade & Staple'!$A$3:$K$3,0)),IF(K171<=31,INDEX('Loan - Grade & Staple'!$A$1:$K$1000,MATCH($B171&$C171,'Loan - Grade & Staple'!$B$1:$B$1000&'Loan - Grade & Staple'!$C$1:$C$1000,0),MATCH(\"26-31\",'Loan - Grade & Staple'!$A$3:$K$3,0)),IF(ISNA(INDEX('Loan - Grade & Staple'!$A$1:$K$1000,MATCH($B171&C171,'Loan - Grade & Staple'!$B$1:$B$1000&'Loan - Grade & Staple'!$C$1:$C$1000,0),MATCH($K171,'Loan - Grade & Staple'!$A$3:$K$3,0))),-4000,INDEX('Loan - Grade & Staple'!$A$1:$K$1000,MATCH($B171&C171,'Loan - Grade & Staple'!$B$1:$B$1000&'Loan - Grade & Staple'!$C$1:$C$1000,0),MATCH($K171,'Loan - Grade & Staple'!$A$3:$K$3,0))))))","v":""},{"$f":"IF(LEN(E171)=0,\"\",INDEX('Loan - Strength'!$C$1:$C$18,MATCH(E171,'Loan - Strength'!$A$1:$A$18,1)))","v":""},{"$f":"IF(LEN(F171)=0,\"\",INDEX('Loan - Micronaire'!$C$1:$C$20,MATCH($F171,'Loan - Micronaire'!$A$1:$A$20,1)))","v":""},{"$f":"IF(LEN(G171)=0,\"\",INDEX('Loan - Uniformity'!$C$1:$C$20,MATCH($G171,'Loan - Uniformity'!$A$1:$A$20,1)))","v":""},"","",{"$f":"IF(OR(LEN(B171)=0,LEN(C171)=0,LEN(D171)=0,LEN(E171)=0,LEN(F171)=0,LEN(G171)=0),\"\",IF('Base Values'!$B$8+(SUM($L171:$P171)/100)<0,0,'Base Values'!$B$8+(SUM(L171:P171)/100)))","v":""},null,{"$f":"IF(AND($T$13=TRUE,H171=1),'Loan - Extraneous'!B$3,IF(AND($T$13=TRUE,H171=2),'Loan - Extraneous'!C$3,0))","v":0},{"$f":"IF(I171=1,'Loan - Extraneous'!$B$4,IF(I171=2,'Loan - Extraneous'!$C$4,0))","v":0},{"$f":"IF(J171=1,'Loan - Extraneous'!$B$5,IF(J171=2,'Loan - Extraneous'!$C$5,0))","v":0}]
[null,null,null,null,null,null,null,null,null,null,"",{"$f":"IF(OR(LEN(B172)=0,LEN(C172)=0,LEN(D172)=0),\"\",IF(K172>=38,INDEX('Loan - Grade & Staple'!$A$1:$K$1000,MATCH($B172&$C172,'Loan - Grade & Staple'!$B$1:$B$1000&'Loan - Grade & Staple'!$C$1:$C$1000,0),MATCH(\"38+\",'Loan - Grade & Staple'!$A$3:$K$3,0)),IF(K172<=31,INDEX('Loan - Grade & Staple'!$A$1:$K$1000,MATCH($B172&$C172,'Loan - Grade & Staple'!$B$1:$B$1000&'Loan - Grade & Staple'!$C$1:$C$1000,0),MATCH(\"26-31\",'Loan - Grade & Staple'!$A$3:$K$3,0)),IF(ISNA(INDEX('Loan - Grade & Staple'!$A$1:$K$1000,MATCH($B172&C172,'Loan - Grade & Staple'!$B$1:$B$1000&'Loan - Grade & Staple'!$C$1:$C$1000,0),MATCH($K172,'Loan - Grade & Staple'!$A$3:$K$3,0))),-4000,INDEX('Loan - Grade & Staple'!$A$1:$K$1000,MATCH($B172&C172,'Loan - Grade & Staple'!$B$1:$B$1000&'Loan - Grade & Staple'!$C$1:$C$1000,0),MATCH($K172,'Loan - Grade & Staple'!$A$3:$K$3,0))))))","v":""},{"$f":"IF(LEN(E172)=0,\"\",INDEX('Loan - Strength'!$C$1:$C$18,MATCH(E172,'Loan - Strength'!$A$1:$A$18,1)))","v":""},{"$f":"IF(LEN(F172)=0,\"\",INDEX('Loan - Micronaire'!$C$1:$C$20,MATCH($F172,'Loan - Micronaire'!$A$1:$A$20,1)))","v":""},{"$f":"IF(LEN(G172)=0,\"\",INDEX('Loan - Uniformity'!$C$1:$C$20,MATCH($G172,'Loan - Uniformity'!$A$1:$A$20,1)))","v":""},"","",{"$f":"IF(OR(LEN(B172)=0,LEN(C172)=0,LEN(D172)=0,LEN(E172)=0,LEN(F172)=0,LEN(G172)=0),\"\",IF('Base Values'!$B$8+(SUM($L172:$P172)/100)<0,0,'Base Values'!$B$8+(SUM(L172:P172)/100)))","v":""},null,{"$f":"IF(AND($T$13=TRUE,H172=1),'Loan - Extraneous'!B$3,IF(AND($T$13=TRUE,H172=2),'Loan - Extraneous'!C$3,0))","v":0},{"$f":"IF(I172=1,'Loan - Extraneous'!$B$4,IF(I172=2,'Loan - Extraneous'!$C$4,0))","v":0},{"$f":"IF(J172=1,'Loan - Extraneous'!$B$5,IF(J172=2,'Loan - Extraneous'!$C$5,0))","v":0}]
[null,null,null,null,null,null,null,null,null,null,"",{"$f":"IF(OR(LEN(B173)=0,LEN(C173)=0,LEN(D173)=0),\"\",IF(K173>=38,INDEX('Loan - Grade & Staple'!$A$1:$K$1000,MATCH($B173&$C173,'Loan - Grade & Staple'!$B$1:$B$1000&'Loan - Grade & Staple'!$C$1:$C$1000,0),MATCH(\"38+\",'Loan - Grade & Staple'!$A$3:$K$3,0)),IF(K173<=31,INDEX('Loan - Grade & Staple'!$A$1:$K$1000,MATCH($B173&$C173,'Loan - Grade & Staple'!$B$1:$B$1000&'Loan - Grade & Staple'!$C$1:$C$1000,0),MATCH(\"26-31\",'Loan - Grade & Staple'!$A$3:$K$3,0)),IF(ISNA(INDEX('Loan - Grade & Staple'!$A$1:$K$1000,MATCH($B173&C173,'Loan - Grade & Staple'!$B$1:$B$1000&'Loan - Grade & Staple'!$C$1:$C$1000,0),MATCH($K173,'Loan - Grade & Staple'!$A$3:$K$3,0))),-4000,INDEX('Loan - Grade & Staple'!$A$1:$K$1000,MATCH($B173&C173,'Loan - Grade & Staple'!$B$1:$B$1000&'Loan - Grade & Staple'!$C$1:$C$1000,0),MATCH($K173,'Loan - Grade & Staple'!$A$3:$K$3,0))))))","v":""},{"$f":"IF(LEN(E173)=0,\"\",INDEX('Loan - Strength'!$C$1:$C$18,MATCH(E173,'Loan - Strength'!$A$1:$A$18,1)))","v":""},{"$f":"IF(LEN(F173)=0,\"\",INDEX('Loan - Micronaire'!$C$1:$C$20,MATCH($F173,'Loan - Micronaire'!$A$1:$A$20,1)))","v":""},{"$f":"IF(LEN(G173)=0,\"\",INDEX('Loan - Uniformity'!$C$1:$C$20,MATCH($G173,'Loan - Uniformity'!$A$1:$A$20,1)))","v":""},"","",{"$f":"IF(OR(LEN(B173)=0,LEN(C173)=0,LEN(D173)=0,LEN(E173)=0,LEN(F173)=0,LEN(G173)=0),\"\",IF('Base Values'!$B$8+(SUM($L173:$P173)/100)<0,0,'Base Values'!$B$8+(SUM(L173:P173)/100)))","v":""},null,{"$f":"IF(AND($T$13=TRUE,H173=1),'Loan - Extraneous'!B$3,IF(AND($T$13=TRUE,H173=2),'Loan - Extraneous'!C$3,0))","v":0},{"$f":"IF(I173=1,'Loan - Extraneous'!$B$4,IF(I173=2,'Loan - Extraneous'!$C$4,0))","v":0},{"$f":"IF(J173=1,'Loan - Extraneous'!$B$5,IF(J173=2,'Loan - Extraneous'!$C$5,0))","v":0}]
[null,null,null,null,null,null,null,null,null,null,"",{"$f":"IF(OR(LEN(B174)=0,LEN(C174)=0,LEN(D174)=0),\"\",IF(K174>=38,INDEX('Loan - Grade & Staple'!$A$1:$K$1000,MATCH($B174&$C174,'Loan - Grade & Staple'!$B$1:$B$1000&'Loan - Grade & Staple'!$C$1:$C$1000,0),MATCH(\"38+\",'Loan - Grade & Staple'!$A$3:$K$3,0)),IF(K174<=31,INDEX('Loan - Grade & Staple'!$A$1:$K$1000,MATCH($B174&$C174,'Loan - Grade & Staple'!$B$1:$B$1000&'Loan - Grade & Staple'!$C$1:$C$1000,0),MATCH(\"26-31\",'Loan - Grade & Staple'!$A$3:$K$3,0)),IF(ISNA(INDEX('Loan - Grade & Staple'!$A$1:$K$1000,MATCH($B174&C174,'Loan - Grade & Staple'!$B$1:$B$1000&'Loan - Grade & Staple'!$C$1:$C$1000,0),MATCH($K174,'Loan - Grade & Staple'!$A$3:$K$3,0))),-4000,INDEX('Loan - Grade & Staple'!$A$1:$K$1000,MATCH($B174&C174,'Loan - Grade & Staple'!$B$1:$B$1000&'Loan - Grade & Staple'!$C$1:$C$1000,0),MATCH($K174,'Loan - Grade & Staple'!$A$3:$K$3,0))))))","v":""},{"$f":"IF(LEN(E174)=0,\"\",INDEX('Loan - Strength'!$C$1:$C$18,MATCH(E174,'Loan - Strength'!$A$1:$A$18,1)))","v":""},{"$f":"IF(LEN(F174)=0,\"\",INDEX('Loan - Micronaire'!$C$1:$C$20,MATCH($F174,'Loan - Micronaire'!$A$1:$A$20,1)))","v":""},{"$f":"IF(LEN(G174)=0,\"\",INDEX('Loan - Uniformity'!$C$1:$C$20,MATCH($G174,'Loan - Uniformity'!$A$1:$A$20,1)))","v":""},"","",{"$f":"IF(OR(LEN(B174)=0,LEN(C174)=0,LEN(D174)=0,LEN(E174)=0,LEN(F174)=0,LEN(G174)=0),\"\",IF('Base Values'!$B$8+(SUM($L174:$P174)/100)<0,0,'Base Values'!$B$8+(SUM(L174:P174)/100)))","v":""},null,{"$f":"IF(AND($T$13=TRUE,H174=1),'Loan - Extraneous'!B$3,IF(AND($T$13=TRUE,H174=2),'Loan - Extraneous'!C$3,0))","v":0},{"$f":"IF(I174=1,'Loan - Extraneous'!$B$4,IF(I174=2,'Loan - Extraneous'!$C$4,0))","v":0},{"$f":"IF(J174=1,'Loan - Extraneous'!$B$5,IF(J174=2,'Loan - Extraneous'!$C$5,0))","v":0}]
[null,null,null,null,null,null,null,null,null,null,"",{"$f":"IF(OR(LEN(B175)=0,LEN(C175)=0,LEN(D175)=0),\"\",IF(K175>=38,INDEX('Loan - Grade & Staple'!$A$1:$K$1000,MATCH($B175&$C175,'Loan - Grade & Staple'!$B$1:$B$1000&'Loan - Grade & Staple'!$C$1:$C$1000,0),MATCH(\"38+\",'Loan - Grade & Staple'!$A$3:$K$3,0)),IF(K175<=31,INDEX('Loan - Grade & Staple'!$A$1:$K$1000,MATCH($B175&$C175,'Loan - Grade & Staple'!$B$1:$B$1000&'Loan - Grade & Staple'!$C$1:$C$1000,0),MATCH(\"26-31\",'Loan - Grade & Staple'!$A$3:$K$3,0)),IF(ISNA(INDEX('Loan - Grade & Staple'!$A$1:$K$1000,MATCH($B175&C175,'Loan - Grade & Staple'!$B$1:$B$1000&'Loan - Grade & Staple'!$C$1:$C$1000,0),MATCH($K175,'Loan - Grade & Staple'!$A$3:$K$3,0))),-4000,INDEX('Loan - Grade & Staple'!$A$1:$K$1000,MATCH($B175&C175,'Loan - Grade & Staple'!$B$1:$B$1000&'Loan - Grade & Staple'!$C$1:$C$1000,0),MATCH($K175,'Loan - Grade & Staple'!$A$3:$K$3,0))))))","v":""},{"$f":"IF(LEN(E175)=0,\"\",INDEX('Loan - Strength'!$C$1:$C$18,MATCH(E175,'Loan - Strength'!$A$1:$A$18,1)))","v":""},{"$f":"IF(LEN(F175)=0,\"\",INDEX('Loan - Micronaire'!$C$1:$C$20,MATCH($F175,'Loan - Micronaire'!$A$1:$A$20,1)))","v":""},{"$f":"IF(LEN(G175)=0,\"\",INDEX('Loan - Uniformity'!$C$1:$C$20,MATCH($G175,'Loan - Uniformity'!$A$1:$A$20,1)))","v":""},"","",{"$f":"IF(OR(LEN(B175)=0,LEN(C175)=0,LEN(D175)=0,LEN(E175)=0,LEN(F175)=0,LEN(G175)=0),\"\",IF('Base Values'!$B$8+(SUM($L175:$P175)/100)<0,0,'Base Values'!$B$8+(SUM(L175:P175)/100)))","v":""},null,{"$f":"IF(AND($T$13=TRUE,H175=1),'Loan - Extraneous'!B$3,IF(AND($T$13=TRUE,H175=2),'Loan - Extraneous'!C$3,0))","v":0},{"$f":"IF(I175=1,'Loan - Extraneous'!$B$4,IF(I175=2,'Loan - Extraneous'!$C$4,0))","v":0},{"$f":"IF(J175=1,'Loan - Extraneous'!$B$5,IF(J175=2,'Loan - Extraneous'!$C$5,0))","v":0}]
[null,null,null,null,null,null,null,null,null,null,"",{"$f":"IF(OR(LEN(B176)=0,LEN(C176)=0,LEN(D176)=0),\"\",IF(K176>=38,INDEX('Loan - Grade & Staple'!$A$1:$K$1000,MATCH($B176&$C176,'Loan - Grade & Staple'!$B$1:$B$1000&'Loan - Grade & Staple'!$C$1:$C$1000,0),MATCH(\"38+\",'Loan - Grade & Staple'!$A$3:$K$3,0)),IF(K176<=31,INDEX('Loan - Grade & Staple'!$A$1:$K$1000,MATCH($B176&$C176,'Loan - Grade & Staple'!$B$1:$B$1000&'Loan - Grade & Staple'!$C$1:$C$1000,0),MATCH(\"26-31\",'Loan - Grade & Staple'!$A$3:$K$3,0)),IF(ISNA(INDEX('Loan - Grade & Staple'!$A$1:$K$1000,MATCH($B176&C176,'Loan - Grade & Staple'!$B$1:$B$1000&'Loan - Grade & Staple'!$C$1:$C$1000,0),MATCH($K176,'Loan - Grade & Staple'!$A$3:$K$3,0))),-4000,INDEX('Loan - Grade & Staple'!$A$1:$K$1000,MATCH($B176&C176,'Loan - Grade & Staple'!$B$1:$B$1000&'Loan - Grade & Staple'!$C$1:$C$1000,0),MATCH($K176,'Loan - Grade & Staple'!$A$3:$K$3,0))))))","v":""},{"$f":"IF(LEN(E176)=0,\"\",INDEX('Loan - Strength'!$C$1:$C$18,MATCH(E176,'Loan - Strength'!$A$1:$A$18,1)))","v":""},{"$f":"IF(LEN(F176)=0,\"\",INDEX('Loan - Micronaire'!$C$1:$C$20,MATCH($F176,'Loan - Micronaire'!$A$1:$A$20,1)))","v":""},{"$f":"IF(LEN(G176)=0,\"\",INDEX('Loan - Uniformity'!$C$1:$C$20,MATCH($G176,'Loan - Uniformity'!$A$1:$A$20,1)))","v":""},"","",{"$f":"IF(OR(LEN(B176)=0,LEN(C176)=0,LEN(D176)=0,LEN(E176)=0,LEN(F176)=0,LEN(G176)=0),\"\",IF('Base Values'!$B$8+(SUM($L176:$P176)/100)<0,0,'Base Values'!$B$8+(SUM(L176:P176)/100)))","v":""},null,{"$f":"IF(AND($T$13=TRUE,H176=1),'Loan - Extraneous'!B$3,IF(AND($T$13=TRUE,H176=2),'Loan - Extraneous'!C$3,0))","v":0},{"$f":"IF(I176=1,'Loan - Extraneous'!$B$4,IF(I176=2,'Loan - Extraneous'!$C$4,0))","v":0},{"$f":"IF(J176=1,'Loan - Extraneous'!$B$5,IF(J176=2,'Loan - Extraneous'!$C$5,0))","v":0}]
[null,null,null,null,null,null,null,null,null,null,"",{"$f":"IF(OR(LEN(B177)=0,LEN(C177)=0,LEN(D177)=0),\"\",IF(K177>=38,INDEX('Loan - Grade & Staple'!$A$1:$K$1000,MATCH($B177&$C177,'Loan - Grade & Staple'!$B$1:$B$1000&'Loan - Grade & Staple'!$C$1:$C$1000,0),MATCH(\"38+\",'Loan - Grade & Staple'!$A$3:$K$3,0)),IF(K177<=31,INDEX('Loan - Grade & Staple'!$A$1:$K$1000,MATCH($B177&$C177,'Loan - Grade & Staple'!$B$1:$B$1000&'Loan - Grade & Staple'!$C$1:$C$1000,0),MATCH(\"26-31\",'Loan - Grade & Staple'!$A$3:$K$3,0)),IF(ISNA(INDEX('Loan - Grade & Staple'!$A$1:$K$1000,MATCH($B177&C177,'Loan - Grade & Staple'!$B$1:$B$1000&'Loan - Grade & Staple'!$C$1:$C$1000,0),MATCH($K177,'Loan - Grade & Staple'!$A$3:$K$3,0))),-4000,INDEX('Loan - Grade & Staple'!$A$1:$K$1000,MATCH($B177&C177,'Loan - Grade & Staple'!$B$1:$B$1000&'Loan - Grade & Staple'!$C$1:$C$1000,0),MATCH($K177,'Loan - Grade & Staple'!$A$3:$K$3,0))))))","v":""},{"$f":"IF(LEN(E177)=0,\"\",INDEX('Loan - Strength'!$C$1:$C$18,MATCH(E177,'Loan - Strength'!$A$1:$A$18,1)))","v":""},{"$f":"IF(LEN(F177)=0,\"\",INDEX('Loan - Micronaire'!$C$1:$C$20,MATCH($F177,'Loan - Micronaire'!$A$1:$A$20,1)))","v":""},{"$f":"IF(LEN(G177)=0,\"\",INDEX('Loan - Uniformity'!$C$1:$C$20,MATCH($G177,'Loan - Uniformity'!$A$1:$A$20,1)))","v":""},"","",{"$f":"IF(OR(LEN(B177)=0,LEN(C177)=0,LEN(D177)=0,LEN(E177)=0,LEN(F177)=0,LEN(G177)=0),\"\",IF('Base Values'!$B$8+(SUM($L177:$P177)/100)<0,0,'Base Values'!$B$8+(SUM(L177:P177)/100)))","v":""},null,{"$f":"IF(AND($T$13=TRUE,H177=1),'Loan - Extraneous'!B$3,IF(AND($T$13=TRUE,H177=2),'Loan - Extraneous'!C$3,0))","v":0},{"$f":"IF(I177=1,'Loan - Extraneous'!$B$4,IF(I177=2,'Loan - Extraneous'!$C$4,0))","v":0},{"$f":"IF(J177=1,'Loan - Extraneous'!$B$5,IF(J177=2,'Loan - Extraneous'!$C$5,0))","v":0}]
[null,null,null,null,null,null,null,null,null,null,"",{"$f":"IF(OR(LEN(B178)=0,LEN(C178)=0,LEN(D178)=0),\"\",IF(K178>=38,INDEX('Loan - Grade & Staple'!$A$1:$K$1000,MATCH($B178&$C178,'Loan - Grade & Staple'!$B$1:$B$1000&'Loan - Grade & Staple'!$C$1:$C$1000,0),MATCH(\"38+\",'Loan - Grade & Staple'!$A$3:$K$3,0)),IF(K178<=31,INDEX('Loan - Grade & Staple'!$A$1:$K$1000,MATCH($B178&$C178,'Loan - Grade & Staple'!$B$1:$B$1000&'Loan - Grade & Staple'!$C$1:$C$1000,0),MATCH(\"26-31\",'Loan - Grade & Staple'!$A$3:$K$3,0)),IF(ISNA(INDEX('Loan - Grade & Staple'!$A$1:$K$1000,MATCH($B178&C178,'Loan - Grade & Staple'!$B$1:$B$1000&'Loan - Grade & Staple'!$C$1:$C$1000,0),MATCH($K178,'Loan - Grade & Staple'!$A$3:$K$3,0))),-4000,INDEX('Loan - Grade & Staple'!$A$1:$K$1000,MATCH($B178&C178,'Loan - Grade & Staple'!$B$1:$B$1000&'Loan - Grade & Staple'!$C$1:$C$1000,0),MATCH($K178,'Loan - Grade & Staple'!$A$3:$K$3,0))))))","v":""},{"$f":"IF(LEN(E178)=0,\"\",INDEX('Loan - Strength'!$C$1:$C$18,MATCH(E178,'Loan - Strength'!$A$1:$A$18,1)))","v":""},{"$f":"IF(LEN(F178)=0,\"\",INDEX('Loan - Micronaire'!$C$1:$C$20,MATCH($F178,'Loan - Micronaire'!$A$1:$A$20,1)))","v":""},{"$f":"IF(LEN(G178)=0,\"\",INDEX('Loan - Uniformity'!$C$1:$C$20,MATCH($G178,'Loan - Uniformity'!$A$1:$A$20,1)))","v":""},"","",{"$f":"IF(OR(LEN(B178)=0,LEN(C178)=0,LEN(D178)=0,LEN(E178)=0,LEN(F178)=0,LEN(G178)=0),\"\",IF('Base Values'!$B$8+(SUM($L178:$P178)/100)<0,0,'Base Values'!$B$8+(SUM(L178:P178)/100)))","v":""},null,{"$f":"IF(AND($T$13=TRUE,H178=1),'Loan - Extraneous'!B$3,IF(AND($T$13=TRUE,H178=2),'Loan - Extraneous'!C$3,0))","v":0},{"$f":"IF(I178=1,'Loan - Extraneous'!$B$4,IF(I178=2,'Loan - Extraneous'!$C$4,0))","v":0},{"$f":"IF(J178=1,'Loan - Extraneous'!$B$5,IF(J178=2,'Loan - Extraneous'!$C$5,0))","v":0}]
[null,null,null,null,null,null,null,null,null,null,"",{"$f":"IF(OR(LEN(B179)=0,LEN(C179)=0,LEN(D179)=0),\"\",IF(K179>=38,INDEX('Loan - Grade & Staple'!$A$1:$K$1000,MATCH($B179&$C179,'Loan - Grade & Staple'!$B$1:$B$1000&'Loan - Grade & Staple'!$C$1:$C$1000,0),MATCH(\"38+\",'Loan - Grade & Staple'!$A$3:$K$3,0)),IF(K179<=31,INDEX('Loan - Grade & Staple'!$A$1:$K$1000,MATCH($B179&$C179,'Loan - Grade & Staple'!$B$1:$B$1000&'Loan - Grade & Staple'!$C$1:$C$1000,0),MATCH(\"26-31\",'Loan - Grade & Staple'!$A$3:$K$3,0)),IF(ISNA(INDEX('Loan - Grade & Staple'!$A$1:$K$1000,MATCH($B179&C179,'Loan - Grade & Staple'!$B$1:$B$1000&'Loan - Grade & Staple'!$C$1:$C$1000,0),MATCH($K179,'Loan - Grade & Staple'!$A$3:$K$3,0))),-4000,INDEX('Loan - Grade & Staple'!$A$1:$K$1000,MATCH($B179&C179,'Loan - Grade & Staple'!$B$1:$B$1000&'Loan - Grade & Staple'!$C$1:$C$1000,0),MATCH($K179,'Loan - Grade & Staple'!$A$3:$K$3,0))))))","v":""},{"$f":"IF(LEN(E179)=0,\"\",INDEX('Loan - Strength'!$C$1:$C$18,MATCH(E179,'Loan - Strength'!$A$1:$A$18,1)))","v":""},{"$f":"IF(LEN(F179)=0,\"\",INDEX('Loan - Micronaire'!$C$1:$C$20,MATCH($F179,'Loan - Micronaire'!$A$1:$A$20,1)))","v":""},{"$f":"IF(LEN(G179)=0,\"\",INDEX('Loan - Uniformity'!$C$1:$C$20,MATCH($G179,'Loan - Uniformity'!$A$1:$A$20,1)))","v":""},"","",{"$f":"IF(OR(LEN(B179)=0,LEN(C179)=0,LEN(D179)=0,LEN(E179)=0,LEN(F179)=0,LEN(G179)=0),\"\",IF('Base Values'!$B$8+(SUM($L179:$P179)/100)<0,0,'Base Values'!$B$8+(SUM(L179:P179)/100)))","v":""},null,{"$f":"IF(AND($T$13=TRUE,H179=1),'Loan - Extraneous'!B$3,IF(AND($T$13=TRUE,H179=2),'Loan - Extraneous'!C$3,0))","v":0},{"$f":"IF(I179=1,'Loan - Extraneous'!$B$4,IF(I179=2,'Loan - Extraneous'!$C$4,0))","v":0},{"$f":"IF(J179=1,'Loan - Extraneous'!$B$5,IF(J179=2,'Loan - Extraneous'!$C$5,0))","v":0}]
[null,null,null,null,null,null,null,null,null,null,"",{"$f":"IF(OR(LEN(B180)=0,LEN(C180)=0,LEN(D180)=0),\"\",IF(K180>=38,INDEX('Loan - Grade & Staple'!$A$1:$K$1000,MATCH($B180&$C180,'Loan - Grade & Staple'!$B$1:$B$1000&'Loan - Grade & Staple'!$C$1:$C$1000,0),MATCH(\"38+\",'Loan - Grade & Staple'!$A$3:$K$3,0)),IF(K180<=31,INDEX('Loan - Grade & Staple'!$A$1:$K$1000,MATCH($B180&$C180,'Loan - Grade & Staple'!$B$1:$B$1000&'Loan - Grade & Staple'!$C$1:$C$1000,0),MATCH(\"26-31\",'Loan - Grade & Staple'!$A$3:$K$3,0)),IF(ISNA(INDEX('Loan - Grade & Staple'!$A$1:$K$1000,MATCH($B180&C180,'Loan - Grade & Staple'!$B$1:$B$1000&'Loan - Grade & Staple'!$C$1:$C$1000,0),MATCH($K180,'Loan - Grade & Staple'!$A$3:$K$3,0))),-4000,INDEX('Loan - Grade & Staple'!$A$1:$K$1000,MATCH($B180&C180,'Loan - Grade & Staple'!$B$1:$B$1000&'Loan - Grade & Staple'!$C$1:$C$1000,0),MATCH($K180,'Loan - Grade & Staple'!$A$3:$K$3,0))))))","v":""},{"$f":"IF(LEN(E180)=0,\"\",INDEX('Loan - Strength'!$C$1:$C$18,MATCH(E180,'Loan - Strength'!$A$1:$A$18,1)))","v":""},{"$f":"IF(LEN(F180)=0,\"\",INDEX('Loan - Micronaire'!$C$1:$C$20,MATCH($F180,'Loan - Micronaire'!$A$1:$A$20,1)))","v":""},{"$f":"IF(LEN(G180)=0,\"\",INDEX('Loan - Uniformity'!$C$1:$C$20,MATCH($G180,'Loan - Uniformity'!$A$1:$A$20,1)))","v":""},"","",{"$f":"IF(OR(LEN(B180)=0,LEN(C180)=0,LEN(D180)=0,LEN(E180)=0,LEN(F180)=0,LEN(G180)=0),\"\",IF('Base Values'!$B$8+(SUM($L180:$P180)/100)<0,0,'Base Values'!$B$8+(SUM(L180:P180)/100)))","v":""},null,{"$f":"IF(AND($T$13=TRUE,H180=1),'Loan - Extraneous'!B$3,IF(AND($T$13=TRUE,H180=2),'Loan - Extraneous'!C$3,0))","v":0},{"$f":"IF(I180=1,'Loan - Extraneous'!$B$4,IF(I180=2,'Loan - Extraneous'!$C$4,0))","v":0},{"$f":"IF(J180=1,'Loan - Extraneous'!$B$5,IF(J180=2,'Loan - Extraneous'!$C$5,0))","v":0}]
[null,null,null,null,null,null,null,null,null,null,"",{"$f":"IF(OR(LEN(B181)=0,LEN(C181)=0,LEN(D181)=0),\"\",IF(K181>=38,INDEX('Loan - Grade & Staple'!$A$1:$K$1000,MATCH($B181&$C181,'Loan - Grade & Staple'!$B$1:$B$1000&'Loan - Grade & Staple'!$C$1:$C$1000,0),MATCH(\"38+\",'Loan - Grade & Staple'!$A$3:$K$3,0)),IF(K181<=31,INDEX('Loan - Grade & Staple'!$A$1:$K$1000,MATCH($B181&$C181,'Loan - Grade & Staple'!$B$1:$B$1000&'Loan - Grade & Staple'!$C$1:$C$1000,0),MATCH(\"26-31\",'Loan - Grade & Staple'!$A$3:$K$3,0)),IF(ISNA(INDEX('Loan - Grade & Staple'!$A$1:$K$1000,MATCH($B181&C181,'Loan - Grade & Staple'!$B$1:$B$1000&'Loan - Grade & Staple'!$C$1:$C$1000,0),MATCH($K181,'Loan - Grade & Staple'!$A$3:$K$3,0))),-4000,INDEX('Loan - Grade & Staple'!$A$1:$K$1000,MATCH($B181&C181,'Loan - Grade & Staple'!$B$1:$B$1000&'Loan - Grade & Staple'!$C$1:$C$1000,0),MATCH($K181,'Loan - Grade & Staple'!$A$3:$K$3,0))))))","v":""},{"$f":"IF(LEN(E181)=0,\"\",INDEX('Loan - Strength'!$C$1:$C$18,MATCH(E181,'Loan - Strength'!$A$1:$A$18,1)))","v":""},{"$f":"IF(LEN(F181)=0,\"\",INDEX('Loan - Micronaire'!$C$1:$C$20,MATCH($F181,'Loan - Micronaire'!$A$1:$A$20,1)))","v":""},{"$f":"IF(LEN(G181)=0,\"\",INDEX('Loan - Uniformity'!$C$1:$C$20,MATCH($G181,'Loan - Uniformity'!$A$1:$A$20,1)))","v":""},"","",{"$f":"IF(OR(LEN(B181)=0,LEN(C181)=0,LEN(D181)=0,LEN(E181)=0,LEN(F181)=0,LEN(G181)=0),\"\",IF('Base Values'!$B$8+(SUM($L181:$P181)/100)<0,0,'Base Values'!$B$8+(SUM(L181:P181)/100)))","v":""},null,{"$f":"IF(AND($T$13=TRUE,H181=1),'Loan - Extraneous'!B$3,IF(AND($T$13=TRUE,H181=2),'Loan - Extraneous'!C$3,0))","v":0},{"$f":"IF(I181=1,'Loan - Extraneous'!$B$4,IF(I181=2,'Loan - Extraneous'!$C$4,0))","v":0},{"$f":"IF(J181=1,'Loan - Extraneous'!$B$5,IF(J181=2,'Loan - Extraneous'!$C$5,0))","v":0}]
[null,null,null,null,null,null,null,null,null,null,"",{"$f":"IF(OR(LEN(B182)=0,LEN(C182)=0,LEN(D182)=0),\"\",IF(K182>=38,INDEX('Loan - Grade & Staple'!$A$1:$K$1000,MATCH($B182&$C182,'Loan - Grade & Staple'!$B$1:$B$1000&'Loan - Grade & Staple'!$C$1:$C$1000,0),MATCH(\"38+\",'Loan - Grade & Staple'!$A$3:$K$3,0)),IF(K182<=31,INDEX('Loan - Grade & Staple'!$A$1:$K$1000,MATCH($B182&$C182,'Loan - Grade & Staple'!$B$1:$B$1000&'Loan - Grade & Staple'!$C$1:$C$1000,0),MATCH(\"26-31\",'Loan - Grade & Staple'!$A$3:$K$3,0)),IF(ISNA(INDEX('Loan - Grade & Staple'!$A$1:$K$1000,MATCH($B182&C182,'Loan - Grade & Staple'!$B$1:$B$1000&'Loan - Grade & Staple'!$C$1:$C$1000,0),MATCH($K182,'Loan - Grade & Staple'!$A$3:$K$3,0))),-4000,INDEX('Loan - Grade & Staple'!$A$1:$K$1000,MATCH($B182&C182,'Loan - Grade & Staple'!$B$1:$B$1000&'Loan - Grade & Staple'!$C$1:$C$1000,0),MATCH($K182,'Loan - Grade & Staple'!$A$3:$K$3,0))))))","v":""},{"$f":"IF(LEN(E182)=0,\"\",INDEX('Loan - Strength'!$C$1:$C$18,MATCH(E182,'Loan - Strength'!$A$1:$A$18,1)))","v":""},{"$f":"IF(LEN(F182)=0,\"\",INDEX('Loan - Micronaire'!$C$1:$C$20,MATCH($F182,'Loan - Micronaire'!$A$1:$A$20,1)))","v":""},{"$f":"IF(LEN(G182)=0,\"\",INDEX('Loan - Uniformity'!$C$1:$C$20,MATCH($G182,'Loan - Uniformity'!$A$1:$A$20,1)))","v":""},"","",{"$f":"IF(OR(LEN(B182)=0,LEN(C182)=0,LEN(D182)=0,LEN(E182)=0,LEN(F182)=0,LEN(G182)=0),\"\",IF('Base Values'!$B$8+(SUM($L182:$P182)/100)<0,0,'Base Values'!$B$8+(SUM(L182:P182)/100)))","v":""},null,{"$f":"IF(AND($T$13=TRUE,H182=1),'Loan - Extraneous'!B$3,IF(AND($T$13=TRUE,H182=2),'Loan - Extraneous'!C$3,0))","v":0},{"$f":"IF(I182=1,'Loan - Extraneous'!$B$4,IF(I182=2,'Loan - Extraneous'!$C$4,0))","v":0},{"$f":"IF(J182=1,'Loan - Extraneous'!$B$5,IF(J182=2,'Loan - Extraneous'!$C$5,0))","v":0}]
[null,null,null,null,null,null,null,null,null,null,"",{"$f":"IF(OR(LEN(B183)=0,LEN(C183)=0,LEN(D183)=0),\"\",IF(K183>=38,INDEX('Loan - Grade & Staple'!$A$1:$K$1000,MATCH($B183&$C183,'Loan - Grade & Staple'!$B$1:$B$1000&'Loan - Grade & Staple'!$C$1:$C$1000,0),MATCH(\"38+\",'Loan - Grade & Staple'!$A$3:$K$3,0)),IF(K183<=31,INDEX('Loan - Grade & Staple'!$A$1:$K$1000,MATCH($B183&$C183,'Loan - Grade & Staple'!$B$1:$B$1000&'Loan - Grade & Staple'!$C$1:$C$1000,0),MATCH(\"26-31\",'Loan - Grade & Staple'!$A$3:$K$3,0)),IF(ISNA(INDEX('Loan - Grade & Staple'!$A$1:$K$1000,MATCH($B183&C183,'Loan - Grade & Staple'!$B$1:$B$1000&'Loan - Grade & Staple'!$C$1:$C$1000,0),MATCH($K183,'Loan - Grade & Staple'!$A$3:$K$3,0))),-4000,INDEX('Loan - Grade & Staple'!$A$1:$K$1000,MATCH($B183&C183,'Loan - Grade & Staple'!$B$1:$B$1000&'Loan - Grade & Staple'!$C$1:$C$1000,0),MATCH($K183,'Loan - Grade & Staple'!$A$3:$K$3,0))))))","v":""},{"$f":"IF(LEN(E183)=0,\"\",INDEX('Loan - Strength'!$C$1:$C$18,MATCH(E183,'Loan - Strength'!$A$1:$A$18,1)))","v":""},{"$f":"IF(LEN(F183)=0,\"\",INDEX('Loan - Micronaire'!$C$1:$C$20,MATCH($F183,'Loan - Micronaire'!$A$1:$A$20,1)))","v":""},{"$f":"IF(LEN(G183)=0,\"\",INDEX('Loan - Uniformity'!$C$1:$C$20,MATCH($G183,'Loan - Uniformity'!$A$1:$A$20,1)))","v":""},"","",{"$f":"IF(OR(LEN(B183)=0,LEN(C183)=0,LEN(D183)=0,LEN(E183)=0,LEN(F183)=0,LEN(G183)=0),\"\",IF('Base Values'!$B$8+(SUM($L183:$P183)/100)<0,0,'Base Values'!$B$8+(SUM(L183:P183)/100)))","v":""},null,{"$f":"IF(AND($T$13=TRUE,H183=1),'Loan - Extraneous'!B$3,IF(AND($T$13=TRUE,H183=2),'Loan - Extraneous'!C$3,0))","v":0},{"$f":"IF(I183=1,'Loan - Extraneous'!$B$4,IF(I183=2,'Loan - Extraneous'!$C$4,0))","v":0},{"$f":"IF(J183=1,'Loan - Extraneous'!$B$5,IF(J183=2,'Loan - Extraneous'!$C$5,0))","v":0}]
[null,null,null,null,null,null,null,null,null,null,"",{"$f":"IF(OR(LEN(B184)=0,LEN(C184)=0,LEN(D184)=0),\"\",IF(K184>=38,INDEX('Loan - Grade & Staple'!$A$1:$K$1000,MATCH($B184&$C184,'Loan - Grade & Staple'!$B$1:$B$1000&'Loan - Grade & Staple'!$C$1:$C$1000,0),MATCH(\"38+\",'Loan - Grade & Staple'!$A$3:$K$3,0)),IF(K184<=31,INDEX('Loan - Grade & Staple'!$A$1:$K$1000,MATCH($B184&$C184,'Loan - Grade & Staple'!$B$1:$B$1000&'Loan - Grade & Staple'!$C$1:$C$1000,0),MATCH(\"26-31\",'Loan - Grade & Staple'!$A$3:$K$3,0)),IF(ISNA(INDEX('Loan - Grade & Staple'!$A$1:$K$1000,MATCH($B184&C184,'Loan - Grade & Staple'!$B$1:$B$1000&'Loan - Grade & Staple'!$C$1:$C$1000,0),MATCH($K184,'Loan - Grade & Staple'!$A$3:$K$3,0))),-4000,INDEX('Loan - Grade & Staple'!$A$1:$K$1000,MATCH($B184&C184,'Loan - Grade & Staple'!$B$1:$B$1000&'Loan - Grade & Staple'!$C$1:$C$1000,0),MATCH($K184,'Loan - Grade & Staple'!$A$3:$K$3,0))))))","v":""},{"$f":"IF(LEN(E184)=0,\"\",INDEX('Loan - Strength'!$C$1:$C$18,MATCH(E184,'Loan - Strength'!$A$1:$A$18,1)))","v":""},{"$f":"IF(LEN(F184)=0,\"\",INDEX('Loan - Micronaire'!$C$1:$C$20,MATCH($F184,'Loan - Micronaire'!$A$1:$A$20,1)))","v":""},{"$f":"IF(LEN(G184)=0,\"\",INDEX('Loan - Uniformity'!$C$1:$C$20,MATCH($G184,'Loan - Uniformity'!$A$1:$A$20,1)))","v":""},"","",{"$f":"IF(OR(LEN(B184)=0,LEN(C184)=0,LEN(D184)=0,LEN(E184)=0,LEN(F184)=0,LEN(G184)=0),\"\",IF('Base Values'!$B$8+(SUM($L184:$P184)/100)<0,0,'Base Values'!$B$8+(SUM(L184:P184)/100)))","v":""},null,{"$f":"IF(AND($T$13=TRUE,H184=1),'Loan - Extraneous'!B$3,IF(AND($T$13=TRUE,H184=2),'Loan - Extraneous'!C$3,0))","v":0},{"$f":"IF(I184=1,'Loan - Extraneous'!$B$4,IF(I184=2,'Loan - Extraneous'!$C$4,0))","v":0},{"$f":"IF(J184=1,'Loan - Extraneous'!$B$5,IF(J184=2,'Loan - Extraneous'!$C$5,0))","v":0}]
[null,null,null,null,null,null,null,null,null,null,"",{"$f":"IF(OR(LEN(B185)=0,LEN(C185)=0,LEN(D185)=0),\"\",IF(K185>=38,INDEX('Loan - Grade & Staple'!$A$1:$K$1000,MATCH($B185&$C185,'Loan - Grade & Staple'!$B$1:$B$1000&'Loan - Grade & Staple'!$C$1:$C$1000,0),MATCH(\"38+\",'Loan - Grade & Staple'!$A$3:$K$3,0)),IF(K185<=31,INDEX('Loan - Grade & Staple'!$A$1:$K$1000,MATCH($B185&$C185,'Loan - Grade & Staple'!$B$1:$B$1000&'Loan - Grade & Staple'!$C$1:$C$1000,0),MATCH(\"26-31\",'Loan - Grade & Staple'!$A$3:$K$3,0)),IF(ISNA(INDEX('Loan - Grade & Staple'!$A$1:$K$1000,MATCH($B185&C185,'Loan - Grade & Staple'!$B$1:$B$1000&'Loan - Grade & Staple'!$C$1:$C$1000,0),MATCH($K185,'Loan - Grade & Staple'!$A$3:$K$3,0))),-4000,INDEX('Loan - Grade & Staple'!$A$1:$K$1000,MATCH($B185&C185,'Loan - Grade & Staple'!$B$1:$B$1000&'Loan - Grade & Staple'!$C$1:$C$1000,0),MATCH($K185,'Loan - Grade & Staple'!$A$3:$K$3,0))))))","v":""},{"$f":"IF(LEN(E185)=0,\"\",INDEX('Loan - Strength'!$C$1:$C$18,MATCH(E185,'Loan - Strength'!$A$1:$A$18,1)))","v":""},{"$f":"IF(LEN(F185)=0,\"\",INDEX('Loan - Micronaire'!$C$1:$C$20,MATCH($F185,'Loan - Micronaire'!$A$1:$A$20,1)))","v":""},{"$f":"IF(LEN(G185)=0,\"\",INDEX('Loan - Uniformity'!$C$1:$C$20,MATCH($G185,'Loan - Uniformity'!$A$1:$A$20,1)))","v":""},"","",{"$f":"IF(OR(LEN(B185)=0,LEN(C185)=0,LEN(D185)=0,LEN(E185)=0,LEN(F185)=0,LEN(G185)=0),\"\",IF('Base Values'!$B$8+(SUM($L185:$P185)/100)<0,0,'Base Values'!$B$8+(SUM(L185:P185)/100)))","v":""},null,{"$f":"IF(AND($T$13=TRUE,H185=1),'Loan - Extraneous'!B$3,IF(AND($T$13=TRUE,H185=2),'Loan - Extraneous'!C$3,0))","v":0},{"$f":"IF(I185=1,'Loan - Extraneous'!$B$4,IF(I185=2,'Loan - Extraneous'!$C$4,0))","v":0},{"$f":"IF(J185=1,'Loan - Extraneous'!$B$5,IF(J185=2,'Loan - Extraneous'!$C$5,0))","v":0}]
[null,null,null,null,null,null,null,null,null,null,"",{"$f":"IF(OR(LEN(B186)=0,LEN(C186)=0,LEN(D186)=0),\"\",IF(K186>=38,INDEX('Loan - Grade & Staple'!$A$1:$K$1000,MATCH($B186&$C186,'Loan - Grade & Staple'!$B$1:$B$1000&'Loan - Grade & Staple'!$C$1:$C$1000,0),MATCH(\"38+\",'Loan - Grade & Staple'!$A$3:$K$3,0)),IF(K186<=31,INDEX('Loan - Grade & Staple'!$A$1:$K$1000,MATCH($B186&$C186,'Loan - Grade & Staple'!$B$1:$B$1000&'Loan - Grade & Staple'!$C$1:$C$1000,0),MATCH(\"26-31\",'Loan - Grade & Staple'!$A$3:$K$3,0)),IF(ISNA(INDEX('Loan - Grade & Staple'!$A$1:$K$1000,MATCH($B186&C186,'Loan - Grade & Staple'!$B$1:$B$1000&'Loan - Grade & Staple'!$C$1:$C$1000,0),MATCH($K186,'Loan - Grade & Staple'!$A$3:$K$3,0))),-4000,INDEX('Loan - Grade & Staple'!$A$1:$K$1000,MATCH($B186&C186,'Loan - Grade & Staple'!$B$1:$B$1000&'Loan - Grade & Staple'!$C$1:$C$1000,0),MATCH($K186,'Loan - Grade & Staple'!$A$3:$K$3,0))))))","v":""},{"$f":"IF(LEN(E186)=0,\"\",INDEX('Loan - Strength'!$C$1:$C$18,MATCH(E186,'Loan - Strength'!$A$1:$A$18,1)))","v":""},{"$f":"IF(LEN(F186)=0,\"\",INDEX('Loan - Micronaire'!$C$1:$C$20,MATCH($F186,'Loan - Micronaire'!$A$1:$A$20,1)))","v":""},{"$f":"IF(LEN(G186)=0,\"\",INDEX('Loan - Uniformity'!$C$1:$C$20,MATCH($G186,'Loan - Uniformity'!$A$1:$A$20,1)))","v":""},"","",{"$f":"IF(OR(LEN(B186)=0,LEN(C186)=0,LEN(D186)=0,LEN(E186)=0,LEN(F186)=0,LEN(G186)=0),\"\",IF('Base Values'!$B$8+(SUM($L186:$P186)/100)<0,0,'Base Values'!$B$8+(SUM(L186:P186)/100)))","v":""},null,{"$f":"IF(AND($T$13=TRUE,H186=1),'Loan - Extraneous'!B$3,IF(AND($T$13=TRUE,H186=2),'Loan - Extraneous'!C$3,0))","v":0},{"$f":"IF(I186=1,'Loan - Extraneous'!$B$4,IF(I186=2,'Loan - Extraneous'!$C$4,0))","v":0},{"$f":"IF(J186=1,'Loan - Extraneous'!$B$5,IF(J186=2,'Loan - Extraneous'!$C$5,0))","v":0}]
[null,null,null,null,null,null,null,null,null,null,"",{"$f":"IF(OR(LEN(B187)=0,LEN(C187)=0,LEN(D187)=0),\"\",IF(K187>=38,INDEX('Loan - Grade & Staple'!$A$1:$K$1000,MATCH($B187&$C187,'Loan - Grade & Staple'!$B$1:$B$1000&'Loan - Grade & Staple'!$C$1:$C$1000,0),MATCH(\"38+\",'Loan - Grade & Staple'!$A$3:$K$3,0)),IF(K187<=31,INDEX('Loan - Grade & Staple'!$A$1:$K$1000,MATCH($B187&$C187,'Loan - Grade & Staple'!$B$1:$B$1000&'Loan - Grade & Staple'!$C$1:$C$1000,0),MATCH(\"26-31\",'Loan - Grade & Staple'!$A$3:$K$3,0)),IF(ISNA(INDEX('Loan - Grade & Staple'!$A$1:$K$1000,MATCH($B187&C187,'Loan - Grade & Staple'!$B$1:$B$1000&'Loan - Grade & Staple'!$C$1:$C$1000,0),MATCH($K187,'Loan - Grade & Staple'!$A$3:$K$3,0))),-4000,INDEX('Loan - Grade & Staple'!$A$1:$K$1000,MATCH($B187&C187,'Loan - Grade & Staple'!$B$1:$B$1000&'Loan - Grade & Staple'!$C$1:$C$1000,0),MATCH($K187,'Loan - Grade & Staple'!$A$3:$K$3,0))))))","v":""},{"$f":"IF(LEN(E187)=0,\"\",INDEX('Loan - Strength'!$C$1:$C$18,MATCH(E187,'Loan - Strength'!$A$1:$A$18,1)))","v":""},{"$f":"IF(LEN(F187)=0,\"\",INDEX('Loan - Micronaire'!$C$1:$C$20,MATCH($F187,'Loan - Micronaire'!$A$1:$A$20,1)))","v":""},{"$f":"IF(LEN(G187)=0,\"\",INDEX('Loan - Uniformity'!$C$1:$C$20,MATCH($G187,'Loan - Uniformity'!$A$1:$A$20,1)))","v":""},"","",{"$f":"IF(OR(LEN(B187)=0,LEN(C187)=0,LEN(D187)=0,LEN(E187)=0,LEN(F187)=0,LEN(G187)=0),\"\",IF('Base Values'!$B$8+(SUM($L187:$P187)/100)<0,0,'Base Values'!$B$8+(SUM(L187:P187)/100)))","v":""},null,{"$f":"IF(AND($T$13=TRUE,H187=1),'Loan - Extraneous'!B$3,IF(AND($T$13=TRUE,H187=2),'Loan - Extraneous'!C$3,0))","v":0},{"$f":"IF(I187=1,'Loan - Extraneous'!$B$4,IF(I187=2,'Loan - Extraneous'!$C$4,0))","v":0},{"$f":"IF(J187=1,'Loan - Extraneous'!$B$5,IF(J187=2,'Loan - Extraneous'!$C$5,0))","v":0}]
[null,null,null,null,null,null,null,null,null,null,"",{"$f":"IF(OR(LEN(B188)=0,LEN(C188)=0,LEN(D188)=0),\"\",IF(K188>=38,INDEX('Loan - Grade & Staple'!$A$1:$K$1000,MATCH($B188&$C188,'Loan - Grade & Staple'!$B$1:$B$1000&'Loan - Grade & Staple'!$C$1:$C$1000,0),MATCH(\"38+\",'Loan - Grade & Staple'!$A$3:$K$3,0)),IF(K188<=31,INDEX('Loan - Grade & Staple'!$A$1:$K$1000,MATCH($B188&$C188,'Loan - Grade & Staple'!$B$1:$B$1000&'Loan - Grade & Staple'!$C$1:$C$1000,0),MATCH(\"26-31\",'Loan - Grade & Staple'!$A$3:$K$3,0)),IF(ISNA(INDEX('Loan - Grade & Staple'!$A$1:$K$1000,MATCH($B188&C188,'Loan - Grade & Staple'!$B$1:$B$1000&'Loan - Grade & Staple'!$C$1:$C$1000,0),MATCH($K188,'Loan - Grade & Staple'!$A$3:$K$3,0))),-4000,INDEX('Loan - Grade & Staple'!$A$1:$K$1000,MATCH($B188&C188,'Loan - Grade & Staple'!$B$1:$B$1000&'Loan - Grade & Staple'!$C$1:$C$1000,0),MATCH($K188,'Loan - Grade & Staple'!$A$3:$K$3,0))))))","v":""},{"$f":"IF(LEN(E188)=0,\"\",INDEX('Loan - Strength'!$C$1:$C$18,MATCH(E188,'Loan - Strength'!$A$1:$A$18,1)))","v":""},{"$f":"IF(LEN(F188)=0,\"\",INDEX('Loan - Micronaire'!$C$1:$C$20,MATCH($F188,'Loan - Micronaire'!$A$1:$A$20,1)))","v":""},{"$f":"IF(LEN(G188)=0,\"\",INDEX('Loan - Uniformity'!$C$1:$C$20,MATCH($G188,'Loan - Uniformity'!$A$1:$A$20,1)))","v":""},"","",{"$f":"IF(OR(LEN(B188)=0,LEN(C188)=0,LEN(D188)=0,LEN(E188)=0,LEN(F188)=0,LEN(G188)=0),\"\",IF('Base Values'!$B$8+(SUM($L188:$P188)/100)<0,0,'Base Values'!$B$8+(SUM(L188:P188)/100)))","v":""},null,{"$f":"IF(AND($T$13=TRUE,H188=1),'Loan - Extraneous'!B$3,IF(AND($T$13=TRUE,H188=2),'Loan - Extraneous'!C$3,0))","v":0},{"$f":"IF(I188=1,'Loan - Extraneous'!$B$4,IF(I188=2,'Loan - Extraneous'!$C$4,0))","v":0},{"$f":"IF(J188=1,'Loan - Extraneous'!$B$5,IF(J188=2,'Loan - Extraneous'!$C$5,0))","v":0}]
[null,null,null,null,null,null,null,null,null,null,"",{"$f":"IF(OR(LEN(B189)=0,LEN(C189)=0,LEN(D189)=0),\"\",IF(K189>=38,INDEX('Loan - Grade & Staple'!$A$1:$K$1000,MATCH($B189&$C189,'Loan - Grade & Staple'!$B$1:$B$1000&'Loan - Grade & Staple'!$C$1:$C$1000,0),MATCH(\"38+\",'Loan - Grade & Staple'!$A$3:$K$3,0)),IF(K189<=31,INDEX('Loan - Grade & Staple'!$A$1:$K$1000,MATCH($B189&$C189,'Loan - Grade & Staple'!$B$1:$B$1000&'Loan - Grade & Staple'!$C$1:$C$1000,0),MATCH(\"26-31\",'Loan - Grade & Staple'!$A$3:$K$3,0)),IF(ISNA(INDEX('Loan - Grade & Staple'!$A$1:$K$1000,MATCH($B189&C189,'Loan - Grade & Staple'!$B$1:$B$1000&'Loan - Grade & Staple'!$C$1:$C$1000,0),MATCH($K189,'Loan - Grade & Staple'!$A$3:$K$3,0))),-4000,INDEX('Loan - Grade & Staple'!$A$1:$K$1000,MATCH($B189&C189,'Loan - Grade & Staple'!$B$1:$B$1000&'Loan - Grade & Staple'!$C$1:$C$1000,0),MATCH($K189,'Loan - Grade & Staple'!$A$3:$K$3,0))))))","v":""},{"$f":"IF(LEN(E189)=0,\"\",INDEX('Loan - Strength'!$C$1:$C$18,MATCH(E189,'Loan - Strength'!$A$1:$A$18,1)))","v":""},{"$f":"IF(LEN(F189)=0,\"\",INDEX('Loan - Micronaire'!$C$1:$C$20,MATCH($F189,'Loan - Micronaire'!$A$1:$A$20,1)))","v":""},{"$f":"IF(LEN(G189)=0,\"\",INDEX('Loan - Uniformity'!$C$1:$C$20,MATCH($G189,'Loan - Uniformity'!$A$1:$A$20,1)))","v":""},"","",{"$f":"IF(OR(LEN(B189)=0,LEN(C189)=0,LEN(D189)=0,LEN(E189)=0,LEN(F189)=0,LEN(G189)=0),\"\",IF('Base Values'!$B$8+(SUM($L189:$P189)/100)<0,0,'Base Values'!$B$8+(SUM(L189:P189)/100)))","v":""},null,{"$f":"IF(AND($T$13=TRUE,H189=1),'Loan - Extraneous'!B$3,IF(AND($T$13=TRUE,H189=2),'Loan - Extraneous'!C$3,0))","v":0},{"$f":"IF(I189=1,'Loan - Extraneous'!$B$4,IF(I189=2,'Loan - Extraneous'!$C$4,0))","v":0},{"$f":"IF(J189=1,'Loan - Extraneous'!$B$5,IF(J189=2,'Loan - Extraneous'!$C$5,0))","v":0}]
[null,null,null,null,null,null,null,null,null,null,"",{"$f":"IF(OR(LEN(B190)=0,LEN(C190)=0,LEN(D190)=0),\"\",IF(K190>=38,INDEX('Loan - Grade & Staple'!$A$1:$K$1000,MATCH($B190&$C190,'Loan - Grade & Staple'!$B$1:$B$1000&'Loan - Grade & Staple'!$C$1:$C$1000,0),MATCH(\"38+\",'Loan - Grade & Staple'!$A$3:$K$3,0)),IF(K190<=31,INDEX('Loan - Grade & Staple'!$A$1:$K$1000,MATCH($B190&$C190,'Loan - Grade & Staple'!$B$1:$B$1000&'Loan - Grade & Staple'!$C$1:$C$1000,0),MATCH(\"26-31\",'Loan - Grade & Staple'!$A$3:$K$3,0)),IF(ISNA(INDEX('Loan - Grade & Staple'!$A$1:$K$1000,MATCH($B190&C190,'Loan - Grade & Staple'!$B$1:$B$1000&'Loan - Grade & Staple'!$C$1:$C$1000,0),MATCH($K190,'Loan - Grade & Staple'!$A$3:$K$3,0))),-4000,INDEX('Loan - Grade & Staple'!$A$1:$K$1000,MATCH($B190&C190,'Loan - Grade & Staple'!$B$1:$B$1000&'Loan - Grade & Staple'!$C$1:$C$1000,0),MATCH($K190,'Loan - Grade & Staple'!$A$3:$K$3,0))))))","v":""},{"$f":"IF(LEN(E190)=0,\"\",INDEX('Loan - Strength'!$C$1:$C$18,MATCH(E190,'Loan - Strength'!$A$1:$A$18,1)))","v":""},{"$f":"IF(LEN(F190)=0,\"\",INDEX('Loan - Micronaire'!$C$1:$C$20,MATCH($F190,'Loan - Micronaire'!$A$1:$A$20,1)))","v":""},{"$f":"IF(LEN(G190)=0,\"\",INDEX('Loan - Uniformity'!$C$1:$C$20,MATCH($G190,'Loan - Uniformity'!$A$1:$A$20,1)))","v":""},"","",{"$f":"IF(OR(LEN(B190)=0,LEN(C190)=0,LEN(D190)=0,LEN(E190)=0,LEN(F190)=0,LEN(G190)=0),\"\",IF('Base Values'!$B$8+(SUM($L190:$P190)/100)<0,0,'Base Values'!$B$8+(SUM(L190:P190)/100)))","v":""},null,{"$f":"IF(AND($T$13=TRUE,H190=1),'Loan - Extraneous'!B$3,IF(AND($T$13=TRUE,H190=2),'Loan - Extraneous'!C$3,0))","v":0},{"$f":"IF(I190=1,'Loan - Extraneous'!$B$4,IF(I190=2,'Loan - Extraneous'!$C$4,0))","v":0},{"$f":"IF(J190=1,'Loan - Extraneous'!$B$5,IF(J190=2,'Loan - Extraneous'!$C$5,0))","v":0}]
[null,null,null,null,null,null,null,null,null,null,"",{"$f":"IF(OR(LEN(B191)=0,LEN(C191)=0,LEN(D191)=0),\"\",IF(K191>=38,INDEX('Loan - Grade & Staple'!$A$1:$K$1000,MATCH($B191&$C191,'Loan - Grade & Staple'!$B$1:$B$1000&'Loan - Grade & Staple'!$C$1:$C$1000,0),MATCH(\"38+\",'Loan - Grade & Staple'!$A$3:$K$3,0)),IF(K191<=31,INDEX('Loan - Grade & Staple'!$A$1:$K$1000,MATCH($B191&$C191,'Loan - Grade & Staple'!$B$1:$B$1000&'Loan - Grade & Staple'!$C$1:$C$1000,0),MATCH(\"26-31\",'Loan - Grade & Staple'!$A$3:$K$3,0)),IF(ISNA(INDEX('Loan - Grade & Staple'!$A$1:$K$1000,MATCH($B191&C191,'Loan - Grade & Staple'!$B$1:$B$1000&'Loan - Grade & Staple'!$C$1:$C$1000,0),MATCH($K191,'Loan - Grade & Staple'!$A$3:$K$3,0))),-4000,INDEX('Loan - Grade & Staple'!$A$1:$K$1000,MATCH($B191&C191,'Loan - Grade & Staple'!$B$1:$B$1000&'Loan - Grade & Staple'!$C$1:$C$1000,0),MATCH($K191,'Loan - Grade & Staple'!$A$3:$K$3,0))))))","v":""},{"$f":"IF(LEN(E191)=0,\"\",INDEX('Loan - Strength'!$C$1:$C$18,MATCH(E191,'Loan - Strength'!$A$1:$A$18,1)))","v":""},{"$f":"IF(LEN(F191)=0,\"\",INDEX('Loan - Micronaire'!$C$1:$C$20,MATCH($F191,'Loan - Micronaire'!$A$1:$A$20,1)))","v":""},{"$f":"IF(LEN(G191)=0,\"\",INDEX('Loan - Uniformity'!$C$1:$C$20,MATCH($G191,'Loan - Uniformity'!$A$1:$A$20,1)))","v":""},"","",{"$f":"IF(OR(LEN(B191)=0,LEN(C191)=0,LEN(D191)=0,LEN(E191)=0,LEN(F191)=0,LEN(G191)=0),\"\",IF('Base Values'!$B$8+(SUM($L191:$P191)/100)<0,0,'Base Values'!$B$8+(SUM(L191:P191)/100)))","v":""},null,{"$f":"IF(AND($T$13=TRUE,H191=1),'Loan - Extraneous'!B$3,IF(AND($T$13=TRUE,H191=2),'Loan - Extraneous'!C$3,0))","v":0},{"$f":"IF(I191=1,'Loan - Extraneous'!$B$4,IF(I191=2,'Loan - Extraneous'!$C$4,0))","v":0},{"$f":"IF(J191=1,'Loan - Extraneous'!$B$5,IF(J191=2,'Loan - Extraneous'!$C$5,0))","v":0}]
[null,null,null,null,null,null,null,null,null,null,"",{"$f":"IF(OR(LEN(B192)=0,LEN(C192)=0,LEN(D192)=0),\"\",IF(K192>=38,INDEX('Loan - Grade & Staple'!$A$1:$K$1000,MATCH($B192&$C192,'Loan - Grade & Staple'!$B$1:$B$1000&'Loan - Grade & Staple'!$C$1:$C$1000,0),MATCH(\"38+\",'Loan - Grade & Staple'!$A$3:$K$3,0)),IF(K192<=31,INDEX('Loan - Grade & Staple'!$A$1:$K$1000,MATCH($B192&$C192,'Loan - Grade & Staple'!$B$1:$B$1000&'Loan - Grade & Staple'!$C$1:$C$1000,0),MATCH(\"26-31\",'Loan - Grade & Staple'!$A$3:$K$3,0)),IF(ISNA(INDEX('Loan - Grade & Staple'!$A$1:$K$1000,MATCH($B192&C192,'Loan - Grade & Staple'!$B$1:$B$1000&'Loan - Grade & Staple'!$C$1:$C$1000,0),MATCH($K192,'Loan - Grade & Staple'!$A$3:$K$3,0))),-4000,INDEX('Loan - Grade & Staple'!$A$1:$K$1000,MATCH($B192&C192,'Loan - Grade & Staple'!$B$1:$B$1000&'Loan - Grade & Staple'!$C$1:$C$1000,0),MATCH($K192,'Loan - Grade & Staple'!$A$3:$K$3,0))))))","v":""},{"$f":"IF(LEN(E192)=0,\"\",INDEX('Loan - Strength'!$C$1:$C$18,MATCH(E192,'Loan - Strength'!$A$1:$A$18,1)))","v":""},{"$f":"IF(LEN(F192)=0,\"\",INDEX('Loan - Micronaire'!$C$1:$C$20,MATCH($F192,'Loan - Micronaire'!$A$1:$A$20,1)))","v":""},{"$f":"IF(LEN(G192)=0,\"\",INDEX('Loan - Uniformity'!$C$1:$C$20,MATCH($G192,'Loan - Uniformity'!$A$1:$A$20,1)))","v":""},"","",{"$f":"IF(OR(LEN(B192)=0,LEN(C192)=0,LEN(D192)=0,LEN(E192)=0,LEN(F192)=0,LEN(G192)=0),\"\",IF('Base Values'!$B$8+(SUM($L192:$P192)/100)<0,0,'Base Values'!$B$8+(SUM(L192:P192)/100)))","v":""},null,{"$f":"IF(AND($T$13=TRUE,H192=1),'Loan - Extraneous'!B$3,IF(AND($T$13=TRUE,H192=2),'Loan - Extraneous'!C$3,0))","v":0},{"$f":"IF(I192=1,'Loan - Extraneous'!$B$4,IF(I192=2,'Loan - Extraneous'!$C$4,0))","v":0},{"$f":"IF(J192=1,'Loan - Extraneous'!$B$5,IF(J192=2,'Loan - Extraneous'!$C$5,0))","v":0}]
[null,null,null,null,null,null,null,null,null,null,"",{"$f":"IF(OR(LEN(B193)=0,LEN(C193)=0,LEN(D193)=0),\"\",IF(K193>=38,INDEX('Loan - Grade & Staple'!$A$1:$K$1000,MATCH($B193&$C193,'Loan - Grade & Staple'!$B$1:$B$1000&'Loan - Grade & Staple'!$C$1:$C$1000,0),MATCH(\"38+\",'Loan - Grade & Staple'!$A$3:$K$3,0)),IF(K193<=31,INDEX('Loan - Grade & Staple'!$A$1:$K$1000,MATCH($B193&$C193,'Loan - Grade & Staple'!$B$1:$B$1000&'Loan - Grade & Staple'!$C$1:$C$1000,0),MATCH(\"26-31\",'Loan - Grade & Staple'!$A$3:$K$3,0)),IF(ISNA(INDEX('Loan - Grade & Staple'!$A$1:$K$1000,MATCH($B193&C193,'Loan - Grade & Staple'!$B$1:$B$1000&'Loan - Grade & Staple'!$C$1:$C$1000,0),MATCH($K193,'Loan - Grade & Staple'!$A$3:$K$3,0))),-4000,INDEX('Loan - Grade & Staple'!$A$1:$K$1000,MATCH($B193&C193,'Loan - Grade & Staple'!$B$1:$B$1000&'Loan - Grade & Staple'!$C$1:$C$1000,0),MATCH($K193,'Loan - Grade & Staple'!$A$3:$K$3,0))))))","v":""},{"$f":"IF(LEN(E193)=0,\"\",INDEX('Loan - Strength'!$C$1:$C$18,MATCH(E193,'Loan - Strength'!$A$1:$A$18,1)))","v":""},{"$f":"IF(LEN(F193)=0,\"\",INDEX('Loan - Micronaire'!$C$1:$C$20,MATCH($F193,'Loan - Micronaire'!$A$1:$A$20,1)))","v":""},{"$f":"IF(LEN(G193)=0,\"\",INDEX('Loan - Uniformity'!$C$1:$C$20,MATCH($G193,'Loan - Uniformity'!$A$1:$A$20,1)))","v":""},"","",{"$f":"IF(OR(LEN(B193)=0,LEN(C193)=0,LEN(D193)=0,LEN(E193)=0,LEN(F193)=0,LEN(G193)=0),\"\",IF('Base Values'!$B$8+(SUM($L193:$P193)/100)<0,0,'Base Values'!$B$8+(SUM(L193:P193)/100)))","v":""},null,{"$f":"IF(AND($T$13=TRUE,H193=1),'Loan - Extraneous'!B$3,IF(AND($T$13=TRUE,H193=2),'Loan - Extraneous'!C$3,0))","v":0},{"$f":"IF(I193=1,'Loan - Extraneous'!$B$4,IF(I193=2,'Loan - Extraneous'!$C$4,0))","v":0},{"$f":"IF(J193=1,'Loan - Extraneous'!$B$5,IF(J193=2,'Loan - Extraneous'!$C$5,0))","v":0}]
[null,null,null,null,null,null,null,null,null,null,"",{"$f":"IF(OR(LEN(B194)=0,LEN(C194)=0,LEN(D194)=0),\"\",IF(K194>=38,INDEX('Loan - Grade & Staple'!$A$1:$K$1000,MATCH($B194&$C194,'Loan - Grade & Staple'!$B$1:$B$1000&'Loan - Grade & Staple'!$C$1:$C$1000,0),MATCH(\"38+\",'Loan - Grade & Staple'!$A$3:$K$3,0)),IF(K194<=31,INDEX('Loan - Grade & Staple'!$A$1:$K$1000,MATCH($B194&$C194,'Loan - Grade & Staple'!$B$1:$B$1000&'Loan - Grade & Staple'!$C$1:$C$1000,0),MATCH(\"26-31\",'Loan - Grade & Staple'!$A$3:$K$3,0)),IF(ISNA(INDEX('Loan - Grade & Staple'!$A$1:$K$1000,MATCH($B194&C194,'Loan - Grade & Staple'!$B$1:$B$1000&'Loan - Grade & Staple'!$C$1:$C$1000,0),MATCH($K194,'Loan - Grade & Staple'!$A$3:$K$3,0))),-4000,INDEX('Loan - Grade & Staple'!$A$1:$K$1000,MATCH($B194&C194,'Loan - Grade & Staple'!$B$1:$B$1000&'Loan - Grade & Staple'!$C$1:$C$1000,0),MATCH($K194,'Loan - Grade & Staple'!$A$3:$K$3,0))))))","v":""},{"$f":"IF(LEN(E194)=0,\"\",INDEX('Loan - Strength'!$C$1:$C$18,MATCH(E194,'Loan - Strength'!$A$1:$A$18,1)))","v":""},{"$f":"IF(LEN(F194)=0,\"\",INDEX('Loan - Micronaire'!$C$1:$C$20,MATCH($F194,'Loan - Micronaire'!$A$1:$A$20,1)))","v":""},{"$f":"IF(LEN(G194)=0,\"\",INDEX('Loan - Uniformity'!$C$1:$C$20,MATCH($G194,'Loan - Uniformity'!$A$1:$A$20,1)))","v":""},"","",{"$f":"IF(OR(LEN(B194)=0,LEN(C194)=0,LEN(D194)=0,LEN(E194)=0,LEN(F194)=0,LEN(G194)=0),\"\",IF('Base Values'!$B$8+(SUM($L194:$P194)/100)<0,0,'Base Values'!$B$8+(SUM(L194:P194)/100)))","v":""},null,{"$f":"IF(AND($T$13=TRUE,H194=1),'Loan - Extraneous'!B$3,IF(AND($T$13=TRUE,H194=2),'Loan - Extraneous'!C$3,0))","v":0},{"$f":"IF(I194=1,'Loan - Extraneous'!$B$4,IF(I194=2,'Loan - Extraneous'!$C$4,0))","v":0},{"$f":"IF(J194=1,'Loan - Extraneous'!$B$5,IF(J194=2,'Loan - Extraneous'!$C$5,0))","v":0}]
[null,null,null,null,null,null,null,null,null,null,"",{"$f":"IF(OR(LEN(B195)=0,LEN(C195)=0,LEN(D195)=0),\"\",IF(K195>=38,INDEX('Loan - Grade & Staple'!$A$1:$K$1000,MATCH($B195&$C195,'Loan - Grade & Staple'!$B$1:$B$1000&'Loan - Grade & Staple'!$C$1:$C$1000,0),MATCH(\"38+\",'Loan - Grade & Staple'!$A$3:$K$3,0)),IF(K195<=31,INDEX('Loan - Grade & Staple'!$A$1:$K$1000,MATCH($B195&$C195,'Loan - Grade & Staple'!$B$1:$B$1000&'Loan - Grade & Staple'!$C$1:$C$1000,0),MATCH(\"26-31\",'Loan - Grade & Staple'!$A$3:$K$3,0)),IF(ISNA(INDEX('Loan - Grade & Staple'!$A$1:$K$1000,MATCH($B195&C195,'Loan - Grade & Staple'!$B$1:$B$1000&'Loan - Grade & Staple'!$C$1:$C$1000,0),MATCH($K195,'Loan - Grade & Staple'!$A$3:$K$3,0))),-4000,INDEX('Loan - Grade & Staple'!$A$1:$K$1000,MATCH($B195&C195,'Loan - Grade & Staple'!$B$1:$B$1000&'Loan - Grade & Staple'!$C$1:$C$1000,0),MATCH($K195,'Loan - Grade & Staple'!$A$3:$K$3,0))))))","v":""},{"$f":"IF(LEN(E195)=0,\"\",INDEX('Loan - Strength'!$C$1:$C$18,MATCH(E195,'Loan - Strength'!$A$1:$A$18,1)))","v":""},{"$f":"IF(LEN(F195)=0,\"\",INDEX('Loan - Micronaire'!$C$1:$C$20,MATCH($F195,'Loan - Micronaire'!$A$1:$A$20,1)))","v":""},{"$f":"IF(LEN(G195)=0,\"\",INDEX('Loan - Uniformity'!$C$1:$C$20,MATCH($G195,'Loan - Uniformity'!$A$1:$A$20,1)))","v":""},"","",{"$f":"IF(OR(LEN(B195)=0,LEN(C195)=0,LEN(D195)=0,LEN(E195)=0,LEN(F195)=0,LEN(G195)=0),\"\",IF('Base Values'!$B$8+(SUM($L195:$P195)/100)<0,0,'Base Values'!$B$8+(SUM(L195:P195)/100)))","v":""},null,{"$f":"IF(AND($T$13=TRUE,H195=1),'Loan - Extraneous'!B$3,IF(AND($T$13=TRUE,H195=2),'Loan - Extraneous'!C$3,0))","v":0},{"$f":"IF(I195=1,'Loan - Extraneous'!$B$4,IF(I195=2,'Loan - Extraneous'!$C$4,0))","v":0},{"$f":"IF(J195=1,'Loan - Extraneous'!$B$5,IF(J195=2,'Loan - Extraneous'!$C$5,0))","v":0}]
[null,null,null,null,null,null,null,null,null,null,"",{"$f":"IF(OR(LEN(B196)=0,LEN(C196)=0,LEN(D196)=0),\"\",IF(K196>=38,INDEX('Loan - Grade & Staple'!$A$1:$K$1000,MATCH($B196&$C196,'Loan - Grade & Staple'!$B$1:$B$1000&'Loan - Grade & Staple'!$C$1:$C$1000,0),MATCH(\"38+\",'Loan - Grade & Staple'!$A$3:$K$3,0)),IF(K196<=31,INDEX('Loan - Grade & Staple'!$A$1:$K$1000,MATCH($B196&$C196,'Loan - Grade & Staple'!$B$1:$B$1000&'Loan - Grade & Staple'!$C$1:$C$1000,0),MATCH(\"26-31\",'Loan - Grade & Staple'!$A$3:$K$3,0)),IF(ISNA(INDEX('Loan - Grade & Staple'!$A$1:$K$1000,MATCH($B196&C196,'Loan - Grade & Staple'!$B$1:$B$1000&'Loan - Grade & Staple'!$C$1:$C$1000,0),MATCH($K196,'Loan - Grade & Staple'!$A$3:$K$3,0))),-4000,INDEX('Loan - Grade & Staple'!$A$1:$K$1000,MATCH($B196&C196,'Loan - Grade & Staple'!$B$1:$B$1000&'Loan - Grade & Staple'!$C$1:$C$1000,0),MATCH($K196,'Loan - Grade & Staple'!$A$3:$K$3,0))))))","v":""},{"$f":"IF(LEN(E196)=0,\"\",INDEX('Loan - Strength'!$C$1:$C$18,MATCH(E196,'Loan - Strength'!$A$1:$A$18,1)))","v":""},{"$f":"IF(LEN(F196)=0,\"\",INDEX('Loan - Micronaire'!$C$1:$C$20,MATCH($F196,'Loan - Micronaire'!$A$1:$A$20,1)))","v":""},{"$f":"IF(LEN(G196)=0,\"\",INDEX('Loan - Uniformity'!$C$1:$C$20,MATCH($G196,'Loan - Uniformity'!$A$1:$A$20,1)))","v":""},"","",{"$f":"IF(OR(LEN(B196)=0,LEN(C196)=0,LEN(D196)=0,LEN(E196)=0,LEN(F196)=0,LEN(G196)=0),\"\",IF('Base Values'!$B$8+(SUM($L196:$P196)/100)<0,0,'Base Values'!$B$8+(SUM(L196:P196)/100)))","v":""},null,{"$f":"IF(AND($T$13=TRUE,H196=1),'Loan - Extraneous'!B$3,IF(AND($T$13=TRUE,H196=2),'Loan - Extraneous'!C$3,0))","v":0},{"$f":"IF(I196=1,'Loan - Extraneous'!$B$4,IF(I196=2,'Loan - Extraneous'!$C$4,0))","v":0},{"$f":"IF(J196=1,'Loan - Extraneous'!$B$5,IF(J196=2,'Loan - Extraneous'!$C$5,0))","v":0}]
[null,null,null,null,null,null,null,null,null,null,"",{"$f":"IF(OR(LEN(B197)=0,LEN(C197)=0,LEN(D197)=0),\"\",IF(K197>=38,INDEX('Loan - Grade & Staple'!$A$1:$K$1000,MATCH($B197&$C197,'Loan - Grade & Staple'!$B$1:$B$1000&'Loan - Grade & Staple'!$C$1:$C$1000,0),MATCH(\"38+\",'Loan - Grade & Staple'!$A$3:$K$3,0)),IF(K197<=31,INDEX('Loan - Grade & Staple'!$A$1:$K$1000,MATCH($B197&$C197,'Loan - Grade & Staple'!$B$1:$B$1000&'Loan - Grade & Staple'!$C$1:$C$1000,0),MATCH(\"26-31\",'Loan - Grade & Staple'!$A$3:$K$3,0)),IF(ISNA(INDEX('Loan - Grade & Staple'!$A$1:$K$1000,MATCH($B197&C197,'Loan - Grade & Staple'!$B$1:$B$1000&'Loan - Grade & Staple'!$C$1:$C$1000,0),MATCH($K197,'Loan - Grade & Staple'!$A$3:$K$3,0))),-4000,INDEX('Loan - Grade & Staple'!$A$1:$K$1000,MATCH($B197&C197,'Loan - Grade & Staple'!$B$1:$B$1000&'Loan - Grade & Staple'!$C$1:$C$1000,0),MATCH($K197,'Loan - Grade & Staple'!$A$3:$K$3,0))))))","v":""},{"$f":"IF(LEN(E197)=0,\"\",INDEX('Loan - Strength'!$C$1:$C$18,MATCH(E197,'Loan - Strength'!$A$1:$A$18,1)))","v":""},{"$f":"IF(LEN(F197)=0,\"\",INDEX('Loan - Micronaire'!$C$1:$C$20,MATCH($F197,'Loan - Micronaire'!$A$1:$A$20,1)))","v":""},{"$f":"IF(LEN(G197)=0,\"\",INDEX('Loan - Uniformity'!$C$1:$C$20,MATCH($G197,'Loan - Uniformity'!$A$1:$A$20,1)))","v":""},"","",{"$f":"IF(OR(LEN(B197)=0,LEN(C197)=0,LEN(D197)=0,LEN(E197)=0,LEN(F197)=0,LEN(G197)=0),\"\",IF('Base Values'!$B$8+(SUM($L197:$P197)/100)<0,0,'Base Values'!$B$8+(SUM(L197:P197)/100)))","v":""},null,{"$f":"IF(AND($T$13=TRUE,H197=1),'Loan - Extraneous'!B$3,IF(AND($T$13=TRUE,H197=2),'Loan - Extraneous'!C$3,0))","v":0},{"$f":"IF(I197=1,'Loan - Extraneous'!$B$4,IF(I197=2,'Loan - Extraneous'!$C$4,0))","v":0},{"$f":"IF(J197=1,'Loan - Extraneous'!$B$5,IF(J197=2,'Loan - Extraneous'!$C$5,0))","v":0}]
[null,null,null,null,null,null,null,null,null,null,"",{"$f":"IF(OR(LEN(B198)=0,LEN(C198)=0,LEN(D198)=0),\"\",IF(K198>=38,INDEX('Loan - Grade & Staple'!$A$1:$K$1000,MATCH($B198&$C198,'Loan - Grade & Staple'!$B$1:$B$1000&'Loan - Grade & Staple'!$C$1:$C$1000,0),MATCH(\"38+\",'Loan - Grade & Staple'!$A$3:$K$3,0)),IF(K198<=31,INDEX('Loan - Grade & Staple'!$A$1:$K$1000,MATCH($B198&$C198,'Loan - Grade & Staple'!$B$1:$B$1000&'Loan - Grade & Staple'!$C$1:$C$1000,0),MATCH(\"26-31\",'Loan - Grade & Staple'!$A$3:$K$3,0)),IF(ISNA(INDEX('Loan - Grade & Staple'!$A$1:$K$1000,MATCH($B198&C198,'Loan - Grade & Staple'!$B$1:$B$1000&'Loan - Grade & Staple'!$C$1:$C$1000,0),MATCH($K198,'Loan - Grade & Staple'!$A$3:$K$3,0))),-4000,INDEX('Loan - Grade & Staple'!$A$1:$K$1000,MATCH($B198&C198,'Loan - Grade & Staple'!$B$1:$B$1000&'Loan - Grade & Staple'!$C$1:$C$1000,0),MATCH($K198,'Loan - Grade & Staple'!$A$3:$K$3,0))))))","v":""},{"$f":"IF(LEN(E198)=0,\"\",INDEX('Loan - Strength'!$C$1:$C$18,MATCH(E198,'Loan - Strength'!$A$1:$A$18,1)))","v":""},{"$f":"IF(LEN(F198)=0,\"\",INDEX('Loan - Micronaire'!$C$1:$C$20,MATCH($F198,'Loan - Micronaire'!$A$1:$A$20,1)))","v":""},{"$f":"IF(LEN(G198)=0,\"\",INDEX('Loan - Uniformity'!$C$1:$C$20,MATCH($G198,'Loan - Uniformity'!$A$1:$A$20,1)))","v":""},"","",{"$f":"IF(OR(LEN(B198)=0,LEN(C198)=0,LEN(D198)=0,LEN(E198)=0,LEN(F198)=0,LEN(G198)=0),\"\",IF('Base Values'!$B$8+(SUM($L198:$P198)/100)<0,0,'Base Values'!$B$8+(SUM(L198:P198)/100)))","v":""},null,{"$f":"IF(AND($T$13=TRUE,H198=1),'Loan - Extraneous'!B$3,IF(AND($T$13=TRUE,H198=2),'Loan - Extraneous'!C$3,0))","v":0},{"$f":"IF(I198=1,'Loan - Extraneous'!$B$4,IF(I198=2,'Loan - Extraneous'!$C$4,0))","v":0},{"$f":"IF(J198=1,'Loan - Extraneous'!$B$5,IF(J198=2,'Loan - Extraneous'!$C$5,0))","v":0}]
[null,null,null,null,null,null,null,null,null,null,"",{"$f":"IF(OR(LEN(B199)=0,LEN(C199)=0,LEN(D199)=0),\"\",IF(K199>=38,INDEX('Loan - Grade & Staple'!$A$1:$K$1000,MATCH($B199&$C199,'Loan - Grade & Staple'!$B$1:$B$1000&'Loan - Grade & Staple'!$C$1:$C$1000,0),MATCH(\"38+\",'Loan - Grade & Staple'!$A$3:$K$3,0)),IF(K199<=31,INDEX('Loan - Grade & Staple'!$A$1:$K$1000,MATCH($B199&$C199,'Loan - Grade & Staple'!$B$1:$B$1000&'Loan - Grade & Staple'!$C$1:$C$1000,0),MATCH(\"26-31\",'Loan - Grade & Staple'!$A$3:$K$3,0)),IF(ISNA(INDEX('Loan - Grade & Staple'!$A$1:$K$1000,MATCH($B199&C199,'Loan - Grade & Staple'!$B$1:$B$1000&'Loan - Grade & Staple'!$C$1:$C$1000,0),MATCH($K199,'Loan - Grade & Staple'!$A$3:$K$3,0))),-4000,INDEX('Loan - Grade & Staple'!$A$1:$K$1000,MATCH($B199&C199,'Loan - Grade & Staple'!$B$1:$B$1000&'Loan - Grade & Staple'!$C$1:$C$1000,0),MATCH($K199,'Loan - Grade & Staple'!$A$3:$K$3,0))))))","v":""},{"$f":"IF(LEN(E199)=0,\"\",INDEX('Loan - Strength'!$C$1:$C$18,MATCH(E199,'Loan - Strength'!$A$1:$A$18,1)))","v":""},{"$f":"IF(LEN(F199)=0,\"\",INDEX('Loan - Micronaire'!$C$1:$C$20,MATCH($F199,'Loan - Micronaire'!$A$1:$A$20,1)))","v":""},{"$f":"IF(LEN(G199)=0,\"\",INDEX('Loan - Uniformity'!$C$1:$C$20,MATCH($G199,'Loan - Uniformity'!$A$1:$A$20,1)))","v":""},"","",{"$f":"IF(OR(LEN(B199)=0,LEN(C199)=0,LEN(D199)=0,LEN(E199)=0,LEN(F199)=0,LEN(G199)=0),\"\",IF('Base Values'!$B$8+(SUM($L199:$P199)/100)<0,0,'Base Values'!$B$8+(SUM(L199:P199)/100)))","v":""},null,{"$f":"IF(AND($T$13=TRUE,H199=1),'Loan - Extraneous'!B$3,IF(AND($T$13=TRUE,H199=2),'Loan - Extraneous'!C$3,0))","v":0},{"$f":"IF(I199=1,'Loan - Extraneous'!$B$4,IF(I199=2,'Loan - Extraneous'!$C$4,0))","v":0},{"$f":"IF(J199=1,'Loan - Extraneous'!$B$5,IF(J199=2,'Loan - Extraneous'!$C$5,0))","v":0}]
[null,null,null,null,null,null,null,null,null,null,"",{"$f":"IF(OR(LEN(B200)=0,LEN(C200)=0,LEN(D200)=0),\"\",IF(K200>=38,INDEX('Loan - Grade & Staple'!$A$1:$K$1000,MATCH($B200&$C200,'Loan - Grade & Staple'!$B$1:$B$1000&'Loan - Grade & Staple'!$C$1:$C$1000,0),MATCH(\"38+\",'Loan - Grade & Staple'!$A$3:$K$3,0)),IF(K200<=31,INDEX('Loan - Grade & Staple'!$A$1:$K$1000,MATCH($B200&$C200,'Loan - Grade & Staple'!$B$1:$B$1000&'Loan - Grade & Staple'!$C$1:$C$1000,0),MATCH(\"26-31\",'Loan - Grade & Staple'!$A$3:$K$3,0)),IF(ISNA(INDEX('Loan - Grade & Staple'!$A$1:$K$1000,MATCH($B200&C200,'Loan - Grade & Staple'!$B$1:$B$1000&'Loan - Grade & Staple'!$C$1:$C$1000,0),MATCH($K200,'Loan - Grade & Staple'!$A$3:$K$3,0))),-4000,INDEX('Loan - Grade & Staple'!$A$1:$K$1000,MATCH($B200&C200,'Loan - Grade & Staple'!$B$1:$B$1000&'Loan - Grade & Staple'!$C$1:$C$1000,0),MATCH($K200,'Loan - Grade & Staple'!$A$3:$K$3,0))))))","v":""},{"$f":"IF(LEN(E200)=0,\"\",INDEX('Loan - Strength'!$C$1:$C$18,MATCH(E200,'Loan - Strength'!$A$1:$A$18,1)))","v":""},{"$f":"IF(LEN(F200)=0,\"\",INDEX('Loan - Micronaire'!$C$1:$C$20,MATCH($F200,'Loan - Micronaire'!$A$1:$A$20,1)))","v":""},{"$f":"IF(LEN(G200)=0,\"\",INDEX('Loan - Uniformity'!$C$1:$C$20,MATCH($G200,'Loan - Uniformity'!$A$1:$A$20,1)))","v":""},"","",{"$f":"IF(OR(LEN(B200)=0,LEN(C200)=0,LEN(D200)=0,LEN(E200)=0,LEN(F200)=0,LEN(G200)=0),\"\",IF('Base Values'!$B$8+(SUM($L200:$P200)/100)<0,0,'Base Values'!$B$8+(SUM(L200:P200)/100)))","v":""},null,{"$f":"IF(AND($T$13=TRUE,H200=1),'Loan - Extraneous'!B$3,IF(AND($T$13=TRUE,H200=2),'Loan - Extraneous'!C$3,0))","v":0},{"$f":"IF(I200=1,'Loan - Extraneous'!$B$4,IF(I200=2,'Loan - Extraneous'!$C$4,0))","v":0},{"$f":"IF(J200=1,'Loan - Extraneous'!$B$5,IF(J200=2,'Loan - Extraneous'!$C$5,0))","v":0}]
[null,null,null,null,null,null,null,null,null,null,"",{"$f":"IF(OR(LEN(B201)=0,LEN(C201)=0,LEN(D201)=0),\"\",IF(K201>=38,INDEX('Loan - Grade & Staple'!$A$1:$K$1000,MATCH($B201&$C201,'Loan - Grade & Staple'!$B$1:$B$1000&'Loan - Grade & Staple'!$C$1:$C$1000,0),MATCH(\"38+\",'Loan - Grade & Staple'!$A$3:$K$3,0)),IF(K201<=31,INDEX('Loan - Grade & Staple'!$A$1:$K$1000,MATCH($B201&$C201,'Loan - Grade & Staple'!$B$1:$B$1000&'Loan - Grade & Staple'!$C$1:$C$1000,0),MATCH(\"26-31\",'Loan - Grade & Staple'!$A$3:$K$3,0)),IF(ISNA(INDEX('Loan - Grade & Staple'!$A$1:$K$1000,MATCH($B201&C201,'Loan - Grade & Staple'!$B$1:$B$1000&'Loan - Grade & Staple'!$C$1:$C$1000,0),MATCH($K201,'Loan - Grade & Staple'!$A$3:$K$3,0))),-4000,INDEX('Loan - Grade & Staple'!$A$1:$K$1000,MATCH($B201&C201,'Loan - Grade & Staple'!$B$1:$B$1000&'Loan - Grade & Staple'!$C$1:$C$1000,0),MATCH($K201,'Loan - Grade & Staple'!$A$3:$K$3,0))))))","v":""},{"$f":"IF(LEN(E201)=0,\"\",INDEX('Loan - Strength'!$C$1:$C$18,MATCH(E201,'Loan - Strength'!$A$1:$A$18,1)))","v":""},{"$f":"IF(LEN(F201)=0,\"\",INDEX('Loan - Micronaire'!$C$1:$C$20,MATCH($F201,'Loan - Micronaire'!$A$1:$A$20,1)))","v":""},{"$f":"IF(LEN(G201)=0,\"\",INDEX('Loan - Uniformity'!$C$1:$C$20,MATCH($G201,'Loan - Uniformity'!$A$1:$A$20,1)))","v":""},"","",{"$f":"IF(OR(LEN(B201)=0,LEN(C201)=0,LEN(D201)=0,LEN(E201)=0,LEN(F201)=0,LEN(G201)=0),\"\",IF('Base Values'!$B$8+(SUM($L201:$P201)/100)<0,0,'Base Values'!$B$8+(SUM(L201:P201)/100)))","v":""},null,{"$f":"IF(AND($T$13=TRUE,H201=1),'Loan - Extraneous'!B$3,IF(AND($T$13=TRUE,H201=2),'Loan - Extraneous'!C$3,0))","v":0},{"$f":"IF(I201=1,'Loan - Extraneous'!$B$4,IF(I201=2,'Loan - Extraneous'!$C$4,0))","v":0},{"$f":"IF(J201=1,'Loan - Extraneous'!$B$5,IF(J201=2,'Loan - Extraneous'!$C$5,0))","v":0}]
[null,null,null,null,null,null,null,null,null,null,"",{"$f":"IF(OR(LEN(B202)=0,LEN(C202)=0,LEN(D202)=0),\"\",IF(K202>=38,INDEX('Loan - Grade & Staple'!$A$1:$K$1000,MATCH($B202&$C202,'Loan - Grade & Staple'!$B$1:$B$1000&'Loan - Grade & Staple'!$C$1:$C$1000,0),MATCH(\"38+\",'Loan - Grade & Staple'!$A$3:$K$3,0)),IF(K202<=31,INDEX('Loan - Grade & Staple'!$A$1:$K$1000,MATCH($B202&$C202,'Loan - Grade & Staple'!$B$1:$B$1000&'Loan - Grade & Staple'!$C$1:$C$1000,0),MATCH(\"26-31\",'Loan - Grade & Staple'!$A$3:$K$3,0)),IF(ISNA(INDEX('Loan - Grade & Staple'!$A$1:$K$1000,MATCH($B202&C202,'Loan - Grade & Staple'!$B$1:$B$1000&'Loan - Grade & Staple'!$C$1:$C$1000,0),MATCH($K202,'Loan - Grade & Staple'!$A$3:$K$3,0))),-4000,INDEX('Loan - Grade & Staple'!$A$1:$K$1000,MATCH($B202&C202,'Loan - Grade & Staple'!$B$1:$B$1000&'Loan - Grade & Staple'!$C$1:$C$1000,0),MATCH($K202,'Loan - Grade & Staple'!$A$3:$K$3,0))))))","v":""},{"$f":"IF(LEN(E202)=0,\"\",INDEX('Loan - Strength'!$C$1:$C$18,MATCH(E202,'Loan - Strength'!$A$1:$A$18,1)))","v":""},{"$f":"IF(LEN(F202)=0,\"\",INDEX('Loan - Micronaire'!$C$1:$C$20,MATCH($F202,'Loan - Micronaire'!$A$1:$A$20,1)))","v":""},{"$f":"IF(LEN(G202)=0,\"\",INDEX('Loan - Uniformity'!$C$1:$C$20,MATCH($G202,'Loan - Uniformity'!$A$1:$A$20,1)))","v":""},"","",{"$f":"IF(OR(LEN(B202)=0,LEN(C202)=0,LEN(D202)=0,LEN(E202)=0,LEN(F202)=0,LEN(G202)=0),\"\",IF('Base Values'!$B$8+(SUM($L202:$P202)/100)<0,0,'Base Values'!$B$8+(SUM(L202:P202)/100)))","v":""},null,{"$f":"IF(AND($T$13=TRUE,H202=1),'Loan - Extraneous'!B$3,IF(AND($T$13=TRUE,H202=2),'Loan - Extraneous'!C$3,0))","v":0},{"$f":"IF(I202=1,'Loan - Extraneous'!$B$4,IF(I202=2,'Loan - Extraneous'!$C$4,0))","v":0},{"$f":"IF(J202=1,'Loan - Extraneous'!$B$5,IF(J202=2,'Loan - Extraneous'!$C$5,0))","v":0}]
[null,null,null,null,null,null,null,null,null,null,"",{"$f":"IF(OR(LEN(B203)=0,LEN(C203)=0,LEN(D203)=0),\"\",IF(K203>=38,INDEX('Loan - Grade & Staple'!$A$1:$K$1000,MATCH($B203&$C203,'Loan - Grade & Staple'!$B$1:$B$1000&'Loan - Grade & Staple'!$C$1:$C$1000,0),MATCH(\"38+\",'Loan - Grade & Staple'!$A$3:$K$3,0)),IF(K203<=31,INDEX('Loan - Grade & Staple'!$A$1:$K$1000,MATCH($B203&$C203,'Loan - Grade & Staple'!$B$1:$B$1000&'Loan - Grade & Staple'!$C$1:$C$1000,0),MATCH(\"26-31\",'Loan - Grade & Staple'!$A$3:$K$3,0)),IF(ISNA(INDEX('Loan - Grade & Staple'!$A$1:$K$1000,MATCH($B203&C203,'Loan - Grade & Staple'!$B$1:$B$1000&'Loan - Grade & Staple'!$C$1:$C$1000,0),MATCH($K203,'Loan - Grade & Staple'!$A$3:$K$3,0))),-4000,INDEX('Loan - Grade & Staple'!$A$1:$K$1000,MATCH($B203&C203,'Loan - Grade & Staple'!$B$1:$B$1000&'Loan - Grade & Staple'!$C$1:$C$1000,0),MATCH($K203,'Loan - Grade & Staple'!$A$3:$K$3,0))))))","v":""},{"$f":"IF(LEN(E203)=0,\"\",INDEX('Loan - Strength'!$C$1:$C$18,MATCH(E203,'Loan - Strength'!$A$1:$A$18,1)))","v":""},{"$f":"IF(LEN(F203)=0,\"\",INDEX('Loan - Micronaire'!$C$1:$C$20,MATCH($F203,'Loan - Micronaire'!$A$1:$A$20,1)))","v":""},{"$f":"IF(LEN(G203)=0,\"\",INDEX('Loan - Uniformity'!$C$1:$C$20,MATCH($G203,'Loan - Uniformity'!$A$1:$A$20,1)))","v":""},"","",{"$f":"IF(OR(LEN(B203)=0,LEN(C203)=0,LEN(D203)=0,LEN(E203)=0,LEN(F203)=0,LEN(G203)=0),\"\",IF('Base Values'!$B$8+(SUM($L203:$P203)/100)<0,0,'Base Values'!$B$8+(SUM(L203:P203)/100)))","v":""},null,{"$f":"IF(AND($T$13=TRUE,H203=1),'Loan - Extraneous'!B$3,IF(AND($T$13=TRUE,H203=2),'Loan - Extraneous'!C$3,0))","v":0},{"$f":"IF(I203=1,'Loan - Extraneous'!$B$4,IF(I203=2,'Loan - Extraneous'!$C$4,0))","v":0},{"$f":"IF(J203=1,'Loan - Extraneous'!$B$5,IF(J203=2,'Loan - Extraneous'!$C$5,0))","v":0}]
[null,null,null,null,null,null,null,null,null,null,"",{"$f":"IF(OR(LEN(B204)=0,LEN(C204)=0,LEN(D204)=0),\"\",IF(K204>=38,INDEX('Loan - Grade & Staple'!$A$1:$K$1000,MATCH($B204&$C204,'Loan - Grade & Staple'!$B$1:$B$1000&'Loan - Grade & Staple'!$C$1:$C$1000,0),MATCH(\"38+\",'Loan - Grade & Staple'!$A$3:$K$3,0)),IF(K204<=31,INDEX('Loan - Grade & Staple'!$A$1:$K$1000,MATCH($B204&$C204,'Loan - Grade & Staple'!$B$1:$B$1000&'Loan - Grade & Staple'!$C$1:$C$1000,0),MATCH(\"26-31\",'Loan - Grade & Staple'!$A$3:$K$3,0)),IF(ISNA(INDEX('Loan - Grade & Staple'!$A$1:$K$1000,MATCH($B204&C204,'Loan - Grade & Staple'!$B$1:$B$1000&'Loan - Grade & Staple'!$C$1:$C$1000,0),MATCH($K204,'Loan - Grade & Staple'!$A$3:$K$3,0))),-4000,INDEX('Loan - Grade & Staple'!$A$1:$K$1000,MATCH($B204&C204,'Loan - Grade & Staple'!$B$1:$B$1000&'Loan - Grade & Staple'!$C$1:$C$1000,0),MATCH($K204,'Loan - Grade & Staple'!$A$3:$K$3,0))))))","v":""},{"$f":"IF(LEN(E204)=0,\"\",INDEX('Loan - Strength'!$C$1:$C$18,MATCH(E204,'Loan - Strength'!$A$1:$A$18,1)))","v":""},{"$f":"IF(LEN(F204)=0,\"\",INDEX('Loan - Micronaire'!$C$1:$C$20,MATCH($F204,'Loan - Micronaire'!$A$1:$A$20,1)))","v":""},{"$f":"IF(LEN(G204)=0,\"\",INDEX('Loan - Uniformity'!$C$1:$C$20,MATCH($G204,'Loan - Uniformity'!$A$1:$A$20,1)))","v":""},"","",{"$f":"IF(OR(LEN(B204)=0,LEN(C204)=0,LEN(D204)=0,LEN(E204)=0,LEN(F204)=0,LEN(G204)=0),\"\",IF('Base Values'!$B$8+(SUM($L204:$P204)/100)<0,0,'Base Values'!$B$8+(SUM(L204:P204)/100)))","v":""},null,{"$f":"IF(AND($T$13=TRUE,H204=1),'Loan - Extraneous'!B$3,IF(AND($T$13=TRUE,H204=2),'Loan - Extraneous'!C$3,0))","v":0},{"$f":"IF(I204=1,'Loan - Extraneous'!$B$4,IF(I204=2,'Loan - Extraneous'!$C$4,0))","v":0},{"$f":"IF(J204=1,'Loan - Extraneous'!$B$5,IF(J204=2,'Loan - Extraneous'!$C$5,0))","v":0}]
[null,null,null,null,null,null,null,null,null,null,"",{"$f":"IF(OR(LEN(B205)=0,LEN(C205)=0,LEN(D205)=0),\"\",IF(K205>=38,INDEX('Loan - Grade & Staple'!$A$1:$K$1000,MATCH($B205&$C205,'Loan - Grade & Staple'!$B$1:$B$1000&'Loan - Grade & Staple'!$C$1:$C$1000,0),MATCH(\"38+\",'Loan - Grade & Staple'!$A$3:$K$3,0)),IF(K205<=31,INDEX('Loan - Grade & Staple'!$A$1:$K$1000,MATCH($B205&$C205,'Loan - Grade & Staple'!$B$1:$B$1000&'Loan - Grade & Staple'!$C$1:$C$1000,0),MATCH(\"26-31\",'Loan - Grade & Staple'!$A$3:$K$3,0)),IF(ISNA(INDEX('Loan - Grade & Staple'!$A$1:$K$1000,MATCH($B205&C205,'Loan - Grade & Staple'!$B$1:$B$1000&'Loan - Grade & Staple'!$C$1:$C$1000,0),MATCH($K205,'Loan - Grade & Staple'!$A$3:$K$3,0))),-4000,INDEX('Loan - Grade & Staple'!$A$1:$K$1000,MATCH($B205&C205,'Loan - Grade & Staple'!$B$1:$B$1000&'Loan - Grade & Staple'!$C$1:$C$1000,0),MATCH($K205,'Loan - Grade & Staple'!$A$3:$K$3,0))))))","v":""},{"$f":"IF(LEN(E205)=0,\"\",INDEX('Loan - Strength'!$C$1:$C$18,MATCH(E205,'Loan - Strength'!$A$1:$A$18,1)))","v":""},{"$f":"IF(LEN(F205)=0,\"\",INDEX('Loan - Micronaire'!$C$1:$C$20,MATCH($F205,'Loan - Micronaire'!$A$1:$A$20,1)))","v":""},{"$f":"IF(LEN(G205)=0,\"\",INDEX('Loan - Uniformity'!$C$1:$C$20,MATCH($G205,'Loan - Uniformity'!$A$1:$A$20,1)))","v":""},"","",{"$f":"IF(OR(LEN(B205)=0,LEN(C205)=0,LEN(D205)=0,LEN(E205)=0,LEN(F205)=0,LEN(G205)=0),\"\",IF('Base Values'!$B$8+(SUM($L205:$P205)/100)<0,0,'Base Values'!$B$8+(SUM(L205:P205)/100)))","v":""},null,{"$f":"IF(AND($T$13=TRUE,H205=1),'Loan - Extraneous'!B$3,IF(AND($T$13=TRUE,H205=2),'Loan - Extraneous'!C$3,0))","v":0},{"$f":"IF(I205=1,'Loan - Extraneous'!$B$4,IF(I205=2,'Loan - Extraneous'!$C$4,0))","v":0},{"$f":"IF(J205=1,'Loan - Extraneous'!$B$5,IF(J205=2,'Loan - Extraneous'!$C$5,0))","v":0}]
[null,null,null,null,null,null,null,null,null,null,"",{"$f":"IF(OR(LEN(B206)=0,LEN(C206)=0,LEN(D206)=0),\"\",IF(K206>=38,INDEX('Loan - Grade & Staple'!$A$1:$K$1000,MATCH($B206&$C206,'Loan - Grade & Staple'!$B$1:$B$1000&'Loan - Grade & Staple'!$C$1:$C$1000,0),MATCH(\"38+\",'Loan - Grade & Staple'!$A$3:$K$3,0)),IF(K206<=31,INDEX('Loan - Grade & Staple'!$A$1:$K$1000,MATCH($B206&$C206,'Loan - Grade & Staple'!$B$1:$B$1000&'Loan - Grade & Staple'!$C$1:$C$1000,0),MATCH(\"26-31\",'Loan - Grade & Staple'!$A$3:$K$3,0)),IF(ISNA(INDEX('Loan - Grade & Staple'!$A$1:$K$1000,MATCH($B206&C206,'Loan - Grade & Staple'!$B$1:$B$1000&'Loan - Grade & Staple'!$C$1:$C$1000,0),MATCH($K206,'Loan - Grade & Staple'!$A$3:$K$3,0))),-4000,INDEX('Loan - Grade & Staple'!$A$1:$K$1000,MATCH($B206&C206,'Loan - Grade & Staple'!$B$1:$B$1000&'Loan - Grade & Staple'!$C$1:$C$1000,0),MATCH($K206,'Loan - Grade & Staple'!$A$3:$K$3,0))))))","v":""},{"$f":"IF(LEN(E206)=0,\"\",INDEX('Loan - Strength'!$C$1:$C$18,MATCH(E206,'Loan - Strength'!$A$1:$A$18,1)))","v":""},{"$f":"IF(LEN(F206)=0,\"\",INDEX('Loan - Micronaire'!$C$1:$C$20,MATCH($F206,'Loan - Micronaire'!$A$1:$A$20,1)))","v":""},{"$f":"IF(LEN(G206)=0,\"\",INDEX('Loan - Uniformity'!$C$1:$C$20,MATCH($G206,'Loan - Uniformity'!$A$1:$A$20,1)))","v":""},"","",{"$f":"IF(OR(LEN(B206)=0,LEN(C206)=0,LEN(D206)=0,LEN(E206)=0,LEN(F206)=0,LEN(G206)=0),\"\",IF('Base Values'!$B$8+(SUM($L206:$P206)/100)<0,0,'Base Values'!$B$8+(SUM(L206:P206)/100)))","v":""},null,{"$f":"IF(AND($T$13=TRUE,H206=1),'Loan - Extraneous'!B$3,IF(AND($T$13=TRUE,H206=2),'Loan - Extraneous'!C$3,0))","v":0},{"$f":"IF(I206=1,'Loan - Extraneous'!$B$4,IF(I206=2,'Loan - Extraneous'!$C$4,0))","v":0},{"$f":"IF(J206=1,'Loan - Extraneous'!$B$5,IF(J206=2,'Loan - Extraneous'!$C$5,0))","v":0}]
[null,null,null,null,null,null,null,null,null,null,"",{"$f":"IF(OR(LEN(B207)=0,LEN(C207)=0,LEN(D207)=0),\"\",IF(K207>=38,INDEX('Loan - Grade & Staple'!$A$1:$K$1000,MATCH($B207&$C207,'Loan - Grade & Staple'!$B$1:$B$1000&'Loan - Grade & Staple'!$C$1:$C$1000,0),MATCH(\"38+\",'Loan - Grade & Staple'!$A$3:$K$3,0)),IF(K207<=31,INDEX('Loan - Grade & Staple'!$A$1:$K$1000,MATCH($B207&$C207,'Loan - Grade & Staple'!$B$1:$B$1000&'Loan - Grade & Staple'!$C$1:$C$1000,0),MATCH(\"26-31\",'Loan - Grade & Staple'!$A$3:$K$3,0)),IF(ISNA(INDEX('Loan - Grade & Staple'!$A$1:$K$1000,MATCH($B207&C207,'Loan - Grade & Staple'!$B$1:$B$1000&'Loan - Grade & Staple'!$C$1:$C$1000,0),MATCH($K207,'Loan - Grade & Staple'!$A$3:$K$3,0))),-4000,INDEX('Loan - Grade & Staple'!$A$1:$K$1000,MATCH($B207&C207,'Loan - Grade & Staple'!$B$1:$B$1000&'Loan - Grade & Staple'!$C$1:$C$1000,0),MATCH($K207,'Loan - Grade & Staple'!$A$3:$K$3,0))))))","v":""},{"$f":"IF(LEN(E207)=0,\"\",INDEX('Loan - Strength'!$C$1:$C$18,MATCH(E207,'Loan - Strength'!$A$1:$A$18,1)))","v":""},{"$f":"IF(LEN(F207)=0,\"\",INDEX('Loan - Micronaire'!$C$1:$C$20,MATCH($F207,'Loan - Micronaire'!$A$1:$A$20,1)))","v":""},{"$f":"IF(LEN(G207)=0,\"\",INDEX('Loan - Uniformity'!$C$1:$C$20,MATCH($G207,'Loan - Uniformity'!$A$1:$A$20,1)))","v":""},"","",{"$f":"IF(OR(LEN(B207)=0,LEN(C207)=0,LEN(D207)=0,LEN(E207)=0,LEN(F207)=0,LEN(G207)=0),\"\",IF('Base Values'!$B$8+(SUM($L207:$P207)/100)<0,0,'Base Values'!$B$8+(SUM(L207:P207)/100)))","v":""},null,{"$f":"IF(AND($T$13=TRUE,H207=1),'Loan - Extraneous'!B$3,IF(AND($T$13=TRUE,H207=2),'Loan - Extraneous'!C$3,0))","v":0},{"$f":"IF(I207=1,'Loan - Extraneous'!$B$4,IF(I207=2,'Loan - Extraneous'!$C$4,0))","v":0},{"$f":"IF(J207=1,'Loan - Extraneous'!$B$5,IF(J207=2,'Loan - Extraneous'!$C$5,0))","v":0}]
[null,null,null,null,null,null,null,null,null,null,"",{"$f":"IF(OR(LEN(B208)=0,LEN(C208)=0,LEN(D208)=0),\"\",IF(K208>=38,INDEX('Loan - Grade & Staple'!$A$1:$K$1000,MATCH($B208&$C208,'Loan - Grade & Staple'!$B$1:$B$1000&'Loan - Grade & Staple'!$C$1:$C$1000,0),MATCH(\"38+\",'Loan - Grade & Staple'!$A$3:$K$3,0)),IF(K208<=31,INDEX('Loan - Grade & Staple'!$A$1:$K$1000,MATCH($B208&$C208,'Loan - Grade & Staple'!$B$1:$B$1000&'Loan - Grade & Staple'!$C$1:$C$1000,0),MATCH(\"26-31\",'Loan - Grade & Staple'!$A$3:$K$3,0)),IF(ISNA(INDEX('Loan - Grade & Staple'!$A$1:$K$1000,MATCH($B208&C208,'Loan - Grade & Staple'!$B$1:$B$1000&'Loan - Grade & Staple'!$C$1:$C$1000,0),MATCH($K208,'Loan - Grade & Staple'!$A$3:$K$3,0))),-4000,INDEX('Loan - Grade & Staple'!$A$1:$K$1000,MATCH($B208&C208,'Loan - Grade & Staple'!$B$1:$B$1000&'Loan - Grade & Staple'!$C$1:$C$1000,0),MATCH($K208,'Loan - Grade & Staple'!$A$3:$K$3,0))))))","v":""},{"$f":"IF(LEN(E208)=0,\"\",INDEX('Loan - Strength'!$C$1:$C$18,MATCH(E208,'Loan - Strength'!$A$1:$A$18,1)))","v":""},{"$f":"IF(LEN(F208)=0,\"\",INDEX('Loan - Micronaire'!$C$1:$C$20,MATCH($F208,'Loan - Micronaire'!$A$1:$A$20,1)))","v":""},{"$f":"IF(LEN(G208)=0,\"\",INDEX('Loan - Uniformity'!$C$1:$C$20,MATCH($G208,'Loan - Uniformity'!$A$1:$A$20,1)))","v":""},"","",{"$f":"IF(OR(LEN(B208)=0,LEN(C208)=0,LEN(D208)=0,LEN(E208)=0,LEN(F208)=0,LEN(G208)=0),\"\",IF('Base Values'!$B$8+(SUM($L208:$P208)/100)<0,0,'Base Values'!$B$8+(SUM(L208:P208)/100)))","v":""},null,{"$f":"IF(AND($T$13=TRUE,H208=1),'Loan - Extraneous'!B$3,IF(AND($T$13=TRUE,H208=2),'Loan - Extraneous'!C$3,0))","v":0},{"$f":"IF(I208=1,'Loan - Extraneous'!$B$4,IF(I208=2,'Loan - Extraneous'!$C$4,0))","v":0},{"$f":"IF(J208=1,'Loan - Extraneous'!$B$5,IF(J208=2,'Loan - Extraneous'!$C$5,0))","v":0}]
[null,null,null,null,null,null,null,null,null,null,"",{"$f":"IF(OR(LEN(B209)=0,LEN(C209)=0,LEN(D209)=0),\"\",IF(K209>=38,INDEX('Loan - Grade & Staple'!$A$1:$K$1000,MATCH($B209&$C209,'Loan - Grade & Staple'!$B$1:$B$1000&'Loan - Grade & Staple'!$C$1:$C$1000,0),MATCH(\"38+\",'Loan - Grade & Staple'!$A$3:$K$3,0)),IF(K209<=31,INDEX('Loan - Grade & Staple'!$A$1:$K$1000,MATCH($B209&$C209,'Loan - Grade & Staple'!$B$1:$B$1000&'Loan - Grade & Staple'!$C$1:$C$1000,0),MATCH(\"26-31\",'Loan - Grade & Staple'!$A$3:$K$3,0)),IF(ISNA(INDEX('Loan - Grade & Staple'!$A$1:$K$1000,MATCH($B209&C209,'Loan - Grade & Staple'!$B$1:$B$1000&'Loan - Grade & Staple'!$C$1:$C$1000,0),MATCH($K209,'Loan - Grade & Staple'!$A$3:$K$3,0))),-4000,INDEX('Loan - Grade & Staple'!$A$1:$K$1000,MATCH($B209&C209,'Loan - Grade & Staple'!$B$1:$B$1000&'Loan - Grade & Staple'!$C$1:$C$1000,0),MATCH($K209,'Loan - Grade & Staple'!$A$3:$K$3,0))))))","v":""},{"$f":"IF(LEN(E209)=0,\"\",INDEX('Loan - Strength'!$C$1:$C$18,MATCH(E209,'Loan - Strength'!$A$1:$A$18,1)))","v":""},{"$f":"IF(LEN(F209)=0,\"\",INDEX('Loan - Micronaire'!$C$1:$C$20,MATCH($F209,'Loan - Micronaire'!$A$1:$A$20,1)))","v":""},{"$f":"IF(LEN(G209)=0,\"\",INDEX('Loan - Uniformity'!$C$1:$C$20,MATCH($G209,'Loan - Uniformity'!$A$1:$A$20,1)))","v":""},"","",{"$f":"IF(OR(LEN(B209)=0,LEN(C209)=0,LEN(D209)=0,LEN(E209)=0,LEN(F209)=0,LEN(G209)=0),\"\",IF('Base Values'!$B$8+(SUM($L209:$P209)/100)<0,0,'Base Values'!$B$8+(SUM(L209:P209)/100)))","v":""},null,{"$f":"IF(AND($T$13=TRUE,H209=1),'Loan - Extraneous'!B$3,IF(AND($T$13=TRUE,H209=2),'Loan - Extraneous'!C$3,0))","v":0},{"$f":"IF(I209=1,'Loan - Extraneous'!$B$4,IF(I209=2,'Loan - Extraneous'!$C$4,0))","v":0},{"$f":"IF(J209=1,'Loan - Extraneous'!$B$5,IF(J209=2,'Loan - Extraneous'!$C$5,0))","v":0}]
[null,null,null,null,null,null,null,null,null,null,"",{"$f":"IF(OR(LEN(B210)=0,LEN(C210)=0,LEN(D210)=0),\"\",IF(K210>=38,INDEX('Loan - Grade & Staple'!$A$1:$K$1000,MATCH($B210&$C210,'Loan - Grade & Staple'!$B$1:$B$1000&'Loan - Grade & Staple'!$C$1:$C$1000,0),MATCH(\"38+\",'Loan - Grade & Staple'!$A$3:$K$3,0)),IF(K210<=31,INDEX('Loan - Grade & Staple'!$A$1:$K$1000,MATCH($B210&$C210,'Loan - Grade & Staple'!$B$1:$B$1000&'Loan - Grade & Staple'!$C$1:$C$1000,0),MATCH(\"26-31\",'Loan - Grade & Staple'!$A$3:$K$3,0)),IF(ISNA(INDEX('Loan - Grade & Staple'!$A$1:$K$1000,MATCH($B210&C210,'Loan - Grade & Staple'!$B$1:$B$1000&'Loan - Grade & Staple'!$C$1:$C$1000,0),MATCH($K210,'Loan - Grade & Staple'!$A$3:$K$3,0))),-4000,INDEX('Loan - Grade & Staple'!$A$1:$K$1000,MATCH($B210&C210,'Loan - Grade & Staple'!$B$1:$B$1000&'Loan - Grade & Staple'!$C$1:$C$1000,0),MATCH($K210,'Loan - Grade & Staple'!$A$3:$K$3,0))))))","v":""},{"$f":"IF(LEN(E210)=0,\"\",INDEX('Loan - Strength'!$C$1:$C$18,MATCH(E210,'Loan - Strength'!$A$1:$A$18,1)))","v":""},{"$f":"IF(LEN(F210)=0,\"\",INDEX('Loan - Micronaire'!$C$1:$C$20,MATCH($F210,'Loan - Micronaire'!$A$1:$A$20,1)))","v":""},{"$f":"IF(LEN(G210)=0,\"\",INDEX('Loan - Uniformity'!$C$1:$C$20,MATCH($G210,'Loan - Uniformity'!$A$1:$A$20,1)))","v":""},"","",{"$f":"IF(OR(LEN(B210)=0,LEN(C210)=0,LEN(D210)=0,LEN(E210)=0,LEN(F210)=0,LEN(G210)=0),\"\",IF('Base Values'!$B$8+(SUM($L210:$P210)/100)<0,0,'Base Values'!$B$8+(SUM(L210:P210)/100)))","v":""},null,{"$f":"IF(AND($T$13=TRUE,H210=1),'Loan - Extraneous'!B$3,IF(AND($T$13=TRUE,H210=2),'Loan - Extraneous'!C$3,0))","v":0},{"$f":"IF(I210=1,'Loan - Extraneous'!$B$4,IF(I210=2,'Loan - Extraneous'!$C$4,0))","v":0},{"$f":"IF(J210=1,'Loan - Extraneous'!$B$5,IF(J210=2,'Loan - Extraneous'!$C$5,0))","v":0}]
[null,null,null,null,null,null,null,null,null,null,"",{"$f":"IF(OR(LEN(B211)=0,LEN(C211)=0,LEN(D211)=0),\"\",IF(K211>=38,INDEX('Loan - Grade & Staple'!$A$1:$K$1000,MATCH($B211&$C211,'Loan - Grade & Staple'!$B$1:$B$1000&'Loan - Grade & Staple'!$C$1:$C$1000,0),MATCH(\"38+\",'Loan - Grade & Staple'!$A$3:$K$3,0)),IF(K211<=31,INDEX('Loan - Grade & Staple'!$A$1:$K$1000,MATCH($B211&$C211,'Loan - Grade & Staple'!$B$1:$B$1000&'Loan - Grade & Staple'!$C$1:$C$1000,0),MATCH(\"26-31\",'Loan - Grade & Staple'!$A$3:$K$3,0)),IF(ISNA(INDEX('Loan - Grade & Staple'!$A$1:$K$1000,MATCH($B211&C211,'Loan - Grade & Staple'!$B$1:$B$1000&'Loan - Grade & Staple'!$C$1:$C$1000,0),MATCH($K211,'Loan - Grade & Staple'!$A$3:$K$3,0))),-4000,INDEX('Loan - Grade & Staple'!$A$1:$K$1000,MATCH($B211&C211,'Loan - Grade & Staple'!$B$1:$B$1000&'Loan - Grade & Staple'!$C$1:$C$1000,0),MATCH($K211,'Loan - Grade & Staple'!$A$3:$K$3,0))))))","v":""},{"$f":"IF(LEN(E211)=0,\"\",INDEX('Loan - Strength'!$C$1:$C$18,MATCH(E211,'Loan - Strength'!$A$1:$A$18,1)))","v":""},{"$f":"IF(LEN(F211)=0,\"\",INDEX('Loan - Micronaire'!$C$1:$C$20,MATCH($F211,'Loan - Micronaire'!$A$1:$A$20,1)))","v":""},{"$f":"IF(LEN(G211)=0,\"\",INDEX('Loan - Uniformity'!$C$1:$C$20,MATCH($G211,'Loan - Uniformity'!$A$1:$A$20,1)))","v":""},"","",{"$f":"IF(OR(LEN(B211)=0,LEN(C211)=0,LEN(D211)=0,LEN(E211)=0,LEN(F211)=0,LEN(G211)=0),\"\",IF('Base Values'!$B$8+(SUM($L211:$P211)/100)<0,0,'Base Values'!$B$8+(SUM(L211:P211)/100)))","v":""},null,{"$f":"IF(AND($T$13=TRUE,H211=1),'Loan - Extraneous'!B$3,IF(AND($T$13=TRUE,H211=2),'Loan - Extraneous'!C$3,0))","v":0},{"$f":"IF(I211=1,'Loan - Extraneous'!$B$4,IF(I211=2,'Loan - Extraneous'!$C$4,0))","v":0},{"$f":"IF(J211=1,'Loan - Extraneous'!$B$5,IF(J211=2,'Loan - Extraneous'!$C$5,0))","v":0}]
[null,null,null,null,null,null,null,null,null,null,"",{"$f":"IF(OR(LEN(B212)=0,LEN(C212)=0,LEN(D212)=0),\"\",IF(K212>=38,INDEX('Loan - Grade & Staple'!$A$1:$K$1000,MATCH($B212&$C212,'Loan - Grade & Staple'!$B$1:$B$1000&'Loan - Grade & Staple'!$C$1:$C$1000,0),MATCH(\"38+\",'Loan - Grade & Staple'!$A$3:$K$3,0)),IF(K212<=31,INDEX('Loan - Grade & Staple'!$A$1:$K$1000,MATCH($B212&$C212,'Loan - Grade & Staple'!$B$1:$B$1000&'Loan - Grade & Staple'!$C$1:$C$1000,0),MATCH(\"26-31\",'Loan - Grade & Staple'!$A$3:$K$3,0)),IF(ISNA(INDEX('Loan - Grade & Staple'!$A$1:$K$1000,MATCH($B212&C212,'Loan - Grade & Staple'!$B$1:$B$1000&'Loan - Grade & Staple'!$C$1:$C$1000,0),MATCH($K212,'Loan - Grade & Staple'!$A$3:$K$3,0))),-4000,INDEX('Loan - Grade & Staple'!$A$1:$K$1000,MATCH($B212&C212,'Loan - Grade & Staple'!$B$1:$B$1000&'Loan - Grade & Staple'!$C$1:$C$1000,0),MATCH($K212,'Loan - Grade & Staple'!$A$3:$K$3,0))))))","v":""},{"$f":"IF(LEN(E212)=0,\"\",INDEX('Loan - Strength'!$C$1:$C$18,MATCH(E212,'Loan - Strength'!$A$1:$A$18,1)))","v":""},{"$f":"IF(LEN(F212)=0,\"\",INDEX('Loan - Micronaire'!$C$1:$C$20,MATCH($F212,'Loan - Micronaire'!$A$1:$A$20,1)))","v":""},{"$f":"IF(LEN(G212)=0,\"\",INDEX('Loan - Uniformity'!$C$1:$C$20,MATCH($G212,'Loan - Uniformity'!$A$1:$A$20,1)))","v":""},"","",{"$f":"IF(OR(LEN(B212)=0,LEN(C212)=0,LEN(D212)=0,LEN(E212)=0,LEN(F212)=0,LEN(G212)=0),\"\",IF('Base Values'!$B$8+(SUM($L212:$P212)/100)<0,0,'Base Values'!$B$8+(SUM(L212:P212)/100)))","v":""},null,{"$f":"IF(AND($T$13=TRUE,H212=1),'Loan - Extraneous'!B$3,IF(AND($T$13=TRUE,H212=2),'Loan - Extraneous'!C$3,0))","v":0},{"$f":"IF(I212=1,'Loan - Extraneous'!$B$4,IF(I212=2,'Loan - Extraneous'!$C$4,0))","v":0},{"$f":"IF(J212=1,'Loan - Extraneous'!$B$5,IF(J212=2,'Loan - Extraneous'!$C$5,0))","v":0}]
[null,null,null,null,null,null,null,null,null,null,"",{"$f":"IF(OR(LEN(B213)=0,LEN(C213)=0,LEN(D213)=0),\"\",IF(K213>=38,INDEX('Loan - Grade & Staple'!$A$1:$K$1000,MATCH($B213&$C213,'Loan - Grade & Staple'!$B$1:$B$1000&'Loan - Grade & Staple'!$C$1:$C$1000,0),MATCH(\"38+\",'Loan - Grade & Staple'!$A$3:$K$3,0)),IF(K213<=31,INDEX('Loan - Grade & Staple'!$A$1:$K$1000,MATCH($B213&$C213,'Loan - Grade & Staple'!$B$1:$B$1000&'Loan - Grade & Staple'!$C$1:$C$1000,0),MATCH(\"26-31\",'Loan - Grade & Staple'!$A$3:$K$3,0)),IF(ISNA(INDEX('Loan - Grade & Staple'!$A$1:$K$1000,MATCH($B213&C213,'Loan - Grade & Staple'!$B$1:$B$1000&'Loan - Grade & Staple'!$C$1:$C$1000,0),MATCH($K213,'Loan - Grade & Staple'!$A$3:$K$3,0))),-4000,INDEX('Loan - Grade & Staple'!$A$1:$K$1000,MATCH($B213&C213,'Loan - Grade & Staple'!$B$1:$B$1000&'Loan - Grade & Staple'!$C$1:$C$1000,0),MATCH($K213,'Loan - Grade & Staple'!$A$3:$K$3,0))))))","v":""},{"$f":"IF(LEN(E213)=0,\"\",INDEX('Loan - Strength'!$C$1:$C$18,MATCH(E213,'Loan - Strength'!$A$1:$A$18,1)))","v":""},{"$f":"IF(LEN(F213)=0,\"\",INDEX('Loan - Micronaire'!$C$1:$C$20,MATCH($F213,'Loan - Micronaire'!$A$1:$A$20,1)))","v":""},{"$f":"IF(LEN(G213)=0,\"\",INDEX('Loan - Uniformity'!$C$1:$C$20,MATCH($G213,'Loan - Uniformity'!$A$1:$A$20,1)))","v":""},"","",{"$f":"IF(OR(LEN(B213)=0,LEN(C213)=0,LEN(D213)=0,LEN(E213)=0,LEN(F213)=0,LEN(G213)=0),\"\",IF('Base Values'!$B$8+(SUM($L213:$P213)/100)<0,0,'Base Values'!$B$8+(SUM(L213:P213)/100)))","v":""},null,{"$f":"IF(AND($T$13=TRUE,H213=1),'Loan - Extraneous'!B$3,IF(AND($T$13=TRUE,H213=2),'Loan - Extraneous'!C$3,0))","v":0},{"$f":"IF(I213=1,'Loan - Extraneous'!$B$4,IF(I213=2,'Loan - Extraneous'!$C$4,0))","v":0},{"$f":"IF(J213=1,'Loan - Extraneous'!$B$5,IF(J213=2,'Loan - Extraneous'!$C$5,0))","v":0}]
[null,null,null,null,null,null,null,null,null,null,"",{"$f":"IF(OR(LEN(B214)=0,LEN(C214)=0,LEN(D214)=0),\"\",IF(K214>=38,INDEX('Loan - Grade & Staple'!$A$1:$K$1000,MATCH($B214&$C214,'Loan - Grade & Staple'!$B$1:$B$1000&'Loan - Grade & Staple'!$C$1:$C$1000,0),MATCH(\"38+\",'Loan - Grade & Staple'!$A$3:$K$3,0)),IF(K214<=31,INDEX('Loan - Grade & Staple'!$A$1:$K$1000,MATCH($B214&$C214,'Loan - Grade & Staple'!$B$1:$B$1000&'Loan - Grade & Staple'!$C$1:$C$1000,0),MATCH(\"26-31\",'Loan - Grade & Staple'!$A$3:$K$3,0)),IF(ISNA(INDEX('Loan - Grade & Staple'!$A$1:$K$1000,MATCH($B214&C214,'Loan - Grade & Staple'!$B$1:$B$1000&'Loan - Grade & Staple'!$C$1:$C$1000,0),MATCH($K214,'Loan - Grade & Staple'!$A$3:$K$3,0))),-4000,INDEX('Loan - Grade & Staple'!$A$1:$K$1000,MATCH($B214&C214,'Loan - Grade & Staple'!$B$1:$B$1000&'Loan - Grade & Staple'!$C$1:$C$1000,0),MATCH($K214,'Loan - Grade & Staple'!$A$3:$K$3,0))))))","v":""},{"$f":"IF(LEN(E214)=0,\"\",INDEX('Loan - Strength'!$C$1:$C$18,MATCH(E214,'Loan - Strength'!$A$1:$A$18,1)))","v":""},{"$f":"IF(LEN(F214)=0,\"\",INDEX('Loan - Micronaire'!$C$1:$C$20,MATCH($F214,'Loan - Micronaire'!$A$1:$A$20,1)))","v":""},{"$f":"IF(LEN(G214)=0,\"\",INDEX('Loan - Uniformity'!$C$1:$C$20,MATCH($G214,'Loan - Uniformity'!$A$1:$A$20,1)))","v":""},"","",{"$f":"IF(OR(LEN(B214)=0,LEN(C214)=0,LEN(D214)=0,LEN(E214)=0,LEN(F214)=0,LEN(G214)=0),\"\",IF('Base Values'!$B$8+(SUM($L214:$P214)/100)<0,0,'Base Values'!$B$8+(SUM(L214:P214)/100)))","v":""},null,{"$f":"IF(AND($T$13=TRUE,H214=1),'Loan - Extraneous'!B$3,IF(AND($T$13=TRUE,H214=2),'Loan - Extraneous'!C$3,0))","v":0},{"$f":"IF(I214=1,'Loan - Extraneous'!$B$4,IF(I214=2,'Loan - Extraneous'!$C$4,0))","v":0},{"$f":"IF(J214=1,'Loan - Extraneous'!$B$5,IF(J214=2,'Loan - Extraneous'!$C$5,0))","v":0}]
[null,null,null,null,null,null,null,null,null,null,"",{"$f":"IF(OR(LEN(B215)=0,LEN(C215)=0,LEN(D215)=0),\"\",IF(K215>=38,INDEX('Loan - Grade & Staple'!$A$1:$K$1000,MATCH($B215&$C215,'Loan - Grade & Staple'!$B$1:$B$1000&'Loan - Grade & Staple'!$C$1:$C$1000,0),MATCH(\"38+\",'Loan - Grade & Staple'!$A$3:$K$3,0)),IF(K215<=31,INDEX('Loan - Grade & Staple'!$A$1:$K$1000,MATCH($B215&$C215,'Loan - Grade & Staple'!$B$1:$B$1000&'Loan - Grade & Staple'!$C$1:$C$1000,0),MATCH(\"26-31\",'Loan - Grade & Staple'!$A$3:$K$3,0)),IF(ISNA(INDEX('Loan - Grade & Staple'!$A$1:$K$1000,MATCH($B215&C215,'Loan - Grade & Staple'!$B$1:$B$1000&'Loan - Grade & Staple'!$C$1:$C$1000,0),MATCH($K215,'Loan - Grade & Staple'!$A$3:$K$3,0))),-4000,INDEX('Loan - Grade & Staple'!$A$1:$K$1000,MATCH($B215&C215,'Loan - Grade & Staple'!$B$1:$B$1000&'Loan - Grade & Staple'!$C$1:$C$1000,0),MATCH($K215,'Loan - Grade & Staple'!$A$3:$K$3,0))))))","v":""},{"$f":"IF(LEN(E215)=0,\"\",INDEX('Loan - Strength'!$C$1:$C$18,MATCH(E215,'Loan - Strength'!$A$1:$A$18,1)))","v":""},{"$f":"IF(LEN(F215)=0,\"\",INDEX('Loan - Micronaire'!$C$1:$C$20,MATCH($F215,'Loan - Micronaire'!$A$1:$A$20,1)))","v":""},{"$f":"IF(LEN(G215)=0,\"\",INDEX('Loan - Uniformity'!$C$1:$C$20,MATCH($G215,'Loan - Uniformity'!$A$1:$A$20,1)))","v":""},"","",{"$f":"IF(OR(LEN(B215)=0,LEN(C215)=0,LEN(D215)=0,LEN(E215)=0,LEN(F215)=0,LEN(G215)=0),\"\",IF('Base Values'!$B$8+(SUM($L215:$P215)/100)<0,0,'Base Values'!$B$8+(SUM(L215:P215)/100)))","v":""},null,{"$f":"IF(AND($T$13=TRUE,H215=1),'Loan - Extraneous'!B$3,IF(AND($T$13=TRUE,H215=2),'Loan - Extraneous'!C$3,0))","v":0},{"$f":"IF(I215=1,'Loan - Extraneous'!$B$4,IF(I215=2,'Loan - Extraneous'!$C$4,0))","v":0},{"$f":"IF(J215=1,'Loan - Extraneous'!$B$5,IF(J215=2,'Loan - Extraneous'!$C$5,0))","v":0}]
[null,null,null,null,null,null,null,null,null,null,"",{"$f":"IF(OR(LEN(B216)=0,LEN(C216)=0,LEN(D216)=0),\"\",IF(K216>=38,INDEX('Loan - Grade & Staple'!$A$1:$K$1000,MATCH($B216&$C216,'Loan - Grade & Staple'!$B$1:$B$1000&'Loan - Grade & Staple'!$C$1:$C$1000,0),MATCH(\"38+\",'Loan - Grade & Staple'!$A$3:$K$3,0)),IF(K216<=31,INDEX('Loan - Grade & Staple'!$A$1:$K$1000,MATCH($B216&$C216,'Loan - Grade & Staple'!$B$1:$B$1000&'Loan - Grade & Staple'!$C$1:$C$1000,0),MATCH(\"26-31\",'Loan - Grade & Staple'!$A$3:$K$3,0)),IF(ISNA(INDEX('Loan - Grade & Staple'!$A$1:$K$1000,MATCH($B216&C216,'Loan - Grade & Staple'!$B$1:$B$1000&'Loan - Grade & Staple'!$C$1:$C$1000,0),MATCH($K216,'Loan - Grade & Staple'!$A$3:$K$3,0))),-4000,INDEX('Loan - Grade & Staple'!$A$1:$K$1000,MATCH($B216&C216,'Loan - Grade & Staple'!$B$1:$B$1000&'Loan - Grade & Staple'!$C$1:$C$1000,0),MATCH($K216,'Loan - Grade & Staple'!$A$3:$K$3,0))))))","v":""},{"$f":"IF(LEN(E216)=0,\"\",INDEX('Loan - Strength'!$C$1:$C$18,MATCH(E216,'Loan - Strength'!$A$1:$A$18,1)))","v":""},{"$f":"IF(LEN(F216)=0,\"\",INDEX('Loan - Micronaire'!$C$1:$C$20,MATCH($F216,'Loan - Micronaire'!$A$1:$A$20,1)))","v":""},{"$f":"IF(LEN(G216)=0,\"\",INDEX('Loan - Uniformity'!$C$1:$C$20,MATCH($G216,'Loan - Uniformity'!$A$1:$A$20,1)))","v":""},"","",{"$f":"IF(OR(LEN(B216)=0,LEN(C216)=0,LEN(D216)=0,LEN(E216)=0,LEN(F216)=0,LEN(G216)=0),\"\",IF('Base Values'!$B$8+(SUM($L216:$P216)/100)<0,0,'Base Values'!$B$8+(SUM(L216:P216)/100)))","v":""},null,{"$f":"IF(AND($T$13=TRUE,H216=1),'Loan - Extraneous'!B$3,IF(AND($T$13=TRUE,H216=2),'Loan - Extraneous'!C$3,0))","v":0},{"$f":"IF(I216=1,'Loan - Extraneous'!$B$4,IF(I216=2,'Loan - Extraneous'!$C$4,0))","v":0},{"$f":"IF(J216=1,'Loan - Extraneous'!$B$5,IF(J216=2,'Loan - Extraneous'!$C$5,0))","v":0}]
[null,null,null,null,null,null,null,null,null,null,"",{"$f":"IF(OR(LEN(B217)=0,LEN(C217)=0,LEN(D217)=0),\"\",IF(K217>=38,INDEX('Loan - Grade & Staple'!$A$1:$K$1000,MATCH($B217&$C217,'Loan - Grade & Staple'!$B$1:$B$1000&'Loan - Grade & Staple'!$C$1:$C$1000,0),MATCH(\"38+\",'Loan - Grade & Staple'!$A$3:$K$3,0)),IF(K217<=31,INDEX('Loan - Grade & Staple'!$A$1:$K$1000,MATCH($B217&$C217,'Loan - Grade & Staple'!$B$1:$B$1000&'Loan - Grade & Staple'!$C$1:$C$1000,0),MATCH(\"26-31\",'Loan - Grade & Staple'!$A$3:$K$3,0)),IF(ISNA(INDEX('Loan - Grade & Staple'!$A$1:$K$1000,MATCH($B217&C217,'Loan - Grade & Staple'!$B$1:$B$1000&'Loan - Grade & Staple'!$C$1:$C$1000,0),MATCH($K217,'Loan - Grade & Staple'!$A$3:$K$3,0))),-4000,INDEX('Loan - Grade & Staple'!$A$1:$K$1000,MATCH($B217&C217,'Loan - Grade & Staple'!$B$1:$B$1000&'Loan - Grade & Staple'!$C$1:$C$1000,0),MATCH($K217,'Loan - Grade & Staple'!$A$3:$K$3,0))))))","v":""},{"$f":"IF(LEN(E217)=0,\"\",INDEX('Loan - Strength'!$C$1:$C$18,MATCH(E217,'Loan - Strength'!$A$1:$A$18,1)))","v":""},{"$f":"IF(LEN(F217)=0,\"\",INDEX('Loan - Micronaire'!$C$1:$C$20,MATCH($F217,'Loan - Micronaire'!$A$1:$A$20,1)))","v":""},{"$f":"IF(LEN(G217)=0,\"\",INDEX('Loan - Uniformity'!$C$1:$C$20,MATCH($G217,'Loan - Uniformity'!$A$1:$A$20,1)))","v":""},"","",{"$f":"IF(OR(LEN(B217)=0,LEN(C217)=0,LEN(D217)=0,LEN(E217)=0,LEN(F217)=0,LEN(G217)=0),\"\",IF('Base Values'!$B$8+(SUM($L217:$P217)/100)<0,0,'Base Values'!$B$8+(SUM(L217:P217)/100)))","v":""},null,{"$f":"IF(AND($T$13=TRUE,H217=1),'Loan - Extraneous'!B$3,IF(AND($T$13=TRUE,H217=2),'Loan - Extraneous'!C$3,0))","v":0},{"$f":"IF(I217=1,'Loan - Extraneous'!$B$4,IF(I217=2,'Loan - Extraneous'!$C$4,0))","v":0},{"$f":"IF(J217=1,'Loan - Extraneous'!$B$5,IF(J217=2,'Loan - Extraneous'!$C$5,0))","v":0}]
[null,null,null,null,null,null,null,null,null,null,{"$f":"IF(LEN(D218)=0,\"\",ROUND(D218*32,0))","v":""},{"$f":"IF(OR(LEN(B218)=0,LEN(C218)=0,LEN(D218)=0),\"\",IF(K218>=38,INDEX('Loan - Grade & Staple'!$A$1:$K$1000,MATCH($B218&$C218,'Loan - Grade & Staple'!$B$1:$B$1000&'Loan - Grade & Staple'!$C$1:$C$1000,0),MATCH(\"38+\",'Loan - Grade & Staple'!$A$3:$K$3,0)),IF(K218<=31,INDEX('Loan - Grade & Staple'!$A$1:$K$1000,MATCH($B218&$C218,'Loan - Grade & Staple'!$B$1:$B$1000&'Loan - Grade & Staple'!$C$1:$C$1000,0),MATCH(\"26-31\",'Loan - Grade & Staple'!$A$3:$K$3,0)),IF(ISNA(INDEX('Loan - Grade & Staple'!$A$1:$K$1000,MATCH($B218&C218,'Loan - Grade & Staple'!$B$1:$B$1000&'Loan - Grade & Staple'!$C$1:$C$1000,0),MATCH($K218,'Loan - Grade & Staple'!$A$3:$K$3,0))),-4000,INDEX('Loan - Grade & Staple'!$A$1:$K$1000,MATCH($B218&C218,'Loan - Grade & Staple'!$B$1:$B$1000&'Loan - Grade & Staple'!$C$1:$C$1000,0),MATCH($K218,'Loan - Grade & Staple'!$A$3:$K$3,0))))))","v":""},{"$f":"IF(LEN(E218)=0,\"\",INDEX('Loan - Strength'!$C$1:$C$18,MATCH(E218,'Loan - Strength'!$A$1:$A$18,1)))","v":""},{"$f":"IF(LEN(F218)=0,\"\",INDEX('Loan - Micronaire'!$C$1:$C$20,MATCH($F218,'Loan - Micronaire'!$A$1:$A$20,1)))","v":""},{"$f":"IF(LEN(G218)=0,\"\",INDEX('Loan - Uniformity'!$C$1:$C$20,MATCH($G218,'Loan - Uniformity'!$A$1:$A$20,1)))","v":""},{"$f":"IF(LEN(A218)=0,\"\",SUM(T218:V218))","v":""},{"$f":"IF(OR(LEN(B218)=0,LEN(C218)=0,LEN(D218)=0,LEN(E218)=0,LEN(F218)=0,LEN(G218)=0),\"\",SUM(L218:P218))","v":""},{"$f":"IF(OR(LEN(B218)=0,LEN(C218)=0,LEN(D218)=0,LEN(E218)=0,LEN(F218)=0,LEN(G218)=0),\"\",IF('Base Values'!$B$8+(SUM($L218:$P218)/100)<0,0,'Base Values'!$B$8+(SUM(L218:P218)/100)))","v":""},null,{"$f":"IF(AND($T$13=TRUE,H218=1),'Loan - Extraneous'!B$3,IF(AND($T$13=TRUE,H218=2),'Loan - Extraneous'!C$3,0))","v":0},{"$f":"IF(I218=1,'Loan - Extraneous'!$B$4,IF(I218=2,'Loan - Extraneous'!$C$4,0))","v":0},{"$f":"IF(J218=1,'Loan - Extraneous'!$B$5,IF(J218=2,'Loan - Extraneous'!$C$5,0))","v":0}]
[null,null,null,null,null,null,null,null,null,null,"",{"$f":"IF(OR(LEN(B219)=0,LEN(C219)=0,LEN(D219)=0),\"\",IF(K219>=38,INDEX('Loan - Grade & Staple'!$A$1:$K$1000,MATCH($B219&$C219,'Loan - Grade & Staple'!$B$1:$B$1000&'Loan - Grade & Staple'!$C$1:$C$1000,0),MATCH(\"38+\",'Loan - Grade & Staple'!$A$3:$K$3,0)),IF(K219<=31,INDEX('Loan - Grade & Staple'!$A$1:$K$1000,MATCH($B219&$C219,'Loan - Grade & Staple'!$B$1:$B$1000&'Loan - Grade & Staple'!$C$1:$C$1000,0),MATCH(\"26-31\",'Loan - Grade & Staple'!$A$3:$K$3,0)),IF(ISNA(INDEX('Loan - Grade & Staple'!$A$1:$K$1000,MATCH($B219&C219,'Loan - Grade & Staple'!$B$1:$B$1000&'Loan - Grade & Staple'!$C$1:$C$1000,0),MATCH($K219,'Loan - Grade & Staple'!$A$3:$K$3,0))),-4000,INDEX('Loan - Grade & Staple'!$A$1:$K$1000,MATCH($B219&C219,'Loan - Grade & Staple'!$B$1:$B$1000&'Loan - Grade & Staple'!$C$1:$C$1000,0),MATCH($K219,'Loan - Grade & Staple'!$A$3:$K$3,0))))))","v":""},{"$f":"IF(LEN(E219)=0,\"\",INDEX('Loan - Strength'!$C$1:$C$18,MATCH(E219,'Loan - Strength'!$A$1:$A$18,1)))","v":""},{"$f":"IF(LEN(F219)=0,\"\",INDEX('Loan - Micronaire'!$C$1:$C$20,MATCH($F219,'Loan - Micronaire'!$A$1:$A$20,1)))","v":""},{"$f":"IF(LEN(G219)=0,\"\",INDEX('Loan - Uniformity'!$C$1:$C$20,MATCH($G219,'Loan - Uniformity'!$A$1:$A$20,1)))","v":""},"","",{"$f":"IF(OR(LEN(B219)=0,LEN(C219)=0,LEN(D219)=0,LEN(E219)=0,LEN(F219)=0,LEN(G219)=0),\"\",IF('Base Values'!$B$8+(SUM($L219:$P219)/100)<0,0,'Base Values'!$B$8+(SUM(L219:P219)/100)))","v":""},null,{"$f":"IF(AND($T$13=TRUE,H219=1),'Loan - Extraneous'!B$3,IF(AND($T$13=TRUE,H219=2),'Loan - Extraneous'!C$3,0))","v":0},{"$f":"IF(I219=1,'Loan - Extraneous'!$B$4,IF(I219=2,'Loan - Extraneous'!$C$4,0))","v":0},{"$f":"IF(J219=1,'Loan - Extraneous'!$B$5,IF(J219=2,'Loan - Extraneous'!$C$5,0))","v":0}]
[null,null,null,null,null,null,null,null,null,null,"",{"$f":"IF(OR(LEN(B220)=0,LEN(C220)=0,LEN(D220)=0),\"\",IF(K220>=38,INDEX('Loan - Grade & Staple'!$A$1:$K$1000,MATCH($B220&$C220,'Loan - Grade & Staple'!$B$1:$B$1000&'Loan - Grade & Staple'!$C$1:$C$1000,0),MATCH(\"38+\",'Loan - Grade & Staple'!$A$3:$K$3,0)),IF(K220<=31,INDEX('Loan - Grade & Staple'!$A$1:$K$1000,MATCH($B220&$C220,'Loan - Grade & Staple'!$B$1:$B$1000&'Loan - Grade & Staple'!$C$1:$C$1000,0),MATCH(\"26-31\",'Loan - Grade & Staple'!$A$3:$K$3,0)),IF(ISNA(INDEX('Loan - Grade & Staple'!$A$1:$K$1000,MATCH($B220&C220,'Loan - Grade & Staple'!$B$1:$B$1000&'Loan - Grade & Staple'!$C$1:$C$1000,0),MATCH($K220,'Loan - Grade & Staple'!$A$3:$K$3,0))),-4000,INDEX('Loan - Grade & Staple'!$A$1:$K$1000,MATCH($B220&C220,'Loan - Grade & Staple'!$B$1:$B$1000&'Loan - Grade & Staple'!$C$1:$C$1000,0),MATCH($K220,'Loan - Grade & Staple'!$A$3:$K$3,0))))))","v":""},{"$f":"IF(LEN(E220)=0,\"\",INDEX('Loan - Strength'!$C$1:$C$18,MATCH(E220,'Loan - Strength'!$A$1:$A$18,1)))","v":""},{"$f":"IF(LEN(F220)=0,\"\",INDEX('Loan - Micronaire'!$C$1:$C$20,MATCH($F220,'Loan - Micronaire'!$A$1:$A$20,1)))","v":""},{"$f":"IF(LEN(G220)=0,\"\",INDEX('Loan - Uniformity'!$C$1:$C$20,MATCH($G220,'Loan - Uniformity'!$A$1:$A$20,1)))","v":""},"","",{"$f":"IF(OR(LEN(B220)=0,LEN(C220)=0,LEN(D220)=0,LEN(E220)=0,LEN(F220)=0,LEN(G220)=0),\"\",IF('Base Values'!$B$8+(SUM($L220:$P220)/100)<0,0,'Base Values'!$B$8+(SUM(L220:P220)/100)))","v":""},null,{"$f":"IF(AND($T$13=TRUE,H220=1),'Loan - Extraneous'!B$3,IF(AND($T$13=TRUE,H220=2),'Loan - Extraneous'!C$3,0))","v":0},{"$f":"IF(I220=1,'Loan - Extraneous'!$B$4,IF(I220=2,'Loan - Extraneous'!$C$4,0))","v":0},{"$f":"IF(J220=1,'Loan - Extraneous'!$B$5,IF(J220=2,'Loan - Extraneous'!$C$5,0))","v":0}]
[null,null,null,null,null,null,null,null,null,null,"",{"$f":"IF(OR(LEN(B221)=0,LEN(C221)=0,LEN(D221)=0),\"\",IF(K221>=38,INDEX('Loan - Grade & Staple'!$A$1:$K$1000,MATCH($B221&$C221,'Loan - Grade & Staple'!$B$1:$B$1000&'Loan - Grade & Staple'!$C$1:$C$1000,0),MATCH(\"38+\",'Loan - Grade & Staple'!$A$3:$K$3,0)),IF(K221<=31,INDEX('Loan - Grade & Staple'!$A$1:$K$1000,MATCH($B221&$C221,'Loan - Grade & Staple'!$B$1:$B$1000&'Loan - Grade & Staple'!$C$1:$C$1000,0),MATCH(\"26-31\",'Loan - Grade & Staple'!$A$3:$K$3,0)),IF(ISNA(INDEX('Loan - Grade & Staple'!$A$1:$K$1000,MATCH($B221&C221,'Loan - Grade & Staple'!$B$1:$B$1000&'Loan - Grade & Staple'!$C$1:$C$1000,0),MATCH($K221,'Loan - Grade & Staple'!$A$3:$K$3,0))),-4000,INDEX('Loan - Grade & Staple'!$A$1:$K$1000,MATCH($B221&C221,'Loan - Grade & Staple'!$B$1:$B$1000&'Loan - Grade & Staple'!$C$1:$C$1000,0),MATCH($K221,'Loan - Grade & Staple'!$A$3:$K$3,0))))))","v":""},{"$f":"IF(LEN(E221)=0,\"\",INDEX('Loan - Strength'!$C$1:$C$18,MATCH(E221,'Loan - Strength'!$A$1:$A$18,1)))","v":""},{"$f":"IF(LEN(F221)=0,\"\",INDEX('Loan - Micronaire'!$C$1:$C$20,MATCH($F221,'Loan - Micronaire'!$A$1:$A$20,1)))","v":""},{"$f":"IF(LEN(G221)=0,\"\",INDEX('Loan - Uniformity'!$C$1:$C$20,MATCH($G221,'Loan - Uniformity'!$A$1:$A$20,1)))","v":""},"","",{"$f":"IF(OR(LEN(B221)=0,LEN(C221)=0,LEN(D221)=0,LEN(E221)=0,LEN(F221)=0,LEN(G221)=0),\"\",IF('Base Values'!$B$8+(SUM($L221:$P221)/100)<0,0,'Base Values'!$B$8+(SUM(L221:P221)/100)))","v":""},null,{"$f":"IF(AND($T$13=TRUE,H221=1),'Loan - Extraneous'!B$3,IF(AND($T$13=TRUE,H221=2),'Loan - Extraneous'!C$3,0))","v":0},{"$f":"IF(I221=1,'Loan - Extraneous'!$B$4,IF(I221=2,'Loan - Extraneous'!$C$4,0))","v":0},{"$f":"IF(J221=1,'Loan - Extraneous'!$B$5,IF(J221=2,'Loan - Extraneous'!$C$5,0))","v":0}]
[null,null,null,null,null,null,null,null,null,null,"",{"$f":"IF(OR(LEN(B222)=0,LEN(C222)=0,LEN(D222)=0),\"\",IF(K222>=38,INDEX('Loan - Grade & Staple'!$A$1:$K$1000,MATCH($B222&$C222,'Loan - Grade & Staple'!$B$1:$B$1000&'Loan - Grade & Staple'!$C$1:$C$1000,0),MATCH(\"38+\",'Loan - Grade & Staple'!$A$3:$K$3,0)),IF(K222<=31,INDEX('Loan - Grade & Staple'!$A$1:$K$1000,MATCH($B222&$C222,'Loan - Grade & Staple'!$B$1:$B$1000&'Loan - Grade & Staple'!$C$1:$C$1000,0),MATCH(\"26-31\",'Loan - Grade & Staple'!$A$3:$K$3,0)),IF(ISNA(INDEX('Loan - Grade & Staple'!$A$1:$K$1000,MATCH($B222&C222,'Loan - Grade & Staple'!$B$1:$B$1000&'Loan - Grade & Staple'!$C$1:$C$1000,0),MATCH($K222,'Loan - Grade & Staple'!$A$3:$K$3,0))),-4000,INDEX('Loan - Grade & Staple'!$A$1:$K$1000,MATCH($B222&C222,'Loan - Grade & Staple'!$B$1:$B$1000&'Loan - Grade & Staple'!$C$1:$C$1000,0),MATCH($K222,'Loan - Grade & Staple'!$A$3:$K$3,0))))))","v":""},{"$f":"IF(LEN(E222)=0,\"\",INDEX('Loan - Strength'!$C$1:$C$18,MATCH(E222,'Loan - Strength'!$A$1:$A$18,1)))","v":""},{"$f":"IF(LEN(F222)=0,\"\",INDEX('Loan - Micronaire'!$C$1:$C$20,MATCH($F222,'Loan - Micronaire'!$A$1:$A$20,1)))","v":""},{"$f":"IF(LEN(G222)=0,\"\",INDEX('Loan - Uniformity'!$C$1:$C$20,MATCH($G222,'Loan - Uniformity'!$A$1:$A$20,1)))","v":""},"","",{"$f":"IF(OR(LEN(B222)=0,LEN(C222)=0,LEN(D222)=0,LEN(E222)=0,LEN(F222)=0,LEN(G222)=0),\"\",IF('Base Values'!$B$8+(SUM($L222:$P222)/100)<0,0,'Base Values'!$B$8+(SUM(L222:P222)/100)))","v":""},null,{"$f":"IF(AND($T$13=TRUE,H222=1),'Loan - Extraneous'!B$3,IF(AND($T$13=TRUE,H222=2),'Loan - Extraneous'!C$3,0))","v":0},{"$f":"IF(I222=1,'Loan - Extraneous'!$B$4,IF(I222=2,'Loan - Extraneous'!$C$4,0))","v":0},{"$f":"IF(J222=1,'Loan - Extraneous'!$B$5,IF(J222=2,'Loan - Extraneous'!$C$5,0))","v":0}]
[null,null,null,null,null,null,null,null,null,null,"",{"$f":"IF(OR(LEN(B223)=0,LEN(C223)=0,LEN(D223)=0),\"\",IF(K223>=38,INDEX('Loan - Grade & Staple'!$A$1:$K$1000,MATCH($B223&$C223,'Loan - Grade & Staple'!$B$1:$B$1000&'Loan - Grade & Staple'!$C$1:$C$1000,0),MATCH(\"38+\",'Loan - Grade & Staple'!$A$3:$K$3,0)),IF(K223<=31,INDEX('Loan - Grade & Staple'!$A$1:$K$1000,MATCH($B223&$C223,'Loan - Grade & Staple'!$B$1:$B$1000&'Loan - Grade & Staple'!$C$1:$C$1000,0),MATCH(\"26-31\",'Loan - Grade & Staple'!$A$3:$K$3,0)),IF(ISNA(INDEX('Loan - Grade & Staple'!$A$1:$K$1000,MATCH($B223&C223,'Loan - Grade & Staple'!$B$1:$B$1000&'Loan - Grade & Staple'!$C$1:$C$1000,0),MATCH($K223,'Loan - Grade & Staple'!$A$3:$K$3,0))),-4000,INDEX('Loan - Grade & Staple'!$A$1:$K$1000,MATCH($B223&C223,'Loan - Grade & Staple'!$B$1:$B$1000&'Loan - Grade & Staple'!$C$1:$C$1000,0),MATCH($K223,'Loan - Grade & Staple'!$A$3:$K$3,0))))))","v":""},{"$f":"IF(LEN(E223)=0,\"\",INDEX('Loan - Strength'!$C$1:$C$18,MATCH(E223,'Loan - Strength'!$A$1:$A$18,1)))","v":""},{"$f":"IF(LEN(F223)=0,\"\",INDEX('Loan - Micronaire'!$C$1:$C$20,MATCH($F223,'Loan - Micronaire'!$A$1:$A$20,1)))","v":""},{"$f":"IF(LEN(G223)=0,\"\",INDEX('Loan - Uniformity'!$C$1:$C$20,MATCH($G223,'Loan - Uniformity'!$A$1:$A$20,1)))","v":""},"","",{"$f":"IF(OR(LEN(B223)=0,LEN(C223)=0,LEN(D223)=0,LEN(E223)=0,LEN(F223)=0,LEN(G223)=0),\"\",IF('Base Values'!$B$8+(SUM($L223:$P223)/100)<0,0,'Base Values'!$B$8+(SUM(L223:P223)/100)))","v":""},null,{"$f":"IF(AND($T$13=TRUE,H223=1),'Loan - Extraneous'!B$3,IF(AND($T$13=TRUE,H223=2),'Loan - Extraneous'!C$3,0))","v":0},{"$f":"IF(I223=1,'Loan - Extraneous'!$B$4,IF(I223=2,'Loan - Extraneous'!$C$4,0))","v":0},{"$f":"IF(J223=1,'Loan - Extraneous'!$B$5,IF(J223=2,'Loan - Extraneous'!$C$5,0))","v":0}]
[null,null,null,null,null,null,null,null,null,null,"",{"$f":"IF(OR(LEN(B224)=0,LEN(C224)=0,LEN(D224)=0),\"\",IF(K224>=38,INDEX('Loan - Grade & Staple'!$A$1:$K$1000,MATCH($B224&$C224,'Loan - Grade & Staple'!$B$1:$B$1000&'Loan - Grade & Staple'!$C$1:$C$1000,0),MATCH(\"38+\",'Loan - Grade & Staple'!$A$3:$K$3,0)),IF(K224<=31,INDEX('Loan - Grade & Staple'!$A$1:$K$1000,MATCH($B224&$C224,'Loan - Grade & Staple'!$B$1:$B$1000&'Loan - Grade & Staple'!$C$1:$C$1000,0),MATCH(\"26-31\",'Loan - Grade & Staple'!$A$3:$K$3,0)),IF(ISNA(INDEX('Loan - Grade & Staple'!$A$1:$K$1000,MATCH($B224&C224,'Loan - Grade & Staple'!$B$1:$B$1000&'Loan - Grade & Staple'!$C$1:$C$1000,0),MATCH($K224,'Loan - Grade & Staple'!$A$3:$K$3,0))),-4000,INDEX('Loan - Grade & Staple'!$A$1:$K$1000,MATCH($B224&C224,'Loan - Grade & Staple'!$B$1:$B$1000&'Loan - Grade & Staple'!$C$1:$C$1000,0),MATCH($K224,'Loan - Grade & Staple'!$A$3:$K$3,0))))))","v":""},{"$f":"IF(LEN(E224)=0,\"\",INDEX('Loan - Strength'!$C$1:$C$18,MATCH(E224,'Loan - Strength'!$A$1:$A$18,1)))","v":""},{"$f":"IF(LEN(F224)=0,\"\",INDEX('Loan - Micronaire'!$C$1:$C$20,MATCH($F224,'Loan - Micronaire'!$A$1:$A$20,1)))","v":""},{"$f":"IF(LEN(G224)=0,\"\",INDEX('Loan - Uniformity'!$C$1:$C$20,MATCH($G224,'Loan - Uniformity'!$A$1:$A$20,1)))","v":""},"","",{"$f":"IF(OR(LEN(B224)=0,LEN(C224)=0,LEN(D224)=0,LEN(E224)=0,LEN(F224)=0,LEN(G224)=0),\"\",IF('Base Values'!$B$8+(SUM($L224:$P224)/100)<0,0,'Base Values'!$B$8+(SUM(L224:P224)/100)))","v":""},null,{"$f":"IF(AND($T$13=TRUE,H224=1),'Loan - Extraneous'!B$3,IF(AND($T$13=TRUE,H224=2),'Loan - Extraneous'!C$3,0))","v":0},{"$f":"IF(I224=1,'Loan - Extraneous'!$B$4,IF(I224=2,'Loan - Extraneous'!$C$4,0))","v":0},{"$f":"IF(J224=1,'Loan - Extraneous'!$B$5,IF(J224=2,'Loan - Extraneous'!$C$5,0))","v":0}]
[null,null,null,null,null,null,null,null,null,null,"",{"$f":"IF(OR(LEN(B225)=0,LEN(C225)=0,LEN(D225)=0),\"\",IF(K225>=38,INDEX('Loan - Grade & Staple'!$A$1:$K$1000,MATCH($B225&$C225,'Loan - Grade & Staple'!$B$1:$B$1000&'Loan - Grade & Staple'!$C$1:$C$1000,0),MATCH(\"38+\",'Loan - Grade & Staple'!$A$3:$K$3,0)),IF(K225<=31,INDEX('Loan - Grade & Staple'!$A$1:$K$1000,MATCH($B225&$C225,'Loan - Grade & Staple'!$B$1:$B$1000&'Loan - Grade & Staple'!$C$1:$C$1000,0),MATCH(\"26-31\",'Loan - Grade & Staple'!$A$3:$K$3,0)),IF(ISNA(INDEX('Loan - Grade & Staple'!$A$1:$K$1000,MATCH($B225&C225,'Loan - Grade & Staple'!$B$1:$B$1000&'Loan - Grade & Staple'!$C$1:$C$1000,0),MATCH($K225,'Loan - Grade & Staple'!$A$3:$K$3,0))),-4000,INDEX('Loan - Grade & Staple'!$A$1:$K$1000,MATCH($B225&C225,'Loan - Grade & Staple'!$B$1:$B$1000&'Loan - Grade & Staple'!$C$1:$C$1000,0),MATCH($K225,'Loan - Grade & Staple'!$A$3:$K$3,0))))))","v":""},{"$f":"IF(LEN(E225)=0,\"\",INDEX('Loan - Strength'!$C$1:$C$18,MATCH(E225,'Loan - Strength'!$A$1:$A$18,1)))","v":""},{"$f":"IF(LEN(F225)=0,\"\",INDEX('Loan - Micronaire'!$C$1:$C$20,MATCH($F225,'Loan - Micronaire'!$A$1:$A$20,1)))","v":""},{"$f":"IF(LEN(G225)=0,\"\",INDEX('Loan - Uniformity'!$C$1:$C$20,MATCH($G225,'Loan - Uniformity'!$A$1:$A$20,1)))","v":""},"","",{"$f":"IF(OR(LEN(B225)=0,LEN(C225)=0,LEN(D225)=0,LEN(E225)=0,LEN(F225)=0,LEN(G225)=0),\"\",IF('Base Values'!$B$8+(SUM($L225:$P225)/100)<0,0,'Base Values'!$B$8+(SUM(L225:P225)/100)))","v":""},null,{"$f":"IF(AND($T$13=TRUE,H225=1),'Loan - Extraneous'!B$3,IF(AND($T$13=TRUE,H225=2),'Loan - Extraneous'!C$3,0))","v":0},{"$f":"IF(I225=1,'Loan - Extraneous'!$B$4,IF(I225=2,'Loan - Extraneous'!$C$4,0))","v":0},{"$f":"IF(J225=1,'Loan - Extraneous'!$B$5,IF(J225=2,'Loan - Extraneous'!$C$5,0))","v":0}]
[null,null,null,null,null,null,null,null,null,null,"",{"$f":"IF(OR(LEN(B226)=0,LEN(C226)=0,LEN(D226)=0),\"\",IF(K226>=38,INDEX('Loan - Grade & Staple'!$A$1:$K$1000,MATCH($B226&$C226,'Loan - Grade & Staple'!$B$1:$B$1000&'Loan - Grade & Staple'!$C$1:$C$1000,0),MATCH(\"38+\",'Loan - Grade & Staple'!$A$3:$K$3,0)),IF(K226<=31,INDEX('Loan - Grade & Staple'!$A$1:$K$1000,MATCH($B226&$C226,'Loan - Grade & Staple'!$B$1:$B$1000&'Loan - Grade & Staple'!$C$1:$C$1000,0),MATCH(\"26-31\",'Loan - Grade & Staple'!$A$3:$K$3,0)),IF(ISNA(INDEX('Loan - Grade & Staple'!$A$1:$K$1000,MATCH($B226&C226,'Loan - Grade & Staple'!$B$1:$B$1000&'Loan - Grade & Staple'!$C$1:$C$1000,0),MATCH($K226,'Loan - Grade & Staple'!$A$3:$K$3,0))),-4000,INDEX('Loan - Grade & Staple'!$A$1:$K$1000,MATCH($B226&C226,'Loan - Grade & Staple'!$B$1:$B$1000&'Loan - Grade & Staple'!$C$1:$C$1000,0),MATCH($K226,'Loan - Grade & Staple'!$A$3:$K$3,0))))))","v":""},{"$f":"IF(LEN(E226)=0,\"\",INDEX('Loan - Strength'!$C$1:$C$18,MATCH(E226,'Loan - Strength'!$A$1:$A$18,1)))","v":""},{"$f":"IF(LEN(F226)=0,\"\",INDEX('Loan - Micronaire'!$C$1:$C$20,MATCH($F226,'Loan - Micronaire'!$A$1:$A$20,1)))","v":""},{"$f":"IF(LEN(G226)=0,\"\",INDEX('Loan - Uniformity'!$C$1:$C$20,MATCH($G226,'Loan - Uniformity'!$A$1:$A$20,1)))","v":""},"","",{"$f":"IF(OR(LEN(B226)=0,LEN(C226)=0,LEN(D226)=0,LEN(E226)=0,LEN(F226)=0,LEN(G226)=0),\"\",IF('Base Values'!$B$8+(SUM($L226:$P226)/100)<0,0,'Base Values'!$B$8+(SUM(L226:P226)/100)))","v":""},null,{"$f":"IF(AND($T$13=TRUE,H226=1),'Loan - Extraneous'!B$3,IF(AND($T$13=TRUE,H226=2),'Loan - Extraneous'!C$3,0))","v":0},{"$f":"IF(I226=1,'Loan - Extraneous'!$B$4,IF(I226=2,'Loan - Extraneous'!$C$4,0))","v":0},{"$f":"IF(J226=1,'Loan - Extraneous'!$B$5,IF(J226=2,'Loan - Extraneous'!$C$5,0))","v":0}]
[null,null,null,null,null,null,null,null,null,null,"",{"$f":"IF(OR(LEN(B227)=0,LEN(C227)=0,LEN(D227)=0),\"\",IF(K227>=38,INDEX('Loan - Grade & Staple'!$A$1:$K$1000,MATCH($B227&$C227,'Loan - Grade & Staple'!$B$1:$B$1000&'Loan - Grade & Staple'!$C$1:$C$1000,0),MATCH(\"38+\",'Loan - Grade & Staple'!$A$3:$K$3,0)),IF(K227<=31,INDEX('Loan - Grade & Staple'!$A$1:$K$1000,MATCH($B227&$C227,'Loan - Grade & Staple'!$B$1:$B$1000&'Loan - Grade & Staple'!$C$1:$C$1000,0),MATCH(\"26-31\",'Loan - Grade & Staple'!$A$3:$K$3,0)),IF(ISNA(INDEX('Loan - Grade & Staple'!$A$1:$K$1000,MATCH($B227&C227,'Loan - Grade & Staple'!$B$1:$B$1000&'Loan - Grade & Staple'!$C$1:$C$1000,0),MATCH($K227,'Loan - Grade & Staple'!$A$3:$K$3,0))),-4000,INDEX('Loan - Grade & Staple'!$A$1:$K$1000,MATCH($B227&C227,'Loan - Grade & Staple'!$B$1:$B$1000&'Loan - Grade & Staple'!$C$1:$C$1000,0),MATCH($K227,'Loan - Grade & Staple'!$A$3:$K$3,0))))))","v":""},{"$f":"IF(LEN(E227)=0,\"\",INDEX('Loan - Strength'!$C$1:$C$18,MATCH(E227,'Loan - Strength'!$A$1:$A$18,1)))","v":""},{"$f":"IF(LEN(F227)=0,\"\",INDEX('Loan - Micronaire'!$C$1:$C$20,MATCH($F227,'Loan - Micronaire'!$A$1:$A$20,1)))","v":""},{"$f":"IF(LEN(G227)=0,\"\",INDEX('Loan - Uniformity'!$C$1:$C$20,MATCH($G227,'Loan - Uniformity'!$A$1:$A$20,1)))","v":""},"","",{"$f":"IF(OR(LEN(B227)=0,LEN(C227)=0,LEN(D227)=0,LEN(E227)=0,LEN(F227)=0,LEN(G227)=0),\"\",IF('Base Values'!$B$8+(SUM($L227:$P227)/100)<0,0,'Base Values'!$B$8+(SUM(L227:P227)/100)))","v":""},null,{"$f":"IF(AND($T$13=TRUE,H227=1),'Loan - Extraneous'!B$3,IF(AND($T$13=TRUE,H227=2),'Loan - Extraneous'!C$3,0))","v":0},{"$f":"IF(I227=1,'Loan - Extraneous'!$B$4,IF(I227=2,'Loan - Extraneous'!$C$4,0))","v":0},{"$f":"IF(J227=1,'Loan - Extraneous'!$B$5,IF(J227=2,'Loan - Extraneous'!$C$5,0))","v":0}]
[null,null,null,null,null,null,null,null,null,null,"",{"$f":"IF(OR(LEN(B228)=0,LEN(C228)=0,LEN(D228)=0),\"\",IF(K228>=38,INDEX('Loan - Grade & Staple'!$A$1:$K$1000,MATCH($B228&$C228,'Loan - Grade & Staple'!$B$1:$B$1000&'Loan - Grade & Staple'!$C$1:$C$1000,0),MATCH(\"38+\",'Loan - Grade & Staple'!$A$3:$K$3,0)),IF(K228<=31,INDEX('Loan - Grade & Staple'!$A$1:$K$1000,MATCH($B228&$C228,'Loan - Grade & Staple'!$B$1:$B$1000&'Loan - Grade & Staple'!$C$1:$C$1000,0),MATCH(\"26-31\",'Loan - Grade & Staple'!$A$3:$K$3,0)),IF(ISNA(INDEX('Loan - Grade & Staple'!$A$1:$K$1000,MATCH($B228&C228,'Loan - Grade & Staple'!$B$1:$B$1000&'Loan - Grade & Staple'!$C$1:$C$1000,0),MATCH($K228,'Loan - Grade & Staple'!$A$3:$K$3,0))),-4000,INDEX('Loan - Grade & Staple'!$A$1:$K$1000,MATCH($B228&C228,'Loan - Grade & Staple'!$B$1:$B$1000&'Loan - Grade & Staple'!$C$1:$C$1000,0),MATCH($K228,'Loan - Grade & Staple'!$A$3:$K$3,0))))))","v":""},{"$f":"IF(LEN(E228)=0,\"\",INDEX('Loan - Strength'!$C$1:$C$18,MATCH(E228,'Loan - Strength'!$A$1:$A$18,1)))","v":""},{"$f":"IF(LEN(F228)=0,\"\",INDEX('Loan - Micronaire'!$C$1:$C$20,MATCH($F228,'Loan - Micronaire'!$A$1:$A$20,1)))","v":""},{"$f":"IF(LEN(G228)=0,\"\",INDEX('Loan - Uniformity'!$C$1:$C$20,MATCH($G228,'Loan - Uniformity'!$A$1:$A$20,1)))","v":""},"","",{"$f":"IF(OR(LEN(B228)=0,LEN(C228)=0,LEN(D228)=0,LEN(E228)=0,LEN(F228)=0,LEN(G228)=0),\"\",IF('Base Values'!$B$8+(SUM($L228:$P228)/100)<0,0,'Base Values'!$B$8+(SUM(L228:P228)/100)))","v":""},null,{"$f":"IF(AND($T$13=TRUE,H228=1),'Loan - Extraneous'!B$3,IF(AND($T$13=TRUE,H228=2),'Loan - Extraneous'!C$3,0))","v":0},{"$f":"IF(I228=1,'Loan - Extraneous'!$B$4,IF(I228=2,'Loan - Extraneous'!$C$4,0))","v":0},{"$f":"IF(J228=1,'Loan - Extraneous'!$B$5,IF(J228=2,'Loan - Extraneous'!$C$5,0))","v":0}]
[null,null,null,null,null,null,null,null,null,null,"",{"$f":"IF(OR(LEN(B229)=0,LEN(C229)=0,LEN(D229)=0),\"\",IF(K229>=38,INDEX('Loan - Grade & Staple'!$A$1:$K$1000,MATCH($B229&$C229,'Loan - Grade & Staple'!$B$1:$B$1000&'Loan - Grade & Staple'!$C$1:$C$1000,0),MATCH(\"38+\",'Loan - Grade & Staple'!$A$3:$K$3,0)),IF(K229<=31,INDEX('Loan - Grade & Staple'!$A$1:$K$1000,MATCH($B229&$C229,'Loan - Grade & Staple'!$B$1:$B$1000&'Loan - Grade & Staple'!$C$1:$C$1000,0),MATCH(\"26-31\",'Loan - Grade & Staple'!$A$3:$K$3,0)),IF(ISNA(INDEX('Loan - Grade & Staple'!$A$1:$K$1000,MATCH($B229&C229,'Loan - Grade & Staple'!$B$1:$B$1000&'Loan - Grade & Staple'!$C$1:$C$1000,0),MATCH($K229,'Loan - Grade & Staple'!$A$3:$K$3,0))),-4000,INDEX('Loan - Grade & Staple'!$A$1:$K$1000,MATCH($B229&C229,'Loan - Grade & Staple'!$B$1:$B$1000&'Loan - Grade & Staple'!$C$1:$C$1000,0),MATCH($K229,'Loan - Grade & Staple'!$A$3:$K$3,0))))))","v":""},{"$f":"IF(LEN(E229)=0,\"\",INDEX('Loan - Strength'!$C$1:$C$18,MATCH(E229,'Loan - Strength'!$A$1:$A$18,1)))","v":""},{"$f":"IF(LEN(F229)=0,\"\",INDEX('Loan - Micronaire'!$C$1:$C$20,MATCH($F229,'Loan - Micronaire'!$A$1:$A$20,1)))","v":""},{"$f":"IF(LEN(G229)=0,\"\",INDEX('Loan - Uniformity'!$C$1:$C$20,MATCH($G229,'Loan - Uniformity'!$A$1:$A$20,1)))","v":""},"","",{"$f":"IF(OR(LEN(B229)=0,LEN(C229)=0,LEN(D229)=0,LEN(E229)=0,LEN(F229)=0,LEN(G229)=0),\"\",IF('Base Values'!$B$8+(SUM($L229:$P229)/100)<0,0,'Base Values'!$B$8+(SUM(L229:P229)/100)))","v":""},null,{"$f":"IF(AND($T$13=TRUE,H229=1),'Loan - Extraneous'!B$3,IF(AND($T$13=TRUE,H229=2),'Loan - Extraneous'!C$3,0))","v":0},{"$f":"IF(I229=1,'Loan - Extraneous'!$B$4,IF(I229=2,'Loan - Extraneous'!$C$4,0))","v":0},{"$f":"IF(J229=1,'Loan - Extraneous'!$B$5,IF(J229=2,'Loan - Extraneous'!$C$5,0))","v":0}]
[null,null,null,null,null,null,null,null,null,null,"",{"$f":"IF(OR(LEN(B230)=0,LEN(C230)=0,LEN(D230)=0),\"\",IF(K230>=38,INDEX('Loan - Grade & Staple'!$A$1:$K$1000,MATCH($B230&$C230,'Loan - Grade & Staple'!$B$1:$B$1000&'Loan - Grade & Staple'!$C$1:$C$1000,0),MATCH(\"38+\",'Loan - Grade & Staple'!$A$3:$K$3,0)),IF(K230<=31,INDEX('Loan - Grade & Staple'!$A$1:$K$1000,MATCH($B230&$C230,'Loan - Grade & Staple'!$B$1:$B$1000&'Loan - Grade & Staple'!$C$1:$C$1000,0),MATCH(\"26-31\",'Loan - Grade & Staple'!$A$3:$K$3,0)),IF(ISNA(INDEX('Loan - Grade & Staple'!$A$1:$K$1000,MATCH($B230&C230,'Loan - Grade & Staple'!$B$1:$B$1000&'Loan - Grade & Staple'!$C$1:$C$1000,0),MATCH($K230,'Loan - Grade & Staple'!$A$3:$K$3,0))),-4000,INDEX('Loan - Grade & Staple'!$A$1:$K$1000,MATCH($B230&C230,'Loan - Grade & Staple'!$B$1:$B$1000&'Loan - Grade & Staple'!$C$1:$C$1000,0),MATCH($K230,'Loan - Grade & Staple'!$A$3:$K$3,0))))))","v":""},{"$f":"IF(LEN(E230)=0,\"\",INDEX('Loan - Strength'!$C$1:$C$18,MATCH(E230,'Loan - Strength'!$A$1:$A$18,1)))","v":""},{"$f":"IF(LEN(F230)=0,\"\",INDEX('Loan - Micronaire'!$C$1:$C$20,MATCH($F230,'Loan - Micronaire'!$A$1:$A$20,1)))","v":""},{"$f":"IF(LEN(G230)=0,\"\",INDEX('Loan - Uniformity'!$C$1:$C$20,MATCH($G230,'Loan - Uniformity'!$A$1:$A$20,1)))","v":""},"","",{"$f":"IF(OR(LEN(B230)=0,LEN(C230)=0,LEN(D230)=0,LEN(E230)=0,LEN(F230)=0,LEN(G230)=0),\"\",IF('Base Values'!$B$8+(SUM($L230:$P230)/100)<0,0,'Base Values'!$B$8+(SUM(L230:P230)/100)))","v":""},null,{"$f":"IF(AND($T$13=TRUE,H230=1),'Loan - Extraneous'!B$3,IF(AND($T$13=TRUE,H230=2),'Loan - Extraneous'!C$3,0))","v":0},{"$f":"IF(I230=1,'Loan - Extraneous'!$B$4,IF(I230=2,'Loan - Extraneous'!$C$4,0))","v":0},{"$f":"IF(J230=1,'Loan - Extraneous'!$B$5,IF(J230=2,'Loan - Extraneous'!$C$5,0))","v":0}]
[null,null,null,null,null,null,null,null,null,null,"",{"$f":"IF(OR(LEN(B231)=0,LEN(C231)=0,LEN(D231)=0),\"\",IF(K231>=38,INDEX('Loan - Grade & Staple'!$A$1:$K$1000,MATCH($B231&$C231,'Loan - Grade & Staple'!$B$1:$B$1000&'Loan - Grade & Staple'!$C$1:$C$1000,0),MATCH(\"38+\",'Loan - Grade & Staple'!$A$3:$K$3,0)),IF(K231<=31,INDEX('Loan - Grade & Staple'!$A$1:$K$1000,MATCH($B231&$C231,'Loan - Grade & Staple'!$B$1:$B$1000&'Loan - Grade & Staple'!$C$1:$C$1000,0),MATCH(\"26-31\",'Loan - Grade & Staple'!$A$3:$K$3,0)),IF(ISNA(INDEX('Loan - Grade & Staple'!$A$1:$K$1000,MATCH($B231&C231,'Loan - Grade & Staple'!$B$1:$B$1000&'Loan - Grade & Staple'!$C$1:$C$1000,0),MATCH($K231,'Loan - Grade & Staple'!$A$3:$K$3,0))),-4000,INDEX('Loan - Grade & Staple'!$A$1:$K$1000,MATCH($B231&C231,'Loan - Grade & Staple'!$B$1:$B$1000&'Loan - Grade & Staple'!$C$1:$C$1000,0),MATCH($K231,'Loan - Grade & Staple'!$A$3:$K$3,0))))))","v":""},{"$f":"IF(LEN(E231)=0,\"\",INDEX('Loan - Strength'!$C$1:$C$18,MATCH(E231,'Loan - Strength'!$A$1:$A$18,1)))","v":""},{"$f":"IF(LEN(F231)=0,\"\",INDEX('Loan - Micronaire'!$C$1:$C$20,MATCH($F231,'Loan - Micronaire'!$A$1:$A$20,1)))","v":""},{"$f":"IF(LEN(G231)=0,\"\",INDEX('Loan - Uniformity'!$C$1:$C$20,MATCH($G231,'Loan - Uniformity'!$A$1:$A$20,1)))","v":""},"","",{"$f":"IF(OR(LEN(B231)=0,LEN(C231)=0,LEN(D231)=0,LEN(E231)=0,LEN(F231)=0,LEN(G231)=0),\"\",IF('Base Values'!$B$8+(SUM($L231:$P231)/100)<0,0,'Base Values'!$B$8+(SUM(L231:P231)/100)))","v":""},null,{"$f":"IF(AND($T$13=TRUE,H231=1),'Loan - Extraneous'!B$3,IF(AND($T$13=TRUE,H231=2),'Loan - Extraneous'!C$3,0))","v":0},{"$f":"IF(I231=1,'Loan - Extraneous'!$B$4,IF(I231=2,'Loan - Extraneous'!$C$4,0))","v":0},{"$f":"IF(J231=1,'Loan - Extraneous'!$B$5,IF(J231=2,'Loan - Extraneous'!$C$5,0))","v":0}]
[null,null,null,null,null,null,null,null,null,null,"",{"$f":"IF(OR(LEN(B232)=0,LEN(C232)=0,LEN(D232)=0),\"\",IF(K232>=38,INDEX('Loan - Grade & Staple'!$A$1:$K$1000,MATCH($B232&$C232,'Loan - Grade & Staple'!$B$1:$B$1000&'Loan - Grade & Staple'!$C$1:$C$1000,0),MATCH(\"38+\",'Loan - Grade & Staple'!$A$3:$K$3,0)),IF(K232<=31,INDEX('Loan - Grade & Staple'!$A$1:$K$1000,MATCH($B232&$C232,'Loan - Grade & Staple'!$B$1:$B$1000&'Loan - Grade & Staple'!$C$1:$C$1000,0),MATCH(\"26-31\",'Loan - Grade & Staple'!$A$3:$K$3,0)),IF(ISNA(INDEX('Loan - Grade & Staple'!$A$1:$K$1000,MATCH($B232&C232,'Loan - Grade & Staple'!$B$1:$B$1000&'Loan - Grade & Staple'!$C$1:$C$1000,0),MATCH($K232,'Loan - Grade & Staple'!$A$3:$K$3,0))),-4000,INDEX('Loan - Grade & Staple'!$A$1:$K$1000,MATCH($B232&C232,'Loan - Grade & Staple'!$B$1:$B$1000&'Loan - Grade & Staple'!$C$1:$C$1000,0),MATCH($K232,'Loan - Grade & Staple'!$A$3:$K$3,0))))))","v":""},{"$f":"IF(LEN(E232)=0,\"\",INDEX('Loan - Strength'!$C$1:$C$18,MATCH(E232,'Loan - Strength'!$A$1:$A$18,1)))","v":""},{"$f":"IF(LEN(F232)=0,\"\",INDEX('Loan - Micronaire'!$C$1:$C$20,MATCH($F232,'Loan - Micronaire'!$A$1:$A$20,1)))","v":""},{"$f":"IF(LEN(G232)=0,\"\",INDEX('Loan - Uniformity'!$C$1:$C$20,MATCH($G232,'Loan - Uniformity'!$A$1:$A$20,1)))","v":""},"","",{"$f":"IF(OR(LEN(B232)=0,LEN(C232)=0,LEN(D232)=0,LEN(E232)=0,LEN(F232)=0,LEN(G232)=0),\"\",IF('Base Values'!$B$8+(SUM($L232:$P232)/100)<0,0,'Base Values'!$B$8+(SUM(L232:P232)/100)))","v":""},null,{"$f":"IF(AND($T$13=TRUE,H232=1),'Loan - Extraneous'!B$3,IF(AND($T$13=TRUE,H232=2),'Loan - Extraneous'!C$3,0))","v":0},{"$f":"IF(I232=1,'Loan - Extraneous'!$B$4,IF(I232=2,'Loan - Extraneous'!$C$4,0))","v":0},{"$f":"IF(J232=1,'Loan - Extraneous'!$B$5,IF(J232=2,'Loan - Extraneous'!$C$5,0))","v":0}]
[null,null,null,null,null,null,null,null,null,null,"",{"$f":"IF(OR(LEN(B233)=0,LEN(C233)=0,LEN(D233)=0),\"\",IF(K233>=38,INDEX('Loan - Grade & Staple'!$A$1:$K$1000,MATCH($B233&$C233,'Loan - Grade & Staple'!$B$1:$B$1000&'Loan - Grade & Staple'!$C$1:$C$1000,0),MATCH(\"38+\",'Loan - Grade & Staple'!$A$3:$K$3,0)),IF(K233<=31,INDEX('Loan - Grade & Staple'!$A$1:$K$1000,MATCH($B233&$C233,'Loan - Grade & Staple'!$B$1:$B$1000&'Loan - Grade & Staple'!$C$1:$C$1000,0),MATCH(\"26-31\",'Loan - Grade & Staple'!$A$3:$K$3,0)),IF(ISNA(INDEX('Loan - Grade & Staple'!$A$1:$K$1000,MATCH($B233&C233,'Loan - Grade & Staple'!$B$1:$B$1000&'Loan - Grade & Staple'!$C$1:$C$1000,0),MATCH($K233,'Loan - Grade & Staple'!$A$3:$K$3,0))),-4000,INDEX('Loan - Grade & Staple'!$A$1:$K$1000,MATCH($B233&C233,'Loan - Grade & Staple'!$B$1:$B$1000&'Loan - Grade & Staple'!$C$1:$C$1000,0),MATCH($K233,'Loan - Grade & Staple'!$A$3:$K$3,0))))))","v":""},{"$f":"IF(LEN(E233)=0,\"\",INDEX('Loan - Strength'!$C$1:$C$18,MATCH(E233,'Loan - Strength'!$A$1:$A$18,1)))","v":""},{"$f":"IF(LEN(F233)=0,\"\",INDEX('Loan - Micronaire'!$C$1:$C$20,MATCH($F233,'Loan - Micronaire'!$A$1:$A$20,1)))","v":""},{"$f":"IF(LEN(G233)=0,\"\",INDEX('Loan - Uniformity'!$C$1:$C$20,MATCH($G233,'Loan - Uniformity'!$A$1:$A$20,1)))","v":""},"","",{"$f":"IF(OR(LEN(B233)=0,LEN(C233)=0,LEN(D233)=0,LEN(E233)=0,LEN(F233)=0,LEN(G233)=0),\"\",IF('Base Values'!$B$8+(SUM($L233:$P233)/100)<0,0,'Base Values'!$B$8+(SUM(L233:P233)/100)))","v":""},null,{"$f":"IF(AND($T$13=TRUE,H233=1),'Loan - Extraneous'!B$3,IF(AND($T$13=TRUE,H233=2),'Loan - Extraneous'!C$3,0))","v":0},{"$f":"IF(I233=1,'Loan - Extraneous'!$B$4,IF(I233=2,'Loan - Extraneous'!$C$4,0))","v":0},{"$f":"IF(J233=1,'Loan - Extraneous'!$B$5,IF(J233=2,'Loan - Extraneous'!$C$5,0))","v":0}]
[null,null,null,null,null,null,null,null,null,null,"",{"$f":"IF(OR(LEN(B234)=0,LEN(C234)=0,LEN(D234)=0),\"\",IF(K234>=38,INDEX('Loan - Grade & Staple'!$A$1:$K$1000,MATCH($B234&$C234,'Loan - Grade & Staple'!$B$1:$B$1000&'Loan - Grade & Staple'!$C$1:$C$1000,0),MATCH(\"38+\",'Loan - Grade & Staple'!$A$3:$K$3,0)),IF(K234<=31,INDEX('Loan - Grade & Staple'!$A$1:$K$1000,MATCH($B234&$C234,'Loan - Grade & Staple'!$B$1:$B$1000&'Loan - Grade & Staple'!$C$1:$C$1000,0),MATCH(\"26-31\",'Loan - Grade & Staple'!$A$3:$K$3,0)),IF(ISNA(INDEX('Loan - Grade & Staple'!$A$1:$K$1000,MATCH($B234&C234,'Loan - Grade & Staple'!$B$1:$B$1000&'Loan - Grade & Staple'!$C$1:$C$1000,0),MATCH($K234,'Loan - Grade & Staple'!$A$3:$K$3,0))),-4000,INDEX('Loan - Grade & Staple'!$A$1:$K$1000,MATCH($B234&C234,'Loan - Grade & Staple'!$B$1:$B$1000&'Loan - Grade & Staple'!$C$1:$C$1000,0),MATCH($K234,'Loan - Grade & Staple'!$A$3:$K$3,0))))))","v":""},{"$f":"IF(LEN(E234)=0,\"\",INDEX('Loan - Strength'!$C$1:$C$18,MATCH(E234,'Loan - Strength'!$A$1:$A$18,1)))","v":""},{"$f":"IF(LEN(F234)=0,\"\",INDEX('Loan - Micronaire'!$C$1:$C$20,MATCH($F234,'Loan - Micronaire'!$A$1:$A$20,1)))","v":""},{"$f":"IF(LEN(G234)=0,\"\",INDEX('Loan - Uniformity'!$C$1:$C$20,MATCH($G234,'Loan - Uniformity'!$A$1:$A$20,1)))","v":""},"","",{"$f":"IF(OR(LEN(B234)=0,LEN(C234)=0,LEN(D234)=0,LEN(E234)=0,LEN(F234)=0,LEN(G234)=0),\"\",IF('Base Values'!$B$8+(SUM($L234:$P234)/100)<0,0,'Base Values'!$B$8+(SUM(L234:P234)/100)))","v":""},null,{"$f":"IF(AND($T$13=TRUE,H234=1),'Loan - Extraneous'!B$3,IF(AND($T$13=TRUE,H234=2),'Loan - Extraneous'!C$3,0))","v":0},{"$f":"IF(I234=1,'Loan - Extraneous'!$B$4,IF(I234=2,'Loan - Extraneous'!$C$4,0))","v":0},{"$f":"IF(J234=1,'Loan - Extraneous'!$B$5,IF(J234=2,'Loan - Extraneous'!$C$5,0))","v":0}]
[null,null,null,null,null,null,null,null,null,null,"",{"$f":"IF(OR(LEN(B235)=0,LEN(C235)=0,LEN(D235)=0),\"\",IF(K235>=38,INDEX('Loan - Grade & Staple'!$A$1:$K$1000,MATCH($B235&$C235,'Loan - Grade & Staple'!$B$1:$B$1000&'Loan - Grade & Staple'!$C$1:$C$1000,0),MATCH(\"38+\",'Loan - Grade & Staple'!$A$3:$K$3,0)),IF(K235<=31,INDEX('Loan - Grade & Staple'!$A$1:$K$1000,MATCH($B235&$C235,'Loan - Grade & Staple'!$B$1:$B$1000&'Loan - Grade & Staple'!$C$1:$C$1000,0),MATCH(\"26-31\",'Loan - Grade & Staple'!$A$3:$K$3,0)),IF(ISNA(INDEX('Loan - Grade & Staple'!$A$1:$K$1000,MATCH($B235&C235,'Loan - Grade & Staple'!$B$1:$B$1000&'Loan - Grade & Staple'!$C$1:$C$1000,0),MATCH($K235,'Loan - Grade & Staple'!$A$3:$K$3,0))),-4000,INDEX('Loan - Grade & Staple'!$A$1:$K$1000,MATCH($B235&C235,'Loan - Grade & Staple'!$B$1:$B$1000&'Loan - Grade & Staple'!$C$1:$C$1000,0),MATCH($K235,'Loan - Grade & Staple'!$A$3:$K$3,0))))))","v":""},{"$f":"IF(LEN(E235)=0,\"\",INDEX('Loan - Strength'!$C$1:$C$18,MATCH(E235,'Loan - Strength'!$A$1:$A$18,1)))","v":""},{"$f":"IF(LEN(F235)=0,\"\",INDEX('Loan - Micronaire'!$C$1:$C$20,MATCH($F235,'Loan - Micronaire'!$A$1:$A$20,1)))","v":""},{"$f":"IF(LEN(G235)=0,\"\",INDEX('Loan - Uniformity'!$C$1:$C$20,MATCH($G235,'Loan - Uniformity'!$A$1:$A$20,1)))","v":""},"","",{"$f":"IF(OR(LEN(B235)=0,LEN(C235)=0,LEN(D235)=0,LEN(E235)=0,LEN(F235)=0,LEN(G235)=0),\"\",IF('Base Values'!$B$8+(SUM($L235:$P235)/100)<0,0,'Base Values'!$B$8+(SUM(L235:P235)/100)))","v":""},null,{"$f":"IF(AND($T$13=TRUE,H235=1),'Loan - Extraneous'!B$3,IF(AND($T$13=TRUE,H235=2),'Loan - Extraneous'!C$3,0))","v":0},{"$f":"IF(I235=1,'Loan - Extraneous'!$B$4,IF(I235=2,'Loan - Extraneous'!$C$4,0))","v":0},{"$f":"IF(J235=1,'Loan - Extraneous'!$B$5,IF(J235=2,'Loan - Extraneous'!$C$5,0))","v":0}]
[null,null,null,null,null,null,null,null,null,null,"",{"$f":"IF(OR(LEN(B236)=0,LEN(C236)=0,LEN(D236)=0),\"\",IF(K236>=38,INDEX('Loan - Grade & Staple'!$A$1:$K$1000,MATCH($B236&$C236,'Loan - Grade & Staple'!$B$1:$B$1000&'Loan - Grade & Staple'!$C$1:$C$1000,0),MATCH(\"38+\",'Loan - Grade & Staple'!$A$3:$K$3,0)),IF(K236<=31,INDEX('Loan - Grade & Staple'!$A$1:$K$1000,MATCH($B236&$C236,'Loan - Grade & Staple'!$B$1:$B$1000&'Loan - Grade & Staple'!$C$1:$C$1000,0),MATCH(\"26-31\",'Loan - Grade & Staple'!$A$3:$K$3,0)),IF(ISNA(INDEX('Loan - Grade & Staple'!$A$1:$K$1000,MATCH($B236&C236,'Loan - Grade & Staple'!$B$1:$B$1000&'Loan - Grade & Staple'!$C$1:$C$1000,0),MATCH($K236,'Loan - Grade & Staple'!$A$3:$K$3,0))),-4000,INDEX('Loan - Grade & Staple'!$A$1:$K$1000,MATCH($B236&C236,'Loan - Grade & Staple'!$B$1:$B$1000&'Loan - Grade & Staple'!$C$1:$C$1000,0),MATCH($K236,'Loan - Grade & Staple'!$A$3:$K$3,0))))))","v":""},{"$f":"IF(LEN(E236)=0,\"\",INDEX('Loan - Strength'!$C$1:$C$18,MATCH(E236,'Loan - Strength'!$A$1:$A$18,1)))","v":""},{"$f":"IF(LEN(F236)=0,\"\",INDEX('Loan - Micronaire'!$C$1:$C$20,MATCH($F236,'Loan - Micronaire'!$A$1:$A$20,1)))","v":""},{"$f":"IF(LEN(G236)=0,\"\",INDEX('Loan - Uniformity'!$C$1:$C$20,MATCH($G236,'Loan - Uniformity'!$A$1:$A$20,1)))","v":""},"","",{"$f":"IF(OR(LEN(B236)=0,LEN(C236)=0,LEN(D236)=0,LEN(E236)=0,LEN(F236)=0,LEN(G236)=0),\"\",IF('Base Values'!$B$8+(SUM($L236:$P236)/100)<0,0,'Base Values'!$B$8+(SUM(L236:P236)/100)))","v":""},null,{"$f":"IF(AND($T$13=TRUE,H236=1),'Loan - Extraneous'!B$3,IF(AND($T$13=TRUE,H236=2),'Loan - Extraneous'!C$3,0))","v":0},{"$f":"IF(I236=1,'Loan - Extraneous'!$B$4,IF(I236=2,'Loan - Extraneous'!$C$4,0))","v":0},{"$f":"IF(J236=1,'Loan - Extraneous'!$B$5,IF(J236=2,'Loan - Extraneous'!$C$5,0))","v":0}]
[null,null,null,null,null,null,null,null,null,null,"",{"$f":"IF(OR(LEN(B237)=0,LEN(C237)=0,LEN(D237)=0),\"\",IF(K237>=38,INDEX('Loan - Grade & Staple'!$A$1:$K$1000,MATCH($B237&$C237,'Loan - Grade & Staple'!$B$1:$B$1000&'Loan - Grade & Staple'!$C$1:$C$1000,0),MATCH(\"38+\",'Loan - Grade & Staple'!$A$3:$K$3,0)),IF(K237<=31,INDEX('Loan - Grade & Staple'!$A$1:$K$1000,MATCH($B237&$C237,'Loan - Grade & Staple'!$B$1:$B$1000&'Loan - Grade & Staple'!$C$1:$C$1000,0),MATCH(\"26-31\",'Loan - Grade & Staple'!$A$3:$K$3,0)),IF(ISNA(INDEX('Loan - Grade & Staple'!$A$1:$K$1000,MATCH($B237&C237,'Loan - Grade & Staple'!$B$1:$B$1000&'Loan - Grade & Staple'!$C$1:$C$1000,0),MATCH($K237,'Loan - Grade & Staple'!$A$3:$K$3,0))),-4000,INDEX('Loan - Grade & Staple'!$A$1:$K$1000,MATCH($B237&C237,'Loan - Grade & Staple'!$B$1:$B$1000&'Loan - Grade & Staple'!$C$1:$C$1000,0),MATCH($K237,'Loan - Grade & Staple'!$A$3:$K$3,0))))))","v":""},{"$f":"IF(LEN(E237)=0,\"\",INDEX('Loan - Strength'!$C$1:$C$18,MATCH(E237,'Loan - Strength'!$A$1:$A$18,1)))","v":""},{"$f":"IF(LEN(F237)=0,\"\",INDEX('Loan - Micronaire'!$C$1:$C$20,MATCH($F237,'Loan - Micronaire'!$A$1:$A$20,1)))","v":""},{"$f":"IF(LEN(G237)=0,\"\",INDEX('Loan - Uniformity'!$C$1:$C$20,MATCH($G237,'Loan - Uniformity'!$A$1:$A$20,1)))","v":""},"","",{"$f":"IF(OR(LEN(B237)=0,LEN(C237)=0,LEN(D237)=0,LEN(E237)=0,LEN(F237)=0,LEN(G237)=0),\"\",IF('Base Values'!$B$8+(SUM($L237:$P237)/100)<0,0,'Base Values'!$B$8+(SUM(L237:P237)/100)))","v":""},null,{"$f":"IF(AND($T$13=TRUE,H237=1),'Loan - Extraneous'!B$3,IF(AND($T$13=TRUE,H237=2),'Loan - Extraneous'!C$3,0))","v":0},{"$f":"IF(I237=1,'Loan - Extraneous'!$B$4,IF(I237=2,'Loan - Extraneous'!$C$4,0))","v":0},{"$f":"IF(J237=1,'Loan - Extraneous'!$B$5,IF(J237=2,'Loan - Extraneous'!$C$5,0))","v":0}]
[null,null,null,null,null,null,null,null,null,null,"",{"$f":"IF(OR(LEN(B238)=0,LEN(C238)=0,LEN(D238)=0),\"\",IF(K238>=38,INDEX('Loan - Grade & Staple'!$A$1:$K$1000,MATCH($B238&$C238,'Loan - Grade & Staple'!$B$1:$B$1000&'Loan - Grade & Staple'!$C$1:$C$1000,0),MATCH(\"38+\",'Loan - Grade & Staple'!$A$3:$K$3,0)),IF(K238<=31,INDEX('Loan - Grade & Staple'!$A$1:$K$1000,MATCH($B238&$C238,'Loan - Grade & Staple'!$B$1:$B$1000&'Loan - Grade & Staple'!$C$1:$C$1000,0),MATCH(\"26-31\",'Loan - Grade & Staple'!$A$3:$K$3,0)),IF(ISNA(INDEX('Loan - Grade & Staple'!$A$1:$K$1000,MATCH($B238&C238,'Loan - Grade & Staple'!$B$1:$B$1000&'Loan - Grade & Staple'!$C$1:$C$1000,0),MATCH($K238,'Loan - Grade & Staple'!$A$3:$K$3,0))),-4000,INDEX('Loan - Grade & Staple'!$A$1:$K$1000,MATCH($B238&C238,'Loan - Grade & Staple'!$B$1:$B$1000&'Loan - Grade & Staple'!$C$1:$C$1000,0),MATCH($K238,'Loan - Grade & Staple'!$A$3:$K$3,0))))))","v":""},{"$f":"IF(LEN(E238)=0,\"\",INDEX('Loan - Strength'!$C$1:$C$18,MATCH(E238,'Loan - Strength'!$A$1:$A$18,1)))","v":""},{"$f":"IF(LEN(F238)=0,\"\",INDEX('Loan - Micronaire'!$C$1:$C$20,MATCH($F238,'Loan - Micronaire'!$A$1:$A$20,1)))","v":""},{"$f":"IF(LEN(G238)=0,\"\",INDEX('Loan - Uniformity'!$C$1:$C$20,MATCH($G238,'Loan - Uniformity'!$A$1:$A$20,1)))","v":""},"","",{"$f":"IF(OR(LEN(B238)=0,LEN(C238)=0,LEN(D238)=0,LEN(E238)=0,LEN(F238)=0,LEN(G238)=0),\"\",IF('Base Values'!$B$8+(SUM($L238:$P238)/100)<0,0,'Base Values'!$B$8+(SUM(L238:P238)/100)))","v":""},null,{"$f":"IF(AND($T$13=TRUE,H238=1),'Loan - Extraneous'!B$3,IF(AND($T$13=TRUE,H238=2),'Loan - Extraneous'!C$3,0))","v":0},{"$f":"IF(I238=1,'Loan - Extraneous'!$B$4,IF(I238=2,'Loan - Extraneous'!$C$4,0))","v":0},{"$f":"IF(J238=1,'Loan - Extraneous'!$B$5,IF(J238=2,'Loan - Extraneous'!$C$5,0))","v":0}]
[null,null,null,null,null,null,null,null,null,null,"",{"$f":"IF(OR(LEN(B239)=0,LEN(C239)=0,LEN(D239)=0),\"\",IF(K239>=38,INDEX('Loan - Grade & Staple'!$A$1:$K$1000,MATCH($B239&$C239,'Loan - Grade & Staple'!$B$1:$B$1000&'Loan - Grade & Staple'!$C$1:$C$1000,0),MATCH(\"38+\",'Loan - Grade & Staple'!$A$3:$K$3,0)),IF(K239<=31,INDEX('Loan - Grade & Staple'!$A$1:$K$1000,MATCH($B239&$C239,'Loan - Grade & Staple'!$B$1:$B$1000&'Loan - Grade & Staple'!$C$1:$C$1000,0),MATCH(\"26-31\",'Loan - Grade & Staple'!$A$3:$K$3,0)),IF(ISNA(INDEX('Loan - Grade & Staple'!$A$1:$K$1000,MATCH($B239&C239,'Loan - Grade & Staple'!$B$1:$B$1000&'Loan - Grade & Staple'!$C$1:$C$1000,0),MATCH($K239,'Loan - Grade & Staple'!$A$3:$K$3,0))),-4000,INDEX('Loan - Grade & Staple'!$A$1:$K$1000,MATCH($B239&C239,'Loan - Grade & Staple'!$B$1:$B$1000&'Loan - Grade & Staple'!$C$1:$C$1000,0),MATCH($K239,'Loan - Grade & Staple'!$A$3:$K$3,0))))))","v":""},{"$f":"IF(LEN(E239)=0,\"\",INDEX('Loan - Strength'!$C$1:$C$18,MATCH(E239,'Loan - Strength'!$A$1:$A$18,1)))","v":""},{"$f":"IF(LEN(F239)=0,\"\",INDEX('Loan - Micronaire'!$C$1:$C$20,MATCH($F239,'Loan - Micronaire'!$A$1:$A$20,1)))","v":""},{"$f":"IF(LEN(G239)=0,\"\",INDEX('Loan - Uniformity'!$C$1:$C$20,MATCH($G239,'Loan - Uniformity'!$A$1:$A$20,1)))","v":""},"","",{"$f":"IF(OR(LEN(B239)=0,LEN(C239)=0,LEN(D239)=0,LEN(E239)=0,LEN(F239)=0,LEN(G239)=0),\"\",IF('Base Values'!$B$8+(SUM($L239:$P239)/100)<0,0,'Base Values'!$B$8+(SUM(L239:P239)/100)))","v":""},null,{"$f":"IF(AND($T$13=TRUE,H239=1),'Loan - Extraneous'!B$3,IF(AND($T$13=TRUE,H239=2),'Loan - Extraneous'!C$3,0))","v":0},{"$f":"IF(I239=1,'Loan - Extraneous'!$B$4,IF(I239=2,'Loan - Extraneous'!$C$4,0))","v":0},{"$f":"IF(J239=1,'Loan - Extraneous'!$B$5,IF(J239=2,'Loan - Extraneous'!$C$5,0))","v":0}]
[null,null,null,null,null,null,null,null,null,null,"",{"$f":"IF(OR(LEN(B240)=0,LEN(C240)=0,LEN(D240)=0),\"\",IF(K240>=38,INDEX('Loan - Grade & Staple'!$A$1:$K$1000,MATCH($B240&$C240,'Loan - Grade & Staple'!$B$1:$B$1000&'Loan - Grade & Staple'!$C$1:$C$1000,0),MATCH(\"38+\",'Loan - Grade & Staple'!$A$3:$K$3,0)),IF(K240<=31,INDEX('Loan - Grade & Staple'!$A$1:$K$1000,MATCH($B240&$C240,'Loan - Grade & Staple'!$B$1:$B$1000&'Loan - Grade & Staple'!$C$1:$C$1000,0),MATCH(\"26-31\",'Loan - Grade & Staple'!$A$3:$K$3,0)),IF(ISNA(INDEX('Loan - Grade & Staple'!$A$1:$K$1000,MATCH($B240&C240,'Loan - Grade & Staple'!$B$1:$B$1000&'Loan - Grade & Staple'!$C$1:$C$1000,0),MATCH($K240,'Loan - Grade & Staple'!$A$3:$K$3,0))),-4000,INDEX('Loan - Grade & Staple'!$A$1:$K$1000,MATCH($B240&C240,'Loan - Grade & Staple'!$B$1:$B$1000&'Loan - Grade & Staple'!$C$1:$C$1000,0),MATCH($K240,'Loan - Grade & Staple'!$A$3:$K$3,0))))))","v":""},{"$f":"IF(LEN(E240)=0,\"\",INDEX('Loan - Strength'!$C$1:$C$18,MATCH(E240,'Loan - Strength'!$A$1:$A$18,1)))","v":""},{"$f":"IF(LEN(F240)=0,\"\",INDEX('Loan - Micronaire'!$C$1:$C$20,MATCH($F240,'Loan - Micronaire'!$A$1:$A$20,1)))","v":""},{"$f":"IF(LEN(G240)=0,\"\",INDEX('Loan - Uniformity'!$C$1:$C$20,MATCH($G240,'Loan - Uniformity'!$A$1:$A$20,1)))","v":""},"","",{"$f":"IF(OR(LEN(B240)=0,LEN(C240)=0,LEN(D240)=0,LEN(E240)=0,LEN(F240)=0,LEN(G240)=0),\"\",IF('Base Values'!$B$8+(SUM($L240:$P240)/100)<0,0,'Base Values'!$B$8+(SUM(L240:P240)/100)))","v":""},null,{"$f":"IF(AND($T$13=TRUE,H240=1),'Loan - Extraneous'!B$3,IF(AND($T$13=TRUE,H240=2),'Loan - Extraneous'!C$3,0))","v":0},{"$f":"IF(I240=1,'Loan - Extraneous'!$B$4,IF(I240=2,'Loan - Extraneous'!$C$4,0))","v":0},{"$f":"IF(J240=1,'Loan - Extraneous'!$B$5,IF(J240=2,'Loan - Extraneous'!$C$5,0))","v":0}]
[null,null,null,null,null,null,null,null,null,null,"",{"$f":"IF(OR(LEN(B241)=0,LEN(C241)=0,LEN(D241)=0),\"\",IF(K241>=38,INDEX('Loan - Grade & Staple'!$A$1:$K$1000,MATCH($B241&$C241,'Loan - Grade & Staple'!$B$1:$B$1000&'Loan - Grade & Staple'!$C$1:$C$1000,0),MATCH(\"38+\",'Loan - Grade & Staple'!$A$3:$K$3,0)),IF(K241<=31,INDEX('Loan - Grade & Staple'!$A$1:$K$1000,MATCH($B241&$C241,'Loan - Grade & Staple'!$B$1:$B$1000&'Loan - Grade & Staple'!$C$1:$C$1000,0),MATCH(\"26-31\",'Loan - Grade & Staple'!$A$3:$K$3,0)),IF(ISNA(INDEX('Loan - Grade & Staple'!$A$1:$K$1000,MATCH($B241&C241,'Loan - Grade & Staple'!$B$1:$B$1000&'Loan - Grade & Staple'!$C$1:$C$1000,0),MATCH($K241,'Loan - Grade & Staple'!$A$3:$K$3,0))),-4000,INDEX('Loan - Grade & Staple'!$A$1:$K$1000,MATCH($B241&C241,'Loan - Grade & Staple'!$B$1:$B$1000&'Loan - Grade & Staple'!$C$1:$C$1000,0),MATCH($K241,'Loan - Grade & Staple'!$A$3:$K$3,0))))))","v":""},{"$f":"IF(LEN(E241)=0,\"\",INDEX('Loan - Strength'!$C$1:$C$18,MATCH(E241,'Loan - Strength'!$A$1:$A$18,1)))","v":""},{"$f":"IF(LEN(F241)=0,\"\",INDEX('Loan - Micronaire'!$C$1:$C$20,MATCH($F241,'Loan - Micronaire'!$A$1:$A$20,1)))","v":""},{"$f":"IF(LEN(G241)=0,\"\",INDEX('Loan - Uniformity'!$C$1:$C$20,MATCH($G241,'Loan - Uniformity'!$A$1:$A$20,1)))","v":""},"","",{"$f":"IF(OR(LEN(B241)=0,LEN(C241)=0,LEN(D241)=0,LEN(E241)=0,LEN(F241)=0,LEN(G241)=0),\"\",IF('Base Values'!$B$8+(SUM($L241:$P241)/100)<0,0,'Base Values'!$B$8+(SUM(L241:P241)/100)))","v":""},null,{"$f":"IF(AND($T$13=TRUE,H241=1),'Loan - Extraneous'!B$3,IF(AND($T$13=TRUE,H241=2),'Loan - Extraneous'!C$3,0))","v":0},{"$f":"IF(I241=1,'Loan - Extraneous'!$B$4,IF(I241=2,'Loan - Extraneous'!$C$4,0))","v":0},{"$f":"IF(J241=1,'Loan - Extraneous'!$B$5,IF(J241=2,'Loan - Extraneous'!$C$5,0))","v":0}]
[null,null,null,null,null,null,null,null,null,null,"",{"$f":"IF(OR(LEN(B242)=0,LEN(C242)=0,LEN(D242)=0),\"\",IF(K242>=38,INDEX('Loan - Grade & Staple'!$A$1:$K$1000,MATCH($B242&$C242,'Loan - Grade & Staple'!$B$1:$B$1000&'Loan - Grade & Staple'!$C$1:$C$1000,0),MATCH(\"38+\",'Loan - Grade & Staple'!$A$3:$K$3,0)),IF(K242<=31,INDEX('Loan - Grade & Staple'!$A$1:$K$1000,MATCH($B242&$C242,'Loan - Grade & Staple'!$B$1:$B$1000&'Loan - Grade & Staple'!$C$1:$C$1000,0),MATCH(\"26-31\",'Loan - Grade & Staple'!$A$3:$K$3,0)),IF(ISNA(INDEX('Loan - Grade & Staple'!$A$1:$K$1000,MATCH($B242&C242,'Loan - Grade & Staple'!$B$1:$B$1000&'Loan - Grade & Staple'!$C$1:$C$1000,0),MATCH($K242,'Loan - Grade & Staple'!$A$3:$K$3,0))),-4000,INDEX('Loan - Grade & Staple'!$A$1:$K$1000,MATCH($B242&C242,'Loan - Grade & Staple'!$B$1:$B$1000&'Loan - Grade & Staple'!$C$1:$C$1000,0),MATCH($K242,'Loan - Grade & Staple'!$A$3:$K$3,0))))))","v":""},{"$f":"IF(LEN(E242)=0,\"\",INDEX('Loan - Strength'!$C$1:$C$18,MATCH(E242,'Loan - Strength'!$A$1:$A$18,1)))","v":""},{"$f":"IF(LEN(F242)=0,\"\",INDEX('Loan - Micronaire'!$C$1:$C$20,MATCH($F242,'Loan - Micronaire'!$A$1:$A$20,1)))","v":""},{"$f":"IF(LEN(G242)=0,\"\",INDEX('Loan - Uniformity'!$C$1:$C$20,MATCH($G242,'Loan - Uniformity'!$A$1:$A$20,1)))","v":""},"","",{"$f":"IF(OR(LEN(B242)=0,LEN(C242)=0,LEN(D242)=0,LEN(E242)=0,LEN(F242)=0,LEN(G242)=0),\"\",IF('Base Values'!$B$8+(SUM($L242:$P242)/100)<0,0,'Base Values'!$B$8+(SUM(L242:P242)/100)))","v":""},null,{"$f":"IF(AND($T$13=TRUE,H242=1),'Loan - Extraneous'!B$3,IF(AND($T$13=TRUE,H242=2),'Loan - Extraneous'!C$3,0))","v":0},{"$f":"IF(I242=1,'Loan - Extraneous'!$B$4,IF(I242=2,'Loan - Extraneous'!$C$4,0))","v":0},{"$f":"IF(J242=1,'Loan - Extraneous'!$B$5,IF(J242=2,'Loan - Extraneous'!$C$5,0))","v":0}]
[null,null,null,null,null,null,null,null,null,null,"",{"$f":"IF(OR(LEN(B243)=0,LEN(C243)=0,LEN(D243)=0),\"\",IF(K243>=38,INDEX('Loan - Grade & Staple'!$A$1:$K$1000,MATCH($B243&$C243,'Loan - Grade & Staple'!$B$1:$B$1000&'Loan - Grade & Staple'!$C$1:$C$1000,0),MATCH(\"38+\",'Loan - Grade & Staple'!$A$3:$K$3,0)),IF(K243<=31,INDEX('Loan - Grade & Staple'!$A$1:$K$1000,MATCH($B243&$C243,'Loan - Grade & Staple'!$B$1:$B$1000&'Loan - Grade & Staple'!$C$1:$C$1000,0),MATCH(\"26-31\",'Loan - Grade & Staple'!$A$3:$K$3,0)),IF(ISNA(INDEX('Loan - Grade & Staple'!$A$1:$K$1000,MATCH($B243&C243,'Loan - Grade & Staple'!$B$1:$B$1000&'Loan - Grade & Staple'!$C$1:$C$1000,0),MATCH($K243,'Loan - Grade & Staple'!$A$3:$K$3,0))),-4000,INDEX('Loan - Grade & Staple'!$A$1:$K$1000,MATCH($B243&C243,'Loan - Grade & Staple'!$B$1:$B$1000&'Loan - Grade & Staple'!$C$1:$C$1000,0),MATCH($K243,'Loan - Grade & Staple'!$A$3:$K$3,0))))))","v":""},{"$f":"IF(LEN(E243)=0,\"\",INDEX('Loan - Strength'!$C$1:$C$18,MATCH(E243,'Loan - Strength'!$A$1:$A$18,1)))","v":""},{"$f":"IF(LEN(F243)=0,\"\",INDEX('Loan - Micronaire'!$C$1:$C$20,MATCH($F243,'Loan - Micronaire'!$A$1:$A$20,1)))","v":""},{"$f":"IF(LEN(G243)=0,\"\",INDEX('Loan - Uniformity'!$C$1:$C$20,MATCH($G243,'Loan - Uniformity'!$A$1:$A$20,1)))","v":""},"","",{"$f":"IF(OR(LEN(B243)=0,LEN(C243)=0,LEN(D243)=0,LEN(E243)=0,LEN(F243)=0,LEN(G243)=0),\"\",IF('Base Values'!$B$8+(SUM($L243:$P243)/100)<0,0,'Base Values'!$B$8+(SUM(L243:P243)/100)))","v":""},null,{"$f":"IF(AND($T$13=TRUE,H243=1),'Loan - Extraneous'!B$3,IF(AND($T$13=TRUE,H243=2),'Loan - Extraneous'!C$3,0))","v":0},{"$f":"IF(I243=1,'Loan - Extraneous'!$B$4,IF(I243=2,'Loan - Extraneous'!$C$4,0))","v":0},{"$f":"IF(J243=1,'Loan - Extraneous'!$B$5,IF(J243=2,'Loan - Extraneous'!$C$5,0))","v":0}]
[null,null,null,null,null,null,null,null,null,null,"",{"$f":"IF(OR(LEN(B244)=0,LEN(C244)=0,LEN(D244)=0),\"\",IF(K244>=38,INDEX('Loan - Grade & Staple'!$A$1:$K$1000,MATCH($B244&$C244,'Loan - Grade & Staple'!$B$1:$B$1000&'Loan - Grade & Staple'!$C$1:$C$1000,0),MATCH(\"38+\",'Loan - Grade & Staple'!$A$3:$K$3,0)),IF(K244<=31,INDEX('Loan - Grade & Staple'!$A$1:$K$1000,MATCH($B244&$C244,'Loan - Grade & Staple'!$B$1:$B$1000&'Loan - Grade & Staple'!$C$1:$C$1000,0),MATCH(\"26-31\",'Loan - Grade & Staple'!$A$3:$K$3,0)),IF(ISNA(INDEX('Loan - Grade & Staple'!$A$1:$K$1000,MATCH($B244&C244,'Loan - Grade & Staple'!$B$1:$B$1000&'Loan - Grade & Staple'!$C$1:$C$1000,0),MATCH($K244,'Loan - Grade & Staple'!$A$3:$K$3,0))),-4000,INDEX('Loan - Grade & Staple'!$A$1:$K$1000,MATCH($B244&C244,'Loan - Grade & Staple'!$B$1:$B$1000&'Loan - Grade & Staple'!$C$1:$C$1000,0),MATCH($K244,'Loan - Grade & Staple'!$A$3:$K$3,0))))))","v":""},{"$f":"IF(LEN(E244)=0,\"\",INDEX('Loan - Strength'!$C$1:$C$18,MATCH(E244,'Loan - Strength'!$A$1:$A$18,1)))","v":""},{"$f":"IF(LEN(F244)=0,\"\",INDEX('Loan - Micronaire'!$C$1:$C$20,MATCH($F244,'Loan - Micronaire'!$A$1:$A$20,1)))","v":""},{"$f":"IF(LEN(G244)=0,\"\",INDEX('Loan - Uniformity'!$C$1:$C$20,MATCH($G244,'Loan - Uniformity'!$A$1:$A$20,1)))","v":""},"","",{"$f":"IF(OR(LEN(B244)=0,LEN(C244)=0,LEN(D244)=0,LEN(E244)=0,LEN(F244)=0,LEN(G244)=0),\"\",IF('Base Values'!$B$8+(SUM($L244:$P244)/100)<0,0,'Base Values'!$B$8+(SUM(L244:P244)/100)))","v":""},null,{"$f":"IF(AND($T$13=TRUE,H244=1),'Loan - Extraneous'!B$3,IF(AND($T$13=TRUE,H244=2),'Loan - Extraneous'!C$3,0))","v":0},{"$f":"IF(I244=1,'Loan - Extraneous'!$B$4,IF(I244=2,'Loan - Extraneous'!$C$4,0))","v":0},{"$f":"IF(J244=1,'Loan - Extraneous'!$B$5,IF(J244=2,'Loan - Extraneous'!$C$5,0))","v":0}]
[null,null,null,null,null,null,null,null,null,null,"",{"$f":"IF(OR(LEN(B245)=0,LEN(C245)=0,LEN(D245)=0),\"\",IF(K245>=38,INDEX('Loan - Grade & Staple'!$A$1:$K$1000,MATCH($B245&$C245,'Loan - Grade & Staple'!$B$1:$B$1000&'Loan - Grade & Staple'!$C$1:$C$1000,0),MATCH(\"38+\",'Loan - Grade & Staple'!$A$3:$K$3,0)),IF(K245<=31,INDEX('Loan - Grade & Staple'!$A$1:$K$1000,MATCH($B245&$C245,'Loan - Grade & Staple'!$B$1:$B$1000&'Loan - Grade & Staple'!$C$1:$C$1000,0),MATCH(\"26-31\",'Loan - Grade & Staple'!$A$3:$K$3,0)),IF(ISNA(INDEX('Loan - Grade & Staple'!$A$1:$K$1000,MATCH($B245&C245,'Loan - Grade & Staple'!$B$1:$B$1000&'Loan - Grade & Staple'!$C$1:$C$1000,0),MATCH($K245,'Loan - Grade & Staple'!$A$3:$K$3,0))),-4000,INDEX('Loan - Grade & Staple'!$A$1:$K$1000,MATCH($B245&C245,'Loan - Grade & Staple'!$B$1:$B$1000&'Loan - Grade & Staple'!$C$1:$C$1000,0),MATCH($K245,'Loan - Grade & Staple'!$A$3:$K$3,0))))))","v":""},{"$f":"IF(LEN(E245)=0,\"\",INDEX('Loan - Strength'!$C$1:$C$18,MATCH(E245,'Loan - Strength'!$A$1:$A$18,1)))","v":""},{"$f":"IF(LEN(F245)=0,\"\",INDEX('Loan - Micronaire'!$C$1:$C$20,MATCH($F245,'Loan - Micronaire'!$A$1:$A$20,1)))","v":""},{"$f":"IF(LEN(G245)=0,\"\",INDEX('Loan - Uniformity'!$C$1:$C$20,MATCH($G245,'Loan - Uniformity'!$A$1:$A$20,1)))","v":""},"","",{"$f":"IF(OR(LEN(B245)=0,LEN(C245)=0,LEN(D245)=0,LEN(E245)=0,LEN(F245)=0,LEN(G245)=0),\"\",IF('Base Values'!$B$8+(SUM($L245:$P245)/100)<0,0,'Base Values'!$B$8+(SUM(L245:P245)/100)))","v":""},null,{"$f":"IF(AND($T$13=TRUE,H245=1),'Loan - Extraneous'!B$3,IF(AND($T$13=TRUE,H245=2),'Loan - Extraneous'!C$3,0))","v":0},{"$f":"IF(I245=1,'Loan - Extraneous'!$B$4,IF(I245=2,'Loan - Extraneous'!$C$4,0))","v":0},{"$f":"IF(J245=1,'Loan - Extraneous'!$B$5,IF(J245=2,'Loan - Extraneous'!$C$5,0))","v":0}]
[null,null,null,null,null,null,null,null,null,null,"",{"$f":"IF(OR(LEN(B246)=0,LEN(C246)=0,LEN(D246)=0),\"\",IF(K246>=38,INDEX('Loan - Grade & Staple'!$A$1:$K$1000,MATCH($B246&$C246,'Loan - Grade & Staple'!$B$1:$B$1000&'Loan - Grade & Staple'!$C$1:$C$1000,0),MATCH(\"38+\",'Loan - Grade & Staple'!$A$3:$K$3,0)),IF(K246<=31,INDEX('Loan - Grade & Staple'!$A$1:$K$1000,MATCH($B246&$C246,'Loan - Grade & Staple'!$B$1:$B$1000&'Loan - Grade & Staple'!$C$1:$C$1000,0),MATCH(\"26-31\",'Loan - Grade & Staple'!$A$3:$K$3,0)),IF(ISNA(INDEX('Loan - Grade & Staple'!$A$1:$K$1000,MATCH($B246&C246,'Loan - Grade & Staple'!$B$1:$B$1000&'Loan - Grade & Staple'!$C$1:$C$1000,0),MATCH($K246,'Loan - Grade & Staple'!$A$3:$K$3,0))),-4000,INDEX('Loan - Grade & Staple'!$A$1:$K$1000,MATCH($B246&C246,'Loan - Grade & Staple'!$B$1:$B$1000&'Loan - Grade & Staple'!$C$1:$C$1000,0),MATCH($K246,'Loan - Grade & Staple'!$A$3:$K$3,0))))))","v":""},{"$f":"IF(LEN(E246)=0,\"\",INDEX('Loan - Strength'!$C$1:$C$18,MATCH(E246,'Loan - Strength'!$A$1:$A$18,1)))","v":""},{"$f":"IF(LEN(F246)=0,\"\",INDEX('Loan - Micronaire'!$C$1:$C$20,MATCH($F246,'Loan - Micronaire'!$A$1:$A$20,1)))","v":""},{"$f":"IF(LEN(G246)=0,\"\",INDEX('Loan - Uniformity'!$C$1:$C$20,MATCH($G246,'Loan - Uniformity'!$A$1:$A$20,1)))","v":""},"","",{"$f":"IF(OR(LEN(B246)=0,LEN(C246)=0,LEN(D246)=0,LEN(E246)=0,LEN(F246)=0,LEN(G246)=0),\"\",IF('Base Values'!$B$8+(SUM($L246:$P246)/100)<0,0,'Base Values'!$B$8+(SUM(L246:P246)/100)))","v":""},null,{"$f":"IF(AND($T$13=TRUE,H246=1),'Loan - Extraneous'!B$3,IF(AND($T$13=TRUE,H246=2),'Loan - Extraneous'!C$3,0))","v":0},{"$f":"IF(I246=1,'Loan - Extraneous'!$B$4,IF(I246=2,'Loan - Extraneous'!$C$4,0))","v":0},{"$f":"IF(J246=1,'Loan - Extraneous'!$B$5,IF(J246=2,'Loan - Extraneous'!$C$5,0))","v":0}]
[null,null,null,null,null,null,null,null,null,null,"",{"$f":"IF(OR(LEN(B247)=0,LEN(C247)=0,LEN(D247)=0),\"\",IF(K247>=38,INDEX('Loan - Grade & Staple'!$A$1:$K$1000,MATCH($B247&$C247,'Loan - Grade & Staple'!$B$1:$B$1000&'Loan - Grade & Staple'!$C$1:$C$1000,0),MATCH(\"38+\",'Loan - Grade & Staple'!$A$3:$K$3,0)),IF(K247<=31,INDEX('Loan - Grade & Staple'!$A$1:$K$1000,MATCH($B247&$C247,'Loan - Grade & Staple'!$B$1:$B$1000&'Loan - Grade & Staple'!$C$1:$C$1000,0),MATCH(\"26-31\",'Loan - Grade & Staple'!$A$3:$K$3,0)),IF(ISNA(INDEX('Loan - Grade & Staple'!$A$1:$K$1000,MATCH($B247&C247,'Loan - Grade & Staple'!$B$1:$B$1000&'Loan - Grade & Staple'!$C$1:$C$1000,0),MATCH($K247,'Loan - Grade & Staple'!$A$3:$K$3,0))),-4000,INDEX('Loan - Grade & Staple'!$A$1:$K$1000,MATCH($B247&C247,'Loan - Grade & Staple'!$B$1:$B$1000&'Loan - Grade & Staple'!$C$1:$C$1000,0),MATCH($K247,'Loan - Grade & Staple'!$A$3:$K$3,0))))))","v":""},{"$f":"IF(LEN(E247)=0,\"\",INDEX('Loan - Strength'!$C$1:$C$18,MATCH(E247,'Loan - Strength'!$A$1:$A$18,1)))","v":""},{"$f":"IF(LEN(F247)=0,\"\",INDEX('Loan - Micronaire'!$C$1:$C$20,MATCH($F247,'Loan - Micronaire'!$A$1:$A$20,1)))","v":""},{"$f":"IF(LEN(G247)=0,\"\",INDEX('Loan - Uniformity'!$C$1:$C$20,MATCH($G247,'Loan - Uniformity'!$A$1:$A$20,1)))","v":""},"","",{"$f":"IF(OR(LEN(B247)=0,LEN(C247)=0,LEN(D247)=0,LEN(E247)=0,LEN(F247)=0,LEN(G247)=0),\"\",IF('Base Values'!$B$8+(SUM($L247:$P247)/100)<0,0,'Base Values'!$B$8+(SUM(L247:P247)/100)))","v":""},null,{"$f":"IF(AND($T$13=TRUE,H247=1),'Loan - Extraneous'!B$3,IF(AND($T$13=TRUE,H247=2),'Loan - Extraneous'!C$3,0))","v":0},{"$f":"IF(I247=1,'Loan - Extraneous'!$B$4,IF(I247=2,'Loan - Extraneous'!$C$4,0))","v":0},{"$f":"IF(J247=1,'Loan - Extraneous'!$B$5,IF(J247=2,'Loan - Extraneous'!$C$5,0))","v":0}]
[null,null,null,null,null,null,null,null,null,null,"",{"$f":"IF(OR(LEN(B248)=0,LEN(C248)=0,LEN(D248)=0),\"\",IF(K248>=38,INDEX('Loan - Grade & Staple'!$A$1:$K$1000,MATCH($B248&$C248,'Loan - Grade & Staple'!$B$1:$B$1000&'Loan - Grade & Staple'!$C$1:$C$1000,0),MATCH(\"38+\",'Loan - Grade & Staple'!$A$3:$K$3,0)),IF(K248<=31,INDEX('Loan - Grade & Staple'!$A$1:$K$1000,MATCH($B248&$C248,'Loan - Grade & Staple'!$B$1:$B$1000&'Loan - Grade & Staple'!$C$1:$C$1000,0),MATCH(\"26-31\",'Loan - Grade & Staple'!$A$3:$K$3,0)),IF(ISNA(INDEX('Loan - Grade & Staple'!$A$1:$K$1000,MATCH($B248&C248,'Loan - Grade & Staple'!$B$1:$B$1000&'Loan - Grade & Staple'!$C$1:$C$1000,0),MATCH($K248,'Loan - Grade & Staple'!$A$3:$K$3,0))),-4000,INDEX('Loan - Grade & Staple'!$A$1:$K$1000,MATCH($B248&C248,'Loan - Grade & Staple'!$B$1:$B$1000&'Loan - Grade & Staple'!$C$1:$C$1000,0),MATCH($K248,'Loan - Grade & Staple'!$A$3:$K$3,0))))))","v":""},{"$f":"IF(LEN(E248)=0,\"\",INDEX('Loan - Strength'!$C$1:$C$18,MATCH(E248,'Loan - Strength'!$A$1:$A$18,1)))","v":""},{"$f":"IF(LEN(F248)=0,\"\",INDEX('Loan - Micronaire'!$C$1:$C$20,MATCH($F248,'Loan - Micronaire'!$A$1:$A$20,1)))","v":""},{"$f":"IF(LEN(G248)=0,\"\",INDEX('Loan - Uniformity'!$C$1:$C$20,MATCH($G248,'Loan - Uniformity'!$A$1:$A$20,1)))","v":""},"","",{"$f":"IF(OR(LEN(B248)=0,LEN(C248)=0,LEN(D248)=0,LEN(E248)=0,LEN(F248)=0,LEN(G248)=0),\"\",IF('Base Values'!$B$8+(SUM($L248:$P248)/100)<0,0,'Base Values'!$B$8+(SUM(L248:P248)/100)))","v":""},null,{"$f":"IF(AND($T$13=TRUE,H248=1),'Loan - Extraneous'!B$3,IF(AND($T$13=TRUE,H248=2),'Loan - Extraneous'!C$3,0))","v":0},{"$f":"IF(I248=1,'Loan - Extraneous'!$B$4,IF(I248=2,'Loan - Extraneous'!$C$4,0))","v":0},{"$f":"IF(J248=1,'Loan - Extraneous'!$B$5,IF(J248=2,'Loan - Extraneous'!$C$5,0))","v":0}]
[null,null,null,null,null,null,null,null,null,null,"",{"$f":"IF(OR(LEN(B249)=0,LEN(C249)=0,LEN(D249)=0),\"\",IF(K249>=38,INDEX('Loan - Grade & Staple'!$A$1:$K$1000,MATCH($B249&$C249,'Loan - Grade & Staple'!$B$1:$B$1000&'Loan - Grade & Staple'!$C$1:$C$1000,0),MATCH(\"38+\",'Loan - Grade & Staple'!$A$3:$K$3,0)),IF(K249<=31,INDEX('Loan - Grade & Staple'!$A$1:$K$1000,MATCH($B249&$C249,'Loan - Grade & Staple'!$B$1:$B$1000&'Loan - Grade & Staple'!$C$1:$C$1000,0),MATCH(\"26-31\",'Loan - Grade & Staple'!$A$3:$K$3,0)),IF(ISNA(INDEX('Loan - Grade & Staple'!$A$1:$K$1000,MATCH($B249&C249,'Loan - Grade & Staple'!$B$1:$B$1000&'Loan - Grade & Staple'!$C$1:$C$1000,0),MATCH($K249,'Loan - Grade & Staple'!$A$3:$K$3,0))),-4000,INDEX('Loan - Grade & Staple'!$A$1:$K$1000,MATCH($B249&C249,'Loan - Grade & Staple'!$B$1:$B$1000&'Loan - Grade & Staple'!$C$1:$C$1000,0),MATCH($K249,'Loan - Grade & Staple'!$A$3:$K$3,0))))))","v":""},{"$f":"IF(LEN(E249)=0,\"\",INDEX('Loan - Strength'!$C$1:$C$18,MATCH(E249,'Loan - Strength'!$A$1:$A$18,1)))","v":""},{"$f":"IF(LEN(F249)=0,\"\",INDEX('Loan - Micronaire'!$C$1:$C$20,MATCH($F249,'Loan - Micronaire'!$A$1:$A$20,1)))","v":""},{"$f":"IF(LEN(G249)=0,\"\",INDEX('Loan - Uniformity'!$C$1:$C$20,MATCH($G249,'Loan - Uniformity'!$A$1:$A$20,1)))","v":""},"","",{"$f":"IF(OR(LEN(B249)=0,LEN(C249)=0,LEN(D249)=0,LEN(E249)=0,LEN(F249)=0,LEN(G249)=0),\"\",IF('Base Values'!$B$8+(SUM($L249:$P249)/100)<0,0,'Base Values'!$B$8+(SUM(L249:P249)/100)))","v":""},null,{"$f":"IF(AND($T$13=TRUE,H249=1),'Loan - Extraneous'!B$3,IF(AND($T$13=TRUE,H249=2),'Loan - Extraneous'!C$3,0))","v":0},{"$f":"IF(I249=1,'Loan - Extraneous'!$B$4,IF(I249=2,'Loan - Extraneous'!$C$4,0))","v":0},{"$f":"IF(J249=1,'Loan - Extraneous'!$B$5,IF(J249=2,'Loan - Extraneous'!$C$5,0))","v":0}]
[null,null,null,null,null,null,null,null,null,null,"",{"$f":"IF(OR(LEN(B250)=0,LEN(C250)=0,LEN(D250)=0),\"\",IF(K250>=38,INDEX('Loan - Grade & Staple'!$A$1:$K$1000,MATCH($B250&$C250,'Loan - Grade & Staple'!$B$1:$B$1000&'Loan - Grade & Staple'!$C$1:$C$1000,0),MATCH(\"38+\",'Loan - Grade & Staple'!$A$3:$K$3,0)),IF(K250<=31,INDEX('Loan - Grade & Staple'!$A$1:$K$1000,MATCH($B250&$C250,'Loan - Grade & Staple'!$B$1:$B$1000&'Loan - Grade & Staple'!$C$1:$C$1000,0),MATCH(\"26-31\",'Loan - Grade & Staple'!$A$3:$K$3,0)),IF(ISNA(INDEX('Loan - Grade & Staple'!$A$1:$K$1000,MATCH($B250&C250,'Loan - Grade & Staple'!$B$1:$B$1000&'Loan - Grade & Staple'!$C$1:$C$1000,0),MATCH($K250,'Loan - Grade & Staple'!$A$3:$K$3,0))),-4000,INDEX('Loan - Grade & Staple'!$A$1:$K$1000,MATCH($B250&C250,'Loan - Grade & Staple'!$B$1:$B$1000&'Loan - Grade & Staple'!$C$1:$C$1000,0),MATCH($K250,'Loan - Grade & Staple'!$A$3:$K$3,0))))))","v":""},{"$f":"IF(LEN(E250)=0,\"\",INDEX('Loan - Strength'!$C$1:$C$18,MATCH(E250,'Loan - Strength'!$A$1:$A$18,1)))","v":""},{"$f":"IF(LEN(F250)=0,\"\",INDEX('Loan - Micronaire'!$C$1:$C$20,MATCH($F250,'Loan - Micronaire'!$A$1:$A$20,1)))","v":""},{"$f":"IF(LEN(G250)=0,\"\",INDEX('Loan - Uniformity'!$C$1:$C$20,MATCH($G250,'Loan - Uniformity'!$A$1:$A$20,1)))","v":""},"","",{"$f":"IF(OR(LEN(B250)=0,LEN(C250)=0,LEN(D250)=0,LEN(E250)=0,LEN(F250)=0,LEN(G250)=0),\"\",IF('Base Values'!$B$8+(SUM($L250:$P250)/100)<0,0,'Base Values'!$B$8+(SUM(L250:P250)/100)))","v":""},null,{"$f":"IF(AND($T$13=TRUE,H250=1),'Loan - Extraneous'!B$3,IF(AND($T$13=TRUE,H250=2),'Loan - Extraneous'!C$3,0))","v":0},{"$f":"IF(I250=1,'Loan - Extraneous'!$B$4,IF(I250=2,'Loan - Extraneous'!$C$4,0))","v":0},{"$f":"IF(J250=1,'Loan - Extraneous'!$B$5,IF(J250=2,'Loan - Extraneous'!$C$5,0))","v":0}]
[null,null,null,null,null,null,null,null,null,null,"",{"$f":"IF(OR(LEN(B251)=0,LEN(C251)=0,LEN(D251)=0),\"\",IF(K251>=38,INDEX('Loan - Grade & Staple'!$A$1:$K$1000,MATCH($B251&$C251,'Loan - Grade & Staple'!$B$1:$B$1000&'Loan - Grade & Staple'!$C$1:$C$1000,0),MATCH(\"38+\",'Loan - Grade & Staple'!$A$3:$K$3,0)),IF(K251<=31,INDEX('Loan - Grade & Staple'!$A$1:$K$1000,MATCH($B251&$C251,'Loan - Grade & Staple'!$B$1:$B$1000&'Loan - Grade & Staple'!$C$1:$C$1000,0),MATCH(\"26-31\",'Loan - Grade & Staple'!$A$3:$K$3,0)),IF(ISNA(INDEX('Loan - Grade & Staple'!$A$1:$K$1000,MATCH($B251&C251,'Loan - Grade & Staple'!$B$1:$B$1000&'Loan - Grade & Staple'!$C$1:$C$1000,0),MATCH($K251,'Loan - Grade & Staple'!$A$3:$K$3,0))),-4000,INDEX('Loan - Grade & Staple'!$A$1:$K$1000,MATCH($B251&C251,'Loan - Grade & Staple'!$B$1:$B$1000&'Loan - Grade & Staple'!$C$1:$C$1000,0),MATCH($K251,'Loan - Grade & Staple'!$A$3:$K$3,0))))))","v":""},{"$f":"IF(LEN(E251)=0,\"\",INDEX('Loan - Strength'!$C$1:$C$18,MATCH(E251,'Loan - Strength'!$A$1:$A$18,1)))","v":""},{"$f":"IF(LEN(F251)=0,\"\",INDEX('Loan - Micronaire'!$C$1:$C$20,MATCH($F251,'Loan - Micronaire'!$A$1:$A$20,1)))","v":""},{"$f":"IF(LEN(G251)=0,\"\",INDEX('Loan - Uniformity'!$C$1:$C$20,MATCH($G251,'Loan - Uniformity'!$A$1:$A$20,1)))","v":""},"","",{"$f":"IF(OR(LEN(B251)=0,LEN(C251)=0,LEN(D251)=0,LEN(E251)=0,LEN(F251)=0,LEN(G251)=0),\"\",IF('Base Values'!$B$8+(SUM($L251:$P251)/100)<0,0,'Base Values'!$B$8+(SUM(L251:P251)/100)))","v":""},null,{"$f":"IF(AND($T$13=TRUE,H251=1),'Loan - Extraneous'!B$3,IF(AND($T$13=TRUE,H251=2),'Loan - Extraneous'!C$3,0))","v":0},{"$f":"IF(I251=1,'Loan - Extraneous'!$B$4,IF(I251=2,'Loan - Extraneous'!$C$4,0))","v":0},{"$f":"IF(J251=1,'Loan - Extraneous'!$B$5,IF(J251=2,'Loan - Extraneous'!$C$5,0))","v":0}]
[null,null,null,null,null,null,null,null,null,null,"",{"$f":"IF(OR(LEN(B252)=0,LEN(C252)=0,LEN(D252)=0),\"\",IF(K252>=38,INDEX('Loan - Grade & Staple'!$A$1:$K$1000,MATCH($B252&$C252,'Loan - Grade & Staple'!$B$1:$B$1000&'Loan - Grade & Staple'!$C$1:$C$1000,0),MATCH(\"38+\",'Loan - Grade & Staple'!$A$3:$K$3,0)),IF(K252<=31,INDEX('Loan - Grade & Staple'!$A$1:$K$1000,MATCH($B252&$C252,'Loan - Grade & Staple'!$B$1:$B$1000&'Loan - Grade & Staple'!$C$1:$C$1000,0),MATCH(\"26-31\",'Loan - Grade & Staple'!$A$3:$K$3,0)),IF(ISNA(INDEX('Loan - Grade & Staple'!$A$1:$K$1000,MATCH($B252&C252,'Loan - Grade & Staple'!$B$1:$B$1000&'Loan - Grade & Staple'!$C$1:$C$1000,0),MATCH($K252,'Loan - Grade & Staple'!$A$3:$K$3,0))),-4000,INDEX('Loan - Grade & Staple'!$A$1:$K$1000,MATCH($B252&C252,'Loan - Grade & Staple'!$B$1:$B$1000&'Loan - Grade & Staple'!$C$1:$C$1000,0),MATCH($K252,'Loan - Grade & Staple'!$A$3:$K$3,0))))))","v":""},{"$f":"IF(LEN(E252)=0,\"\",INDEX('Loan - Strength'!$C$1:$C$18,MATCH(E252,'Loan - Strength'!$A$1:$A$18,1)))","v":""},{"$f":"IF(LEN(F252)=0,\"\",INDEX('Loan - Micronaire'!$C$1:$C$20,MATCH($F252,'Loan - Micronaire'!$A$1:$A$20,1)))","v":""},{"$f":"IF(LEN(G252)=0,\"\",INDEX('Loan - Uniformity'!$C$1:$C$20,MATCH($G252,'Loan - Uniformity'!$A$1:$A$20,1)))","v":""},"","",{"$f":"IF(OR(LEN(B252)=0,LEN(C252)=0,LEN(D252)=0,LEN(E252)=0,LEN(F252)=0,LEN(G252)=0),\"\",IF('Base Values'!$B$8+(SUM($L252:$P252)/100)<0,0,'Base Values'!$B$8+(SUM(L252:P252)/100)))","v":""},null,{"$f":"IF(AND($T$13=TRUE,H252=1),'Loan - Extraneous'!B$3,IF(AND($T$13=TRUE,H252=2),'Loan - Extraneous'!C$3,0))","v":0},{"$f":"IF(I252=1,'Loan - Extraneous'!$B$4,IF(I252=2,'Loan - Extraneous'!$C$4,0))","v":0},{"$f":"IF(J252=1,'Loan - Extraneous'!$B$5,IF(J252=2,'Loan - Extraneous'!$C$5,0))","v":0}]
[null,null,null,null,null,null,null,null,null,null,"",{"$f":"IF(OR(LEN(B253)=0,LEN(C253)=0,LEN(D253)=0),\"\",IF(K253>=38,INDEX('Loan - Grade & Staple'!$A$1:$K$1000,MATCH($B253&$C253,'Loan - Grade & Staple'!$B$1:$B$1000&'Loan - Grade & Staple'!$C$1:$C$1000,0),MATCH(\"38+\",'Loan - Grade & Staple'!$A$3:$K$3,0)),IF(K253<=31,INDEX('Loan - Grade & Staple'!$A$1:$K$1000,MATCH($B253&$C253,'Loan - Grade & Staple'!$B$1:$B$1000&'Loan - Grade & Staple'!$C$1:$C$1000,0),MATCH(\"26-31\",'Loan - Grade & Staple'!$A$3:$K$3,0)),IF(ISNA(INDEX('Loan - Grade & Staple'!$A$1:$K$1000,MATCH($B253&C253,'Loan - Grade & Staple'!$B$1:$B$1000&'Loan - Grade & Staple'!$C$1:$C$1000,0),MATCH($K253,'Loan - Grade & Staple'!$A$3:$K$3,0))),-4000,INDEX('Loan - Grade & Staple'!$A$1:$K$1000,MATCH($B253&C253,'Loan - Grade & Staple'!$B$1:$B$1000&'Loan - Grade & Staple'!$C$1:$C$1000,0),MATCH($K253,'Loan - Grade & Staple'!$A$3:$K$3,0))))))","v":""},{"$f":"IF(LEN(E253)=0,\"\",INDEX('Loan - Strength'!$C$1:$C$18,MATCH(E253,'Loan - Strength'!$A$1:$A$18,1)))","v":""},{"$f":"IF(LEN(F253)=0,\"\",INDEX('Loan - Micronaire'!$C$1:$C$20,MATCH($F253,'Loan - Micronaire'!$A$1:$A$20,1)))","v":""},{"$f":"IF(LEN(G253)=0,\"\",INDEX('Loan - Uniformity'!$C$1:$C$20,MATCH($G253,'Loan - Uniformity'!$A$1:$A$20,1)))","v":""},"","",{"$f":"IF(OR(LEN(B253)=0,LEN(C253)=0,LEN(D253)=0,LEN(E253)=0,LEN(F253)=0,LEN(G253)=0),\"\",IF('Base Values'!$B$8+(SUM($L253:$P253)/100)<0,0,'Base Values'!$B$8+(SUM(L253:P253)/100)))","v":""},null,{"$f":"IF(AND($T$13=TRUE,H253=1),'Loan - Extraneous'!B$3,IF(AND($T$13=TRUE,H253=2),'Loan - Extraneous'!C$3,0))","v":0},{"$f":"IF(I253=1,'Loan - Extraneous'!$B$4,IF(I253=2,'Loan - Extraneous'!$C$4,0))","v":0},{"$f":"IF(J253=1,'Loan - Extraneous'!$B$5,IF(J253=2,'Loan - Extraneous'!$C$5,0))","v":0}]
[null,null,null,null,null,null,null,null,null,null,"",{"$f":"IF(OR(LEN(B254)=0,LEN(C254)=0,LEN(D254)=0),\"\",IF(K254>=38,INDEX('Loan - Grade & Staple'!$A$1:$K$1000,MATCH($B254&$C254,'Loan - Grade & Staple'!$B$1:$B$1000&'Loan - Grade & Staple'!$C$1:$C$1000,0),MATCH(\"38+\",'Loan - Grade & Staple'!$A$3:$K$3,0)),IF(K254<=31,INDEX('Loan - Grade & Staple'!$A$1:$K$1000,MATCH($B254&$C254,'Loan - Grade & Staple'!$B$1:$B$1000&'Loan - Grade & Staple'!$C$1:$C$1000,0),MATCH(\"26-31\",'Loan - Grade & Staple'!$A$3:$K$3,0)),IF(ISNA(INDEX('Loan - Grade & Staple'!$A$1:$K$1000,MATCH($B254&C254,'Loan - Grade & Staple'!$B$1:$B$1000&'Loan - Grade & Staple'!$C$1:$C$1000,0),MATCH($K254,'Loan - Grade & Staple'!$A$3:$K$3,0))),-4000,INDEX('Loan - Grade & Staple'!$A$1:$K$1000,MATCH($B254&C254,'Loan - Grade & Staple'!$B$1:$B$1000&'Loan - Grade & Staple'!$C$1:$C$1000,0),MATCH($K254,'Loan - Grade & Staple'!$A$3:$K$3,0))))))","v":""},{"$f":"IF(LEN(E254)=0,\"\",INDEX('Loan - Strength'!$C$1:$C$18,MATCH(E254,'Loan - Strength'!$A$1:$A$18,1)))","v":""},{"$f":"IF(LEN(F254)=0,\"\",INDEX('Loan - Micronaire'!$C$1:$C$20,MATCH($F254,'Loan - Micronaire'!$A$1:$A$20,1)))","v":""},{"$f":"IF(LEN(G254)=0,\"\",INDEX('Loan - Uniformity'!$C$1:$C$20,MATCH($G254,'Loan - Uniformity'!$A$1:$A$20,1)))","v":""},"","",{"$f":"IF(OR(LEN(B254)=0,LEN(C254)=0,LEN(D254)=0,LEN(E254)=0,LEN(F254)=0,LEN(G254)=0),\"\",IF('Base Values'!$B$8+(SUM($L254:$P254)/100)<0,0,'Base Values'!$B$8+(SUM(L254:P254)/100)))","v":""},null,{"$f":"IF(AND($T$13=TRUE,H254=1),'Loan - Extraneous'!B$3,IF(AND($T$13=TRUE,H254=2),'Loan - Extraneous'!C$3,0))","v":0},{"$f":"IF(I254=1,'Loan - Extraneous'!$B$4,IF(I254=2,'Loan - Extraneous'!$C$4,0))","v":0},{"$f":"IF(J254=1,'Loan - Extraneous'!$B$5,IF(J254=2,'Loan - Extraneous'!$C$5,0))","v":0}]
[null,null,null,null,null,null,null,null,null,null,"",{"$f":"IF(OR(LEN(B255)=0,LEN(C255)=0,LEN(D255)=0),\"\",IF(K255>=38,INDEX('Loan - Grade & Staple'!$A$1:$K$1000,MATCH($B255&$C255,'Loan - Grade & Staple'!$B$1:$B$1000&'Loan - Grade & Staple'!$C$1:$C$1000,0),MATCH(\"38+\",'Loan - Grade & Staple'!$A$3:$K$3,0)),IF(K255<=31,INDEX('Loan - Grade & Staple'!$A$1:$K$1000,MATCH($B255&$C255,'Loan - Grade & Staple'!$B$1:$B$1000&'Loan - Grade & Staple'!$C$1:$C$1000,0),MATCH(\"26-31\",'Loan - Grade & Staple'!$A$3:$K$3,0)),IF(ISNA(INDEX('Loan - Grade & Staple'!$A$1:$K$1000,MATCH($B255&C255,'Loan - Grade & Staple'!$B$1:$B$1000&'Loan - Grade & Staple'!$C$1:$C$1000,0),MATCH($K255,'Loan - Grade & Staple'!$A$3:$K$3,0))),-4000,INDEX('Loan - Grade & Staple'!$A$1:$K$1000,MATCH($B255&C255,'Loan - Grade & Staple'!$B$1:$B$1000&'Loan - Grade & Staple'!$C$1:$C$1000,0),MATCH($K255,'Loan - Grade & Staple'!$A$3:$K$3,0))))))","v":""},{"$f":"IF(LEN(E255)=0,\"\",INDEX('Loan - Strength'!$C$1:$C$18,MATCH(E255,'Loan - Strength'!$A$1:$A$18,1)))","v":""},{"$f":"IF(LEN(F255)=0,\"\",INDEX('Loan - Micronaire'!$C$1:$C$20,MATCH($F255,'Loan - Micronaire'!$A$1:$A$20,1)))","v":""},{"$f":"IF(LEN(G255)=0,\"\",INDEX('Loan - Uniformity'!$C$1:$C$20,MATCH($G255,'Loan - Uniformity'!$A$1:$A$20,1)))","v":""},"","",{"$f":"IF(OR(LEN(B255)=0,LEN(C255)=0,LEN(D255)=0,LEN(E255)=0,LEN(F255)=0,LEN(G255)=0),\"\",IF('Base Values'!$B$8+(SUM($L255:$P255)/100)<0,0,'Base Values'!$B$8+(SUM(L255:P255)/100)))","v":""},null,{"$f":"IF(AND($T$13=TRUE,H255=1),'Loan - Extraneous'!B$3,IF(AND($T$13=TRUE,H255=2),'Loan - Extraneous'!C$3,0))","v":0},{"$f":"IF(I255=1,'Loan - Extraneous'!$B$4,IF(I255=2,'Loan - Extraneous'!$C$4,0))","v":0},{"$f":"IF(J255=1,'Loan - Extraneous'!$B$5,IF(J255=2,'Loan - Extraneous'!$C$5,0))","v":0}]
[null,null,null,null,null,null,null,null,null,null,"",{"$f":"IF(OR(LEN(B256)=0,LEN(C256)=0,LEN(D256)=0),\"\",IF(K256>=38,INDEX('Loan - Grade & Staple'!$A$1:$K$1000,MATCH($B256&$C256,'Loan - Grade & Staple'!$B$1:$B$1000&'Loan - Grade & Staple'!$C$1:$C$1000,0),MATCH(\"38+\",'Loan - Grade & Staple'!$A$3:$K$3,0)),IF(K256<=31,INDEX('Loan - Grade & Staple'!$A$1:$K$1000,MATCH($B256&$C256,'Loan - Grade & Staple'!$B$1:$B$1000&'Loan - Grade & Staple'!$C$1:$C$1000,0),MATCH(\"26-31\",'Loan - Grade & Staple'!$A$3:$K$3,0)),IF(ISNA(INDEX('Loan - Grade & Staple'!$A$1:$K$1000,MATCH($B256&C256,'Loan - Grade & Staple'!$B$1:$B$1000&'Loan - Grade & Staple'!$C$1:$C$1000,0),MATCH($K256,'Loan - Grade & Staple'!$A$3:$K$3,0))),-4000,INDEX('Loan - Grade & Staple'!$A$1:$K$1000,MATCH($B256&C256,'Loan - Grade & Staple'!$B$1:$B$1000&'Loan - Grade & Staple'!$C$1:$C$1000,0),MATCH($K256,'Loan - Grade & Staple'!$A$3:$K$3,0))))))","v":""},{"$f":"IF(LEN(E256)=0,\"\",INDEX('Loan - Strength'!$C$1:$C$18,MATCH(E256,'Loan - Strength'!$A$1:$A$18,1)))","v":""},{"$f":"IF(LEN(F256)=0,\"\",INDEX('Loan - Micronaire'!$C$1:$C$20,MATCH($F256,'Loan - Micronaire'!$A$1:$A$20,1)))","v":""},{"$f":"IF(LEN(G256)=0,\"\",INDEX('Loan - Uniformity'!$C$1:$C$20,MATCH($G256,'Loan - Uniformity'!$A$1:$A$20,1)))","v":""},"","",{"$f":"IF(OR(LEN(B256)=0,LEN(C256)=0,LEN(D256)=0,LEN(E256)=0,LEN(F256)=0,LEN(G256)=0),\"\",IF('Base Values'!$B$8+(SUM($L256:$P256)/100)<0,0,'Base Values'!$B$8+(SUM(L256:P256)/100)))","v":""},null,{"$f":"IF(AND($T$13=TRUE,H256=1),'Loan - Extraneous'!B$3,IF(AND($T$13=TRUE,H256=2),'Loan - Extraneous'!C$3,0))","v":0},{"$f":"IF(I256=1,'Loan - Extraneous'!$B$4,IF(I256=2,'Loan - Extraneous'!$C$4,0))","v":0},{"$f":"IF(J256=1,'Loan - Extraneous'!$B$5,IF(J256=2,'Loan - Extraneous'!$C$5,0))","v":0}]
[null,null,null,null,null,null,null,null,null,null,"",{"$f":"IF(OR(LEN(B257)=0,LEN(C257)=0,LEN(D257)=0),\"\",IF(K257>=38,INDEX('Loan - Grade & Staple'!$A$1:$K$1000,MATCH($B257&$C257,'Loan - Grade & Staple'!$B$1:$B$1000&'Loan - Grade & Staple'!$C$1:$C$1000,0),MATCH(\"38+\",'Loan - Grade & Staple'!$A$3:$K$3,0)),IF(K257<=31,INDEX('Loan - Grade & Staple'!$A$1:$K$1000,MATCH($B257&$C257,'Loan - Grade & Staple'!$B$1:$B$1000&'Loan - Grade & Staple'!$C$1:$C$1000,0),MATCH(\"26-31\",'Loan - Grade & Staple'!$A$3:$K$3,0)),IF(ISNA(INDEX('Loan - Grade & Staple'!$A$1:$K$1000,MATCH($B257&C257,'Loan - Grade & Staple'!$B$1:$B$1000&'Loan - Grade & Staple'!$C$1:$C$1000,0),MATCH($K257,'Loan - Grade & Staple'!$A$3:$K$3,0))),-4000,INDEX('Loan - Grade & Staple'!$A$1:$K$1000,MATCH($B257&C257,'Loan - Grade & Staple'!$B$1:$B$1000&'Loan - Grade & Staple'!$C$1:$C$1000,0),MATCH($K257,'Loan - Grade & Staple'!$A$3:$K$3,0))))))","v":""},{"$f":"IF(LEN(E257)=0,\"\",INDEX('Loan - Strength'!$C$1:$C$18,MATCH(E257,'Loan - Strength'!$A$1:$A$18,1)))","v":""},{"$f":"IF(LEN(F257)=0,\"\",INDEX('Loan - Micronaire'!$C$1:$C$20,MATCH($F257,'Loan - Micronaire'!$A$1:$A$20,1)))","v":""},{"$f":"IF(LEN(G257)=0,\"\",INDEX('Loan - Uniformity'!$C$1:$C$20,MATCH($G257,'Loan - Uniformity'!$A$1:$A$20,1)))","v":""},"","",{"$f":"IF(OR(LEN(B257)=0,LEN(C257)=0,LEN(D257)=0,LEN(E257)=0,LEN(F257)=0,LEN(G257)=0),\"\",IF('Base Values'!$B$8+(SUM($L257:$P257)/100)<0,0,'Base Values'!$B$8+(SUM(L257:P257)/100)))","v":""},null,{"$f":"IF(AND($T$13=TRUE,H257=1),'Loan - Extraneous'!B$3,IF(AND($T$13=TRUE,H257=2),'Loan - Extraneous'!C$3,0))","v":0},{"$f":"IF(I257=1,'Loan - Extraneous'!$B$4,IF(I257=2,'Loan - Extraneous'!$C$4,0))","v":0},{"$f":"IF(J257=1,'Loan - Extraneous'!$B$5,IF(J257=2,'Loan - Extraneous'!$C$5,0))","v":0}]
[null,null,null,null,null,null,null,null,null,null,"",{"$f":"IF(OR(LEN(B258)=0,LEN(C258)=0,LEN(D258)=0),\"\",IF(K258>=38,INDEX('Loan - Grade & Staple'!$A$1:$K$1000,MATCH($B258&$C258,'Loan - Grade & Staple'!$B$1:$B$1000&'Loan - Grade & Staple'!$C$1:$C$1000,0),MATCH(\"38+\",'Loan - Grade & Staple'!$A$3:$K$3,0)),IF(K258<=31,INDEX('Loan - Grade & Staple'!$A$1:$K$1000,MATCH($B258&$C258,'Loan - Grade & Staple'!$B$1:$B$1000&'Loan - Grade & Staple'!$C$1:$C$1000,0),MATCH(\"26-31\",'Loan - Grade & Staple'!$A$3:$K$3,0)),IF(ISNA(INDEX('Loan - Grade & Staple'!$A$1:$K$1000,MATCH($B258&C258,'Loan - Grade & Staple'!$B$1:$B$1000&'Loan - Grade & Staple'!$C$1:$C$1000,0),MATCH($K258,'Loan - Grade & Staple'!$A$3:$K$3,0))),-4000,INDEX('Loan - Grade & Staple'!$A$1:$K$1000,MATCH($B258&C258,'Loan - Grade & Staple'!$B$1:$B$1000&'Loan - Grade & Staple'!$C$1:$C$1000,0),MATCH($K258,'Loan - Grade & Staple'!$A$3:$K$3,0))))))","v":""},{"$f":"IF(LEN(E258)=0,\"\",INDEX('Loan - Strength'!$C$1:$C$18,MATCH(E258,'Loan - Strength'!$A$1:$A$18,1)))","v":""},{"$f":"IF(LEN(F258)=0,\"\",INDEX('Loan - Micronaire'!$C$1:$C$20,MATCH($F258,'Loan - Micronaire'!$A$1:$A$20,1)))","v":""},{"$f":"IF(LEN(G258)=0,\"\",INDEX('Loan - Uniformity'!$C$1:$C$20,MATCH($G258,'Loan - Uniformity'!$A$1:$A$20,1)))","v":""},"","",{"$f":"IF(OR(LEN(B258)=0,LEN(C258)=0,LEN(D258)=0,LEN(E258)=0,LEN(F258)=0,LEN(G258)=0),\"\",IF('Base Values'!$B$8+(SUM($L258:$P258)/100)<0,0,'Base Values'!$B$8+(SUM(L258:P258)/100)))","v":""},null,{"$f":"IF(AND($T$13=TRUE,H258=1),'Loan - Extraneous'!B$3,IF(AND($T$13=TRUE,H258=2),'Loan - Extraneous'!C$3,0))","v":0},{"$f":"IF(I258=1,'Loan - Extraneous'!$B$4,IF(I258=2,'Loan - Extraneous'!$C$4,0))","v":0},{"$f":"IF(J258=1,'Loan - Extraneous'!$B$5,IF(J258=2,'Loan - Extraneous'!$C$5,0))","v":0}]
[null,null,null,null,null,null,null,null,null,null,"",{"$f":"IF(OR(LEN(B259)=0,LEN(C259)=0,LEN(D259)=0),\"\",IF(K259>=38,INDEX('Loan - Grade & Staple'!$A$1:$K$1000,MATCH($B259&$C259,'Loan - Grade & Staple'!$B$1:$B$1000&'Loan - Grade & Staple'!$C$1:$C$1000,0),MATCH(\"38+\",'Loan - Grade & Staple'!$A$3:$K$3,0)),IF(K259<=31,INDEX('Loan - Grade & Staple'!$A$1:$K$1000,MATCH($B259&$C259,'Loan - Grade & Staple'!$B$1:$B$1000&'Loan - Grade & Staple'!$C$1:$C$1000,0),MATCH(\"26-31\",'Loan - Grade & Staple'!$A$3:$K$3,0)),IF(ISNA(INDEX('Loan - Grade & Staple'!$A$1:$K$1000,MATCH($B259&C259,'Loan - Grade & Staple'!$B$1:$B$1000&'Loan - Grade & Staple'!$C$1:$C$1000,0),MATCH($K259,'Loan - Grade & Staple'!$A$3:$K$3,0))),-4000,INDEX('Loan - Grade & Staple'!$A$1:$K$1000,MATCH($B259&C259,'Loan - Grade & Staple'!$B$1:$B$1000&'Loan - Grade & Staple'!$C$1:$C$1000,0),MATCH($K259,'Loan - Grade & Staple'!$A$3:$K$3,0))))))","v":""},{"$f":"IF(LEN(E259)=0,\"\",INDEX('Loan - Strength'!$C$1:$C$18,MATCH(E259,'Loan - Strength'!$A$1:$A$18,1)))","v":""},{"$f":"IF(LEN(F259)=0,\"\",INDEX('Loan - Micronaire'!$C$1:$C$20,MATCH($F259,'Loan - Micronaire'!$A$1:$A$20,1)))","v":""},{"$f":"IF(LEN(G259)=0,\"\",INDEX('Loan - Uniformity'!$C$1:$C$20,MATCH($G259,'Loan - Uniformity'!$A$1:$A$20,1)))","v":""},"","",{"$f":"IF(OR(LEN(B259)=0,LEN(C259)=0,LEN(D259)=0,LEN(E259)=0,LEN(F259)=0,LEN(G259)=0),\"\",IF('Base Values'!$B$8+(SUM($L259:$P259)/100)<0,0,'Base Values'!$B$8+(SUM(L259:P259)/100)))","v":""},null,{"$f":"IF(AND($T$13=TRUE,H259=1),'Loan - Extraneous'!B$3,IF(AND($T$13=TRUE,H259=2),'Loan - Extraneous'!C$3,0))","v":0},{"$f":"IF(I259=1,'Loan - Extraneous'!$B$4,IF(I259=2,'Loan - Extraneous'!$C$4,0))","v":0},{"$f":"IF(J259=1,'Loan - Extraneous'!$B$5,IF(J259=2,'Loan - Extraneous'!$C$5,0))","v":0}]
[null,null,null,null,null,null,null,null,null,null,"",{"$f":"IF(OR(LEN(B260)=0,LEN(C260)=0,LEN(D260)=0),\"\",IF(K260>=38,INDEX('Loan - Grade & Staple'!$A$1:$K$1000,MATCH($B260&$C260,'Loan - Grade & Staple'!$B$1:$B$1000&'Loan - Grade & Staple'!$C$1:$C$1000,0),MATCH(\"38+\",'Loan - Grade & Staple'!$A$3:$K$3,0)),IF(K260<=31,INDEX('Loan - Grade & Staple'!$A$1:$K$1000,MATCH($B260&$C260,'Loan - Grade & Staple'!$B$1:$B$1000&'Loan - Grade & Staple'!$C$1:$C$1000,0),MATCH(\"26-31\",'Loan - Grade & Staple'!$A$3:$K$3,0)),IF(ISNA(INDEX('Loan - Grade & Staple'!$A$1:$K$1000,MATCH($B260&C260,'Loan - Grade & Staple'!$B$1:$B$1000&'Loan - Grade & Staple'!$C$1:$C$1000,0),MATCH($K260,'Loan - Grade & Staple'!$A$3:$K$3,0))),-4000,INDEX('Loan - Grade & Staple'!$A$1:$K$1000,MATCH($B260&C260,'Loan - Grade & Staple'!$B$1:$B$1000&'Loan - Grade & Staple'!$C$1:$C$1000,0),MATCH($K260,'Loan - Grade & Staple'!$A$3:$K$3,0))))))","v":""},{"$f":"IF(LEN(E260)=0,\"\",INDEX('Loan - Strength'!$C$1:$C$18,MATCH(E260,'Loan - Strength'!$A$1:$A$18,1)))","v":""},{"$f":"IF(LEN(F260)=0,\"\",INDEX('Loan - Micronaire'!$C$1:$C$20,MATCH($F260,'Loan - Micronaire'!$A$1:$A$20,1)))","v":""},{"$f":"IF(LEN(G260)=0,\"\",INDEX('Loan - Uniformity'!$C$1:$C$20,MATCH($G260,'Loan - Uniformity'!$A$1:$A$20,1)))","v":""},"","",{"$f":"IF(OR(LEN(B260)=0,LEN(C260)=0,LEN(D260)=0,LEN(E260)=0,LEN(F260)=0,LEN(G260)=0),\"\",IF('Base Values'!$B$8+(SUM($L260:$P260)/100)<0,0,'Base Values'!$B$8+(SUM(L260:P260)/100)))","v":""},null,{"$f":"IF(AND($T$13=TRUE,H260=1),'Loan - Extraneous'!B$3,IF(AND($T$13=TRUE,H260=2),'Loan - Extraneous'!C$3,0))","v":0},{"$f":"IF(I260=1,'Loan - Extraneous'!$B$4,IF(I260=2,'Loan - Extraneous'!$C$4,0))","v":0},{"$f":"IF(J260=1,'Loan - Extraneous'!$B$5,IF(J260=2,'Loan - Extraneous'!$C$5,0))","v":0}]
[null,null,null,null,null,null,null,null,null,null,"",{"$f":"IF(OR(LEN(B261)=0,LEN(C261)=0,LEN(D261)=0),\"\",IF(K261>=38,INDEX('Loan - Grade & Staple'!$A$1:$K$1000,MATCH($B261&$C261,'Loan - Grade & Staple'!$B$1:$B$1000&'Loan - Grade & Staple'!$C$1:$C$1000,0),MATCH(\"38+\",'Loan - Grade & Staple'!$A$3:$K$3,0)),IF(K261<=31,INDEX('Loan - Grade & Staple'!$A$1:$K$1000,MATCH($B261&$C261,'Loan - Grade & Staple'!$B$1:$B$1000&'Loan - Grade & Staple'!$C$1:$C$1000,0),MATCH(\"26-31\",'Loan - Grade & Staple'!$A$3:$K$3,0)),IF(ISNA(INDEX('Loan - Grade & Staple'!$A$1:$K$1000,MATCH($B261&C261,'Loan - Grade & Staple'!$B$1:$B$1000&'Loan - Grade & Staple'!$C$1:$C$1000,0),MATCH($K261,'Loan - Grade & Staple'!$A$3:$K$3,0))),-4000,INDEX('Loan - Grade & Staple'!$A$1:$K$1000,MATCH($B261&C261,'Loan - Grade & Staple'!$B$1:$B$1000&'Loan - Grade & Staple'!$C$1:$C$1000,0),MATCH($K261,'Loan - Grade & Staple'!$A$3:$K$3,0))))))","v":""},{"$f":"IF(LEN(E261)=0,\"\",INDEX('Loan - Strength'!$C$1:$C$18,MATCH(E261,'Loan - Strength'!$A$1:$A$18,1)))","v":""},{"$f":"IF(LEN(F261)=0,\"\",INDEX('Loan - Micronaire'!$C$1:$C$20,MATCH($F261,'Loan - Micronaire'!$A$1:$A$20,1)))","v":""},{"$f":"IF(LEN(G261)=0,\"\",INDEX('Loan - Uniformity'!$C$1:$C$20,MATCH($G261,'Loan - Uniformity'!$A$1:$A$20,1)))","v":""},"","",{"$f":"IF(OR(LEN(B261)=0,LEN(C261)=0,LEN(D261)=0,LEN(E261)=0,LEN(F261)=0,LEN(G261)=0),\"\",IF('Base Values'!$B$8+(SUM($L261:$P261)/100)<0,0,'Base Values'!$B$8+(SUM(L261:P261)/100)))","v":""},null,{"$f":"IF(AND($T$13=TRUE,H261=1),'Loan - Extraneous'!B$3,IF(AND($T$13=TRUE,H261=2),'Loan - Extraneous'!C$3,0))","v":0},{"$f":"IF(I261=1,'Loan - Extraneous'!$B$4,IF(I261=2,'Loan - Extraneous'!$C$4,0))","v":0},{"$f":"IF(J261=1,'Loan - Extraneous'!$B$5,IF(J261=2,'Loan - Extraneous'!$C$5,0))","v":0}]
[null,null,null,null,null,null,null,null,null,null,"",{"$f":"IF(OR(LEN(B262)=0,LEN(C262)=0,LEN(D262)=0),\"\",IF(K262>=38,INDEX('Loan - Grade & Staple'!$A$1:$K$1000,MATCH($B262&$C262,'Loan - Grade & Staple'!$B$1:$B$1000&'Loan - Grade & Staple'!$C$1:$C$1000,0),MATCH(\"38+\",'Loan - Grade & Staple'!$A$3:$K$3,0)),IF(K262<=31,INDEX('Loan - Grade & Staple'!$A$1:$K$1000,MATCH($B262&$C262,'Loan - Grade & Staple'!$B$1:$B$1000&'Loan - Grade & Staple'!$C$1:$C$1000,0),MATCH(\"26-31\",'Loan - Grade & Staple'!$A$3:$K$3,0)),IF(ISNA(INDEX('Loan - Grade & Staple'!$A$1:$K$1000,MATCH($B262&C262,'Loan - Grade & Staple'!$B$1:$B$1000&'Loan - Grade & Staple'!$C$1:$C$1000,0),MATCH($K262,'Loan - Grade & Staple'!$A$3:$K$3,0))),-4000,INDEX('Loan - Grade & Staple'!$A$1:$K$1000,MATCH($B262&C262,'Loan - Grade & Staple'!$B$1:$B$1000&'Loan - Grade & Staple'!$C$1:$C$1000,0),MATCH($K262,'Loan - Grade & Staple'!$A$3:$K$3,0))))))","v":""},{"$f":"IF(LEN(E262)=0,\"\",INDEX('Loan - Strength'!$C$1:$C$18,MATCH(E262,'Loan - Strength'!$A$1:$A$18,1)))","v":""},{"$f":"IF(LEN(F262)=0,\"\",INDEX('Loan - Micronaire'!$C$1:$C$20,MATCH($F262,'Loan - Micronaire'!$A$1:$A$20,1)))","v":""},{"$f":"IF(LEN(G262)=0,\"\",INDEX('Loan - Uniformity'!$C$1:$C$20,MATCH($G262,'Loan - Uniformity'!$A$1:$A$20,1)))","v":""},"","",{"$f":"IF(OR(LEN(B262)=0,LEN(C262)=0,LEN(D262)=0,LEN(E262)=0,LEN(F262)=0,LEN(G262)=0),\"\",IF('Base Values'!$B$8+(SUM($L262:$P262)/100)<0,0,'Base Values'!$B$8+(SUM(L262:P262)/100)))","v":""},null,{"$f":"IF(AND($T$13=TRUE,H262=1),'Loan - Extraneous'!B$3,IF(AND($T$13=TRUE,H262=2),'Loan - Extraneous'!C$3,0))","v":0},{"$f":"IF(I262=1,'Loan - Extraneous'!$B$4,IF(I262=2,'Loan - Extraneous'!$C$4,0))","v":0},{"$f":"IF(J262=1,'Loan - Extraneous'!$B$5,IF(J262=2,'Loan - Extraneous'!$C$5,0))","v":0}]
[null,null,null,null,null,null,null,null,null,null,"",{"$f":"IF(OR(LEN(B263)=0,LEN(C263)=0,LEN(D263)=0),\"\",IF(K263>=38,INDEX('Loan - Grade & Staple'!$A$1:$K$1000,MATCH($B263&$C263,'Loan - Grade & Staple'!$B$1:$B$1000&'Loan - Grade & Staple'!$C$1:$C$1000,0),MATCH(\"38+\",'Loan - Grade & Staple'!$A$3:$K$3,0)),IF(K263<=31,INDEX('Loan - Grade & Staple'!$A$1:$K$1000,MATCH($B263&$C263,'Loan - Grade & Staple'!$B$1:$B$1000&'Loan - Grade & Staple'!$C$1:$C$1000,0),MATCH(\"26-31\",'Loan - Grade & Staple'!$A$3:$K$3,0)),IF(ISNA(INDEX('Loan - Grade & Staple'!$A$1:$K$1000,MATCH($B263&C263,'Loan - Grade & Staple'!$B$1:$B$1000&'Loan - Grade & Staple'!$C$1:$C$1000,0),MATCH($K263,'Loan - Grade & Staple'!$A$3:$K$3,0))),-4000,INDEX('Loan - Grade & Staple'!$A$1:$K$1000,MATCH($B263&C263,'Loan - Grade & Staple'!$B$1:$B$1000&'Loan - Grade & Staple'!$C$1:$C$1000,0),MATCH($K263,'Loan - Grade & Staple'!$A$3:$K$3,0))))))","v":""},{"$f":"IF(LEN(E263)=0,\"\",INDEX('Loan - Strength'!$C$1:$C$18,MATCH(E263,'Loan - Strength'!$A$1:$A$18,1)))","v":""},{"$f":"IF(LEN(F263)=0,\"\",INDEX('Loan - Micronaire'!$C$1:$C$20,MATCH($F263,'Loan - Micronaire'!$A$1:$A$20,1)))","v":""},{"$f":"IF(LEN(G263)=0,\"\",INDEX('Loan - Uniformity'!$C$1:$C$20,MATCH($G263,'Loan - Uniformity'!$A$1:$A$20,1)))","v":""},"","",{"$f":"IF(OR(LEN(B263)=0,LEN(C263)=0,LEN(D263)=0,LEN(E263)=0,LEN(F263)=0,LEN(G263)=0),\"\",IF('Base Values'!$B$8+(SUM($L263:$P263)/100)<0,0,'Base Values'!$B$8+(SUM(L263:P263)/100)))","v":""},null,{"$f":"IF(AND($T$13=TRUE,H263=1),'Loan - Extraneous'!B$3,IF(AND($T$13=TRUE,H263=2),'Loan - Extraneous'!C$3,0))","v":0},{"$f":"IF(I263=1,'Loan - Extraneous'!$B$4,IF(I263=2,'Loan - Extraneous'!$C$4,0))","v":0},{"$f":"IF(J263=1,'Loan - Extraneous'!$B$5,IF(J263=2,'Loan - Extraneous'!$C$5,0))","v":0}]
[null,null,null,null,null,null,null,null,null,null,"",{"$f":"IF(OR(LEN(B264)=0,LEN(C264)=0,LEN(D264)=0),\"\",IF(K264>=38,INDEX('Loan - Grade & Staple'!$A$1:$K$1000,MATCH($B264&$C264,'Loan - Grade & Staple'!$B$1:$B$1000&'Loan - Grade & Staple'!$C$1:$C$1000,0),MATCH(\"38+\",'Loan - Grade & Staple'!$A$3:$K$3,0)),IF(K264<=31,INDEX('Loan - Grade & Staple'!$A$1:$K$1000,MATCH($B264&$C264,'Loan - Grade & Staple'!$B$1:$B$1000&'Loan - Grade & Staple'!$C$1:$C$1000,0),MATCH(\"26-31\",'Loan - Grade & Staple'!$A$3:$K$3,0)),IF(ISNA(INDEX('Loan - Grade & Staple'!$A$1:$K$1000,MATCH($B264&C264,'Loan - Grade & Staple'!$B$1:$B$1000&'Loan - Grade & Staple'!$C$1:$C$1000,0),MATCH($K264,'Loan - Grade & Staple'!$A$3:$K$3,0))),-4000,INDEX('Loan - Grade & Staple'!$A$1:$K$1000,MATCH($B264&C264,'Loan - Grade & Staple'!$B$1:$B$1000&'Loan - Grade & Staple'!$C$1:$C$1000,0),MATCH($K264,'Loan - Grade & Staple'!$A$3:$K$3,0))))))","v":""},{"$f":"IF(LEN(E264)=0,\"\",INDEX('Loan - Strength'!$C$1:$C$18,MATCH(E264,'Loan - Strength'!$A$1:$A$18,1)))","v":""},{"$f":"IF(LEN(F264)=0,\"\",INDEX('Loan - Micronaire'!$C$1:$C$20,MATCH($F264,'Loan - Micronaire'!$A$1:$A$20,1)))","v":""},{"$f":"IF(LEN(G264)=0,\"\",INDEX('Loan - Uniformity'!$C$1:$C$20,MATCH($G264,'Loan - Uniformity'!$A$1:$A$20,1)))","v":""},"","",{"$f":"IF(OR(LEN(B264)=0,LEN(C264)=0,LEN(D264)=0,LEN(E264)=0,LEN(F264)=0,LEN(G264)=0),\"\",IF('Base Values'!$B$8+(SUM($L264:$P264)/100)<0,0,'Base Values'!$B$8+(SUM(L264:P264)/100)))","v":""},null,{"$f":"IF(AND($T$13=TRUE,H264=1),'Loan - Extraneous'!B$3,IF(AND($T$13=TRUE,H264=2),'Loan - Extraneous'!C$3,0))","v":0},{"$f":"IF(I264=1,'Loan - Extraneous'!$B$4,IF(I264=2,'Loan - Extraneous'!$C$4,0))","v":0},{"$f":"IF(J264=1,'Loan - Extraneous'!$B$5,IF(J264=2,'Loan - Extraneous'!$C$5,0))","v":0}]
[null,null,null,null,null,null,null,null,null,null,"",{"$f":"IF(OR(LEN(B265)=0,LEN(C265)=0,LEN(D265)=0),\"\",IF(K265>=38,INDEX('Loan - Grade & Staple'!$A$1:$K$1000,MATCH($B265&$C265,'Loan - Grade & Staple'!$B$1:$B$1000&'Loan - Grade & Staple'!$C$1:$C$1000,0),MATCH(\"38+\",'Loan - Grade & Staple'!$A$3:$K$3,0)),IF(K265<=31,INDEX('Loan - Grade & Staple'!$A$1:$K$1000,MATCH($B265&$C265,'Loan - Grade & Staple'!$B$1:$B$1000&'Loan - Grade & Staple'!$C$1:$C$1000,0),MATCH(\"26-31\",'Loan - Grade & Staple'!$A$3:$K$3,0)),IF(ISNA(INDEX('Loan - Grade & Staple'!$A$1:$K$1000,MATCH($B265&C265,'Loan - Grade & Staple'!$B$1:$B$1000&'Loan - Grade & Staple'!$C$1:$C$1000,0),MATCH($K265,'Loan - Grade & Staple'!$A$3:$K$3,0))),-4000,INDEX('Loan - Grade & Staple'!$A$1:$K$1000,MATCH($B265&C265,'Loan - Grade & Staple'!$B$1:$B$1000&'Loan - Grade & Staple'!$C$1:$C$1000,0),MATCH($K265,'Loan - Grade & Staple'!$A$3:$K$3,0))))))","v":""},{"$f":"IF(LEN(E265)=0,\"\",INDEX('Loan - Strength'!$C$1:$C$18,MATCH(E265,'Loan - Strength'!$A$1:$A$18,1)))","v":""},{"$f":"IF(LEN(F265)=0,\"\",INDEX('Loan - Micronaire'!$C$1:$C$20,MATCH($F265,'Loan - Micronaire'!$A$1:$A$20,1)))","v":""},{"$f":"IF(LEN(G265)=0,\"\",INDEX('Loan - Uniformity'!$C$1:$C$20,MATCH($G265,'Loan - Uniformity'!$A$1:$A$20,1)))","v":""},"","",{"$f":"IF(OR(LEN(B265)=0,LEN(C265)=0,LEN(D265)=0,LEN(E265)=0,LEN(F265)=0,LEN(G265)=0),\"\",IF('Base Values'!$B$8+(SUM($L265:$P265)/100)<0,0,'Base Values'!$B$8+(SUM(L265:P265)/100)))","v":""},null,{"$f":"IF(AND($T$13=TRUE,H265=1),'Loan - Extraneous'!B$3,IF(AND($T$13=TRUE,H265=2),'Loan - Extraneous'!C$3,0))","v":0},{"$f":"IF(I265=1,'Loan - Extraneous'!$B$4,IF(I265=2,'Loan - Extraneous'!$C$4,0))","v":0},{"$f":"IF(J265=1,'Loan - Extraneous'!$B$5,IF(J265=2,'Loan - Extraneous'!$C$5,0))","v":0}]
[null,null,null,null,null,null,null,null,null,null,"",{"$f":"IF(OR(LEN(B266)=0,LEN(C266)=0,LEN(D266)=0),\"\",IF(K266>=38,INDEX('Loan - Grade & Staple'!$A$1:$K$1000,MATCH($B266&$C266,'Loan - Grade & Staple'!$B$1:$B$1000&'Loan - Grade & Staple'!$C$1:$C$1000,0),MATCH(\"38+\",'Loan - Grade & Staple'!$A$3:$K$3,0)),IF(K266<=31,INDEX('Loan - Grade & Staple'!$A$1:$K$1000,MATCH($B266&$C266,'Loan - Grade & Staple'!$B$1:$B$1000&'Loan - Grade & Staple'!$C$1:$C$1000,0),MATCH(\"26-31\",'Loan - Grade & Staple'!$A$3:$K$3,0)),IF(ISNA(INDEX('Loan - Grade & Staple'!$A$1:$K$1000,MATCH($B266&C266,'Loan - Grade & Staple'!$B$1:$B$1000&'Loan - Grade & Staple'!$C$1:$C$1000,0),MATCH($K266,'Loan - Grade & Staple'!$A$3:$K$3,0))),-4000,INDEX('Loan - Grade & Staple'!$A$1:$K$1000,MATCH($B266&C266,'Loan - Grade & Staple'!$B$1:$B$1000&'Loan - Grade & Staple'!$C$1:$C$1000,0),MATCH($K266,'Loan - Grade & Staple'!$A$3:$K$3,0))))))","v":""},{"$f":"IF(LEN(E266)=0,\"\",INDEX('Loan - Strength'!$C$1:$C$18,MATCH(E266,'Loan - Strength'!$A$1:$A$18,1)))","v":""},{"$f":"IF(LEN(F266)=0,\"\",INDEX('Loan - Micronaire'!$C$1:$C$20,MATCH($F266,'Loan - Micronaire'!$A$1:$A$20,1)))","v":""},{"$f":"IF(LEN(G266)=0,\"\",INDEX('Loan - Uniformity'!$C$1:$C$20,MATCH($G266,'Loan - Uniformity'!$A$1:$A$20,1)))","v":""},"","",{"$f":"IF(OR(LEN(B266)=0,LEN(C266)=0,LEN(D266)=0,LEN(E266)=0,LEN(F266)=0,LEN(G266)=0),\"\",IF('Base Values'!$B$8+(SUM($L266:$P266)/100)<0,0,'Base Values'!$B$8+(SUM(L266:P266)/100)))","v":""},null,{"$f":"IF(AND($T$13=TRUE,H266=1),'Loan - Extraneous'!B$3,IF(AND($T$13=TRUE,H266=2),'Loan - Extraneous'!C$3,0))","v":0},{"$f":"IF(I266=1,'Loan - Extraneous'!$B$4,IF(I266=2,'Loan - Extraneous'!$C$4,0))","v":0},{"$f":"IF(J266=1,'Loan - Extraneous'!$B$5,IF(J266=2,'Loan - Extraneous'!$C$5,0))","v":0}]
[null,null,null,null,null,null,null,null,null,null,"",{"$f":"IF(OR(LEN(B267)=0,LEN(C267)=0,LEN(D267)=0),\"\",IF(K267>=38,INDEX('Loan - Grade & Staple'!$A$1:$K$1000,MATCH($B267&$C267,'Loan - Grade & Staple'!$B$1:$B$1000&'Loan - Grade & Staple'!$C$1:$C$1000,0),MATCH(\"38+\",'Loan - Grade & Staple'!$A$3:$K$3,0)),IF(K267<=31,INDEX('Loan - Grade & Staple'!$A$1:$K$1000,MATCH($B267&$C267,'Loan - Grade & Staple'!$B$1:$B$1000&'Loan - Grade & Staple'!$C$1:$C$1000,0),MATCH(\"26-31\",'Loan - Grade & Staple'!$A$3:$K$3,0)),IF(ISNA(INDEX('Loan - Grade & Staple'!$A$1:$K$1000,MATCH($B267&C267,'Loan - Grade & Staple'!$B$1:$B$1000&'Loan - Grade & Staple'!$C$1:$C$1000,0),MATCH($K267,'Loan - Grade & Staple'!$A$3:$K$3,0))),-4000,INDEX('Loan - Grade & Staple'!$A$1:$K$1000,MATCH($B267&C267,'Loan - Grade & Staple'!$B$1:$B$1000&'Loan - Grade & Staple'!$C$1:$C$1000,0),MATCH($K267,'Loan - Grade & Staple'!$A$3:$K$3,0))))))","v":""},{"$f":"IF(LEN(E267)=0,\"\",INDEX('Loan - Strength'!$C$1:$C$18,MATCH(E267,'Loan - Strength'!$A$1:$A$18,1)))","v":""},{"$f":"IF(LEN(F267)=0,\"\",INDEX('Loan - Micronaire'!$C$1:$C$20,MATCH($F267,'Loan - Micronaire'!$A$1:$A$20,1)))","v":""},{"$f":"IF(LEN(G267)=0,\"\",INDEX('Loan - Uniformity'!$C$1:$C$20,MATCH($G267,'Loan - Uniformity'!$A$1:$A$20,1)))","v":""},"","",{"$f":"IF(OR(LEN(B267)=0,LEN(C267)=0,LEN(D267)=0,LEN(E267)=0,LEN(F267)=0,LEN(G267)=0),\"\",IF('Base Values'!$B$8+(SUM($L267:$P267)/100)<0,0,'Base Values'!$B$8+(SUM(L267:P267)/100)))","v":""},null,{"$f":"IF(AND($T$13=TRUE,H267=1),'Loan - Extraneous'!B$3,IF(AND($T$13=TRUE,H267=2),'Loan - Extraneous'!C$3,0))","v":0},{"$f":"IF(I267=1,'Loan - Extraneous'!$B$4,IF(I267=2,'Loan - Extraneous'!$C$4,0))","v":0},{"$f":"IF(J267=1,'Loan - Extraneous'!$B$5,IF(J267=2,'Loan - Extraneous'!$C$5,0))","v":0}]
[null,null,null,null,null,null,null,null,null,null,"",{"$f":"IF(OR(LEN(B268)=0,LEN(C268)=0,LEN(D268)=0),\"\",IF(K268>=38,INDEX('Loan - Grade & Staple'!$A$1:$K$1000,MATCH($B268&$C268,'Loan - Grade & Staple'!$B$1:$B$1000&'Loan - Grade & Staple'!$C$1:$C$1000,0),MATCH(\"38+\",'Loan - Grade & Staple'!$A$3:$K$3,0)),IF(K268<=31,INDEX('Loan - Grade & Staple'!$A$1:$K$1000,MATCH($B268&$C268,'Loan - Grade & Staple'!$B$1:$B$1000&'Loan - Grade & Staple'!$C$1:$C$1000,0),MATCH(\"26-31\",'Loan - Grade & Staple'!$A$3:$K$3,0)),IF(ISNA(INDEX('Loan - Grade & Staple'!$A$1:$K$1000,MATCH($B268&C268,'Loan - Grade & Staple'!$B$1:$B$1000&'Loan - Grade & Staple'!$C$1:$C$1000,0),MATCH($K268,'Loan - Grade & Staple'!$A$3:$K$3,0))),-4000,INDEX('Loan - Grade & Staple'!$A$1:$K$1000,MATCH($B268&C268,'Loan - Grade & Staple'!$B$1:$B$1000&'Loan - Grade & Staple'!$C$1:$C$1000,0),MATCH($K268,'Loan - Grade & Staple'!$A$3:$K$3,0))))))","v":""},{"$f":"IF(LEN(E268)=0,\"\",INDEX('Loan - Strength'!$C$1:$C$18,MATCH(E268,'Loan - Strength'!$A$1:$A$18,1)))","v":""},{"$f":"IF(LEN(F268)=0,\"\",INDEX('Loan - Micronaire'!$C$1:$C$20,MATCH($F268,'Loan - Micronaire'!$A$1:$A$20,1)))","v":""},{"$f":"IF(LEN(G268)=0,\"\",INDEX('Loan - Uniformity'!$C$1:$C$20,MATCH($G268,'Loan - Uniformity'!$A$1:$A$20,1)))","v":""},"","",{"$f":"IF(OR(LEN(B268)=0,LEN(C268)=0,LEN(D268)=0,LEN(E268)=0,LEN(F268)=0,LEN(G268)=0),\"\",IF('Base Values'!$B$8+(SUM($L268:$P268)/100)<0,0,'Base Values'!$B$8+(SUM(L268:P268)/100)))","v":""},null,{"$f":"IF(AND($T$13=TRUE,H268=1),'Loan - Extraneous'!B$3,IF(AND($T$13=TRUE,H268=2),'Loan - Extraneous'!C$3,0))","v":0},{"$f":"IF(I268=1,'Loan - Extraneous'!$B$4,IF(I268=2,'Loan - Extraneous'!$C$4,0))","v":0},{"$f":"IF(J268=1,'Loan - Extraneous'!$B$5,IF(J268=2,'Loan - Extraneous'!$C$5,0))","v":0}]
[null,null,null,null,null,null,null,null,null,null,"",{"$f":"IF(OR(LEN(B269)=0,LEN(C269)=0,LEN(D269)=0),\"\",IF(K269>=38,INDEX('Loan - Grade & Staple'!$A$1:$K$1000,MATCH($B269&$C269,'Loan - Grade & Staple'!$B$1:$B$1000&'Loan - Grade & Staple'!$C$1:$C$1000,0),MATCH(\"38+\",'Loan - Grade & Staple'!$A$3:$K$3,0)),IF(K269<=31,INDEX('Loan - Grade & Staple'!$A$1:$K$1000,MATCH($B269&$C269,'Loan - Grade & Staple'!$B$1:$B$1000&'Loan - Grade & Staple'!$C$1:$C$1000,0),MATCH(\"26-31\",'Loan - Grade & Staple'!$A$3:$K$3,0)),IF(ISNA(INDEX('Loan - Grade & Staple'!$A$1:$K$1000,MATCH($B269&C269,'Loan - Grade & Staple'!$B$1:$B$1000&'Loan - Grade & Staple'!$C$1:$C$1000,0),MATCH($K269,'Loan - Grade & Staple'!$A$3:$K$3,0))),-4000,INDEX('Loan - Grade & Staple'!$A$1:$K$1000,MATCH($B269&C269,'Loan - Grade & Staple'!$B$1:$B$1000&'Loan - Grade & Staple'!$C$1:$C$1000,0),MATCH($K269,'Loan - Grade & Staple'!$A$3:$K$3,0))))))","v":""},{"$f":"IF(LEN(E269)=0,\"\",INDEX('Loan - Strength'!$C$1:$C$18,MATCH(E269,'Loan - Strength'!$A$1:$A$18,1)))","v":""},{"$f":"IF(LEN(F269)=0,\"\",INDEX('Loan - Micronaire'!$C$1:$C$20,MATCH($F269,'Loan - Micronaire'!$A$1:$A$20,1)))","v":""},{"$f":"IF(LEN(G269)=0,\"\",INDEX('Loan - Uniformity'!$C$1:$C$20,MATCH($G269,'Loan - Uniformity'!$A$1:$A$20,1)))","v":""},"","",{"$f":"IF(OR(LEN(B269)=0,LEN(C269)=0,LEN(D269)=0,LEN(E269)=0,LEN(F269)=0,LEN(G269)=0),\"\",IF('Base Values'!$B$8+(SUM($L269:$P269)/100)<0,0,'Base Values'!$B$8+(SUM(L269:P269)/100)))","v":""},null,{"$f":"IF(AND($T$13=TRUE,H269=1),'Loan - Extraneous'!B$3,IF(AND($T$13=TRUE,H269=2),'Loan - Extraneous'!C$3,0))","v":0},{"$f":"IF(I269=1,'Loan - Extraneous'!$B$4,IF(I269=2,'Loan - Extraneous'!$C$4,0))","v":0},{"$f":"IF(J269=1,'Loan - Extraneous'!$B$5,IF(J269=2,'Loan - Extraneous'!$C$5,0))","v":0}]
[null,null,null,null,null,null,null,null,null,null,"",{"$f":"IF(OR(LEN(B270)=0,LEN(C270)=0,LEN(D270)=0),\"\",IF(K270>=38,INDEX('Loan - Grade & Staple'!$A$1:$K$1000,MATCH($B270&$C270,'Loan - Grade & Staple'!$B$1:$B$1000&'Loan - Grade & Staple'!$C$1:$C$1000,0),MATCH(\"38+\",'Loan - Grade & Staple'!$A$3:$K$3,0)),IF(K270<=31,INDEX('Loan - Grade & Staple'!$A$1:$K$1000,MATCH($B270&$C270,'Loan - Grade & Staple'!$B$1:$B$1000&'Loan - Grade & Staple'!$C$1:$C$1000,0),MATCH(\"26-31\",'Loan - Grade & Staple'!$A$3:$K$3,0)),IF(ISNA(INDEX('Loan - Grade & Staple'!$A$1:$K$1000,MATCH($B270&C270,'Loan - Grade & Staple'!$B$1:$B$1000&'Loan - Grade & Staple'!$C$1:$C$1000,0),MATCH($K270,'Loan - Grade & Staple'!$A$3:$K$3,0))),-4000,INDEX('Loan - Grade & Staple'!$A$1:$K$1000,MATCH($B270&C270,'Loan - Grade & Staple'!$B$1:$B$1000&'Loan - Grade & Staple'!$C$1:$C$1000,0),MATCH($K270,'Loan - Grade & Staple'!$A$3:$K$3,0))))))","v":""},{"$f":"IF(LEN(E270)=0,\"\",INDEX('Loan - Strength'!$C$1:$C$18,MATCH(E270,'Loan - Strength'!$A$1:$A$18,1)))","v":""},{"$f":"IF(LEN(F270)=0,\"\",INDEX('Loan - Micronaire'!$C$1:$C$20,MATCH($F270,'Loan - Micronaire'!$A$1:$A$20,1)))","v":""},{"$f":"IF(LEN(G270)=0,\"\",INDEX('Loan - Uniformity'!$C$1:$C$20,MATCH($G270,'Loan - Uniformity'!$A$1:$A$20,1)))","v":""},"","",{"$f":"IF(OR(LEN(B270)=0,LEN(C270)=0,LEN(D270)=0,LEN(E270)=0,LEN(F270)=0,LEN(G270)=0),\"\",IF('Base Values'!$B$8+(SUM($L270:$P270)/100)<0,0,'Base Values'!$B$8+(SUM(L270:P270)/100)))","v":""},null,{"$f":"IF(AND($T$13=TRUE,H270=1),'Loan - Extraneous'!B$3,IF(AND($T$13=TRUE,H270=2),'Loan - Extraneous'!C$3,0))","v":0},{"$f":"IF(I270=1,'Loan - Extraneous'!$B$4,IF(I270=2,'Loan - Extraneous'!$C$4,0))","v":0},{"$f":"IF(J270=1,'Loan - Extraneous'!$B$5,IF(J270=2,'Loan - Extraneous'!$C$5,0))","v":0}]
[null,null,null,null,null,null,null,null,null,null,"",{"$f":"IF(OR(LEN(B271)=0,LEN(C271)=0,LEN(D271)=0),\"\",IF(K271>=38,INDEX('Loan - Grade & Staple'!$A$1:$K$1000,MATCH($B271&$C271,'Loan - Grade & Staple'!$B$1:$B$1000&'Loan - Grade & Staple'!$C$1:$C$1000,0),MATCH(\"38+\",'Loan - Grade & Staple'!$A$3:$K$3,0)),IF(K271<=31,INDEX('Loan - Grade & Staple'!$A$1:$K$1000,MATCH($B271&$C271,'Loan - Grade & Staple'!$B$1:$B$1000&'Loan - Grade & Staple'!$C$1:$C$1000,0),MATCH(\"26-31\",'Loan - Grade & Staple'!$A$3:$K$3,0)),IF(ISNA(INDEX('Loan - Grade & Staple'!$A$1:$K$1000,MATCH($B271&C271,'Loan - Grade & Staple'!$B$1:$B$1000&'Loan - Grade & Staple'!$C$1:$C$1000,0),MATCH($K271,'Loan - Grade & Staple'!$A$3:$K$3,0))),-4000,INDEX('Loan - Grade & Staple'!$A$1:$K$1000,MATCH($B271&C271,'Loan - Grade & Staple'!$B$1:$B$1000&'Loan - Grade & Staple'!$C$1:$C$1000,0),MATCH($K271,'Loan - Grade & Staple'!$A$3:$K$3,0))))))","v":""},{"$f":"IF(LEN(E271)=0,\"\",INDEX('Loan - Strength'!$C$1:$C$18,MATCH(E271,'Loan - Strength'!$A$1:$A$18,1)))","v":""},{"$f":"IF(LEN(F271)=0,\"\",INDEX('Loan - Micronaire'!$C$1:$C$20,MATCH($F271,'Loan - Micronaire'!$A$1:$A$20,1)))","v":""},{"$f":"IF(LEN(G271)=0,\"\",INDEX('Loan - Uniformity'!$C$1:$C$20,MATCH($G271,'Loan - Uniformity'!$A$1:$A$20,1)))","v":""},"","",{"$f":"IF(OR(LEN(B271)=0,LEN(C271)=0,LEN(D271)=0,LEN(E271)=0,LEN(F271)=0,LEN(G271)=0),\"\",IF('Base Values'!$B$8+(SUM($L271:$P271)/100)<0,0,'Base Values'!$B$8+(SUM(L271:P271)/100)))","v":""},null,{"$f":"IF(AND($T$13=TRUE,H271=1),'Loan - Extraneous'!B$3,IF(AND($T$13=TRUE,H271=2),'Loan - Extraneous'!C$3,0))","v":0},{"$f":"IF(I271=1,'Loan - Extraneous'!$B$4,IF(I271=2,'Loan - Extraneous'!$C$4,0))","v":0},{"$f":"IF(J271=1,'Loan - Extraneous'!$B$5,IF(J271=2,'Loan - Extraneous'!$C$5,0))","v":0}]
[null,null,null,null,null,null,null,null,null,null,"",{"$f":"IF(OR(LEN(B272)=0,LEN(C272)=0,LEN(D272)=0),\"\",IF(K272>=38,INDEX('Loan - Grade & Staple'!$A$1:$K$1000,MATCH($B272&$C272,'Loan - Grade & Staple'!$B$1:$B$1000&'Loan - Grade & Staple'!$C$1:$C$1000,0),MATCH(\"38+\",'Loan - Grade & Staple'!$A$3:$K$3,0)),IF(K272<=31,INDEX('Loan - Grade & Staple'!$A$1:$K$1000,MATCH($B272&$C272,'Loan - Grade & Staple'!$B$1:$B$1000&'Loan - Grade & Staple'!$C$1:$C$1000,0),MATCH(\"26-31\",'Loan - Grade & Staple'!$A$3:$K$3,0)),IF(ISNA(INDEX('Loan - Grade & Staple'!$A$1:$K$1000,MATCH($B272&C272,'Loan - Grade & Staple'!$B$1:$B$1000&'Loan - Grade & Staple'!$C$1:$C$1000,0),MATCH($K272,'Loan - Grade & Staple'!$A$3:$K$3,0))),-4000,INDEX('Loan - Grade & Staple'!$A$1:$K$1000,MATCH($B272&C272,'Loan - Grade & Staple'!$B$1:$B$1000&'Loan - Grade & Staple'!$C$1:$C$1000,0),MATCH($K272,'Loan - Grade & Staple'!$A$3:$K$3,0))))))","v":""},{"$f":"IF(LEN(E272)=0,\"\",INDEX('Loan - Strength'!$C$1:$C$18,MATCH(E272,'Loan - Strength'!$A$1:$A$18,1)))","v":""},{"$f":"IF(LEN(F272)=0,\"\",INDEX('Loan - Micronaire'!$C$1:$C$20,MATCH($F272,'Loan - Micronaire'!$A$1:$A$20,1)))","v":""},{"$f":"IF(LEN(G272)=0,\"\",INDEX('Loan - Uniformity'!$C$1:$C$20,MATCH($G272,'Loan - Uniformity'!$A$1:$A$20,1)))","v":""},"","",{"$f":"IF(OR(LEN(B272)=0,LEN(C272)=0,LEN(D272)=0,LEN(E272)=0,LEN(F272)=0,LEN(G272)=0),\"\",IF('Base Values'!$B$8+(SUM($L272:$P272)/100)<0,0,'Base Values'!$B$8+(SUM(L272:P272)/100)))","v":""},null,{"$f":"IF(AND($T$13=TRUE,H272=1),'Loan - Extraneous'!B$3,IF(AND($T$13=TRUE,H272=2),'Loan - Extraneous'!C$3,0))","v":0},{"$f":"IF(I272=1,'Loan - Extraneous'!$B$4,IF(I272=2,'Loan - Extraneous'!$C$4,0))","v":0},{"$f":"IF(J272=1,'Loan - Extraneous'!$B$5,IF(J272=2,'Loan - Extraneous'!$C$5,0))","v":0}]
[null,null,null,null,null,null,null,null,null,null,"",{"$f":"IF(OR(LEN(B273)=0,LEN(C273)=0,LEN(D273)=0),\"\",IF(K273>=38,INDEX('Loan - Grade & Staple'!$A$1:$K$1000,MATCH($B273&$C273,'Loan - Grade & Staple'!$B$1:$B$1000&'Loan - Grade & Staple'!$C$1:$C$1000,0),MATCH(\"38+\",'Loan - Grade & Staple'!$A$3:$K$3,0)),IF(K273<=31,INDEX('Loan - Grade & Staple'!$A$1:$K$1000,MATCH($B273&$C273,'Loan - Grade & Staple'!$B$1:$B$1000&'Loan - Grade & Staple'!$C$1:$C$1000,0),MATCH(\"26-31\",'Loan - Grade & Staple'!$A$3:$K$3,0)),IF(ISNA(INDEX('Loan - Grade & Staple'!$A$1:$K$1000,MATCH($B273&C273,'Loan - Grade & Staple'!$B$1:$B$1000&'Loan - Grade & Staple'!$C$1:$C$1000,0),MATCH($K273,'Loan - Grade & Staple'!$A$3:$K$3,0))),-4000,INDEX('Loan - Grade & Staple'!$A$1:$K$1000,MATCH($B273&C273,'Loan - Grade & Staple'!$B$1:$B$1000&'Loan - Grade & Staple'!$C$1:$C$1000,0),MATCH($K273,'Loan - Grade & Staple'!$A$3:$K$3,0))))))","v":""},{"$f":"IF(LEN(E273)=0,\"\",INDEX('Loan - Strength'!$C$1:$C$18,MATCH(E273,'Loan - Strength'!$A$1:$A$18,1)))","v":""},{"$f":"IF(LEN(F273)=0,\"\",INDEX('Loan - Micronaire'!$C$1:$C$20,MATCH($F273,'Loan - Micronaire'!$A$1:$A$20,1)))","v":""},{"$f":"IF(LEN(G273)=0,\"\",INDEX('Loan - Uniformity'!$C$1:$C$20,MATCH($G273,'Loan - Uniformity'!$A$1:$A$20,1)))","v":""},"","",{"$f":"IF(OR(LEN(B273)=0,LEN(C273)=0,LEN(D273)=0,LEN(E273)=0,LEN(F273)=0,LEN(G273)=0),\"\",IF('Base Values'!$B$8+(SUM($L273:$P273)/100)<0,0,'Base Values'!$B$8+(SUM(L273:P273)/100)))","v":""},null,{"$f":"IF(AND($T$13=TRUE,H273=1),'Loan - Extraneous'!B$3,IF(AND($T$13=TRUE,H273=2),'Loan - Extraneous'!C$3,0))","v":0},{"$f":"IF(I273=1,'Loan - Extraneous'!$B$4,IF(I273=2,'Loan - Extraneous'!$C$4,0))","v":0},{"$f":"IF(J273=1,'Loan - Extraneous'!$B$5,IF(J273=2,'Loan - Extraneous'!$C$5,0))","v":0}]
[null,null,null,null,null,null,null,null,null,null,"",{"$f":"IF(OR(LEN(B274)=0,LEN(C274)=0,LEN(D274)=0),\"\",IF(K274>=38,INDEX('Loan - Grade & Staple'!$A$1:$K$1000,MATCH($B274&$C274,'Loan - Grade & Staple'!$B$1:$B$1000&'Loan - Grade & Staple'!$C$1:$C$1000,0),MATCH(\"38+\",'Loan - Grade & Staple'!$A$3:$K$3,0)),IF(K274<=31,INDEX('Loan - Grade & Staple'!$A$1:$K$1000,MATCH($B274&$C274,'Loan - Grade & Staple'!$B$1:$B$1000&'Loan - Grade & Staple'!$C$1:$C$1000,0),MATCH(\"26-31\",'Loan - Grade & Staple'!$A$3:$K$3,0)),IF(ISNA(INDEX('Loan - Grade & Staple'!$A$1:$K$1000,MATCH($B274&C274,'Loan - Grade & Staple'!$B$1:$B$1000&'Loan - Grade & Staple'!$C$1:$C$1000,0),MATCH($K274,'Loan - Grade & Staple'!$A$3:$K$3,0))),-4000,INDEX('Loan - Grade & Staple'!$A$1:$K$1000,MATCH($B274&C274,'Loan - Grade & Staple'!$B$1:$B$1000&'Loan - Grade & Staple'!$C$1:$C$1000,0),MATCH($K274,'Loan - Grade & Staple'!$A$3:$K$3,0))))))","v":""},{"$f":"IF(LEN(E274)=0,\"\",INDEX('Loan - Strength'!$C$1:$C$18,MATCH(E274,'Loan - Strength'!$A$1:$A$18,1)))","v":""},{"$f":"IF(LEN(F274)=0,\"\",INDEX('Loan - Micronaire'!$C$1:$C$20,MATCH($F274,'Loan - Micronaire'!$A$1:$A$20,1)))","v":""},{"$f":"IF(LEN(G274)=0,\"\",INDEX('Loan - Uniformity'!$C$1:$C$20,MATCH($G274,'Loan - Uniformity'!$A$1:$A$20,1)))","v":""},"","",{"$f":"IF(OR(LEN(B274)=0,LEN(C274)=0,LEN(D274)=0,LEN(E274)=0,LEN(F274)=0,LEN(G274)=0),\"\",IF('Base Values'!$B$8+(SUM($L274:$P274)/100)<0,0,'Base Values'!$B$8+(SUM(L274:P274)/100)))","v":""},null,{"$f":"IF(AND($T$13=TRUE,H274=1),'Loan - Extraneous'!B$3,IF(AND($T$13=TRUE,H274=2),'Loan - Extraneous'!C$3,0))","v":0},{"$f":"IF(I274=1,'Loan - Extraneous'!$B$4,IF(I274=2,'Loan - Extraneous'!$C$4,0))","v":0},{"$f":"IF(J274=1,'Loan - Extraneous'!$B$5,IF(J274=2,'Loan - Extraneous'!$C$5,0))","v":0}]
[null,null,null,null,null,null,null,null,null,null,"",{"$f":"IF(OR(LEN(B275)=0,LEN(C275)=0,LEN(D275)=0),\"\",IF(K275>=38,INDEX('Loan - Grade & Staple'!$A$1:$K$1000,MATCH($B275&$C275,'Loan - Grade & Staple'!$B$1:$B$1000&'Loan - Grade & Staple'!$C$1:$C$1000,0),MATCH(\"38+\",'Loan - Grade & Staple'!$A$3:$K$3,0)),IF(K275<=31,INDEX('Loan - Grade & Staple'!$A$1:$K$1000,MATCH($B275&$C275,'Loan - Grade & Staple'!$B$1:$B$1000&'Loan - Grade & Staple'!$C$1:$C$1000,0),MATCH(\"26-31\",'Loan - Grade & Staple'!$A$3:$K$3,0)),IF(ISNA(INDEX('Loan - Grade & Staple'!$A$1:$K$1000,MATCH($B275&C275,'Loan - Grade & Staple'!$B$1:$B$1000&'Loan - Grade & Staple'!$C$1:$C$1000,0),MATCH($K275,'Loan - Grade & Staple'!$A$3:$K$3,0))),-4000,INDEX('Loan - Grade & Staple'!$A$1:$K$1000,MATCH($B275&C275,'Loan - Grade & Staple'!$B$1:$B$1000&'Loan - Grade & Staple'!$C$1:$C$1000,0),MATCH($K275,'Loan - Grade & Staple'!$A$3:$K$3,0))))))","v":""},{"$f":"IF(LEN(E275)=0,\"\",INDEX('Loan - Strength'!$C$1:$C$18,MATCH(E275,'Loan - Strength'!$A$1:$A$18,1)))","v":""},{"$f":"IF(LEN(F275)=0,\"\",INDEX('Loan - Micronaire'!$C$1:$C$20,MATCH($F275,'Loan - Micronaire'!$A$1:$A$20,1)))","v":""},{"$f":"IF(LEN(G275)=0,\"\",INDEX('Loan - Uniformity'!$C$1:$C$20,MATCH($G275,'Loan - Uniformity'!$A$1:$A$20,1)))","v":""},"","",{"$f":"IF(OR(LEN(B275)=0,LEN(C275)=0,LEN(D275)=0,LEN(E275)=0,LEN(F275)=0,LEN(G275)=0),\"\",IF('Base Values'!$B$8+(SUM($L275:$P275)/100)<0,0,'Base Values'!$B$8+(SUM(L275:P275)/100)))","v":""},null,{"$f":"IF(AND($T$13=TRUE,H275=1),'Loan - Extraneous'!B$3,IF(AND($T$13=TRUE,H275=2),'Loan - Extraneous'!C$3,0))","v":0},{"$f":"IF(I275=1,'Loan - Extraneous'!$B$4,IF(I275=2,'Loan - Extraneous'!$C$4,0))","v":0},{"$f":"IF(J275=1,'Loan - Extraneous'!$B$5,IF(J275=2,'Loan - Extraneous'!$C$5,0))","v":0}]
[null,null,null,null,null,null,null,null,null,null,"",{"$f":"IF(OR(LEN(B276)=0,LEN(C276)=0,LEN(D276)=0),\"\",IF(K276>=38,INDEX('Loan - Grade & Staple'!$A$1:$K$1000,MATCH($B276&$C276,'Loan - Grade & Staple'!$B$1:$B$1000&'Loan - Grade & Staple'!$C$1:$C$1000,0),MATCH(\"38+\",'Loan - Grade & Staple'!$A$3:$K$3,0)),IF(K276<=31,INDEX('Loan - Grade & Staple'!$A$1:$K$1000,MATCH($B276&$C276,'Loan - Grade & Staple'!$B$1:$B$1000&'Loan - Grade & Staple'!$C$1:$C$1000,0),MATCH(\"26-31\",'Loan - Grade & Staple'!$A$3:$K$3,0)),IF(ISNA(INDEX('Loan - Grade & Staple'!$A$1:$K$1000,MATCH($B276&C276,'Loan - Grade & Staple'!$B$1:$B$1000&'Loan - Grade & Staple'!$C$1:$C$1000,0),MATCH($K276,'Loan - Grade & Staple'!$A$3:$K$3,0))),-4000,INDEX('Loan - Grade & Staple'!$A$1:$K$1000,MATCH($B276&C276,'Loan - Grade & Staple'!$B$1:$B$1000&'Loan - Grade & Staple'!$C$1:$C$1000,0),MATCH($K276,'Loan - Grade & Staple'!$A$3:$K$3,0))))))","v":""},{"$f":"IF(LEN(E276)=0,\"\",INDEX('Loan - Strength'!$C$1:$C$18,MATCH(E276,'Loan - Strength'!$A$1:$A$18,1)))","v":""},{"$f":"IF(LEN(F276)=0,\"\",INDEX('Loan - Micronaire'!$C$1:$C$20,MATCH($F276,'Loan - Micronaire'!$A$1:$A$20,1)))","v":""},{"$f":"IF(LEN(G276)=0,\"\",INDEX('Loan - Uniformity'!$C$1:$C$20,MATCH($G276,'Loan - Uniformity'!$A$1:$A$20,1)))","v":""},"","",{"$f":"IF(OR(LEN(B276)=0,LEN(C276)=0,LEN(D276)=0,LEN(E276)=0,LEN(F276)=0,LEN(G276)=0),\"\",IF('Base Values'!$B$8+(SUM($L276:$P276)/100)<0,0,'Base Values'!$B$8+(SUM(L276:P276)/100)))","v":""},null,{"$f":"IF(AND($T$13=TRUE,H276=1),'Loan - Extraneous'!B$3,IF(AND($T$13=TRUE,H276=2),'Loan - Extraneous'!C$3,0))","v":0},{"$f":"IF(I276=1,'Loan - Extraneous'!$B$4,IF(I276=2,'Loan - Extraneous'!$C$4,0))","v":0},{"$f":"IF(J276=1,'Loan - Extraneous'!$B$5,IF(J276=2,'Loan - Extraneous'!$C$5,0))","v":0}]
[null,null,null,null,null,null,null,null,null,null,"",{"$f":"IF(OR(LEN(B277)=0,LEN(C277)=0,LEN(D277)=0),\"\",IF(K277>=38,INDEX('Loan - Grade & Staple'!$A$1:$K$1000,MATCH($B277&$C277,'Loan - Grade & Staple'!$B$1:$B$1000&'Loan - Grade & Staple'!$C$1:$C$1000,0),MATCH(\"38+\",'Loan - Grade & Staple'!$A$3:$K$3,0)),IF(K277<=31,INDEX('Loan - Grade & Staple'!$A$1:$K$1000,MATCH($B277&$C277,'Loan - Grade & Staple'!$B$1:$B$1000&'Loan - Grade & Staple'!$C$1:$C$1000,0),MATCH(\"26-31\",'Loan - Grade & Staple'!$A$3:$K$3,0)),IF(ISNA(INDEX('Loan - Grade & Staple'!$A$1:$K$1000,MATCH($B277&C277,'Loan - Grade & Staple'!$B$1:$B$1000&'Loan - Grade & Staple'!$C$1:$C$1000,0),MATCH($K277,'Loan - Grade & Staple'!$A$3:$K$3,0))),-4000,INDEX('Loan - Grade & Staple'!$A$1:$K$1000,MATCH($B277&C277,'Loan - Grade & Staple'!$B$1:$B$1000&'Loan - Grade & Staple'!$C$1:$C$1000,0),MATCH($K277,'Loan - Grade & Staple'!$A$3:$K$3,0))))))","v":""},{"$f":"IF(LEN(E277)=0,\"\",INDEX('Loan - Strength'!$C$1:$C$18,MATCH(E277,'Loan - Strength'!$A$1:$A$18,1)))","v":""},{"$f":"IF(LEN(F277)=0,\"\",INDEX('Loan - Micronaire'!$C$1:$C$20,MATCH($F277,'Loan - Micronaire'!$A$1:$A$20,1)))","v":""},{"$f":"IF(LEN(G277)=0,\"\",INDEX('Loan - Uniformity'!$C$1:$C$20,MATCH($G277,'Loan - Uniformity'!$A$1:$A$20,1)))","v":""},"","",{"$f":"IF(OR(LEN(B277)=0,LEN(C277)=0,LEN(D277)=0,LEN(E277)=0,LEN(F277)=0,LEN(G277)=0),\"\",IF('Base Values'!$B$8+(SUM($L277:$P277)/100)<0,0,'Base Values'!$B$8+(SUM(L277:P277)/100)))","v":""},null,{"$f":"IF(AND($T$13=TRUE,H277=1),'Loan - Extraneous'!B$3,IF(AND($T$13=TRUE,H277=2),'Loan - Extraneous'!C$3,0))","v":0},{"$f":"IF(I277=1,'Loan - Extraneous'!$B$4,IF(I277=2,'Loan - Extraneous'!$C$4,0))","v":0},{"$f":"IF(J277=1,'Loan - Extraneous'!$B$5,IF(J277=2,'Loan - Extraneous'!$C$5,0))","v":0}]
[null,null,null,null,null,null,null,null,null,null,"",{"$f":"IF(OR(LEN(B278)=0,LEN(C278)=0,LEN(D278)=0),\"\",IF(K278>=38,INDEX('Loan - Grade & Staple'!$A$1:$K$1000,MATCH($B278&$C278,'Loan - Grade & Staple'!$B$1:$B$1000&'Loan - Grade & Staple'!$C$1:$C$1000,0),MATCH(\"38+\",'Loan - Grade & Staple'!$A$3:$K$3,0)),IF(K278<=31,INDEX('Loan - Grade & Staple'!$A$1:$K$1000,MATCH($B278&$C278,'Loan - Grade & Staple'!$B$1:$B$1000&'Loan - Grade & Staple'!$C$1:$C$1000,0),MATCH(\"26-31\",'Loan - Grade & Staple'!$A$3:$K$3,0)),IF(ISNA(INDEX('Loan - Grade & Staple'!$A$1:$K$1000,MATCH($B278&C278,'Loan - Grade & Staple'!$B$1:$B$1000&'Loan - Grade & Staple'!$C$1:$C$1000,0),MATCH($K278,'Loan - Grade & Staple'!$A$3:$K$3,0))),-4000,INDEX('Loan - Grade & Staple'!$A$1:$K$1000,MATCH($B278&C278,'Loan - Grade & Staple'!$B$1:$B$1000&'Loan - Grade & Staple'!$C$1:$C$1000,0),MATCH($K278,'Loan - Grade & Staple'!$A$3:$K$3,0))))))","v":""},{"$f":"IF(LEN(E278)=0,\"\",INDEX('Loan - Strength'!$C$1:$C$18,MATCH(E278,'Loan - Strength'!$A$1:$A$18,1)))","v":""},{"$f":"IF(LEN(F278)=0,\"\",INDEX('Loan - Micronaire'!$C$1:$C$20,MATCH($F278,'Loan - Micronaire'!$A$1:$A$20,1)))","v":""},{"$f":"IF(LEN(G278)=0,\"\",INDEX('Loan - Uniformity'!$C$1:$C$20,MATCH($G278,'Loan - Uniformity'!$A$1:$A$20,1)))","v":""},"","",{"$f":"IF(OR(LEN(B278)=0,LEN(C278)=0,LEN(D278)=0,LEN(E278)=0,LEN(F278)=0,LEN(G278)=0),\"\",IF('Base Values'!$B$8+(SUM($L278:$P278)/100)<0,0,'Base Values'!$B$8+(SUM(L278:P278)/100)))","v":""},null,{"$f":"IF(AND($T$13=TRUE,H278=1),'Loan - Extraneous'!B$3,IF(AND($T$13=TRUE,H278=2),'Loan - Extraneous'!C$3,0))","v":0},{"$f":"IF(I278=1,'Loan - Extraneous'!$B$4,IF(I278=2,'Loan - Extraneous'!$C$4,0))","v":0},{"$f":"IF(J278=1,'Loan - Extraneous'!$B$5,IF(J278=2,'Loan - Extraneous'!$C$5,0))","v":0}]
[null,null,null,null,null,null,null,null,null,null,"",{"$f":"IF(OR(LEN(B279)=0,LEN(C279)=0,LEN(D279)=0),\"\",IF(K279>=38,INDEX('Loan - Grade & Staple'!$A$1:$K$1000,MATCH($B279&$C279,'Loan - Grade & Staple'!$B$1:$B$1000&'Loan - Grade & Staple'!$C$1:$C$1000,0),MATCH(\"38+\",'Loan - Grade & Staple'!$A$3:$K$3,0)),IF(K279<=31,INDEX('Loan - Grade & Staple'!$A$1:$K$1000,MATCH($B279&$C279,'Loan - Grade & Staple'!$B$1:$B$1000&'Loan - Grade & Staple'!$C$1:$C$1000,0),MATCH(\"26-31\",'Loan - Grade & Staple'!$A$3:$K$3,0)),IF(ISNA(INDEX('Loan - Grade & Staple'!$A$1:$K$1000,MATCH($B279&C279,'Loan - Grade & Staple'!$B$1:$B$1000&'Loan - Grade & Staple'!$C$1:$C$1000,0),MATCH($K279,'Loan - Grade & Staple'!$A$3:$K$3,0))),-4000,INDEX('Loan - Grade & Staple'!$A$1:$K$1000,MATCH($B279&C279,'Loan - Grade & Staple'!$B$1:$B$1000&'Loan - Grade & Staple'!$C$1:$C$1000,0),MATCH($K279,'Loan - Grade & Staple'!$A$3:$K$3,0))))))","v":""},{"$f":"IF(LEN(E279)=0,\"\",INDEX('Loan - Strength'!$C$1:$C$18,MATCH(E279,'Loan - Strength'!$A$1:$A$18,1)))","v":""},{"$f":"IF(LEN(F279)=0,\"\",INDEX('Loan - Micronaire'!$C$1:$C$20,MATCH($F279,'Loan - Micronaire'!$A$1:$A$20,1)))","v":""},{"$f":"IF(LEN(G279)=0,\"\",INDEX('Loan - Uniformity'!$C$1:$C$20,MATCH($G279,'Loan - Uniformity'!$A$1:$A$20,1)))","v":""},"","",{"$f":"IF(OR(LEN(B279)=0,LEN(C279)=0,LEN(D279)=0,LEN(E279)=0,LEN(F279)=0,LEN(G279)=0),\"\",IF('Base Values'!$B$8+(SUM($L279:$P279)/100)<0,0,'Base Values'!$B$8+(SUM(L279:P279)/100)))","v":""},null,{"$f":"IF(AND($T$13=TRUE,H279=1),'Loan - Extraneous'!B$3,IF(AND($T$13=TRUE,H279=2),'Loan - Extraneous'!C$3,0))","v":0},{"$f":"IF(I279=1,'Loan - Extraneous'!$B$4,IF(I279=2,'Loan - Extraneous'!$C$4,0))","v":0},{"$f":"IF(J279=1,'Loan - Extraneous'!$B$5,IF(J279=2,'Loan - Extraneous'!$C$5,0))","v":0}]
[null,null,null,null,null,null,null,null,null,null,"",{"$f":"IF(OR(LEN(B280)=0,LEN(C280)=0,LEN(D280)=0),\"\",IF(K280>=38,INDEX('Loan - Grade & Staple'!$A$1:$K$1000,MATCH($B280&$C280,'Loan - Grade & Staple'!$B$1:$B$1000&'Loan - Grade & Staple'!$C$1:$C$1000,0),MATCH(\"38+\",'Loan - Grade & Staple'!$A$3:$K$3,0)),IF(K280<=31,INDEX('Loan - Grade & Staple'!$A$1:$K$1000,MATCH($B280&$C280,'Loan - Grade & Staple'!$B$1:$B$1000&'Loan - Grade & Staple'!$C$1:$C$1000,0),MATCH(\"26-31\",'Loan - Grade & Staple'!$A$3:$K$3,0)),IF(ISNA(INDEX('Loan - Grade & Staple'!$A$1:$K$1000,MATCH($B280&C280,'Loan - Grade & Staple'!$B$1:$B$1000&'Loan - Grade & Staple'!$C$1:$C$1000,0),MATCH($K280,'Loan - Grade & Staple'!$A$3:$K$3,0))),-4000,INDEX('Loan - Grade & Staple'!$A$1:$K$1000,MATCH($B280&C280,'Loan - Grade & Staple'!$B$1:$B$1000&'Loan - Grade & Staple'!$C$1:$C$1000,0),MATCH($K280,'Loan - Grade & Staple'!$A$3:$K$3,0))))))","v":""},{"$f":"IF(LEN(E280)=0,\"\",INDEX('Loan - Strength'!$C$1:$C$18,MATCH(E280,'Loan - Strength'!$A$1:$A$18,1)))","v":""},{"$f":"IF(LEN(F280)=0,\"\",INDEX('Loan - Micronaire'!$C$1:$C$20,MATCH($F280,'Loan - Micronaire'!$A$1:$A$20,1)))","v":""},{"$f":"IF(LEN(G280)=0,\"\",INDEX('Loan - Uniformity'!$C$1:$C$20,MATCH($G280,'Loan - Uniformity'!$A$1:$A$20,1)))","v":""},"","",{"$f":"IF(OR(LEN(B280)=0,LEN(C280)=0,LEN(D280)=0,LEN(E280)=0,LEN(F280)=0,LEN(G280)=0),\"\",IF('Base Values'!$B$8+(SUM($L280:$P280)/100)<0,0,'Base Values'!$B$8+(SUM(L280:P280)/100)))","v":""},null,{"$f":"IF(AND($T$13=TRUE,H280=1),'Loan - Extraneous'!B$3,IF(AND($T$13=TRUE,H280=2),'Loan - Extraneous'!C$3,0))","v":0},{"$f":"IF(I280=1,'Loan - Extraneous'!$B$4,IF(I280=2,'Loan - Extraneous'!$C$4,0))","v":0},{"$f":"IF(J280=1,'Loan - Extraneous'!$B$5,IF(J280=2,'Loan - Extraneous'!$C$5,0))","v":0}]
[null,null,null,null,null,null,null,null,null,null,"",{"$f":"IF(OR(LEN(B281)=0,LEN(C281)=0,LEN(D281)=0),\"\",IF(K281>=38,INDEX('Loan - Grade & Staple'!$A$1:$K$1000,MATCH($B281&$C281,'Loan - Grade & Staple'!$B$1:$B$1000&'Loan - Grade & Staple'!$C$1:$C$1000,0),MATCH(\"38+\",'Loan - Grade & Staple'!$A$3:$K$3,0)),IF(K281<=31,INDEX('Loan - Grade & Staple'!$A$1:$K$1000,MATCH($B281&$C281,'Loan - Grade & Staple'!$B$1:$B$1000&'Loan - Grade & Staple'!$C$1:$C$1000,0),MATCH(\"26-31\",'Loan - Grade & Staple'!$A$3:$K$3,0)),IF(ISNA(INDEX('Loan - Grade & Staple'!$A$1:$K$1000,MATCH($B281&C281,'Loan - Grade & Staple'!$B$1:$B$1000&'Loan - Grade & Staple'!$C$1:$C$1000,0),MATCH($K281,'Loan - Grade & Staple'!$A$3:$K$3,0))),-4000,INDEX('Loan - Grade & Staple'!$A$1:$K$1000,MATCH($B281&C281,'Loan - Grade & Staple'!$B$1:$B$1000&'Loan - Grade & Staple'!$C$1:$C$1000,0),MATCH($K281,'Loan - Grade & Staple'!$A$3:$K$3,0))))))","v":""},{"$f":"IF(LEN(E281)=0,\"\",INDEX('Loan - Strength'!$C$1:$C$18,MATCH(E281,'Loan - Strength'!$A$1:$A$18,1)))","v":""},{"$f":"IF(LEN(F281)=0,\"\",INDEX('Loan - Micronaire'!$C$1:$C$20,MATCH($F281,'Loan - Micronaire'!$A$1:$A$20,1)))","v":""},{"$f":"IF(LEN(G281)=0,\"\",INDEX('Loan - Uniformity'!$C$1:$C$20,MATCH($G281,'Loan - Uniformity'!$A$1:$A$20,1)))","v":""},"","",{"$f":"IF(OR(LEN(B281)=0,LEN(C281)=0,LEN(D281)=0,LEN(E281)=0,LEN(F281)=0,LEN(G281)=0),\"\",IF('Base Values'!$B$8+(SUM($L281:$P281)/100)<0,0,'Base Values'!$B$8+(SUM(L281:P281)/100)))","v":""},null,{"$f":"IF(AND($T$13=TRUE,H281=1),'Loan - Extraneous'!B$3,IF(AND($T$13=TRUE,H281=2),'Loan - Extraneous'!C$3,0))","v":0},{"$f":"IF(I281=1,'Loan - Extraneous'!$B$4,IF(I281=2,'Loan - Extraneous'!$C$4,0))","v":0},{"$f":"IF(J281=1,'Loan - Extraneous'!$B$5,IF(J281=2,'Loan - Extraneous'!$C$5,0))","v":0}]
[null,null,null,null,null,null,null,null,null,null,{"$f":"IF(LEN(D282)=0,\"\",ROUND(D282*32,0))","v":""},{"$f":"IF(OR(LEN(B282)=0,LEN(C282)=0,LEN(D282)=0),\"\",IF(K282>=38,INDEX('Loan - Grade & Staple'!$A$1:$K$1000,MATCH($B282&$C282,'Loan - Grade & Staple'!$B$1:$B$1000&'Loan - Grade & Staple'!$C$1:$C$1000,0),MATCH(\"38+\",'Loan - Grade & Staple'!$A$3:$K$3,0)),IF(K282<=31,INDEX('Loan - Grade & Staple'!$A$1:$K$1000,MATCH($B282&$C282,'Loan - Grade & Staple'!$B$1:$B$1000&'Loan - Grade & Staple'!$C$1:$C$1000,0),MATCH(\"26-31\",'Loan - Grade & Staple'!$A$3:$K$3,0)),IF(ISNA(INDEX('Loan - Grade & Staple'!$A$1:$K$1000,MATCH($B282&C282,'Loan - Grade & Staple'!$B$1:$B$1000&'Loan - Grade & Staple'!$C$1:$C$1000,0),MATCH($K282,'Loan - Grade & Staple'!$A$3:$K$3,0))),-4000,INDEX('Loan - Grade & Staple'!$A$1:$K$1000,MATCH($B282&C282,'Loan - Grade & Staple'!$B$1:$B$1000&'Loan - Grade & Staple'!$C$1:$C$1000,0),MATCH($K282,'Loan - Grade & Staple'!$A$3:$K$3,0))))))","v":""},{"$f":"IF(LEN(E282)=0,\"\",INDEX('Loan - Strength'!$C$1:$C$18,MATCH(E282,'Loan - Strength'!$A$1:$A$18,1)))","v":""},{"$f":"IF(LEN(F282)=0,\"\",INDEX('Loan - Micronaire'!$C$1:$C$20,MATCH($F282,'Loan - Micronaire'!$A$1:$A$20,1)))","v":""},{"$f":"IF(LEN(G282)=0,\"\",INDEX('Loan - Uniformity'!$C$1:$C$20,MATCH($G282,'Loan - Uniformity'!$A$1:$A$20,1)))","v":""},{"$f":"IF(LEN(A282)=0,\"\",SUM(T282:V282))","v":""},{"$f":"IF(OR(LEN(B282)=0,LEN(C282)=0,LEN(D282)=0,LEN(E282)=0,LEN(F282)=0,LEN(G282)=0),\"\",SUM(L282:P282))","v":""},{"$f":"IF(OR(LEN(B282)=0,LEN(C282)=0,LEN(D282)=0,LEN(E282)=0,LEN(F282)=0,LEN(G282)=0),\"\",IF('Base Values'!$B$8+(SUM($L282:$P282)/100)<0,0,'Base Values'!$B$8+(SUM(L282:P282)/100)))","v":""},null,{"$f":"IF(AND($T$13=TRUE,H282=1),'Loan - Extraneous'!B$3,IF(AND($T$13=TRUE,H282=2),'Loan - Extraneous'!C$3,0))","v":0},{"$f":"IF(I282=1,'Loan - Extraneous'!$B$4,IF(I282=2,'Loan - Extraneous'!$C$4,0))","v":0},{"$f":"IF(J282=1,'Loan - Extraneous'!$B$5,IF(J282=2,'Loan - Extraneous'!$C$5,0))","v":0}]
[null,null,null,null,null,null,null,null,null,null,"",{"$f":"IF(OR(LEN(B283)=0,LEN(C283)=0,LEN(D283)=0),\"\",IF(K283>=38,INDEX('Loan - Grade & Staple'!$A$1:$K$1000,MATCH($B283&$C283,'Loan - Grade & Staple'!$B$1:$B$1000&'Loan - Grade & Staple'!$C$1:$C$1000,0),MATCH(\"38+\",'Loan - Grade & Staple'!$A$3:$K$3,0)),IF(K283<=31,INDEX('Loan - Grade & Staple'!$A$1:$K$1000,MATCH($B283&$C283,'Loan - Grade & Staple'!$B$1:$B$1000&'Loan - Grade & Staple'!$C$1:$C$1000,0),MATCH(\"26-31\",'Loan - Grade & Staple'!$A$3:$K$3,0)),IF(ISNA(INDEX('Loan - Grade & Staple'!$A$1:$K$1000,MATCH($B283&C283,'Loan - Grade & Staple'!$B$1:$B$1000&'Loan - Grade & Staple'!$C$1:$C$1000,0),MATCH($K283,'Loan - Grade & Staple'!$A$3:$K$3,0))),-4000,INDEX('Loan - Grade & Staple'!$A$1:$K$1000,MATCH($B283&C283,'Loan - Grade & Staple'!$B$1:$B$1000&'Loan - Grade & Staple'!$C$1:$C$1000,0),MATCH($K283,'Loan - Grade & Staple'!$A$3:$K$3,0))))))","v":""},{"$f":"IF(LEN(E283)=0,\"\",INDEX('Loan - Strength'!$C$1:$C$18,MATCH(E283,'Loan - Strength'!$A$1:$A$18,1)))","v":""},{"$f":"IF(LEN(F283)=0,\"\",INDEX('Loan - Micronaire'!$C$1:$C$20,MATCH($F283,'Loan - Micronaire'!$A$1:$A$20,1)))","v":""},{"$f":"IF(LEN(G283)=0,\"\",INDEX('Loan - Uniformity'!$C$1:$C$20,MATCH($G283,'Loan - Uniformity'!$A$1:$A$20,1)))","v":""},"","",{"$f":"IF(OR(LEN(B283)=0,LEN(C283)=0,LEN(D283)=0,LEN(E283)=0,LEN(F283)=0,LEN(G283)=0),\"\",IF('Base Values'!$B$8+(SUM($L283:$P283)/100)<0,0,'Base Values'!$B$8+(SUM(L283:P283)/100)))","v":""},null,{"$f":"IF(AND($T$13=TRUE,H283=1),'Loan - Extraneous'!B$3,IF(AND($T$13=TRUE,H283=2),'Loan - Extraneous'!C$3,0))","v":0},{"$f":"IF(I283=1,'Loan - Extraneous'!$B$4,IF(I283=2,'Loan - Extraneous'!$C$4,0))","v":0},{"$f":"IF(J283=1,'Loan - Extraneous'!$B$5,IF(J283=2,'Loan - Extraneous'!$C$5,0))","v":0}]
[null,null,null,null,null,null,null,null,null,null,"",{"$f":"IF(OR(LEN(B284)=0,LEN(C284)=0,LEN(D284)=0),\"\",IF(K284>=38,INDEX('Loan - Grade & Staple'!$A$1:$K$1000,MATCH($B284&$C284,'Loan - Grade & Staple'!$B$1:$B$1000&'Loan - Grade & Staple'!$C$1:$C$1000,0),MATCH(\"38+\",'Loan - Grade & Staple'!$A$3:$K$3,0)),IF(K284<=31,INDEX('Loan - Grade & Staple'!$A$1:$K$1000,MATCH($B284&$C284,'Loan - Grade & Staple'!$B$1:$B$1000&'Loan - Grade & Staple'!$C$1:$C$1000,0),MATCH(\"26-31\",'Loan - Grade & Staple'!$A$3:$K$3,0)),IF(ISNA(INDEX('Loan - Grade & Staple'!$A$1:$K$1000,MATCH($B284&C284,'Loan - Grade & Staple'!$B$1:$B$1000&'Loan - Grade & Staple'!$C$1:$C$1000,0),MATCH($K284,'Loan - Grade & Staple'!$A$3:$K$3,0))),-4000,INDEX('Loan - Grade & Staple'!$A$1:$K$1000,MATCH($B284&C284,'Loan - Grade & Staple'!$B$1:$B$1000&'Loan - Grade & Staple'!$C$1:$C$1000,0),MATCH($K284,'Loan - Grade & Staple'!$A$3:$K$3,0))))))","v":""},{"$f":"IF(LEN(E284)=0,\"\",INDEX('Loan - Strength'!$C$1:$C$18,MATCH(E284,'Loan - Strength'!$A$1:$A$18,1)))","v":""},{"$f":"IF(LEN(F284)=0,\"\",INDEX('Loan - Micronaire'!$C$1:$C$20,MATCH($F284,'Loan - Micronaire'!$A$1:$A$20,1)))","v":""},{"$f":"IF(LEN(G284)=0,\"\",INDEX('Loan - Uniformity'!$C$1:$C$20,MATCH($G284,'Loan - Uniformity'!$A$1:$A$20,1)))","v":""},"","",{"$f":"IF(OR(LEN(B284)=0,LEN(C284)=0,LEN(D284)=0,LEN(E284)=0,LEN(F284)=0,LEN(G284)=0),\"\",IF('Base Values'!$B$8+(SUM($L284:$P284)/100)<0,0,'Base Values'!$B$8+(SUM(L284:P284)/100)))","v":""},null,{"$f":"IF(AND($T$13=TRUE,H284=1),'Loan - Extraneous'!B$3,IF(AND($T$13=TRUE,H284=2),'Loan - Extraneous'!C$3,0))","v":0},{"$f":"IF(I284=1,'Loan - Extraneous'!$B$4,IF(I284=2,'Loan - Extraneous'!$C$4,0))","v":0},{"$f":"IF(J284=1,'Loan - Extraneous'!$B$5,IF(J284=2,'Loan - Extraneous'!$C$5,0))","v":0}]
[null,null,null,null,null,null,null,null,null,null,"",{"$f":"IF(OR(LEN(B285)=0,LEN(C285)=0,LEN(D285)=0),\"\",IF(K285>=38,INDEX('Loan - Grade & Staple'!$A$1:$K$1000,MATCH($B285&$C285,'Loan - Grade & Staple'!$B$1:$B$1000&'Loan - Grade & Staple'!$C$1:$C$1000,0),MATCH(\"38+\",'Loan - Grade & Staple'!$A$3:$K$3,0)),IF(K285<=31,INDEX('Loan - Grade & Staple'!$A$1:$K$1000,MATCH($B285&$C285,'Loan - Grade & Staple'!$B$1:$B$1000&'Loan - Grade & Staple'!$C$1:$C$1000,0),MATCH(\"26-31\",'Loan - Grade & Staple'!$A$3:$K$3,0)),IF(ISNA(INDEX('Loan - Grade & Staple'!$A$1:$K$1000,MATCH($B285&C285,'Loan - Grade & Staple'!$B$1:$B$1000&'Loan - Grade & Staple'!$C$1:$C$1000,0),MATCH($K285,'Loan - Grade & Staple'!$A$3:$K$3,0))),-4000,INDEX('Loan - Grade & Staple'!$A$1:$K$1000,MATCH($B285&C285,'Loan - Grade & Staple'!$B$1:$B$1000&'Loan - Grade & Staple'!$C$1:$C$1000,0),MATCH($K285,'Loan - Grade & Staple'!$A$3:$K$3,0))))))","v":""},{"$f":"IF(LEN(E285)=0,\"\",INDEX('Loan - Strength'!$C$1:$C$18,MATCH(E285,'Loan - Strength'!$A$1:$A$18,1)))","v":""},{"$f":"IF(LEN(F285)=0,\"\",INDEX('Loan - Micronaire'!$C$1:$C$20,MATCH($F285,'Loan - Micronaire'!$A$1:$A$20,1)))","v":""},{"$f":"IF(LEN(G285)=0,\"\",INDEX('Loan - Uniformity'!$C$1:$C$20,MATCH($G285,'Loan - Uniformity'!$A$1:$A$20,1)))","v":""},"","",{"$f":"IF(OR(LEN(B285)=0,LEN(C285)=0,LEN(D285)=0,LEN(E285)=0,LEN(F285)=0,LEN(G285)=0),\"\",IF('Base Values'!$B$8+(SUM($L285:$P285)/100)<0,0,'Base Values'!$B$8+(SUM(L285:P285)/100)))","v":""},null,{"$f":"IF(AND($T$13=TRUE,H285=1),'Loan - Extraneous'!B$3,IF(AND($T$13=TRUE,H285=2),'Loan - Extraneous'!C$3,0))","v":0},{"$f":"IF(I285=1,'Loan - Extraneous'!$B$4,IF(I285=2,'Loan - Extraneous'!$C$4,0))","v":0},{"$f":"IF(J285=1,'Loan - Extraneous'!$B$5,IF(J285=2,'Loan - Extraneous'!$C$5,0))","v":0}]
[null,null,null,null,null,null,null,null,null,null,"",{"$f":"IF(OR(LEN(B286)=0,LEN(C286)=0,LEN(D286)=0),\"\",IF(K286>=38,INDEX('Loan - Grade & Staple'!$A$1:$K$1000,MATCH($B286&$C286,'Loan - Grade & Staple'!$B$1:$B$1000&'Loan - Grade & Staple'!$C$1:$C$1000,0),MATCH(\"38+\",'Loan - Grade & Staple'!$A$3:$K$3,0)),IF(K286<=31,INDEX('Loan - Grade & Staple'!$A$1:$K$1000,MATCH($B286&$C286,'Loan - Grade & Staple'!$B$1:$B$1000&'Loan - Grade & Staple'!$C$1:$C$1000,0),MATCH(\"26-31\",'Loan - Grade & Staple'!$A$3:$K$3,0)),IF(ISNA(INDEX('Loan - Grade & Staple'!$A$1:$K$1000,MATCH($B286&C286,'Loan - Grade & Staple'!$B$1:$B$1000&'Loan - Grade & Staple'!$C$1:$C$1000,0),MATCH($K286,'Loan - Grade & Staple'!$A$3:$K$3,0))),-4000,INDEX('Loan - Grade & Staple'!$A$1:$K$1000,MATCH($B286&C286,'Loan - Grade & Staple'!$B$1:$B$1000&'Loan - Grade & Staple'!$C$1:$C$1000,0),MATCH($K286,'Loan - Grade & Staple'!$A$3:$K$3,0))))))","v":""},{"$f":"IF(LEN(E286)=0,\"\",INDEX('Loan - Strength'!$C$1:$C$18,MATCH(E286,'Loan - Strength'!$A$1:$A$18,1)))","v":""},{"$f":"IF(LEN(F286)=0,\"\",INDEX('Loan - Micronaire'!$C$1:$C$20,MATCH($F286,'Loan - Micronaire'!$A$1:$A$20,1)))","v":""},{"$f":"IF(LEN(G286)=0,\"\",INDEX('Loan - Uniformity'!$C$1:$C$20,MATCH($G286,'Loan - Uniformity'!$A$1:$A$20,1)))","v":""},"","",{"$f":"IF(OR(LEN(B286)=0,LEN(C286)=0,LEN(D286)=0,LEN(E286)=0,LEN(F286)=0,LEN(G286)=0),\"\",IF('Base Values'!$B$8+(SUM($L286:$P286)/100)<0,0,'Base Values'!$B$8+(SUM(L286:P286)/100)))","v":""},null,{"$f":"IF(AND($T$13=TRUE,H286=1),'Loan - Extraneous'!B$3,IF(AND($T$13=TRUE,H286=2),'Loan - Extraneous'!C$3,0))","v":0},{"$f":"IF(I286=1,'Loan - Extraneous'!$B$4,IF(I286=2,'Loan - Extraneous'!$C$4,0))","v":0},{"$f":"IF(J286=1,'Loan - Extraneous'!$B$5,IF(J286=2,'Loan - Extraneous'!$C$5,0))","v":0}]
[null,null,null,null,null,null,null,null,null,null,"",{"$f":"IF(OR(LEN(B287)=0,LEN(C287)=0,LEN(D287)=0),\"\",IF(K287>=38,INDEX('Loan - Grade & Staple'!$A$1:$K$1000,MATCH($B287&$C287,'Loan - Grade & Staple'!$B$1:$B$1000&'Loan - Grade & Staple'!$C$1:$C$1000,0),MATCH(\"38+\",'Loan - Grade & Staple'!$A$3:$K$3,0)),IF(K287<=31,INDEX('Loan - Grade & Staple'!$A$1:$K$1000,MATCH($B287&$C287,'Loan - Grade & Staple'!$B$1:$B$1000&'Loan - Grade & Staple'!$C$1:$C$1000,0),MATCH(\"26-31\",'Loan - Grade & Staple'!$A$3:$K$3,0)),IF(ISNA(INDEX('Loan - Grade & Staple'!$A$1:$K$1000,MATCH($B287&C287,'Loan - Grade & Staple'!$B$1:$B$1000&'Loan - Grade & Staple'!$C$1:$C$1000,0),MATCH($K287,'Loan - Grade & Staple'!$A$3:$K$3,0))),-4000,INDEX('Loan - Grade & Staple'!$A$1:$K$1000,MATCH($B287&C287,'Loan - Grade & Staple'!$B$1:$B$1000&'Loan - Grade & Staple'!$C$1:$C$1000,0),MATCH($K287,'Loan - Grade & Staple'!$A$3:$K$3,0))))))","v":""},{"$f":"IF(LEN(E287)=0,\"\",INDEX('Loan - Strength'!$C$1:$C$18,MATCH(E287,'Loan - Strength'!$A$1:$A$18,1)))","v":""},{"$f":"IF(LEN(F287)=0,\"\",INDEX('Loan - Micronaire'!$C$1:$C$20,MATCH($F287,'Loan - Micronaire'!$A$1:$A$20,1)))","v":""},{"$f":"IF(LEN(G287)=0,\"\",INDEX('Loan - Uniformity'!$C$1:$C$20,MATCH($G287,'Loan - Uniformity'!$A$1:$A$20,1)))","v":""},"","",{"$f":"IF(OR(LEN(B287)=0,LEN(C287)=0,LEN(D287)=0,LEN(E287)=0,LEN(F287)=0,LEN(G287)=0),\"\",IF('Base Values'!$B$8+(SUM($L287:$P287)/100)<0,0,'Base Values'!$B$8+(SUM(L287:P287)/100)))","v":""},null,{"$f":"IF(AND($T$13=TRUE,H287=1),'Loan - Extraneous'!B$3,IF(AND($T$13=TRUE,H287=2),'Loan - Extraneous'!C$3,0))","v":0},{"$f":"IF(I287=1,'Loan - Extraneous'!$B$4,IF(I287=2,'Loan - Extraneous'!$C$4,0))","v":0},{"$f":"IF(J287=1,'Loan - Extraneous'!$B$5,IF(J287=2,'Loan - Extraneous'!$C$5,0))","v":0}]
[null,null,null,null,null,null,null,null,null,null,"",{"$f":"IF(OR(LEN(B288)=0,LEN(C288)=0,LEN(D288)=0),\"\",IF(K288>=38,INDEX('Loan - Grade & Staple'!$A$1:$K$1000,MATCH($B288&$C288,'Loan - Grade & Staple'!$B$1:$B$1000&'Loan - Grade & Staple'!$C$1:$C$1000,0),MATCH(\"38+\",'Loan - Grade & Staple'!$A$3:$K$3,0)),IF(K288<=31,INDEX('Loan - Grade & Staple'!$A$1:$K$1000,MATCH($B288&$C288,'Loan - Grade & Staple'!$B$1:$B$1000&'Loan - Grade & Staple'!$C$1:$C$1000,0),MATCH(\"26-31\",'Loan - Grade & Staple'!$A$3:$K$3,0)),IF(ISNA(INDEX('Loan - Grade & Staple'!$A$1:$K$1000,MATCH($B288&C288,'Loan - Grade & Staple'!$B$1:$B$1000&'Loan - Grade & Staple'!$C$1:$C$1000,0),MATCH($K288,'Loan - Grade & Staple'!$A$3:$K$3,0))),-4000,INDEX('Loan - Grade & Staple'!$A$1:$K$1000,MATCH($B288&C288,'Loan - Grade & Staple'!$B$1:$B$1000&'Loan - Grade & Staple'!$C$1:$C$1000,0),MATCH($K288,'Loan - Grade & Staple'!$A$3:$K$3,0))))))","v":""},{"$f":"IF(LEN(E288)=0,\"\",INDEX('Loan - Strength'!$C$1:$C$18,MATCH(E288,'Loan - Strength'!$A$1:$A$18,1)))","v":""},{"$f":"IF(LEN(F288)=0,\"\",INDEX('Loan - Micronaire'!$C$1:$C$20,MATCH($F288,'Loan - Micronaire'!$A$1:$A$20,1)))","v":""},{"$f":"IF(LEN(G288)=0,\"\",INDEX('Loan - Uniformity'!$C$1:$C$20,MATCH($G288,'Loan - Uniformity'!$A$1:$A$20,1)))","v":""},"","",{"$f":"IF(OR(LEN(B288)=0,LEN(C288)=0,LEN(D288)=0,LEN(E288)=0,LEN(F288)=0,LEN(G288)=0),\"\",IF('Base Values'!$B$8+(SUM($L288:$P288)/100)<0,0,'Base Values'!$B$8+(SUM(L288:P288)/100)))","v":""},null,{"$f":"IF(AND($T$13=TRUE,H288=1),'Loan - Extraneous'!B$3,IF(AND($T$13=TRUE,H288=2),'Loan - Extraneous'!C$3,0))","v":0},{"$f":"IF(I288=1,'Loan - Extraneous'!$B$4,IF(I288=2,'Loan - Extraneous'!$C$4,0))","v":0},{"$f":"IF(J288=1,'Loan - Extraneous'!$B$5,IF(J288=2,'Loan - Extraneous'!$C$5,0))","v":0}]
[null,null,null,null,null,null,null,null,null,null,"",{"$f":"IF(OR(LEN(B289)=0,LEN(C289)=0,LEN(D289)=0),\"\",IF(K289>=38,INDEX('Loan - Grade & Staple'!$A$1:$K$1000,MATCH($B289&$C289,'Loan - Grade & Staple'!$B$1:$B$1000&'Loan - Grade & Staple'!$C$1:$C$1000,0),MATCH(\"38+\",'Loan - Grade & Staple'!$A$3:$K$3,0)),IF(K289<=31,INDEX('Loan - Grade & Staple'!$A$1:$K$1000,MATCH($B289&$C289,'Loan - Grade & Staple'!$B$1:$B$1000&'Loan - Grade & Staple'!$C$1:$C$1000,0),MATCH(\"26-31\",'Loan - Grade & Staple'!$A$3:$K$3,0)),IF(ISNA(INDEX('Loan - Grade & Staple'!$A$1:$K$1000,MATCH($B289&C289,'Loan - Grade & Staple'!$B$1:$B$1000&'Loan - Grade & Staple'!$C$1:$C$1000,0),MATCH($K289,'Loan - Grade & Staple'!$A$3:$K$3,0))),-4000,INDEX('Loan - Grade & Staple'!$A$1:$K$1000,MATCH($B289&C289,'Loan - Grade & Staple'!$B$1:$B$1000&'Loan - Grade & Staple'!$C$1:$C$1000,0),MATCH($K289,'Loan - Grade & Staple'!$A$3:$K$3,0))))))","v":""},{"$f":"IF(LEN(E289)=0,\"\",INDEX('Loan - Strength'!$C$1:$C$18,MATCH(E289,'Loan - Strength'!$A$1:$A$18,1)))","v":""},{"$f":"IF(LEN(F289)=0,\"\",INDEX('Loan - Micronaire'!$C$1:$C$20,MATCH($F289,'Loan - Micronaire'!$A$1:$A$20,1)))","v":""},{"$f":"IF(LEN(G289)=0,\"\",INDEX('Loan - Uniformity'!$C$1:$C$20,MATCH($G289,'Loan - Uniformity'!$A$1:$A$20,1)))","v":""},"","",{"$f":"IF(OR(LEN(B289)=0,LEN(C289)=0,LEN(D289)=0,LEN(E289)=0,LEN(F289)=0,LEN(G289)=0),\"\",IF('Base Values'!$B$8+(SUM($L289:$P289)/100)<0,0,'Base Values'!$B$8+(SUM(L289:P289)/100)))","v":""},null,{"$f":"IF(AND($T$13=TRUE,H289=1),'Loan - Extraneous'!B$3,IF(AND($T$13=TRUE,H289=2),'Loan - Extraneous'!C$3,0))","v":0},{"$f":"IF(I289=1,'Loan - Extraneous'!$B$4,IF(I289=2,'Loan - Extraneous'!$C$4,0))","v":0},{"$f":"IF(J289=1,'Loan - Extraneous'!$B$5,IF(J289=2,'Loan - Extraneous'!$C$5,0))","v":0}]
[null,null,null,null,null,null,null,null,null,null,"",{"$f":"IF(OR(LEN(B290)=0,LEN(C290)=0,LEN(D290)=0),\"\",IF(K290>=38,INDEX('Loan - Grade & Staple'!$A$1:$K$1000,MATCH($B290&$C290,'Loan - Grade & Staple'!$B$1:$B$1000&'Loan - Grade & Staple'!$C$1:$C$1000,0),MATCH(\"38+\",'Loan - Grade & Staple'!$A$3:$K$3,0)),IF(K290<=31,INDEX('Loan - Grade & Staple'!$A$1:$K$1000,MATCH($B290&$C290,'Loan - Grade & Staple'!$B$1:$B$1000&'Loan - Grade & Staple'!$C$1:$C$1000,0),MATCH(\"26-31\",'Loan - Grade & Staple'!$A$3:$K$3,0)),IF(ISNA(INDEX('Loan - Grade & Staple'!$A$1:$K$1000,MATCH($B290&C290,'Loan - Grade & Staple'!$B$1:$B$1000&'Loan - Grade & Staple'!$C$1:$C$1000,0),MATCH($K290,'Loan - Grade & Staple'!$A$3:$K$3,0))),-4000,INDEX('Loan - Grade & Staple'!$A$1:$K$1000,MATCH($B290&C290,'Loan - Grade & Staple'!$B$1:$B$1000&'Loan - Grade & Staple'!$C$1:$C$1000,0),MATCH($K290,'Loan - Grade & Staple'!$A$3:$K$3,0))))))","v":""},{"$f":"IF(LEN(E290)=0,\"\",INDEX('Loan - Strength'!$C$1:$C$18,MATCH(E290,'Loan - Strength'!$A$1:$A$18,1)))","v":""},{"$f":"IF(LEN(F290)=0,\"\",INDEX('Loan - Micronaire'!$C$1:$C$20,MATCH($F290,'Loan - Micronaire'!$A$1:$A$20,1)))","v":""},{"$f":"IF(LEN(G290)=0,\"\",INDEX('Loan - Uniformity'!$C$1:$C$20,MATCH($G290,'Loan - Uniformity'!$A$1:$A$20,1)))","v":""},"","",{"$f":"IF(OR(LEN(B290)=0,LEN(C290)=0,LEN(D290)=0,LEN(E290)=0,LEN(F290)=0,LEN(G290)=0),\"\",IF('Base Values'!$B$8+(SUM($L290:$P290)/100)<0,0,'Base Values'!$B$8+(SUM(L290:P290)/100)))","v":""},null,{"$f":"IF(AND($T$13=TRUE,H290=1),'Loan - Extraneous'!B$3,IF(AND($T$13=TRUE,H290=2),'Loan - Extraneous'!C$3,0))","v":0},{"$f":"IF(I290=1,'Loan - Extraneous'!$B$4,IF(I290=2,'Loan - Extraneous'!$C$4,0))","v":0},{"$f":"IF(J290=1,'Loan - Extraneous'!$B$5,IF(J290=2,'Loan - Extraneous'!$C$5,0))","v":0}]
[null,null,null,null,null,null,null,null,null,null,"",{"$f":"IF(OR(LEN(B291)=0,LEN(C291)=0,LEN(D291)=0),\"\",IF(K291>=38,INDEX('Loan - Grade & Staple'!$A$1:$K$1000,MATCH($B291&$C291,'Loan - Grade & Staple'!$B$1:$B$1000&'Loan - Grade & Staple'!$C$1:$C$1000,0),MATCH(\"38+\",'Loan - Grade & Staple'!$A$3:$K$3,0)),IF(K291<=31,INDEX('Loan - Grade & Staple'!$A$1:$K$1000,MATCH($B291&$C291,'Loan - Grade & Staple'!$B$1:$B$1000&'Loan - Grade & Staple'!$C$1:$C$1000,0),MATCH(\"26-31\",'Loan - Grade & Staple'!$A$3:$K$3,0)),IF(ISNA(INDEX('Loan - Grade & Staple'!$A$1:$K$1000,MATCH($B291&C291,'Loan - Grade & Staple'!$B$1:$B$1000&'Loan - Grade & Staple'!$C$1:$C$1000,0),MATCH($K291,'Loan - Grade & Staple'!$A$3:$K$3,0))),-4000,INDEX('Loan - Grade & Staple'!$A$1:$K$1000,MATCH($B291&C291,'Loan - Grade & Staple'!$B$1:$B$1000&'Loan - Grade & Staple'!$C$1:$C$1000,0),MATCH($K291,'Loan - Grade & Staple'!$A$3:$K$3,0))))))","v":""},{"$f":"IF(LEN(E291)=0,\"\",INDEX('Loan - Strength'!$C$1:$C$18,MATCH(E291,'Loan - Strength'!$A$1:$A$18,1)))","v":""},{"$f":"IF(LEN(F291)=0,\"\",INDEX('Loan - Micronaire'!$C$1:$C$20,MATCH($F291,'Loan - Micronaire'!$A$1:$A$20,1)))","v":""},{"$f":"IF(LEN(G291)=0,\"\",INDEX('Loan - Uniformity'!$C$1:$C$20,MATCH($G291,'Loan - Uniformity'!$A$1:$A$20,1)))","v":""},"","",{"$f":"IF(OR(LEN(B291)=0,LEN(C291)=0,LEN(D291)=0,LEN(E291)=0,LEN(F291)=0,LEN(G291)=0),\"\",IF('Base Values'!$B$8+(SUM($L291:$P291)/100)<0,0,'Base Values'!$B$8+(SUM(L291:P291)/100)))","v":""},null,{"$f":"IF(AND($T$13=TRUE,H291=1),'Loan - Extraneous'!B$3,IF(AND($T$13=TRUE,H291=2),'Loan - Extraneous'!C$3,0))","v":0},{"$f":"IF(I291=1,'Loan - Extraneous'!$B$4,IF(I291=2,'Loan - Extraneous'!$C$4,0))","v":0},{"$f":"IF(J291=1,'Loan - Extraneous'!$B$5,IF(J291=2,'Loan - Extraneous'!$C$5,0))","v":0}]
[null,null,null,null,null,null,null,null,null,null,"",{"$f":"IF(OR(LEN(B292)=0,LEN(C292)=0,LEN(D292)=0),\"\",IF(K292>=38,INDEX('Loan - Grade & Staple'!$A$1:$K$1000,MATCH($B292&$C292,'Loan - Grade & Staple'!$B$1:$B$1000&'Loan - Grade & Staple'!$C$1:$C$1000,0),MATCH(\"38+\",'Loan - Grade & Staple'!$A$3:$K$3,0)),IF(K292<=31,INDEX('Loan - Grade & Staple'!$A$1:$K$1000,MATCH($B292&$C292,'Loan - Grade & Staple'!$B$1:$B$1000&'Loan - Grade & Staple'!$C$1:$C$1000,0),MATCH(\"26-31\",'Loan - Grade & Staple'!$A$3:$K$3,0)),IF(ISNA(INDEX('Loan - Grade & Staple'!$A$1:$K$1000,MATCH($B292&C292,'Loan - Grade & Staple'!$B$1:$B$1000&'Loan - Grade & Staple'!$C$1:$C$1000,0),MATCH($K292,'Loan - Grade & Staple'!$A$3:$K$3,0))),-4000,INDEX('Loan - Grade & Staple'!$A$1:$K$1000,MATCH($B292&C292,'Loan - Grade & Staple'!$B$1:$B$1000&'Loan - Grade & Staple'!$C$1:$C$1000,0),MATCH($K292,'Loan - Grade & Staple'!$A$3:$K$3,0))))))","v":""},{"$f":"IF(LEN(E292)=0,\"\",INDEX('Loan - Strength'!$C$1:$C$18,MATCH(E292,'Loan - Strength'!$A$1:$A$18,1)))","v":""},{"$f":"IF(LEN(F292)=0,\"\",INDEX('Loan - Micronaire'!$C$1:$C$20,MATCH($F292,'Loan - Micronaire'!$A$1:$A$20,1)))","v":""},{"$f":"IF(LEN(G292)=0,\"\",INDEX('Loan - Uniformity'!$C$1:$C$20,MATCH($G292,'Loan - Uniformity'!$A$1:$A$20,1)))","v":""},"","",{"$f":"IF(OR(LEN(B292)=0,LEN(C292)=0,LEN(D292)=0,LEN(E292)=0,LEN(F292)=0,LEN(G292)=0),\"\",IF('Base Values'!$B$8+(SUM($L292:$P292)/100)<0,0,'Base Values'!$B$8+(SUM(L292:P292)/100)))","v":""},null,{"$f":"IF(AND($T$13=TRUE,H292=1),'Loan - Extraneous'!B$3,IF(AND($T$13=TRUE,H292=2),'Loan - Extraneous'!C$3,0))","v":0},{"$f":"IF(I292=1,'Loan - Extraneous'!$B$4,IF(I292=2,'Loan - Extraneous'!$C$4,0))","v":0},{"$f":"IF(J292=1,'Loan - Extraneous'!$B$5,IF(J292=2,'Loan - Extraneous'!$C$5,0))","v":0}]
[null,null,null,null,null,null,null,null,null,null,"",{"$f":"IF(OR(LEN(B293)=0,LEN(C293)=0,LEN(D293)=0),\"\",IF(K293>=38,INDEX('Loan - Grade & Staple'!$A$1:$K$1000,MATCH($B293&$C293,'Loan - Grade & Staple'!$B$1:$B$1000&'Loan - Grade & Staple'!$C$1:$C$1000,0),MATCH(\"38+\",'Loan - Grade & Staple'!$A$3:$K$3,0)),IF(K293<=31,INDEX('Loan - Grade & Staple'!$A$1:$K$1000,MATCH($B293&$C293,'Loan - Grade & Staple'!$B$1:$B$1000&'Loan - Grade & Staple'!$C$1:$C$1000,0),MATCH(\"26-31\",'Loan - Grade & Staple'!$A$3:$K$3,0)),IF(ISNA(INDEX('Loan - Grade & Staple'!$A$1:$K$1000,MATCH($B293&C293,'Loan - Grade & Staple'!$B$1:$B$1000&'Loan - Grade & Staple'!$C$1:$C$1000,0),MATCH($K293,'Loan - Grade & Staple'!$A$3:$K$3,0))),-4000,INDEX('Loan - Grade & Staple'!$A$1:$K$1000,MATCH($B293&C293,'Loan - Grade & Staple'!$B$1:$B$1000&'Loan - Grade & Staple'!$C$1:$C$1000,0),MATCH($K293,'Loan - Grade & Staple'!$A$3:$K$3,0))))))","v":""},{"$f":"IF(LEN(E293)=0,\"\",INDEX('Loan - Strength'!$C$1:$C$18,MATCH(E293,'Loan - Strength'!$A$1:$A$18,1)))","v":""},{"$f":"IF(LEN(F293)=0,\"\",INDEX('Loan - Micronaire'!$C$1:$C$20,MATCH($F293,'Loan - Micronaire'!$A$1:$A$20,1)))","v":""},{"$f":"IF(LEN(G293)=0,\"\",INDEX('Loan - Uniformity'!$C$1:$C$20,MATCH($G293,'Loan - Uniformity'!$A$1:$A$20,1)))","v":""},"","",{"$f":"IF(OR(LEN(B293)=0,LEN(C293)=0,LEN(D293)=0,LEN(E293)=0,LEN(F293)=0,LEN(G293)=0),\"\",IF('Base Values'!$B$8+(SUM($L293:$P293)/100)<0,0,'Base Values'!$B$8+(SUM(L293:P293)/100)))","v":""},null,{"$f":"IF(AND($T$13=TRUE,H293=1),'Loan - Extraneous'!B$3,IF(AND($T$13=TRUE,H293=2),'Loan - Extraneous'!C$3,0))","v":0},{"$f":"IF(I293=1,'Loan - Extraneous'!$B$4,IF(I293=2,'Loan - Extraneous'!$C$4,0))","v":0},{"$f":"IF(J293=1,'Loan - Extraneous'!$B$5,IF(J293=2,'Loan - Extraneous'!$C$5,0))","v":0}]
[null,null,null,null,null,null,null,null,null,null,"",{"$f":"IF(OR(LEN(B294)=0,LEN(C294)=0,LEN(D294)=0),\"\",IF(K294>=38,INDEX('Loan - Grade & Staple'!$A$1:$K$1000,MATCH($B294&$C294,'Loan - Grade & Staple'!$B$1:$B$1000&'Loan - Grade & Staple'!$C$1:$C$1000,0),MATCH(\"38+\",'Loan - Grade & Staple'!$A$3:$K$3,0)),IF(K294<=31,INDEX('Loan - Grade & Staple'!$A$1:$K$1000,MATCH($B294&$C294,'Loan - Grade & Staple'!$B$1:$B$1000&'Loan - Grade & Staple'!$C$1:$C$1000,0),MATCH(\"26-31\",'Loan - Grade & Staple'!$A$3:$K$3,0)),IF(ISNA(INDEX('Loan - Grade & Staple'!$A$1:$K$1000,MATCH($B294&C294,'Loan - Grade & Staple'!$B$1:$B$1000&'Loan - Grade & Staple'!$C$1:$C$1000,0),MATCH($K294,'Loan - Grade & Staple'!$A$3:$K$3,0))),-4000,INDEX('Loan - Grade & Staple'!$A$1:$K$1000,MATCH($B294&C294,'Loan - Grade & Staple'!$B$1:$B$1000&'Loan - Grade & Staple'!$C$1:$C$1000,0),MATCH($K294,'Loan - Grade & Staple'!$A$3:$K$3,0))))))","v":""},{"$f":"IF(LEN(E294)=0,\"\",INDEX('Loan - Strength'!$C$1:$C$18,MATCH(E294,'Loan - Strength'!$A$1:$A$18,1)))","v":""},{"$f":"IF(LEN(F294)=0,\"\",INDEX('Loan - Micronaire'!$C$1:$C$20,MATCH($F294,'Loan - Micronaire'!$A$1:$A$20,1)))","v":""},{"$f":"IF(LEN(G294)=0,\"\",INDEX('Loan - Uniformity'!$C$1:$C$20,MATCH($G294,'Loan - Uniformity'!$A$1:$A$20,1)))","v":""},"","",{"$f":"IF(OR(LEN(B294)=0,LEN(C294)=0,LEN(D294)=0,LEN(E294)=0,LEN(F294)=0,LEN(G294)=0),\"\",IF('Base Values'!$B$8+(SUM($L294:$P294)/100)<0,0,'Base Values'!$B$8+(SUM(L294:P294)/100)))","v":""},null,{"$f":"IF(AND($T$13=TRUE,H294=1),'Loan - Extraneous'!B$3,IF(AND($T$13=TRUE,H294=2),'Loan - Extraneous'!C$3,0))","v":0},{"$f":"IF(I294=1,'Loan - Extraneous'!$B$4,IF(I294=2,'Loan - Extraneous'!$C$4,0))","v":0},{"$f":"IF(J294=1,'Loan - Extraneous'!$B$5,IF(J294=2,'Loan - Extraneous'!$C$5,0))","v":0}]
[null,null,null,null,null,null,null,null,null,null,"",{"$f":"IF(OR(LEN(B295)=0,LEN(C295)=0,LEN(D295)=0),\"\",IF(K295>=38,INDEX('Loan - Grade & Staple'!$A$1:$K$1000,MATCH($B295&$C295,'Loan - Grade & Staple'!$B$1:$B$1000&'Loan - Grade & Staple'!$C$1:$C$1000,0),MATCH(\"38+\",'Loan - Grade & Staple'!$A$3:$K$3,0)),IF(K295<=31,INDEX('Loan - Grade & Staple'!$A$1:$K$1000,MATCH($B295&$C295,'Loan - Grade & Staple'!$B$1:$B$1000&'Loan - Grade & Staple'!$C$1:$C$1000,0),MATCH(\"26-31\",'Loan - Grade & Staple'!$A$3:$K$3,0)),IF(ISNA(INDEX('Loan - Grade & Staple'!$A$1:$K$1000,MATCH($B295&C295,'Loan - Grade & Staple'!$B$1:$B$1000&'Loan - Grade & Staple'!$C$1:$C$1000,0),MATCH($K295,'Loan - Grade & Staple'!$A$3:$K$3,0))),-4000,INDEX('Loan - Grade & Staple'!$A$1:$K$1000,MATCH($B295&C295,'Loan - Grade & Staple'!$B$1:$B$1000&'Loan - Grade & Staple'!$C$1:$C$1000,0),MATCH($K295,'Loan - Grade & Staple'!$A$3:$K$3,0))))))","v":""},{"$f":"IF(LEN(E295)=0,\"\",INDEX('Loan - Strength'!$C$1:$C$18,MATCH(E295,'Loan - Strength'!$A$1:$A$18,1)))","v":""},{"$f":"IF(LEN(F295)=0,\"\",INDEX('Loan - Micronaire'!$C$1:$C$20,MATCH($F295,'Loan - Micronaire'!$A$1:$A$20,1)))","v":""},{"$f":"IF(LEN(G295)=0,\"\",INDEX('Loan - Uniformity'!$C$1:$C$20,MATCH($G295,'Loan - Uniformity'!$A$1:$A$20,1)))","v":""},"","",{"$f":"IF(OR(LEN(B295)=0,LEN(C295)=0,LEN(D295)=0,LEN(E295)=0,LEN(F295)=0,LEN(G295)=0),\"\",IF('Base Values'!$B$8+(SUM($L295:$P295)/100)<0,0,'Base Values'!$B$8+(SUM(L295:P295)/100)))","v":""},null,{"$f":"IF(AND($T$13=TRUE,H295=1),'Loan - Extraneous'!B$3,IF(AND($T$13=TRUE,H295=2),'Loan - Extraneous'!C$3,0))","v":0},{"$f":"IF(I295=1,'Loan - Extraneous'!$B$4,IF(I295=2,'Loan - Extraneous'!$C$4,0))","v":0},{"$f":"IF(J295=1,'Loan - Extraneous'!$B$5,IF(J295=2,'Loan - Extraneous'!$C$5,0))","v":0}]
[null,null,null,null,null,null,null,null,null,null,"",{"$f":"IF(OR(LEN(B296)=0,LEN(C296)=0,LEN(D296)=0),\"\",IF(K296>=38,INDEX('Loan - Grade & Staple'!$A$1:$K$1000,MATCH($B296&$C296,'Loan - Grade & Staple'!$B$1:$B$1000&'Loan - Grade & Staple'!$C$1:$C$1000,0),MATCH(\"38+\",'Loan - Grade & Staple'!$A$3:$K$3,0)),IF(K296<=31,INDEX('Loan - Grade & Staple'!$A$1:$K$1000,MATCH($B296&$C296,'Loan - Grade & Staple'!$B$1:$B$1000&'Loan - Grade & Staple'!$C$1:$C$1000,0),MATCH(\"26-31\",'Loan - Grade & Staple'!$A$3:$K$3,0)),IF(ISNA(INDEX('Loan - Grade & Staple'!$A$1:$K$1000,MATCH($B296&C296,'Loan - Grade & Staple'!$B$1:$B$1000&'Loan - Grade & Staple'!$C$1:$C$1000,0),MATCH($K296,'Loan - Grade & Staple'!$A$3:$K$3,0))),-4000,INDEX('Loan - Grade & Staple'!$A$1:$K$1000,MATCH($B296&C296,'Loan - Grade & Staple'!$B$1:$B$1000&'Loan - Grade & Staple'!$C$1:$C$1000,0),MATCH($K296,'Loan - Grade & Staple'!$A$3:$K$3,0))))))","v":""},{"$f":"IF(LEN(E296)=0,\"\",INDEX('Loan - Strength'!$C$1:$C$18,MATCH(E296,'Loan - Strength'!$A$1:$A$18,1)))","v":""},{"$f":"IF(LEN(F296)=0,\"\",INDEX('Loan - Micronaire'!$C$1:$C$20,MATCH($F296,'Loan - Micronaire'!$A$1:$A$20,1)))","v":""},{"$f":"IF(LEN(G296)=0,\"\",INDEX('Loan - Uniformity'!$C$1:$C$20,MATCH($G296,'Loan - Uniformity'!$A$1:$A$20,1)))","v":""},"","",{"$f":"IF(OR(LEN(B296)=0,LEN(C296)=0,LEN(D296)=0,LEN(E296)=0,LEN(F296)=0,LEN(G296)=0),\"\",IF('Base Values'!$B$8+(SUM($L296:$P296)/100)<0,0,'Base Values'!$B$8+(SUM(L296:P296)/100)))","v":""},null,{"$f":"IF(AND($T$13=TRUE,H296=1),'Loan - Extraneous'!B$3,IF(AND($T$13=TRUE,H296=2),'Loan - Extraneous'!C$3,0))","v":0},{"$f":"IF(I296=1,'Loan - Extraneous'!$B$4,IF(I296=2,'Loan - Extraneous'!$C$4,0))","v":0},{"$f":"IF(J296=1,'Loan - Extraneous'!$B$5,IF(J296=2,'Loan - Extraneous'!$C$5,0))","v":0}]
[null,null,null,null,null,null,null,null,null,null,"",{"$f":"IF(OR(LEN(B297)=0,LEN(C297)=0,LEN(D297)=0),\"\",IF(K297>=38,INDEX('Loan - Grade & Staple'!$A$1:$K$1000,MATCH($B297&$C297,'Loan - Grade & Staple'!$B$1:$B$1000&'Loan - Grade & Staple'!$C$1:$C$1000,0),MATCH(\"38+\",'Loan - Grade & Staple'!$A$3:$K$3,0)),IF(K297<=31,INDEX('Loan - Grade & Staple'!$A$1:$K$1000,MATCH($B297&$C297,'Loan - Grade & Staple'!$B$1:$B$1000&'Loan - Grade & Staple'!$C$1:$C$1000,0),MATCH(\"26-31\",'Loan - Grade & Staple'!$A$3:$K$3,0)),IF(ISNA(INDEX('Loan - Grade & Staple'!$A$1:$K$1000,MATCH($B297&C297,'Loan - Grade & Staple'!$B$1:$B$1000&'Loan - Grade & Staple'!$C$1:$C$1000,0),MATCH($K297,'Loan - Grade & Staple'!$A$3:$K$3,0))),-4000,INDEX('Loan - Grade & Staple'!$A$1:$K$1000,MATCH($B297&C297,'Loan - Grade & Staple'!$B$1:$B$1000&'Loan - Grade & Staple'!$C$1:$C$1000,0),MATCH($K297,'Loan - Grade & Staple'!$A$3:$K$3,0))))))","v":""},{"$f":"IF(LEN(E297)=0,\"\",INDEX('Loan - Strength'!$C$1:$C$18,MATCH(E297,'Loan - Strength'!$A$1:$A$18,1)))","v":""},{"$f":"IF(LEN(F297)=0,\"\",INDEX('Loan - Micronaire'!$C$1:$C$20,MATCH($F297,'Loan - Micronaire'!$A$1:$A$20,1)))","v":""},{"$f":"IF(LEN(G297)=0,\"\",INDEX('Loan - Uniformity'!$C$1:$C$20,MATCH($G297,'Loan - Uniformity'!$A$1:$A$20,1)))","v":""},"","",{"$f":"IF(OR(LEN(B297)=0,LEN(C297)=0,LEN(D297)=0,LEN(E297)=0,LEN(F297)=0,LEN(G297)=0),\"\",IF('Base Values'!$B$8+(SUM($L297:$P297)/100)<0,0,'Base Values'!$B$8+(SUM(L297:P297)/100)))","v":""},null,{"$f":"IF(AND($T$13=TRUE,H297=1),'Loan - Extraneous'!B$3,IF(AND($T$13=TRUE,H297=2),'Loan - Extraneous'!C$3,0))","v":0},{"$f":"IF(I297=1,'Loan - Extraneous'!$B$4,IF(I297=2,'Loan - Extraneous'!$C$4,0))","v":0},{"$f":"IF(J297=1,'Loan - Extraneous'!$B$5,IF(J297=2,'Loan - Extraneous'!$C$5,0))","v":0}]
[null,null,null,null,null,null,null,null,null,null,"",{"$f":"IF(OR(LEN(B298)=0,LEN(C298)=0,LEN(D298)=0),\"\",IF(K298>=38,INDEX('Loan - Grade & Staple'!$A$1:$K$1000,MATCH($B298&$C298,'Loan - Grade & Staple'!$B$1:$B$1000&'Loan - Grade & Staple'!$C$1:$C$1000,0),MATCH(\"38+\",'Loan - Grade & Staple'!$A$3:$K$3,0)),IF(K298<=31,INDEX('Loan - Grade & Staple'!$A$1:$K$1000,MATCH($B298&$C298,'Loan - Grade & Staple'!$B$1:$B$1000&'Loan - Grade & Staple'!$C$1:$C$1000,0),MATCH(\"26-31\",'Loan - Grade & Staple'!$A$3:$K$3,0)),IF(ISNA(INDEX('Loan - Grade & Staple'!$A$1:$K$1000,MATCH($B298&C298,'Loan - Grade & Staple'!$B$1:$B$1000&'Loan - Grade & Staple'!$C$1:$C$1000,0),MATCH($K298,'Loan - Grade & Staple'!$A$3:$K$3,0))),-4000,INDEX('Loan - Grade & Staple'!$A$1:$K$1000,MATCH($B298&C298,'Loan - Grade & Staple'!$B$1:$B$1000&'Loan - Grade & Staple'!$C$1:$C$1000,0),MATCH($K298,'Loan - Grade & Staple'!$A$3:$K$3,0))))))","v":""},{"$f":"IF(LEN(E298)=0,\"\",INDEX('Loan - Strength'!$C$1:$C$18,MATCH(E298,'Loan - Strength'!$A$1:$A$18,1)))","v":""},{"$f":"IF(LEN(F298)=0,\"\",INDEX('Loan - Micronaire'!$C$1:$C$20,MATCH($F298,'Loan - Micronaire'!$A$1:$A$20,1)))","v":""},{"$f":"IF(LEN(G298)=0,\"\",INDEX('Loan - Uniformity'!$C$1:$C$20,MATCH($G298,'Loan - Uniformity'!$A$1:$A$20,1)))","v":""},"","",{"$f":"IF(OR(LEN(B298)=0,LEN(C298)=0,LEN(D298)=0,LEN(E298)=0,LEN(F298)=0,LEN(G298)=0),\"\",IF('Base Values'!$B$8+(SUM($L298:$P298)/100)<0,0,'Base Values'!$B$8+(SUM(L298:P298)/100)))","v":""},null,{"$f":"IF(AND($T$13=TRUE,H298=1),'Loan - Extraneous'!B$3,IF(AND($T$13=TRUE,H298=2),'Loan - Extraneous'!C$3,0))","v":0},{"$f":"IF(I298=1,'Loan - Extraneous'!$B$4,IF(I298=2,'Loan - Extraneous'!$C$4,0))","v":0},{"$f":"IF(J298=1,'Loan - Extraneous'!$B$5,IF(J298=2,'Loan - Extraneous'!$C$5,0))","v":0}]
[null,null,null,null,null,null,null,null,null,null,"",{"$f":"IF(OR(LEN(B299)=0,LEN(C299)=0,LEN(D299)=0),\"\",IF(K299>=38,INDEX('Loan - Grade & Staple'!$A$1:$K$1000,MATCH($B299&$C299,'Loan - Grade & Staple'!$B$1:$B$1000&'Loan - Grade & Staple'!$C$1:$C$1000,0),MATCH(\"38+\",'Loan - Grade & Staple'!$A$3:$K$3,0)),IF(K299<=31,INDEX('Loan - Grade & Staple'!$A$1:$K$1000,MATCH($B299&$C299,'Loan - Grade & Staple'!$B$1:$B$1000&'Loan - Grade & Staple'!$C$1:$C$1000,0),MATCH(\"26-31\",'Loan - Grade & Staple'!$A$3:$K$3,0)),IF(ISNA(INDEX('Loan - Grade & Staple'!$A$1:$K$1000,MATCH($B299&C299,'Loan - Grade & Staple'!$B$1:$B$1000&'Loan - Grade & Staple'!$C$1:$C$1000,0),MATCH($K299,'Loan - Grade & Staple'!$A$3:$K$3,0))),-4000,INDEX('Loan - Grade & Staple'!$A$1:$K$1000,MATCH($B299&C299,'Loan - Grade & Staple'!$B$1:$B$1000&'Loan - Grade & Staple'!$C$1:$C$1000,0),MATCH($K299,'Loan - Grade & Staple'!$A$3:$K$3,0))))))","v":""},{"$f":"IF(LEN(E299)=0,\"\",INDEX('Loan - Strength'!$C$1:$C$18,MATCH(E299,'Loan - Strength'!$A$1:$A$18,1)))","v":""},{"$f":"IF(LEN(F299)=0,\"\",INDEX('Loan - Micronaire'!$C$1:$C$20,MATCH($F299,'Loan - Micronaire'!$A$1:$A$20,1)))","v":""},{"$f":"IF(LEN(G299)=0,\"\",INDEX('Loan - Uniformity'!$C$1:$C$20,MATCH($G299,'Loan - Uniformity'!$A$1:$A$20,1)))","v":""},"","",{"$f":"IF(OR(LEN(B299)=0,LEN(C299)=0,LEN(D299)=0,LEN(E299)=0,LEN(F299)=0,LEN(G299)=0),\"\",IF('Base Values'!$B$8+(SUM($L299:$P299)/100)<0,0,'Base Values'!$B$8+(SUM(L299:P299)/100)))","v":""},null,{"$f":"IF(AND($T$13=TRUE,H299=1),'Loan - Extraneous'!B$3,IF(AND($T$13=TRUE,H299=2),'Loan - Extraneous'!C$3,0))","v":0},{"$f":"IF(I299=1,'Loan - Extraneous'!$B$4,IF(I299=2,'Loan - Extraneous'!$C$4,0))","v":0},{"$f":"IF(J299=1,'Loan - Extraneous'!$B$5,IF(J299=2,'Loan - Extraneous'!$C$5,0))","v":0}]
[null,null,null,null,null,null,null,null,null,null,"",{"$f":"IF(OR(LEN(B300)=0,LEN(C300)=0,LEN(D300)=0),\"\",IF(K300>=38,INDEX('Loan - Grade & Staple'!$A$1:$K$1000,MATCH($B300&$C300,'Loan - Grade & Staple'!$B$1:$B$1000&'Loan - Grade & Staple'!$C$1:$C$1000,0),MATCH(\"38+\",'Loan - Grade & Staple'!$A$3:$K$3,0)),IF(K300<=31,INDEX('Loan - Grade & Staple'!$A$1:$K$1000,MATCH($B300&$C300,'Loan - Grade & Staple'!$B$1:$B$1000&'Loan - Grade & Staple'!$C$1:$C$1000,0),MATCH(\"26-31\",'Loan - Grade & Staple'!$A$3:$K$3,0)),IF(ISNA(INDEX('Loan - Grade & Staple'!$A$1:$K$1000,MATCH($B300&C300,'Loan - Grade & Staple'!$B$1:$B$1000&'Loan - Grade & Staple'!$C$1:$C$1000,0),MATCH($K300,'Loan - Grade & Staple'!$A$3:$K$3,0))),-4000,INDEX('Loan - Grade & Staple'!$A$1:$K$1000,MATCH($B300&C300,'Loan - Grade & Staple'!$B$1:$B$1000&'Loan - Grade & Staple'!$C$1:$C$1000,0),MATCH($K300,'Loan - Grade & Staple'!$A$3:$K$3,0))))))","v":""},{"$f":"IF(LEN(E300)=0,\"\",INDEX('Loan - Strength'!$C$1:$C$18,MATCH(E300,'Loan - Strength'!$A$1:$A$18,1)))","v":""},{"$f":"IF(LEN(F300)=0,\"\",INDEX('Loan - Micronaire'!$C$1:$C$20,MATCH($F300,'Loan - Micronaire'!$A$1:$A$20,1)))","v":""},{"$f":"IF(LEN(G300)=0,\"\",INDEX('Loan - Uniformity'!$C$1:$C$20,MATCH($G300,'Loan - Uniformity'!$A$1:$A$20,1)))","v":""},"","",{"$f":"IF(OR(LEN(B300)=0,LEN(C300)=0,LEN(D300)=0,LEN(E300)=0,LEN(F300)=0,LEN(G300)=0),\"\",IF('Base Values'!$B$8+(SUM($L300:$P300)/100)<0,0,'Base Values'!$B$8+(SUM(L300:P300)/100)))","v":""},null,{"$f":"IF(AND($T$13=TRUE,H300=1),'Loan - Extraneous'!B$3,IF(AND($T$13=TRUE,H300=2),'Loan - Extraneous'!C$3,0))","v":0},{"$f":"IF(I300=1,'Loan - Extraneous'!$B$4,IF(I300=2,'Loan - Extraneous'!$C$4,0))","v":0},{"$f":"IF(J300=1,'Loan - Extraneous'!$B$5,IF(J300=2,'Loan - Extraneous'!$C$5,0))","v":0}]
[null,null,null,null,null,null,null,null,null,null,"",{"$f":"IF(OR(LEN(B301)=0,LEN(C301)=0,LEN(D301)=0),\"\",IF(K301>=38,INDEX('Loan - Grade & Staple'!$A$1:$K$1000,MATCH($B301&$C301,'Loan - Grade & Staple'!$B$1:$B$1000&'Loan - Grade & Staple'!$C$1:$C$1000,0),MATCH(\"38+\",'Loan - Grade & Staple'!$A$3:$K$3,0)),IF(K301<=31,INDEX('Loan - Grade & Staple'!$A$1:$K$1000,MATCH($B301&$C301,'Loan - Grade & Staple'!$B$1:$B$1000&'Loan - Grade & Staple'!$C$1:$C$1000,0),MATCH(\"26-31\",'Loan - Grade & Staple'!$A$3:$K$3,0)),IF(ISNA(INDEX('Loan - Grade & Staple'!$A$1:$K$1000,MATCH($B301&C301,'Loan - Grade & Staple'!$B$1:$B$1000&'Loan - Grade & Staple'!$C$1:$C$1000,0),MATCH($K301,'Loan - Grade & Staple'!$A$3:$K$3,0))),-4000,INDEX('Loan - Grade & Staple'!$A$1:$K$1000,MATCH($B301&C301,'Loan - Grade & Staple'!$B$1:$B$1000&'Loan - Grade & Staple'!$C$1:$C$1000,0),MATCH($K301,'Loan - Grade & Staple'!$A$3:$K$3,0))))))","v":""},{"$f":"IF(LEN(E301)=0,\"\",INDEX('Loan - Strength'!$C$1:$C$18,MATCH(E301,'Loan - Strength'!$A$1:$A$18,1)))","v":""},{"$f":"IF(LEN(F301)=0,\"\",INDEX('Loan - Micronaire'!$C$1:$C$20,MATCH($F301,'Loan - Micronaire'!$A$1:$A$20,1)))","v":""},{"$f":"IF(LEN(G301)=0,\"\",INDEX('Loan - Uniformity'!$C$1:$C$20,MATCH($G301,'Loan - Uniformity'!$A$1:$A$20,1)))","v":""},"","",{"$f":"IF(OR(LEN(B301)=0,LEN(C301)=0,LEN(D301)=0,LEN(E301)=0,LEN(F301)=0,LEN(G301)=0),\"\",IF('Base Values'!$B$8+(SUM($L301:$P301)/100)<0,0,'Base Values'!$B$8+(SUM(L301:P301)/100)))","v":""},null,{"$f":"IF(AND($T$13=TRUE,H301=1),'Loan - Extraneous'!B$3,IF(AND($T$13=TRUE,H301=2),'Loan - Extraneous'!C$3,0))","v":0},{"$f":"IF(I301=1,'Loan - Extraneous'!$B$4,IF(I301=2,'Loan - Extraneous'!$C$4,0))","v":0},{"$f":"IF(J301=1,'Loan - Extraneous'!$B$5,IF(J301=2,'Loan - Extraneous'!$C$5,0))","v":0}]
[null,null,null,null,null,null,null,null,null,null,"",{"$f":"IF(OR(LEN(B302)=0,LEN(C302)=0,LEN(D302)=0),\"\",IF(K302>=38,INDEX('Loan - Grade & Staple'!$A$1:$K$1000,MATCH($B302&$C302,'Loan - Grade & Staple'!$B$1:$B$1000&'Loan - Grade & Staple'!$C$1:$C$1000,0),MATCH(\"38+\",'Loan - Grade & Staple'!$A$3:$K$3,0)),IF(K302<=31,INDEX('Loan - Grade & Staple'!$A$1:$K$1000,MATCH($B302&$C302,'Loan - Grade & Staple'!$B$1:$B$1000&'Loan - Grade & Staple'!$C$1:$C$1000,0),MATCH(\"26-31\",'Loan - Grade & Staple'!$A$3:$K$3,0)),IF(ISNA(INDEX('Loan - Grade & Staple'!$A$1:$K$1000,MATCH($B302&C302,'Loan - Grade & Staple'!$B$1:$B$1000&'Loan - Grade & Staple'!$C$1:$C$1000,0),MATCH($K302,'Loan - Grade & Staple'!$A$3:$K$3,0))),-4000,INDEX('Loan - Grade & Staple'!$A$1:$K$1000,MATCH($B302&C302,'Loan - Grade & Staple'!$B$1:$B$1000&'Loan - Grade & Staple'!$C$1:$C$1000,0),MATCH($K302,'Loan - Grade & Staple'!$A$3:$K$3,0))))))","v":""},{"$f":"IF(LEN(E302)=0,\"\",INDEX('Loan - Strength'!$C$1:$C$18,MATCH(E302,'Loan - Strength'!$A$1:$A$18,1)))","v":""},{"$f":"IF(LEN(F302)=0,\"\",INDEX('Loan - Micronaire'!$C$1:$C$20,MATCH($F302,'Loan - Micronaire'!$A$1:$A$20,1)))","v":""},{"$f":"IF(LEN(G302)=0,\"\",INDEX('Loan - Uniformity'!$C$1:$C$20,MATCH($G302,'Loan - Uniformity'!$A$1:$A$20,1)))","v":""},"","",{"$f":"IF(OR(LEN(B302)=0,LEN(C302)=0,LEN(D302)=0,LEN(E302)=0,LEN(F302)=0,LEN(G302)=0),\"\",IF('Base Values'!$B$8+(SUM($L302:$P302)/100)<0,0,'Base Values'!$B$8+(SUM(L302:P302)/100)))","v":""},null,{"$f":"IF(AND($T$13=TRUE,H302=1),'Loan - Extraneous'!B$3,IF(AND($T$13=TRUE,H302=2),'Loan - Extraneous'!C$3,0))","v":0},{"$f":"IF(I302=1,'Loan - Extraneous'!$B$4,IF(I302=2,'Loan - Extraneous'!$C$4,0))","v":0},{"$f":"IF(J302=1,'Loan - Extraneous'!$B$5,IF(J302=2,'Loan - Extraneous'!$C$5,0))","v":0}]
[null,null,null,null,null,null,null,null,null,null,"",{"$f":"IF(OR(LEN(B303)=0,LEN(C303)=0,LEN(D303)=0),\"\",IF(K303>=38,INDEX('Loan - Grade & Staple'!$A$1:$K$1000,MATCH($B303&$C303,'Loan - Grade & Staple'!$B$1:$B$1000&'Loan - Grade & Staple'!$C$1:$C$1000,0),MATCH(\"38+\",'Loan - Grade & Staple'!$A$3:$K$3,0)),IF(K303<=31,INDEX('Loan - Grade & Staple'!$A$1:$K$1000,MATCH($B303&$C303,'Loan - Grade & Staple'!$B$1:$B$1000&'Loan - Grade & Staple'!$C$1:$C$1000,0),MATCH(\"26-31\",'Loan - Grade & Staple'!$A$3:$K$3,0)),IF(ISNA(INDEX('Loan - Grade & Staple'!$A$1:$K$1000,MATCH($B303&C303,'Loan - Grade & Staple'!$B$1:$B$1000&'Loan - Grade & Staple'!$C$1:$C$1000,0),MATCH($K303,'Loan - Grade & Staple'!$A$3:$K$3,0))),-4000,INDEX('Loan - Grade & Staple'!$A$1:$K$1000,MATCH($B303&C303,'Loan - Grade & Staple'!$B$1:$B$1000&'Loan - Grade & Staple'!$C$1:$C$1000,0),MATCH($K303,'Loan - Grade & Staple'!$A$3:$K$3,0))))))","v":""},{"$f":"IF(LEN(E303)=0,\"\",INDEX('Loan - Strength'!$C$1:$C$18,MATCH(E303,'Loan - Strength'!$A$1:$A$18,1)))","v":""},{"$f":"IF(LEN(F303)=0,\"\",INDEX('Loan - Micronaire'!$C$1:$C$20,MATCH($F303,'Loan - Micronaire'!$A$1:$A$20,1)))","v":""},{"$f":"IF(LEN(G303)=0,\"\",INDEX('Loan - Uniformity'!$C$1:$C$20,MATCH($G303,'Loan - Uniformity'!$A$1:$A$20,1)))","v":""},"","",{"$f":"IF(OR(LEN(B303)=0,LEN(C303)=0,LEN(D303)=0,LEN(E303)=0,LEN(F303)=0,LEN(G303)=0),\"\",IF('Base Values'!$B$8+(SUM($L303:$P303)/100)<0,0,'Base Values'!$B$8+(SUM(L303:P303)/100)))","v":""},null,{"$f":"IF(AND($T$13=TRUE,H303=1),'Loan - Extraneous'!B$3,IF(AND($T$13=TRUE,H303=2),'Loan - Extraneous'!C$3,0))","v":0},{"$f":"IF(I303=1,'Loan - Extraneous'!$B$4,IF(I303=2,'Loan - Extraneous'!$C$4,0))","v":0},{"$f":"IF(J303=1,'Loan - Extraneous'!$B$5,IF(J303=2,'Loan - Extraneous'!$C$5,0))","v":0}]
[null,null,null,null,null,null,null,null,null,null,"",{"$f":"IF(OR(LEN(B304)=0,LEN(C304)=0,LEN(D304)=0),\"\",IF(K304>=38,INDEX('Loan - Grade & Staple'!$A$1:$K$1000,MATCH($B304&$C304,'Loan - Grade & Staple'!$B$1:$B$1000&'Loan - Grade & Staple'!$C$1:$C$1000,0),MATCH(\"38+\",'Loan - Grade & Staple'!$A$3:$K$3,0)),IF(K304<=31,INDEX('Loan - Grade & Staple'!$A$1:$K$1000,MATCH($B304&$C304,'Loan - Grade & Staple'!$B$1:$B$1000&'Loan - Grade & Staple'!$C$1:$C$1000,0),MATCH(\"26-31\",'Loan - Grade & Staple'!$A$3:$K$3,0)),IF(ISNA(INDEX('Loan - Grade & Staple'!$A$1:$K$1000,MATCH($B304&C304,'Loan - Grade & Staple'!$B$1:$B$1000&'Loan - Grade & Staple'!$C$1:$C$1000,0),MATCH($K304,'Loan - Grade & Staple'!$A$3:$K$3,0))),-4000,INDEX('Loan - Grade & Staple'!$A$1:$K$1000,MATCH($B304&C304,'Loan - Grade & Staple'!$B$1:$B$1000&'Loan - Grade & Staple'!$C$1:$C$1000,0),MATCH($K304,'Loan - Grade & Staple'!$A$3:$K$3,0))))))","v":""},{"$f":"IF(LEN(E304)=0,\"\",INDEX('Loan - Strength'!$C$1:$C$18,MATCH(E304,'Loan - Strength'!$A$1:$A$18,1)))","v":""},{"$f":"IF(LEN(F304)=0,\"\",INDEX('Loan - Micronaire'!$C$1:$C$20,MATCH($F304,'Loan - Micronaire'!$A$1:$A$20,1)))","v":""},{"$f":"IF(LEN(G304)=0,\"\",INDEX('Loan - Uniformity'!$C$1:$C$20,MATCH($G304,'Loan - Uniformity'!$A$1:$A$20,1)))","v":""},"","",{"$f":"IF(OR(LEN(B304)=0,LEN(C304)=0,LEN(D304)=0,LEN(E304)=0,LEN(F304)=0,LEN(G304)=0),\"\",IF('Base Values'!$B$8+(SUM($L304:$P304)/100)<0,0,'Base Values'!$B$8+(SUM(L304:P304)/100)))","v":""},null,{"$f":"IF(AND($T$13=TRUE,H304=1),'Loan - Extraneous'!B$3,IF(AND($T$13=TRUE,H304=2),'Loan - Extraneous'!C$3,0))","v":0},{"$f":"IF(I304=1,'Loan - Extraneous'!$B$4,IF(I304=2,'Loan - Extraneous'!$C$4,0))","v":0},{"$f":"IF(J304=1,'Loan - Extraneous'!$B$5,IF(J304=2,'Loan - Extraneous'!$C$5,0))","v":0}]
[null,null,null,null,null,null,null,null,null,null,"",{"$f":"IF(OR(LEN(B305)=0,LEN(C305)=0,LEN(D305)=0),\"\",IF(K305>=38,INDEX('Loan - Grade & Staple'!$A$1:$K$1000,MATCH($B305&$C305,'Loan - Grade & Staple'!$B$1:$B$1000&'Loan - Grade & Staple'!$C$1:$C$1000,0),MATCH(\"38+\",'Loan - Grade & Staple'!$A$3:$K$3,0)),IF(K305<=31,INDEX('Loan - Grade & Staple'!$A$1:$K$1000,MATCH($B305&$C305,'Loan - Grade & Staple'!$B$1:$B$1000&'Loan - Grade & Staple'!$C$1:$C$1000,0),MATCH(\"26-31\",'Loan - Grade & Staple'!$A$3:$K$3,0)),IF(ISNA(INDEX('Loan - Grade & Staple'!$A$1:$K$1000,MATCH($B305&C305,'Loan - Grade & Staple'!$B$1:$B$1000&'Loan - Grade & Staple'!$C$1:$C$1000,0),MATCH($K305,'Loan - Grade & Staple'!$A$3:$K$3,0))),-4000,INDEX('Loan - Grade & Staple'!$A$1:$K$1000,MATCH($B305&C305,'Loan - Grade & Staple'!$B$1:$B$1000&'Loan - Grade & Staple'!$C$1:$C$1000,0),MATCH($K305,'Loan - Grade & Staple'!$A$3:$K$3,0))))))","v":""},{"$f":"IF(LEN(E305)=0,\"\",INDEX('Loan - Strength'!$C$1:$C$18,MATCH(E305,'Loan - Strength'!$A$1:$A$18,1)))","v":""},{"$f":"IF(LEN(F305)=0,\"\",INDEX('Loan - Micronaire'!$C$1:$C$20,MATCH($F305,'Loan - Micronaire'!$A$1:$A$20,1)))","v":""},{"$f":"IF(LEN(G305)=0,\"\",INDEX('Loan - Uniformity'!$C$1:$C$20,MATCH($G305,'Loan - Uniformity'!$A$1:$A$20,1)))","v":""},"","",{"$f":"IF(OR(LEN(B305)=0,LEN(C305)=0,LEN(D305)=0,LEN(E305)=0,LEN(F305)=0,LEN(G305)=0),\"\",IF('Base Values'!$B$8+(SUM($L305:$P305)/100)<0,0,'Base Values'!$B$8+(SUM(L305:P305)/100)))","v":""},null,{"$f":"IF(AND($T$13=TRUE,H305=1),'Loan - Extraneous'!B$3,IF(AND($T$13=TRUE,H305=2),'Loan - Extraneous'!C$3,0))","v":0},{"$f":"IF(I305=1,'Loan - Extraneous'!$B$4,IF(I305=2,'Loan - Extraneous'!$C$4,0))","v":0},{"$f":"IF(J305=1,'Loan - Extraneous'!$B$5,IF(J305=2,'Loan - Extraneous'!$C$5,0))","v":0}]
[null,null,null,null,null,null,null,null,null,null,"",{"$f":"IF(OR(LEN(B306)=0,LEN(C306)=0,LEN(D306)=0),\"\",IF(K306>=38,INDEX('Loan - Grade & Staple'!$A$1:$K$1000,MATCH($B306&$C306,'Loan - Grade & Staple'!$B$1:$B$1000&'Loan - Grade & Staple'!$C$1:$C$1000,0),MATCH(\"38+\",'Loan - Grade & Staple'!$A$3:$K$3,0)),IF(K306<=31,INDEX('Loan - Grade & Staple'!$A$1:$K$1000,MATCH($B306&$C306,'Loan - Grade & Staple'!$B$1:$B$1000&'Loan - Grade & Staple'!$C$1:$C$1000,0),MATCH(\"26-31\",'Loan - Grade & Staple'!$A$3:$K$3,0)),IF(ISNA(INDEX('Loan - Grade & Staple'!$A$1:$K$1000,MATCH($B306&C306,'Loan - Grade & Staple'!$B$1:$B$1000&'Loan - Grade & Staple'!$C$1:$C$1000,0),MATCH($K306,'Loan - Grade & Staple'!$A$3:$K$3,0))),-4000,INDEX('Loan - Grade & Staple'!$A$1:$K$1000,MATCH($B306&C306,'Loan - Grade & Staple'!$B$1:$B$1000&'Loan - Grade & Staple'!$C$1:$C$1000,0),MATCH($K306,'Loan - Grade & Staple'!$A$3:$K$3,0))))))","v":""},{"$f":"IF(LEN(E306)=0,\"\",INDEX('Loan - Strength'!$C$1:$C$18,MATCH(E306,'Loan - Strength'!$A$1:$A$18,1)))","v":""},{"$f":"IF(LEN(F306)=0,\"\",INDEX('Loan - Micronaire'!$C$1:$C$20,MATCH($F306,'Loan - Micronaire'!$A$1:$A$20,1)))","v":""},{"$f":"IF(LEN(G306)=0,\"\",INDEX('Loan - Uniformity'!$C$1:$C$20,MATCH($G306,'Loan - Uniformity'!$A$1:$A$20,1)))","v":""},"","",{"$f":"IF(OR(LEN(B306)=0,LEN(C306)=0,LEN(D306)=0,LEN(E306)=0,LEN(F306)=0,LEN(G306)=0),\"\",IF('Base Values'!$B$8+(SUM($L306:$P306)/100)<0,0,'Base Values'!$B$8+(SUM(L306:P306)/100)))","v":""},null,{"$f":"IF(AND($T$13=TRUE,H306=1),'Loan - Extraneous'!B$3,IF(AND($T$13=TRUE,H306=2),'Loan - Extraneous'!C$3,0))","v":0},{"$f":"IF(I306=1,'Loan - Extraneous'!$B$4,IF(I306=2,'Loan - Extraneous'!$C$4,0))","v":0},{"$f":"IF(J306=1,'Loan - Extraneous'!$B$5,IF(J306=2,'Loan - Extraneous'!$C$5,0))","v":0}]
[null,null,null,null,null,null,null,null,null,null,"",{"$f":"IF(OR(LEN(B307)=0,LEN(C307)=0,LEN(D307)=0),\"\",IF(K307>=38,INDEX('Loan - Grade & Staple'!$A$1:$K$1000,MATCH($B307&$C307,'Loan - Grade & Staple'!$B$1:$B$1000&'Loan - Grade & Staple'!$C$1:$C$1000,0),MATCH(\"38+\",'Loan - Grade & Staple'!$A$3:$K$3,0)),IF(K307<=31,INDEX('Loan - Grade & Staple'!$A$1:$K$1000,MATCH($B307&$C307,'Loan - Grade & Staple'!$B$1:$B$1000&'Loan - Grade & Staple'!$C$1:$C$1000,0),MATCH(\"26-31\",'Loan - Grade & Staple'!$A$3:$K$3,0)),IF(ISNA(INDEX('Loan - Grade & Staple'!$A$1:$K$1000,MATCH($B307&C307,'Loan - Grade & Staple'!$B$1:$B$1000&'Loan - Grade & Staple'!$C$1:$C$1000,0),MATCH($K307,'Loan - Grade & Staple'!$A$3:$K$3,0))),-4000,INDEX('Loan - Grade & Staple'!$A$1:$K$1000,MATCH($B307&C307,'Loan - Grade & Staple'!$B$1:$B$1000&'Loan - Grade & Staple'!$C$1:$C$1000,0),MATCH($K307,'Loan - Grade & Staple'!$A$3:$K$3,0))))))","v":""},{"$f":"IF(LEN(E307)=0,\"\",INDEX('Loan - Strength'!$C$1:$C$18,MATCH(E307,'Loan - Strength'!$A$1:$A$18,1)))","v":""},{"$f":"IF(LEN(F307)=0,\"\",INDEX('Loan - Micronaire'!$C$1:$C$20,MATCH($F307,'Loan - Micronaire'!$A$1:$A$20,1)))","v":""},{"$f":"IF(LEN(G307)=0,\"\",INDEX('Loan - Uniformity'!$C$1:$C$20,MATCH($G307,'Loan - Uniformity'!$A$1:$A$20,1)))","v":""},"","",{"$f":"IF(OR(LEN(B307)=0,LEN(C307)=0,LEN(D307)=0,LEN(E307)=0,LEN(F307)=0,LEN(G307)=0),\"\",IF('Base Values'!$B$8+(SUM($L307:$P307)/100)<0,0,'Base Values'!$B$8+(SUM(L307:P307)/100)))","v":""},null,{"$f":"IF(AND($T$13=TRUE,H307=1),'Loan - Extraneous'!B$3,IF(AND($T$13=TRUE,H307=2),'Loan - Extraneous'!C$3,0))","v":0},{"$f":"IF(I307=1,'Loan - Extraneous'!$B$4,IF(I307=2,'Loan - Extraneous'!$C$4,0))","v":0},{"$f":"IF(J307=1,'Loan - Extraneous'!$B$5,IF(J307=2,'Loan - Extraneous'!$C$5,0))","v":0}]
[null,null,null,null,null,null,null,null,null,null,"",{"$f":"IF(OR(LEN(B308)=0,LEN(C308)=0,LEN(D308)=0),\"\",IF(K308>=38,INDEX('Loan - Grade & Staple'!$A$1:$K$1000,MATCH($B308&$C308,'Loan - Grade & Staple'!$B$1:$B$1000&'Loan - Grade & Staple'!$C$1:$C$1000,0),MATCH(\"38+\",'Loan - Grade & Staple'!$A$3:$K$3,0)),IF(K308<=31,INDEX('Loan - Grade & Staple'!$A$1:$K$1000,MATCH($B308&$C308,'Loan - Grade & Staple'!$B$1:$B$1000&'Loan - Grade & Staple'!$C$1:$C$1000,0),MATCH(\"26-31\",'Loan - Grade & Staple'!$A$3:$K$3,0)),IF(ISNA(INDEX('Loan - Grade & Staple'!$A$1:$K$1000,MATCH($B308&C308,'Loan - Grade & Staple'!$B$1:$B$1000&'Loan - Grade & Staple'!$C$1:$C$1000,0),MATCH($K308,'Loan - Grade & Staple'!$A$3:$K$3,0))),-4000,INDEX('Loan - Grade & Staple'!$A$1:$K$1000,MATCH($B308&C308,'Loan - Grade & Staple'!$B$1:$B$1000&'Loan - Grade & Staple'!$C$1:$C$1000,0),MATCH($K308,'Loan - Grade & Staple'!$A$3:$K$3,0))))))","v":""},{"$f":"IF(LEN(E308)=0,\"\",INDEX('Loan - Strength'!$C$1:$C$18,MATCH(E308,'Loan - Strength'!$A$1:$A$18,1)))","v":""},{"$f":"IF(LEN(F308)=0,\"\",INDEX('Loan - Micronaire'!$C$1:$C$20,MATCH($F308,'Loan - Micronaire'!$A$1:$A$20,1)))","v":""},{"$f":"IF(LEN(G308)=0,\"\",INDEX('Loan - Uniformity'!$C$1:$C$20,MATCH($G308,'Loan - Uniformity'!$A$1:$A$20,1)))","v":""},"","",{"$f":"IF(OR(LEN(B308)=0,LEN(C308)=0,LEN(D308)=0,LEN(E308)=0,LEN(F308)=0,LEN(G308)=0),\"\",IF('Base Values'!$B$8+(SUM($L308:$P308)/100)<0,0,'Base Values'!$B$8+(SUM(L308:P308)/100)))","v":""},null,{"$f":"IF(AND($T$13=TRUE,H308=1),'Loan - Extraneous'!B$3,IF(AND($T$13=TRUE,H308=2),'Loan - Extraneous'!C$3,0))","v":0},{"$f":"IF(I308=1,'Loan - Extraneous'!$B$4,IF(I308=2,'Loan - Extraneous'!$C$4,0))","v":0},{"$f":"IF(J308=1,'Loan - Extraneous'!$B$5,IF(J308=2,'Loan - Extraneous'!$C$5,0))","v":0}]
[null,null,null,null,null,null,null,null,null,null,"",{"$f":"IF(OR(LEN(B309)=0,LEN(C309)=0,LEN(D309)=0),\"\",IF(K309>=38,INDEX('Loan - Grade & Staple'!$A$1:$K$1000,MATCH($B309&$C309,'Loan - Grade & Staple'!$B$1:$B$1000&'Loan - Grade & Staple'!$C$1:$C$1000,0),MATCH(\"38+\",'Loan - Grade & Staple'!$A$3:$K$3,0)),IF(K309<=31,INDEX('Loan - Grade & Staple'!$A$1:$K$1000,MATCH($B309&$C309,'Loan - Grade & Staple'!$B$1:$B$1000&'Loan - Grade & Staple'!$C$1:$C$1000,0),MATCH(\"26-31\",'Loan - Grade & Staple'!$A$3:$K$3,0)),IF(ISNA(INDEX('Loan - Grade & Staple'!$A$1:$K$1000,MATCH($B309&C309,'Loan - Grade & Staple'!$B$1:$B$1000&'Loan - Grade & Staple'!$C$1:$C$1000,0),MATCH($K309,'Loan - Grade & Staple'!$A$3:$K$3,0))),-4000,INDEX('Loan - Grade & Staple'!$A$1:$K$1000,MATCH($B309&C309,'Loan - Grade & Staple'!$B$1:$B$1000&'Loan - Grade & Staple'!$C$1:$C$1000,0),MATCH($K309,'Loan - Grade & Staple'!$A$3:$K$3,0))))))","v":""},{"$f":"IF(LEN(E309)=0,\"\",INDEX('Loan - Strength'!$C$1:$C$18,MATCH(E309,'Loan - Strength'!$A$1:$A$18,1)))","v":""},{"$f":"IF(LEN(F309)=0,\"\",INDEX('Loan - Micronaire'!$C$1:$C$20,MATCH($F309,'Loan - Micronaire'!$A$1:$A$20,1)))","v":""},{"$f":"IF(LEN(G309)=0,\"\",INDEX('Loan - Uniformity'!$C$1:$C$20,MATCH($G309,'Loan - Uniformity'!$A$1:$A$20,1)))","v":""},"","",{"$f":"IF(OR(LEN(B309)=0,LEN(C309)=0,LEN(D309)=0,LEN(E309)=0,LEN(F309)=0,LEN(G309)=0),\"\",IF('Base Values'!$B$8+(SUM($L309:$P309)/100)<0,0,'Base Values'!$B$8+(SUM(L309:P309)/100)))","v":""},null,{"$f":"IF(AND($T$13=TRUE,H309=1),'Loan - Extraneous'!B$3,IF(AND($T$13=TRUE,H309=2),'Loan - Extraneous'!C$3,0))","v":0},{"$f":"IF(I309=1,'Loan - Extraneous'!$B$4,IF(I309=2,'Loan - Extraneous'!$C$4,0))","v":0},{"$f":"IF(J309=1,'Loan - Extraneous'!$B$5,IF(J309=2,'Loan - Extraneous'!$C$5,0))","v":0}]
[null,null,null,null,null,null,null,null,null,null,"",{"$f":"IF(OR(LEN(B310)=0,LEN(C310)=0,LEN(D310)=0),\"\",IF(K310>=38,INDEX('Loan - Grade & Staple'!$A$1:$K$1000,MATCH($B310&$C310,'Loan - Grade & Staple'!$B$1:$B$1000&'Loan - Grade & Staple'!$C$1:$C$1000,0),MATCH(\"38+\",'Loan - Grade & Staple'!$A$3:$K$3,0)),IF(K310<=31,INDEX('Loan - Grade & Staple'!$A$1:$K$1000,MATCH($B310&$C310,'Loan - Grade & Staple'!$B$1:$B$1000&'Loan - Grade & Staple'!$C$1:$C$1000,0),MATCH(\"26-31\",'Loan - Grade & Staple'!$A$3:$K$3,0)),IF(ISNA(INDEX('Loan - Grade & Staple'!$A$1:$K$1000,MATCH($B310&C310,'Loan - Grade & Staple'!$B$1:$B$1000&'Loan - Grade & Staple'!$C$1:$C$1000,0),MATCH($K310,'Loan - Grade & Staple'!$A$3:$K$3,0))),-4000,INDEX('Loan - Grade & Staple'!$A$1:$K$1000,MATCH($B310&C310,'Loan - Grade & Staple'!$B$1:$B$1000&'Loan - Grade & Staple'!$C$1:$C$1000,0),MATCH($K310,'Loan - Grade & Staple'!$A$3:$K$3,0))))))","v":""},{"$f":"IF(LEN(E310)=0,\"\",INDEX('Loan - Strength'!$C$1:$C$18,MATCH(E310,'Loan - Strength'!$A$1:$A$18,1)))","v":""},{"$f":"IF(LEN(F310)=0,\"\",INDEX('Loan - Micronaire'!$C$1:$C$20,MATCH($F310,'Loan - Micronaire'!$A$1:$A$20,1)))","v":""},{"$f":"IF(LEN(G310)=0,\"\",INDEX('Loan - Uniformity'!$C$1:$C$20,MATCH($G310,'Loan - Uniformity'!$A$1:$A$20,1)))","v":""},"","",{"$f":"IF(OR(LEN(B310)=0,LEN(C310)=0,LEN(D310)=0,LEN(E310)=0,LEN(F310)=0,LEN(G310)=0),\"\",IF('Base Values'!$B$8+(SUM($L310:$P310)/100)<0,0,'Base Values'!$B$8+(SUM(L310:P310)/100)))","v":""},null,{"$f":"IF(AND($T$13=TRUE,H310=1),'Loan - Extraneous'!B$3,IF(AND($T$13=TRUE,H310=2),'Loan - Extraneous'!C$3,0))","v":0},{"$f":"IF(I310=1,'Loan - Extraneous'!$B$4,IF(I310=2,'Loan - Extraneous'!$C$4,0))","v":0},{"$f":"IF(J310=1,'Loan - Extraneous'!$B$5,IF(J310=2,'Loan - Extraneous'!$C$5,0))","v":0}]
[null,null,null,null,null,null,null,null,null,null,"",{"$f":"IF(OR(LEN(B311)=0,LEN(C311)=0,LEN(D311)=0),\"\",IF(K311>=38,INDEX('Loan - Grade & Staple'!$A$1:$K$1000,MATCH($B311&$C311,'Loan - Grade & Staple'!$B$1:$B$1000&'Loan - Grade & Staple'!$C$1:$C$1000,0),MATCH(\"38+\",'Loan - Grade & Staple'!$A$3:$K$3,0)),IF(K311<=31,INDEX('Loan - Grade & Staple'!$A$1:$K$1000,MATCH($B311&$C311,'Loan - Grade & Staple'!$B$1:$B$1000&'Loan - Grade & Staple'!$C$1:$C$1000,0),MATCH(\"26-31\",'Loan - Grade & Staple'!$A$3:$K$3,0)),IF(ISNA(INDEX('Loan - Grade & Staple'!$A$1:$K$1000,MATCH($B311&C311,'Loan - Grade & Staple'!$B$1:$B$1000&'Loan - Grade & Staple'!$C$1:$C$1000,0),MATCH($K311,'Loan - Grade & Staple'!$A$3:$K$3,0))),-4000,INDEX('Loan - Grade & Staple'!$A$1:$K$1000,MATCH($B311&C311,'Loan - Grade & Staple'!$B$1:$B$1000&'Loan - Grade & Staple'!$C$1:$C$1000,0),MATCH($K311,'Loan - Grade & Staple'!$A$3:$K$3,0))))))","v":""},{"$f":"IF(LEN(E311)=0,\"\",INDEX('Loan - Strength'!$C$1:$C$18,MATCH(E311,'Loan - Strength'!$A$1:$A$18,1)))","v":""},{"$f":"IF(LEN(F311)=0,\"\",INDEX('Loan - Micronaire'!$C$1:$C$20,MATCH($F311,'Loan - Micronaire'!$A$1:$A$20,1)))","v":""},{"$f":"IF(LEN(G311)=0,\"\",INDEX('Loan - Uniformity'!$C$1:$C$20,MATCH($G311,'Loan - Uniformity'!$A$1:$A$20,1)))","v":""},"","",{"$f":"IF(OR(LEN(B311)=0,LEN(C311)=0,LEN(D311)=0,LEN(E311)=0,LEN(F311)=0,LEN(G311)=0),\"\",IF('Base Values'!$B$8+(SUM($L311:$P311)/100)<0,0,'Base Values'!$B$8+(SUM(L311:P311)/100)))","v":""},null,{"$f":"IF(AND($T$13=TRUE,H311=1),'Loan - Extraneous'!B$3,IF(AND($T$13=TRUE,H311=2),'Loan - Extraneous'!C$3,0))","v":0},{"$f":"IF(I311=1,'Loan - Extraneous'!$B$4,IF(I311=2,'Loan - Extraneous'!$C$4,0))","v":0},{"$f":"IF(J311=1,'Loan - Extraneous'!$B$5,IF(J311=2,'Loan - Extraneous'!$C$5,0))","v":0}]
[null,null,null,null,null,null,null,null,null,null,"",{"$f":"IF(OR(LEN(B312)=0,LEN(C312)=0,LEN(D312)=0),\"\",IF(K312>=38,INDEX('Loan - Grade & Staple'!$A$1:$K$1000,MATCH($B312&$C312,'Loan - Grade & Staple'!$B$1:$B$1000&'Loan - Grade & Staple'!$C$1:$C$1000,0),MATCH(\"38+\",'Loan - Grade & Staple'!$A$3:$K$3,0)),IF(K312<=31,INDEX('Loan - Grade & Staple'!$A$1:$K$1000,MATCH($B312&$C312,'Loan - Grade & Staple'!$B$1:$B$1000&'Loan - Grade & Staple'!$C$1:$C$1000,0),MATCH(\"26-31\",'Loan - Grade & Staple'!$A$3:$K$3,0)),IF(ISNA(INDEX('Loan - Grade & Staple'!$A$1:$K$1000,MATCH($B312&C312,'Loan - Grade & Staple'!$B$1:$B$1000&'Loan - Grade & Staple'!$C$1:$C$1000,0),MATCH($K312,'Loan - Grade & Staple'!$A$3:$K$3,0))),-4000,INDEX('Loan - Grade & Staple'!$A$1:$K$1000,MATCH($B312&C312,'Loan - Grade & Staple'!$B$1:$B$1000&'Loan - Grade & Staple'!$C$1:$C$1000,0),MATCH($K312,'Loan - Grade & Staple'!$A$3:$K$3,0))))))","v":""},{"$f":"IF(LEN(E312)=0,\"\",INDEX('Loan - Strength'!$C$1:$C$18,MATCH(E312,'Loan - Strength'!$A$1:$A$18,1)))","v":""},{"$f":"IF(LEN(F312)=0,\"\",INDEX('Loan - Micronaire'!$C$1:$C$20,MATCH($F312,'Loan - Micronaire'!$A$1:$A$20,1)))","v":""},{"$f":"IF(LEN(G312)=0,\"\",INDEX('Loan - Uniformity'!$C$1:$C$20,MATCH($G312,'Loan - Uniformity'!$A$1:$A$20,1)))","v":""},"","",{"$f":"IF(OR(LEN(B312)=0,LEN(C312)=0,LEN(D312)=0,LEN(E312)=0,LEN(F312)=0,LEN(G312)=0),\"\",IF('Base Values'!$B$8+(SUM($L312:$P312)/100)<0,0,'Base Values'!$B$8+(SUM(L312:P312)/100)))","v":""},null,{"$f":"IF(AND($T$13=TRUE,H312=1),'Loan - Extraneous'!B$3,IF(AND($T$13=TRUE,H312=2),'Loan - Extraneous'!C$3,0))","v":0},{"$f":"IF(I312=1,'Loan - Extraneous'!$B$4,IF(I312=2,'Loan - Extraneous'!$C$4,0))","v":0},{"$f":"IF(J312=1,'Loan - Extraneous'!$B$5,IF(J312=2,'Loan - Extraneous'!$C$5,0))","v":0}]
[null,null,null,null,null,null,null,null,null,null,"",{"$f":"IF(OR(LEN(B313)=0,LEN(C313)=0,LEN(D313)=0),\"\",IF(K313>=38,INDEX('Loan - Grade & Staple'!$A$1:$K$1000,MATCH($B313&$C313,'Loan - Grade & Staple'!$B$1:$B$1000&'Loan - Grade & Staple'!$C$1:$C$1000,0),MATCH(\"38+\",'Loan - Grade & Staple'!$A$3:$K$3,0)),IF(K313<=31,INDEX('Loan - Grade & Staple'!$A$1:$K$1000,MATCH($B313&$C313,'Loan - Grade & Staple'!$B$1:$B$1000&'Loan - Grade & Staple'!$C$1:$C$1000,0),MATCH(\"26-31\",'Loan - Grade & Staple'!$A$3:$K$3,0)),IF(ISNA(INDEX('Loan - Grade & Staple'!$A$1:$K$1000,MATCH($B313&C313,'Loan - Grade & Staple'!$B$1:$B$1000&'Loan - Grade & Staple'!$C$1:$C$1000,0),MATCH($K313,'Loan - Grade & Staple'!$A$3:$K$3,0))),-4000,INDEX('Loan - Grade & Staple'!$A$1:$K$1000,MATCH($B313&C313,'Loan - Grade & Staple'!$B$1:$B$1000&'Loan - Grade & Staple'!$C$1:$C$1000,0),MATCH($K313,'Loan - Grade & Staple'!$A$3:$K$3,0))))))","v":""},{"$f":"IF(LEN(E313)=0,\"\",INDEX('Loan - Strength'!$C$1:$C$18,MATCH(E313,'Loan - Strength'!$A$1:$A$18,1)))","v":""},{"$f":"IF(LEN(F313)=0,\"\",INDEX('Loan - Micronaire'!$C$1:$C$20,MATCH($F313,'Loan - Micronaire'!$A$1:$A$20,1)))","v":""},{"$f":"IF(LEN(G313)=0,\"\",INDEX('Loan - Uniformity'!$C$1:$C$20,MATCH($G313,'Loan - Uniformity'!$A$1:$A$20,1)))","v":""},"","",{"$f":"IF(OR(LEN(B313)=0,LEN(C313)=0,LEN(D313)=0,LEN(E313)=0,LEN(F313)=0,LEN(G313)=0),\"\",IF('Base Values'!$B$8+(SUM($L313:$P313)/100)<0,0,'Base Values'!$B$8+(SUM(L313:P313)/100)))","v":""},null,{"$f":"IF(AND($T$13=TRUE,H313=1),'Loan - Extraneous'!B$3,IF(AND($T$13=TRUE,H313=2),'Loan - Extraneous'!C$3,0))","v":0},{"$f":"IF(I313=1,'Loan - Extraneous'!$B$4,IF(I313=2,'Loan - Extraneous'!$C$4,0))","v":0},{"$f":"IF(J313=1,'Loan - Extraneous'!$B$5,IF(J313=2,'Loan - Extraneous'!$C$5,0))","v":0}]
[null,null,null,null,null,null,null,null,null,null,"",{"$f":"IF(OR(LEN(B314)=0,LEN(C314)=0,LEN(D314)=0),\"\",IF(K314>=38,INDEX('Loan - Grade & Staple'!$A$1:$K$1000,MATCH($B314&$C314,'Loan - Grade & Staple'!$B$1:$B$1000&'Loan - Grade & Staple'!$C$1:$C$1000,0),MATCH(\"38+\",'Loan - Grade & Staple'!$A$3:$K$3,0)),IF(K314<=31,INDEX('Loan - Grade & Staple'!$A$1:$K$1000,MATCH($B314&$C314,'Loan - Grade & Staple'!$B$1:$B$1000&'Loan - Grade & Staple'!$C$1:$C$1000,0),MATCH(\"26-31\",'Loan - Grade & Staple'!$A$3:$K$3,0)),IF(ISNA(INDEX('Loan - Grade & Staple'!$A$1:$K$1000,MATCH($B314&C314,'Loan - Grade & Staple'!$B$1:$B$1000&'Loan - Grade & Staple'!$C$1:$C$1000,0),MATCH($K314,'Loan - Grade & Staple'!$A$3:$K$3,0))),-4000,INDEX('Loan - Grade & Staple'!$A$1:$K$1000,MATCH($B314&C314,'Loan - Grade & Staple'!$B$1:$B$1000&'Loan - Grade & Staple'!$C$1:$C$1000,0),MATCH($K314,'Loan - Grade & Staple'!$A$3:$K$3,0))))))","v":""},{"$f":"IF(LEN(E314)=0,\"\",INDEX('Loan - Strength'!$C$1:$C$18,MATCH(E314,'Loan - Strength'!$A$1:$A$18,1)))","v":""},{"$f":"IF(LEN(F314)=0,\"\",INDEX('Loan - Micronaire'!$C$1:$C$20,MATCH($F314,'Loan - Micronaire'!$A$1:$A$20,1)))","v":""},{"$f":"IF(LEN(G314)=0,\"\",INDEX('Loan - Uniformity'!$C$1:$C$20,MATCH($G314,'Loan - Uniformity'!$A$1:$A$20,1)))","v":""},"","",{"$f":"IF(OR(LEN(B314)=0,LEN(C314)=0,LEN(D314)=0,LEN(E314)=0,LEN(F314)=0,LEN(G314)=0),\"\",IF('Base Values'!$B$8+(SUM($L314:$P314)/100)<0,0,'Base Values'!$B$8+(SUM(L314:P314)/100)))","v":""},null,{"$f":"IF(AND($T$13=TRUE,H314=1),'Loan - Extraneous'!B$3,IF(AND($T$13=TRUE,H314=2),'Loan - Extraneous'!C$3,0))","v":0},{"$f":"IF(I314=1,'Loan - Extraneous'!$B$4,IF(I314=2,'Loan - Extraneous'!$C$4,0))","v":0},{"$f":"IF(J314=1,'Loan - Extraneous'!$B$5,IF(J314=2,'Loan - Extraneous'!$C$5,0))","v":0}]
[null,null,null,null,null,null,null,null,null,null,"",{"$f":"IF(OR(LEN(B315)=0,LEN(C315)=0,LEN(D315)=0),\"\",IF(K315>=38,INDEX('Loan - Grade & Staple'!$A$1:$K$1000,MATCH($B315&$C315,'Loan - Grade & Staple'!$B$1:$B$1000&'Loan - Grade & Staple'!$C$1:$C$1000,0),MATCH(\"38+\",'Loan - Grade & Staple'!$A$3:$K$3,0)),IF(K315<=31,INDEX('Loan - Grade & Staple'!$A$1:$K$1000,MATCH($B315&$C315,'Loan - Grade & Staple'!$B$1:$B$1000&'Loan - Grade & Staple'!$C$1:$C$1000,0),MATCH(\"26-31\",'Loan - Grade & Staple'!$A$3:$K$3,0)),IF(ISNA(INDEX('Loan - Grade & Staple'!$A$1:$K$1000,MATCH($B315&C315,'Loan - Grade & Staple'!$B$1:$B$1000&'Loan - Grade & Staple'!$C$1:$C$1000,0),MATCH($K315,'Loan - Grade & Staple'!$A$3:$K$3,0))),-4000,INDEX('Loan - Grade & Staple'!$A$1:$K$1000,MATCH($B315&C315,'Loan - Grade & Staple'!$B$1:$B$1000&'Loan - Grade & Staple'!$C$1:$C$1000,0),MATCH($K315,'Loan - Grade & Staple'!$A$3:$K$3,0))))))","v":""},{"$f":"IF(LEN(E315)=0,\"\",INDEX('Loan - Strength'!$C$1:$C$18,MATCH(E315,'Loan - Strength'!$A$1:$A$18,1)))","v":""},{"$f":"IF(LEN(F315)=0,\"\",INDEX('Loan - Micronaire'!$C$1:$C$20,MATCH($F315,'Loan - Micronaire'!$A$1:$A$20,1)))","v":""},{"$f":"IF(LEN(G315)=0,\"\",INDEX('Loan - Uniformity'!$C$1:$C$20,MATCH($G315,'Loan - Uniformity'!$A$1:$A$20,1)))","v":""},"","",{"$f":"IF(OR(LEN(B315)=0,LEN(C315)=0,LEN(D315)=0,LEN(E315)=0,LEN(F315)=0,LEN(G315)=0),\"\",IF('Base Values'!$B$8+(SUM($L315:$P315)/100)<0,0,'Base Values'!$B$8+(SUM(L315:P315)/100)))","v":""},null,{"$f":"IF(AND($T$13=TRUE,H315=1),'Loan - Extraneous'!B$3,IF(AND($T$13=TRUE,H315=2),'Loan - Extraneous'!C$3,0))","v":0},{"$f":"IF(I315=1,'Loan - Extraneous'!$B$4,IF(I315=2,'Loan - Extraneous'!$C$4,0))","v":0},{"$f":"IF(J315=1,'Loan - Extraneous'!$B$5,IF(J315=2,'Loan - Extraneous'!$C$5,0))","v":0}]
[null,null,null,null,null,null,null,null,null,null,"",{"$f":"IF(OR(LEN(B316)=0,LEN(C316)=0,LEN(D316)=0),\"\",IF(K316>=38,INDEX('Loan - Grade & Staple'!$A$1:$K$1000,MATCH($B316&$C316,'Loan - Grade & Staple'!$B$1:$B$1000&'Loan - Grade & Staple'!$C$1:$C$1000,0),MATCH(\"38+\",'Loan - Grade & Staple'!$A$3:$K$3,0)),IF(K316<=31,INDEX('Loan - Grade & Staple'!$A$1:$K$1000,MATCH($B316&$C316,'Loan - Grade & Staple'!$B$1:$B$1000&'Loan - Grade & Staple'!$C$1:$C$1000,0),MATCH(\"26-31\",'Loan - Grade & Staple'!$A$3:$K$3,0)),IF(ISNA(INDEX('Loan - Grade & Staple'!$A$1:$K$1000,MATCH($B316&C316,'Loan - Grade & Staple'!$B$1:$B$1000&'Loan - Grade & Staple'!$C$1:$C$1000,0),MATCH($K316,'Loan - Grade & Staple'!$A$3:$K$3,0))),-4000,INDEX('Loan - Grade & Staple'!$A$1:$K$1000,MATCH($B316&C316,'Loan - Grade & Staple'!$B$1:$B$1000&'Loan - Grade & Staple'!$C$1:$C$1000,0),MATCH($K316,'Loan - Grade & Staple'!$A$3:$K$3,0))))))","v":""},{"$f":"IF(LEN(E316)=0,\"\",INDEX('Loan - Strength'!$C$1:$C$18,MATCH(E316,'Loan - Strength'!$A$1:$A$18,1)))","v":""},{"$f":"IF(LEN(F316)=0,\"\",INDEX('Loan - Micronaire'!$C$1:$C$20,MATCH($F316,'Loan - Micronaire'!$A$1:$A$20,1)))","v":""},{"$f":"IF(LEN(G316)=0,\"\",INDEX('Loan - Uniformity'!$C$1:$C$20,MATCH($G316,'Loan - Uniformity'!$A$1:$A$20,1)))","v":""},"","",{"$f":"IF(OR(LEN(B316)=0,LEN(C316)=0,LEN(D316)=0,LEN(E316)=0,LEN(F316)=0,LEN(G316)=0),\"\",IF('Base Values'!$B$8+(SUM($L316:$P316)/100)<0,0,'Base Values'!$B$8+(SUM(L316:P316)/100)))","v":""},null,{"$f":"IF(AND($T$13=TRUE,H316=1),'Loan - Extraneous'!B$3,IF(AND($T$13=TRUE,H316=2),'Loan - Extraneous'!C$3,0))","v":0},{"$f":"IF(I316=1,'Loan - Extraneous'!$B$4,IF(I316=2,'Loan - Extraneous'!$C$4,0))","v":0},{"$f":"IF(J316=1,'Loan - Extraneous'!$B$5,IF(J316=2,'Loan - Extraneous'!$C$5,0))","v":0}]
[null,null,null,null,null,null,null,null,null,null,"",{"$f":"IF(OR(LEN(B317)=0,LEN(C317)=0,LEN(D317)=0),\"\",IF(K317>=38,INDEX('Loan - Grade & Staple'!$A$1:$K$1000,MATCH($B317&$C317,'Loan - Grade & Staple'!$B$1:$B$1000&'Loan - Grade & Staple'!$C$1:$C$1000,0),MATCH(\"38+\",'Loan - Grade & Staple'!$A$3:$K$3,0)),IF(K317<=31,INDEX('Loan - Grade & Staple'!$A$1:$K$1000,MATCH($B317&$C317,'Loan - Grade & Staple'!$B$1:$B$1000&'Loan - Grade & Staple'!$C$1:$C$1000,0),MATCH(\"26-31\",'Loan - Grade & Staple'!$A$3:$K$3,0)),IF(ISNA(INDEX('Loan - Grade & Staple'!$A$1:$K$1000,MATCH($B317&C317,'Loan - Grade & Staple'!$B$1:$B$1000&'Loan - Grade & Staple'!$C$1:$C$1000,0),MATCH($K317,'Loan - Grade & Staple'!$A$3:$K$3,0))),-4000,INDEX('Loan - Grade & Staple'!$A$1:$K$1000,MATCH($B317&C317,'Loan - Grade & Staple'!$B$1:$B$1000&'Loan - Grade & Staple'!$C$1:$C$1000,0),MATCH($K317,'Loan - Grade & Staple'!$A$3:$K$3,0))))))","v":""},{"$f":"IF(LEN(E317)=0,\"\",INDEX('Loan - Strength'!$C$1:$C$18,MATCH(E317,'Loan - Strength'!$A$1:$A$18,1)))","v":""},{"$f":"IF(LEN(F317)=0,\"\",INDEX('Loan - Micronaire'!$C$1:$C$20,MATCH($F317,'Loan - Micronaire'!$A$1:$A$20,1)))","v":""},{"$f":"IF(LEN(G317)=0,\"\",INDEX('Loan - Uniformity'!$C$1:$C$20,MATCH($G317,'Loan - Uniformity'!$A$1:$A$20,1)))","v":""},"","",{"$f":"IF(OR(LEN(B317)=0,LEN(C317)=0,LEN(D317)=0,LEN(E317)=0,LEN(F317)=0,LEN(G317)=0),\"\",IF('Base Values'!$B$8+(SUM($L317:$P317)/100)<0,0,'Base Values'!$B$8+(SUM(L317:P317)/100)))","v":""},null,{"$f":"IF(AND($T$13=TRUE,H317=1),'Loan - Extraneous'!B$3,IF(AND($T$13=TRUE,H317=2),'Loan - Extraneous'!C$3,0))","v":0},{"$f":"IF(I317=1,'Loan - Extraneous'!$B$4,IF(I317=2,'Loan - Extraneous'!$C$4,0))","v":0},{"$f":"IF(J317=1,'Loan - Extraneous'!$B$5,IF(J317=2,'Loan - Extraneous'!$C$5,0))","v":0}]
[null,null,null,null,null,null,null,null,null,null,"",{"$f":"IF(OR(LEN(B318)=0,LEN(C318)=0,LEN(D318)=0),\"\",IF(K318>=38,INDEX('Loan - Grade & Staple'!$A$1:$K$1000,MATCH($B318&$C318,'Loan - Grade & Staple'!$B$1:$B$1000&'Loan - Grade & Staple'!$C$1:$C$1000,0),MATCH(\"38+\",'Loan - Grade & Staple'!$A$3:$K$3,0)),IF(K318<=31,INDEX('Loan - Grade & Staple'!$A$1:$K$1000,MATCH($B318&$C318,'Loan - Grade & Staple'!$B$1:$B$1000&'Loan - Grade & Staple'!$C$1:$C$1000,0),MATCH(\"26-31\",'Loan - Grade & Staple'!$A$3:$K$3,0)),IF(ISNA(INDEX('Loan - Grade & Staple'!$A$1:$K$1000,MATCH($B318&C318,'Loan - Grade & Staple'!$B$1:$B$1000&'Loan - Grade & Staple'!$C$1:$C$1000,0),MATCH($K318,'Loan - Grade & Staple'!$A$3:$K$3,0))),-4000,INDEX('Loan - Grade & Staple'!$A$1:$K$1000,MATCH($B318&C318,'Loan - Grade & Staple'!$B$1:$B$1000&'Loan - Grade & Staple'!$C$1:$C$1000,0),MATCH($K318,'Loan - Grade & Staple'!$A$3:$K$3,0))))))","v":""},{"$f":"IF(LEN(E318)=0,\"\",INDEX('Loan - Strength'!$C$1:$C$18,MATCH(E318,'Loan - Strength'!$A$1:$A$18,1)))","v":""},{"$f":"IF(LEN(F318)=0,\"\",INDEX('Loan - Micronaire'!$C$1:$C$20,MATCH($F318,'Loan - Micronaire'!$A$1:$A$20,1)))","v":""},{"$f":"IF(LEN(G318)=0,\"\",INDEX('Loan - Uniformity'!$C$1:$C$20,MATCH($G318,'Loan - Uniformity'!$A$1:$A$20,1)))","v":""},"","",{"$f":"IF(OR(LEN(B318)=0,LEN(C318)=0,LEN(D318)=0,LEN(E318)=0,LEN(F318)=0,LEN(G318)=0),\"\",IF('Base Values'!$B$8+(SUM($L318:$P318)/100)<0,0,'Base Values'!$B$8+(SUM(L318:P318)/100)))","v":""},null,{"$f":"IF(AND($T$13=TRUE,H318=1),'Loan - Extraneous'!B$3,IF(AND($T$13=TRUE,H318=2),'Loan - Extraneous'!C$3,0))","v":0},{"$f":"IF(I318=1,'Loan - Extraneous'!$B$4,IF(I318=2,'Loan - Extraneous'!$C$4,0))","v":0},{"$f":"IF(J318=1,'Loan - Extraneous'!$B$5,IF(J318=2,'Loan - Extraneous'!$C$5,0))","v":0}]
[null,null,null,null,null,null,null,null,null,null,"",{"$f":"IF(OR(LEN(B319)=0,LEN(C319)=0,LEN(D319)=0),\"\",IF(K319>=38,INDEX('Loan - Grade & Staple'!$A$1:$K$1000,MATCH($B319&$C319,'Loan - Grade & Staple'!$B$1:$B$1000&'Loan - Grade & Staple'!$C$1:$C$1000,0),MATCH(\"38+\",'Loan - Grade & Staple'!$A$3:$K$3,0)),IF(K319<=31,INDEX('Loan - Grade & Staple'!$A$1:$K$1000,MATCH($B319&$C319,'Loan - Grade & Staple'!$B$1:$B$1000&'Loan - Grade & Staple'!$C$1:$C$1000,0),MATCH(\"26-31\",'Loan - Grade & Staple'!$A$3:$K$3,0)),IF(ISNA(INDEX('Loan - Grade & Staple'!$A$1:$K$1000,MATCH($B319&C319,'Loan - Grade & Staple'!$B$1:$B$1000&'Loan - Grade & Staple'!$C$1:$C$1000,0),MATCH($K319,'Loan - Grade & Staple'!$A$3:$K$3,0))),-4000,INDEX('Loan - Grade & Staple'!$A$1:$K$1000,MATCH($B319&C319,'Loan - Grade & Staple'!$B$1:$B$1000&'Loan - Grade & Staple'!$C$1:$C$1000,0),MATCH($K319,'Loan - Grade & Staple'!$A$3:$K$3,0))))))","v":""},{"$f":"IF(LEN(E319)=0,\"\",INDEX('Loan - Strength'!$C$1:$C$18,MATCH(E319,'Loan - Strength'!$A$1:$A$18,1)))","v":""},{"$f":"IF(LEN(F319)=0,\"\",INDEX('Loan - Micronaire'!$C$1:$C$20,MATCH($F319,'Loan - Micronaire'!$A$1:$A$20,1)))","v":""},{"$f":"IF(LEN(G319)=0,\"\",INDEX('Loan - Uniformity'!$C$1:$C$20,MATCH($G319,'Loan - Uniformity'!$A$1:$A$20,1)))","v":""},"","",{"$f":"IF(OR(LEN(B319)=0,LEN(C319)=0,LEN(D319)=0,LEN(E319)=0,LEN(F319)=0,LEN(G319)=0),\"\",IF('Base Values'!$B$8+(SUM($L319:$P319)/100)<0,0,'Base Values'!$B$8+(SUM(L319:P319)/100)))","v":""},null,{"$f":"IF(AND($T$13=TRUE,H319=1),'Loan - Extraneous'!B$3,IF(AND($T$13=TRUE,H319=2),'Loan - Extraneous'!C$3,0))","v":0},{"$f":"IF(I319=1,'Loan - Extraneous'!$B$4,IF(I319=2,'Loan - Extraneous'!$C$4,0))","v":0},{"$f":"IF(J319=1,'Loan - Extraneous'!$B$5,IF(J319=2,'Loan - Extraneous'!$C$5,0))","v":0}]
[null,null,null,null,null,null,null,null,null,null,"",{"$f":"IF(OR(LEN(B320)=0,LEN(C320)=0,LEN(D320)=0),\"\",IF(K320>=38,INDEX('Loan - Grade & Staple'!$A$1:$K$1000,MATCH($B320&$C320,'Loan - Grade & Staple'!$B$1:$B$1000&'Loan - Grade & Staple'!$C$1:$C$1000,0),MATCH(\"38+\",'Loan - Grade & Staple'!$A$3:$K$3,0)),IF(K320<=31,INDEX('Loan - Grade & Staple'!$A$1:$K$1000,MATCH($B320&$C320,'Loan - Grade & Staple'!$B$1:$B$1000&'Loan - Grade & Staple'!$C$1:$C$1000,0),MATCH(\"26-31\",'Loan - Grade & Staple'!$A$3:$K$3,0)),IF(ISNA(INDEX('Loan - Grade & Staple'!$A$1:$K$1000,MATCH($B320&C320,'Loan - Grade & Staple'!$B$1:$B$1000&'Loan - Grade & Staple'!$C$1:$C$1000,0),MATCH($K320,'Loan - Grade & Staple'!$A$3:$K$3,0))),-4000,INDEX('Loan - Grade & Staple'!$A$1:$K$1000,MATCH($B320&C320,'Loan - Grade & Staple'!$B$1:$B$1000&'Loan - Grade & Staple'!$C$1:$C$1000,0),MATCH($K320,'Loan - Grade & Staple'!$A$3:$K$3,0))))))","v":""},{"$f":"IF(LEN(E320)=0,\"\",INDEX('Loan - Strength'!$C$1:$C$18,MATCH(E320,'Loan - Strength'!$A$1:$A$18,1)))","v":""},{"$f":"IF(LEN(F320)=0,\"\",INDEX('Loan - Micronaire'!$C$1:$C$20,MATCH($F320,'Loan - Micronaire'!$A$1:$A$20,1)))","v":""},{"$f":"IF(LEN(G320)=0,\"\",INDEX('Loan - Uniformity'!$C$1:$C$20,MATCH($G320,'Loan - Uniformity'!$A$1:$A$20,1)))","v":""},"","",{"$f":"IF(OR(LEN(B320)=0,LEN(C320)=0,LEN(D320)=0,LEN(E320)=0,LEN(F320)=0,LEN(G320)=0),\"\",IF('Base Values'!$B$8+(SUM($L320:$P320)/100)<0,0,'Base Values'!$B$8+(SUM(L320:P320)/100)))","v":""},null,{"$f":"IF(AND($T$13=TRUE,H320=1),'Loan - Extraneous'!B$3,IF(AND($T$13=TRUE,H320=2),'Loan - Extraneous'!C$3,0))","v":0},{"$f":"IF(I320=1,'Loan - Extraneous'!$B$4,IF(I320=2,'Loan - Extraneous'!$C$4,0))","v":0},{"$f":"IF(J320=1,'Loan - Extraneous'!$B$5,IF(J320=2,'Loan - Extraneous'!$C$5,0))","v":0}]
[null,null,null,null,null,null,null,null,null,null,"",{"$f":"IF(OR(LEN(B321)=0,LEN(C321)=0,LEN(D321)=0),\"\",IF(K321>=38,INDEX('Loan - Grade & Staple'!$A$1:$K$1000,MATCH($B321&$C321,'Loan - Grade & Staple'!$B$1:$B$1000&'Loan - Grade & Staple'!$C$1:$C$1000,0),MATCH(\"38+\",'Loan - Grade & Staple'!$A$3:$K$3,0)),IF(K321<=31,INDEX('Loan - Grade & Staple'!$A$1:$K$1000,MATCH($B321&$C321,'Loan - Grade & Staple'!$B$1:$B$1000&'Loan - Grade & Staple'!$C$1:$C$1000,0),MATCH(\"26-31\",'Loan - Grade & Staple'!$A$3:$K$3,0)),IF(ISNA(INDEX('Loan - Grade & Staple'!$A$1:$K$1000,MATCH($B321&C321,'Loan - Grade & Staple'!$B$1:$B$1000&'Loan - Grade & Staple'!$C$1:$C$1000,0),MATCH($K321,'Loan - Grade & Staple'!$A$3:$K$3,0))),-4000,INDEX('Loan - Grade & Staple'!$A$1:$K$1000,MATCH($B321&C321,'Loan - Grade & Staple'!$B$1:$B$1000&'Loan - Grade & Staple'!$C$1:$C$1000,0),MATCH($K321,'Loan - Grade & Staple'!$A$3:$K$3,0))))))","v":""},{"$f":"IF(LEN(E321)=0,\"\",INDEX('Loan - Strength'!$C$1:$C$18,MATCH(E321,'Loan - Strength'!$A$1:$A$18,1)))","v":""},{"$f":"IF(LEN(F321)=0,\"\",INDEX('Loan - Micronaire'!$C$1:$C$20,MATCH($F321,'Loan - Micronaire'!$A$1:$A$20,1)))","v":""},{"$f":"IF(LEN(G321)=0,\"\",INDEX('Loan - Uniformity'!$C$1:$C$20,MATCH($G321,'Loan - Uniformity'!$A$1:$A$20,1)))","v":""},"","",{"$f":"IF(OR(LEN(B321)=0,LEN(C321)=0,LEN(D321)=0,LEN(E321)=0,LEN(F321)=0,LEN(G321)=0),\"\",IF('Base Values'!$B$8+(SUM($L321:$P321)/100)<0,0,'Base Values'!$B$8+(SUM(L321:P321)/100)))","v":""},null,{"$f":"IF(AND($T$13=TRUE,H321=1),'Loan - Extraneous'!B$3,IF(AND($T$13=TRUE,H321=2),'Loan - Extraneous'!C$3,0))","v":0},{"$f":"IF(I321=1,'Loan - Extraneous'!$B$4,IF(I321=2,'Loan - Extraneous'!$C$4,0))","v":0},{"$f":"IF(J321=1,'Loan - Extraneous'!$B$5,IF(J321=2,'Loan - Extraneous'!$C$5,0))","v":0}]
[null,null,null,null,null,null,null,null,null,null,"",{"$f":"IF(OR(LEN(B322)=0,LEN(C322)=0,LEN(D322)=0),\"\",IF(K322>=38,INDEX('Loan - Grade & Staple'!$A$1:$K$1000,MATCH($B322&$C322,'Loan - Grade & Staple'!$B$1:$B$1000&'Loan - Grade & Staple'!$C$1:$C$1000,0),MATCH(\"38+\",'Loan - Grade & Staple'!$A$3:$K$3,0)),IF(K322<=31,INDEX('Loan - Grade & Staple'!$A$1:$K$1000,MATCH($B322&$C322,'Loan - Grade & Staple'!$B$1:$B$1000&'Loan - Grade & Staple'!$C$1:$C$1000,0),MATCH(\"26-31\",'Loan - Grade & Staple'!$A$3:$K$3,0)),IF(ISNA(INDEX('Loan - Grade & Staple'!$A$1:$K$1000,MATCH($B322&C322,'Loan - Grade & Staple'!$B$1:$B$1000&'Loan - Grade & Staple'!$C$1:$C$1000,0),MATCH($K322,'Loan - Grade & Staple'!$A$3:$K$3,0))),-4000,INDEX('Loan - Grade & Staple'!$A$1:$K$1000,MATCH($B322&C322,'Loan - Grade & Staple'!$B$1:$B$1000&'Loan - Grade & Staple'!$C$1:$C$1000,0),MATCH($K322,'Loan - Grade & Staple'!$A$3:$K$3,0))))))","v":""},{"$f":"IF(LEN(E322)=0,\"\",INDEX('Loan - Strength'!$C$1:$C$18,MATCH(E322,'Loan - Strength'!$A$1:$A$18,1)))","v":""},{"$f":"IF(LEN(F322)=0,\"\",INDEX('Loan - Micronaire'!$C$1:$C$20,MATCH($F322,'Loan - Micronaire'!$A$1:$A$20,1)))","v":""},{"$f":"IF(LEN(G322)=0,\"\",INDEX('Loan - Uniformity'!$C$1:$C$20,MATCH($G322,'Loan - Uniformity'!$A$1:$A$20,1)))","v":""},"","",{"$f":"IF(OR(LEN(B322)=0,LEN(C322)=0,LEN(D322)=0,LEN(E322)=0,LEN(F322)=0,LEN(G322)=0),\"\",IF('Base Values'!$B$8+(SUM($L322:$P322)/100)<0,0,'Base Values'!$B$8+(SUM(L322:P322)/100)))","v":""},null,{"$f":"IF(AND($T$13=TRUE,H322=1),'Loan - Extraneous'!B$3,IF(AND($T$13=TRUE,H322=2),'Loan - Extraneous'!C$3,0))","v":0},{"$f":"IF(I322=1,'Loan - Extraneous'!$B$4,IF(I322=2,'Loan - Extraneous'!$C$4,0))","v":0},{"$f":"IF(J322=1,'Loan - Extraneous'!$B$5,IF(J322=2,'Loan - Extraneous'!$C$5,0))","v":0}]
[null,null,null,null,null,null,null,null,null,null,"",{"$f":"IF(OR(LEN(B323)=0,LEN(C323)=0,LEN(D323)=0),\"\",IF(K323>=38,INDEX('Loan - Grade & Staple'!$A$1:$K$1000,MATCH($B323&$C323,'Loan - Grade & Staple'!$B$1:$B$1000&'Loan - Grade & Staple'!$C$1:$C$1000,0),MATCH(\"38+\",'Loan - Grade & Staple'!$A$3:$K$3,0)),IF(K323<=31,INDEX('Loan - Grade & Staple'!$A$1:$K$1000,MATCH($B323&$C323,'Loan - Grade & Staple'!$B$1:$B$1000&'Loan - Grade & Staple'!$C$1:$C$1000,0),MATCH(\"26-31\",'Loan - Grade & Staple'!$A$3:$K$3,0)),IF(ISNA(INDEX('Loan - Grade & Staple'!$A$1:$K$1000,MATCH($B323&C323,'Loan - Grade & Staple'!$B$1:$B$1000&'Loan - Grade & Staple'!$C$1:$C$1000,0),MATCH($K323,'Loan - Grade & Staple'!$A$3:$K$3,0))),-4000,INDEX('Loan - Grade & Staple'!$A$1:$K$1000,MATCH($B323&C323,'Loan - Grade & Staple'!$B$1:$B$1000&'Loan - Grade & Staple'!$C$1:$C$1000,0),MATCH($K323,'Loan - Grade & Staple'!$A$3:$K$3,0))))))","v":""},{"$f":"IF(LEN(E323)=0,\"\",INDEX('Loan - Strength'!$C$1:$C$18,MATCH(E323,'Loan - Strength'!$A$1:$A$18,1)))","v":""},{"$f":"IF(LEN(F323)=0,\"\",INDEX('Loan - Micronaire'!$C$1:$C$20,MATCH($F323,'Loan - Micronaire'!$A$1:$A$20,1)))","v":""},{"$f":"IF(LEN(G323)=0,\"\",INDEX('Loan - Uniformity'!$C$1:$C$20,MATCH($G323,'Loan - Uniformity'!$A$1:$A$20,1)))","v":""},"","",{"$f":"IF(OR(LEN(B323)=0,LEN(C323)=0,LEN(D323)=0,LEN(E323)=0,LEN(F323)=0,LEN(G323)=0),\"\",IF('Base Values'!$B$8+(SUM($L323:$P323)/100)<0,0,'Base Values'!$B$8+(SUM(L323:P323)/100)))","v":""},null,{"$f":"IF(AND($T$13=TRUE,H323=1),'Loan - Extraneous'!B$3,IF(AND($T$13=TRUE,H323=2),'Loan - Extraneous'!C$3,0))","v":0},{"$f":"IF(I323=1,'Loan - Extraneous'!$B$4,IF(I323=2,'Loan - Extraneous'!$C$4,0))","v":0},{"$f":"IF(J323=1,'Loan - Extraneous'!$B$5,IF(J323=2,'Loan - Extraneous'!$C$5,0))","v":0}]
[null,null,null,null,null,null,null,null,null,null,"",{"$f":"IF(OR(LEN(B324)=0,LEN(C324)=0,LEN(D324)=0),\"\",IF(K324>=38,INDEX('Loan - Grade & Staple'!$A$1:$K$1000,MATCH($B324&$C324,'Loan - Grade & Staple'!$B$1:$B$1000&'Loan - Grade & Staple'!$C$1:$C$1000,0),MATCH(\"38+\",'Loan - Grade & Staple'!$A$3:$K$3,0)),IF(K324<=31,INDEX('Loan - Grade & Staple'!$A$1:$K$1000,MATCH($B324&$C324,'Loan - Grade & Staple'!$B$1:$B$1000&'Loan - Grade & Staple'!$C$1:$C$1000,0),MATCH(\"26-31\",'Loan - Grade & Staple'!$A$3:$K$3,0)),IF(ISNA(INDEX('Loan - Grade & Staple'!$A$1:$K$1000,MATCH($B324&C324,'Loan - Grade & Staple'!$B$1:$B$1000&'Loan - Grade & Staple'!$C$1:$C$1000,0),MATCH($K324,'Loan - Grade & Staple'!$A$3:$K$3,0))),-4000,INDEX('Loan - Grade & Staple'!$A$1:$K$1000,MATCH($B324&C324,'Loan - Grade & Staple'!$B$1:$B$1000&'Loan - Grade & Staple'!$C$1:$C$1000,0),MATCH($K324,'Loan - Grade & Staple'!$A$3:$K$3,0))))))","v":""},{"$f":"IF(LEN(E324)=0,\"\",INDEX('Loan - Strength'!$C$1:$C$18,MATCH(E324,'Loan - Strength'!$A$1:$A$18,1)))","v":""},{"$f":"IF(LEN(F324)=0,\"\",INDEX('Loan - Micronaire'!$C$1:$C$20,MATCH($F324,'Loan - Micronaire'!$A$1:$A$20,1)))","v":""},{"$f":"IF(LEN(G324)=0,\"\",INDEX('Loan - Uniformity'!$C$1:$C$20,MATCH($G324,'Loan - Uniformity'!$A$1:$A$20,1)))","v":""},"","",{"$f":"IF(OR(LEN(B324)=0,LEN(C324)=0,LEN(D324)=0,LEN(E324)=0,LEN(F324)=0,LEN(G324)=0),\"\",IF('Base Values'!$B$8+(SUM($L324:$P324)/100)<0,0,'Base Values'!$B$8+(SUM(L324:P324)/100)))","v":""},null,{"$f":"IF(AND($T$13=TRUE,H324=1),'Loan - Extraneous'!B$3,IF(AND($T$13=TRUE,H324=2),'Loan - Extraneous'!C$3,0))","v":0},{"$f":"IF(I324=1,'Loan - Extraneous'!$B$4,IF(I324=2,'Loan - Extraneous'!$C$4,0))","v":0},{"$f":"IF(J324=1,'Loan - Extraneous'!$B$5,IF(J324=2,'Loan - Extraneous'!$C$5,0))","v":0}]
[null,null,null,null,null,null,null,null,null,null,"",{"$f":"IF(OR(LEN(B325)=0,LEN(C325)=0,LEN(D325)=0),\"\",IF(K325>=38,INDEX('Loan - Grade & Staple'!$A$1:$K$1000,MATCH($B325&$C325,'Loan - Grade & Staple'!$B$1:$B$1000&'Loan - Grade & Staple'!$C$1:$C$1000,0),MATCH(\"38+\",'Loan - Grade & Staple'!$A$3:$K$3,0)),IF(K325<=31,INDEX('Loan - Grade & Staple'!$A$1:$K$1000,MATCH($B325&$C325,'Loan - Grade & Staple'!$B$1:$B$1000&'Loan - Grade & Staple'!$C$1:$C$1000,0),MATCH(\"26-31\",'Loan - Grade & Staple'!$A$3:$K$3,0)),IF(ISNA(INDEX('Loan - Grade & Staple'!$A$1:$K$1000,MATCH($B325&C325,'Loan - Grade & Staple'!$B$1:$B$1000&'Loan - Grade & Staple'!$C$1:$C$1000,0),MATCH($K325,'Loan - Grade & Staple'!$A$3:$K$3,0))),-4000,INDEX('Loan - Grade & Staple'!$A$1:$K$1000,MATCH($B325&C325,'Loan - Grade & Staple'!$B$1:$B$1000&'Loan - Grade & Staple'!$C$1:$C$1000,0),MATCH($K325,'Loan - Grade & Staple'!$A$3:$K$3,0))))))","v":""},{"$f":"IF(LEN(E325)=0,\"\",INDEX('Loan - Strength'!$C$1:$C$18,MATCH(E325,'Loan - Strength'!$A$1:$A$18,1)))","v":""},{"$f":"IF(LEN(F325)=0,\"\",INDEX('Loan - Micronaire'!$C$1:$C$20,MATCH($F325,'Loan - Micronaire'!$A$1:$A$20,1)))","v":""},{"$f":"IF(LEN(G325)=0,\"\",INDEX('Loan - Uniformity'!$C$1:$C$20,MATCH($G325,'Loan - Uniformity'!$A$1:$A$20,1)))","v":""},"","",{"$f":"IF(OR(LEN(B325)=0,LEN(C325)=0,LEN(D325)=0,LEN(E325)=0,LEN(F325)=0,LEN(G325)=0),\"\",IF('Base Values'!$B$8+(SUM($L325:$P325)/100)<0,0,'Base Values'!$B$8+(SUM(L325:P325)/100)))","v":""},null,{"$f":"IF(AND($T$13=TRUE,H325=1),'Loan - Extraneous'!B$3,IF(AND($T$13=TRUE,H325=2),'Loan - Extraneous'!C$3,0))","v":0},{"$f":"IF(I325=1,'Loan - Extraneous'!$B$4,IF(I325=2,'Loan - Extraneous'!$C$4,0))","v":0},{"$f":"IF(J325=1,'Loan - Extraneous'!$B$5,IF(J325=2,'Loan - Extraneous'!$C$5,0))","v":0}]
[null,null,null,null,null,null,null,null,null,null,"",{"$f":"IF(OR(LEN(B326)=0,LEN(C326)=0,LEN(D326)=0),\"\",IF(K326>=38,INDEX('Loan - Grade & Staple'!$A$1:$K$1000,MATCH($B326&$C326,'Loan - Grade & Staple'!$B$1:$B$1000&'Loan - Grade & Staple'!$C$1:$C$1000,0),MATCH(\"38+\",'Loan - Grade & Staple'!$A$3:$K$3,0)),IF(K326<=31,INDEX('Loan - Grade & Staple'!$A$1:$K$1000,MATCH($B326&$C326,'Loan - Grade & Staple'!$B$1:$B$1000&'Loan - Grade & Staple'!$C$1:$C$1000,0),MATCH(\"26-31\",'Loan - Grade & Staple'!$A$3:$K$3,0)),IF(ISNA(INDEX('Loan - Grade & Staple'!$A$1:$K$1000,MATCH($B326&C326,'Loan - Grade & Staple'!$B$1:$B$1000&'Loan - Grade & Staple'!$C$1:$C$1000,0),MATCH($K326,'Loan - Grade & Staple'!$A$3:$K$3,0))),-4000,INDEX('Loan - Grade & Staple'!$A$1:$K$1000,MATCH($B326&C326,'Loan - Grade & Staple'!$B$1:$B$1000&'Loan - Grade & Staple'!$C$1:$C$1000,0),MATCH($K326,'Loan - Grade & Staple'!$A$3:$K$3,0))))))","v":""},{"$f":"IF(LEN(E326)=0,\"\",INDEX('Loan - Strength'!$C$1:$C$18,MATCH(E326,'Loan - Strength'!$A$1:$A$18,1)))","v":""},{"$f":"IF(LEN(F326)=0,\"\",INDEX('Loan - Micronaire'!$C$1:$C$20,MATCH($F326,'Loan - Micronaire'!$A$1:$A$20,1)))","v":""},{"$f":"IF(LEN(G326)=0,\"\",INDEX('Loan - Uniformity'!$C$1:$C$20,MATCH($G326,'Loan - Uniformity'!$A$1:$A$20,1)))","v":""},"","",{"$f":"IF(OR(LEN(B326)=0,LEN(C326)=0,LEN(D326)=0,LEN(E326)=0,LEN(F326)=0,LEN(G326)=0),\"\",IF('Base Values'!$B$8+(SUM($L326:$P326)/100)<0,0,'Base Values'!$B$8+(SUM(L326:P326)/100)))","v":""},null,{"$f":"IF(AND($T$13=TRUE,H326=1),'Loan - Extraneous'!B$3,IF(AND($T$13=TRUE,H326=2),'Loan - Extraneous'!C$3,0))","v":0},{"$f":"IF(I326=1,'Loan - Extraneous'!$B$4,IF(I326=2,'Loan - Extraneous'!$C$4,0))","v":0},{"$f":"IF(J326=1,'Loan - Extraneous'!$B$5,IF(J326=2,'Loan - Extraneous'!$C$5,0))","v":0}]
[null,null,null,null,null,null,null,null,null,null,"",{"$f":"IF(OR(LEN(B327)=0,LEN(C327)=0,LEN(D327)=0),\"\",IF(K327>=38,INDEX('Loan - Grade & Staple'!$A$1:$K$1000,MATCH($B327&$C327,'Loan - Grade & Staple'!$B$1:$B$1000&'Loan - Grade & Staple'!$C$1:$C$1000,0),MATCH(\"38+\",'Loan - Grade & Staple'!$A$3:$K$3,0)),IF(K327<=31,INDEX('Loan - Grade & Staple'!$A$1:$K$1000,MATCH($B327&$C327,'Loan - Grade & Staple'!$B$1:$B$1000&'Loan - Grade & Staple'!$C$1:$C$1000,0),MATCH(\"26-31\",'Loan - Grade & Staple'!$A$3:$K$3,0)),IF(ISNA(INDEX('Loan - Grade & Staple'!$A$1:$K$1000,MATCH($B327&C327,'Loan - Grade & Staple'!$B$1:$B$1000&'Loan - Grade & Staple'!$C$1:$C$1000,0),MATCH($K327,'Loan - Grade & Staple'!$A$3:$K$3,0))),-4000,INDEX('Loan - Grade & Staple'!$A$1:$K$1000,MATCH($B327&C327,'Loan - Grade & Staple'!$B$1:$B$1000&'Loan - Grade & Staple'!$C$1:$C$1000,0),MATCH($K327,'Loan - Grade & Staple'!$A$3:$K$3,0))))))","v":""},{"$f":"IF(LEN(E327)=0,\"\",INDEX('Loan - Strength'!$C$1:$C$18,MATCH(E327,'Loan - Strength'!$A$1:$A$18,1)))","v":""},{"$f":"IF(LEN(F327)=0,\"\",INDEX('Loan - Micronaire'!$C$1:$C$20,MATCH($F327,'Loan - Micronaire'!$A$1:$A$20,1)))","v":""},{"$f":"IF(LEN(G327)=0,\"\",INDEX('Loan - Uniformity'!$C$1:$C$20,MATCH($G327,'Loan - Uniformity'!$A$1:$A$20,1)))","v":""},"","",{"$f":"IF(OR(LEN(B327)=0,LEN(C327)=0,LEN(D327)=0,LEN(E327)=0,LEN(F327)=0,LEN(G327)=0),\"\",IF('Base Values'!$B$8+(SUM($L327:$P327)/100)<0,0,'Base Values'!$B$8+(SUM(L327:P327)/100)))","v":""},null,{"$f":"IF(AND($T$13=TRUE,H327=1),'Loan - Extraneous'!B$3,IF(AND($T$13=TRUE,H327=2),'Loan - Extraneous'!C$3,0))","v":0},{"$f":"IF(I327=1,'Loan - Extraneous'!$B$4,IF(I327=2,'Loan - Extraneous'!$C$4,0))","v":0},{"$f":"IF(J327=1,'Loan - Extraneous'!$B$5,IF(J327=2,'Loan - Extraneous'!$C$5,0))","v":0}]
[null,null,null,null,null,null,null,null,null,null,"",{"$f":"IF(OR(LEN(B328)=0,LEN(C328)=0,LEN(D328)=0),\"\",IF(K328>=38,INDEX('Loan - Grade & Staple'!$A$1:$K$1000,MATCH($B328&$C328,'Loan - Grade & Staple'!$B$1:$B$1000&'Loan - Grade & Staple'!$C$1:$C$1000,0),MATCH(\"38+\",'Loan - Grade & Staple'!$A$3:$K$3,0)),IF(K328<=31,INDEX('Loan - Grade & Staple'!$A$1:$K$1000,MATCH($B328&$C328,'Loan - Grade & Staple'!$B$1:$B$1000&'Loan - Grade & Staple'!$C$1:$C$1000,0),MATCH(\"26-31\",'Loan - Grade & Staple'!$A$3:$K$3,0)),IF(ISNA(INDEX('Loan - Grade & Staple'!$A$1:$K$1000,MATCH($B328&C328,'Loan - Grade & Staple'!$B$1:$B$1000&'Loan - Grade & Staple'!$C$1:$C$1000,0),MATCH($K328,'Loan - Grade & Staple'!$A$3:$K$3,0))),-4000,INDEX('Loan - Grade & Staple'!$A$1:$K$1000,MATCH($B328&C328,'Loan - Grade & Staple'!$B$1:$B$1000&'Loan - Grade & Staple'!$C$1:$C$1000,0),MATCH($K328,'Loan - Grade & Staple'!$A$3:$K$3,0))))))","v":""},{"$f":"IF(LEN(E328)=0,\"\",INDEX('Loan - Strength'!$C$1:$C$18,MATCH(E328,'Loan - Strength'!$A$1:$A$18,1)))","v":""},{"$f":"IF(LEN(F328)=0,\"\",INDEX('Loan - Micronaire'!$C$1:$C$20,MATCH($F328,'Loan - Micronaire'!$A$1:$A$20,1)))","v":""},{"$f":"IF(LEN(G328)=0,\"\",INDEX('Loan - Uniformity'!$C$1:$C$20,MATCH($G328,'Loan - Uniformity'!$A$1:$A$20,1)))","v":""},"","",{"$f":"IF(OR(LEN(B328)=0,LEN(C328)=0,LEN(D328)=0,LEN(E328)=0,LEN(F328)=0,LEN(G328)=0),\"\",IF('Base Values'!$B$8+(SUM($L328:$P328)/100)<0,0,'Base Values'!$B$8+(SUM(L328:P328)/100)))","v":""},null,{"$f":"IF(AND($T$13=TRUE,H328=1),'Loan - Extraneous'!B$3,IF(AND($T$13=TRUE,H328=2),'Loan - Extraneous'!C$3,0))","v":0},{"$f":"IF(I328=1,'Loan - Extraneous'!$B$4,IF(I328=2,'Loan - Extraneous'!$C$4,0))","v":0},{"$f":"IF(J328=1,'Loan - Extraneous'!$B$5,IF(J328=2,'Loan - Extraneous'!$C$5,0))","v":0}]
[null,null,null,null,null,null,null,null,null,null,"",{"$f":"IF(OR(LEN(B329)=0,LEN(C329)=0,LEN(D329)=0),\"\",IF(K329>=38,INDEX('Loan - Grade & Staple'!$A$1:$K$1000,MATCH($B329&$C329,'Loan - Grade & Staple'!$B$1:$B$1000&'Loan - Grade & Staple'!$C$1:$C$1000,0),MATCH(\"38+\",'Loan - Grade & Staple'!$A$3:$K$3,0)),IF(K329<=31,INDEX('Loan - Grade & Staple'!$A$1:$K$1000,MATCH($B329&$C329,'Loan - Grade & Staple'!$B$1:$B$1000&'Loan - Grade & Staple'!$C$1:$C$1000,0),MATCH(\"26-31\",'Loan - Grade & Staple'!$A$3:$K$3,0)),IF(ISNA(INDEX('Loan - Grade & Staple'!$A$1:$K$1000,MATCH($B329&C329,'Loan - Grade & Staple'!$B$1:$B$1000&'Loan - Grade & Staple'!$C$1:$C$1000,0),MATCH($K329,'Loan - Grade & Staple'!$A$3:$K$3,0))),-4000,INDEX('Loan - Grade & Staple'!$A$1:$K$1000,MATCH($B329&C329,'Loan - Grade & Staple'!$B$1:$B$1000&'Loan - Grade & Staple'!$C$1:$C$1000,0),MATCH($K329,'Loan - Grade & Staple'!$A$3:$K$3,0))))))","v":""},{"$f":"IF(LEN(E329)=0,\"\",INDEX('Loan - Strength'!$C$1:$C$18,MATCH(E329,'Loan - Strength'!$A$1:$A$18,1)))","v":""},{"$f":"IF(LEN(F329)=0,\"\",INDEX('Loan - Micronaire'!$C$1:$C$20,MATCH($F329,'Loan - Micronaire'!$A$1:$A$20,1)))","v":""},{"$f":"IF(LEN(G329)=0,\"\",INDEX('Loan - Uniformity'!$C$1:$C$20,MATCH($G329,'Loan - Uniformity'!$A$1:$A$20,1)))","v":""},"","",{"$f":"IF(OR(LEN(B329)=0,LEN(C329)=0,LEN(D329)=0,LEN(E329)=0,LEN(F329)=0,LEN(G329)=0),\"\",IF('Base Values'!$B$8+(SUM($L329:$P329)/100)<0,0,'Base Values'!$B$8+(SUM(L329:P329)/100)))","v":""},null,{"$f":"IF(AND($T$13=TRUE,H329=1),'Loan - Extraneous'!B$3,IF(AND($T$13=TRUE,H329=2),'Loan - Extraneous'!C$3,0))","v":0},{"$f":"IF(I329=1,'Loan - Extraneous'!$B$4,IF(I329=2,'Loan - Extraneous'!$C$4,0))","v":0},{"$f":"IF(J329=1,'Loan - Extraneous'!$B$5,IF(J329=2,'Loan - Extraneous'!$C$5,0))","v":0}]
[null,null,null,null,null,null,null,null,null,null,"",{"$f":"IF(OR(LEN(B330)=0,LEN(C330)=0,LEN(D330)=0),\"\",IF(K330>=38,INDEX('Loan - Grade & Staple'!$A$1:$K$1000,MATCH($B330&$C330,'Loan - Grade & Staple'!$B$1:$B$1000&'Loan - Grade & Staple'!$C$1:$C$1000,0),MATCH(\"38+\",'Loan - Grade & Staple'!$A$3:$K$3,0)),IF(K330<=31,INDEX('Loan - Grade & Staple'!$A$1:$K$1000,MATCH($B330&$C330,'Loan - Grade & Staple'!$B$1:$B$1000&'Loan - Grade & Staple'!$C$1:$C$1000,0),MATCH(\"26-31\",'Loan - Grade & Staple'!$A$3:$K$3,0)),IF(ISNA(INDEX('Loan - Grade & Staple'!$A$1:$K$1000,MATCH($B330&C330,'Loan - Grade & Staple'!$B$1:$B$1000&'Loan - Grade & Staple'!$C$1:$C$1000,0),MATCH($K330,'Loan - Grade & Staple'!$A$3:$K$3,0))),-4000,INDEX('Loan - Grade & Staple'!$A$1:$K$1000,MATCH($B330&C330,'Loan - Grade & Staple'!$B$1:$B$1000&'Loan - Grade & Staple'!$C$1:$C$1000,0),MATCH($K330,'Loan - Grade & Staple'!$A$3:$K$3,0))))))","v":""},{"$f":"IF(LEN(E330)=0,\"\",INDEX('Loan - Strength'!$C$1:$C$18,MATCH(E330,'Loan - Strength'!$A$1:$A$18,1)))","v":""},{"$f":"IF(LEN(F330)=0,\"\",INDEX('Loan - Micronaire'!$C$1:$C$20,MATCH($F330,'Loan - Micronaire'!$A$1:$A$20,1)))","v":""},{"$f":"IF(LEN(G330)=0,\"\",INDEX('Loan - Uniformity'!$C$1:$C$20,MATCH($G330,'Loan - Uniformity'!$A$1:$A$20,1)))","v":""},"","",{"$f":"IF(OR(LEN(B330)=0,LEN(C330)=0,LEN(D330)=0,LEN(E330)=0,LEN(F330)=0,LEN(G330)=0),\"\",IF('Base Values'!$B$8+(SUM($L330:$P330)/100)<0,0,'Base Values'!$B$8+(SUM(L330:P330)/100)))","v":""},null,{"$f":"IF(AND($T$13=TRUE,H330=1),'Loan - Extraneous'!B$3,IF(AND($T$13=TRUE,H330=2),'Loan - Extraneous'!C$3,0))","v":0},{"$f":"IF(I330=1,'Loan - Extraneous'!$B$4,IF(I330=2,'Loan - Extraneous'!$C$4,0))","v":0},{"$f":"IF(J330=1,'Loan - Extraneous'!$B$5,IF(J330=2,'Loan - Extraneous'!$C$5,0))","v":0}]
[null,null,null,null,null,null,null,null,null,null,"",{"$f":"IF(OR(LEN(B331)=0,LEN(C331)=0,LEN(D331)=0),\"\",IF(K331>=38,INDEX('Loan - Grade & Staple'!$A$1:$K$1000,MATCH($B331&$C331,'Loan - Grade & Staple'!$B$1:$B$1000&'Loan - Grade & Staple'!$C$1:$C$1000,0),MATCH(\"38+\",'Loan - Grade & Staple'!$A$3:$K$3,0)),IF(K331<=31,INDEX('Loan - Grade & Staple'!$A$1:$K$1000,MATCH($B331&$C331,'Loan - Grade & Staple'!$B$1:$B$1000&'Loan - Grade & Staple'!$C$1:$C$1000,0),MATCH(\"26-31\",'Loan - Grade & Staple'!$A$3:$K$3,0)),IF(ISNA(INDEX('Loan - Grade & Staple'!$A$1:$K$1000,MATCH($B331&C331,'Loan - Grade & Staple'!$B$1:$B$1000&'Loan - Grade & Staple'!$C$1:$C$1000,0),MATCH($K331,'Loan - Grade & Staple'!$A$3:$K$3,0))),-4000,INDEX('Loan - Grade & Staple'!$A$1:$K$1000,MATCH($B331&C331,'Loan - Grade & Staple'!$B$1:$B$1000&'Loan - Grade & Staple'!$C$1:$C$1000,0),MATCH($K331,'Loan - Grade & Staple'!$A$3:$K$3,0))))))","v":""},{"$f":"IF(LEN(E331)=0,\"\",INDEX('Loan - Strength'!$C$1:$C$18,MATCH(E331,'Loan - Strength'!$A$1:$A$18,1)))","v":""},{"$f":"IF(LEN(F331)=0,\"\",INDEX('Loan - Micronaire'!$C$1:$C$20,MATCH($F331,'Loan - Micronaire'!$A$1:$A$20,1)))","v":""},{"$f":"IF(LEN(G331)=0,\"\",INDEX('Loan - Uniformity'!$C$1:$C$20,MATCH($G331,'Loan - Uniformity'!$A$1:$A$20,1)))","v":""},"","",{"$f":"IF(OR(LEN(B331)=0,LEN(C331)=0,LEN(D331)=0,LEN(E331)=0,LEN(F331)=0,LEN(G331)=0),\"\",IF('Base Values'!$B$8+(SUM($L331:$P331)/100)<0,0,'Base Values'!$B$8+(SUM(L331:P331)/100)))","v":""},null,{"$f":"IF(AND($T$13=TRUE,H331=1),'Loan - Extraneous'!B$3,IF(AND($T$13=TRUE,H331=2),'Loan - Extraneous'!C$3,0))","v":0},{"$f":"IF(I331=1,'Loan - Extraneous'!$B$4,IF(I331=2,'Loan - Extraneous'!$C$4,0))","v":0},{"$f":"IF(J331=1,'Loan - Extraneous'!$B$5,IF(J331=2,'Loan - Extraneous'!$C$5,0))","v":0}]
[null,null,null,null,null,null,null,null,null,null,"",{"$f":"IF(OR(LEN(B332)=0,LEN(C332)=0,LEN(D332)=0),\"\",IF(K332>=38,INDEX('Loan - Grade & Staple'!$A$1:$K$1000,MATCH($B332&$C332,'Loan - Grade & Staple'!$B$1:$B$1000&'Loan - Grade & Staple'!$C$1:$C$1000,0),MATCH(\"38+\",'Loan - Grade & Staple'!$A$3:$K$3,0)),IF(K332<=31,INDEX('Loan - Grade & Staple'!$A$1:$K$1000,MATCH($B332&$C332,'Loan - Grade & Staple'!$B$1:$B$1000&'Loan - Grade & Staple'!$C$1:$C$1000,0),MATCH(\"26-31\",'Loan - Grade & Staple'!$A$3:$K$3,0)),IF(ISNA(INDEX('Loan - Grade & Staple'!$A$1:$K$1000,MATCH($B332&C332,'Loan - Grade & Staple'!$B$1:$B$1000&'Loan - Grade & Staple'!$C$1:$C$1000,0),MATCH($K332,'Loan - Grade & Staple'!$A$3:$K$3,0))),-4000,INDEX('Loan - Grade & Staple'!$A$1:$K$1000,MATCH($B332&C332,'Loan - Grade & Staple'!$B$1:$B$1000&'Loan - Grade & Staple'!$C$1:$C$1000,0),MATCH($K332,'Loan - Grade & Staple'!$A$3:$K$3,0))))))","v":""},{"$f":"IF(LEN(E332)=0,\"\",INDEX('Loan - Strength'!$C$1:$C$18,MATCH(E332,'Loan - Strength'!$A$1:$A$18,1)))","v":""},{"$f":"IF(LEN(F332)=0,\"\",INDEX('Loan - Micronaire'!$C$1:$C$20,MATCH($F332,'Loan - Micronaire'!$A$1:$A$20,1)))","v":""},{"$f":"IF(LEN(G332)=0,\"\",INDEX('Loan - Uniformity'!$C$1:$C$20,MATCH($G332,'Loan - Uniformity'!$A$1:$A$20,1)))","v":""},"","",{"$f":"IF(OR(LEN(B332)=0,LEN(C332)=0,LEN(D332)=0,LEN(E332)=0,LEN(F332)=0,LEN(G332)=0),\"\",IF('Base Values'!$B$8+(SUM($L332:$P332)/100)<0,0,'Base Values'!$B$8+(SUM(L332:P332)/100)))","v":""},null,{"$f":"IF(AND($T$13=TRUE,H332=1),'Loan - Extraneous'!B$3,IF(AND($T$13=TRUE,H332=2),'Loan - Extraneous'!C$3,0))","v":0},{"$f":"IF(I332=1,'Loan - Extraneous'!$B$4,IF(I332=2,'Loan - Extraneous'!$C$4,0))","v":0},{"$f":"IF(J332=1,'Loan - Extraneous'!$B$5,IF(J332=2,'Loan - Extraneous'!$C$5,0))","v":0}]
[null,null,null,null,null,null,null,null,null,null,"",{"$f":"IF(OR(LEN(B333)=0,LEN(C333)=0,LEN(D333)=0),\"\",IF(K333>=38,INDEX('Loan - Grade & Staple'!$A$1:$K$1000,MATCH($B333&$C333,'Loan - Grade & Staple'!$B$1:$B$1000&'Loan - Grade & Staple'!$C$1:$C$1000,0),MATCH(\"38+\",'Loan - Grade & Staple'!$A$3:$K$3,0)),IF(K333<=31,INDEX('Loan - Grade & Staple'!$A$1:$K$1000,MATCH($B333&$C333,'Loan - Grade & Staple'!$B$1:$B$1000&'Loan - Grade & Staple'!$C$1:$C$1000,0),MATCH(\"26-31\",'Loan - Grade & Staple'!$A$3:$K$3,0)),IF(ISNA(INDEX('Loan - Grade & Staple'!$A$1:$K$1000,MATCH($B333&C333,'Loan - Grade & Staple'!$B$1:$B$1000&'Loan - Grade & Staple'!$C$1:$C$1000,0),MATCH($K333,'Loan - Grade & Staple'!$A$3:$K$3,0))),-4000,INDEX('Loan - Grade & Staple'!$A$1:$K$1000,MATCH($B333&C333,'Loan - Grade & Staple'!$B$1:$B$1000&'Loan - Grade & Staple'!$C$1:$C$1000,0),MATCH($K333,'Loan - Grade & Staple'!$A$3:$K$3,0))))))","v":""},{"$f":"IF(LEN(E333)=0,\"\",INDEX('Loan - Strength'!$C$1:$C$18,MATCH(E333,'Loan - Strength'!$A$1:$A$18,1)))","v":""},{"$f":"IF(LEN(F333)=0,\"\",INDEX('Loan - Micronaire'!$C$1:$C$20,MATCH($F333,'Loan - Micronaire'!$A$1:$A$20,1)))","v":""},{"$f":"IF(LEN(G333)=0,\"\",INDEX('Loan - Uniformity'!$C$1:$C$20,MATCH($G333,'Loan - Uniformity'!$A$1:$A$20,1)))","v":""},"","",{"$f":"IF(OR(LEN(B333)=0,LEN(C333)=0,LEN(D333)=0,LEN(E333)=0,LEN(F333)=0,LEN(G333)=0),\"\",IF('Base Values'!$B$8+(SUM($L333:$P333)/100)<0,0,'Base Values'!$B$8+(SUM(L333:P333)/100)))","v":""},null,{"$f":"IF(AND($T$13=TRUE,H333=1),'Loan - Extraneous'!B$3,IF(AND($T$13=TRUE,H333=2),'Loan - Extraneous'!C$3,0))","v":0},{"$f":"IF(I333=1,'Loan - Extraneous'!$B$4,IF(I333=2,'Loan - Extraneous'!$C$4,0))","v":0},{"$f":"IF(J333=1,'Loan - Extraneous'!$B$5,IF(J333=2,'Loan - Extraneous'!$C$5,0))","v":0}]
[null,null,null,null,null,null,null,null,null,null,"",{"$f":"IF(OR(LEN(B334)=0,LEN(C334)=0,LEN(D334)=0),\"\",IF(K334>=38,INDEX('Loan - Grade & Staple'!$A$1:$K$1000,MATCH($B334&$C334,'Loan - Grade & Staple'!$B$1:$B$1000&'Loan - Grade & Staple'!$C$1:$C$1000,0),MATCH(\"38+\",'Loan - Grade & Staple'!$A$3:$K$3,0)),IF(K334<=31,INDEX('Loan - Grade & Staple'!$A$1:$K$1000,MATCH($B334&$C334,'Loan - Grade & Staple'!$B$1:$B$1000&'Loan - Grade & Staple'!$C$1:$C$1000,0),MATCH(\"26-31\",'Loan - Grade & Staple'!$A$3:$K$3,0)),IF(ISNA(INDEX('Loan - Grade & Staple'!$A$1:$K$1000,MATCH($B334&C334,'Loan - Grade & Staple'!$B$1:$B$1000&'Loan - Grade & Staple'!$C$1:$C$1000,0),MATCH($K334,'Loan - Grade & Staple'!$A$3:$K$3,0))),-4000,INDEX('Loan - Grade & Staple'!$A$1:$K$1000,MATCH($B334&C334,'Loan - Grade & Staple'!$B$1:$B$1000&'Loan - Grade & Staple'!$C$1:$C$1000,0),MATCH($K334,'Loan - Grade & Staple'!$A$3:$K$3,0))))))","v":""},{"$f":"IF(LEN(E334)=0,\"\",INDEX('Loan - Strength'!$C$1:$C$18,MATCH(E334,'Loan - Strength'!$A$1:$A$18,1)))","v":""},{"$f":"IF(LEN(F334)=0,\"\",INDEX('Loan - Micronaire'!$C$1:$C$20,MATCH($F334,'Loan - Micronaire'!$A$1:$A$20,1)))","v":""},{"$f":"IF(LEN(G334)=0,\"\",INDEX('Loan - Uniformity'!$C$1:$C$20,MATCH($G334,'Loan - Uniformity'!$A$1:$A$20,1)))","v":""},"","",{"$f":"IF(OR(LEN(B334)=0,LEN(C334)=0,LEN(D334)=0,LEN(E334)=0,LEN(F334)=0,LEN(G334)=0),\"\",IF('Base Values'!$B$8+(SUM($L334:$P334)/100)<0,0,'Base Values'!$B$8+(SUM(L334:P334)/100)))","v":""},null,{"$f":"IF(AND($T$13=TRUE,H334=1),'Loan - Extraneous'!B$3,IF(AND($T$13=TRUE,H334=2),'Loan - Extraneous'!C$3,0))","v":0},{"$f":"IF(I334=1,'Loan - Extraneous'!$B$4,IF(I334=2,'Loan - Extraneous'!$C$4,0))","v":0},{"$f":"IF(J334=1,'Loan - Extraneous'!$B$5,IF(J334=2,'Loan - Extraneous'!$C$5,0))","v":0}]
[null,null,null,null,null,null,null,null,null,null,"",{"$f":"IF(OR(LEN(B335)=0,LEN(C335)=0,LEN(D335)=0),\"\",IF(K335>=38,INDEX('Loan - Grade & Staple'!$A$1:$K$1000,MATCH($B335&$C335,'Loan - Grade & Staple'!$B$1:$B$1000&'Loan - Grade & Staple'!$C$1:$C$1000,0),MATCH(\"38+\",'Loan - Grade & Staple'!$A$3:$K$3,0)),IF(K335<=31,INDEX('Loan - Grade & Staple'!$A$1:$K$1000,MATCH($B335&$C335,'Loan - Grade & Staple'!$B$1:$B$1000&'Loan - Grade & Staple'!$C$1:$C$1000,0),MATCH(\"26-31\",'Loan - Grade & Staple'!$A$3:$K$3,0)),IF(ISNA(INDEX('Loan - Grade & Staple'!$A$1:$K$1000,MATCH($B335&C335,'Loan - Grade & Staple'!$B$1:$B$1000&'Loan - Grade & Staple'!$C$1:$C$1000,0),MATCH($K335,'Loan - Grade & Staple'!$A$3:$K$3,0))),-4000,INDEX('Loan - Grade & Staple'!$A$1:$K$1000,MATCH($B335&C335,'Loan - Grade & Staple'!$B$1:$B$1000&'Loan - Grade & Staple'!$C$1:$C$1000,0),MATCH($K335,'Loan - Grade & Staple'!$A$3:$K$3,0))))))","v":""},{"$f":"IF(LEN(E335)=0,\"\",INDEX('Loan - Strength'!$C$1:$C$18,MATCH(E335,'Loan - Strength'!$A$1:$A$18,1)))","v":""},{"$f":"IF(LEN(F335)=0,\"\",INDEX('Loan - Micronaire'!$C$1:$C$20,MATCH($F335,'Loan - Micronaire'!$A$1:$A$20,1)))","v":""},{"$f":"IF(LEN(G335)=0,\"\",INDEX('Loan - Uniformity'!$C$1:$C$20,MATCH($G335,'Loan - Uniformity'!$A$1:$A$20,1)))","v":""},"","",{"$f":"IF(OR(LEN(B335)=0,LEN(C335)=0,LEN(D335)=0,LEN(E335)=0,LEN(F335)=0,LEN(G335)=0),\"\",IF('Base Values'!$B$8+(SUM($L335:$P335)/100)<0,0,'Base Values'!$B$8+(SUM(L335:P335)/100)))","v":""},null,{"$f":"IF(AND($T$13=TRUE,H335=1),'Loan - Extraneous'!B$3,IF(AND($T$13=TRUE,H335=2),'Loan - Extraneous'!C$3,0))","v":0},{"$f":"IF(I335=1,'Loan - Extraneous'!$B$4,IF(I335=2,'Loan - Extraneous'!$C$4,0))","v":0},{"$f":"IF(J335=1,'Loan - Extraneous'!$B$5,IF(J335=2,'Loan - Extraneous'!$C$5,0))","v":0}]
[null,null,null,null,null,null,null,null,null,null,"",{"$f":"IF(OR(LEN(B336)=0,LEN(C336)=0,LEN(D336)=0),\"\",IF(K336>=38,INDEX('Loan - Grade & Staple'!$A$1:$K$1000,MATCH($B336&$C336,'Loan - Grade & Staple'!$B$1:$B$1000&'Loan - Grade & Staple'!$C$1:$C$1000,0),MATCH(\"38+\",'Loan - Grade & Staple'!$A$3:$K$3,0)),IF(K336<=31,INDEX('Loan - Grade & Staple'!$A$1:$K$1000,MATCH($B336&$C336,'Loan - Grade & Staple'!$B$1:$B$1000&'Loan - Grade & Staple'!$C$1:$C$1000,0),MATCH(\"26-31\",'Loan - Grade & Staple'!$A$3:$K$3,0)),IF(ISNA(INDEX('Loan - Grade & Staple'!$A$1:$K$1000,MATCH($B336&C336,'Loan - Grade & Staple'!$B$1:$B$1000&'Loan - Grade & Staple'!$C$1:$C$1000,0),MATCH($K336,'Loan - Grade & Staple'!$A$3:$K$3,0))),-4000,INDEX('Loan - Grade & Staple'!$A$1:$K$1000,MATCH($B336&C336,'Loan - Grade & Staple'!$B$1:$B$1000&'Loan - Grade & Staple'!$C$1:$C$1000,0),MATCH($K336,'Loan - Grade & Staple'!$A$3:$K$3,0))))))","v":""},{"$f":"IF(LEN(E336)=0,\"\",INDEX('Loan - Strength'!$C$1:$C$18,MATCH(E336,'Loan - Strength'!$A$1:$A$18,1)))","v":""},{"$f":"IF(LEN(F336)=0,\"\",INDEX('Loan - Micronaire'!$C$1:$C$20,MATCH($F336,'Loan - Micronaire'!$A$1:$A$20,1)))","v":""},{"$f":"IF(LEN(G336)=0,\"\",INDEX('Loan - Uniformity'!$C$1:$C$20,MATCH($G336,'Loan - Uniformity'!$A$1:$A$20,1)))","v":""},"","",{"$f":"IF(OR(LEN(B336)=0,LEN(C336)=0,LEN(D336)=0,LEN(E336)=0,LEN(F336)=0,LEN(G336)=0),\"\",IF('Base Values'!$B$8+(SUM($L336:$P336)/100)<0,0,'Base Values'!$B$8+(SUM(L336:P336)/100)))","v":""},null,{"$f":"IF(AND($T$13=TRUE,H336=1),'Loan - Extraneous'!B$3,IF(AND($T$13=TRUE,H336=2),'Loan - Extraneous'!C$3,0))","v":0},{"$f":"IF(I336=1,'Loan - Extraneous'!$B$4,IF(I336=2,'Loan - Extraneous'!$C$4,0))","v":0},{"$f":"IF(J336=1,'Loan - Extraneous'!$B$5,IF(J336=2,'Loan - Extraneous'!$C$5,0))","v":0}]
[null,null,null,null,null,null,null,null,null,null,"",{"$f":"IF(OR(LEN(B337)=0,LEN(C337)=0,LEN(D337)=0),\"\",IF(K337>=38,INDEX('Loan - Grade & Staple'!$A$1:$K$1000,MATCH($B337&$C337,'Loan - Grade & Staple'!$B$1:$B$1000&'Loan - Grade & Staple'!$C$1:$C$1000,0),MATCH(\"38+\",'Loan - Grade & Staple'!$A$3:$K$3,0)),IF(K337<=31,INDEX('Loan - Grade & Staple'!$A$1:$K$1000,MATCH($B337&$C337,'Loan - Grade & Staple'!$B$1:$B$1000&'Loan - Grade & Staple'!$C$1:$C$1000,0),MATCH(\"26-31\",'Loan - Grade & Staple'!$A$3:$K$3,0)),IF(ISNA(INDEX('Loan - Grade & Staple'!$A$1:$K$1000,MATCH($B337&C337,'Loan - Grade & Staple'!$B$1:$B$1000&'Loan - Grade & Staple'!$C$1:$C$1000,0),MATCH($K337,'Loan - Grade & Staple'!$A$3:$K$3,0))),-4000,INDEX('Loan - Grade & Staple'!$A$1:$K$1000,MATCH($B337&C337,'Loan - Grade & Staple'!$B$1:$B$1000&'Loan - Grade & Staple'!$C$1:$C$1000,0),MATCH($K337,'Loan - Grade & Staple'!$A$3:$K$3,0))))))","v":""},{"$f":"IF(LEN(E337)=0,\"\",INDEX('Loan - Strength'!$C$1:$C$18,MATCH(E337,'Loan - Strength'!$A$1:$A$18,1)))","v":""},{"$f":"IF(LEN(F337)=0,\"\",INDEX('Loan - Micronaire'!$C$1:$C$20,MATCH($F337,'Loan - Micronaire'!$A$1:$A$20,1)))","v":""},{"$f":"IF(LEN(G337)=0,\"\",INDEX('Loan - Uniformity'!$C$1:$C$20,MATCH($G337,'Loan - Uniformity'!$A$1:$A$20,1)))","v":""},"","",{"$f":"IF(OR(LEN(B337)=0,LEN(C337)=0,LEN(D337)=0,LEN(E337)=0,LEN(F337)=0,LEN(G337)=0),\"\",IF('Base Values'!$B$8+(SUM($L337:$P337)/100)<0,0,'Base Values'!$B$8+(SUM(L337:P337)/100)))","v":""},null,{"$f":"IF(AND($T$13=TRUE,H337=1),'Loan - Extraneous'!B$3,IF(AND($T$13=TRUE,H337=2),'Loan - Extraneous'!C$3,0))","v":0},{"$f":"IF(I337=1,'Loan - Extraneous'!$B$4,IF(I337=2,'Loan - Extraneous'!$C$4,0))","v":0},{"$f":"IF(J337=1,'Loan - Extraneous'!$B$5,IF(J337=2,'Loan - Extraneous'!$C$5,0))","v":0}]
[null,null,null,null,null,null,null,null,null,null,"",{"$f":"IF(OR(LEN(B338)=0,LEN(C338)=0,LEN(D338)=0),\"\",IF(K338>=38,INDEX('Loan - Grade & Staple'!$A$1:$K$1000,MATCH($B338&$C338,'Loan - Grade & Staple'!$B$1:$B$1000&'Loan - Grade & Staple'!$C$1:$C$1000,0),MATCH(\"38+\",'Loan - Grade & Staple'!$A$3:$K$3,0)),IF(K338<=31,INDEX('Loan - Grade & Staple'!$A$1:$K$1000,MATCH($B338&$C338,'Loan - Grade & Staple'!$B$1:$B$1000&'Loan - Grade & Staple'!$C$1:$C$1000,0),MATCH(\"26-31\",'Loan - Grade & Staple'!$A$3:$K$3,0)),IF(ISNA(INDEX('Loan - Grade & Staple'!$A$1:$K$1000,MATCH($B338&C338,'Loan - Grade & Staple'!$B$1:$B$1000&'Loan - Grade & Staple'!$C$1:$C$1000,0),MATCH($K338,'Loan - Grade & Staple'!$A$3:$K$3,0))),-4000,INDEX('Loan - Grade & Staple'!$A$1:$K$1000,MATCH($B338&C338,'Loan - Grade & Staple'!$B$1:$B$1000&'Loan - Grade & Staple'!$C$1:$C$1000,0),MATCH($K338,'Loan - Grade & Staple'!$A$3:$K$3,0))))))","v":""},{"$f":"IF(LEN(E338)=0,\"\",INDEX('Loan - Strength'!$C$1:$C$18,MATCH(E338,'Loan - Strength'!$A$1:$A$18,1)))","v":""},{"$f":"IF(LEN(F338)=0,\"\",INDEX('Loan - Micronaire'!$C$1:$C$20,MATCH($F338,'Loan - Micronaire'!$A$1:$A$20,1)))","v":""},{"$f":"IF(LEN(G338)=0,\"\",INDEX('Loan - Uniformity'!$C$1:$C$20,MATCH($G338,'Loan - Uniformity'!$A$1:$A$20,1)))","v":""},"","",{"$f":"IF(OR(LEN(B338)=0,LEN(C338)=0,LEN(D338)=0,LEN(E338)=0,LEN(F338)=0,LEN(G338)=0),\"\",IF('Base Values'!$B$8+(SUM($L338:$P338)/100)<0,0,'Base Values'!$B$8+(SUM(L338:P338)/100)))","v":""},null,{"$f":"IF(AND($T$13=TRUE,H338=1),'Loan - Extraneous'!B$3,IF(AND($T$13=TRUE,H338=2),'Loan - Extraneous'!C$3,0))","v":0},{"$f":"IF(I338=1,'Loan - Extraneous'!$B$4,IF(I338=2,'Loan - Extraneous'!$C$4,0))","v":0},{"$f":"IF(J338=1,'Loan - Extraneous'!$B$5,IF(J338=2,'Loan - Extraneous'!$C$5,0))","v":0}]
[null,null,null,null,null,null,null,null,null,null,"",{"$f":"IF(OR(LEN(B339)=0,LEN(C339)=0,LEN(D339)=0),\"\",IF(K339>=38,INDEX('Loan - Grade & Staple'!$A$1:$K$1000,MATCH($B339&$C339,'Loan - Grade & Staple'!$B$1:$B$1000&'Loan - Grade & Staple'!$C$1:$C$1000,0),MATCH(\"38+\",'Loan - Grade & Staple'!$A$3:$K$3,0)),IF(K339<=31,INDEX('Loan - Grade & Staple'!$A$1:$K$1000,MATCH($B339&$C339,'Loan - Grade & Staple'!$B$1:$B$1000&'Loan - Grade & Staple'!$C$1:$C$1000,0),MATCH(\"26-31\",'Loan - Grade & Staple'!$A$3:$K$3,0)),IF(ISNA(INDEX('Loan - Grade & Staple'!$A$1:$K$1000,MATCH($B339&C339,'Loan - Grade & Staple'!$B$1:$B$1000&'Loan - Grade & Staple'!$C$1:$C$1000,0),MATCH($K339,'Loan - Grade & Staple'!$A$3:$K$3,0))),-4000,INDEX('Loan - Grade & Staple'!$A$1:$K$1000,MATCH($B339&C339,'Loan - Grade & Staple'!$B$1:$B$1000&'Loan - Grade & Staple'!$C$1:$C$1000,0),MATCH($K339,'Loan - Grade & Staple'!$A$3:$K$3,0))))))","v":""},{"$f":"IF(LEN(E339)=0,\"\",INDEX('Loan - Strength'!$C$1:$C$18,MATCH(E339,'Loan - Strength'!$A$1:$A$18,1)))","v":""},{"$f":"IF(LEN(F339)=0,\"\",INDEX('Loan - Micronaire'!$C$1:$C$20,MATCH($F339,'Loan - Micronaire'!$A$1:$A$20,1)))","v":""},{"$f":"IF(LEN(G339)=0,\"\",INDEX('Loan - Uniformity'!$C$1:$C$20,MATCH($G339,'Loan - Uniformity'!$A$1:$A$20,1)))","v":""},"","",{"$f":"IF(OR(LEN(B339)=0,LEN(C339)=0,LEN(D339)=0,LEN(E339)=0,LEN(F339)=0,LEN(G339)=0),\"\",IF('Base Values'!$B$8+(SUM($L339:$P339)/100)<0,0,'Base Values'!$B$8+(SUM(L339:P339)/100)))","v":""},null,{"$f":"IF(AND($T$13=TRUE,H339=1),'Loan - Extraneous'!B$3,IF(AND($T$13=TRUE,H339=2),'Loan - Extraneous'!C$3,0))","v":0},{"$f":"IF(I339=1,'Loan - Extraneous'!$B$4,IF(I339=2,'Loan - Extraneous'!$C$4,0))","v":0},{"$f":"IF(J339=1,'Loan - Extraneous'!$B$5,IF(J339=2,'Loan - Extraneous'!$C$5,0))","v":0}]
[null,null,null,null,null,null,null,null,null,null,"",{"$f":"IF(OR(LEN(B340)=0,LEN(C340)=0,LEN(D340)=0),\"\",IF(K340>=38,INDEX('Loan - Grade & Staple'!$A$1:$K$1000,MATCH($B340&$C340,'Loan - Grade & Staple'!$B$1:$B$1000&'Loan - Grade & Staple'!$C$1:$C$1000,0),MATCH(\"38+\",'Loan - Grade & Staple'!$A$3:$K$3,0)),IF(K340<=31,INDEX('Loan - Grade & Staple'!$A$1:$K$1000,MATCH($B340&$C340,'Loan - Grade & Staple'!$B$1:$B$1000&'Loan - Grade & Staple'!$C$1:$C$1000,0),MATCH(\"26-31\",'Loan - Grade & Staple'!$A$3:$K$3,0)),IF(ISNA(INDEX('Loan - Grade & Staple'!$A$1:$K$1000,MATCH($B340&C340,'Loan - Grade & Staple'!$B$1:$B$1000&'Loan - Grade & Staple'!$C$1:$C$1000,0),MATCH($K340,'Loan - Grade & Staple'!$A$3:$K$3,0))),-4000,INDEX('Loan - Grade & Staple'!$A$1:$K$1000,MATCH($B340&C340,'Loan - Grade & Staple'!$B$1:$B$1000&'Loan - Grade & Staple'!$C$1:$C$1000,0),MATCH($K340,'Loan - Grade & Staple'!$A$3:$K$3,0))))))","v":""},{"$f":"IF(LEN(E340)=0,\"\",INDEX('Loan - Strength'!$C$1:$C$18,MATCH(E340,'Loan - Strength'!$A$1:$A$18,1)))","v":""},{"$f":"IF(LEN(F340)=0,\"\",INDEX('Loan - Micronaire'!$C$1:$C$20,MATCH($F340,'Loan - Micronaire'!$A$1:$A$20,1)))","v":""},{"$f":"IF(LEN(G340)=0,\"\",INDEX('Loan - Uniformity'!$C$1:$C$20,MATCH($G340,'Loan - Uniformity'!$A$1:$A$20,1)))","v":""},"","",{"$f":"IF(OR(LEN(B340)=0,LEN(C340)=0,LEN(D340)=0,LEN(E340)=0,LEN(F340)=0,LEN(G340)=0),\"\",IF('Base Values'!$B$8+(SUM($L340:$P340)/100)<0,0,'Base Values'!$B$8+(SUM(L340:P340)/100)))","v":""},null,{"$f":"IF(AND($T$13=TRUE,H340=1),'Loan - Extraneous'!B$3,IF(AND($T$13=TRUE,H340=2),'Loan - Extraneous'!C$3,0))","v":0},{"$f":"IF(I340=1,'Loan - Extraneous'!$B$4,IF(I340=2,'Loan - Extraneous'!$C$4,0))","v":0},{"$f":"IF(J340=1,'Loan - Extraneous'!$B$5,IF(J340=2,'Loan - Extraneous'!$C$5,0))","v":0}]
[null,null,null,null,null,null,null,null,null,null,"",{"$f":"IF(OR(LEN(B341)=0,LEN(C341)=0,LEN(D341)=0),\"\",IF(K341>=38,INDEX('Loan - Grade & Staple'!$A$1:$K$1000,MATCH($B341&$C341,'Loan - Grade & Staple'!$B$1:$B$1000&'Loan - Grade & Staple'!$C$1:$C$1000,0),MATCH(\"38+\",'Loan - Grade & Staple'!$A$3:$K$3,0)),IF(K341<=31,INDEX('Loan - Grade & Staple'!$A$1:$K$1000,MATCH($B341&$C341,'Loan - Grade & Staple'!$B$1:$B$1000&'Loan - Grade & Staple'!$C$1:$C$1000,0),MATCH(\"26-31\",'Loan - Grade & Staple'!$A$3:$K$3,0)),IF(ISNA(INDEX('Loan - Grade & Staple'!$A$1:$K$1000,MATCH($B341&C341,'Loan - Grade & Staple'!$B$1:$B$1000&'Loan - Grade & Staple'!$C$1:$C$1000,0),MATCH($K341,'Loan - Grade & Staple'!$A$3:$K$3,0))),-4000,INDEX('Loan - Grade & Staple'!$A$1:$K$1000,MATCH($B341&C341,'Loan - Grade & Staple'!$B$1:$B$1000&'Loan - Grade & Staple'!$C$1:$C$1000,0),MATCH($K341,'Loan - Grade & Staple'!$A$3:$K$3,0))))))","v":""},{"$f":"IF(LEN(E341)=0,\"\",INDEX('Loan - Strength'!$C$1:$C$18,MATCH(E341,'Loan - Strength'!$A$1:$A$18,1)))","v":""},{"$f":"IF(LEN(F341)=0,\"\",INDEX('Loan - Micronaire'!$C$1:$C$20,MATCH($F341,'Loan - Micronaire'!$A$1:$A$20,1)))","v":""},{"$f":"IF(LEN(G341)=0,\"\",INDEX('Loan - Uniformity'!$C$1:$C$20,MATCH($G341,'Loan - Uniformity'!$A$1:$A$20,1)))","v":""},"","",{"$f":"IF(OR(LEN(B341)=0,LEN(C341)=0,LEN(D341)=0,LEN(E341)=0,LEN(F341)=0,LEN(G341)=0),\"\",IF('Base Values'!$B$8+(SUM($L341:$P341)/100)<0,0,'Base Values'!$B$8+(SUM(L341:P341)/100)))","v":""},null,{"$f":"IF(AND($T$13=TRUE,H341=1),'Loan - Extraneous'!B$3,IF(AND($T$13=TRUE,H341=2),'Loan - Extraneous'!C$3,0))","v":0},{"$f":"IF(I341=1,'Loan - Extraneous'!$B$4,IF(I341=2,'Loan - Extraneous'!$C$4,0))","v":0},{"$f":"IF(J341=1,'Loan - Extraneous'!$B$5,IF(J341=2,'Loan - Extraneous'!$C$5,0))","v":0}]
[null,null,null,null,null,null,null,null,null,null,"",{"$f":"IF(OR(LEN(B342)=0,LEN(C342)=0,LEN(D342)=0),\"\",IF(K342>=38,INDEX('Loan - Grade & Staple'!$A$1:$K$1000,MATCH($B342&$C342,'Loan - Grade & Staple'!$B$1:$B$1000&'Loan - Grade & Staple'!$C$1:$C$1000,0),MATCH(\"38+\",'Loan - Grade & Staple'!$A$3:$K$3,0)),IF(K342<=31,INDEX('Loan - Grade & Staple'!$A$1:$K$1000,MATCH($B342&$C342,'Loan - Grade & Staple'!$B$1:$B$1000&'Loan - Grade & Staple'!$C$1:$C$1000,0),MATCH(\"26-31\",'Loan - Grade & Staple'!$A$3:$K$3,0)),IF(ISNA(INDEX('Loan - Grade & Staple'!$A$1:$K$1000,MATCH($B342&C342,'Loan - Grade & Staple'!$B$1:$B$1000&'Loan - Grade & Staple'!$C$1:$C$1000,0),MATCH($K342,'Loan - Grade & Staple'!$A$3:$K$3,0))),-4000,INDEX('Loan - Grade & Staple'!$A$1:$K$1000,MATCH($B342&C342,'Loan - Grade & Staple'!$B$1:$B$1000&'Loan - Grade & Staple'!$C$1:$C$1000,0),MATCH($K342,'Loan - Grade & Staple'!$A$3:$K$3,0))))))","v":""},{"$f":"IF(LEN(E342)=0,\"\",INDEX('Loan - Strength'!$C$1:$C$18,MATCH(E342,'Loan - Strength'!$A$1:$A$18,1)))","v":""},{"$f":"IF(LEN(F342)=0,\"\",INDEX('Loan - Micronaire'!$C$1:$C$20,MATCH($F342,'Loan - Micronaire'!$A$1:$A$20,1)))","v":""},{"$f":"IF(LEN(G342)=0,\"\",INDEX('Loan - Uniformity'!$C$1:$C$20,MATCH($G342,'Loan - Uniformity'!$A$1:$A$20,1)))","v":""},"","",{"$f":"IF(OR(LEN(B342)=0,LEN(C342)=0,LEN(D342)=0,LEN(E342)=0,LEN(F342)=0,LEN(G342)=0),\"\",IF('Base Values'!$B$8+(SUM($L342:$P342)/100)<0,0,'Base Values'!$B$8+(SUM(L342:P342)/100)))","v":""},null,{"$f":"IF(AND($T$13=TRUE,H342=1),'Loan - Extraneous'!B$3,IF(AND($T$13=TRUE,H342=2),'Loan - Extraneous'!C$3,0))","v":0},{"$f":"IF(I342=1,'Loan - Extraneous'!$B$4,IF(I342=2,'Loan - Extraneous'!$C$4,0))","v":0},{"$f":"IF(J342=1,'Loan - Extraneous'!$B$5,IF(J342=2,'Loan - Extraneous'!$C$5,0))","v":0}]
[null,null,null,null,null,null,null,null,null,null,"",{"$f":"IF(OR(LEN(B343)=0,LEN(C343)=0,LEN(D343)=0),\"\",IF(K343>=38,INDEX('Loan - Grade & Staple'!$A$1:$K$1000,MATCH($B343&$C343,'Loan - Grade & Staple'!$B$1:$B$1000&'Loan - Grade & Staple'!$C$1:$C$1000,0),MATCH(\"38+\",'Loan - Grade & Staple'!$A$3:$K$3,0)),IF(K343<=31,INDEX('Loan - Grade & Staple'!$A$1:$K$1000,MATCH($B343&$C343,'Loan - Grade & Staple'!$B$1:$B$1000&'Loan - Grade & Staple'!$C$1:$C$1000,0),MATCH(\"26-31\",'Loan - Grade & Staple'!$A$3:$K$3,0)),IF(ISNA(INDEX('Loan - Grade & Staple'!$A$1:$K$1000,MATCH($B343&C343,'Loan - Grade & Staple'!$B$1:$B$1000&'Loan - Grade & Staple'!$C$1:$C$1000,0),MATCH($K343,'Loan - Grade & Staple'!$A$3:$K$3,0))),-4000,INDEX('Loan - Grade & Staple'!$A$1:$K$1000,MATCH($B343&C343,'Loan - Grade & Staple'!$B$1:$B$1000&'Loan - Grade & Staple'!$C$1:$C$1000,0),MATCH($K343,'Loan - Grade & Staple'!$A$3:$K$3,0))))))","v":""},{"$f":"IF(LEN(E343)=0,\"\",INDEX('Loan - Strength'!$C$1:$C$18,MATCH(E343,'Loan - Strength'!$A$1:$A$18,1)))","v":""},{"$f":"IF(LEN(F343)=0,\"\",INDEX('Loan - Micronaire'!$C$1:$C$20,MATCH($F343,'Loan - Micronaire'!$A$1:$A$20,1)))","v":""},{"$f":"IF(LEN(G343)=0,\"\",INDEX('Loan - Uniformity'!$C$1:$C$20,MATCH($G343,'Loan - Uniformity'!$A$1:$A$20,1)))","v":""},"","",{"$f":"IF(OR(LEN(B343)=0,LEN(C343)=0,LEN(D343)=0,LEN(E343)=0,LEN(F343)=0,LEN(G343)=0),\"\",IF('Base Values'!$B$8+(SUM($L343:$P343)/100)<0,0,'Base Values'!$B$8+(SUM(L343:P343)/100)))","v":""},null,{"$f":"IF(AND($T$13=TRUE,H343=1),'Loan - Extraneous'!B$3,IF(AND($T$13=TRUE,H343=2),'Loan - Extraneous'!C$3,0))","v":0},{"$f":"IF(I343=1,'Loan - Extraneous'!$B$4,IF(I343=2,'Loan - Extraneous'!$C$4,0))","v":0},{"$f":"IF(J343=1,'Loan - Extraneous'!$B$5,IF(J343=2,'Loan - Extraneous'!$C$5,0))","v":0}]
[null,null,null,null,null,null,null,null,null,null,"",{"$f":"IF(OR(LEN(B344)=0,LEN(C344)=0,LEN(D344)=0),\"\",IF(K344>=38,INDEX('Loan - Grade & Staple'!$A$1:$K$1000,MATCH($B344&$C344,'Loan - Grade & Staple'!$B$1:$B$1000&'Loan - Grade & Staple'!$C$1:$C$1000,0),MATCH(\"38+\",'Loan - Grade & Staple'!$A$3:$K$3,0)),IF(K344<=31,INDEX('Loan - Grade & Staple'!$A$1:$K$1000,MATCH($B344&$C344,'Loan - Grade & Staple'!$B$1:$B$1000&'Loan - Grade & Staple'!$C$1:$C$1000,0),MATCH(\"26-31\",'Loan - Grade & Staple'!$A$3:$K$3,0)),IF(ISNA(INDEX('Loan - Grade & Staple'!$A$1:$K$1000,MATCH($B344&C344,'Loan - Grade & Staple'!$B$1:$B$1000&'Loan - Grade & Staple'!$C$1:$C$1000,0),MATCH($K344,'Loan - Grade & Staple'!$A$3:$K$3,0))),-4000,INDEX('Loan - Grade & Staple'!$A$1:$K$1000,MATCH($B344&C344,'Loan - Grade & Staple'!$B$1:$B$1000&'Loan - Grade & Staple'!$C$1:$C$1000,0),MATCH($K344,'Loan - Grade & Staple'!$A$3:$K$3,0))))))","v":""},{"$f":"IF(LEN(E344)=0,\"\",INDEX('Loan - Strength'!$C$1:$C$18,MATCH(E344,'Loan - Strength'!$A$1:$A$18,1)))","v":""},{"$f":"IF(LEN(F344)=0,\"\",INDEX('Loan - Micronaire'!$C$1:$C$20,MATCH($F344,'Loan - Micronaire'!$A$1:$A$20,1)))","v":""},{"$f":"IF(LEN(G344)=0,\"\",INDEX('Loan - Uniformity'!$C$1:$C$20,MATCH($G344,'Loan - Uniformity'!$A$1:$A$20,1)))","v":""},"","",{"$f":"IF(OR(LEN(B344)=0,LEN(C344)=0,LEN(D344)=0,LEN(E344)=0,LEN(F344)=0,LEN(G344)=0),\"\",IF('Base Values'!$B$8+(SUM($L344:$P344)/100)<0,0,'Base Values'!$B$8+(SUM(L344:P344)/100)))","v":""},null,{"$f":"IF(AND($T$13=TRUE,H344=1),'Loan - Extraneous'!B$3,IF(AND($T$13=TRUE,H344=2),'Loan - Extraneous'!C$3,0))","v":0},{"$f":"IF(I344=1,'Loan - Extraneous'!$B$4,IF(I344=2,'Loan - Extraneous'!$C$4,0))","v":0},{"$f":"IF(J344=1,'Loan - Extraneous'!$B$5,IF(J344=2,'Loan - Extraneous'!$C$5,0))","v":0}]
[null,null,null,null,null,null,null,null,null,null,"",{"$f":"IF(OR(LEN(B345)=0,LEN(C345)=0,LEN(D345)=0),\"\",IF(K345>=38,INDEX('Loan - Grade & Staple'!$A$1:$K$1000,MATCH($B345&$C345,'Loan - Grade & Staple'!$B$1:$B$1000&'Loan - Grade & Staple'!$C$1:$C$1000,0),MATCH(\"38+\",'Loan - Grade & Staple'!$A$3:$K$3,0)),IF(K345<=31,INDEX('Loan - Grade & Staple'!$A$1:$K$1000,MATCH($B345&$C345,'Loan - Grade & Staple'!$B$1:$B$1000&'Loan - Grade & Staple'!$C$1:$C$1000,0),MATCH(\"26-31\",'Loan - Grade & Staple'!$A$3:$K$3,0)),IF(ISNA(INDEX('Loan - Grade & Staple'!$A$1:$K$1000,MATCH($B345&C345,'Loan - Grade & Staple'!$B$1:$B$1000&'Loan - Grade & Staple'!$C$1:$C$1000,0),MATCH($K345,'Loan - Grade & Staple'!$A$3:$K$3,0))),-4000,INDEX('Loan - Grade & Staple'!$A$1:$K$1000,MATCH($B345&C345,'Loan - Grade & Staple'!$B$1:$B$1000&'Loan - Grade & Staple'!$C$1:$C$1000,0),MATCH($K345,'Loan - Grade & Staple'!$A$3:$K$3,0))))))","v":""},{"$f":"IF(LEN(E345)=0,\"\",INDEX('Loan - Strength'!$C$1:$C$18,MATCH(E345,'Loan - Strength'!$A$1:$A$18,1)))","v":""},{"$f":"IF(LEN(F345)=0,\"\",INDEX('Loan - Micronaire'!$C$1:$C$20,MATCH($F345,'Loan - Micronaire'!$A$1:$A$20,1)))","v":""},{"$f":"IF(LEN(G345)=0,\"\",INDEX('Loan - Uniformity'!$C$1:$C$20,MATCH($G345,'Loan - Uniformity'!$A$1:$A$20,1)))","v":""},"","",{"$f":"IF(OR(LEN(B345)=0,LEN(C345)=0,LEN(D345)=0,LEN(E345)=0,LEN(F345)=0,LEN(G345)=0),\"\",IF('Base Values'!$B$8+(SUM($L345:$P345)/100)<0,0,'Base Values'!$B$8+(SUM(L345:P345)/100)))","v":""},null,{"$f":"IF(AND($T$13=TRUE,H345=1),'Loan - Extraneous'!B$3,IF(AND($T$13=TRUE,H345=2),'Loan - Extraneous'!C$3,0))","v":0},{"$f":"IF(I345=1,'Loan - Extraneous'!$B$4,IF(I345=2,'Loan - Extraneous'!$C$4,0))","v":0},{"$f":"IF(J345=1,'Loan - Extraneous'!$B$5,IF(J345=2,'Loan - Extraneous'!$C$5,0))","v":0}]
[null,null,null,null,null,null,null,null,null,null,{"$f":"IF(LEN(D346)=0,\"\",ROUND(D346*32,0))","v":""},{"$f":"IF(OR(LEN(B346)=0,LEN(C346)=0,LEN(D346)=0),\"\",IF(K346>=38,INDEX('Loan - Grade & Staple'!$A$1:$K$1000,MATCH($B346&$C346,'Loan - Grade & Staple'!$B$1:$B$1000&'Loan - Grade & Staple'!$C$1:$C$1000,0),MATCH(\"38+\",'Loan - Grade & Staple'!$A$3:$K$3,0)),IF(K346<=31,INDEX('Loan - Grade & Staple'!$A$1:$K$1000,MATCH($B346&$C346,'Loan - Grade & Staple'!$B$1:$B$1000&'Loan - Grade & Staple'!$C$1:$C$1000,0),MATCH(\"26-31\",'Loan - Grade & Staple'!$A$3:$K$3,0)),IF(ISNA(INDEX('Loan - Grade & Staple'!$A$1:$K$1000,MATCH($B346&C346,'Loan - Grade & Staple'!$B$1:$B$1000&'Loan - Grade & Staple'!$C$1:$C$1000,0),MATCH($K346,'Loan - Grade & Staple'!$A$3:$K$3,0))),-4000,INDEX('Loan - Grade & Staple'!$A$1:$K$1000,MATCH($B346&C346,'Loan - Grade & Staple'!$B$1:$B$1000&'Loan - Grade & Staple'!$C$1:$C$1000,0),MATCH($K346,'Loan - Grade & Staple'!$A$3:$K$3,0))))))","v":""},{"$f":"IF(LEN(E346)=0,\"\",INDEX('Loan - Strength'!$C$1:$C$18,MATCH(E346,'Loan - Strength'!$A$1:$A$18,1)))","v":""},{"$f":"IF(LEN(F346)=0,\"\",INDEX('Loan - Micronaire'!$C$1:$C$20,MATCH($F346,'Loan - Micronaire'!$A$1:$A$20,1)))","v":""},{"$f":"IF(LEN(G346)=0,\"\",INDEX('Loan - Uniformity'!$C$1:$C$20,MATCH($G346,'Loan - Uniformity'!$A$1:$A$20,1)))","v":""},{"$f":"IF(LEN(A346)=0,\"\",SUM(T346:V346))","v":""},{"$f":"IF(OR(LEN(B346)=0,LEN(C346)=0,LEN(D346)=0,LEN(E346)=0,LEN(F346)=0,LEN(G346)=0),\"\",SUM(L346:P346))","v":""},{"$f":"IF(OR(LEN(B346)=0,LEN(C346)=0,LEN(D346)=0,LEN(E346)=0,LEN(F346)=0,LEN(G346)=0),\"\",IF('Base Values'!$B$8+(SUM($L346:$P346)/100)<0,0,'Base Values'!$B$8+(SUM(L346:P346)/100)))","v":""},null,{"$f":"IF(AND($T$13=TRUE,H346=1),'Loan - Extraneous'!B$3,IF(AND($T$13=TRUE,H346=2),'Loan - Extraneous'!C$3,0))","v":0},{"$f":"IF(I346=1,'Loan - Extraneous'!$B$4,IF(I346=2,'Loan - Extraneous'!$C$4,0))","v":0},{"$f":"IF(J346=1,'Loan - Extraneous'!$B$5,IF(J346=2,'Loan - Extraneous'!$C$5,0))","v":0}]
[null,null,null,null,null,null,null,null,null,null,"",{"$f":"IF(OR(LEN(B347)=0,LEN(C347)=0,LEN(D347)=0),\"\",IF(K347>=38,INDEX('Loan - Grade & Staple'!$A$1:$K$1000,MATCH($B347&$C347,'Loan - Grade & Staple'!$B$1:$B$1000&'Loan - Grade & Staple'!$C$1:$C$1000,0),MATCH(\"38+\",'Loan - Grade & Staple'!$A$3:$K$3,0)),IF(K347<=31,INDEX('Loan - Grade & Staple'!$A$1:$K$1000,MATCH($B347&$C347,'Loan - Grade & Staple'!$B$1:$B$1000&'Loan - Grade & Staple'!$C$1:$C$1000,0),MATCH(\"26-31\",'Loan - Grade & Staple'!$A$3:$K$3,0)),IF(ISNA(INDEX('Loan - Grade & Staple'!$A$1:$K$1000,MATCH($B347&C347,'Loan - Grade & Staple'!$B$1:$B$1000&'Loan - Grade & Staple'!$C$1:$C$1000,0),MATCH($K347,'Loan - Grade & Staple'!$A$3:$K$3,0))),-4000,INDEX('Loan - Grade & Staple'!$A$1:$K$1000,MATCH($B347&C347,'Loan - Grade & Staple'!$B$1:$B$1000&'Loan - Grade & Staple'!$C$1:$C$1000,0),MATCH($K347,'Loan - Grade & Staple'!$A$3:$K$3,0))))))","v":""},{"$f":"IF(LEN(E347)=0,\"\",INDEX('Loan - Strength'!$C$1:$C$18,MATCH(E347,'Loan - Strength'!$A$1:$A$18,1)))","v":""},{"$f":"IF(LEN(F347)=0,\"\",INDEX('Loan - Micronaire'!$C$1:$C$20,MATCH($F347,'Loan - Micronaire'!$A$1:$A$20,1)))","v":""},{"$f":"IF(LEN(G347)=0,\"\",INDEX('Loan - Uniformity'!$C$1:$C$20,MATCH($G347,'Loan - Uniformity'!$A$1:$A$20,1)))","v":""},"","",{"$f":"IF(OR(LEN(B347)=0,LEN(C347)=0,LEN(D347)=0,LEN(E347)=0,LEN(F347)=0,LEN(G347)=0),\"\",IF('Base Values'!$B$8+(SUM($L347:$P347)/100)<0,0,'Base Values'!$B$8+(SUM(L347:P347)/100)))","v":""},null,{"$f":"IF(AND($T$13=TRUE,H347=1),'Loan - Extraneous'!B$3,IF(AND($T$13=TRUE,H347=2),'Loan - Extraneous'!C$3,0))","v":0},{"$f":"IF(I347=1,'Loan - Extraneous'!$B$4,IF(I347=2,'Loan - Extraneous'!$C$4,0))","v":0},{"$f":"IF(J347=1,'Loan - Extraneous'!$B$5,IF(J347=2,'Loan - Extraneous'!$C$5,0))","v":0}]
[null,null,null,null,null,null,null,null,null,null,"",{"$f":"IF(OR(LEN(B348)=0,LEN(C348)=0,LEN(D348)=0),\"\",IF(K348>=38,INDEX('Loan - Grade & Staple'!$A$1:$K$1000,MATCH($B348&$C348,'Loan - Grade & Staple'!$B$1:$B$1000&'Loan - Grade & Staple'!$C$1:$C$1000,0),MATCH(\"38+\",'Loan - Grade & Staple'!$A$3:$K$3,0)),IF(K348<=31,INDEX('Loan - Grade & Staple'!$A$1:$K$1000,MATCH($B348&$C348,'Loan - Grade & Staple'!$B$1:$B$1000&'Loan - Grade & Staple'!$C$1:$C$1000,0),MATCH(\"26-31\",'Loan - Grade & Staple'!$A$3:$K$3,0)),IF(ISNA(INDEX('Loan - Grade & Staple'!$A$1:$K$1000,MATCH($B348&C348,'Loan - Grade & Staple'!$B$1:$B$1000&'Loan - Grade & Staple'!$C$1:$C$1000,0),MATCH($K348,'Loan - Grade & Staple'!$A$3:$K$3,0))),-4000,INDEX('Loan - Grade & Staple'!$A$1:$K$1000,MATCH($B348&C348,'Loan - Grade & Staple'!$B$1:$B$1000&'Loan - Grade & Staple'!$C$1:$C$1000,0),MATCH($K348,'Loan - Grade & Staple'!$A$3:$K$3,0))))))","v":""},{"$f":"IF(LEN(E348)=0,\"\",INDEX('Loan - Strength'!$C$1:$C$18,MATCH(E348,'Loan - Strength'!$A$1:$A$18,1)))","v":""},{"$f":"IF(LEN(F348)=0,\"\",INDEX('Loan - Micronaire'!$C$1:$C$20,MATCH($F348,'Loan - Micronaire'!$A$1:$A$20,1)))","v":""},{"$f":"IF(LEN(G348)=0,\"\",INDEX('Loan - Uniformity'!$C$1:$C$20,MATCH($G348,'Loan - Uniformity'!$A$1:$A$20,1)))","v":""},"","",{"$f":"IF(OR(LEN(B348)=0,LEN(C348)=0,LEN(D348)=0,LEN(E348)=0,LEN(F348)=0,LEN(G348)=0),\"\",IF('Base Values'!$B$8+(SUM($L348:$P348)/100)<0,0,'Base Values'!$B$8+(SUM(L348:P348)/100)))","v":""},null,{"$f":"IF(AND($T$13=TRUE,H348=1),'Loan - Extraneous'!B$3,IF(AND($T$13=TRUE,H348=2),'Loan - Extraneous'!C$3,0))","v":0},{"$f":"IF(I348=1,'Loan - Extraneous'!$B$4,IF(I348=2,'Loan - Extraneous'!$C$4,0))","v":0},{"$f":"IF(J348=1,'Loan - Extraneous'!$B$5,IF(J348=2,'Loan - Extraneous'!$C$5,0))","v":0}]
[null,null,null,null,null,null,null,null,null,null,"",{"$f":"IF(OR(LEN(B349)=0,LEN(C349)=0,LEN(D349)=0),\"\",IF(K349>=38,INDEX('Loan - Grade & Staple'!$A$1:$K$1000,MATCH($B349&$C349,'Loan - Grade & Staple'!$B$1:$B$1000&'Loan - Grade & Staple'!$C$1:$C$1000,0),MATCH(\"38+\",'Loan - Grade & Staple'!$A$3:$K$3,0)),IF(K349<=31,INDEX('Loan - Grade & Staple'!$A$1:$K$1000,MATCH($B349&$C349,'Loan - Grade & Staple'!$B$1:$B$1000&'Loan - Grade & Staple'!$C$1:$C$1000,0),MATCH(\"26-31\",'Loan - Grade & Staple'!$A$3:$K$3,0)),IF(ISNA(INDEX('Loan - Grade & Staple'!$A$1:$K$1000,MATCH($B349&C349,'Loan - Grade & Staple'!$B$1:$B$1000&'Loan - Grade & Staple'!$C$1:$C$1000,0),MATCH($K349,'Loan - Grade & Staple'!$A$3:$K$3,0))),-4000,INDEX('Loan - Grade & Staple'!$A$1:$K$1000,MATCH($B349&C349,'Loan - Grade & Staple'!$B$1:$B$1000&'Loan - Grade & Staple'!$C$1:$C$1000,0),MATCH($K349,'Loan - Grade & Staple'!$A$3:$K$3,0))))))","v":""},{"$f":"IF(LEN(E349)=0,\"\",INDEX('Loan - Strength'!$C$1:$C$18,MATCH(E349,'Loan - Strength'!$A$1:$A$18,1)))","v":""},{"$f":"IF(LEN(F349)=0,\"\",INDEX('Loan - Micronaire'!$C$1:$C$20,MATCH($F349,'Loan - Micronaire'!$A$1:$A$20,1)))","v":""},{"$f":"IF(LEN(G349)=0,\"\",INDEX('Loan - Uniformity'!$C$1:$C$20,MATCH($G349,'Loan - Uniformity'!$A$1:$A$20,1)))","v":""},"","",{"$f":"IF(OR(LEN(B349)=0,LEN(C349)=0,LEN(D349)=0,LEN(E349)=0,LEN(F349)=0,LEN(G349)=0),\"\",IF('Base Values'!$B$8+(SUM($L349:$P349)/100)<0,0,'Base Values'!$B$8+(SUM(L349:P349)/100)))","v":""},null,{"$f":"IF(AND($T$13=TRUE,H349=1),'Loan - Extraneous'!B$3,IF(AND($T$13=TRUE,H349=2),'Loan - Extraneous'!C$3,0))","v":0},{"$f":"IF(I349=1,'Loan - Extraneous'!$B$4,IF(I349=2,'Loan - Extraneous'!$C$4,0))","v":0},{"$f":"IF(J349=1,'Loan - Extraneous'!$B$5,IF(J349=2,'Loan - Extraneous'!$C$5,0))","v":0}]
[null,null,null,null,null,null,null,null,null,null,"",{"$f":"IF(OR(LEN(B350)=0,LEN(C350)=0,LEN(D350)=0),\"\",IF(K350>=38,INDEX('Loan - Grade & Staple'!$A$1:$K$1000,MATCH($B350&$C350,'Loan - Grade & Staple'!$B$1:$B$1000&'Loan - Grade & Staple'!$C$1:$C$1000,0),MATCH(\"38+\",'Loan - Grade & Staple'!$A$3:$K$3,0)),IF(K350<=31,INDEX('Loan - Grade & Staple'!$A$1:$K$1000,MATCH($B350&$C350,'Loan - Grade & Staple'!$B$1:$B$1000&'Loan - Grade & Staple'!$C$1:$C$1000,0),MATCH(\"26-31\",'Loan - Grade & Staple'!$A$3:$K$3,0)),IF(ISNA(INDEX('Loan - Grade & Staple'!$A$1:$K$1000,MATCH($B350&C350,'Loan - Grade & Staple'!$B$1:$B$1000&'Loan - Grade & Staple'!$C$1:$C$1000,0),MATCH($K350,'Loan - Grade & Staple'!$A$3:$K$3,0))),-4000,INDEX('Loan - Grade & Staple'!$A$1:$K$1000,MATCH($B350&C350,'Loan - Grade & Staple'!$B$1:$B$1000&'Loan - Grade & Staple'!$C$1:$C$1000,0),MATCH($K350,'Loan - Grade & Staple'!$A$3:$K$3,0))))))","v":""},{"$f":"IF(LEN(E350)=0,\"\",INDEX('Loan - Strength'!$C$1:$C$18,MATCH(E350,'Loan - Strength'!$A$1:$A$18,1)))","v":""},{"$f":"IF(LEN(F350)=0,\"\",INDEX('Loan - Micronaire'!$C$1:$C$20,MATCH($F350,'Loan - Micronaire'!$A$1:$A$20,1)))","v":""},{"$f":"IF(LEN(G350)=0,\"\",INDEX('Loan - Uniformity'!$C$1:$C$20,MATCH($G350,'Loan - Uniformity'!$A$1:$A$20,1)))","v":""},"","",{"$f":"IF(OR(LEN(B350)=0,LEN(C350)=0,LEN(D350)=0,LEN(E350)=0,LEN(F350)=0,LEN(G350)=0),\"\",IF('Base Values'!$B$8+(SUM($L350:$P350)/100)<0,0,'Base Values'!$B$8+(SUM(L350:P350)/100)))","v":""},null,{"$f":"IF(AND($T$13=TRUE,H350=1),'Loan - Extraneous'!B$3,IF(AND($T$13=TRUE,H350=2),'Loan - Extraneous'!C$3,0))","v":0},{"$f":"IF(I350=1,'Loan - Extraneous'!$B$4,IF(I350=2,'Loan - Extraneous'!$C$4,0))","v":0},{"$f":"IF(J350=1,'Loan - Extraneous'!$B$5,IF(J350=2,'Loan - Extraneous'!$C$5,0))","v":0}]
[null,null,null,null,null,null,null,null,null,null,"",{"$f":"IF(OR(LEN(B351)=0,LEN(C351)=0,LEN(D351)=0),\"\",IF(K351>=38,INDEX('Loan - Grade & Staple'!$A$1:$K$1000,MATCH($B351&$C351,'Loan - Grade & Staple'!$B$1:$B$1000&'Loan - Grade & Staple'!$C$1:$C$1000,0),MATCH(\"38+\",'Loan - Grade & Staple'!$A$3:$K$3,0)),IF(K351<=31,INDEX('Loan - Grade & Staple'!$A$1:$K$1000,MATCH($B351&$C351,'Loan - Grade & Staple'!$B$1:$B$1000&'Loan - Grade & Staple'!$C$1:$C$1000,0),MATCH(\"26-31\",'Loan - Grade & Staple'!$A$3:$K$3,0)),IF(ISNA(INDEX('Loan - Grade & Staple'!$A$1:$K$1000,MATCH($B351&C351,'Loan - Grade & Staple'!$B$1:$B$1000&'Loan - Grade & Staple'!$C$1:$C$1000,0),MATCH($K351,'Loan - Grade & Staple'!$A$3:$K$3,0))),-4000,INDEX('Loan - Grade & Staple'!$A$1:$K$1000,MATCH($B351&C351,'Loan - Grade & Staple'!$B$1:$B$1000&'Loan - Grade & Staple'!$C$1:$C$1000,0),MATCH($K351,'Loan - Grade & Staple'!$A$3:$K$3,0))))))","v":""},{"$f":"IF(LEN(E351)=0,\"\",INDEX('Loan - Strength'!$C$1:$C$18,MATCH(E351,'Loan - Strength'!$A$1:$A$18,1)))","v":""},{"$f":"IF(LEN(F351)=0,\"\",INDEX('Loan - Micronaire'!$C$1:$C$20,MATCH($F351,'Loan - Micronaire'!$A$1:$A$20,1)))","v":""},{"$f":"IF(LEN(G351)=0,\"\",INDEX('Loan - Uniformity'!$C$1:$C$20,MATCH($G351,'Loan - Uniformity'!$A$1:$A$20,1)))","v":""},"","",{"$f":"IF(OR(LEN(B351)=0,LEN(C351)=0,LEN(D351)=0,LEN(E351)=0,LEN(F351)=0,LEN(G351)=0),\"\",IF('Base Values'!$B$8+(SUM($L351:$P351)/100)<0,0,'Base Values'!$B$8+(SUM(L351:P351)/100)))","v":""},null,{"$f":"IF(AND($T$13=TRUE,H351=1),'Loan - Extraneous'!B$3,IF(AND($T$13=TRUE,H351=2),'Loan - Extraneous'!C$3,0))","v":0},{"$f":"IF(I351=1,'Loan - Extraneous'!$B$4,IF(I351=2,'Loan - Extraneous'!$C$4,0))","v":0},{"$f":"IF(J351=1,'Loan - Extraneous'!$B$5,IF(J351=2,'Loan - Extraneous'!$C$5,0))","v":0}]
[null,null,null,null,null,null,null,null,null,null,"",{"$f":"IF(OR(LEN(B352)=0,LEN(C352)=0,LEN(D352)=0),\"\",IF(K352>=38,INDEX('Loan - Grade & Staple'!$A$1:$K$1000,MATCH($B352&$C352,'Loan - Grade & Staple'!$B$1:$B$1000&'Loan - Grade & Staple'!$C$1:$C$1000,0),MATCH(\"38+\",'Loan - Grade & Staple'!$A$3:$K$3,0)),IF(K352<=31,INDEX('Loan - Grade & Staple'!$A$1:$K$1000,MATCH($B352&$C352,'Loan - Grade & Staple'!$B$1:$B$1000&'Loan - Grade & Staple'!$C$1:$C$1000,0),MATCH(\"26-31\",'Loan - Grade & Staple'!$A$3:$K$3,0)),IF(ISNA(INDEX('Loan - Grade & Staple'!$A$1:$K$1000,MATCH($B352&C352,'Loan - Grade & Staple'!$B$1:$B$1000&'Loan - Grade & Staple'!$C$1:$C$1000,0),MATCH($K352,'Loan - Grade & Staple'!$A$3:$K$3,0))),-4000,INDEX('Loan - Grade & Staple'!$A$1:$K$1000,MATCH($B352&C352,'Loan - Grade & Staple'!$B$1:$B$1000&'Loan - Grade & Staple'!$C$1:$C$1000,0),MATCH($K352,'Loan - Grade & Staple'!$A$3:$K$3,0))))))","v":""},{"$f":"IF(LEN(E352)=0,\"\",INDEX('Loan - Strength'!$C$1:$C$18,MATCH(E352,'Loan - Strength'!$A$1:$A$18,1)))","v":""},{"$f":"IF(LEN(F352)=0,\"\",INDEX('Loan - Micronaire'!$C$1:$C$20,MATCH($F352,'Loan - Micronaire'!$A$1:$A$20,1)))","v":""},{"$f":"IF(LEN(G352)=0,\"\",INDEX('Loan - Uniformity'!$C$1:$C$20,MATCH($G352,'Loan - Uniformity'!$A$1:$A$20,1)))","v":""},"","",{"$f":"IF(OR(LEN(B352)=0,LEN(C352)=0,LEN(D352)=0,LEN(E352)=0,LEN(F352)=0,LEN(G352)=0),\"\",IF('Base Values'!$B$8+(SUM($L352:$P352)/100)<0,0,'Base Values'!$B$8+(SUM(L352:P352)/100)))","v":""},null,{"$f":"IF(AND($T$13=TRUE,H352=1),'Loan - Extraneous'!B$3,IF(AND($T$13=TRUE,H352=2),'Loan - Extraneous'!C$3,0))","v":0},{"$f":"IF(I352=1,'Loan - Extraneous'!$B$4,IF(I352=2,'Loan - Extraneous'!$C$4,0))","v":0},{"$f":"IF(J352=1,'Loan - Extraneous'!$B$5,IF(J352=2,'Loan - Extraneous'!$C$5,0))","v":0}]
[null,null,null,null,null,null,null,null,null,null,"",{"$f":"IF(OR(LEN(B353)=0,LEN(C353)=0,LEN(D353)=0),\"\",IF(K353>=38,INDEX('Loan - Grade & Staple'!$A$1:$K$1000,MATCH($B353&$C353,'Loan - Grade & Staple'!$B$1:$B$1000&'Loan - Grade & Staple'!$C$1:$C$1000,0),MATCH(\"38+\",'Loan - Grade & Staple'!$A$3:$K$3,0)),IF(K353<=31,INDEX('Loan - Grade & Staple'!$A$1:$K$1000,MATCH($B353&$C353,'Loan - Grade & Staple'!$B$1:$B$1000&'Loan - Grade & Staple'!$C$1:$C$1000,0),MATCH(\"26-31\",'Loan - Grade & Staple'!$A$3:$K$3,0)),IF(ISNA(INDEX('Loan - Grade & Staple'!$A$1:$K$1000,MATCH($B353&C353,'Loan - Grade & Staple'!$B$1:$B$1000&'Loan - Grade & Staple'!$C$1:$C$1000,0),MATCH($K353,'Loan - Grade & Staple'!$A$3:$K$3,0))),-4000,INDEX('Loan - Grade & Staple'!$A$1:$K$1000,MATCH($B353&C353,'Loan - Grade & Staple'!$B$1:$B$1000&'Loan - Grade & Staple'!$C$1:$C$1000,0),MATCH($K353,'Loan - Grade & Staple'!$A$3:$K$3,0))))))","v":""},{"$f":"IF(LEN(E353)=0,\"\",INDEX('Loan - Strength'!$C$1:$C$18,MATCH(E353,'Loan - Strength'!$A$1:$A$18,1)))","v":""},{"$f":"IF(LEN(F353)=0,\"\",INDEX('Loan - Micronaire'!$C$1:$C$20,MATCH($F353,'Loan - Micronaire'!$A$1:$A$20,1)))","v":""},{"$f":"IF(LEN(G353)=0,\"\",INDEX('Loan - Uniformity'!$C$1:$C$20,MATCH($G353,'Loan - Uniformity'!$A$1:$A$20,1)))","v":""},"","",{"$f":"IF(OR(LEN(B353)=0,LEN(C353)=0,LEN(D353)=0,LEN(E353)=0,LEN(F353)=0,LEN(G353)=0),\"\",IF('Base Values'!$B$8+(SUM($L353:$P353)/100)<0,0,'Base Values'!$B$8+(SUM(L353:P353)/100)))","v":""},null,{"$f":"IF(AND($T$13=TRUE,H353=1),'Loan - Extraneous'!B$3,IF(AND($T$13=TRUE,H353=2),'Loan - Extraneous'!C$3,0))","v":0},{"$f":"IF(I353=1,'Loan - Extraneous'!$B$4,IF(I353=2,'Loan - Extraneous'!$C$4,0))","v":0},{"$f":"IF(J353=1,'Loan - Extraneous'!$B$5,IF(J353=2,'Loan - Extraneous'!$C$5,0))","v":0}]
[null,null,null,null,null,null,null,null,null,null,"",{"$f":"IF(OR(LEN(B354)=0,LEN(C354)=0,LEN(D354)=0),\"\",IF(K354>=38,INDEX('Loan - Grade & Staple'!$A$1:$K$1000,MATCH($B354&$C354,'Loan - Grade & Staple'!$B$1:$B$1000&'Loan - Grade & Staple'!$C$1:$C$1000,0),MATCH(\"38+\",'Loan - Grade & Staple'!$A$3:$K$3,0)),IF(K354<=31,INDEX('Loan - Grade & Staple'!$A$1:$K$1000,MATCH($B354&$C354,'Loan - Grade & Staple'!$B$1:$B$1000&'Loan - Grade & Staple'!$C$1:$C$1000,0),MATCH(\"26-31\",'Loan - Grade & Staple'!$A$3:$K$3,0)),IF(ISNA(INDEX('Loan - Grade & Staple'!$A$1:$K$1000,MATCH($B354&C354,'Loan - Grade & Staple'!$B$1:$B$1000&'Loan - Grade & Staple'!$C$1:$C$1000,0),MATCH($K354,'Loan - Grade & Staple'!$A$3:$K$3,0))),-4000,INDEX('Loan - Grade & Staple'!$A$1:$K$1000,MATCH($B354&C354,'Loan - Grade & Staple'!$B$1:$B$1000&'Loan - Grade & Staple'!$C$1:$C$1000,0),MATCH($K354,'Loan - Grade & Staple'!$A$3:$K$3,0))))))","v":""},{"$f":"IF(LEN(E354)=0,\"\",INDEX('Loan - Strength'!$C$1:$C$18,MATCH(E354,'Loan - Strength'!$A$1:$A$18,1)))","v":""},{"$f":"IF(LEN(F354)=0,\"\",INDEX('Loan - Micronaire'!$C$1:$C$20,MATCH($F354,'Loan - Micronaire'!$A$1:$A$20,1)))","v":""},{"$f":"IF(LEN(G354)=0,\"\",INDEX('Loan - Uniformity'!$C$1:$C$20,MATCH($G354,'Loan - Uniformity'!$A$1:$A$20,1)))","v":""},"","",{"$f":"IF(OR(LEN(B354)=0,LEN(C354)=0,LEN(D354)=0,LEN(E354)=0,LEN(F354)=0,LEN(G354)=0),\"\",IF('Base Values'!$B$8+(SUM($L354:$P354)/100)<0,0,'Base Values'!$B$8+(SUM(L354:P354)/100)))","v":""},null,{"$f":"IF(AND($T$13=TRUE,H354=1),'Loan - Extraneous'!B$3,IF(AND($T$13=TRUE,H354=2),'Loan - Extraneous'!C$3,0))","v":0},{"$f":"IF(I354=1,'Loan - Extraneous'!$B$4,IF(I354=2,'Loan - Extraneous'!$C$4,0))","v":0},{"$f":"IF(J354=1,'Loan - Extraneous'!$B$5,IF(J354=2,'Loan - Extraneous'!$C$5,0))","v":0}]
[null,null,null,null,null,null,null,null,null,null,"",{"$f":"IF(OR(LEN(B355)=0,LEN(C355)=0,LEN(D355)=0),\"\",IF(K355>=38,INDEX('Loan - Grade & Staple'!$A$1:$K$1000,MATCH($B355&$C355,'Loan - Grade & Staple'!$B$1:$B$1000&'Loan - Grade & Staple'!$C$1:$C$1000,0),MATCH(\"38+\",'Loan - Grade & Staple'!$A$3:$K$3,0)),IF(K355<=31,INDEX('Loan - Grade & Staple'!$A$1:$K$1000,MATCH($B355&$C355,'Loan - Grade & Staple'!$B$1:$B$1000&'Loan - Grade & Staple'!$C$1:$C$1000,0),MATCH(\"26-31\",'Loan - Grade & Staple'!$A$3:$K$3,0)),IF(ISNA(INDEX('Loan - Grade & Staple'!$A$1:$K$1000,MATCH($B355&C355,'Loan - Grade & Staple'!$B$1:$B$1000&'Loan - Grade & Staple'!$C$1:$C$1000,0),MATCH($K355,'Loan - Grade & Staple'!$A$3:$K$3,0))),-4000,INDEX('Loan - Grade & Staple'!$A$1:$K$1000,MATCH($B355&C355,'Loan - Grade & Staple'!$B$1:$B$1000&'Loan - Grade & Staple'!$C$1:$C$1000,0),MATCH($K355,'Loan - Grade & Staple'!$A$3:$K$3,0))))))","v":""},{"$f":"IF(LEN(E355)=0,\"\",INDEX('Loan - Strength'!$C$1:$C$18,MATCH(E355,'Loan - Strength'!$A$1:$A$18,1)))","v":""},{"$f":"IF(LEN(F355)=0,\"\",INDEX('Loan - Micronaire'!$C$1:$C$20,MATCH($F355,'Loan - Micronaire'!$A$1:$A$20,1)))","v":""},{"$f":"IF(LEN(G355)=0,\"\",INDEX('Loan - Uniformity'!$C$1:$C$20,MATCH($G355,'Loan - Uniformity'!$A$1:$A$20,1)))","v":""},"","",{"$f":"IF(OR(LEN(B355)=0,LEN(C355)=0,LEN(D355)=0,LEN(E355)=0,LEN(F355)=0,LEN(G355)=0),\"\",IF('Base Values'!$B$8+(SUM($L355:$P355)/100)<0,0,'Base Values'!$B$8+(SUM(L355:P355)/100)))","v":""},null,{"$f":"IF(AND($T$13=TRUE,H355=1),'Loan - Extraneous'!B$3,IF(AND($T$13=TRUE,H355=2),'Loan - Extraneous'!C$3,0))","v":0},{"$f":"IF(I355=1,'Loan - Extraneous'!$B$4,IF(I355=2,'Loan - Extraneous'!$C$4,0))","v":0},{"$f":"IF(J355=1,'Loan - Extraneous'!$B$5,IF(J355=2,'Loan - Extraneous'!$C$5,0))","v":0}]
[null,null,null,null,null,null,null,null,null,null,"",{"$f":"IF(OR(LEN(B356)=0,LEN(C356)=0,LEN(D356)=0),\"\",IF(K356>=38,INDEX('Loan - Grade & Staple'!$A$1:$K$1000,MATCH($B356&$C356,'Loan - Grade & Staple'!$B$1:$B$1000&'Loan - Grade & Staple'!$C$1:$C$1000,0),MATCH(\"38+\",'Loan - Grade & Staple'!$A$3:$K$3,0)),IF(K356<=31,INDEX('Loan - Grade & Staple'!$A$1:$K$1000,MATCH($B356&$C356,'Loan - Grade & Staple'!$B$1:$B$1000&'Loan - Grade & Staple'!$C$1:$C$1000,0),MATCH(\"26-31\",'Loan - Grade & Staple'!$A$3:$K$3,0)),IF(ISNA(INDEX('Loan - Grade & Staple'!$A$1:$K$1000,MATCH($B356&C356,'Loan - Grade & Staple'!$B$1:$B$1000&'Loan - Grade & Staple'!$C$1:$C$1000,0),MATCH($K356,'Loan - Grade & Staple'!$A$3:$K$3,0))),-4000,INDEX('Loan - Grade & Staple'!$A$1:$K$1000,MATCH($B356&C356,'Loan - Grade & Staple'!$B$1:$B$1000&'Loan - Grade & Staple'!$C$1:$C$1000,0),MATCH($K356,'Loan - Grade & Staple'!$A$3:$K$3,0))))))","v":""},{"$f":"IF(LEN(E356)=0,\"\",INDEX('Loan - Strength'!$C$1:$C$18,MATCH(E356,'Loan - Strength'!$A$1:$A$18,1)))","v":""},{"$f":"IF(LEN(F356)=0,\"\",INDEX('Loan - Micronaire'!$C$1:$C$20,MATCH($F356,'Loan - Micronaire'!$A$1:$A$20,1)))","v":""},{"$f":"IF(LEN(G356)=0,\"\",INDEX('Loan - Uniformity'!$C$1:$C$20,MATCH($G356,'Loan - Uniformity'!$A$1:$A$20,1)))","v":""},"","",{"$f":"IF(OR(LEN(B356)=0,LEN(C356)=0,LEN(D356)=0,LEN(E356)=0,LEN(F356)=0,LEN(G356)=0),\"\",IF('Base Values'!$B$8+(SUM($L356:$P356)/100)<0,0,'Base Values'!$B$8+(SUM(L356:P356)/100)))","v":""},null,{"$f":"IF(AND($T$13=TRUE,H356=1),'Loan - Extraneous'!B$3,IF(AND($T$13=TRUE,H356=2),'Loan - Extraneous'!C$3,0))","v":0},{"$f":"IF(I356=1,'Loan - Extraneous'!$B$4,IF(I356=2,'Loan - Extraneous'!$C$4,0))","v":0},{"$f":"IF(J356=1,'Loan - Extraneous'!$B$5,IF(J356=2,'Loan - Extraneous'!$C$5,0))","v":0}]
[null,null,null,null,null,null,null,null,null,null,"",{"$f":"IF(OR(LEN(B357)=0,LEN(C357)=0,LEN(D357)=0),\"\",IF(K357>=38,INDEX('Loan - Grade & Staple'!$A$1:$K$1000,MATCH($B357&$C357,'Loan - Grade & Staple'!$B$1:$B$1000&'Loan - Grade & Staple'!$C$1:$C$1000,0),MATCH(\"38+\",'Loan - Grade & Staple'!$A$3:$K$3,0)),IF(K357<=31,INDEX('Loan - Grade & Staple'!$A$1:$K$1000,MATCH($B357&$C357,'Loan - Grade & Staple'!$B$1:$B$1000&'Loan - Grade & Staple'!$C$1:$C$1000,0),MATCH(\"26-31\",'Loan - Grade & Staple'!$A$3:$K$3,0)),IF(ISNA(INDEX('Loan - Grade & Staple'!$A$1:$K$1000,MATCH($B357&C357,'Loan - Grade & Staple'!$B$1:$B$1000&'Loan - Grade & Staple'!$C$1:$C$1000,0),MATCH($K357,'Loan - Grade & Staple'!$A$3:$K$3,0))),-4000,INDEX('Loan - Grade & Staple'!$A$1:$K$1000,MATCH($B357&C357,'Loan - Grade & Staple'!$B$1:$B$1000&'Loan - Grade & Staple'!$C$1:$C$1000,0),MATCH($K357,'Loan - Grade & Staple'!$A$3:$K$3,0))))))","v":""},{"$f":"IF(LEN(E357)=0,\"\",INDEX('Loan - Strength'!$C$1:$C$18,MATCH(E357,'Loan - Strength'!$A$1:$A$18,1)))","v":""},{"$f":"IF(LEN(F357)=0,\"\",INDEX('Loan - Micronaire'!$C$1:$C$20,MATCH($F357,'Loan - Micronaire'!$A$1:$A$20,1)))","v":""},{"$f":"IF(LEN(G357)=0,\"\",INDEX('Loan - Uniformity'!$C$1:$C$20,MATCH($G357,'Loan - Uniformity'!$A$1:$A$20,1)))","v":""},"","",{"$f":"IF(OR(LEN(B357)=0,LEN(C357)=0,LEN(D357)=0,LEN(E357)=0,LEN(F357)=0,LEN(G357)=0),\"\",IF('Base Values'!$B$8+(SUM($L357:$P357)/100)<0,0,'Base Values'!$B$8+(SUM(L357:P357)/100)))","v":""},null,{"$f":"IF(AND($T$13=TRUE,H357=1),'Loan - Extraneous'!B$3,IF(AND($T$13=TRUE,H357=2),'Loan - Extraneous'!C$3,0))","v":0},{"$f":"IF(I357=1,'Loan - Extraneous'!$B$4,IF(I357=2,'Loan - Extraneous'!$C$4,0))","v":0},{"$f":"IF(J357=1,'Loan - Extraneous'!$B$5,IF(J357=2,'Loan - Extraneous'!$C$5,0))","v":0}]
[null,null,null,null,null,null,null,null,null,null,"",{"$f":"IF(OR(LEN(B358)=0,LEN(C358)=0,LEN(D358)=0),\"\",IF(K358>=38,INDEX('Loan - Grade & Staple'!$A$1:$K$1000,MATCH($B358&$C358,'Loan - Grade & Staple'!$B$1:$B$1000&'Loan - Grade & Staple'!$C$1:$C$1000,0),MATCH(\"38+\",'Loan - Grade & Staple'!$A$3:$K$3,0)),IF(K358<=31,INDEX('Loan - Grade & Staple'!$A$1:$K$1000,MATCH($B358&$C358,'Loan - Grade & Staple'!$B$1:$B$1000&'Loan - Grade & Staple'!$C$1:$C$1000,0),MATCH(\"26-31\",'Loan - Grade & Staple'!$A$3:$K$3,0)),IF(ISNA(INDEX('Loan - Grade & Staple'!$A$1:$K$1000,MATCH($B358&C358,'Loan - Grade & Staple'!$B$1:$B$1000&'Loan - Grade & Staple'!$C$1:$C$1000,0),MATCH($K358,'Loan - Grade & Staple'!$A$3:$K$3,0))),-4000,INDEX('Loan - Grade & Staple'!$A$1:$K$1000,MATCH($B358&C358,'Loan - Grade & Staple'!$B$1:$B$1000&'Loan - Grade & Staple'!$C$1:$C$1000,0),MATCH($K358,'Loan - Grade & Staple'!$A$3:$K$3,0))))))","v":""},{"$f":"IF(LEN(E358)=0,\"\",INDEX('Loan - Strength'!$C$1:$C$18,MATCH(E358,'Loan - Strength'!$A$1:$A$18,1)))","v":""},{"$f":"IF(LEN(F358)=0,\"\",INDEX('Loan - Micronaire'!$C$1:$C$20,MATCH($F358,'Loan - Micronaire'!$A$1:$A$20,1)))","v":""},{"$f":"IF(LEN(G358)=0,\"\",INDEX('Loan - Uniformity'!$C$1:$C$20,MATCH($G358,'Loan - Uniformity'!$A$1:$A$20,1)))","v":""},"","",{"$f":"IF(OR(LEN(B358)=0,LEN(C358)=0,LEN(D358)=0,LEN(E358)=0,LEN(F358)=0,LEN(G358)=0),\"\",IF('Base Values'!$B$8+(SUM($L358:$P358)/100)<0,0,'Base Values'!$B$8+(SUM(L358:P358)/100)))","v":""},null,{"$f":"IF(AND($T$13=TRUE,H358=1),'Loan - Extraneous'!B$3,IF(AND($T$13=TRUE,H358=2),'Loan - Extraneous'!C$3,0))","v":0},{"$f":"IF(I358=1,'Loan - Extraneous'!$B$4,IF(I358=2,'Loan - Extraneous'!$C$4,0))","v":0},{"$f":"IF(J358=1,'Loan - Extraneous'!$B$5,IF(J358=2,'Loan - Extraneous'!$C$5,0))","v":0}]
[null,null,null,null,null,null,null,null,null,null,"",{"$f":"IF(OR(LEN(B359)=0,LEN(C359)=0,LEN(D359)=0),\"\",IF(K359>=38,INDEX('Loan - Grade & Staple'!$A$1:$K$1000,MATCH($B359&$C359,'Loan - Grade & Staple'!$B$1:$B$1000&'Loan - Grade & Staple'!$C$1:$C$1000,0),MATCH(\"38+\",'Loan - Grade & Staple'!$A$3:$K$3,0)),IF(K359<=31,INDEX('Loan - Grade & Staple'!$A$1:$K$1000,MATCH($B359&$C359,'Loan - Grade & Staple'!$B$1:$B$1000&'Loan - Grade & Staple'!$C$1:$C$1000,0),MATCH(\"26-31\",'Loan - Grade & Staple'!$A$3:$K$3,0)),IF(ISNA(INDEX('Loan - Grade & Staple'!$A$1:$K$1000,MATCH($B359&C359,'Loan - Grade & Staple'!$B$1:$B$1000&'Loan - Grade & Staple'!$C$1:$C$1000,0),MATCH($K359,'Loan - Grade & Staple'!$A$3:$K$3,0))),-4000,INDEX('Loan - Grade & Staple'!$A$1:$K$1000,MATCH($B359&C359,'Loan - Grade & Staple'!$B$1:$B$1000&'Loan - Grade & Staple'!$C$1:$C$1000,0),MATCH($K359,'Loan - Grade & Staple'!$A$3:$K$3,0))))))","v":""},{"$f":"IF(LEN(E359)=0,\"\",INDEX('Loan - Strength'!$C$1:$C$18,MATCH(E359,'Loan - Strength'!$A$1:$A$18,1)))","v":""},{"$f":"IF(LEN(F359)=0,\"\",INDEX('Loan - Micronaire'!$C$1:$C$20,MATCH($F359,'Loan - Micronaire'!$A$1:$A$20,1)))","v":""},{"$f":"IF(LEN(G359)=0,\"\",INDEX('Loan - Uniformity'!$C$1:$C$20,MATCH($G359,'Loan - Uniformity'!$A$1:$A$20,1)))","v":""},"","",{"$f":"IF(OR(LEN(B359)=0,LEN(C359)=0,LEN(D359)=0,LEN(E359)=0,LEN(F359)=0,LEN(G359)=0),\"\",IF('Base Values'!$B$8+(SUM($L359:$P359)/100)<0,0,'Base Values'!$B$8+(SUM(L359:P359)/100)))","v":""},null,{"$f":"IF(AND($T$13=TRUE,H359=1),'Loan - Extraneous'!B$3,IF(AND($T$13=TRUE,H359=2),'Loan - Extraneous'!C$3,0))","v":0},{"$f":"IF(I359=1,'Loan - Extraneous'!$B$4,IF(I359=2,'Loan - Extraneous'!$C$4,0))","v":0},{"$f":"IF(J359=1,'Loan - Extraneous'!$B$5,IF(J359=2,'Loan - Extraneous'!$C$5,0))","v":0}]
[null,null,null,null,null,null,null,null,null,null,"",{"$f":"IF(OR(LEN(B360)=0,LEN(C360)=0,LEN(D360)=0),\"\",IF(K360>=38,INDEX('Loan - Grade & Staple'!$A$1:$K$1000,MATCH($B360&$C360,'Loan - Grade & Staple'!$B$1:$B$1000&'Loan - Grade & Staple'!$C$1:$C$1000,0),MATCH(\"38+\",'Loan - Grade & Staple'!$A$3:$K$3,0)),IF(K360<=31,INDEX('Loan - Grade & Staple'!$A$1:$K$1000,MATCH($B360&$C360,'Loan - Grade & Staple'!$B$1:$B$1000&'Loan - Grade & Staple'!$C$1:$C$1000,0),MATCH(\"26-31\",'Loan - Grade & Staple'!$A$3:$K$3,0)),IF(ISNA(INDEX('Loan - Grade & Staple'!$A$1:$K$1000,MATCH($B360&C360,'Loan - Grade & Staple'!$B$1:$B$1000&'Loan - Grade & Staple'!$C$1:$C$1000,0),MATCH($K360,'Loan - Grade & Staple'!$A$3:$K$3,0))),-4000,INDEX('Loan - Grade & Staple'!$A$1:$K$1000,MATCH($B360&C360,'Loan - Grade & Staple'!$B$1:$B$1000&'Loan - Grade & Staple'!$C$1:$C$1000,0),MATCH($K360,'Loan - Grade & Staple'!$A$3:$K$3,0))))))","v":""},{"$f":"IF(LEN(E360)=0,\"\",INDEX('Loan - Strength'!$C$1:$C$18,MATCH(E360,'Loan - Strength'!$A$1:$A$18,1)))","v":""},{"$f":"IF(LEN(F360)=0,\"\",INDEX('Loan - Micronaire'!$C$1:$C$20,MATCH($F360,'Loan - Micronaire'!$A$1:$A$20,1)))","v":""},{"$f":"IF(LEN(G360)=0,\"\",INDEX('Loan - Uniformity'!$C$1:$C$20,MATCH($G360,'Loan - Uniformity'!$A$1:$A$20,1)))","v":""},"","",{"$f":"IF(OR(LEN(B360)=0,LEN(C360)=0,LEN(D360)=0,LEN(E360)=0,LEN(F360)=0,LEN(G360)=0),\"\",IF('Base Values'!$B$8+(SUM($L360:$P360)/100)<0,0,'Base Values'!$B$8+(SUM(L360:P360)/100)))","v":""},null,{"$f":"IF(AND($T$13=TRUE,H360=1),'Loan - Extraneous'!B$3,IF(AND($T$13=TRUE,H360=2),'Loan - Extraneous'!C$3,0))","v":0},{"$f":"IF(I360=1,'Loan - Extraneous'!$B$4,IF(I360=2,'Loan - Extraneous'!$C$4,0))","v":0},{"$f":"IF(J360=1,'Loan - Extraneous'!$B$5,IF(J360=2,'Loan - Extraneous'!$C$5,0))","v":0}]
[null,null,null,null,null,null,null,null,null,null,"",{"$f":"IF(OR(LEN(B361)=0,LEN(C361)=0,LEN(D361)=0),\"\",IF(K361>=38,INDEX('Loan - Grade & Staple'!$A$1:$K$1000,MATCH($B361&$C361,'Loan - Grade & Staple'!$B$1:$B$1000&'Loan - Grade & Staple'!$C$1:$C$1000,0),MATCH(\"38+\",'Loan - Grade & Staple'!$A$3:$K$3,0)),IF(K361<=31,INDEX('Loan - Grade & Staple'!$A$1:$K$1000,MATCH($B361&$C361,'Loan - Grade & Staple'!$B$1:$B$1000&'Loan - Grade & Staple'!$C$1:$C$1000,0),MATCH(\"26-31\",'Loan - Grade & Staple'!$A$3:$K$3,0)),IF(ISNA(INDEX('Loan - Grade & Staple'!$A$1:$K$1000,MATCH($B361&C361,'Loan - Grade & Staple'!$B$1:$B$1000&'Loan - Grade & Staple'!$C$1:$C$1000,0),MATCH($K361,'Loan - Grade & Staple'!$A$3:$K$3,0))),-4000,INDEX('Loan - Grade & Staple'!$A$1:$K$1000,MATCH($B361&C361,'Loan - Grade & Staple'!$B$1:$B$1000&'Loan - Grade & Staple'!$C$1:$C$1000,0),MATCH($K361,'Loan - Grade & Staple'!$A$3:$K$3,0))))))","v":""},{"$f":"IF(LEN(E361)=0,\"\",INDEX('Loan - Strength'!$C$1:$C$18,MATCH(E361,'Loan - Strength'!$A$1:$A$18,1)))","v":""},{"$f":"IF(LEN(F361)=0,\"\",INDEX('Loan - Micronaire'!$C$1:$C$20,MATCH($F361,'Loan - Micronaire'!$A$1:$A$20,1)))","v":""},{"$f":"IF(LEN(G361)=0,\"\",INDEX('Loan - Uniformity'!$C$1:$C$20,MATCH($G361,'Loan - Uniformity'!$A$1:$A$20,1)))","v":""},"","",{"$f":"IF(OR(LEN(B361)=0,LEN(C361)=0,LEN(D361)=0,LEN(E361)=0,LEN(F361)=0,LEN(G361)=0),\"\",IF('Base Values'!$B$8+(SUM($L361:$P361)/100)<0,0,'Base Values'!$B$8+(SUM(L361:P361)/100)))","v":""},null,{"$f":"IF(AND($T$13=TRUE,H361=1),'Loan - Extraneous'!B$3,IF(AND($T$13=TRUE,H361=2),'Loan - Extraneous'!C$3,0))","v":0},{"$f":"IF(I361=1,'Loan - Extraneous'!$B$4,IF(I361=2,'Loan - Extraneous'!$C$4,0))","v":0},{"$f":"IF(J361=1,'Loan - Extraneous'!$B$5,IF(J361=2,'Loan - Extraneous'!$C$5,0))","v":0}]
[null,null,null,null,null,null,null,null,null,null,"",{"$f":"IF(OR(LEN(B362)=0,LEN(C362)=0,LEN(D362)=0),\"\",IF(K362>=38,INDEX('Loan - Grade & Staple'!$A$1:$K$1000,MATCH($B362&$C362,'Loan - Grade & Staple'!$B$1:$B$1000&'Loan - Grade & Staple'!$C$1:$C$1000,0),MATCH(\"38+\",'Loan - Grade & Staple'!$A$3:$K$3,0)),IF(K362<=31,INDEX('Loan - Grade & Staple'!$A$1:$K$1000,MATCH($B362&$C362,'Loan - Grade & Staple'!$B$1:$B$1000&'Loan - Grade & Staple'!$C$1:$C$1000,0),MATCH(\"26-31\",'Loan - Grade & Staple'!$A$3:$K$3,0)),IF(ISNA(INDEX('Loan - Grade & Staple'!$A$1:$K$1000,MATCH($B362&C362,'Loan - Grade & Staple'!$B$1:$B$1000&'Loan - Grade & Staple'!$C$1:$C$1000,0),MATCH($K362,'Loan - Grade & Staple'!$A$3:$K$3,0))),-4000,INDEX('Loan - Grade & Staple'!$A$1:$K$1000,MATCH($B362&C362,'Loan - Grade & Staple'!$B$1:$B$1000&'Loan - Grade & Staple'!$C$1:$C$1000,0),MATCH($K362,'Loan - Grade & Staple'!$A$3:$K$3,0))))))","v":""},{"$f":"IF(LEN(E362)=0,\"\",INDEX('Loan - Strength'!$C$1:$C$18,MATCH(E362,'Loan - Strength'!$A$1:$A$18,1)))","v":""},{"$f":"IF(LEN(F362)=0,\"\",INDEX('Loan - Micronaire'!$C$1:$C$20,MATCH($F362,'Loan - Micronaire'!$A$1:$A$20,1)))","v":""},{"$f":"IF(LEN(G362)=0,\"\",INDEX('Loan - Uniformity'!$C$1:$C$20,MATCH($G362,'Loan - Uniformity'!$A$1:$A$20,1)))","v":""},"","",{"$f":"IF(OR(LEN(B362)=0,LEN(C362)=0,LEN(D362)=0,LEN(E362)=0,LEN(F362)=0,LEN(G362)=0),\"\",IF('Base Values'!$B$8+(SUM($L362:$P362)/100)<0,0,'Base Values'!$B$8+(SUM(L362:P362)/100)))","v":""},null,{"$f":"IF(AND($T$13=TRUE,H362=1),'Loan - Extraneous'!B$3,IF(AND($T$13=TRUE,H362=2),'Loan - Extraneous'!C$3,0))","v":0},{"$f":"IF(I362=1,'Loan - Extraneous'!$B$4,IF(I362=2,'Loan - Extraneous'!$C$4,0))","v":0},{"$f":"IF(J362=1,'Loan - Extraneous'!$B$5,IF(J362=2,'Loan - Extraneous'!$C$5,0))","v":0}]
[null,null,null,null,null,null,null,null,null,null,"",{"$f":"IF(OR(LEN(B363)=0,LEN(C363)=0,LEN(D363)=0),\"\",IF(K363>=38,INDEX('Loan - Grade & Staple'!$A$1:$K$1000,MATCH($B363&$C363,'Loan - Grade & Staple'!$B$1:$B$1000&'Loan - Grade & Staple'!$C$1:$C$1000,0),MATCH(\"38+\",'Loan - Grade & Staple'!$A$3:$K$3,0)),IF(K363<=31,INDEX('Loan - Grade & Staple'!$A$1:$K$1000,MATCH($B363&$C363,'Loan - Grade & Staple'!$B$1:$B$1000&'Loan - Grade & Staple'!$C$1:$C$1000,0),MATCH(\"26-31\",'Loan - Grade & Staple'!$A$3:$K$3,0)),IF(ISNA(INDEX('Loan - Grade & Staple'!$A$1:$K$1000,MATCH($B363&C363,'Loan - Grade & Staple'!$B$1:$B$1000&'Loan - Grade & Staple'!$C$1:$C$1000,0),MATCH($K363,'Loan - Grade & Staple'!$A$3:$K$3,0))),-4000,INDEX('Loan - Grade & Staple'!$A$1:$K$1000,MATCH($B363&C363,'Loan - Grade & Staple'!$B$1:$B$1000&'Loan - Grade & Staple'!$C$1:$C$1000,0),MATCH($K363,'Loan - Grade & Staple'!$A$3:$K$3,0))))))","v":""},{"$f":"IF(LEN(E363)=0,\"\",INDEX('Loan - Strength'!$C$1:$C$18,MATCH(E363,'Loan - Strength'!$A$1:$A$18,1)))","v":""},{"$f":"IF(LEN(F363)=0,\"\",INDEX('Loan - Micronaire'!$C$1:$C$20,MATCH($F363,'Loan - Micronaire'!$A$1:$A$20,1)))","v":""},{"$f":"IF(LEN(G363)=0,\"\",INDEX('Loan - Uniformity'!$C$1:$C$20,MATCH($G363,'Loan - Uniformity'!$A$1:$A$20,1)))","v":""},"","",{"$f":"IF(OR(LEN(B363)=0,LEN(C363)=0,LEN(D363)=0,LEN(E363)=0,LEN(F363)=0,LEN(G363)=0),\"\",IF('Base Values'!$B$8+(SUM($L363:$P363)/100)<0,0,'Base Values'!$B$8+(SUM(L363:P363)/100)))","v":""},null,{"$f":"IF(AND($T$13=TRUE,H363=1),'Loan - Extraneous'!B$3,IF(AND($T$13=TRUE,H363=2),'Loan - Extraneous'!C$3,0))","v":0},{"$f":"IF(I363=1,'Loan - Extraneous'!$B$4,IF(I363=2,'Loan - Extraneous'!$C$4,0))","v":0},{"$f":"IF(J363=1,'Loan - Extraneous'!$B$5,IF(J363=2,'Loan - Extraneous'!$C$5,0))","v":0}]
[null,null,null,null,null,null,null,null,null,null,"",{"$f":"IF(OR(LEN(B364)=0,LEN(C364)=0,LEN(D364)=0),\"\",IF(K364>=38,INDEX('Loan - Grade & Staple'!$A$1:$K$1000,MATCH($B364&$C364,'Loan - Grade & Staple'!$B$1:$B$1000&'Loan - Grade & Staple'!$C$1:$C$1000,0),MATCH(\"38+\",'Loan - Grade & Staple'!$A$3:$K$3,0)),IF(K364<=31,INDEX('Loan - Grade & Staple'!$A$1:$K$1000,MATCH($B364&$C364,'Loan - Grade & Staple'!$B$1:$B$1000&'Loan - Grade & Staple'!$C$1:$C$1000,0),MATCH(\"26-31\",'Loan - Grade & Staple'!$A$3:$K$3,0)),IF(ISNA(INDEX('Loan - Grade & Staple'!$A$1:$K$1000,MATCH($B364&C364,'Loan - Grade & Staple'!$B$1:$B$1000&'Loan - Grade & Staple'!$C$1:$C$1000,0),MATCH($K364,'Loan - Grade & Staple'!$A$3:$K$3,0))),-4000,INDEX('Loan - Grade & Staple'!$A$1:$K$1000,MATCH($B364&C364,'Loan - Grade & Staple'!$B$1:$B$1000&'Loan - Grade & Staple'!$C$1:$C$1000,0),MATCH($K364,'Loan - Grade & Staple'!$A$3:$K$3,0))))))","v":""},{"$f":"IF(LEN(E364)=0,\"\",INDEX('Loan - Strength'!$C$1:$C$18,MATCH(E364,'Loan - Strength'!$A$1:$A$18,1)))","v":""},{"$f":"IF(LEN(F364)=0,\"\",INDEX('Loan - Micronaire'!$C$1:$C$20,MATCH($F364,'Loan - Micronaire'!$A$1:$A$20,1)))","v":""},{"$f":"IF(LEN(G364)=0,\"\",INDEX('Loan - Uniformity'!$C$1:$C$20,MATCH($G364,'Loan - Uniformity'!$A$1:$A$20,1)))","v":""},"","",{"$f":"IF(OR(LEN(B364)=0,LEN(C364)=0,LEN(D364)=0,LEN(E364)=0,LEN(F364)=0,LEN(G364)=0),\"\",IF('Base Values'!$B$8+(SUM($L364:$P364)/100)<0,0,'Base Values'!$B$8+(SUM(L364:P364)/100)))","v":""},null,{"$f":"IF(AND($T$13=TRUE,H364=1),'Loan - Extraneous'!B$3,IF(AND($T$13=TRUE,H364=2),'Loan - Extraneous'!C$3,0))","v":0},{"$f":"IF(I364=1,'Loan - Extraneous'!$B$4,IF(I364=2,'Loan - Extraneous'!$C$4,0))","v":0},{"$f":"IF(J364=1,'Loan - Extraneous'!$B$5,IF(J364=2,'Loan - Extraneous'!$C$5,0))","v":0}]
[null,null,null,null,null,null,null,null,null,null,"",{"$f":"IF(OR(LEN(B365)=0,LEN(C365)=0,LEN(D365)=0),\"\",IF(K365>=38,INDEX('Loan - Grade & Staple'!$A$1:$K$1000,MATCH($B365&$C365,'Loan - Grade & Staple'!$B$1:$B$1000&'Loan - Grade & Staple'!$C$1:$C$1000,0),MATCH(\"38+\",'Loan - Grade & Staple'!$A$3:$K$3,0)),IF(K365<=31,INDEX('Loan - Grade & Staple'!$A$1:$K$1000,MATCH($B365&$C365,'Loan - Grade & Staple'!$B$1:$B$1000&'Loan - Grade & Staple'!$C$1:$C$1000,0),MATCH(\"26-31\",'Loan - Grade & Staple'!$A$3:$K$3,0)),IF(ISNA(INDEX('Loan - Grade & Staple'!$A$1:$K$1000,MATCH($B365&C365,'Loan - Grade & Staple'!$B$1:$B$1000&'Loan - Grade & Staple'!$C$1:$C$1000,0),MATCH($K365,'Loan - Grade & Staple'!$A$3:$K$3,0))),-4000,INDEX('Loan - Grade & Staple'!$A$1:$K$1000,MATCH($B365&C365,'Loan - Grade & Staple'!$B$1:$B$1000&'Loan - Grade & Staple'!$C$1:$C$1000,0),MATCH($K365,'Loan - Grade & Staple'!$A$3:$K$3,0))))))","v":""},{"$f":"IF(LEN(E365)=0,\"\",INDEX('Loan - Strength'!$C$1:$C$18,MATCH(E365,'Loan - Strength'!$A$1:$A$18,1)))","v":""},{"$f":"IF(LEN(F365)=0,\"\",INDEX('Loan - Micronaire'!$C$1:$C$20,MATCH($F365,'Loan - Micronaire'!$A$1:$A$20,1)))","v":""},{"$f":"IF(LEN(G365)=0,\"\",INDEX('Loan - Uniformity'!$C$1:$C$20,MATCH($G365,'Loan - Uniformity'!$A$1:$A$20,1)))","v":""},"","",{"$f":"IF(OR(LEN(B365)=0,LEN(C365)=0,LEN(D365)=0,LEN(E365)=0,LEN(F365)=0,LEN(G365)=0),\"\",IF('Base Values'!$B$8+(SUM($L365:$P365)/100)<0,0,'Base Values'!$B$8+(SUM(L365:P365)/100)))","v":""},null,{"$f":"IF(AND($T$13=TRUE,H365=1),'Loan - Extraneous'!B$3,IF(AND($T$13=TRUE,H365=2),'Loan - Extraneous'!C$3,0))","v":0},{"$f":"IF(I365=1,'Loan - Extraneous'!$B$4,IF(I365=2,'Loan - Extraneous'!$C$4,0))","v":0},{"$f":"IF(J365=1,'Loan - Extraneous'!$B$5,IF(J365=2,'Loan - Extraneous'!$C$5,0))","v":0}]
[null,null,null,null,null,null,null,null,null,null,"",{"$f":"IF(OR(LEN(B366)=0,LEN(C366)=0,LEN(D366)=0),\"\",IF(K366>=38,INDEX('Loan - Grade & Staple'!$A$1:$K$1000,MATCH($B366&$C366,'Loan - Grade & Staple'!$B$1:$B$1000&'Loan - Grade & Staple'!$C$1:$C$1000,0),MATCH(\"38+\",'Loan - Grade & Staple'!$A$3:$K$3,0)),IF(K366<=31,INDEX('Loan - Grade & Staple'!$A$1:$K$1000,MATCH($B366&$C366,'Loan - Grade & Staple'!$B$1:$B$1000&'Loan - Grade & Staple'!$C$1:$C$1000,0),MATCH(\"26-31\",'Loan - Grade & Staple'!$A$3:$K$3,0)),IF(ISNA(INDEX('Loan - Grade & Staple'!$A$1:$K$1000,MATCH($B366&C366,'Loan - Grade & Staple'!$B$1:$B$1000&'Loan - Grade & Staple'!$C$1:$C$1000,0),MATCH($K366,'Loan - Grade & Staple'!$A$3:$K$3,0))),-4000,INDEX('Loan - Grade & Staple'!$A$1:$K$1000,MATCH($B366&C366,'Loan - Grade & Staple'!$B$1:$B$1000&'Loan - Grade & Staple'!$C$1:$C$1000,0),MATCH($K366,'Loan - Grade & Staple'!$A$3:$K$3,0))))))","v":""},{"$f":"IF(LEN(E366)=0,\"\",INDEX('Loan - Strength'!$C$1:$C$18,MATCH(E366,'Loan - Strength'!$A$1:$A$18,1)))","v":""},{"$f":"IF(LEN(F366)=0,\"\",INDEX('Loan - Micronaire'!$C$1:$C$20,MATCH($F366,'Loan - Micronaire'!$A$1:$A$20,1)))","v":""},{"$f":"IF(LEN(G366)=0,\"\",INDEX('Loan - Uniformity'!$C$1:$C$20,MATCH($G366,'Loan - Uniformity'!$A$1:$A$20,1)))","v":""},"","",{"$f":"IF(OR(LEN(B366)=0,LEN(C366)=0,LEN(D366)=0,LEN(E366)=0,LEN(F366)=0,LEN(G366)=0),\"\",IF('Base Values'!$B$8+(SUM($L366:$P366)/100)<0,0,'Base Values'!$B$8+(SUM(L366:P366)/100)))","v":""},null,{"$f":"IF(AND($T$13=TRUE,H366=1),'Loan - Extraneous'!B$3,IF(AND($T$13=TRUE,H366=2),'Loan - Extraneous'!C$3,0))","v":0},{"$f":"IF(I366=1,'Loan - Extraneous'!$B$4,IF(I366=2,'Loan - Extraneous'!$C$4,0))","v":0},{"$f":"IF(J366=1,'Loan - Extraneous'!$B$5,IF(J366=2,'Loan - Extraneous'!$C$5,0))","v":0}]
[null,null,null,null,null,null,null,null,null,null,"",{"$f":"IF(OR(LEN(B367)=0,LEN(C367)=0,LEN(D367)=0),\"\",IF(K367>=38,INDEX('Loan - Grade & Staple'!$A$1:$K$1000,MATCH($B367&$C367,'Loan - Grade & Staple'!$B$1:$B$1000&'Loan - Grade & Staple'!$C$1:$C$1000,0),MATCH(\"38+\",'Loan - Grade & Staple'!$A$3:$K$3,0)),IF(K367<=31,INDEX('Loan - Grade & Staple'!$A$1:$K$1000,MATCH($B367&$C367,'Loan - Grade & Staple'!$B$1:$B$1000&'Loan - Grade & Staple'!$C$1:$C$1000,0),MATCH(\"26-31\",'Loan - Grade & Staple'!$A$3:$K$3,0)),IF(ISNA(INDEX('Loan - Grade & Staple'!$A$1:$K$1000,MATCH($B367&C367,'Loan - Grade & Staple'!$B$1:$B$1000&'Loan - Grade & Staple'!$C$1:$C$1000,0),MATCH($K367,'Loan - Grade & Staple'!$A$3:$K$3,0))),-4000,INDEX('Loan - Grade & Staple'!$A$1:$K$1000,MATCH($B367&C367,'Loan - Grade & Staple'!$B$1:$B$1000&'Loan - Grade & Staple'!$C$1:$C$1000,0),MATCH($K367,'Loan - Grade & Staple'!$A$3:$K$3,0))))))","v":""},{"$f":"IF(LEN(E367)=0,\"\",INDEX('Loan - Strength'!$C$1:$C$18,MATCH(E367,'Loan - Strength'!$A$1:$A$18,1)))","v":""},{"$f":"IF(LEN(F367)=0,\"\",INDEX('Loan - Micronaire'!$C$1:$C$20,MATCH($F367,'Loan - Micronaire'!$A$1:$A$20,1)))","v":""},{"$f":"IF(LEN(G367)=0,\"\",INDEX('Loan - Uniformity'!$C$1:$C$20,MATCH($G367,'Loan - Uniformity'!$A$1:$A$20,1)))","v":""},"","",{"$f":"IF(OR(LEN(B367)=0,LEN(C367)=0,LEN(D367)=0,LEN(E367)=0,LEN(F367)=0,LEN(G367)=0),\"\",IF('Base Values'!$B$8+(SUM($L367:$P367)/100)<0,0,'Base Values'!$B$8+(SUM(L367:P367)/100)))","v":""},null,{"$f":"IF(AND($T$13=TRUE,H367=1),'Loan - Extraneous'!B$3,IF(AND($T$13=TRUE,H367=2),'Loan - Extraneous'!C$3,0))","v":0},{"$f":"IF(I367=1,'Loan - Extraneous'!$B$4,IF(I367=2,'Loan - Extraneous'!$C$4,0))","v":0},{"$f":"IF(J367=1,'Loan - Extraneous'!$B$5,IF(J367=2,'Loan - Extraneous'!$C$5,0))","v":0}]
[null,null,null,null,null,null,null,null,null,null,"",{"$f":"IF(OR(LEN(B368)=0,LEN(C368)=0,LEN(D368)=0),\"\",IF(K368>=38,INDEX('Loan - Grade & Staple'!$A$1:$K$1000,MATCH($B368&$C368,'Loan - Grade & Staple'!$B$1:$B$1000&'Loan - Grade & Staple'!$C$1:$C$1000,0),MATCH(\"38+\",'Loan - Grade & Staple'!$A$3:$K$3,0)),IF(K368<=31,INDEX('Loan - Grade & Staple'!$A$1:$K$1000,MATCH($B368&$C368,'Loan - Grade & Staple'!$B$1:$B$1000&'Loan - Grade & Staple'!$C$1:$C$1000,0),MATCH(\"26-31\",'Loan - Grade & Staple'!$A$3:$K$3,0)),IF(ISNA(INDEX('Loan - Grade & Staple'!$A$1:$K$1000,MATCH($B368&C368,'Loan - Grade & Staple'!$B$1:$B$1000&'Loan - Grade & Staple'!$C$1:$C$1000,0),MATCH($K368,'Loan - Grade & Staple'!$A$3:$K$3,0))),-4000,INDEX('Loan - Grade & Staple'!$A$1:$K$1000,MATCH($B368&C368,'Loan - Grade & Staple'!$B$1:$B$1000&'Loan - Grade & Staple'!$C$1:$C$1000,0),MATCH($K368,'Loan - Grade & Staple'!$A$3:$K$3,0))))))","v":""},{"$f":"IF(LEN(E368)=0,\"\",INDEX('Loan - Strength'!$C$1:$C$18,MATCH(E368,'Loan - Strength'!$A$1:$A$18,1)))","v":""},{"$f":"IF(LEN(F368)=0,\"\",INDEX('Loan - Micronaire'!$C$1:$C$20,MATCH($F368,'Loan - Micronaire'!$A$1:$A$20,1)))","v":""},{"$f":"IF(LEN(G368)=0,\"\",INDEX('Loan - Uniformity'!$C$1:$C$20,MATCH($G368,'Loan - Uniformity'!$A$1:$A$20,1)))","v":""},"","",{"$f":"IF(OR(LEN(B368)=0,LEN(C368)=0,LEN(D368)=0,LEN(E368)=0,LEN(F368)=0,LEN(G368)=0),\"\",IF('Base Values'!$B$8+(SUM($L368:$P368)/100)<0,0,'Base Values'!$B$8+(SUM(L368:P368)/100)))","v":""},null,{"$f":"IF(AND($T$13=TRUE,H368=1),'Loan - Extraneous'!B$3,IF(AND($T$13=TRUE,H368=2),'Loan - Extraneous'!C$3,0))","v":0},{"$f":"IF(I368=1,'Loan - Extraneous'!$B$4,IF(I368=2,'Loan - Extraneous'!$C$4,0))","v":0},{"$f":"IF(J368=1,'Loan - Extraneous'!$B$5,IF(J368=2,'Loan - Extraneous'!$C$5,0))","v":0}]
[null,null,null,null,null,null,null,null,null,null,"",{"$f":"IF(OR(LEN(B369)=0,LEN(C369)=0,LEN(D369)=0),\"\",IF(K369>=38,INDEX('Loan - Grade & Staple'!$A$1:$K$1000,MATCH($B369&$C369,'Loan - Grade & Staple'!$B$1:$B$1000&'Loan - Grade & Staple'!$C$1:$C$1000,0),MATCH(\"38+\",'Loan - Grade & Staple'!$A$3:$K$3,0)),IF(K369<=31,INDEX('Loan - Grade & Staple'!$A$1:$K$1000,MATCH($B369&$C369,'Loan - Grade & Staple'!$B$1:$B$1000&'Loan - Grade & Staple'!$C$1:$C$1000,0),MATCH(\"26-31\",'Loan - Grade & Staple'!$A$3:$K$3,0)),IF(ISNA(INDEX('Loan - Grade & Staple'!$A$1:$K$1000,MATCH($B369&C369,'Loan - Grade & Staple'!$B$1:$B$1000&'Loan - Grade & Staple'!$C$1:$C$1000,0),MATCH($K369,'Loan - Grade & Staple'!$A$3:$K$3,0))),-4000,INDEX('Loan - Grade & Staple'!$A$1:$K$1000,MATCH($B369&C369,'Loan - Grade & Staple'!$B$1:$B$1000&'Loan - Grade & Staple'!$C$1:$C$1000,0),MATCH($K369,'Loan - Grade & Staple'!$A$3:$K$3,0))))))","v":""},{"$f":"IF(LEN(E369)=0,\"\",INDEX('Loan - Strength'!$C$1:$C$18,MATCH(E369,'Loan - Strength'!$A$1:$A$18,1)))","v":""},{"$f":"IF(LEN(F369)=0,\"\",INDEX('Loan - Micronaire'!$C$1:$C$20,MATCH($F369,'Loan - Micronaire'!$A$1:$A$20,1)))","v":""},{"$f":"IF(LEN(G369)=0,\"\",INDEX('Loan - Uniformity'!$C$1:$C$20,MATCH($G369,'Loan - Uniformity'!$A$1:$A$20,1)))","v":""},"","",{"$f":"IF(OR(LEN(B369)=0,LEN(C369)=0,LEN(D369)=0,LEN(E369)=0,LEN(F369)=0,LEN(G369)=0),\"\",IF('Base Values'!$B$8+(SUM($L369:$P369)/100)<0,0,'Base Values'!$B$8+(SUM(L369:P369)/100)))","v":""},null,{"$f":"IF(AND($T$13=TRUE,H369=1),'Loan - Extraneous'!B$3,IF(AND($T$13=TRUE,H369=2),'Loan - Extraneous'!C$3,0))","v":0},{"$f":"IF(I369=1,'Loan - Extraneous'!$B$4,IF(I369=2,'Loan - Extraneous'!$C$4,0))","v":0},{"$f":"IF(J369=1,'Loan - Extraneous'!$B$5,IF(J369=2,'Loan - Extraneous'!$C$5,0))","v":0}]
[null,null,null,null,null,null,null,null,null,null,"",{"$f":"IF(OR(LEN(B370)=0,LEN(C370)=0,LEN(D370)=0),\"\",IF(K370>=38,INDEX('Loan - Grade & Staple'!$A$1:$K$1000,MATCH($B370&$C370,'Loan - Grade & Staple'!$B$1:$B$1000&'Loan - Grade & Staple'!$C$1:$C$1000,0),MATCH(\"38+\",'Loan - Grade & Staple'!$A$3:$K$3,0)),IF(K370<=31,INDEX('Loan - Grade & Staple'!$A$1:$K$1000,MATCH($B370&$C370,'Loan - Grade & Staple'!$B$1:$B$1000&'Loan - Grade & Staple'!$C$1:$C$1000,0),MATCH(\"26-31\",'Loan - Grade & Staple'!$A$3:$K$3,0)),IF(ISNA(INDEX('Loan - Grade & Staple'!$A$1:$K$1000,MATCH($B370&C370,'Loan - Grade & Staple'!$B$1:$B$1000&'Loan - Grade & Staple'!$C$1:$C$1000,0),MATCH($K370,'Loan - Grade & Staple'!$A$3:$K$3,0))),-4000,INDEX('Loan - Grade & Staple'!$A$1:$K$1000,MATCH($B370&C370,'Loan - Grade & Staple'!$B$1:$B$1000&'Loan - Grade & Staple'!$C$1:$C$1000,0),MATCH($K370,'Loan - Grade & Staple'!$A$3:$K$3,0))))))","v":""},{"$f":"IF(LEN(E370)=0,\"\",INDEX('Loan - Strength'!$C$1:$C$18,MATCH(E370,'Loan - Strength'!$A$1:$A$18,1)))","v":""},{"$f":"IF(LEN(F370)=0,\"\",INDEX('Loan - Micronaire'!$C$1:$C$20,MATCH($F370,'Loan - Micronaire'!$A$1:$A$20,1)))","v":""},{"$f":"IF(LEN(G370)=0,\"\",INDEX('Loan - Uniformity'!$C$1:$C$20,MATCH($G370,'Loan - Uniformity'!$A$1:$A$20,1)))","v":""},"","",{"$f":"IF(OR(LEN(B370)=0,LEN(C370)=0,LEN(D370)=0,LEN(E370)=0,LEN(F370)=0,LEN(G370)=0),\"\",IF('Base Values'!$B$8+(SUM($L370:$P370)/100)<0,0,'Base Values'!$B$8+(SUM(L370:P370)/100)))","v":""},null,{"$f":"IF(AND($T$13=TRUE,H370=1),'Loan - Extraneous'!B$3,IF(AND($T$13=TRUE,H370=2),'Loan - Extraneous'!C$3,0))","v":0},{"$f":"IF(I370=1,'Loan - Extraneous'!$B$4,IF(I370=2,'Loan - Extraneous'!$C$4,0))","v":0},{"$f":"IF(J370=1,'Loan - Extraneous'!$B$5,IF(J370=2,'Loan - Extraneous'!$C$5,0))","v":0}]
[null,null,null,null,null,null,null,null,null,null,"",{"$f":"IF(OR(LEN(B371)=0,LEN(C371)=0,LEN(D371)=0),\"\",IF(K371>=38,INDEX('Loan - Grade & Staple'!$A$1:$K$1000,MATCH($B371&$C371,'Loan - Grade & Staple'!$B$1:$B$1000&'Loan - Grade & Staple'!$C$1:$C$1000,0),MATCH(\"38+\",'Loan - Grade & Staple'!$A$3:$K$3,0)),IF(K371<=31,INDEX('Loan - Grade & Staple'!$A$1:$K$1000,MATCH($B371&$C371,'Loan - Grade & Staple'!$B$1:$B$1000&'Loan - Grade & Staple'!$C$1:$C$1000,0),MATCH(\"26-31\",'Loan - Grade & Staple'!$A$3:$K$3,0)),IF(ISNA(INDEX('Loan - Grade & Staple'!$A$1:$K$1000,MATCH($B371&C371,'Loan - Grade & Staple'!$B$1:$B$1000&'Loan - Grade & Staple'!$C$1:$C$1000,0),MATCH($K371,'Loan - Grade & Staple'!$A$3:$K$3,0))),-4000,INDEX('Loan - Grade & Staple'!$A$1:$K$1000,MATCH($B371&C371,'Loan - Grade & Staple'!$B$1:$B$1000&'Loan - Grade & Staple'!$C$1:$C$1000,0),MATCH($K371,'Loan - Grade & Staple'!$A$3:$K$3,0))))))","v":""},{"$f":"IF(LEN(E371)=0,\"\",INDEX('Loan - Strength'!$C$1:$C$18,MATCH(E371,'Loan - Strength'!$A$1:$A$18,1)))","v":""},{"$f":"IF(LEN(F371)=0,\"\",INDEX('Loan - Micronaire'!$C$1:$C$20,MATCH($F371,'Loan - Micronaire'!$A$1:$A$20,1)))","v":""},{"$f":"IF(LEN(G371)=0,\"\",INDEX('Loan - Uniformity'!$C$1:$C$20,MATCH($G371,'Loan - Uniformity'!$A$1:$A$20,1)))","v":""},"","",{"$f":"IF(OR(LEN(B371)=0,LEN(C371)=0,LEN(D371)=0,LEN(E371)=0,LEN(F371)=0,LEN(G371)=0),\"\",IF('Base Values'!$B$8+(SUM($L371:$P371)/100)<0,0,'Base Values'!$B$8+(SUM(L371:P371)/100)))","v":""},null,{"$f":"IF(AND($T$13=TRUE,H371=1),'Loan - Extraneous'!B$3,IF(AND($T$13=TRUE,H371=2),'Loan - Extraneous'!C$3,0))","v":0},{"$f":"IF(I371=1,'Loan - Extraneous'!$B$4,IF(I371=2,'Loan - Extraneous'!$C$4,0))","v":0},{"$f":"IF(J371=1,'Loan - Extraneous'!$B$5,IF(J371=2,'Loan - Extraneous'!$C$5,0))","v":0}]
[null,null,null,null,null,null,null,null,null,null,"",{"$f":"IF(OR(LEN(B372)=0,LEN(C372)=0,LEN(D372)=0),\"\",IF(K372>=38,INDEX('Loan - Grade & Staple'!$A$1:$K$1000,MATCH($B372&$C372,'Loan - Grade & Staple'!$B$1:$B$1000&'Loan - Grade & Staple'!$C$1:$C$1000,0),MATCH(\"38+\",'Loan - Grade & Staple'!$A$3:$K$3,0)),IF(K372<=31,INDEX('Loan - Grade & Staple'!$A$1:$K$1000,MATCH($B372&$C372,'Loan - Grade & Staple'!$B$1:$B$1000&'Loan - Grade & Staple'!$C$1:$C$1000,0),MATCH(\"26-31\",'Loan - Grade & Staple'!$A$3:$K$3,0)),IF(ISNA(INDEX('Loan - Grade & Staple'!$A$1:$K$1000,MATCH($B372&C372,'Loan - Grade & Staple'!$B$1:$B$1000&'Loan - Grade & Staple'!$C$1:$C$1000,0),MATCH($K372,'Loan - Grade & Staple'!$A$3:$K$3,0))),-4000,INDEX('Loan - Grade & Staple'!$A$1:$K$1000,MATCH($B372&C372,'Loan - Grade & Staple'!$B$1:$B$1000&'Loan - Grade & Staple'!$C$1:$C$1000,0),MATCH($K372,'Loan - Grade & Staple'!$A$3:$K$3,0))))))","v":""},{"$f":"IF(LEN(E372)=0,\"\",INDEX('Loan - Strength'!$C$1:$C$18,MATCH(E372,'Loan - Strength'!$A$1:$A$18,1)))","v":""},{"$f":"IF(LEN(F372)=0,\"\",INDEX('Loan - Micronaire'!$C$1:$C$20,MATCH($F372,'Loan - Micronaire'!$A$1:$A$20,1)))","v":""},{"$f":"IF(LEN(G372)=0,\"\",INDEX('Loan - Uniformity'!$C$1:$C$20,MATCH($G372,'Loan - Uniformity'!$A$1:$A$20,1)))","v":""},"","",{"$f":"IF(OR(LEN(B372)=0,LEN(C372)=0,LEN(D372)=0,LEN(E372)=0,LEN(F372)=0,LEN(G372)=0),\"\",IF('Base Values'!$B$8+(SUM($L372:$P372)/100)<0,0,'Base Values'!$B$8+(SUM(L372:P372)/100)))","v":""},null,{"$f":"IF(AND($T$13=TRUE,H372=1),'Loan - Extraneous'!B$3,IF(AND($T$13=TRUE,H372=2),'Loan - Extraneous'!C$3,0))","v":0},{"$f":"IF(I372=1,'Loan - Extraneous'!$B$4,IF(I372=2,'Loan - Extraneous'!$C$4,0))","v":0},{"$f":"IF(J372=1,'Loan - Extraneous'!$B$5,IF(J372=2,'Loan - Extraneous'!$C$5,0))","v":0}]
[null,null,null,null,null,null,null,null,null,null,"",{"$f":"IF(OR(LEN(B373)=0,LEN(C373)=0,LEN(D373)=0),\"\",IF(K373>=38,INDEX('Loan - Grade & Staple'!$A$1:$K$1000,MATCH($B373&$C373,'Loan - Grade & Staple'!$B$1:$B$1000&'Loan - Grade & Staple'!$C$1:$C$1000,0),MATCH(\"38+\",'Loan - Grade & Staple'!$A$3:$K$3,0)),IF(K373<=31,INDEX('Loan - Grade & Staple'!$A$1:$K$1000,MATCH($B373&$C373,'Loan - Grade & Staple'!$B$1:$B$1000&'Loan - Grade & Staple'!$C$1:$C$1000,0),MATCH(\"26-31\",'Loan - Grade & Staple'!$A$3:$K$3,0)),IF(ISNA(INDEX('Loan - Grade & Staple'!$A$1:$K$1000,MATCH($B373&C373,'Loan - Grade & Staple'!$B$1:$B$1000&'Loan - Grade & Staple'!$C$1:$C$1000,0),MATCH($K373,'Loan - Grade & Staple'!$A$3:$K$3,0))),-4000,INDEX('Loan - Grade & Staple'!$A$1:$K$1000,MATCH($B373&C373,'Loan - Grade & Staple'!$B$1:$B$1000&'Loan - Grade & Staple'!$C$1:$C$1000,0),MATCH($K373,'Loan - Grade & Staple'!$A$3:$K$3,0))))))","v":""},{"$f":"IF(LEN(E373)=0,\"\",INDEX('Loan - Strength'!$C$1:$C$18,MATCH(E373,'Loan - Strength'!$A$1:$A$18,1)))","v":""},{"$f":"IF(LEN(F373)=0,\"\",INDEX('Loan - Micronaire'!$C$1:$C$20,MATCH($F373,'Loan - Micronaire'!$A$1:$A$20,1)))","v":""},{"$f":"IF(LEN(G373)=0,\"\",INDEX('Loan - Uniformity'!$C$1:$C$20,MATCH($G373,'Loan - Uniformity'!$A$1:$A$20,1)))","v":""},"","",{"$f":"IF(OR(LEN(B373)=0,LEN(C373)=0,LEN(D373)=0,LEN(E373)=0,LEN(F373)=0,LEN(G373)=0),\"\",IF('Base Values'!$B$8+(SUM($L373:$P373)/100)<0,0,'Base Values'!$B$8+(SUM(L373:P373)/100)))","v":""},null,{"$f":"IF(AND($T$13=TRUE,H373=1),'Loan - Extraneous'!B$3,IF(AND($T$13=TRUE,H373=2),'Loan - Extraneous'!C$3,0))","v":0},{"$f":"IF(I373=1,'Loan - Extraneous'!$B$4,IF(I373=2,'Loan - Extraneous'!$C$4,0))","v":0},{"$f":"IF(J373=1,'Loan - Extraneous'!$B$5,IF(J373=2,'Loan - Extraneous'!$C$5,0))","v":0}]
[null,null,null,null,null,null,null,null,null,null,"",{"$f":"IF(OR(LEN(B374)=0,LEN(C374)=0,LEN(D374)=0),\"\",IF(K374>=38,INDEX('Loan - Grade & Staple'!$A$1:$K$1000,MATCH($B374&$C374,'Loan - Grade & Staple'!$B$1:$B$1000&'Loan - Grade & Staple'!$C$1:$C$1000,0),MATCH(\"38+\",'Loan - Grade & Staple'!$A$3:$K$3,0)),IF(K374<=31,INDEX('Loan - Grade & Staple'!$A$1:$K$1000,MATCH($B374&$C374,'Loan - Grade & Staple'!$B$1:$B$1000&'Loan - Grade & Staple'!$C$1:$C$1000,0),MATCH(\"26-31\",'Loan - Grade & Staple'!$A$3:$K$3,0)),IF(ISNA(INDEX('Loan - Grade & Staple'!$A$1:$K$1000,MATCH($B374&C374,'Loan - Grade & Staple'!$B$1:$B$1000&'Loan - Grade & Staple'!$C$1:$C$1000,0),MATCH($K374,'Loan - Grade & Staple'!$A$3:$K$3,0))),-4000,INDEX('Loan - Grade & Staple'!$A$1:$K$1000,MATCH($B374&C374,'Loan - Grade & Staple'!$B$1:$B$1000&'Loan - Grade & Staple'!$C$1:$C$1000,0),MATCH($K374,'Loan - Grade & Staple'!$A$3:$K$3,0))))))","v":""},{"$f":"IF(LEN(E374)=0,\"\",INDEX('Loan - Strength'!$C$1:$C$18,MATCH(E374,'Loan - Strength'!$A$1:$A$18,1)))","v":""},{"$f":"IF(LEN(F374)=0,\"\",INDEX('Loan - Micronaire'!$C$1:$C$20,MATCH($F374,'Loan - Micronaire'!$A$1:$A$20,1)))","v":""},{"$f":"IF(LEN(G374)=0,\"\",INDEX('Loan - Uniformity'!$C$1:$C$20,MATCH($G374,'Loan - Uniformity'!$A$1:$A$20,1)))","v":""},"","",{"$f":"IF(OR(LEN(B374)=0,LEN(C374)=0,LEN(D374)=0,LEN(E374)=0,LEN(F374)=0,LEN(G374)=0),\"\",IF('Base Values'!$B$8+(SUM($L374:$P374)/100)<0,0,'Base Values'!$B$8+(SUM(L374:P374)/100)))","v":""},null,{"$f":"IF(AND($T$13=TRUE,H374=1),'Loan - Extraneous'!B$3,IF(AND($T$13=TRUE,H374=2),'Loan - Extraneous'!C$3,0))","v":0},{"$f":"IF(I374=1,'Loan - Extraneous'!$B$4,IF(I374=2,'Loan - Extraneous'!$C$4,0))","v":0},{"$f":"IF(J374=1,'Loan - Extraneous'!$B$5,IF(J374=2,'Loan - Extraneous'!$C$5,0))","v":0}]
[null,null,null,null,null,null,null,null,null,null,"",{"$f":"IF(OR(LEN(B375)=0,LEN(C375)=0,LEN(D375)=0),\"\",IF(K375>=38,INDEX('Loan - Grade & Staple'!$A$1:$K$1000,MATCH($B375&$C375,'Loan - Grade & Staple'!$B$1:$B$1000&'Loan - Grade & Staple'!$C$1:$C$1000,0),MATCH(\"38+\",'Loan - Grade & Staple'!$A$3:$K$3,0)),IF(K375<=31,INDEX('Loan - Grade & Staple'!$A$1:$K$1000,MATCH($B375&$C375,'Loan - Grade & Staple'!$B$1:$B$1000&'Loan - Grade & Staple'!$C$1:$C$1000,0),MATCH(\"26-31\",'Loan - Grade & Staple'!$A$3:$K$3,0)),IF(ISNA(INDEX('Loan - Grade & Staple'!$A$1:$K$1000,MATCH($B375&C375,'Loan - Grade & Staple'!$B$1:$B$1000&'Loan - Grade & Staple'!$C$1:$C$1000,0),MATCH($K375,'Loan - Grade & Staple'!$A$3:$K$3,0))),-4000,INDEX('Loan - Grade & Staple'!$A$1:$K$1000,MATCH($B375&C375,'Loan - Grade & Staple'!$B$1:$B$1000&'Loan - Grade & Staple'!$C$1:$C$1000,0),MATCH($K375,'Loan - Grade & Staple'!$A$3:$K$3,0))))))","v":""},{"$f":"IF(LEN(E375)=0,\"\",INDEX('Loan - Strength'!$C$1:$C$18,MATCH(E375,'Loan - Strength'!$A$1:$A$18,1)))","v":""},{"$f":"IF(LEN(F375)=0,\"\",INDEX('Loan - Micronaire'!$C$1:$C$20,MATCH($F375,'Loan - Micronaire'!$A$1:$A$20,1)))","v":""},{"$f":"IF(LEN(G375)=0,\"\",INDEX('Loan - Uniformity'!$C$1:$C$20,MATCH($G375,'Loan - Uniformity'!$A$1:$A$20,1)))","v":""},"","",{"$f":"IF(OR(LEN(B375)=0,LEN(C375)=0,LEN(D375)=0,LEN(E375)=0,LEN(F375)=0,LEN(G375)=0),\"\",IF('Base Values'!$B$8+(SUM($L375:$P375)/100)<0,0,'Base Values'!$B$8+(SUM(L375:P375)/100)))","v":""},null,{"$f":"IF(AND($T$13=TRUE,H375=1),'Loan - Extraneous'!B$3,IF(AND($T$13=TRUE,H375=2),'Loan - Extraneous'!C$3,0))","v":0},{"$f":"IF(I375=1,'Loan - Extraneous'!$B$4,IF(I375=2,'Loan - Extraneous'!$C$4,0))","v":0},{"$f":"IF(J375=1,'Loan - Extraneous'!$B$5,IF(J375=2,'Loan - Extraneous'!$C$5,0))","v":0}]
[null,null,null,null,null,null,null,null,null,null,"",{"$f":"IF(OR(LEN(B376)=0,LEN(C376)=0,LEN(D376)=0),\"\",IF(K376>=38,INDEX('Loan - Grade & Staple'!$A$1:$K$1000,MATCH($B376&$C376,'Loan - Grade & Staple'!$B$1:$B$1000&'Loan - Grade & Staple'!$C$1:$C$1000,0),MATCH(\"38+\",'Loan - Grade & Staple'!$A$3:$K$3,0)),IF(K376<=31,INDEX('Loan - Grade & Staple'!$A$1:$K$1000,MATCH($B376&$C376,'Loan - Grade & Staple'!$B$1:$B$1000&'Loan - Grade & Staple'!$C$1:$C$1000,0),MATCH(\"26-31\",'Loan - Grade & Staple'!$A$3:$K$3,0)),IF(ISNA(INDEX('Loan - Grade & Staple'!$A$1:$K$1000,MATCH($B376&C376,'Loan - Grade & Staple'!$B$1:$B$1000&'Loan - Grade & Staple'!$C$1:$C$1000,0),MATCH($K376,'Loan - Grade & Staple'!$A$3:$K$3,0))),-4000,INDEX('Loan - Grade & Staple'!$A$1:$K$1000,MATCH($B376&C376,'Loan - Grade & Staple'!$B$1:$B$1000&'Loan - Grade & Staple'!$C$1:$C$1000,0),MATCH($K376,'Loan - Grade & Staple'!$A$3:$K$3,0))))))","v":""},{"$f":"IF(LEN(E376)=0,\"\",INDEX('Loan - Strength'!$C$1:$C$18,MATCH(E376,'Loan - Strength'!$A$1:$A$18,1)))","v":""},{"$f":"IF(LEN(F376)=0,\"\",INDEX('Loan - Micronaire'!$C$1:$C$20,MATCH($F376,'Loan - Micronaire'!$A$1:$A$20,1)))","v":""},{"$f":"IF(LEN(G376)=0,\"\",INDEX('Loan - Uniformity'!$C$1:$C$20,MATCH($G376,'Loan - Uniformity'!$A$1:$A$20,1)))","v":""},"","",{"$f":"IF(OR(LEN(B376)=0,LEN(C376)=0,LEN(D376)=0,LEN(E376)=0,LEN(F376)=0,LEN(G376)=0),\"\",IF('Base Values'!$B$8+(SUM($L376:$P376)/100)<0,0,'Base Values'!$B$8+(SUM(L376:P376)/100)))","v":""},null,{"$f":"IF(AND($T$13=TRUE,H376=1),'Loan - Extraneous'!B$3,IF(AND($T$13=TRUE,H376=2),'Loan - Extraneous'!C$3,0))","v":0},{"$f":"IF(I376=1,'Loan - Extraneous'!$B$4,IF(I376=2,'Loan - Extraneous'!$C$4,0))","v":0},{"$f":"IF(J376=1,'Loan - Extraneous'!$B$5,IF(J376=2,'Loan - Extraneous'!$C$5,0))","v":0}]
[null,null,null,null,null,null,null,null,null,null,"",{"$f":"IF(OR(LEN(B377)=0,LEN(C377)=0,LEN(D377)=0),\"\",IF(K377>=38,INDEX('Loan - Grade & Staple'!$A$1:$K$1000,MATCH($B377&$C377,'Loan - Grade & Staple'!$B$1:$B$1000&'Loan - Grade & Staple'!$C$1:$C$1000,0),MATCH(\"38+\",'Loan - Grade & Staple'!$A$3:$K$3,0)),IF(K377<=31,INDEX('Loan - Grade & Staple'!$A$1:$K$1000,MATCH($B377&$C377,'Loan - Grade & Staple'!$B$1:$B$1000&'Loan - Grade & Staple'!$C$1:$C$1000,0),MATCH(\"26-31\",'Loan - Grade & Staple'!$A$3:$K$3,0)),IF(ISNA(INDEX('Loan - Grade & Staple'!$A$1:$K$1000,MATCH($B377&C377,'Loan - Grade & Staple'!$B$1:$B$1000&'Loan - Grade & Staple'!$C$1:$C$1000,0),MATCH($K377,'Loan - Grade & Staple'!$A$3:$K$3,0))),-4000,INDEX('Loan - Grade & Staple'!$A$1:$K$1000,MATCH($B377&C377,'Loan - Grade & Staple'!$B$1:$B$1000&'Loan - Grade & Staple'!$C$1:$C$1000,0),MATCH($K377,'Loan - Grade & Staple'!$A$3:$K$3,0))))))","v":""},{"$f":"IF(LEN(E377)=0,\"\",INDEX('Loan - Strength'!$C$1:$C$18,MATCH(E377,'Loan - Strength'!$A$1:$A$18,1)))","v":""},{"$f":"IF(LEN(F377)=0,\"\",INDEX('Loan - Micronaire'!$C$1:$C$20,MATCH($F377,'Loan - Micronaire'!$A$1:$A$20,1)))","v":""},{"$f":"IF(LEN(G377)=0,\"\",INDEX('Loan - Uniformity'!$C$1:$C$20,MATCH($G377,'Loan - Uniformity'!$A$1:$A$20,1)))","v":""},"","",{"$f":"IF(OR(LEN(B377)=0,LEN(C377)=0,LEN(D377)=0,LEN(E377)=0,LEN(F377)=0,LEN(G377)=0),\"\",IF('Base Values'!$B$8+(SUM($L377:$P377)/100)<0,0,'Base Values'!$B$8+(SUM(L377:P377)/100)))","v":""},null,{"$f":"IF(AND($T$13=TRUE,H377=1),'Loan - Extraneous'!B$3,IF(AND($T$13=TRUE,H377=2),'Loan - Extraneous'!C$3,0))","v":0},{"$f":"IF(I377=1,'Loan - Extraneous'!$B$4,IF(I377=2,'Loan - Extraneous'!$C$4,0))","v":0},{"$f":"IF(J377=1,'Loan - Extraneous'!$B$5,IF(J377=2,'Loan - Extraneous'!$C$5,0))","v":0}]
[null,null,null,null,null,null,null,null,null,null,"",{"$f":"IF(OR(LEN(B378)=0,LEN(C378)=0,LEN(D378)=0),\"\",IF(K378>=38,INDEX('Loan - Grade & Staple'!$A$1:$K$1000,MATCH($B378&$C378,'Loan - Grade & Staple'!$B$1:$B$1000&'Loan - Grade & Staple'!$C$1:$C$1000,0),MATCH(\"38+\",'Loan - Grade & Staple'!$A$3:$K$3,0)),IF(K378<=31,INDEX('Loan - Grade & Staple'!$A$1:$K$1000,MATCH($B378&$C378,'Loan - Grade & Staple'!$B$1:$B$1000&'Loan - Grade & Staple'!$C$1:$C$1000,0),MATCH(\"26-31\",'Loan - Grade & Staple'!$A$3:$K$3,0)),IF(ISNA(INDEX('Loan - Grade & Staple'!$A$1:$K$1000,MATCH($B378&C378,'Loan - Grade & Staple'!$B$1:$B$1000&'Loan - Grade & Staple'!$C$1:$C$1000,0),MATCH($K378,'Loan - Grade & Staple'!$A$3:$K$3,0))),-4000,INDEX('Loan - Grade & Staple'!$A$1:$K$1000,MATCH($B378&C378,'Loan - Grade & Staple'!$B$1:$B$1000&'Loan - Grade & Staple'!$C$1:$C$1000,0),MATCH($K378,'Loan - Grade & Staple'!$A$3:$K$3,0))))))","v":""},{"$f":"IF(LEN(E378)=0,\"\",INDEX('Loan - Strength'!$C$1:$C$18,MATCH(E378,'Loan - Strength'!$A$1:$A$18,1)))","v":""},{"$f":"IF(LEN(F378)=0,\"\",INDEX('Loan - Micronaire'!$C$1:$C$20,MATCH($F378,'Loan - Micronaire'!$A$1:$A$20,1)))","v":""},{"$f":"IF(LEN(G378)=0,\"\",INDEX('Loan - Uniformity'!$C$1:$C$20,MATCH($G378,'Loan - Uniformity'!$A$1:$A$20,1)))","v":""},"","",{"$f":"IF(OR(LEN(B378)=0,LEN(C378)=0,LEN(D378)=0,LEN(E378)=0,LEN(F378)=0,LEN(G378)=0),\"\",IF('Base Values'!$B$8+(SUM($L378:$P378)/100)<0,0,'Base Values'!$B$8+(SUM(L378:P378)/100)))","v":""},null,{"$f":"IF(AND($T$13=TRUE,H378=1),'Loan - Extraneous'!B$3,IF(AND($T$13=TRUE,H378=2),'Loan - Extraneous'!C$3,0))","v":0},{"$f":"IF(I378=1,'Loan - Extraneous'!$B$4,IF(I378=2,'Loan - Extraneous'!$C$4,0))","v":0},{"$f":"IF(J378=1,'Loan - Extraneous'!$B$5,IF(J378=2,'Loan - Extraneous'!$C$5,0))","v":0}]
[null,null,null,null,null,null,null,null,null,null,"",{"$f":"IF(OR(LEN(B379)=0,LEN(C379)=0,LEN(D379)=0),\"\",IF(K379>=38,INDEX('Loan - Grade & Staple'!$A$1:$K$1000,MATCH($B379&$C379,'Loan - Grade & Staple'!$B$1:$B$1000&'Loan - Grade & Staple'!$C$1:$C$1000,0),MATCH(\"38+\",'Loan - Grade & Staple'!$A$3:$K$3,0)),IF(K379<=31,INDEX('Loan - Grade & Staple'!$A$1:$K$1000,MATCH($B379&$C379,'Loan - Grade & Staple'!$B$1:$B$1000&'Loan - Grade & Staple'!$C$1:$C$1000,0),MATCH(\"26-31\",'Loan - Grade & Staple'!$A$3:$K$3,0)),IF(ISNA(INDEX('Loan - Grade & Staple'!$A$1:$K$1000,MATCH($B379&C379,'Loan - Grade & Staple'!$B$1:$B$1000&'Loan - Grade & Staple'!$C$1:$C$1000,0),MATCH($K379,'Loan - Grade & Staple'!$A$3:$K$3,0))),-4000,INDEX('Loan - Grade & Staple'!$A$1:$K$1000,MATCH($B379&C379,'Loan - Grade & Staple'!$B$1:$B$1000&'Loan - Grade & Staple'!$C$1:$C$1000,0),MATCH($K379,'Loan - Grade & Staple'!$A$3:$K$3,0))))))","v":""},{"$f":"IF(LEN(E379)=0,\"\",INDEX('Loan - Strength'!$C$1:$C$18,MATCH(E379,'Loan - Strength'!$A$1:$A$18,1)))","v":""},{"$f":"IF(LEN(F379)=0,\"\",INDEX('Loan - Micronaire'!$C$1:$C$20,MATCH($F379,'Loan - Micronaire'!$A$1:$A$20,1)))","v":""},{"$f":"IF(LEN(G379)=0,\"\",INDEX('Loan - Uniformity'!$C$1:$C$20,MATCH($G379,'Loan - Uniformity'!$A$1:$A$20,1)))","v":""},"","",{"$f":"IF(OR(LEN(B379)=0,LEN(C379)=0,LEN(D379)=0,LEN(E379)=0,LEN(F379)=0,LEN(G379)=0),\"\",IF('Base Values'!$B$8+(SUM($L379:$P379)/100)<0,0,'Base Values'!$B$8+(SUM(L379:P379)/100)))","v":""},null,{"$f":"IF(AND($T$13=TRUE,H379=1),'Loan - Extraneous'!B$3,IF(AND($T$13=TRUE,H379=2),'Loan - Extraneous'!C$3,0))","v":0},{"$f":"IF(I379=1,'Loan - Extraneous'!$B$4,IF(I379=2,'Loan - Extraneous'!$C$4,0))","v":0},{"$f":"IF(J379=1,'Loan - Extraneous'!$B$5,IF(J379=2,'Loan - Extraneous'!$C$5,0))","v":0}]
[null,null,null,null,null,null,null,null,null,null,"",{"$f":"IF(OR(LEN(B380)=0,LEN(C380)=0,LEN(D380)=0),\"\",IF(K380>=38,INDEX('Loan - Grade & Staple'!$A$1:$K$1000,MATCH($B380&$C380,'Loan - Grade & Staple'!$B$1:$B$1000&'Loan - Grade & Staple'!$C$1:$C$1000,0),MATCH(\"38+\",'Loan - Grade & Staple'!$A$3:$K$3,0)),IF(K380<=31,INDEX('Loan - Grade & Staple'!$A$1:$K$1000,MATCH($B380&$C380,'Loan - Grade & Staple'!$B$1:$B$1000&'Loan - Grade & Staple'!$C$1:$C$1000,0),MATCH(\"26-31\",'Loan - Grade & Staple'!$A$3:$K$3,0)),IF(ISNA(INDEX('Loan - Grade & Staple'!$A$1:$K$1000,MATCH($B380&C380,'Loan - Grade & Staple'!$B$1:$B$1000&'Loan - Grade & Staple'!$C$1:$C$1000,0),MATCH($K380,'Loan - Grade & Staple'!$A$3:$K$3,0))),-4000,INDEX('Loan - Grade & Staple'!$A$1:$K$1000,MATCH($B380&C380,'Loan - Grade & Staple'!$B$1:$B$1000&'Loan - Grade & Staple'!$C$1:$C$1000,0),MATCH($K380,'Loan - Grade & Staple'!$A$3:$K$3,0))))))","v":""},{"$f":"IF(LEN(E380)=0,\"\",INDEX('Loan - Strength'!$C$1:$C$18,MATCH(E380,'Loan - Strength'!$A$1:$A$18,1)))","v":""},{"$f":"IF(LEN(F380)=0,\"\",INDEX('Loan - Micronaire'!$C$1:$C$20,MATCH($F380,'Loan - Micronaire'!$A$1:$A$20,1)))","v":""},{"$f":"IF(LEN(G380)=0,\"\",INDEX('Loan - Uniformity'!$C$1:$C$20,MATCH($G380,'Loan - Uniformity'!$A$1:$A$20,1)))","v":""},"","",{"$f":"IF(OR(LEN(B380)=0,LEN(C380)=0,LEN(D380)=0,LEN(E380)=0,LEN(F380)=0,LEN(G380)=0),\"\",IF('Base Values'!$B$8+(SUM($L380:$P380)/100)<0,0,'Base Values'!$B$8+(SUM(L380:P380)/100)))","v":""},null,{"$f":"IF(AND($T$13=TRUE,H380=1),'Loan - Extraneous'!B$3,IF(AND($T$13=TRUE,H380=2),'Loan - Extraneous'!C$3,0))","v":0},{"$f":"IF(I380=1,'Loan - Extraneous'!$B$4,IF(I380=2,'Loan - Extraneous'!$C$4,0))","v":0},{"$f":"IF(J380=1,'Loan - Extraneous'!$B$5,IF(J380=2,'Loan - Extraneous'!$C$5,0))","v":0}]
[null,null,null,null,null,null,null,null,null,null,"",{"$f":"IF(OR(LEN(B381)=0,LEN(C381)=0,LEN(D381)=0),\"\",IF(K381>=38,INDEX('Loan - Grade & Staple'!$A$1:$K$1000,MATCH($B381&$C381,'Loan - Grade & Staple'!$B$1:$B$1000&'Loan - Grade & Staple'!$C$1:$C$1000,0),MATCH(\"38+\",'Loan - Grade & Staple'!$A$3:$K$3,0)),IF(K381<=31,INDEX('Loan - Grade & Staple'!$A$1:$K$1000,MATCH($B381&$C381,'Loan - Grade & Staple'!$B$1:$B$1000&'Loan - Grade & Staple'!$C$1:$C$1000,0),MATCH(\"26-31\",'Loan - Grade & Staple'!$A$3:$K$3,0)),IF(ISNA(INDEX('Loan - Grade & Staple'!$A$1:$K$1000,MATCH($B381&C381,'Loan - Grade & Staple'!$B$1:$B$1000&'Loan - Grade & Staple'!$C$1:$C$1000,0),MATCH($K381,'Loan - Grade & Staple'!$A$3:$K$3,0))),-4000,INDEX('Loan - Grade & Staple'!$A$1:$K$1000,MATCH($B381&C381,'Loan - Grade & Staple'!$B$1:$B$1000&'Loan - Grade & Staple'!$C$1:$C$1000,0),MATCH($K381,'Loan - Grade & Staple'!$A$3:$K$3,0))))))","v":""},{"$f":"IF(LEN(E381)=0,\"\",INDEX('Loan - Strength'!$C$1:$C$18,MATCH(E381,'Loan - Strength'!$A$1:$A$18,1)))","v":""},{"$f":"IF(LEN(F381)=0,\"\",INDEX('Loan - Micronaire'!$C$1:$C$20,MATCH($F381,'Loan - Micronaire'!$A$1:$A$20,1)))","v":""},{"$f":"IF(LEN(G381)=0,\"\",INDEX('Loan - Uniformity'!$C$1:$C$20,MATCH($G381,'Loan - Uniformity'!$A$1:$A$20,1)))","v":""},"","",{"$f":"IF(OR(LEN(B381)=0,LEN(C381)=0,LEN(D381)=0,LEN(E381)=0,LEN(F381)=0,LEN(G381)=0),\"\",IF('Base Values'!$B$8+(SUM($L381:$P381)/100)<0,0,'Base Values'!$B$8+(SUM(L381:P381)/100)))","v":""},null,{"$f":"IF(AND($T$13=TRUE,H381=1),'Loan - Extraneous'!B$3,IF(AND($T$13=TRUE,H381=2),'Loan - Extraneous'!C$3,0))","v":0},{"$f":"IF(I381=1,'Loan - Extraneous'!$B$4,IF(I381=2,'Loan - Extraneous'!$C$4,0))","v":0},{"$f":"IF(J381=1,'Loan - Extraneous'!$B$5,IF(J381=2,'Loan - Extraneous'!$C$5,0))","v":0}]
[null,null,null,null,null,null,null,null,null,null,"",{"$f":"IF(OR(LEN(B382)=0,LEN(C382)=0,LEN(D382)=0),\"\",IF(K382>=38,INDEX('Loan - Grade & Staple'!$A$1:$K$1000,MATCH($B382&$C382,'Loan - Grade & Staple'!$B$1:$B$1000&'Loan - Grade & Staple'!$C$1:$C$1000,0),MATCH(\"38+\",'Loan - Grade & Staple'!$A$3:$K$3,0)),IF(K382<=31,INDEX('Loan - Grade & Staple'!$A$1:$K$1000,MATCH($B382&$C382,'Loan - Grade & Staple'!$B$1:$B$1000&'Loan - Grade & Staple'!$C$1:$C$1000,0),MATCH(\"26-31\",'Loan - Grade & Staple'!$A$3:$K$3,0)),IF(ISNA(INDEX('Loan - Grade & Staple'!$A$1:$K$1000,MATCH($B382&C382,'Loan - Grade & Staple'!$B$1:$B$1000&'Loan - Grade & Staple'!$C$1:$C$1000,0),MATCH($K382,'Loan - Grade & Staple'!$A$3:$K$3,0))),-4000,INDEX('Loan - Grade & Staple'!$A$1:$K$1000,MATCH($B382&C382,'Loan - Grade & Staple'!$B$1:$B$1000&'Loan - Grade & Staple'!$C$1:$C$1000,0),MATCH($K382,'Loan - Grade & Staple'!$A$3:$K$3,0))))))","v":""},{"$f":"IF(LEN(E382)=0,\"\",INDEX('Loan - Strength'!$C$1:$C$18,MATCH(E382,'Loan - Strength'!$A$1:$A$18,1)))","v":""},{"$f":"IF(LEN(F382)=0,\"\",INDEX('Loan - Micronaire'!$C$1:$C$20,MATCH($F382,'Loan - Micronaire'!$A$1:$A$20,1)))","v":""},{"$f":"IF(LEN(G382)=0,\"\",INDEX('Loan - Uniformity'!$C$1:$C$20,MATCH($G382,'Loan - Uniformity'!$A$1:$A$20,1)))","v":""},"","",{"$f":"IF(OR(LEN(B382)=0,LEN(C382)=0,LEN(D382)=0,LEN(E382)=0,LEN(F382)=0,LEN(G382)=0),\"\",IF('Base Values'!$B$8+(SUM($L382:$P382)/100)<0,0,'Base Values'!$B$8+(SUM(L382:P382)/100)))","v":""},null,{"$f":"IF(AND($T$13=TRUE,H382=1),'Loan - Extraneous'!B$3,IF(AND($T$13=TRUE,H382=2),'Loan - Extraneous'!C$3,0))","v":0},{"$f":"IF(I382=1,'Loan - Extraneous'!$B$4,IF(I382=2,'Loan - Extraneous'!$C$4,0))","v":0},{"$f":"IF(J382=1,'Loan - Extraneous'!$B$5,IF(J382=2,'Loan - Extraneous'!$C$5,0))","v":0}]
[null,null,null,null,null,null,null,null,null,null,"",{"$f":"IF(OR(LEN(B383)=0,LEN(C383)=0,LEN(D383)=0),\"\",IF(K383>=38,INDEX('Loan - Grade & Staple'!$A$1:$K$1000,MATCH($B383&$C383,'Loan - Grade & Staple'!$B$1:$B$1000&'Loan - Grade & Staple'!$C$1:$C$1000,0),MATCH(\"38+\",'Loan - Grade & Staple'!$A$3:$K$3,0)),IF(K383<=31,INDEX('Loan - Grade & Staple'!$A$1:$K$1000,MATCH($B383&$C383,'Loan - Grade & Staple'!$B$1:$B$1000&'Loan - Grade & Staple'!$C$1:$C$1000,0),MATCH(\"26-31\",'Loan - Grade & Staple'!$A$3:$K$3,0)),IF(ISNA(INDEX('Loan - Grade & Staple'!$A$1:$K$1000,MATCH($B383&C383,'Loan - Grade & Staple'!$B$1:$B$1000&'Loan - Grade & Staple'!$C$1:$C$1000,0),MATCH($K383,'Loan - Grade & Staple'!$A$3:$K$3,0))),-4000,INDEX('Loan - Grade & Staple'!$A$1:$K$1000,MATCH($B383&C383,'Loan - Grade & Staple'!$B$1:$B$1000&'Loan - Grade & Staple'!$C$1:$C$1000,0),MATCH($K383,'Loan - Grade & Staple'!$A$3:$K$3,0))))))","v":""},{"$f":"IF(LEN(E383)=0,\"\",INDEX('Loan - Strength'!$C$1:$C$18,MATCH(E383,'Loan - Strength'!$A$1:$A$18,1)))","v":""},{"$f":"IF(LEN(F383)=0,\"\",INDEX('Loan - Micronaire'!$C$1:$C$20,MATCH($F383,'Loan - Micronaire'!$A$1:$A$20,1)))","v":""},{"$f":"IF(LEN(G383)=0,\"\",INDEX('Loan - Uniformity'!$C$1:$C$20,MATCH($G383,'Loan - Uniformity'!$A$1:$A$20,1)))","v":""},"","",{"$f":"IF(OR(LEN(B383)=0,LEN(C383)=0,LEN(D383)=0,LEN(E383)=0,LEN(F383)=0,LEN(G383)=0),\"\",IF('Base Values'!$B$8+(SUM($L383:$P383)/100)<0,0,'Base Values'!$B$8+(SUM(L383:P383)/100)))","v":""},null,{"$f":"IF(AND($T$13=TRUE,H383=1),'Loan - Extraneous'!B$3,IF(AND($T$13=TRUE,H383=2),'Loan - Extraneous'!C$3,0))","v":0},{"$f":"IF(I383=1,'Loan - Extraneous'!$B$4,IF(I383=2,'Loan - Extraneous'!$C$4,0))","v":0},{"$f":"IF(J383=1,'Loan - Extraneous'!$B$5,IF(J383=2,'Loan - Extraneous'!$C$5,0))","v":0}]
[null,null,null,null,null,null,null,null,null,null,"",{"$f":"IF(OR(LEN(B384)=0,LEN(C384)=0,LEN(D384)=0),\"\",IF(K384>=38,INDEX('Loan - Grade & Staple'!$A$1:$K$1000,MATCH($B384&$C384,'Loan - Grade & Staple'!$B$1:$B$1000&'Loan - Grade & Staple'!$C$1:$C$1000,0),MATCH(\"38+\",'Loan - Grade & Staple'!$A$3:$K$3,0)),IF(K384<=31,INDEX('Loan - Grade & Staple'!$A$1:$K$1000,MATCH($B384&$C384,'Loan - Grade & Staple'!$B$1:$B$1000&'Loan - Grade & Staple'!$C$1:$C$1000,0),MATCH(\"26-31\",'Loan - Grade & Staple'!$A$3:$K$3,0)),IF(ISNA(INDEX('Loan - Grade & Staple'!$A$1:$K$1000,MATCH($B384&C384,'Loan - Grade & Staple'!$B$1:$B$1000&'Loan - Grade & Staple'!$C$1:$C$1000,0),MATCH($K384,'Loan - Grade & Staple'!$A$3:$K$3,0))),-4000,INDEX('Loan - Grade & Staple'!$A$1:$K$1000,MATCH($B384&C384,'Loan - Grade & Staple'!$B$1:$B$1000&'Loan - Grade & Staple'!$C$1:$C$1000,0),MATCH($K384,'Loan - Grade & Staple'!$A$3:$K$3,0))))))","v":""},{"$f":"IF(LEN(E384)=0,\"\",INDEX('Loan - Strength'!$C$1:$C$18,MATCH(E384,'Loan - Strength'!$A$1:$A$18,1)))","v":""},{"$f":"IF(LEN(F384)=0,\"\",INDEX('Loan - Micronaire'!$C$1:$C$20,MATCH($F384,'Loan - Micronaire'!$A$1:$A$20,1)))","v":""},{"$f":"IF(LEN(G384)=0,\"\",INDEX('Loan - Uniformity'!$C$1:$C$20,MATCH($G384,'Loan - Uniformity'!$A$1:$A$20,1)))","v":""},"","",{"$f":"IF(OR(LEN(B384)=0,LEN(C384)=0,LEN(D384)=0,LEN(E384)=0,LEN(F384)=0,LEN(G384)=0),\"\",IF('Base Values'!$B$8+(SUM($L384:$P384)/100)<0,0,'Base Values'!$B$8+(SUM(L384:P384)/100)))","v":""},null,{"$f":"IF(AND($T$13=TRUE,H384=1),'Loan - Extraneous'!B$3,IF(AND($T$13=TRUE,H384=2),'Loan - Extraneous'!C$3,0))","v":0},{"$f":"IF(I384=1,'Loan - Extraneous'!$B$4,IF(I384=2,'Loan - Extraneous'!$C$4,0))","v":0},{"$f":"IF(J384=1,'Loan - Extraneous'!$B$5,IF(J384=2,'Loan - Extraneous'!$C$5,0))","v":0}]
[null,null,null,null,null,null,null,null,null,null,"",{"$f":"IF(OR(LEN(B385)=0,LEN(C385)=0,LEN(D385)=0),\"\",IF(K385>=38,INDEX('Loan - Grade & Staple'!$A$1:$K$1000,MATCH($B385&$C385,'Loan - Grade & Staple'!$B$1:$B$1000&'Loan - Grade & Staple'!$C$1:$C$1000,0),MATCH(\"38+\",'Loan - Grade & Staple'!$A$3:$K$3,0)),IF(K385<=31,INDEX('Loan - Grade & Staple'!$A$1:$K$1000,MATCH($B385&$C385,'Loan - Grade & Staple'!$B$1:$B$1000&'Loan - Grade & Staple'!$C$1:$C$1000,0),MATCH(\"26-31\",'Loan - Grade & Staple'!$A$3:$K$3,0)),IF(ISNA(INDEX('Loan - Grade & Staple'!$A$1:$K$1000,MATCH($B385&C385,'Loan - Grade & Staple'!$B$1:$B$1000&'Loan - Grade & Staple'!$C$1:$C$1000,0),MATCH($K385,'Loan - Grade & Staple'!$A$3:$K$3,0))),-4000,INDEX('Loan - Grade & Staple'!$A$1:$K$1000,MATCH($B385&C385,'Loan - Grade & Staple'!$B$1:$B$1000&'Loan - Grade & Staple'!$C$1:$C$1000,0),MATCH($K385,'Loan - Grade & Staple'!$A$3:$K$3,0))))))","v":""},{"$f":"IF(LEN(E385)=0,\"\",INDEX('Loan - Strength'!$C$1:$C$18,MATCH(E385,'Loan - Strength'!$A$1:$A$18,1)))","v":""},{"$f":"IF(LEN(F385)=0,\"\",INDEX('Loan - Micronaire'!$C$1:$C$20,MATCH($F385,'Loan - Micronaire'!$A$1:$A$20,1)))","v":""},{"$f":"IF(LEN(G385)=0,\"\",INDEX('Loan - Uniformity'!$C$1:$C$20,MATCH($G385,'Loan - Uniformity'!$A$1:$A$20,1)))","v":""},"","",{"$f":"IF(OR(LEN(B385)=0,LEN(C385)=0,LEN(D385)=0,LEN(E385)=0,LEN(F385)=0,LEN(G385)=0),\"\",IF('Base Values'!$B$8+(SUM($L385:$P385)/100)<0,0,'Base Values'!$B$8+(SUM(L385:P385)/100)))","v":""},null,{"$f":"IF(AND($T$13=TRUE,H385=1),'Loan - Extraneous'!B$3,IF(AND($T$13=TRUE,H385=2),'Loan - Extraneous'!C$3,0))","v":0},{"$f":"IF(I385=1,'Loan - Extraneous'!$B$4,IF(I385=2,'Loan - Extraneous'!$C$4,0))","v":0},{"$f":"IF(J385=1,'Loan - Extraneous'!$B$5,IF(J385=2,'Loan - Extraneous'!$C$5,0))","v":0}]
[null,null,null,null,null,null,null,null,null,null,"",{"$f":"IF(OR(LEN(B386)=0,LEN(C386)=0,LEN(D386)=0),\"\",IF(K386>=38,INDEX('Loan - Grade & Staple'!$A$1:$K$1000,MATCH($B386&$C386,'Loan - Grade & Staple'!$B$1:$B$1000&'Loan - Grade & Staple'!$C$1:$C$1000,0),MATCH(\"38+\",'Loan - Grade & Staple'!$A$3:$K$3,0)),IF(K386<=31,INDEX('Loan - Grade & Staple'!$A$1:$K$1000,MATCH($B386&$C386,'Loan - Grade & Staple'!$B$1:$B$1000&'Loan - Grade & Staple'!$C$1:$C$1000,0),MATCH(\"26-31\",'Loan - Grade & Staple'!$A$3:$K$3,0)),IF(ISNA(INDEX('Loan - Grade & Staple'!$A$1:$K$1000,MATCH($B386&C386,'Loan - Grade & Staple'!$B$1:$B$1000&'Loan - Grade & Staple'!$C$1:$C$1000,0),MATCH($K386,'Loan - Grade & Staple'!$A$3:$K$3,0))),-4000,INDEX('Loan - Grade & Staple'!$A$1:$K$1000,MATCH($B386&C386,'Loan - Grade & Staple'!$B$1:$B$1000&'Loan - Grade & Staple'!$C$1:$C$1000,0),MATCH($K386,'Loan - Grade & Staple'!$A$3:$K$3,0))))))","v":""},{"$f":"IF(LEN(E386)=0,\"\",INDEX('Loan - Strength'!$C$1:$C$18,MATCH(E386,'Loan - Strength'!$A$1:$A$18,1)))","v":""},{"$f":"IF(LEN(F386)=0,\"\",INDEX('Loan - Micronaire'!$C$1:$C$20,MATCH($F386,'Loan - Micronaire'!$A$1:$A$20,1)))","v":""},{"$f":"IF(LEN(G386)=0,\"\",INDEX('Loan - Uniformity'!$C$1:$C$20,MATCH($G386,'Loan - Uniformity'!$A$1:$A$20,1)))","v":""},"","",{"$f":"IF(OR(LEN(B386)=0,LEN(C386)=0,LEN(D386)=0,LEN(E386)=0,LEN(F386)=0,LEN(G386)=0),\"\",IF('Base Values'!$B$8+(SUM($L386:$P386)/100)<0,0,'Base Values'!$B$8+(SUM(L386:P386)/100)))","v":""},null,{"$f":"IF(AND($T$13=TRUE,H386=1),'Loan - Extraneous'!B$3,IF(AND($T$13=TRUE,H386=2),'Loan - Extraneous'!C$3,0))","v":0},{"$f":"IF(I386=1,'Loan - Extraneous'!$B$4,IF(I386=2,'Loan - Extraneous'!$C$4,0))","v":0},{"$f":"IF(J386=1,'Loan - Extraneous'!$B$5,IF(J386=2,'Loan - Extraneous'!$C$5,0))","v":0}]
[null,null,null,null,null,null,null,null,null,null,"",{"$f":"IF(OR(LEN(B387)=0,LEN(C387)=0,LEN(D387)=0),\"\",IF(K387>=38,INDEX('Loan - Grade & Staple'!$A$1:$K$1000,MATCH($B387&$C387,'Loan - Grade & Staple'!$B$1:$B$1000&'Loan - Grade & Staple'!$C$1:$C$1000,0),MATCH(\"38+\",'Loan - Grade & Staple'!$A$3:$K$3,0)),IF(K387<=31,INDEX('Loan - Grade & Staple'!$A$1:$K$1000,MATCH($B387&$C387,'Loan - Grade & Staple'!$B$1:$B$1000&'Loan - Grade & Staple'!$C$1:$C$1000,0),MATCH(\"26-31\",'Loan - Grade & Staple'!$A$3:$K$3,0)),IF(ISNA(INDEX('Loan - Grade & Staple'!$A$1:$K$1000,MATCH($B387&C387,'Loan - Grade & Staple'!$B$1:$B$1000&'Loan - Grade & Staple'!$C$1:$C$1000,0),MATCH($K387,'Loan - Grade & Staple'!$A$3:$K$3,0))),-4000,INDEX('Loan - Grade & Staple'!$A$1:$K$1000,MATCH($B387&C387,'Loan - Grade & Staple'!$B$1:$B$1000&'Loan - Grade & Staple'!$C$1:$C$1000,0),MATCH($K387,'Loan - Grade & Staple'!$A$3:$K$3,0))))))","v":""},{"$f":"IF(LEN(E387)=0,\"\",INDEX('Loan - Strength'!$C$1:$C$18,MATCH(E387,'Loan - Strength'!$A$1:$A$18,1)))","v":""},{"$f":"IF(LEN(F387)=0,\"\",INDEX('Loan - Micronaire'!$C$1:$C$20,MATCH($F387,'Loan - Micronaire'!$A$1:$A$20,1)))","v":""},{"$f":"IF(LEN(G387)=0,\"\",INDEX('Loan - Uniformity'!$C$1:$C$20,MATCH($G387,'Loan - Uniformity'!$A$1:$A$20,1)))","v":""},"","",{"$f":"IF(OR(LEN(B387)=0,LEN(C387)=0,LEN(D387)=0,LEN(E387)=0,LEN(F387)=0,LEN(G387)=0),\"\",IF('Base Values'!$B$8+(SUM($L387:$P387)/100)<0,0,'Base Values'!$B$8+(SUM(L387:P387)/100)))","v":""},null,{"$f":"IF(AND($T$13=TRUE,H387=1),'Loan - Extraneous'!B$3,IF(AND($T$13=TRUE,H387=2),'Loan - Extraneous'!C$3,0))","v":0},{"$f":"IF(I387=1,'Loan - Extraneous'!$B$4,IF(I387=2,'Loan - Extraneous'!$C$4,0))","v":0},{"$f":"IF(J387=1,'Loan - Extraneous'!$B$5,IF(J387=2,'Loan - Extraneous'!$C$5,0))","v":0}]
[null,null,null,null,null,null,null,null,null,null,"",{"$f":"IF(OR(LEN(B388)=0,LEN(C388)=0,LEN(D388)=0),\"\",IF(K388>=38,INDEX('Loan - Grade & Staple'!$A$1:$K$1000,MATCH($B388&$C388,'Loan - Grade & Staple'!$B$1:$B$1000&'Loan - Grade & Staple'!$C$1:$C$1000,0),MATCH(\"38+\",'Loan - Grade & Staple'!$A$3:$K$3,0)),IF(K388<=31,INDEX('Loan - Grade & Staple'!$A$1:$K$1000,MATCH($B388&$C388,'Loan - Grade & Staple'!$B$1:$B$1000&'Loan - Grade & Staple'!$C$1:$C$1000,0),MATCH(\"26-31\",'Loan - Grade & Staple'!$A$3:$K$3,0)),IF(ISNA(INDEX('Loan - Grade & Staple'!$A$1:$K$1000,MATCH($B388&C388,'Loan - Grade & Staple'!$B$1:$B$1000&'Loan - Grade & Staple'!$C$1:$C$1000,0),MATCH($K388,'Loan - Grade & Staple'!$A$3:$K$3,0))),-4000,INDEX('Loan - Grade & Staple'!$A$1:$K$1000,MATCH($B388&C388,'Loan - Grade & Staple'!$B$1:$B$1000&'Loan - Grade & Staple'!$C$1:$C$1000,0),MATCH($K388,'Loan - Grade & Staple'!$A$3:$K$3,0))))))","v":""},{"$f":"IF(LEN(E388)=0,\"\",INDEX('Loan - Strength'!$C$1:$C$18,MATCH(E388,'Loan - Strength'!$A$1:$A$18,1)))","v":""},{"$f":"IF(LEN(F388)=0,\"\",INDEX('Loan - Micronaire'!$C$1:$C$20,MATCH($F388,'Loan - Micronaire'!$A$1:$A$20,1)))","v":""},{"$f":"IF(LEN(G388)=0,\"\",INDEX('Loan - Uniformity'!$C$1:$C$20,MATCH($G388,'Loan - Uniformity'!$A$1:$A$20,1)))","v":""},"","",{"$f":"IF(OR(LEN(B388)=0,LEN(C388)=0,LEN(D388)=0,LEN(E388)=0,LEN(F388)=0,LEN(G388)=0),\"\",IF('Base Values'!$B$8+(SUM($L388:$P388)/100)<0,0,'Base Values'!$B$8+(SUM(L388:P388)/100)))","v":""},null,{"$f":"IF(AND($T$13=TRUE,H388=1),'Loan - Extraneous'!B$3,IF(AND($T$13=TRUE,H388=2),'Loan - Extraneous'!C$3,0))","v":0},{"$f":"IF(I388=1,'Loan - Extraneous'!$B$4,IF(I388=2,'Loan - Extraneous'!$C$4,0))","v":0},{"$f":"IF(J388=1,'Loan - Extraneous'!$B$5,IF(J388=2,'Loan - Extraneous'!$C$5,0))","v":0}]
[null,null,null,null,null,null,null,null,null,null,"",{"$f":"IF(OR(LEN(B389)=0,LEN(C389)=0,LEN(D389)=0),\"\",IF(K389>=38,INDEX('Loan - Grade & Staple'!$A$1:$K$1000,MATCH($B389&$C389,'Loan - Grade & Staple'!$B$1:$B$1000&'Loan - Grade & Staple'!$C$1:$C$1000,0),MATCH(\"38+\",'Loan - Grade & Staple'!$A$3:$K$3,0)),IF(K389<=31,INDEX('Loan - Grade & Staple'!$A$1:$K$1000,MATCH($B389&$C389,'Loan - Grade & Staple'!$B$1:$B$1000&'Loan - Grade & Staple'!$C$1:$C$1000,0),MATCH(\"26-31\",'Loan - Grade & Staple'!$A$3:$K$3,0)),IF(ISNA(INDEX('Loan - Grade & Staple'!$A$1:$K$1000,MATCH($B389&C389,'Loan - Grade & Staple'!$B$1:$B$1000&'Loan - Grade & Staple'!$C$1:$C$1000,0),MATCH($K389,'Loan - Grade & Staple'!$A$3:$K$3,0))),-4000,INDEX('Loan - Grade & Staple'!$A$1:$K$1000,MATCH($B389&C389,'Loan - Grade & Staple'!$B$1:$B$1000&'Loan - Grade & Staple'!$C$1:$C$1000,0),MATCH($K389,'Loan - Grade & Staple'!$A$3:$K$3,0))))))","v":""},{"$f":"IF(LEN(E389)=0,\"\",INDEX('Loan - Strength'!$C$1:$C$18,MATCH(E389,'Loan - Strength'!$A$1:$A$18,1)))","v":""},{"$f":"IF(LEN(F389)=0,\"\",INDEX('Loan - Micronaire'!$C$1:$C$20,MATCH($F389,'Loan - Micronaire'!$A$1:$A$20,1)))","v":""},{"$f":"IF(LEN(G389)=0,\"\",INDEX('Loan - Uniformity'!$C$1:$C$20,MATCH($G389,'Loan - Uniformity'!$A$1:$A$20,1)))","v":""},"","",{"$f":"IF(OR(LEN(B389)=0,LEN(C389)=0,LEN(D389)=0,LEN(E389)=0,LEN(F389)=0,LEN(G389)=0),\"\",IF('Base Values'!$B$8+(SUM($L389:$P389)/100)<0,0,'Base Values'!$B$8+(SUM(L389:P389)/100)))","v":""},null,{"$f":"IF(AND($T$13=TRUE,H389=1),'Loan - Extraneous'!B$3,IF(AND($T$13=TRUE,H389=2),'Loan - Extraneous'!C$3,0))","v":0},{"$f":"IF(I389=1,'Loan - Extraneous'!$B$4,IF(I389=2,'Loan - Extraneous'!$C$4,0))","v":0},{"$f":"IF(J389=1,'Loan - Extraneous'!$B$5,IF(J389=2,'Loan - Extraneous'!$C$5,0))","v":0}]
[null,null,null,null,null,null,null,null,null,null,"",{"$f":"IF(OR(LEN(B390)=0,LEN(C390)=0,LEN(D390)=0),\"\",IF(K390>=38,INDEX('Loan - Grade & Staple'!$A$1:$K$1000,MATCH($B390&$C390,'Loan - Grade & Staple'!$B$1:$B$1000&'Loan - Grade & Staple'!$C$1:$C$1000,0),MATCH(\"38+\",'Loan - Grade & Staple'!$A$3:$K$3,0)),IF(K390<=31,INDEX('Loan - Grade & Staple'!$A$1:$K$1000,MATCH($B390&$C390,'Loan - Grade & Staple'!$B$1:$B$1000&'Loan - Grade & Staple'!$C$1:$C$1000,0),MATCH(\"26-31\",'Loan - Grade & Staple'!$A$3:$K$3,0)),IF(ISNA(INDEX('Loan - Grade & Staple'!$A$1:$K$1000,MATCH($B390&C390,'Loan - Grade & Staple'!$B$1:$B$1000&'Loan - Grade & Staple'!$C$1:$C$1000,0),MATCH($K390,'Loan - Grade & Staple'!$A$3:$K$3,0))),-4000,INDEX('Loan - Grade & Staple'!$A$1:$K$1000,MATCH($B390&C390,'Loan - Grade & Staple'!$B$1:$B$1000&'Loan - Grade & Staple'!$C$1:$C$1000,0),MATCH($K390,'Loan - Grade & Staple'!$A$3:$K$3,0))))))","v":""},{"$f":"IF(LEN(E390)=0,\"\",INDEX('Loan - Strength'!$C$1:$C$18,MATCH(E390,'Loan - Strength'!$A$1:$A$18,1)))","v":""},{"$f":"IF(LEN(F390)=0,\"\",INDEX('Loan - Micronaire'!$C$1:$C$20,MATCH($F390,'Loan - Micronaire'!$A$1:$A$20,1)))","v":""},{"$f":"IF(LEN(G390)=0,\"\",INDEX('Loan - Uniformity'!$C$1:$C$20,MATCH($G390,'Loan - Uniformity'!$A$1:$A$20,1)))","v":""},"","",{"$f":"IF(OR(LEN(B390)=0,LEN(C390)=0,LEN(D390)=0,LEN(E390)=0,LEN(F390)=0,LEN(G390)=0),\"\",IF('Base Values'!$B$8+(SUM($L390:$P390)/100)<0,0,'Base Values'!$B$8+(SUM(L390:P390)/100)))","v":""},null,{"$f":"IF(AND($T$13=TRUE,H390=1),'Loan - Extraneous'!B$3,IF(AND($T$13=TRUE,H390=2),'Loan - Extraneous'!C$3,0))","v":0},{"$f":"IF(I390=1,'Loan - Extraneous'!$B$4,IF(I390=2,'Loan - Extraneous'!$C$4,0))","v":0},{"$f":"IF(J390=1,'Loan - Extraneous'!$B$5,IF(J390=2,'Loan - Extraneous'!$C$5,0))","v":0}]
[null,null,null,null,null,null,null,null,null,null,"",{"$f":"IF(OR(LEN(B391)=0,LEN(C391)=0,LEN(D391)=0),\"\",IF(K391>=38,INDEX('Loan - Grade & Staple'!$A$1:$K$1000,MATCH($B391&$C391,'Loan - Grade & Staple'!$B$1:$B$1000&'Loan - Grade & Staple'!$C$1:$C$1000,0),MATCH(\"38+\",'Loan - Grade & Staple'!$A$3:$K$3,0)),IF(K391<=31,INDEX('Loan - Grade & Staple'!$A$1:$K$1000,MATCH($B391&$C391,'Loan - Grade & Staple'!$B$1:$B$1000&'Loan - Grade & Staple'!$C$1:$C$1000,0),MATCH(\"26-31\",'Loan - Grade & Staple'!$A$3:$K$3,0)),IF(ISNA(INDEX('Loan - Grade & Staple'!$A$1:$K$1000,MATCH($B391&C391,'Loan - Grade & Staple'!$B$1:$B$1000&'Loan - Grade & Staple'!$C$1:$C$1000,0),MATCH($K391,'Loan - Grade & Staple'!$A$3:$K$3,0))),-4000,INDEX('Loan - Grade & Staple'!$A$1:$K$1000,MATCH($B391&C391,'Loan - Grade & Staple'!$B$1:$B$1000&'Loan - Grade & Staple'!$C$1:$C$1000,0),MATCH($K391,'Loan - Grade & Staple'!$A$3:$K$3,0))))))","v":""},{"$f":"IF(LEN(E391)=0,\"\",INDEX('Loan - Strength'!$C$1:$C$18,MATCH(E391,'Loan - Strength'!$A$1:$A$18,1)))","v":""},{"$f":"IF(LEN(F391)=0,\"\",INDEX('Loan - Micronaire'!$C$1:$C$20,MATCH($F391,'Loan - Micronaire'!$A$1:$A$20,1)))","v":""},{"$f":"IF(LEN(G391)=0,\"\",INDEX('Loan - Uniformity'!$C$1:$C$20,MATCH($G391,'Loan - Uniformity'!$A$1:$A$20,1)))","v":""},"","",{"$f":"IF(OR(LEN(B391)=0,LEN(C391)=0,LEN(D391)=0,LEN(E391)=0,LEN(F391)=0,LEN(G391)=0),\"\",IF('Base Values'!$B$8+(SUM($L391:$P391)/100)<0,0,'Base Values'!$B$8+(SUM(L391:P391)/100)))","v":""},null,{"$f":"IF(AND($T$13=TRUE,H391=1),'Loan - Extraneous'!B$3,IF(AND($T$13=TRUE,H391=2),'Loan - Extraneous'!C$3,0))","v":0},{"$f":"IF(I391=1,'Loan - Extraneous'!$B$4,IF(I391=2,'Loan - Extraneous'!$C$4,0))","v":0},{"$f":"IF(J391=1,'Loan - Extraneous'!$B$5,IF(J391=2,'Loan - Extraneous'!$C$5,0))","v":0}]
[null,null,null,null,null,null,null,null,null,null,"",{"$f":"IF(OR(LEN(B392)=0,LEN(C392)=0,LEN(D392)=0),\"\",IF(K392>=38,INDEX('Loan - Grade & Staple'!$A$1:$K$1000,MATCH($B392&$C392,'Loan - Grade & Staple'!$B$1:$B$1000&'Loan - Grade & Staple'!$C$1:$C$1000,0),MATCH(\"38+\",'Loan - Grade & Staple'!$A$3:$K$3,0)),IF(K392<=31,INDEX('Loan - Grade & Staple'!$A$1:$K$1000,MATCH($B392&$C392,'Loan - Grade & Staple'!$B$1:$B$1000&'Loan - Grade & Staple'!$C$1:$C$1000,0),MATCH(\"26-31\",'Loan - Grade & Staple'!$A$3:$K$3,0)),IF(ISNA(INDEX('Loan - Grade & Staple'!$A$1:$K$1000,MATCH($B392&C392,'Loan - Grade & Staple'!$B$1:$B$1000&'Loan - Grade & Staple'!$C$1:$C$1000,0),MATCH($K392,'Loan - Grade & Staple'!$A$3:$K$3,0))),-4000,INDEX('Loan - Grade & Staple'!$A$1:$K$1000,MATCH($B392&C392,'Loan - Grade & Staple'!$B$1:$B$1000&'Loan - Grade & Staple'!$C$1:$C$1000,0),MATCH($K392,'Loan - Grade & Staple'!$A$3:$K$3,0))))))","v":""},{"$f":"IF(LEN(E392)=0,\"\",INDEX('Loan - Strength'!$C$1:$C$18,MATCH(E392,'Loan - Strength'!$A$1:$A$18,1)))","v":""},{"$f":"IF(LEN(F392)=0,\"\",INDEX('Loan - Micronaire'!$C$1:$C$20,MATCH($F392,'Loan - Micronaire'!$A$1:$A$20,1)))","v":""},{"$f":"IF(LEN(G392)=0,\"\",INDEX('Loan - Uniformity'!$C$1:$C$20,MATCH($G392,'Loan - Uniformity'!$A$1:$A$20,1)))","v":""},"","",{"$f":"IF(OR(LEN(B392)=0,LEN(C392)=0,LEN(D392)=0,LEN(E392)=0,LEN(F392)=0,LEN(G392)=0),\"\",IF('Base Values'!$B$8+(SUM($L392:$P392)/100)<0,0,'Base Values'!$B$8+(SUM(L392:P392)/100)))","v":""},null,{"$f":"IF(AND($T$13=TRUE,H392=1),'Loan - Extraneous'!B$3,IF(AND($T$13=TRUE,H392=2),'Loan - Extraneous'!C$3,0))","v":0},{"$f":"IF(I392=1,'Loan - Extraneous'!$B$4,IF(I392=2,'Loan - Extraneous'!$C$4,0))","v":0},{"$f":"IF(J392=1,'Loan - Extraneous'!$B$5,IF(J392=2,'Loan - Extraneous'!$C$5,0))","v":0}]
[null,null,null,null,null,null,null,null,null,null,"",{"$f":"IF(OR(LEN(B393)=0,LEN(C393)=0,LEN(D393)=0),\"\",IF(K393>=38,INDEX('Loan - Grade & Staple'!$A$1:$K$1000,MATCH($B393&$C393,'Loan - Grade & Staple'!$B$1:$B$1000&'Loan - Grade & Staple'!$C$1:$C$1000,0),MATCH(\"38+\",'Loan - Grade & Staple'!$A$3:$K$3,0)),IF(K393<=31,INDEX('Loan - Grade & Staple'!$A$1:$K$1000,MATCH($B393&$C393,'Loan - Grade & Staple'!$B$1:$B$1000&'Loan - Grade & Staple'!$C$1:$C$1000,0),MATCH(\"26-31\",'Loan - Grade & Staple'!$A$3:$K$3,0)),IF(ISNA(INDEX('Loan - Grade & Staple'!$A$1:$K$1000,MATCH($B393&C393,'Loan - Grade & Staple'!$B$1:$B$1000&'Loan - Grade & Staple'!$C$1:$C$1000,0),MATCH($K393,'Loan - Grade & Staple'!$A$3:$K$3,0))),-4000,INDEX('Loan - Grade & Staple'!$A$1:$K$1000,MATCH($B393&C393,'Loan - Grade & Staple'!$B$1:$B$1000&'Loan - Grade & Staple'!$C$1:$C$1000,0),MATCH($K393,'Loan - Grade & Staple'!$A$3:$K$3,0))))))","v":""},{"$f":"IF(LEN(E393)=0,\"\",INDEX('Loan - Strength'!$C$1:$C$18,MATCH(E393,'Loan - Strength'!$A$1:$A$18,1)))","v":""},{"$f":"IF(LEN(F393)=0,\"\",INDEX('Loan - Micronaire'!$C$1:$C$20,MATCH($F393,'Loan - Micronaire'!$A$1:$A$20,1)))","v":""},{"$f":"IF(LEN(G393)=0,\"\",INDEX('Loan - Uniformity'!$C$1:$C$20,MATCH($G393,'Loan - Uniformity'!$A$1:$A$20,1)))","v":""},"","",{"$f":"IF(OR(LEN(B393)=0,LEN(C393)=0,LEN(D393)=0,LEN(E393)=0,LEN(F393)=0,LEN(G393)=0),\"\",IF('Base Values'!$B$8+(SUM($L393:$P393)/100)<0,0,'Base Values'!$B$8+(SUM(L393:P393)/100)))","v":""},null,{"$f":"IF(AND($T$13=TRUE,H393=1),'Loan - Extraneous'!B$3,IF(AND($T$13=TRUE,H393=2),'Loan - Extraneous'!C$3,0))","v":0},{"$f":"IF(I393=1,'Loan - Extraneous'!$B$4,IF(I393=2,'Loan - Extraneous'!$C$4,0))","v":0},{"$f":"IF(J393=1,'Loan - Extraneous'!$B$5,IF(J393=2,'Loan - Extraneous'!$C$5,0))","v":0}]
[null,null,null,null,null,null,null,null,null,null,"",{"$f":"IF(OR(LEN(B394)=0,LEN(C394)=0,LEN(D394)=0),\"\",IF(K394>=38,INDEX('Loan - Grade & Staple'!$A$1:$K$1000,MATCH($B394&$C394,'Loan - Grade & Staple'!$B$1:$B$1000&'Loan - Grade & Staple'!$C$1:$C$1000,0),MATCH(\"38+\",'Loan - Grade & Staple'!$A$3:$K$3,0)),IF(K394<=31,INDEX('Loan - Grade & Staple'!$A$1:$K$1000,MATCH($B394&$C394,'Loan - Grade & Staple'!$B$1:$B$1000&'Loan - Grade & Staple'!$C$1:$C$1000,0),MATCH(\"26-31\",'Loan - Grade & Staple'!$A$3:$K$3,0)),IF(ISNA(INDEX('Loan - Grade & Staple'!$A$1:$K$1000,MATCH($B394&C394,'Loan - Grade & Staple'!$B$1:$B$1000&'Loan - Grade & Staple'!$C$1:$C$1000,0),MATCH($K394,'Loan - Grade & Staple'!$A$3:$K$3,0))),-4000,INDEX('Loan - Grade & Staple'!$A$1:$K$1000,MATCH($B394&C394,'Loan - Grade & Staple'!$B$1:$B$1000&'Loan - Grade & Staple'!$C$1:$C$1000,0),MATCH($K394,'Loan - Grade & Staple'!$A$3:$K$3,0))))))","v":""},{"$f":"IF(LEN(E394)=0,\"\",INDEX('Loan - Strength'!$C$1:$C$18,MATCH(E394,'Loan - Strength'!$A$1:$A$18,1)))","v":""},{"$f":"IF(LEN(F394)=0,\"\",INDEX('Loan - Micronaire'!$C$1:$C$20,MATCH($F394,'Loan - Micronaire'!$A$1:$A$20,1)))","v":""},{"$f":"IF(LEN(G394)=0,\"\",INDEX('Loan - Uniformity'!$C$1:$C$20,MATCH($G394,'Loan - Uniformity'!$A$1:$A$20,1)))","v":""},"","",{"$f":"IF(OR(LEN(B394)=0,LEN(C394)=0,LEN(D394)=0,LEN(E394)=0,LEN(F394)=0,LEN(G394)=0),\"\",IF('Base Values'!$B$8+(SUM($L394:$P394)/100)<0,0,'Base Values'!$B$8+(SUM(L394:P394)/100)))","v":""},null,{"$f":"IF(AND($T$13=TRUE,H394=1),'Loan - Extraneous'!B$3,IF(AND($T$13=TRUE,H394=2),'Loan - Extraneous'!C$3,0))","v":0},{"$f":"IF(I394=1,'Loan - Extraneous'!$B$4,IF(I394=2,'Loan - Extraneous'!$C$4,0))","v":0},{"$f":"IF(J394=1,'Loan - Extraneous'!$B$5,IF(J394=2,'Loan - Extraneous'!$C$5,0))","v":0}]
[null,null,null,null,null,null,null,null,null,null,"",{"$f":"IF(OR(LEN(B395)=0,LEN(C395)=0,LEN(D395)=0),\"\",IF(K395>=38,INDEX('Loan - Grade & Staple'!$A$1:$K$1000,MATCH($B395&$C395,'Loan - Grade & Staple'!$B$1:$B$1000&'Loan - Grade & Staple'!$C$1:$C$1000,0),MATCH(\"38+\",'Loan - Grade & Staple'!$A$3:$K$3,0)),IF(K395<=31,INDEX('Loan - Grade & Staple'!$A$1:$K$1000,MATCH($B395&$C395,'Loan - Grade & Staple'!$B$1:$B$1000&'Loan - Grade & Staple'!$C$1:$C$1000,0),MATCH(\"26-31\",'Loan - Grade & Staple'!$A$3:$K$3,0)),IF(ISNA(INDEX('Loan - Grade & Staple'!$A$1:$K$1000,MATCH($B395&C395,'Loan - Grade & Staple'!$B$1:$B$1000&'Loan - Grade & Staple'!$C$1:$C$1000,0),MATCH($K395,'Loan - Grade & Staple'!$A$3:$K$3,0))),-4000,INDEX('Loan - Grade & Staple'!$A$1:$K$1000,MATCH($B395&C395,'Loan - Grade & Staple'!$B$1:$B$1000&'Loan - Grade & Staple'!$C$1:$C$1000,0),MATCH($K395,'Loan - Grade & Staple'!$A$3:$K$3,0))))))","v":""},{"$f":"IF(LEN(E395)=0,\"\",INDEX('Loan - Strength'!$C$1:$C$18,MATCH(E395,'Loan - Strength'!$A$1:$A$18,1)))","v":""},{"$f":"IF(LEN(F395)=0,\"\",INDEX('Loan - Micronaire'!$C$1:$C$20,MATCH($F395,'Loan - Micronaire'!$A$1:$A$20,1)))","v":""},{"$f":"IF(LEN(G395)=0,\"\",INDEX('Loan - Uniformity'!$C$1:$C$20,MATCH($G395,'Loan - Uniformity'!$A$1:$A$20,1)))","v":""},"","",{"$f":"IF(OR(LEN(B395)=0,LEN(C395)=0,LEN(D395)=0,LEN(E395)=0,LEN(F395)=0,LEN(G395)=0),\"\",IF('Base Values'!$B$8+(SUM($L395:$P395)/100)<0,0,'Base Values'!$B$8+(SUM(L395:P395)/100)))","v":""},null,{"$f":"IF(AND($T$13=TRUE,H395=1),'Loan - Extraneous'!B$3,IF(AND($T$13=TRUE,H395=2),'Loan - Extraneous'!C$3,0))","v":0},{"$f":"IF(I395=1,'Loan - Extraneous'!$B$4,IF(I395=2,'Loan - Extraneous'!$C$4,0))","v":0},{"$f":"IF(J395=1,'Loan - Extraneous'!$B$5,IF(J395=2,'Loan - Extraneous'!$C$5,0))","v":0}]
[null,null,null,null,null,null,null,null,null,null,"",{"$f":"IF(OR(LEN(B396)=0,LEN(C396)=0,LEN(D396)=0),\"\",IF(K396>=38,INDEX('Loan - Grade & Staple'!$A$1:$K$1000,MATCH($B396&$C396,'Loan - Grade & Staple'!$B$1:$B$1000&'Loan - Grade & Staple'!$C$1:$C$1000,0),MATCH(\"38+\",'Loan - Grade & Staple'!$A$3:$K$3,0)),IF(K396<=31,INDEX('Loan - Grade & Staple'!$A$1:$K$1000,MATCH($B396&$C396,'Loan - Grade & Staple'!$B$1:$B$1000&'Loan - Grade & Staple'!$C$1:$C$1000,0),MATCH(\"26-31\",'Loan - Grade & Staple'!$A$3:$K$3,0)),IF(ISNA(INDEX('Loan - Grade & Staple'!$A$1:$K$1000,MATCH($B396&C396,'Loan - Grade & Staple'!$B$1:$B$1000&'Loan - Grade & Staple'!$C$1:$C$1000,0),MATCH($K396,'Loan - Grade & Staple'!$A$3:$K$3,0))),-4000,INDEX('Loan - Grade & Staple'!$A$1:$K$1000,MATCH($B396&C396,'Loan - Grade & Staple'!$B$1:$B$1000&'Loan - Grade & Staple'!$C$1:$C$1000,0),MATCH($K396,'Loan - Grade & Staple'!$A$3:$K$3,0))))))","v":""},{"$f":"IF(LEN(E396)=0,\"\",INDEX('Loan - Strength'!$C$1:$C$18,MATCH(E396,'Loan - Strength'!$A$1:$A$18,1)))","v":""},{"$f":"IF(LEN(F396)=0,\"\",INDEX('Loan - Micronaire'!$C$1:$C$20,MATCH($F396,'Loan - Micronaire'!$A$1:$A$20,1)))","v":""},{"$f":"IF(LEN(G396)=0,\"\",INDEX('Loan - Uniformity'!$C$1:$C$20,MATCH($G396,'Loan - Uniformity'!$A$1:$A$20,1)))","v":""},"","",{"$f":"IF(OR(LEN(B396)=0,LEN(C396)=0,LEN(D396)=0,LEN(E396)=0,LEN(F396)=0,LEN(G396)=0),\"\",IF('Base Values'!$B$8+(SUM($L396:$P396)/100)<0,0,'Base Values'!$B$8+(SUM(L396:P396)/100)))","v":""},null,{"$f":"IF(AND($T$13=TRUE,H396=1),'Loan - Extraneous'!B$3,IF(AND($T$13=TRUE,H396=2),'Loan - Extraneous'!C$3,0))","v":0},{"$f":"IF(I396=1,'Loan - Extraneous'!$B$4,IF(I396=2,'Loan - Extraneous'!$C$4,0))","v":0},{"$f":"IF(J396=1,'Loan - Extraneous'!$B$5,IF(J396=2,'Loan - Extraneous'!$C$5,0))","v":0}]
[null,null,null,null,null,null,null,null,null,null,"",{"$f":"IF(OR(LEN(B397)=0,LEN(C397)=0,LEN(D397)=0),\"\",IF(K397>=38,INDEX('Loan - Grade & Staple'!$A$1:$K$1000,MATCH($B397&$C397,'Loan - Grade & Staple'!$B$1:$B$1000&'Loan - Grade & Staple'!$C$1:$C$1000,0),MATCH(\"38+\",'Loan - Grade & Staple'!$A$3:$K$3,0)),IF(K397<=31,INDEX('Loan - Grade & Staple'!$A$1:$K$1000,MATCH($B397&$C397,'Loan - Grade & Staple'!$B$1:$B$1000&'Loan - Grade & Staple'!$C$1:$C$1000,0),MATCH(\"26-31\",'Loan - Grade & Staple'!$A$3:$K$3,0)),IF(ISNA(INDEX('Loan - Grade & Staple'!$A$1:$K$1000,MATCH($B397&C397,'Loan - Grade & Staple'!$B$1:$B$1000&'Loan - Grade & Staple'!$C$1:$C$1000,0),MATCH($K397,'Loan - Grade & Staple'!$A$3:$K$3,0))),-4000,INDEX('Loan - Grade & Staple'!$A$1:$K$1000,MATCH($B397&C397,'Loan - Grade & Staple'!$B$1:$B$1000&'Loan - Grade & Staple'!$C$1:$C$1000,0),MATCH($K397,'Loan - Grade & Staple'!$A$3:$K$3,0))))))","v":""},{"$f":"IF(LEN(E397)=0,\"\",INDEX('Loan - Strength'!$C$1:$C$18,MATCH(E397,'Loan - Strength'!$A$1:$A$18,1)))","v":""},{"$f":"IF(LEN(F397)=0,\"\",INDEX('Loan - Micronaire'!$C$1:$C$20,MATCH($F397,'Loan - Micronaire'!$A$1:$A$20,1)))","v":""},{"$f":"IF(LEN(G397)=0,\"\",INDEX('Loan - Uniformity'!$C$1:$C$20,MATCH($G397,'Loan - Uniformity'!$A$1:$A$20,1)))","v":""},"","",{"$f":"IF(OR(LEN(B397)=0,LEN(C397)=0,LEN(D397)=0,LEN(E397)=0,LEN(F397)=0,LEN(G397)=0),\"\",IF('Base Values'!$B$8+(SUM($L397:$P397)/100)<0,0,'Base Values'!$B$8+(SUM(L397:P397)/100)))","v":""},null,{"$f":"IF(AND($T$13=TRUE,H397=1),'Loan - Extraneous'!B$3,IF(AND($T$13=TRUE,H397=2),'Loan - Extraneous'!C$3,0))","v":0},{"$f":"IF(I397=1,'Loan - Extraneous'!$B$4,IF(I397=2,'Loan - Extraneous'!$C$4,0))","v":0},{"$f":"IF(J397=1,'Loan - Extraneous'!$B$5,IF(J397=2,'Loan - Extraneous'!$C$5,0))","v":0}]
[null,null,null,null,null,null,null,null,null,null,"",{"$f":"IF(OR(LEN(B398)=0,LEN(C398)=0,LEN(D398)=0),\"\",IF(K398>=38,INDEX('Loan - Grade & Staple'!$A$1:$K$1000,MATCH($B398&$C398,'Loan - Grade & Staple'!$B$1:$B$1000&'Loan - Grade & Staple'!$C$1:$C$1000,0),MATCH(\"38+\",'Loan - Grade & Staple'!$A$3:$K$3,0)),IF(K398<=31,INDEX('Loan - Grade & Staple'!$A$1:$K$1000,MATCH($B398&$C398,'Loan - Grade & Staple'!$B$1:$B$1000&'Loan - Grade & Staple'!$C$1:$C$1000,0),MATCH(\"26-31\",'Loan - Grade & Staple'!$A$3:$K$3,0)),IF(ISNA(INDEX('Loan - Grade & Staple'!$A$1:$K$1000,MATCH($B398&C398,'Loan - Grade & Staple'!$B$1:$B$1000&'Loan - Grade & Staple'!$C$1:$C$1000,0),MATCH($K398,'Loan - Grade & Staple'!$A$3:$K$3,0))),-4000,INDEX('Loan - Grade & Staple'!$A$1:$K$1000,MATCH($B398&C398,'Loan - Grade & Staple'!$B$1:$B$1000&'Loan - Grade & Staple'!$C$1:$C$1000,0),MATCH($K398,'Loan - Grade & Staple'!$A$3:$K$3,0))))))","v":""},{"$f":"IF(LEN(E398)=0,\"\",INDEX('Loan - Strength'!$C$1:$C$18,MATCH(E398,'Loan - Strength'!$A$1:$A$18,1)))","v":""},{"$f":"IF(LEN(F398)=0,\"\",INDEX('Loan - Micronaire'!$C$1:$C$20,MATCH($F398,'Loan - Micronaire'!$A$1:$A$20,1)))","v":""},{"$f":"IF(LEN(G398)=0,\"\",INDEX('Loan - Uniformity'!$C$1:$C$20,MATCH($G398,'Loan - Uniformity'!$A$1:$A$20,1)))","v":""},"","",{"$f":"IF(OR(LEN(B398)=0,LEN(C398)=0,LEN(D398)=0,LEN(E398)=0,LEN(F398)=0,LEN(G398)=0),\"\",IF('Base Values'!$B$8+(SUM($L398:$P398)/100)<0,0,'Base Values'!$B$8+(SUM(L398:P398)/100)))","v":""},null,{"$f":"IF(AND($T$13=TRUE,H398=1),'Loan - Extraneous'!B$3,IF(AND($T$13=TRUE,H398=2),'Loan - Extraneous'!C$3,0))","v":0},{"$f":"IF(I398=1,'Loan - Extraneous'!$B$4,IF(I398=2,'Loan - Extraneous'!$C$4,0))","v":0},{"$f":"IF(J398=1,'Loan - Extraneous'!$B$5,IF(J398=2,'Loan - Extraneous'!$C$5,0))","v":0}]
[null,null,null,null,null,null,null,null,null,null,"",{"$f":"IF(OR(LEN(B399)=0,LEN(C399)=0,LEN(D399)=0),\"\",IF(K399>=38,INDEX('Loan - Grade & Staple'!$A$1:$K$1000,MATCH($B399&$C399,'Loan - Grade & Staple'!$B$1:$B$1000&'Loan - Grade & Staple'!$C$1:$C$1000,0),MATCH(\"38+\",'Loan - Grade & Staple'!$A$3:$K$3,0)),IF(K399<=31,INDEX('Loan - Grade & Staple'!$A$1:$K$1000,MATCH($B399&$C399,'Loan - Grade & Staple'!$B$1:$B$1000&'Loan - Grade & Staple'!$C$1:$C$1000,0),MATCH(\"26-31\",'Loan - Grade & Staple'!$A$3:$K$3,0)),IF(ISNA(INDEX('Loan - Grade & Staple'!$A$1:$K$1000,MATCH($B399&C399,'Loan - Grade & Staple'!$B$1:$B$1000&'Loan - Grade & Staple'!$C$1:$C$1000,0),MATCH($K399,'Loan - Grade & Staple'!$A$3:$K$3,0))),-4000,INDEX('Loan - Grade & Staple'!$A$1:$K$1000,MATCH($B399&C399,'Loan - Grade & Staple'!$B$1:$B$1000&'Loan - Grade & Staple'!$C$1:$C$1000,0),MATCH($K399,'Loan - Grade & Staple'!$A$3:$K$3,0))))))","v":""},{"$f":"IF(LEN(E399)=0,\"\",INDEX('Loan - Strength'!$C$1:$C$18,MATCH(E399,'Loan - Strength'!$A$1:$A$18,1)))","v":""},{"$f":"IF(LEN(F399)=0,\"\",INDEX('Loan - Micronaire'!$C$1:$C$20,MATCH($F399,'Loan - Micronaire'!$A$1:$A$20,1)))","v":""},{"$f":"IF(LEN(G399)=0,\"\",INDEX('Loan - Uniformity'!$C$1:$C$20,MATCH($G399,'Loan - Uniformity'!$A$1:$A$20,1)))","v":""},"","",{"$f":"IF(OR(LEN(B399)=0,LEN(C399)=0,LEN(D399)=0,LEN(E399)=0,LEN(F399)=0,LEN(G399)=0),\"\",IF('Base Values'!$B$8+(SUM($L399:$P399)/100)<0,0,'Base Values'!$B$8+(SUM(L399:P399)/100)))","v":""},null,{"$f":"IF(AND($T$13=TRUE,H399=1),'Loan - Extraneous'!B$3,IF(AND($T$13=TRUE,H399=2),'Loan - Extraneous'!C$3,0))","v":0},{"$f":"IF(I399=1,'Loan - Extraneous'!$B$4,IF(I399=2,'Loan - Extraneous'!$C$4,0))","v":0},{"$f":"IF(J399=1,'Loan - Extraneous'!$B$5,IF(J399=2,'Loan - Extraneous'!$C$5,0))","v":0}]
[null,null,null,null,null,null,null,null,null,null,"",{"$f":"IF(OR(LEN(B400)=0,LEN(C400)=0,LEN(D400)=0),\"\",IF(K400>=38,INDEX('Loan - Grade & Staple'!$A$1:$K$1000,MATCH($B400&$C400,'Loan - Grade & Staple'!$B$1:$B$1000&'Loan - Grade & Staple'!$C$1:$C$1000,0),MATCH(\"38+\",'Loan - Grade & Staple'!$A$3:$K$3,0)),IF(K400<=31,INDEX('Loan - Grade & Staple'!$A$1:$K$1000,MATCH($B400&$C400,'Loan - Grade & Staple'!$B$1:$B$1000&'Loan - Grade & Staple'!$C$1:$C$1000,0),MATCH(\"26-31\",'Loan - Grade & Staple'!$A$3:$K$3,0)),IF(ISNA(INDEX('Loan - Grade & Staple'!$A$1:$K$1000,MATCH($B400&C400,'Loan - Grade & Staple'!$B$1:$B$1000&'Loan - Grade & Staple'!$C$1:$C$1000,0),MATCH($K400,'Loan - Grade & Staple'!$A$3:$K$3,0))),-4000,INDEX('Loan - Grade & Staple'!$A$1:$K$1000,MATCH($B400&C400,'Loan - Grade & Staple'!$B$1:$B$1000&'Loan - Grade & Staple'!$C$1:$C$1000,0),MATCH($K400,'Loan - Grade & Staple'!$A$3:$K$3,0))))))","v":""},{"$f":"IF(LEN(E400)=0,\"\",INDEX('Loan - Strength'!$C$1:$C$18,MATCH(E400,'Loan - Strength'!$A$1:$A$18,1)))","v":""},{"$f":"IF(LEN(F400)=0,\"\",INDEX('Loan - Micronaire'!$C$1:$C$20,MATCH($F400,'Loan - Micronaire'!$A$1:$A$20,1)))","v":""},{"$f":"IF(LEN(G400)=0,\"\",INDEX('Loan - Uniformity'!$C$1:$C$20,MATCH($G400,'Loan - Uniformity'!$A$1:$A$20,1)))","v":""},"","",{"$f":"IF(OR(LEN(B400)=0,LEN(C400)=0,LEN(D400)=0,LEN(E400)=0,LEN(F400)=0,LEN(G400)=0),\"\",IF('Base Values'!$B$8+(SUM($L400:$P400)/100)<0,0,'Base Values'!$B$8+(SUM(L400:P400)/100)))","v":""},null,{"$f":"IF(AND($T$13=TRUE,H400=1),'Loan - Extraneous'!B$3,IF(AND($T$13=TRUE,H400=2),'Loan - Extraneous'!C$3,0))","v":0},{"$f":"IF(I400=1,'Loan - Extraneous'!$B$4,IF(I400=2,'Loan - Extraneous'!$C$4,0))","v":0},{"$f":"IF(J400=1,'Loan - Extraneous'!$B$5,IF(J400=2,'Loan - Extraneous'!$C$5,0))","v":0}]
[null,null,null,null,null,null,null,null,null,null,"",{"$f":"IF(OR(LEN(B401)=0,LEN(C401)=0,LEN(D401)=0),\"\",IF(K401>=38,INDEX('Loan - Grade & Staple'!$A$1:$K$1000,MATCH($B401&$C401,'Loan - Grade & Staple'!$B$1:$B$1000&'Loan - Grade & Staple'!$C$1:$C$1000,0),MATCH(\"38+\",'Loan - Grade & Staple'!$A$3:$K$3,0)),IF(K401<=31,INDEX('Loan - Grade & Staple'!$A$1:$K$1000,MATCH($B401&$C401,'Loan - Grade & Staple'!$B$1:$B$1000&'Loan - Grade & Staple'!$C$1:$C$1000,0),MATCH(\"26-31\",'Loan - Grade & Staple'!$A$3:$K$3,0)),IF(ISNA(INDEX('Loan - Grade & Staple'!$A$1:$K$1000,MATCH($B401&C401,'Loan - Grade & Staple'!$B$1:$B$1000&'Loan - Grade & Staple'!$C$1:$C$1000,0),MATCH($K401,'Loan - Grade & Staple'!$A$3:$K$3,0))),-4000,INDEX('Loan - Grade & Staple'!$A$1:$K$1000,MATCH($B401&C401,'Loan - Grade & Staple'!$B$1:$B$1000&'Loan - Grade & Staple'!$C$1:$C$1000,0),MATCH($K401,'Loan - Grade & Staple'!$A$3:$K$3,0))))))","v":""},{"$f":"IF(LEN(E401)=0,\"\",INDEX('Loan - Strength'!$C$1:$C$18,MATCH(E401,'Loan - Strength'!$A$1:$A$18,1)))","v":""},{"$f":"IF(LEN(F401)=0,\"\",INDEX('Loan - Micronaire'!$C$1:$C$20,MATCH($F401,'Loan - Micronaire'!$A$1:$A$20,1)))","v":""},{"$f":"IF(LEN(G401)=0,\"\",INDEX('Loan - Uniformity'!$C$1:$C$20,MATCH($G401,'Loan - Uniformity'!$A$1:$A$20,1)))","v":""},"","",{"$f":"IF(OR(LEN(B401)=0,LEN(C401)=0,LEN(D401)=0,LEN(E401)=0,LEN(F401)=0,LEN(G401)=0),\"\",IF('Base Values'!$B$8+(SUM($L401:$P401)/100)<0,0,'Base Values'!$B$8+(SUM(L401:P401)/100)))","v":""},null,{"$f":"IF(AND($T$13=TRUE,H401=1),'Loan - Extraneous'!B$3,IF(AND($T$13=TRUE,H401=2),'Loan - Extraneous'!C$3,0))","v":0},{"$f":"IF(I401=1,'Loan - Extraneous'!$B$4,IF(I401=2,'Loan - Extraneous'!$C$4,0))","v":0},{"$f":"IF(J401=1,'Loan - Extraneous'!$B$5,IF(J401=2,'Loan - Extraneous'!$C$5,0))","v":0}]
[null,null,null,null,null,null,null,null,null,null,"",{"$f":"IF(OR(LEN(B402)=0,LEN(C402)=0,LEN(D402)=0),\"\",IF(K402>=38,INDEX('Loan - Grade & Staple'!$A$1:$K$1000,MATCH($B402&$C402,'Loan - Grade & Staple'!$B$1:$B$1000&'Loan - Grade & Staple'!$C$1:$C$1000,0),MATCH(\"38+\",'Loan - Grade & Staple'!$A$3:$K$3,0)),IF(K402<=31,INDEX('Loan - Grade & Staple'!$A$1:$K$1000,MATCH($B402&$C402,'Loan - Grade & Staple'!$B$1:$B$1000&'Loan - Grade & Staple'!$C$1:$C$1000,0),MATCH(\"26-31\",'Loan - Grade & Staple'!$A$3:$K$3,0)),IF(ISNA(INDEX('Loan - Grade & Staple'!$A$1:$K$1000,MATCH($B402&C402,'Loan - Grade & Staple'!$B$1:$B$1000&'Loan - Grade & Staple'!$C$1:$C$1000,0),MATCH($K402,'Loan - Grade & Staple'!$A$3:$K$3,0))),-4000,INDEX('Loan - Grade & Staple'!$A$1:$K$1000,MATCH($B402&C402,'Loan - Grade & Staple'!$B$1:$B$1000&'Loan - Grade & Staple'!$C$1:$C$1000,0),MATCH($K402,'Loan - Grade & Staple'!$A$3:$K$3,0))))))","v":""},{"$f":"IF(LEN(E402)=0,\"\",INDEX('Loan - Strength'!$C$1:$C$18,MATCH(E402,'Loan - Strength'!$A$1:$A$18,1)))","v":""},{"$f":"IF(LEN(F402)=0,\"\",INDEX('Loan - Micronaire'!$C$1:$C$20,MATCH($F402,'Loan - Micronaire'!$A$1:$A$20,1)))","v":""},{"$f":"IF(LEN(G402)=0,\"\",INDEX('Loan - Uniformity'!$C$1:$C$20,MATCH($G402,'Loan - Uniformity'!$A$1:$A$20,1)))","v":""},"","",{"$f":"IF(OR(LEN(B402)=0,LEN(C402)=0,LEN(D402)=0,LEN(E402)=0,LEN(F402)=0,LEN(G402)=0),\"\",IF('Base Values'!$B$8+(SUM($L402:$P402)/100)<0,0,'Base Values'!$B$8+(SUM(L402:P402)/100)))","v":""},null,{"$f":"IF(AND($T$13=TRUE,H402=1),'Loan - Extraneous'!B$3,IF(AND($T$13=TRUE,H402=2),'Loan - Extraneous'!C$3,0))","v":0},{"$f":"IF(I402=1,'Loan - Extraneous'!$B$4,IF(I402=2,'Loan - Extraneous'!$C$4,0))","v":0},{"$f":"IF(J402=1,'Loan - Extraneous'!$B$5,IF(J402=2,'Loan - Extraneous'!$C$5,0))","v":0}]
[null,null,null,null,null,null,null,null,null,null,"",{"$f":"IF(OR(LEN(B403)=0,LEN(C403)=0,LEN(D403)=0),\"\",IF(K403>=38,INDEX('Loan - Grade & Staple'!$A$1:$K$1000,MATCH($B403&$C403,'Loan - Grade & Staple'!$B$1:$B$1000&'Loan - Grade & Staple'!$C$1:$C$1000,0),MATCH(\"38+\",'Loan - Grade & Staple'!$A$3:$K$3,0)),IF(K403<=31,INDEX('Loan - Grade & Staple'!$A$1:$K$1000,MATCH($B403&$C403,'Loan - Grade & Staple'!$B$1:$B$1000&'Loan - Grade & Staple'!$C$1:$C$1000,0),MATCH(\"26-31\",'Loan - Grade & Staple'!$A$3:$K$3,0)),IF(ISNA(INDEX('Loan - Grade & Staple'!$A$1:$K$1000,MATCH($B403&C403,'Loan - Grade & Staple'!$B$1:$B$1000&'Loan - Grade & Staple'!$C$1:$C$1000,0),MATCH($K403,'Loan - Grade & Staple'!$A$3:$K$3,0))),-4000,INDEX('Loan - Grade & Staple'!$A$1:$K$1000,MATCH($B403&C403,'Loan - Grade & Staple'!$B$1:$B$1000&'Loan - Grade & Staple'!$C$1:$C$1000,0),MATCH($K403,'Loan - Grade & Staple'!$A$3:$K$3,0))))))","v":""},{"$f":"IF(LEN(E403)=0,\"\",INDEX('Loan - Strength'!$C$1:$C$18,MATCH(E403,'Loan - Strength'!$A$1:$A$18,1)))","v":""},{"$f":"IF(LEN(F403)=0,\"\",INDEX('Loan - Micronaire'!$C$1:$C$20,MATCH($F403,'Loan - Micronaire'!$A$1:$A$20,1)))","v":""},{"$f":"IF(LEN(G403)=0,\"\",INDEX('Loan - Uniformity'!$C$1:$C$20,MATCH($G403,'Loan - Uniformity'!$A$1:$A$20,1)))","v":""},"","",{"$f":"IF(OR(LEN(B403)=0,LEN(C403)=0,LEN(D403)=0,LEN(E403)=0,LEN(F403)=0,LEN(G403)=0),\"\",IF('Base Values'!$B$8+(SUM($L403:$P403)/100)<0,0,'Base Values'!$B$8+(SUM(L403:P403)/100)))","v":""},null,{"$f":"IF(AND($T$13=TRUE,H403=1),'Loan - Extraneous'!B$3,IF(AND($T$13=TRUE,H403=2),'Loan - Extraneous'!C$3,0))","v":0},{"$f":"IF(I403=1,'Loan - Extraneous'!$B$4,IF(I403=2,'Loan - Extraneous'!$C$4,0))","v":0},{"$f":"IF(J403=1,'Loan - Extraneous'!$B$5,IF(J403=2,'Loan - Extraneous'!$C$5,0))","v":0}]
[null,null,null,null,null,null,null,null,null,null,"",{"$f":"IF(OR(LEN(B404)=0,LEN(C404)=0,LEN(D404)=0),\"\",IF(K404>=38,INDEX('Loan - Grade & Staple'!$A$1:$K$1000,MATCH($B404&$C404,'Loan - Grade & Staple'!$B$1:$B$1000&'Loan - Grade & Staple'!$C$1:$C$1000,0),MATCH(\"38+\",'Loan - Grade & Staple'!$A$3:$K$3,0)),IF(K404<=31,INDEX('Loan - Grade & Staple'!$A$1:$K$1000,MATCH($B404&$C404,'Loan - Grade & Staple'!$B$1:$B$1000&'Loan - Grade & Staple'!$C$1:$C$1000,0),MATCH(\"26-31\",'Loan - Grade & Staple'!$A$3:$K$3,0)),IF(ISNA(INDEX('Loan - Grade & Staple'!$A$1:$K$1000,MATCH($B404&C404,'Loan - Grade & Staple'!$B$1:$B$1000&'Loan - Grade & Staple'!$C$1:$C$1000,0),MATCH($K404,'Loan - Grade & Staple'!$A$3:$K$3,0))),-4000,INDEX('Loan - Grade & Staple'!$A$1:$K$1000,MATCH($B404&C404,'Loan - Grade & Staple'!$B$1:$B$1000&'Loan - Grade & Staple'!$C$1:$C$1000,0),MATCH($K404,'Loan - Grade & Staple'!$A$3:$K$3,0))))))","v":""},{"$f":"IF(LEN(E404)=0,\"\",INDEX('Loan - Strength'!$C$1:$C$18,MATCH(E404,'Loan - Strength'!$A$1:$A$18,1)))","v":""},{"$f":"IF(LEN(F404)=0,\"\",INDEX('Loan - Micronaire'!$C$1:$C$20,MATCH($F404,'Loan - Micronaire'!$A$1:$A$20,1)))","v":""},{"$f":"IF(LEN(G404)=0,\"\",INDEX('Loan - Uniformity'!$C$1:$C$20,MATCH($G404,'Loan - Uniformity'!$A$1:$A$20,1)))","v":""},"","",{"$f":"IF(OR(LEN(B404)=0,LEN(C404)=0,LEN(D404)=0,LEN(E404)=0,LEN(F404)=0,LEN(G404)=0),\"\",IF('Base Values'!$B$8+(SUM($L404:$P404)/100)<0,0,'Base Values'!$B$8+(SUM(L404:P404)/100)))","v":""},null,{"$f":"IF(AND($T$13=TRUE,H404=1),'Loan - Extraneous'!B$3,IF(AND($T$13=TRUE,H404=2),'Loan - Extraneous'!C$3,0))","v":0},{"$f":"IF(I404=1,'Loan - Extraneous'!$B$4,IF(I404=2,'Loan - Extraneous'!$C$4,0))","v":0},{"$f":"IF(J404=1,'Loan - Extraneous'!$B$5,IF(J404=2,'Loan - Extraneous'!$C$5,0))","v":0}]
[null,null,null,null,null,null,null,null,null,null,"",{"$f":"IF(OR(LEN(B405)=0,LEN(C405)=0,LEN(D405)=0),\"\",IF(K405>=38,INDEX('Loan - Grade & Staple'!$A$1:$K$1000,MATCH($B405&$C405,'Loan - Grade & Staple'!$B$1:$B$1000&'Loan - Grade & Staple'!$C$1:$C$1000,0),MATCH(\"38+\",'Loan - Grade & Staple'!$A$3:$K$3,0)),IF(K405<=31,INDEX('Loan - Grade & Staple'!$A$1:$K$1000,MATCH($B405&$C405,'Loan - Grade & Staple'!$B$1:$B$1000&'Loan - Grade & Staple'!$C$1:$C$1000,0),MATCH(\"26-31\",'Loan - Grade & Staple'!$A$3:$K$3,0)),IF(ISNA(INDEX('Loan - Grade & Staple'!$A$1:$K$1000,MATCH($B405&C405,'Loan - Grade & Staple'!$B$1:$B$1000&'Loan - Grade & Staple'!$C$1:$C$1000,0),MATCH($K405,'Loan - Grade & Staple'!$A$3:$K$3,0))),-4000,INDEX('Loan - Grade & Staple'!$A$1:$K$1000,MATCH($B405&C405,'Loan - Grade & Staple'!$B$1:$B$1000&'Loan - Grade & Staple'!$C$1:$C$1000,0),MATCH($K405,'Loan - Grade & Staple'!$A$3:$K$3,0))))))","v":""},{"$f":"IF(LEN(E405)=0,\"\",INDEX('Loan - Strength'!$C$1:$C$18,MATCH(E405,'Loan - Strength'!$A$1:$A$18,1)))","v":""},{"$f":"IF(LEN(F405)=0,\"\",INDEX('Loan - Micronaire'!$C$1:$C$20,MATCH($F405,'Loan - Micronaire'!$A$1:$A$20,1)))","v":""},{"$f":"IF(LEN(G405)=0,\"\",INDEX('Loan - Uniformity'!$C$1:$C$20,MATCH($G405,'Loan - Uniformity'!$A$1:$A$20,1)))","v":""},"","",{"$f":"IF(OR(LEN(B405)=0,LEN(C405)=0,LEN(D405)=0,LEN(E405)=0,LEN(F405)=0,LEN(G405)=0),\"\",IF('Base Values'!$B$8+(SUM($L405:$P405)/100)<0,0,'Base Values'!$B$8+(SUM(L405:P405)/100)))","v":""},null,{"$f":"IF(AND($T$13=TRUE,H405=1),'Loan - Extraneous'!B$3,IF(AND($T$13=TRUE,H405=2),'Loan - Extraneous'!C$3,0))","v":0},{"$f":"IF(I405=1,'Loan - Extraneous'!$B$4,IF(I405=2,'Loan - Extraneous'!$C$4,0))","v":0},{"$f":"IF(J405=1,'Loan - Extraneous'!$B$5,IF(J405=2,'Loan - Extraneous'!$C$5,0))","v":0}]
[null,null,null,null,null,null,null,null,null,null,"",{"$f":"IF(OR(LEN(B406)=0,LEN(C406)=0,LEN(D406)=0),\"\",IF(K406>=38,INDEX('Loan - Grade & Staple'!$A$1:$K$1000,MATCH($B406&$C406,'Loan - Grade & Staple'!$B$1:$B$1000&'Loan - Grade & Staple'!$C$1:$C$1000,0),MATCH(\"38+\",'Loan - Grade & Staple'!$A$3:$K$3,0)),IF(K406<=31,INDEX('Loan - Grade & Staple'!$A$1:$K$1000,MATCH($B406&$C406,'Loan - Grade & Staple'!$B$1:$B$1000&'Loan - Grade & Staple'!$C$1:$C$1000,0),MATCH(\"26-31\",'Loan - Grade & Staple'!$A$3:$K$3,0)),IF(ISNA(INDEX('Loan - Grade & Staple'!$A$1:$K$1000,MATCH($B406&C406,'Loan - Grade & Staple'!$B$1:$B$1000&'Loan - Grade & Staple'!$C$1:$C$1000,0),MATCH($K406,'Loan - Grade & Staple'!$A$3:$K$3,0))),-4000,INDEX('Loan - Grade & Staple'!$A$1:$K$1000,MATCH($B406&C406,'Loan - Grade & Staple'!$B$1:$B$1000&'Loan - Grade & Staple'!$C$1:$C$1000,0),MATCH($K406,'Loan - Grade & Staple'!$A$3:$K$3,0))))))","v":""},{"$f":"IF(LEN(E406)=0,\"\",INDEX('Loan - Strength'!$C$1:$C$18,MATCH(E406,'Loan - Strength'!$A$1:$A$18,1)))","v":""},{"$f":"IF(LEN(F406)=0,\"\",INDEX('Loan - Micronaire'!$C$1:$C$20,MATCH($F406,'Loan - Micronaire'!$A$1:$A$20,1)))","v":""},{"$f":"IF(LEN(G406)=0,\"\",INDEX('Loan - Uniformity'!$C$1:$C$20,MATCH($G406,'Loan - Uniformity'!$A$1:$A$20,1)))","v":""},"","",{"$f":"IF(OR(LEN(B406)=0,LEN(C406)=0,LEN(D406)=0,LEN(E406)=0,LEN(F406)=0,LEN(G406)=0),\"\",IF('Base Values'!$B$8+(SUM($L406:$P406)/100)<0,0,'Base Values'!$B$8+(SUM(L406:P406)/100)))","v":""},null,{"$f":"IF(AND($T$13=TRUE,H406=1),'Loan - Extraneous'!B$3,IF(AND($T$13=TRUE,H406=2),'Loan - Extraneous'!C$3,0))","v":0},{"$f":"IF(I406=1,'Loan - Extraneous'!$B$4,IF(I406=2,'Loan - Extraneous'!$C$4,0))","v":0},{"$f":"IF(J406=1,'Loan - Extraneous'!$B$5,IF(J406=2,'Loan - Extraneous'!$C$5,0))","v":0}]
[null,null,null,null,null,null,null,null,null,null,"",{"$f":"IF(OR(LEN(B407)=0,LEN(C407)=0,LEN(D407)=0),\"\",IF(K407>=38,INDEX('Loan - Grade & Staple'!$A$1:$K$1000,MATCH($B407&$C407,'Loan - Grade & Staple'!$B$1:$B$1000&'Loan - Grade & Staple'!$C$1:$C$1000,0),MATCH(\"38+\",'Loan - Grade & Staple'!$A$3:$K$3,0)),IF(K407<=31,INDEX('Loan - Grade & Staple'!$A$1:$K$1000,MATCH($B407&$C407,'Loan - Grade & Staple'!$B$1:$B$1000&'Loan - Grade & Staple'!$C$1:$C$1000,0),MATCH(\"26-31\",'Loan - Grade & Staple'!$A$3:$K$3,0)),IF(ISNA(INDEX('Loan - Grade & Staple'!$A$1:$K$1000,MATCH($B407&C407,'Loan - Grade & Staple'!$B$1:$B$1000&'Loan - Grade & Staple'!$C$1:$C$1000,0),MATCH($K407,'Loan - Grade & Staple'!$A$3:$K$3,0))),-4000,INDEX('Loan - Grade & Staple'!$A$1:$K$1000,MATCH($B407&C407,'Loan - Grade & Staple'!$B$1:$B$1000&'Loan - Grade & Staple'!$C$1:$C$1000,0),MATCH($K407,'Loan - Grade & Staple'!$A$3:$K$3,0))))))","v":""},{"$f":"IF(LEN(E407)=0,\"\",INDEX('Loan - Strength'!$C$1:$C$18,MATCH(E407,'Loan - Strength'!$A$1:$A$18,1)))","v":""},{"$f":"IF(LEN(F407)=0,\"\",INDEX('Loan - Micronaire'!$C$1:$C$20,MATCH($F407,'Loan - Micronaire'!$A$1:$A$20,1)))","v":""},{"$f":"IF(LEN(G407)=0,\"\",INDEX('Loan - Uniformity'!$C$1:$C$20,MATCH($G407,'Loan - Uniformity'!$A$1:$A$20,1)))","v":""},"","",{"$f":"IF(OR(LEN(B407)=0,LEN(C407)=0,LEN(D407)=0,LEN(E407)=0,LEN(F407)=0,LEN(G407)=0),\"\",IF('Base Values'!$B$8+(SUM($L407:$P407)/100)<0,0,'Base Values'!$B$8+(SUM(L407:P407)/100)))","v":""},null,{"$f":"IF(AND($T$13=TRUE,H407=1),'Loan - Extraneous'!B$3,IF(AND($T$13=TRUE,H407=2),'Loan - Extraneous'!C$3,0))","v":0},{"$f":"IF(I407=1,'Loan - Extraneous'!$B$4,IF(I407=2,'Loan - Extraneous'!$C$4,0))","v":0},{"$f":"IF(J407=1,'Loan - Extraneous'!$B$5,IF(J407=2,'Loan - Extraneous'!$C$5,0))","v":0}]
[null,null,null,null,null,null,null,null,null,null,"",{"$f":"IF(OR(LEN(B408)=0,LEN(C408)=0,LEN(D408)=0),\"\",IF(K408>=38,INDEX('Loan - Grade & Staple'!$A$1:$K$1000,MATCH($B408&$C408,'Loan - Grade & Staple'!$B$1:$B$1000&'Loan - Grade & Staple'!$C$1:$C$1000,0),MATCH(\"38+\",'Loan - Grade & Staple'!$A$3:$K$3,0)),IF(K408<=31,INDEX('Loan - Grade & Staple'!$A$1:$K$1000,MATCH($B408&$C408,'Loan - Grade & Staple'!$B$1:$B$1000&'Loan - Grade & Staple'!$C$1:$C$1000,0),MATCH(\"26-31\",'Loan - Grade & Staple'!$A$3:$K$3,0)),IF(ISNA(INDEX('Loan - Grade & Staple'!$A$1:$K$1000,MATCH($B408&C408,'Loan - Grade & Staple'!$B$1:$B$1000&'Loan - Grade & Staple'!$C$1:$C$1000,0),MATCH($K408,'Loan - Grade & Staple'!$A$3:$K$3,0))),-4000,INDEX('Loan - Grade & Staple'!$A$1:$K$1000,MATCH($B408&C408,'Loan - Grade & Staple'!$B$1:$B$1000&'Loan - Grade & Staple'!$C$1:$C$1000,0),MATCH($K408,'Loan - Grade & Staple'!$A$3:$K$3,0))))))","v":""},{"$f":"IF(LEN(E408)=0,\"\",INDEX('Loan - Strength'!$C$1:$C$18,MATCH(E408,'Loan - Strength'!$A$1:$A$18,1)))","v":""},{"$f":"IF(LEN(F408)=0,\"\",INDEX('Loan - Micronaire'!$C$1:$C$20,MATCH($F408,'Loan - Micronaire'!$A$1:$A$20,1)))","v":""},{"$f":"IF(LEN(G408)=0,\"\",INDEX('Loan - Uniformity'!$C$1:$C$20,MATCH($G408,'Loan - Uniformity'!$A$1:$A$20,1)))","v":""},"","",{"$f":"IF(OR(LEN(B408)=0,LEN(C408)=0,LEN(D408)=0,LEN(E408)=0,LEN(F408)=0,LEN(G408)=0),\"\",IF('Base Values'!$B$8+(SUM($L408:$P408)/100)<0,0,'Base Values'!$B$8+(SUM(L408:P408)/100)))","v":""},null,{"$f":"IF(AND($T$13=TRUE,H408=1),'Loan - Extraneous'!B$3,IF(AND($T$13=TRUE,H408=2),'Loan - Extraneous'!C$3,0))","v":0},{"$f":"IF(I408=1,'Loan - Extraneous'!$B$4,IF(I408=2,'Loan - Extraneous'!$C$4,0))","v":0},{"$f":"IF(J408=1,'Loan - Extraneous'!$B$5,IF(J408=2,'Loan - Extraneous'!$C$5,0))","v":0}]
[null,null,null,null,null,null,null,null,null,null,"",{"$f":"IF(OR(LEN(B409)=0,LEN(C409)=0,LEN(D409)=0),\"\",IF(K409>=38,INDEX('Loan - Grade & Staple'!$A$1:$K$1000,MATCH($B409&$C409,'Loan - Grade & Staple'!$B$1:$B$1000&'Loan - Grade & Staple'!$C$1:$C$1000,0),MATCH(\"38+\",'Loan - Grade & Staple'!$A$3:$K$3,0)),IF(K409<=31,INDEX('Loan - Grade & Staple'!$A$1:$K$1000,MATCH($B409&$C409,'Loan - Grade & Staple'!$B$1:$B$1000&'Loan - Grade & Staple'!$C$1:$C$1000,0),MATCH(\"26-31\",'Loan - Grade & Staple'!$A$3:$K$3,0)),IF(ISNA(INDEX('Loan - Grade & Staple'!$A$1:$K$1000,MATCH($B409&C409,'Loan - Grade & Staple'!$B$1:$B$1000&'Loan - Grade & Staple'!$C$1:$C$1000,0),MATCH($K409,'Loan - Grade & Staple'!$A$3:$K$3,0))),-4000,INDEX('Loan - Grade & Staple'!$A$1:$K$1000,MATCH($B409&C409,'Loan - Grade & Staple'!$B$1:$B$1000&'Loan - Grade & Staple'!$C$1:$C$1000,0),MATCH($K409,'Loan - Grade & Staple'!$A$3:$K$3,0))))))","v":""},{"$f":"IF(LEN(E409)=0,\"\",INDEX('Loan - Strength'!$C$1:$C$18,MATCH(E409,'Loan - Strength'!$A$1:$A$18,1)))","v":""},{"$f":"IF(LEN(F409)=0,\"\",INDEX('Loan - Micronaire'!$C$1:$C$20,MATCH($F409,'Loan - Micronaire'!$A$1:$A$20,1)))","v":""},{"$f":"IF(LEN(G409)=0,\"\",INDEX('Loan - Uniformity'!$C$1:$C$20,MATCH($G409,'Loan - Uniformity'!$A$1:$A$20,1)))","v":""},"","",{"$f":"IF(OR(LEN(B409)=0,LEN(C409)=0,LEN(D409)=0,LEN(E409)=0,LEN(F409)=0,LEN(G409)=0),\"\",IF('Base Values'!$B$8+(SUM($L409:$P409)/100)<0,0,'Base Values'!$B$8+(SUM(L409:P409)/100)))","v":""},null,{"$f":"IF(AND($T$13=TRUE,H409=1),'Loan - Extraneous'!B$3,IF(AND($T$13=TRUE,H409=2),'Loan - Extraneous'!C$3,0))","v":0},{"$f":"IF(I409=1,'Loan - Extraneous'!$B$4,IF(I409=2,'Loan - Extraneous'!$C$4,0))","v":0},{"$f":"IF(J409=1,'Loan - Extraneous'!$B$5,IF(J409=2,'Loan - Extraneous'!$C$5,0))","v":0}]
[null,null,null,null,null,null,null,null,null,null,{"$f":"IF(LEN(D410)=0,\"\",ROUND(D410*32,0))","v":""},{"$f":"IF(OR(LEN(B410)=0,LEN(C410)=0,LEN(D410)=0),\"\",IF(K410>=38,INDEX('Loan - Grade & Staple'!$A$1:$K$1000,MATCH($B410&$C410,'Loan - Grade & Staple'!$B$1:$B$1000&'Loan - Grade & Staple'!$C$1:$C$1000,0),MATCH(\"38+\",'Loan - Grade & Staple'!$A$3:$K$3,0)),IF(K410<=31,INDEX('Loan - Grade & Staple'!$A$1:$K$1000,MATCH($B410&$C410,'Loan - Grade & Staple'!$B$1:$B$1000&'Loan - Grade & Staple'!$C$1:$C$1000,0),MATCH(\"26-31\",'Loan - Grade & Staple'!$A$3:$K$3,0)),IF(ISNA(INDEX('Loan - Grade & Staple'!$A$1:$K$1000,MATCH($B410&C410,'Loan - Grade & Staple'!$B$1:$B$1000&'Loan - Grade & Staple'!$C$1:$C$1000,0),MATCH($K410,'Loan - Grade & Staple'!$A$3:$K$3,0))),-4000,INDEX('Loan - Grade & Staple'!$A$1:$K$1000,MATCH($B410&C410,'Loan - Grade & Staple'!$B$1:$B$1000&'Loan - Grade & Staple'!$C$1:$C$1000,0),MATCH($K410,'Loan - Grade & Staple'!$A$3:$K$3,0))))))","v":""},{"$f":"IF(LEN(E410)=0,\"\",INDEX('Loan - Strength'!$C$1:$C$18,MATCH(E410,'Loan - Strength'!$A$1:$A$18,1)))","v":""},{"$f":"IF(LEN(F410)=0,\"\",INDEX('Loan - Micronaire'!$C$1:$C$20,MATCH($F410,'Loan - Micronaire'!$A$1:$A$20,1)))","v":""},{"$f":"IF(LEN(G410)=0,\"\",INDEX('Loan - Uniformity'!$C$1:$C$20,MATCH($G410,'Loan - Uniformity'!$A$1:$A$20,1)))","v":""},{"$f":"IF(LEN(A410)=0,\"\",SUM(T410:V410))","v":""},{"$f":"IF(OR(LEN(B410)=0,LEN(C410)=0,LEN(D410)=0,LEN(E410)=0,LEN(F410)=0,LEN(G410)=0),\"\",SUM(L410:P410))","v":""},{"$f":"IF(OR(LEN(B410)=0,LEN(C410)=0,LEN(D410)=0,LEN(E410)=0,LEN(F410)=0,LEN(G410)=0),\"\",IF('Base Values'!$B$8+(SUM($L410:$P410)/100)<0,0,'Base Values'!$B$8+(SUM(L410:P410)/100)))","v":""},null,{"$f":"IF(AND($T$13=TRUE,H410=1),'Loan - Extraneous'!B$3,IF(AND($T$13=TRUE,H410=2),'Loan - Extraneous'!C$3,0))","v":0},{"$f":"IF(I410=1,'Loan - Extraneous'!$B$4,IF(I410=2,'Loan - Extraneous'!$C$4,0))","v":0},{"$f":"IF(J410=1,'Loan - Extraneous'!$B$5,IF(J410=2,'Loan - Extraneous'!$C$5,0))","v":0}]
[null,null,null,null,null,null,null,null,null,null,"",{"$f":"IF(OR(LEN(B411)=0,LEN(C411)=0,LEN(D411)=0),\"\",IF(K411>=38,INDEX('Loan - Grade & Staple'!$A$1:$K$1000,MATCH($B411&$C411,'Loan - Grade & Staple'!$B$1:$B$1000&'Loan - Grade & Staple'!$C$1:$C$1000,0),MATCH(\"38+\",'Loan - Grade & Staple'!$A$3:$K$3,0)),IF(K411<=31,INDEX('Loan - Grade & Staple'!$A$1:$K$1000,MATCH($B411&$C411,'Loan - Grade & Staple'!$B$1:$B$1000&'Loan - Grade & Staple'!$C$1:$C$1000,0),MATCH(\"26-31\",'Loan - Grade & Staple'!$A$3:$K$3,0)),IF(ISNA(INDEX('Loan - Grade & Staple'!$A$1:$K$1000,MATCH($B411&C411,'Loan - Grade & Staple'!$B$1:$B$1000&'Loan - Grade & Staple'!$C$1:$C$1000,0),MATCH($K411,'Loan - Grade & Staple'!$A$3:$K$3,0))),-4000,INDEX('Loan - Grade & Staple'!$A$1:$K$1000,MATCH($B411&C411,'Loan - Grade & Staple'!$B$1:$B$1000&'Loan - Grade & Staple'!$C$1:$C$1000,0),MATCH($K411,'Loan - Grade & Staple'!$A$3:$K$3,0))))))","v":""},{"$f":"IF(LEN(E411)=0,\"\",INDEX('Loan - Strength'!$C$1:$C$18,MATCH(E411,'Loan - Strength'!$A$1:$A$18,1)))","v":""},{"$f":"IF(LEN(F411)=0,\"\",INDEX('Loan - Micronaire'!$C$1:$C$20,MATCH($F411,'Loan - Micronaire'!$A$1:$A$20,1)))","v":""},{"$f":"IF(LEN(G411)=0,\"\",INDEX('Loan - Uniformity'!$C$1:$C$20,MATCH($G411,'Loan - Uniformity'!$A$1:$A$20,1)))","v":""},"","",{"$f":"IF(OR(LEN(B411)=0,LEN(C411)=0,LEN(D411)=0,LEN(E411)=0,LEN(F411)=0,LEN(G411)=0),\"\",IF('Base Values'!$B$8+(SUM($L411:$P411)/100)<0,0,'Base Values'!$B$8+(SUM(L411:P411)/100)))","v":""},null,{"$f":"IF(AND($T$13=TRUE,H411=1),'Loan - Extraneous'!B$3,IF(AND($T$13=TRUE,H411=2),'Loan - Extraneous'!C$3,0))","v":0},{"$f":"IF(I411=1,'Loan - Extraneous'!$B$4,IF(I411=2,'Loan - Extraneous'!$C$4,0))","v":0},{"$f":"IF(J411=1,'Loan - Extraneous'!$B$5,IF(J411=2,'Loan - Extraneous'!$C$5,0))","v":0}]
[null,null,null,null,null,null,null,null,null,null,"",{"$f":"IF(OR(LEN(B412)=0,LEN(C412)=0,LEN(D412)=0),\"\",IF(K412>=38,INDEX('Loan - Grade & Staple'!$A$1:$K$1000,MATCH($B412&$C412,'Loan - Grade & Staple'!$B$1:$B$1000&'Loan - Grade & Staple'!$C$1:$C$1000,0),MATCH(\"38+\",'Loan - Grade & Staple'!$A$3:$K$3,0)),IF(K412<=31,INDEX('Loan - Grade & Staple'!$A$1:$K$1000,MATCH($B412&$C412,'Loan - Grade & Staple'!$B$1:$B$1000&'Loan - Grade & Staple'!$C$1:$C$1000,0),MATCH(\"26-31\",'Loan - Grade & Staple'!$A$3:$K$3,0)),IF(ISNA(INDEX('Loan - Grade & Staple'!$A$1:$K$1000,MATCH($B412&C412,'Loan - Grade & Staple'!$B$1:$B$1000&'Loan - Grade & Staple'!$C$1:$C$1000,0),MATCH($K412,'Loan - Grade & Staple'!$A$3:$K$3,0))),-4000,INDEX('Loan - Grade & Staple'!$A$1:$K$1000,MATCH($B412&C412,'Loan - Grade & Staple'!$B$1:$B$1000&'Loan - Grade & Staple'!$C$1:$C$1000,0),MATCH($K412,'Loan - Grade & Staple'!$A$3:$K$3,0))))))","v":""},{"$f":"IF(LEN(E412)=0,\"\",INDEX('Loan - Strength'!$C$1:$C$18,MATCH(E412,'Loan - Strength'!$A$1:$A$18,1)))","v":""},{"$f":"IF(LEN(F412)=0,\"\",INDEX('Loan - Micronaire'!$C$1:$C$20,MATCH($F412,'Loan - Micronaire'!$A$1:$A$20,1)))","v":""},{"$f":"IF(LEN(G412)=0,\"\",INDEX('Loan - Uniformity'!$C$1:$C$20,MATCH($G412,'Loan - Uniformity'!$A$1:$A$20,1)))","v":""},"","",{"$f":"IF(OR(LEN(B412)=0,LEN(C412)=0,LEN(D412)=0,LEN(E412)=0,LEN(F412)=0,LEN(G412)=0),\"\",IF('Base Values'!$B$8+(SUM($L412:$P412)/100)<0,0,'Base Values'!$B$8+(SUM(L412:P412)/100)))","v":""},null,{"$f":"IF(AND($T$13=TRUE,H412=1),'Loan - Extraneous'!B$3,IF(AND($T$13=TRUE,H412=2),'Loan - Extraneous'!C$3,0))","v":0},{"$f":"IF(I412=1,'Loan - Extraneous'!$B$4,IF(I412=2,'Loan - Extraneous'!$C$4,0))","v":0},{"$f":"IF(J412=1,'Loan - Extraneous'!$B$5,IF(J412=2,'Loan - Extraneous'!$C$5,0))","v":0}]
[null,null,null,null,null,null,null,null,null,null,"",{"$f":"IF(OR(LEN(B413)=0,LEN(C413)=0,LEN(D413)=0),\"\",IF(K413>=38,INDEX('Loan - Grade & Staple'!$A$1:$K$1000,MATCH($B413&$C413,'Loan - Grade & Staple'!$B$1:$B$1000&'Loan - Grade & Staple'!$C$1:$C$1000,0),MATCH(\"38+\",'Loan - Grade & Staple'!$A$3:$K$3,0)),IF(K413<=31,INDEX('Loan - Grade & Staple'!$A$1:$K$1000,MATCH($B413&$C413,'Loan - Grade & Staple'!$B$1:$B$1000&'Loan - Grade & Staple'!$C$1:$C$1000,0),MATCH(\"26-31\",'Loan - Grade & Staple'!$A$3:$K$3,0)),IF(ISNA(INDEX('Loan - Grade & Staple'!$A$1:$K$1000,MATCH($B413&C413,'Loan - Grade & Staple'!$B$1:$B$1000&'Loan - Grade & Staple'!$C$1:$C$1000,0),MATCH($K413,'Loan - Grade & Staple'!$A$3:$K$3,0))),-4000,INDEX('Loan - Grade & Staple'!$A$1:$K$1000,MATCH($B413&C413,'Loan - Grade & Staple'!$B$1:$B$1000&'Loan - Grade & Staple'!$C$1:$C$1000,0),MATCH($K413,'Loan - Grade & Staple'!$A$3:$K$3,0))))))","v":""},{"$f":"IF(LEN(E413)=0,\"\",INDEX('Loan - Strength'!$C$1:$C$18,MATCH(E413,'Loan - Strength'!$A$1:$A$18,1)))","v":""},{"$f":"IF(LEN(F413)=0,\"\",INDEX('Loan - Micronaire'!$C$1:$C$20,MATCH($F413,'Loan - Micronaire'!$A$1:$A$20,1)))","v":""},{"$f":"IF(LEN(G413)=0,\"\",INDEX('Loan - Uniformity'!$C$1:$C$20,MATCH($G413,'Loan - Uniformity'!$A$1:$A$20,1)))","v":""},"","",{"$f":"IF(OR(LEN(B413)=0,LEN(C413)=0,LEN(D413)=0,LEN(E413)=0,LEN(F413)=0,LEN(G413)=0),\"\",IF('Base Values'!$B$8+(SUM($L413:$P413)/100)<0,0,'Base Values'!$B$8+(SUM(L413:P413)/100)))","v":""},null,{"$f":"IF(AND($T$13=TRUE,H413=1),'Loan - Extraneous'!B$3,IF(AND($T$13=TRUE,H413=2),'Loan - Extraneous'!C$3,0))","v":0},{"$f":"IF(I413=1,'Loan - Extraneous'!$B$4,IF(I413=2,'Loan - Extraneous'!$C$4,0))","v":0},{"$f":"IF(J413=1,'Loan - Extraneous'!$B$5,IF(J413=2,'Loan - Extraneous'!$C$5,0))","v":0}]
[null,null,null,null,null,null,null,null,null,null,"",{"$f":"IF(OR(LEN(B414)=0,LEN(C414)=0,LEN(D414)=0),\"\",IF(K414>=38,INDEX('Loan - Grade & Staple'!$A$1:$K$1000,MATCH($B414&$C414,'Loan - Grade & Staple'!$B$1:$B$1000&'Loan - Grade & Staple'!$C$1:$C$1000,0),MATCH(\"38+\",'Loan - Grade & Staple'!$A$3:$K$3,0)),IF(K414<=31,INDEX('Loan - Grade & Staple'!$A$1:$K$1000,MATCH($B414&$C414,'Loan - Grade & Staple'!$B$1:$B$1000&'Loan - Grade & Staple'!$C$1:$C$1000,0),MATCH(\"26-31\",'Loan - Grade & Staple'!$A$3:$K$3,0)),IF(ISNA(INDEX('Loan - Grade & Staple'!$A$1:$K$1000,MATCH($B414&C414,'Loan - Grade & Staple'!$B$1:$B$1000&'Loan - Grade & Staple'!$C$1:$C$1000,0),MATCH($K414,'Loan - Grade & Staple'!$A$3:$K$3,0))),-4000,INDEX('Loan - Grade & Staple'!$A$1:$K$1000,MATCH($B414&C414,'Loan - Grade & Staple'!$B$1:$B$1000&'Loan - Grade & Staple'!$C$1:$C$1000,0),MATCH($K414,'Loan - Grade & Staple'!$A$3:$K$3,0))))))","v":""},{"$f":"IF(LEN(E414)=0,\"\",INDEX('Loan - Strength'!$C$1:$C$18,MATCH(E414,'Loan - Strength'!$A$1:$A$18,1)))","v":""},{"$f":"IF(LEN(F414)=0,\"\",INDEX('Loan - Micronaire'!$C$1:$C$20,MATCH($F414,'Loan - Micronaire'!$A$1:$A$20,1)))","v":""},{"$f":"IF(LEN(G414)=0,\"\",INDEX('Loan - Uniformity'!$C$1:$C$20,MATCH($G414,'Loan - Uniformity'!$A$1:$A$20,1)))","v":""},"","",{"$f":"IF(OR(LEN(B414)=0,LEN(C414)=0,LEN(D414)=0,LEN(E414)=0,LEN(F414)=0,LEN(G414)=0),\"\",IF('Base Values'!$B$8+(SUM($L414:$P414)/100)<0,0,'Base Values'!$B$8+(SUM(L414:P414)/100)))","v":""},null,{"$f":"IF(AND($T$13=TRUE,H414=1),'Loan - Extraneous'!B$3,IF(AND($T$13=TRUE,H414=2),'Loan - Extraneous'!C$3,0))","v":0},{"$f":"IF(I414=1,'Loan - Extraneous'!$B$4,IF(I414=2,'Loan - Extraneous'!$C$4,0))","v":0},{"$f":"IF(J414=1,'Loan - Extraneous'!$B$5,IF(J414=2,'Loan - Extraneous'!$C$5,0))","v":0}]
[null,null,null,null,null,null,null,null,null,null,"",{"$f":"IF(OR(LEN(B415)=0,LEN(C415)=0,LEN(D415)=0),\"\",IF(K415>=38,INDEX('Loan - Grade & Staple'!$A$1:$K$1000,MATCH($B415&$C415,'Loan - Grade & Staple'!$B$1:$B$1000&'Loan - Grade & Staple'!$C$1:$C$1000,0),MATCH(\"38+\",'Loan - Grade & Staple'!$A$3:$K$3,0)),IF(K415<=31,INDEX('Loan - Grade & Staple'!$A$1:$K$1000,MATCH($B415&$C415,'Loan - Grade & Staple'!$B$1:$B$1000&'Loan - Grade & Staple'!$C$1:$C$1000,0),MATCH(\"26-31\",'Loan - Grade & Staple'!$A$3:$K$3,0)),IF(ISNA(INDEX('Loan - Grade & Staple'!$A$1:$K$1000,MATCH($B415&C415,'Loan - Grade & Staple'!$B$1:$B$1000&'Loan - Grade & Staple'!$C$1:$C$1000,0),MATCH($K415,'Loan - Grade & Staple'!$A$3:$K$3,0))),-4000,INDEX('Loan - Grade & Staple'!$A$1:$K$1000,MATCH($B415&C415,'Loan - Grade & Staple'!$B$1:$B$1000&'Loan - Grade & Staple'!$C$1:$C$1000,0),MATCH($K415,'Loan - Grade & Staple'!$A$3:$K$3,0))))))","v":""},{"$f":"IF(LEN(E415)=0,\"\",INDEX('Loan - Strength'!$C$1:$C$18,MATCH(E415,'Loan - Strength'!$A$1:$A$18,1)))","v":""},{"$f":"IF(LEN(F415)=0,\"\",INDEX('Loan - Micronaire'!$C$1:$C$20,MATCH($F415,'Loan - Micronaire'!$A$1:$A$20,1)))","v":""},{"$f":"IF(LEN(G415)=0,\"\",INDEX('Loan - Uniformity'!$C$1:$C$20,MATCH($G415,'Loan - Uniformity'!$A$1:$A$20,1)))","v":""},"","",{"$f":"IF(OR(LEN(B415)=0,LEN(C415)=0,LEN(D415)=0,LEN(E415)=0,LEN(F415)=0,LEN(G415)=0),\"\",IF('Base Values'!$B$8+(SUM($L415:$P415)/100)<0,0,'Base Values'!$B$8+(SUM(L415:P415)/100)))","v":""},null,{"$f":"IF(AND($T$13=TRUE,H415=1),'Loan - Extraneous'!B$3,IF(AND($T$13=TRUE,H415=2),'Loan - Extraneous'!C$3,0))","v":0},{"$f":"IF(I415=1,'Loan - Extraneous'!$B$4,IF(I415=2,'Loan - Extraneous'!$C$4,0))","v":0},{"$f":"IF(J415=1,'Loan - Extraneous'!$B$5,IF(J415=2,'Loan - Extraneous'!$C$5,0))","v":0}]
[null,null,null,null,null,null,null,null,null,null,"",{"$f":"IF(OR(LEN(B416)=0,LEN(C416)=0,LEN(D416)=0),\"\",IF(K416>=38,INDEX('Loan - Grade & Staple'!$A$1:$K$1000,MATCH($B416&$C416,'Loan - Grade & Staple'!$B$1:$B$1000&'Loan - Grade & Staple'!$C$1:$C$1000,0),MATCH(\"38+\",'Loan - Grade & Staple'!$A$3:$K$3,0)),IF(K416<=31,INDEX('Loan - Grade & Staple'!$A$1:$K$1000,MATCH($B416&$C416,'Loan - Grade & Staple'!$B$1:$B$1000&'Loan - Grade & Staple'!$C$1:$C$1000,0),MATCH(\"26-31\",'Loan - Grade & Staple'!$A$3:$K$3,0)),IF(ISNA(INDEX('Loan - Grade & Staple'!$A$1:$K$1000,MATCH($B416&C416,'Loan - Grade & Staple'!$B$1:$B$1000&'Loan - Grade & Staple'!$C$1:$C$1000,0),MATCH($K416,'Loan - Grade & Staple'!$A$3:$K$3,0))),-4000,INDEX('Loan - Grade & Staple'!$A$1:$K$1000,MATCH($B416&C416,'Loan - Grade & Staple'!$B$1:$B$1000&'Loan - Grade & Staple'!$C$1:$C$1000,0),MATCH($K416,'Loan - Grade & Staple'!$A$3:$K$3,0))))))","v":""},{"$f":"IF(LEN(E416)=0,\"\",INDEX('Loan - Strength'!$C$1:$C$18,MATCH(E416,'Loan - Strength'!$A$1:$A$18,1)))","v":""},{"$f":"IF(LEN(F416)=0,\"\",INDEX('Loan - Micronaire'!$C$1:$C$20,MATCH($F416,'Loan - Micronaire'!$A$1:$A$20,1)))","v":""},{"$f":"IF(LEN(G416)=0,\"\",INDEX('Loan - Uniformity'!$C$1:$C$20,MATCH($G416,'Loan - Uniformity'!$A$1:$A$20,1)))","v":""},"","",{"$f":"IF(OR(LEN(B416)=0,LEN(C416)=0,LEN(D416)=0,LEN(E416)=0,LEN(F416)=0,LEN(G416)=0),\"\",IF('Base Values'!$B$8+(SUM($L416:$P416)/100)<0,0,'Base Values'!$B$8+(SUM(L416:P416)/100)))","v":""},null,{"$f":"IF(AND($T$13=TRUE,H416=1),'Loan - Extraneous'!B$3,IF(AND($T$13=TRUE,H416=2),'Loan - Extraneous'!C$3,0))","v":0},{"$f":"IF(I416=1,'Loan - Extraneous'!$B$4,IF(I416=2,'Loan - Extraneous'!$C$4,0))","v":0},{"$f":"IF(J416=1,'Loan - Extraneous'!$B$5,IF(J416=2,'Loan - Extraneous'!$C$5,0))","v":0}]
[null,null,null,null,null,null,null,null,null,null,"",{"$f":"IF(OR(LEN(B417)=0,LEN(C417)=0,LEN(D417)=0),\"\",IF(K417>=38,INDEX('Loan - Grade & Staple'!$A$1:$K$1000,MATCH($B417&$C417,'Loan - Grade & Staple'!$B$1:$B$1000&'Loan - Grade & Staple'!$C$1:$C$1000,0),MATCH(\"38+\",'Loan - Grade & Staple'!$A$3:$K$3,0)),IF(K417<=31,INDEX('Loan - Grade & Staple'!$A$1:$K$1000,MATCH($B417&$C417,'Loan - Grade & Staple'!$B$1:$B$1000&'Loan - Grade & Staple'!$C$1:$C$1000,0),MATCH(\"26-31\",'Loan - Grade & Staple'!$A$3:$K$3,0)),IF(ISNA(INDEX('Loan - Grade & Staple'!$A$1:$K$1000,MATCH($B417&C417,'Loan - Grade & Staple'!$B$1:$B$1000&'Loan - Grade & Staple'!$C$1:$C$1000,0),MATCH($K417,'Loan - Grade & Staple'!$A$3:$K$3,0))),-4000,INDEX('Loan - Grade & Staple'!$A$1:$K$1000,MATCH($B417&C417,'Loan - Grade & Staple'!$B$1:$B$1000&'Loan - Grade & Staple'!$C$1:$C$1000,0),MATCH($K417,'Loan - Grade & Staple'!$A$3:$K$3,0))))))","v":""},{"$f":"IF(LEN(E417)=0,\"\",INDEX('Loan - Strength'!$C$1:$C$18,MATCH(E417,'Loan - Strength'!$A$1:$A$18,1)))","v":""},{"$f":"IF(LEN(F417)=0,\"\",INDEX('Loan - Micronaire'!$C$1:$C$20,MATCH($F417,'Loan - Micronaire'!$A$1:$A$20,1)))","v":""},{"$f":"IF(LEN(G417)=0,\"\",INDEX('Loan - Uniformity'!$C$1:$C$20,MATCH($G417,'Loan - Uniformity'!$A$1:$A$20,1)))","v":""},"","",{"$f":"IF(OR(LEN(B417)=0,LEN(C417)=0,LEN(D417)=0,LEN(E417)=0,LEN(F417)=0,LEN(G417)=0),\"\",IF('Base Values'!$B$8+(SUM($L417:$P417)/100)<0,0,'Base Values'!$B$8+(SUM(L417:P417)/100)))","v":""},null,{"$f":"IF(AND($T$13=TRUE,H417=1),'Loan - Extraneous'!B$3,IF(AND($T$13=TRUE,H417=2),'Loan - Extraneous'!C$3,0))","v":0},{"$f":"IF(I417=1,'Loan - Extraneous'!$B$4,IF(I417=2,'Loan - Extraneous'!$C$4,0))","v":0},{"$f":"IF(J417=1,'Loan - Extraneous'!$B$5,IF(J417=2,'Loan - Extraneous'!$C$5,0))","v":0}]
[null,null,null,null,null,null,null,null,null,null,"",{"$f":"IF(OR(LEN(B418)=0,LEN(C418)=0,LEN(D418)=0),\"\",IF(K418>=38,INDEX('Loan - Grade & Staple'!$A$1:$K$1000,MATCH($B418&$C418,'Loan - Grade & Staple'!$B$1:$B$1000&'Loan - Grade & Staple'!$C$1:$C$1000,0),MATCH(\"38+\",'Loan - Grade & Staple'!$A$3:$K$3,0)),IF(K418<=31,INDEX('Loan - Grade & Staple'!$A$1:$K$1000,MATCH($B418&$C418,'Loan - Grade & Staple'!$B$1:$B$1000&'Loan - Grade & Staple'!$C$1:$C$1000,0),MATCH(\"26-31\",'Loan - Grade & Staple'!$A$3:$K$3,0)),IF(ISNA(INDEX('Loan - Grade & Staple'!$A$1:$K$1000,MATCH($B418&C418,'Loan - Grade & Staple'!$B$1:$B$1000&'Loan - Grade & Staple'!$C$1:$C$1000,0),MATCH($K418,'Loan - Grade & Staple'!$A$3:$K$3,0))),-4000,INDEX('Loan - Grade & Staple'!$A$1:$K$1000,MATCH($B418&C418,'Loan - Grade & Staple'!$B$1:$B$1000&'Loan - Grade & Staple'!$C$1:$C$1000,0),MATCH($K418,'Loan - Grade & Staple'!$A$3:$K$3,0))))))","v":""},{"$f":"IF(LEN(E418)=0,\"\",INDEX('Loan - Strength'!$C$1:$C$18,MATCH(E418,'Loan - Strength'!$A$1:$A$18,1)))","v":""},{"$f":"IF(LEN(F418)=0,\"\",INDEX('Loan - Micronaire'!$C$1:$C$20,MATCH($F418,'Loan - Micronaire'!$A$1:$A$20,1)))","v":""},{"$f":"IF(LEN(G418)=0,\"\",INDEX('Loan - Uniformity'!$C$1:$C$20,MATCH($G418,'Loan - Uniformity'!$A$1:$A$20,1)))","v":""},"","",{"$f":"IF(OR(LEN(B418)=0,LEN(C418)=0,LEN(D418)=0,LEN(E418)=0,LEN(F418)=0,LEN(G418)=0),\"\",IF('Base Values'!$B$8+(SUM($L418:$P418)/100)<0,0,'Base Values'!$B$8+(SUM(L418:P418)/100)))","v":""},null,{"$f":"IF(AND($T$13=TRUE,H418=1),'Loan - Extraneous'!B$3,IF(AND($T$13=TRUE,H418=2),'Loan - Extraneous'!C$3,0))","v":0},{"$f":"IF(I418=1,'Loan - Extraneous'!$B$4,IF(I418=2,'Loan - Extraneous'!$C$4,0))","v":0},{"$f":"IF(J418=1,'Loan - Extraneous'!$B$5,IF(J418=2,'Loan - Extraneous'!$C$5,0))","v":0}]
[null,null,null,null,null,null,null,null,null,null,"",{"$f":"IF(OR(LEN(B419)=0,LEN(C419)=0,LEN(D419)=0),\"\",IF(K419>=38,INDEX('Loan - Grade & Staple'!$A$1:$K$1000,MATCH($B419&$C419,'Loan - Grade & Staple'!$B$1:$B$1000&'Loan - Grade & Staple'!$C$1:$C$1000,0),MATCH(\"38+\",'Loan - Grade & Staple'!$A$3:$K$3,0)),IF(K419<=31,INDEX('Loan - Grade & Staple'!$A$1:$K$1000,MATCH($B419&$C419,'Loan - Grade & Staple'!$B$1:$B$1000&'Loan - Grade & Staple'!$C$1:$C$1000,0),MATCH(\"26-31\",'Loan - Grade & Staple'!$A$3:$K$3,0)),IF(ISNA(INDEX('Loan - Grade & Staple'!$A$1:$K$1000,MATCH($B419&C419,'Loan - Grade & Staple'!$B$1:$B$1000&'Loan - Grade & Staple'!$C$1:$C$1000,0),MATCH($K419,'Loan - Grade & Staple'!$A$3:$K$3,0))),-4000,INDEX('Loan - Grade & Staple'!$A$1:$K$1000,MATCH($B419&C419,'Loan - Grade & Staple'!$B$1:$B$1000&'Loan - Grade & Staple'!$C$1:$C$1000,0),MATCH($K419,'Loan - Grade & Staple'!$A$3:$K$3,0))))))","v":""},{"$f":"IF(LEN(E419)=0,\"\",INDEX('Loan - Strength'!$C$1:$C$18,MATCH(E419,'Loan - Strength'!$A$1:$A$18,1)))","v":""},{"$f":"IF(LEN(F419)=0,\"\",INDEX('Loan - Micronaire'!$C$1:$C$20,MATCH($F419,'Loan - Micronaire'!$A$1:$A$20,1)))","v":""},{"$f":"IF(LEN(G419)=0,\"\",INDEX('Loan - Uniformity'!$C$1:$C$20,MATCH($G419,'Loan - Uniformity'!$A$1:$A$20,1)))","v":""},"","",{"$f":"IF(OR(LEN(B419)=0,LEN(C419)=0,LEN(D419)=0,LEN(E419)=0,LEN(F419)=0,LEN(G419)=0),\"\",IF('Base Values'!$B$8+(SUM($L419:$P419)/100)<0,0,'Base Values'!$B$8+(SUM(L419:P419)/100)))","v":""},null,{"$f":"IF(AND($T$13=TRUE,H419=1),'Loan - Extraneous'!B$3,IF(AND($T$13=TRUE,H419=2),'Loan - Extraneous'!C$3,0))","v":0},{"$f":"IF(I419=1,'Loan - Extraneous'!$B$4,IF(I419=2,'Loan - Extraneous'!$C$4,0))","v":0},{"$f":"IF(J419=1,'Loan - Extraneous'!$B$5,IF(J419=2,'Loan - Extraneous'!$C$5,0))","v":0}]
[null,null,null,null,null,null,null,null,null,null,"",{"$f":"IF(OR(LEN(B420)=0,LEN(C420)=0,LEN(D420)=0),\"\",IF(K420>=38,INDEX('Loan - Grade & Staple'!$A$1:$K$1000,MATCH($B420&$C420,'Loan - Grade & Staple'!$B$1:$B$1000&'Loan - Grade & Staple'!$C$1:$C$1000,0),MATCH(\"38+\",'Loan - Grade & Staple'!$A$3:$K$3,0)),IF(K420<=31,INDEX('Loan - Grade & Staple'!$A$1:$K$1000,MATCH($B420&$C420,'Loan - Grade & Staple'!$B$1:$B$1000&'Loan - Grade & Staple'!$C$1:$C$1000,0),MATCH(\"26-31\",'Loan - Grade & Staple'!$A$3:$K$3,0)),IF(ISNA(INDEX('Loan - Grade & Staple'!$A$1:$K$1000,MATCH($B420&C420,'Loan - Grade & Staple'!$B$1:$B$1000&'Loan - Grade & Staple'!$C$1:$C$1000,0),MATCH($K420,'Loan - Grade & Staple'!$A$3:$K$3,0))),-4000,INDEX('Loan - Grade & Staple'!$A$1:$K$1000,MATCH($B420&C420,'Loan - Grade & Staple'!$B$1:$B$1000&'Loan - Grade & Staple'!$C$1:$C$1000,0),MATCH($K420,'Loan - Grade & Staple'!$A$3:$K$3,0))))))","v":""},{"$f":"IF(LEN(E420)=0,\"\",INDEX('Loan - Strength'!$C$1:$C$18,MATCH(E420,'Loan - Strength'!$A$1:$A$18,1)))","v":""},{"$f":"IF(LEN(F420)=0,\"\",INDEX('Loan - Micronaire'!$C$1:$C$20,MATCH($F420,'Loan - Micronaire'!$A$1:$A$20,1)))","v":""},{"$f":"IF(LEN(G420)=0,\"\",INDEX('Loan - Uniformity'!$C$1:$C$20,MATCH($G420,'Loan - Uniformity'!$A$1:$A$20,1)))","v":""},"","",{"$f":"IF(OR(LEN(B420)=0,LEN(C420)=0,LEN(D420)=0,LEN(E420)=0,LEN(F420)=0,LEN(G420)=0),\"\",IF('Base Values'!$B$8+(SUM($L420:$P420)/100)<0,0,'Base Values'!$B$8+(SUM(L420:P420)/100)))","v":""},null,{"$f":"IF(AND($T$13=TRUE,H420=1),'Loan - Extraneous'!B$3,IF(AND($T$13=TRUE,H420=2),'Loan - Extraneous'!C$3,0))","v":0},{"$f":"IF(I420=1,'Loan - Extraneous'!$B$4,IF(I420=2,'Loan - Extraneous'!$C$4,0))","v":0},{"$f":"IF(J420=1,'Loan - Extraneous'!$B$5,IF(J420=2,'Loan - Extraneous'!$C$5,0))","v":0}]
[null,null,null,null,null,null,null,null,null,null,"",{"$f":"IF(OR(LEN(B421)=0,LEN(C421)=0,LEN(D421)=0),\"\",IF(K421>=38,INDEX('Loan - Grade & Staple'!$A$1:$K$1000,MATCH($B421&$C421,'Loan - Grade & Staple'!$B$1:$B$1000&'Loan - Grade & Staple'!$C$1:$C$1000,0),MATCH(\"38+\",'Loan - Grade & Staple'!$A$3:$K$3,0)),IF(K421<=31,INDEX('Loan - Grade & Staple'!$A$1:$K$1000,MATCH($B421&$C421,'Loan - Grade & Staple'!$B$1:$B$1000&'Loan - Grade & Staple'!$C$1:$C$1000,0),MATCH(\"26-31\",'Loan - Grade & Staple'!$A$3:$K$3,0)),IF(ISNA(INDEX('Loan - Grade & Staple'!$A$1:$K$1000,MATCH($B421&C421,'Loan - Grade & Staple'!$B$1:$B$1000&'Loan - Grade & Staple'!$C$1:$C$1000,0),MATCH($K421,'Loan - Grade & Staple'!$A$3:$K$3,0))),-4000,INDEX('Loan - Grade & Staple'!$A$1:$K$1000,MATCH($B421&C421,'Loan - Grade & Staple'!$B$1:$B$1000&'Loan - Grade & Staple'!$C$1:$C$1000,0),MATCH($K421,'Loan - Grade & Staple'!$A$3:$K$3,0))))))","v":""},{"$f":"IF(LEN(E421)=0,\"\",INDEX('Loan - Strength'!$C$1:$C$18,MATCH(E421,'Loan - Strength'!$A$1:$A$18,1)))","v":""},{"$f":"IF(LEN(F421)=0,\"\",INDEX('Loan - Micronaire'!$C$1:$C$20,MATCH($F421,'Loan - Micronaire'!$A$1:$A$20,1)))","v":""},{"$f":"IF(LEN(G421)=0,\"\",INDEX('Loan - Uniformity'!$C$1:$C$20,MATCH($G421,'Loan - Uniformity'!$A$1:$A$20,1)))","v":""},"","",{"$f":"IF(OR(LEN(B421)=0,LEN(C421)=0,LEN(D421)=0,LEN(E421)=0,LEN(F421)=0,LEN(G421)=0),\"\",IF('Base Values'!$B$8+(SUM($L421:$P421)/100)<0,0,'Base Values'!$B$8+(SUM(L421:P421)/100)))","v":""},null,{"$f":"IF(AND($T$13=TRUE,H421=1),'Loan - Extraneous'!B$3,IF(AND($T$13=TRUE,H421=2),'Loan - Extraneous'!C$3,0))","v":0},{"$f":"IF(I421=1,'Loan - Extraneous'!$B$4,IF(I421=2,'Loan - Extraneous'!$C$4,0))","v":0},{"$f":"IF(J421=1,'Loan - Extraneous'!$B$5,IF(J421=2,'Loan - Extraneous'!$C$5,0))","v":0}]
[null,null,null,null,null,null,null,null,null,null,"",{"$f":"IF(OR(LEN(B422)=0,LEN(C422)=0,LEN(D422)=0),\"\",IF(K422>=38,INDEX('Loan - Grade & Staple'!$A$1:$K$1000,MATCH($B422&$C422,'Loan - Grade & Staple'!$B$1:$B$1000&'Loan - Grade & Staple'!$C$1:$C$1000,0),MATCH(\"38+\",'Loan - Grade & Staple'!$A$3:$K$3,0)),IF(K422<=31,INDEX('Loan - Grade & Staple'!$A$1:$K$1000,MATCH($B422&$C422,'Loan - Grade & Staple'!$B$1:$B$1000&'Loan - Grade & Staple'!$C$1:$C$1000,0),MATCH(\"26-31\",'Loan - Grade & Staple'!$A$3:$K$3,0)),IF(ISNA(INDEX('Loan - Grade & Staple'!$A$1:$K$1000,MATCH($B422&C422,'Loan - Grade & Staple'!$B$1:$B$1000&'Loan - Grade & Staple'!$C$1:$C$1000,0),MATCH($K422,'Loan - Grade & Staple'!$A$3:$K$3,0))),-4000,INDEX('Loan - Grade & Staple'!$A$1:$K$1000,MATCH($B422&C422,'Loan - Grade & Staple'!$B$1:$B$1000&'Loan - Grade & Staple'!$C$1:$C$1000,0),MATCH($K422,'Loan - Grade & Staple'!$A$3:$K$3,0))))))","v":""},{"$f":"IF(LEN(E422)=0,\"\",INDEX('Loan - Strength'!$C$1:$C$18,MATCH(E422,'Loan - Strength'!$A$1:$A$18,1)))","v":""},{"$f":"IF(LEN(F422)=0,\"\",INDEX('Loan - Micronaire'!$C$1:$C$20,MATCH($F422,'Loan - Micronaire'!$A$1:$A$20,1)))","v":""},{"$f":"IF(LEN(G422)=0,\"\",INDEX('Loan - Uniformity'!$C$1:$C$20,MATCH($G422,'Loan - Uniformity'!$A$1:$A$20,1)))","v":""},"","",{"$f":"IF(OR(LEN(B422)=0,LEN(C422)=0,LEN(D422)=0,LEN(E422)=0,LEN(F422)=0,LEN(G422)=0),\"\",IF('Base Values'!$B$8+(SUM($L422:$P422)/100)<0,0,'Base Values'!$B$8+(SUM(L422:P422)/100)))","v":""},null,{"$f":"IF(AND($T$13=TRUE,H422=1),'Loan - Extraneous'!B$3,IF(AND($T$13=TRUE,H422=2),'Loan - Extraneous'!C$3,0))","v":0},{"$f":"IF(I422=1,'Loan - Extraneous'!$B$4,IF(I422=2,'Loan - Extraneous'!$C$4,0))","v":0},{"$f":"IF(J422=1,'Loan - Extraneous'!$B$5,IF(J422=2,'Loan - Extraneous'!$C$5,0))","v":0}]
[null,null,null,null,null,null,null,null,null,null,"",{"$f":"IF(OR(LEN(B423)=0,LEN(C423)=0,LEN(D423)=0),\"\",IF(K423>=38,INDEX('Loan - Grade & Staple'!$A$1:$K$1000,MATCH($B423&$C423,'Loan - Grade & Staple'!$B$1:$B$1000&'Loan - Grade & Staple'!$C$1:$C$1000,0),MATCH(\"38+\",'Loan - Grade & Staple'!$A$3:$K$3,0)),IF(K423<=31,INDEX('Loan - Grade & Staple'!$A$1:$K$1000,MATCH($B423&$C423,'Loan - Grade & Staple'!$B$1:$B$1000&'Loan - Grade & Staple'!$C$1:$C$1000,0),MATCH(\"26-31\",'Loan - Grade & Staple'!$A$3:$K$3,0)),IF(ISNA(INDEX('Loan - Grade & Staple'!$A$1:$K$1000,MATCH($B423&C423,'Loan - Grade & Staple'!$B$1:$B$1000&'Loan - Grade & Staple'!$C$1:$C$1000,0),MATCH($K423,'Loan - Grade & Staple'!$A$3:$K$3,0))),-4000,INDEX('Loan - Grade & Staple'!$A$1:$K$1000,MATCH($B423&C423,'Loan - Grade & Staple'!$B$1:$B$1000&'Loan - Grade & Staple'!$C$1:$C$1000,0),MATCH($K423,'Loan - Grade & Staple'!$A$3:$K$3,0))))))","v":""},{"$f":"IF(LEN(E423)=0,\"\",INDEX('Loan - Strength'!$C$1:$C$18,MATCH(E423,'Loan - Strength'!$A$1:$A$18,1)))","v":""},{"$f":"IF(LEN(F423)=0,\"\",INDEX('Loan - Micronaire'!$C$1:$C$20,MATCH($F423,'Loan - Micronaire'!$A$1:$A$20,1)))","v":""},{"$f":"IF(LEN(G423)=0,\"\",INDEX('Loan - Uniformity'!$C$1:$C$20,MATCH($G423,'Loan - Uniformity'!$A$1:$A$20,1)))","v":""},"","",{"$f":"IF(OR(LEN(B423)=0,LEN(C423)=0,LEN(D423)=0,LEN(E423)=0,LEN(F423)=0,LEN(G423)=0),\"\",IF('Base Values'!$B$8+(SUM($L423:$P423)/100)<0,0,'Base Values'!$B$8+(SUM(L423:P423)/100)))","v":""},null,{"$f":"IF(AND($T$13=TRUE,H423=1),'Loan - Extraneous'!B$3,IF(AND($T$13=TRUE,H423=2),'Loan - Extraneous'!C$3,0))","v":0},{"$f":"IF(I423=1,'Loan - Extraneous'!$B$4,IF(I423=2,'Loan - Extraneous'!$C$4,0))","v":0},{"$f":"IF(J423=1,'Loan - Extraneous'!$B$5,IF(J423=2,'Loan - Extraneous'!$C$5,0))","v":0}]
[null,null,null,null,null,null,null,null,null,null,"",{"$f":"IF(OR(LEN(B424)=0,LEN(C424)=0,LEN(D424)=0),\"\",IF(K424>=38,INDEX('Loan - Grade & Staple'!$A$1:$K$1000,MATCH($B424&$C424,'Loan - Grade & Staple'!$B$1:$B$1000&'Loan - Grade & Staple'!$C$1:$C$1000,0),MATCH(\"38+\",'Loan - Grade & Staple'!$A$3:$K$3,0)),IF(K424<=31,INDEX('Loan - Grade & Staple'!$A$1:$K$1000,MATCH($B424&$C424,'Loan - Grade & Staple'!$B$1:$B$1000&'Loan - Grade & Staple'!$C$1:$C$1000,0),MATCH(\"26-31\",'Loan - Grade & Staple'!$A$3:$K$3,0)),IF(ISNA(INDEX('Loan - Grade & Staple'!$A$1:$K$1000,MATCH($B424&C424,'Loan - Grade & Staple'!$B$1:$B$1000&'Loan - Grade & Staple'!$C$1:$C$1000,0),MATCH($K424,'Loan - Grade & Staple'!$A$3:$K$3,0))),-4000,INDEX('Loan - Grade & Staple'!$A$1:$K$1000,MATCH($B424&C424,'Loan - Grade & Staple'!$B$1:$B$1000&'Loan - Grade & Staple'!$C$1:$C$1000,0),MATCH($K424,'Loan - Grade & Staple'!$A$3:$K$3,0))))))","v":""},{"$f":"IF(LEN(E424)=0,\"\",INDEX('Loan - Strength'!$C$1:$C$18,MATCH(E424,'Loan - Strength'!$A$1:$A$18,1)))","v":""},{"$f":"IF(LEN(F424)=0,\"\",INDEX('Loan - Micronaire'!$C$1:$C$20,MATCH($F424,'Loan - Micronaire'!$A$1:$A$20,1)))","v":""},{"$f":"IF(LEN(G424)=0,\"\",INDEX('Loan - Uniformity'!$C$1:$C$20,MATCH($G424,'Loan - Uniformity'!$A$1:$A$20,1)))","v":""},"","",{"$f":"IF(OR(LEN(B424)=0,LEN(C424)=0,LEN(D424)=0,LEN(E424)=0,LEN(F424)=0,LEN(G424)=0),\"\",IF('Base Values'!$B$8+(SUM($L424:$P424)/100)<0,0,'Base Values'!$B$8+(SUM(L424:P424)/100)))","v":""},null,{"$f":"IF(AND($T$13=TRUE,H424=1),'Loan - Extraneous'!B$3,IF(AND($T$13=TRUE,H424=2),'Loan - Extraneous'!C$3,0))","v":0},{"$f":"IF(I424=1,'Loan - Extraneous'!$B$4,IF(I424=2,'Loan - Extraneous'!$C$4,0))","v":0},{"$f":"IF(J424=1,'Loan - Extraneous'!$B$5,IF(J424=2,'Loan - Extraneous'!$C$5,0))","v":0}]
[null,null,null,null,null,null,null,null,null,null,"",{"$f":"IF(OR(LEN(B425)=0,LEN(C425)=0,LEN(D425)=0),\"\",IF(K425>=38,INDEX('Loan - Grade & Staple'!$A$1:$K$1000,MATCH($B425&$C425,'Loan - Grade & Staple'!$B$1:$B$1000&'Loan - Grade & Staple'!$C$1:$C$1000,0),MATCH(\"38+\",'Loan - Grade & Staple'!$A$3:$K$3,0)),IF(K425<=31,INDEX('Loan - Grade & Staple'!$A$1:$K$1000,MATCH($B425&$C425,'Loan - Grade & Staple'!$B$1:$B$1000&'Loan - Grade & Staple'!$C$1:$C$1000,0),MATCH(\"26-31\",'Loan - Grade & Staple'!$A$3:$K$3,0)),IF(ISNA(INDEX('Loan - Grade & Staple'!$A$1:$K$1000,MATCH($B425&C425,'Loan - Grade & Staple'!$B$1:$B$1000&'Loan - Grade & Staple'!$C$1:$C$1000,0),MATCH($K425,'Loan - Grade & Staple'!$A$3:$K$3,0))),-4000,INDEX('Loan - Grade & Staple'!$A$1:$K$1000,MATCH($B425&C425,'Loan - Grade & Staple'!$B$1:$B$1000&'Loan - Grade & Staple'!$C$1:$C$1000,0),MATCH($K425,'Loan - Grade & Staple'!$A$3:$K$3,0))))))","v":""},{"$f":"IF(LEN(E425)=0,\"\",INDEX('Loan - Strength'!$C$1:$C$18,MATCH(E425,'Loan - Strength'!$A$1:$A$18,1)))","v":""},{"$f":"IF(LEN(F425)=0,\"\",INDEX('Loan - Micronaire'!$C$1:$C$20,MATCH($F425,'Loan - Micronaire'!$A$1:$A$20,1)))","v":""},{"$f":"IF(LEN(G425)=0,\"\",INDEX('Loan - Uniformity'!$C$1:$C$20,MATCH($G425,'Loan - Uniformity'!$A$1:$A$20,1)))","v":""},"","",{"$f":"IF(OR(LEN(B425)=0,LEN(C425)=0,LEN(D425)=0,LEN(E425)=0,LEN(F425)=0,LEN(G425)=0),\"\",IF('Base Values'!$B$8+(SUM($L425:$P425)/100)<0,0,'Base Values'!$B$8+(SUM(L425:P425)/100)))","v":""},null,{"$f":"IF(AND($T$13=TRUE,H425=1),'Loan - Extraneous'!B$3,IF(AND($T$13=TRUE,H425=2),'Loan - Extraneous'!C$3,0))","v":0},{"$f":"IF(I425=1,'Loan - Extraneous'!$B$4,IF(I425=2,'Loan - Extraneous'!$C$4,0))","v":0},{"$f":"IF(J425=1,'Loan - Extraneous'!$B$5,IF(J425=2,'Loan - Extraneous'!$C$5,0))","v":0}]
[null,null,null,null,null,null,null,null,null,null,"",{"$f":"IF(OR(LEN(B426)=0,LEN(C426)=0,LEN(D426)=0),\"\",IF(K426>=38,INDEX('Loan - Grade & Staple'!$A$1:$K$1000,MATCH($B426&$C426,'Loan - Grade & Staple'!$B$1:$B$1000&'Loan - Grade & Staple'!$C$1:$C$1000,0),MATCH(\"38+\",'Loan - Grade & Staple'!$A$3:$K$3,0)),IF(K426<=31,INDEX('Loan - Grade & Staple'!$A$1:$K$1000,MATCH($B426&$C426,'Loan - Grade & Staple'!$B$1:$B$1000&'Loan - Grade & Staple'!$C$1:$C$1000,0),MATCH(\"26-31\",'Loan - Grade & Staple'!$A$3:$K$3,0)),IF(ISNA(INDEX('Loan - Grade & Staple'!$A$1:$K$1000,MATCH($B426&C426,'Loan - Grade & Staple'!$B$1:$B$1000&'Loan - Grade & Staple'!$C$1:$C$1000,0),MATCH($K426,'Loan - Grade & Staple'!$A$3:$K$3,0))),-4000,INDEX('Loan - Grade & Staple'!$A$1:$K$1000,MATCH($B426&C426,'Loan - Grade & Staple'!$B$1:$B$1000&'Loan - Grade & Staple'!$C$1:$C$1000,0),MATCH($K426,'Loan - Grade & Staple'!$A$3:$K$3,0))))))","v":""},{"$f":"IF(LEN(E426)=0,\"\",INDEX('Loan - Strength'!$C$1:$C$18,MATCH(E426,'Loan - Strength'!$A$1:$A$18,1)))","v":""},{"$f":"IF(LEN(F426)=0,\"\",INDEX('Loan - Micronaire'!$C$1:$C$20,MATCH($F426,'Loan - Micronaire'!$A$1:$A$20,1)))","v":""},{"$f":"IF(LEN(G426)=0,\"\",INDEX('Loan - Uniformity'!$C$1:$C$20,MATCH($G426,'Loan - Uniformity'!$A$1:$A$20,1)))","v":""},"","",{"$f":"IF(OR(LEN(B426)=0,LEN(C426)=0,LEN(D426)=0,LEN(E426)=0,LEN(F426)=0,LEN(G426)=0),\"\",IF('Base Values'!$B$8+(SUM($L426:$P426)/100)<0,0,'Base Values'!$B$8+(SUM(L426:P426)/100)))","v":""},null,{"$f":"IF(AND($T$13=TRUE,H426=1),'Loan - Extraneous'!B$3,IF(AND($T$13=TRUE,H426=2),'Loan - Extraneous'!C$3,0))","v":0},{"$f":"IF(I426=1,'Loan - Extraneous'!$B$4,IF(I426=2,'Loan - Extraneous'!$C$4,0))","v":0},{"$f":"IF(J426=1,'Loan - Extraneous'!$B$5,IF(J426=2,'Loan - Extraneous'!$C$5,0))","v":0}]
[null,null,null,null,null,null,null,null,null,null,"",{"$f":"IF(OR(LEN(B427)=0,LEN(C427)=0,LEN(D427)=0),\"\",IF(K427>=38,INDEX('Loan - Grade & Staple'!$A$1:$K$1000,MATCH($B427&$C427,'Loan - Grade & Staple'!$B$1:$B$1000&'Loan - Grade & Staple'!$C$1:$C$1000,0),MATCH(\"38+\",'Loan - Grade & Staple'!$A$3:$K$3,0)),IF(K427<=31,INDEX('Loan - Grade & Staple'!$A$1:$K$1000,MATCH($B427&$C427,'Loan - Grade & Staple'!$B$1:$B$1000&'Loan - Grade & Staple'!$C$1:$C$1000,0),MATCH(\"26-31\",'Loan - Grade & Staple'!$A$3:$K$3,0)),IF(ISNA(INDEX('Loan - Grade & Staple'!$A$1:$K$1000,MATCH($B427&C427,'Loan - Grade & Staple'!$B$1:$B$1000&'Loan - Grade & Staple'!$C$1:$C$1000,0),MATCH($K427,'Loan - Grade & Staple'!$A$3:$K$3,0))),-4000,INDEX('Loan - Grade & Staple'!$A$1:$K$1000,MATCH($B427&C427,'Loan - Grade & Staple'!$B$1:$B$1000&'Loan - Grade & Staple'!$C$1:$C$1000,0),MATCH($K427,'Loan - Grade & Staple'!$A$3:$K$3,0))))))","v":""},{"$f":"IF(LEN(E427)=0,\"\",INDEX('Loan - Strength'!$C$1:$C$18,MATCH(E427,'Loan - Strength'!$A$1:$A$18,1)))","v":""},{"$f":"IF(LEN(F427)=0,\"\",INDEX('Loan - Micronaire'!$C$1:$C$20,MATCH($F427,'Loan - Micronaire'!$A$1:$A$20,1)))","v":""},{"$f":"IF(LEN(G427)=0,\"\",INDEX('Loan - Uniformity'!$C$1:$C$20,MATCH($G427,'Loan - Uniformity'!$A$1:$A$20,1)))","v":""},"","",{"$f":"IF(OR(LEN(B427)=0,LEN(C427)=0,LEN(D427)=0,LEN(E427)=0,LEN(F427)=0,LEN(G427)=0),\"\",IF('Base Values'!$B$8+(SUM($L427:$P427)/100)<0,0,'Base Values'!$B$8+(SUM(L427:P427)/100)))","v":""},null,{"$f":"IF(AND($T$13=TRUE,H427=1),'Loan - Extraneous'!B$3,IF(AND($T$13=TRUE,H427=2),'Loan - Extraneous'!C$3,0))","v":0},{"$f":"IF(I427=1,'Loan - Extraneous'!$B$4,IF(I427=2,'Loan - Extraneous'!$C$4,0))","v":0},{"$f":"IF(J427=1,'Loan - Extraneous'!$B$5,IF(J427=2,'Loan - Extraneous'!$C$5,0))","v":0}]
[null,null,null,null,null,null,null,null,null,null,"",{"$f":"IF(OR(LEN(B428)=0,LEN(C428)=0,LEN(D428)=0),\"\",IF(K428>=38,INDEX('Loan - Grade & Staple'!$A$1:$K$1000,MATCH($B428&$C428,'Loan - Grade & Staple'!$B$1:$B$1000&'Loan - Grade & Staple'!$C$1:$C$1000,0),MATCH(\"38+\",'Loan - Grade & Staple'!$A$3:$K$3,0)),IF(K428<=31,INDEX('Loan - Grade & Staple'!$A$1:$K$1000,MATCH($B428&$C428,'Loan - Grade & Staple'!$B$1:$B$1000&'Loan - Grade & Staple'!$C$1:$C$1000,0),MATCH(\"26-31\",'Loan - Grade & Staple'!$A$3:$K$3,0)),IF(ISNA(INDEX('Loan - Grade & Staple'!$A$1:$K$1000,MATCH($B428&C428,'Loan - Grade & Staple'!$B$1:$B$1000&'Loan - Grade & Staple'!$C$1:$C$1000,0),MATCH($K428,'Loan - Grade & Staple'!$A$3:$K$3,0))),-4000,INDEX('Loan - Grade & Staple'!$A$1:$K$1000,MATCH($B428&C428,'Loan - Grade & Staple'!$B$1:$B$1000&'Loan - Grade & Staple'!$C$1:$C$1000,0),MATCH($K428,'Loan - Grade & Staple'!$A$3:$K$3,0))))))","v":""},{"$f":"IF(LEN(E428)=0,\"\",INDEX('Loan - Strength'!$C$1:$C$18,MATCH(E428,'Loan - Strength'!$A$1:$A$18,1)))","v":""},{"$f":"IF(LEN(F428)=0,\"\",INDEX('Loan - Micronaire'!$C$1:$C$20,MATCH($F428,'Loan - Micronaire'!$A$1:$A$20,1)))","v":""},{"$f":"IF(LEN(G428)=0,\"\",INDEX('Loan - Uniformity'!$C$1:$C$20,MATCH($G428,'Loan - Uniformity'!$A$1:$A$20,1)))","v":""},"","",{"$f":"IF(OR(LEN(B428)=0,LEN(C428)=0,LEN(D428)=0,LEN(E428)=0,LEN(F428)=0,LEN(G428)=0),\"\",IF('Base Values'!$B$8+(SUM($L428:$P428)/100)<0,0,'Base Values'!$B$8+(SUM(L428:P428)/100)))","v":""},null,{"$f":"IF(AND($T$13=TRUE,H428=1),'Loan - Extraneous'!B$3,IF(AND($T$13=TRUE,H428=2),'Loan - Extraneous'!C$3,0))","v":0},{"$f":"IF(I428=1,'Loan - Extraneous'!$B$4,IF(I428=2,'Loan - Extraneous'!$C$4,0))","v":0},{"$f":"IF(J428=1,'Loan - Extraneous'!$B$5,IF(J428=2,'Loan - Extraneous'!$C$5,0))","v":0}]
[null,null,null,null,null,null,null,null,null,null,"",{"$f":"IF(OR(LEN(B429)=0,LEN(C429)=0,LEN(D429)=0),\"\",IF(K429>=38,INDEX('Loan - Grade & Staple'!$A$1:$K$1000,MATCH($B429&$C429,'Loan - Grade & Staple'!$B$1:$B$1000&'Loan - Grade & Staple'!$C$1:$C$1000,0),MATCH(\"38+\",'Loan - Grade & Staple'!$A$3:$K$3,0)),IF(K429<=31,INDEX('Loan - Grade & Staple'!$A$1:$K$1000,MATCH($B429&$C429,'Loan - Grade & Staple'!$B$1:$B$1000&'Loan - Grade & Staple'!$C$1:$C$1000,0),MATCH(\"26-31\",'Loan - Grade & Staple'!$A$3:$K$3,0)),IF(ISNA(INDEX('Loan - Grade & Staple'!$A$1:$K$1000,MATCH($B429&C429,'Loan - Grade & Staple'!$B$1:$B$1000&'Loan - Grade & Staple'!$C$1:$C$1000,0),MATCH($K429,'Loan - Grade & Staple'!$A$3:$K$3,0))),-4000,INDEX('Loan - Grade & Staple'!$A$1:$K$1000,MATCH($B429&C429,'Loan - Grade & Staple'!$B$1:$B$1000&'Loan - Grade & Staple'!$C$1:$C$1000,0),MATCH($K429,'Loan - Grade & Staple'!$A$3:$K$3,0))))))","v":""},{"$f":"IF(LEN(E429)=0,\"\",INDEX('Loan - Strength'!$C$1:$C$18,MATCH(E429,'Loan - Strength'!$A$1:$A$18,1)))","v":""},{"$f":"IF(LEN(F429)=0,\"\",INDEX('Loan - Micronaire'!$C$1:$C$20,MATCH($F429,'Loan - Micronaire'!$A$1:$A$20,1)))","v":""},{"$f":"IF(LEN(G429)=0,\"\",INDEX('Loan - Uniformity'!$C$1:$C$20,MATCH($G429,'Loan - Uniformity'!$A$1:$A$20,1)))","v":""},"","",{"$f":"IF(OR(LEN(B429)=0,LEN(C429)=0,LEN(D429)=0,LEN(E429)=0,LEN(F429)=0,LEN(G429)=0),\"\",IF('Base Values'!$B$8+(SUM($L429:$P429)/100)<0,0,'Base Values'!$B$8+(SUM(L429:P429)/100)))","v":""},null,{"$f":"IF(AND($T$13=TRUE,H429=1),'Loan - Extraneous'!B$3,IF(AND($T$13=TRUE,H429=2),'Loan - Extraneous'!C$3,0))","v":0},{"$f":"IF(I429=1,'Loan - Extraneous'!$B$4,IF(I429=2,'Loan - Extraneous'!$C$4,0))","v":0},{"$f":"IF(J429=1,'Loan - Extraneous'!$B$5,IF(J429=2,'Loan - Extraneous'!$C$5,0))","v":0}]
[null,null,null,null,null,null,null,null,null,null,"",{"$f":"IF(OR(LEN(B430)=0,LEN(C430)=0,LEN(D430)=0),\"\",IF(K430>=38,INDEX('Loan - Grade & Staple'!$A$1:$K$1000,MATCH($B430&$C430,'Loan - Grade & Staple'!$B$1:$B$1000&'Loan - Grade & Staple'!$C$1:$C$1000,0),MATCH(\"38+\",'Loan - Grade & Staple'!$A$3:$K$3,0)),IF(K430<=31,INDEX('Loan - Grade & Staple'!$A$1:$K$1000,MATCH($B430&$C430,'Loan - Grade & Staple'!$B$1:$B$1000&'Loan - Grade & Staple'!$C$1:$C$1000,0),MATCH(\"26-31\",'Loan - Grade & Staple'!$A$3:$K$3,0)),IF(ISNA(INDEX('Loan - Grade & Staple'!$A$1:$K$1000,MATCH($B430&C430,'Loan - Grade & Staple'!$B$1:$B$1000&'Loan - Grade & Staple'!$C$1:$C$1000,0),MATCH($K430,'Loan - Grade & Staple'!$A$3:$K$3,0))),-4000,INDEX('Loan - Grade & Staple'!$A$1:$K$1000,MATCH($B430&C430,'Loan - Grade & Staple'!$B$1:$B$1000&'Loan - Grade & Staple'!$C$1:$C$1000,0),MATCH($K430,'Loan - Grade & Staple'!$A$3:$K$3,0))))))","v":""},{"$f":"IF(LEN(E430)=0,\"\",INDEX('Loan - Strength'!$C$1:$C$18,MATCH(E430,'Loan - Strength'!$A$1:$A$18,1)))","v":""},{"$f":"IF(LEN(F430)=0,\"\",INDEX('Loan - Micronaire'!$C$1:$C$20,MATCH($F430,'Loan - Micronaire'!$A$1:$A$20,1)))","v":""},{"$f":"IF(LEN(G430)=0,\"\",INDEX('Loan - Uniformity'!$C$1:$C$20,MATCH($G430,'Loan - Uniformity'!$A$1:$A$20,1)))","v":""},"","",{"$f":"IF(OR(LEN(B430)=0,LEN(C430)=0,LEN(D430)=0,LEN(E430)=0,LEN(F430)=0,LEN(G430)=0),\"\",IF('Base Values'!$B$8+(SUM($L430:$P430)/100)<0,0,'Base Values'!$B$8+(SUM(L430:P430)/100)))","v":""},null,{"$f":"IF(AND($T$13=TRUE,H430=1),'Loan - Extraneous'!B$3,IF(AND($T$13=TRUE,H430=2),'Loan - Extraneous'!C$3,0))","v":0},{"$f":"IF(I430=1,'Loan - Extraneous'!$B$4,IF(I430=2,'Loan - Extraneous'!$C$4,0))","v":0},{"$f":"IF(J430=1,'Loan - Extraneous'!$B$5,IF(J430=2,'Loan - Extraneous'!$C$5,0))","v":0}]
[null,null,null,null,null,null,null,null,null,null,"",{"$f":"IF(OR(LEN(B431)=0,LEN(C431)=0,LEN(D431)=0),\"\",IF(K431>=38,INDEX('Loan - Grade & Staple'!$A$1:$K$1000,MATCH($B431&$C431,'Loan - Grade & Staple'!$B$1:$B$1000&'Loan - Grade & Staple'!$C$1:$C$1000,0),MATCH(\"38+\",'Loan - Grade & Staple'!$A$3:$K$3,0)),IF(K431<=31,INDEX('Loan - Grade & Staple'!$A$1:$K$1000,MATCH($B431&$C431,'Loan - Grade & Staple'!$B$1:$B$1000&'Loan - Grade & Staple'!$C$1:$C$1000,0),MATCH(\"26-31\",'Loan - Grade & Staple'!$A$3:$K$3,0)),IF(ISNA(INDEX('Loan - Grade & Staple'!$A$1:$K$1000,MATCH($B431&C431,'Loan - Grade & Staple'!$B$1:$B$1000&'Loan - Grade & Staple'!$C$1:$C$1000,0),MATCH($K431,'Loan - Grade & Staple'!$A$3:$K$3,0))),-4000,INDEX('Loan - Grade & Staple'!$A$1:$K$1000,MATCH($B431&C431,'Loan - Grade & Staple'!$B$1:$B$1000&'Loan - Grade & Staple'!$C$1:$C$1000,0),MATCH($K431,'Loan - Grade & Staple'!$A$3:$K$3,0))))))","v":""},{"$f":"IF(LEN(E431)=0,\"\",INDEX('Loan - Strength'!$C$1:$C$18,MATCH(E431,'Loan - Strength'!$A$1:$A$18,1)))","v":""},{"$f":"IF(LEN(F431)=0,\"\",INDEX('Loan - Micronaire'!$C$1:$C$20,MATCH($F431,'Loan - Micronaire'!$A$1:$A$20,1)))","v":""},{"$f":"IF(LEN(G431)=0,\"\",INDEX('Loan - Uniformity'!$C$1:$C$20,MATCH($G431,'Loan - Uniformity'!$A$1:$A$20,1)))","v":""},"","",{"$f":"IF(OR(LEN(B431)=0,LEN(C431)=0,LEN(D431)=0,LEN(E431)=0,LEN(F431)=0,LEN(G431)=0),\"\",IF('Base Values'!$B$8+(SUM($L431:$P431)/100)<0,0,'Base Values'!$B$8+(SUM(L431:P431)/100)))","v":""},null,{"$f":"IF(AND($T$13=TRUE,H431=1),'Loan - Extraneous'!B$3,IF(AND($T$13=TRUE,H431=2),'Loan - Extraneous'!C$3,0))","v":0},{"$f":"IF(I431=1,'Loan - Extraneous'!$B$4,IF(I431=2,'Loan - Extraneous'!$C$4,0))","v":0},{"$f":"IF(J431=1,'Loan - Extraneous'!$B$5,IF(J431=2,'Loan - Extraneous'!$C$5,0))","v":0}]
[null,null,null,null,null,null,null,null,null,null,"",{"$f":"IF(OR(LEN(B432)=0,LEN(C432)=0,LEN(D432)=0),\"\",IF(K432>=38,INDEX('Loan - Grade & Staple'!$A$1:$K$1000,MATCH($B432&$C432,'Loan - Grade & Staple'!$B$1:$B$1000&'Loan - Grade & Staple'!$C$1:$C$1000,0),MATCH(\"38+\",'Loan - Grade & Staple'!$A$3:$K$3,0)),IF(K432<=31,INDEX('Loan - Grade & Staple'!$A$1:$K$1000,MATCH($B432&$C432,'Loan - Grade & Staple'!$B$1:$B$1000&'Loan - Grade & Staple'!$C$1:$C$1000,0),MATCH(\"26-31\",'Loan - Grade & Staple'!$A$3:$K$3,0)),IF(ISNA(INDEX('Loan - Grade & Staple'!$A$1:$K$1000,MATCH($B432&C432,'Loan - Grade & Staple'!$B$1:$B$1000&'Loan - Grade & Staple'!$C$1:$C$1000,0),MATCH($K432,'Loan - Grade & Staple'!$A$3:$K$3,0))),-4000,INDEX('Loan - Grade & Staple'!$A$1:$K$1000,MATCH($B432&C432,'Loan - Grade & Staple'!$B$1:$B$1000&'Loan - Grade & Staple'!$C$1:$C$1000,0),MATCH($K432,'Loan - Grade & Staple'!$A$3:$K$3,0))))))","v":""},{"$f":"IF(LEN(E432)=0,\"\",INDEX('Loan - Strength'!$C$1:$C$18,MATCH(E432,'Loan - Strength'!$A$1:$A$18,1)))","v":""},{"$f":"IF(LEN(F432)=0,\"\",INDEX('Loan - Micronaire'!$C$1:$C$20,MATCH($F432,'Loan - Micronaire'!$A$1:$A$20,1)))","v":""},{"$f":"IF(LEN(G432)=0,\"\",INDEX('Loan - Uniformity'!$C$1:$C$20,MATCH($G432,'Loan - Uniformity'!$A$1:$A$20,1)))","v":""},"","",{"$f":"IF(OR(LEN(B432)=0,LEN(C432)=0,LEN(D432)=0,LEN(E432)=0,LEN(F432)=0,LEN(G432)=0),\"\",IF('Base Values'!$B$8+(SUM($L432:$P432)/100)<0,0,'Base Values'!$B$8+(SUM(L432:P432)/100)))","v":""},null,{"$f":"IF(AND($T$13=TRUE,H432=1),'Loan - Extraneous'!B$3,IF(AND($T$13=TRUE,H432=2),'Loan - Extraneous'!C$3,0))","v":0},{"$f":"IF(I432=1,'Loan - Extraneous'!$B$4,IF(I432=2,'Loan - Extraneous'!$C$4,0))","v":0},{"$f":"IF(J432=1,'Loan - Extraneous'!$B$5,IF(J432=2,'Loan - Extraneous'!$C$5,0))","v":0}]
[null,null,null,null,null,null,null,null,null,null,"",{"$f":"IF(OR(LEN(B433)=0,LEN(C433)=0,LEN(D433)=0),\"\",IF(K433>=38,INDEX('Loan - Grade & Staple'!$A$1:$K$1000,MATCH($B433&$C433,'Loan - Grade & Staple'!$B$1:$B$1000&'Loan - Grade & Staple'!$C$1:$C$1000,0),MATCH(\"38+\",'Loan - Grade & Staple'!$A$3:$K$3,0)),IF(K433<=31,INDEX('Loan - Grade & Staple'!$A$1:$K$1000,MATCH($B433&$C433,'Loan - Grade & Staple'!$B$1:$B$1000&'Loan - Grade & Staple'!$C$1:$C$1000,0),MATCH(\"26-31\",'Loan - Grade & Staple'!$A$3:$K$3,0)),IF(ISNA(INDEX('Loan - Grade & Staple'!$A$1:$K$1000,MATCH($B433&C433,'Loan - Grade & Staple'!$B$1:$B$1000&'Loan - Grade & Staple'!$C$1:$C$1000,0),MATCH($K433,'Loan - Grade & Staple'!$A$3:$K$3,0))),-4000,INDEX('Loan - Grade & Staple'!$A$1:$K$1000,MATCH($B433&C433,'Loan - Grade & Staple'!$B$1:$B$1000&'Loan - Grade & Staple'!$C$1:$C$1000,0),MATCH($K433,'Loan - Grade & Staple'!$A$3:$K$3,0))))))","v":""},{"$f":"IF(LEN(E433)=0,\"\",INDEX('Loan - Strength'!$C$1:$C$18,MATCH(E433,'Loan - Strength'!$A$1:$A$18,1)))","v":""},{"$f":"IF(LEN(F433)=0,\"\",INDEX('Loan - Micronaire'!$C$1:$C$20,MATCH($F433,'Loan - Micronaire'!$A$1:$A$20,1)))","v":""},{"$f":"IF(LEN(G433)=0,\"\",INDEX('Loan - Uniformity'!$C$1:$C$20,MATCH($G433,'Loan - Uniformity'!$A$1:$A$20,1)))","v":""},"","",{"$f":"IF(OR(LEN(B433)=0,LEN(C433)=0,LEN(D433)=0,LEN(E433)=0,LEN(F433)=0,LEN(G433)=0),\"\",IF('Base Values'!$B$8+(SUM($L433:$P433)/100)<0,0,'Base Values'!$B$8+(SUM(L433:P433)/100)))","v":""},null,{"$f":"IF(AND($T$13=TRUE,H433=1),'Loan - Extraneous'!B$3,IF(AND($T$13=TRUE,H433=2),'Loan - Extraneous'!C$3,0))","v":0},{"$f":"IF(I433=1,'Loan - Extraneous'!$B$4,IF(I433=2,'Loan - Extraneous'!$C$4,0))","v":0},{"$f":"IF(J433=1,'Loan - Extraneous'!$B$5,IF(J433=2,'Loan - Extraneous'!$C$5,0))","v":0}]
[null,null,null,null,null,null,null,null,null,null,"",{"$f":"IF(OR(LEN(B434)=0,LEN(C434)=0,LEN(D434)=0),\"\",IF(K434>=38,INDEX('Loan - Grade & Staple'!$A$1:$K$1000,MATCH($B434&$C434,'Loan - Grade & Staple'!$B$1:$B$1000&'Loan - Grade & Staple'!$C$1:$C$1000,0),MATCH(\"38+\",'Loan - Grade & Staple'!$A$3:$K$3,0)),IF(K434<=31,INDEX('Loan - Grade & Staple'!$A$1:$K$1000,MATCH($B434&$C434,'Loan - Grade & Staple'!$B$1:$B$1000&'Loan - Grade & Staple'!$C$1:$C$1000,0),MATCH(\"26-31\",'Loan - Grade & Staple'!$A$3:$K$3,0)),IF(ISNA(INDEX('Loan - Grade & Staple'!$A$1:$K$1000,MATCH($B434&C434,'Loan - Grade & Staple'!$B$1:$B$1000&'Loan - Grade & Staple'!$C$1:$C$1000,0),MATCH($K434,'Loan - Grade & Staple'!$A$3:$K$3,0))),-4000,INDEX('Loan - Grade & Staple'!$A$1:$K$1000,MATCH($B434&C434,'Loan - Grade & Staple'!$B$1:$B$1000&'Loan - Grade & Staple'!$C$1:$C$1000,0),MATCH($K434,'Loan - Grade & Staple'!$A$3:$K$3,0))))))","v":""},{"$f":"IF(LEN(E434)=0,\"\",INDEX('Loan - Strength'!$C$1:$C$18,MATCH(E434,'Loan - Strength'!$A$1:$A$18,1)))","v":""},{"$f":"IF(LEN(F434)=0,\"\",INDEX('Loan - Micronaire'!$C$1:$C$20,MATCH($F434,'Loan - Micronaire'!$A$1:$A$20,1)))","v":""},{"$f":"IF(LEN(G434)=0,\"\",INDEX('Loan - Uniformity'!$C$1:$C$20,MATCH($G434,'Loan - Uniformity'!$A$1:$A$20,1)))","v":""},"","",{"$f":"IF(OR(LEN(B434)=0,LEN(C434)=0,LEN(D434)=0,LEN(E434)=0,LEN(F434)=0,LEN(G434)=0),\"\",IF('Base Values'!$B$8+(SUM($L434:$P434)/100)<0,0,'Base Values'!$B$8+(SUM(L434:P434)/100)))","v":""},null,{"$f":"IF(AND($T$13=TRUE,H434=1),'Loan - Extraneous'!B$3,IF(AND($T$13=TRUE,H434=2),'Loan - Extraneous'!C$3,0))","v":0},{"$f":"IF(I434=1,'Loan - Extraneous'!$B$4,IF(I434=2,'Loan - Extraneous'!$C$4,0))","v":0},{"$f":"IF(J434=1,'Loan - Extraneous'!$B$5,IF(J434=2,'Loan - Extraneous'!$C$5,0))","v":0}]
[null,null,null,null,null,null,null,null,null,null,"",{"$f":"IF(OR(LEN(B435)=0,LEN(C435)=0,LEN(D435)=0),\"\",IF(K435>=38,INDEX('Loan - Grade & Staple'!$A$1:$K$1000,MATCH($B435&$C435,'Loan - Grade & Staple'!$B$1:$B$1000&'Loan - Grade & Staple'!$C$1:$C$1000,0),MATCH(\"38+\",'Loan - Grade & Staple'!$A$3:$K$3,0)),IF(K435<=31,INDEX('Loan - Grade & Staple'!$A$1:$K$1000,MATCH($B435&$C435,'Loan - Grade & Staple'!$B$1:$B$1000&'Loan - Grade & Staple'!$C$1:$C$1000,0),MATCH(\"26-31\",'Loan - Grade & Staple'!$A$3:$K$3,0)),IF(ISNA(INDEX('Loan - Grade & Staple'!$A$1:$K$1000,MATCH($B435&C435,'Loan - Grade & Staple'!$B$1:$B$1000&'Loan - Grade & Staple'!$C$1:$C$1000,0),MATCH($K435,'Loan - Grade & Staple'!$A$3:$K$3,0))),-4000,INDEX('Loan - Grade & Staple'!$A$1:$K$1000,MATCH($B435&C435,'Loan - Grade & Staple'!$B$1:$B$1000&'Loan - Grade & Staple'!$C$1:$C$1000,0),MATCH($K435,'Loan - Grade & Staple'!$A$3:$K$3,0))))))","v":""},{"$f":"IF(LEN(E435)=0,\"\",INDEX('Loan - Strength'!$C$1:$C$18,MATCH(E435,'Loan - Strength'!$A$1:$A$18,1)))","v":""},{"$f":"IF(LEN(F435)=0,\"\",INDEX('Loan - Micronaire'!$C$1:$C$20,MATCH($F435,'Loan - Micronaire'!$A$1:$A$20,1)))","v":""},{"$f":"IF(LEN(G435)=0,\"\",INDEX('Loan - Uniformity'!$C$1:$C$20,MATCH($G435,'Loan - Uniformity'!$A$1:$A$20,1)))","v":""},"","",{"$f":"IF(OR(LEN(B435)=0,LEN(C435)=0,LEN(D435)=0,LEN(E435)=0,LEN(F435)=0,LEN(G435)=0),\"\",IF('Base Values'!$B$8+(SUM($L435:$P435)/100)<0,0,'Base Values'!$B$8+(SUM(L435:P435)/100)))","v":""},null,{"$f":"IF(AND($T$13=TRUE,H435=1),'Loan - Extraneous'!B$3,IF(AND($T$13=TRUE,H435=2),'Loan - Extraneous'!C$3,0))","v":0},{"$f":"IF(I435=1,'Loan - Extraneous'!$B$4,IF(I435=2,'Loan - Extraneous'!$C$4,0))","v":0},{"$f":"IF(J435=1,'Loan - Extraneous'!$B$5,IF(J435=2,'Loan - Extraneous'!$C$5,0))","v":0}]
[null,null,null,null,null,null,null,null,null,null,"",{"$f":"IF(OR(LEN(B436)=0,LEN(C436)=0,LEN(D436)=0),\"\",IF(K436>=38,INDEX('Loan - Grade & Staple'!$A$1:$K$1000,MATCH($B436&$C436,'Loan - Grade & Staple'!$B$1:$B$1000&'Loan - Grade & Staple'!$C$1:$C$1000,0),MATCH(\"38+\",'Loan - Grade & Staple'!$A$3:$K$3,0)),IF(K436<=31,INDEX('Loan - Grade & Staple'!$A$1:$K$1000,MATCH($B436&$C436,'Loan - Grade & Staple'!$B$1:$B$1000&'Loan - Grade & Staple'!$C$1:$C$1000,0),MATCH(\"26-31\",'Loan - Grade & Staple'!$A$3:$K$3,0)),IF(ISNA(INDEX('Loan - Grade & Staple'!$A$1:$K$1000,MATCH($B436&C436,'Loan - Grade & Staple'!$B$1:$B$1000&'Loan - Grade & Staple'!$C$1:$C$1000,0),MATCH($K436,'Loan - Grade & Staple'!$A$3:$K$3,0))),-4000,INDEX('Loan - Grade & Staple'!$A$1:$K$1000,MATCH($B436&C436,'Loan - Grade & Staple'!$B$1:$B$1000&'Loan - Grade & Staple'!$C$1:$C$1000,0),MATCH($K436,'Loan - Grade & Staple'!$A$3:$K$3,0))))))","v":""},{"$f":"IF(LEN(E436)=0,\"\",INDEX('Loan - Strength'!$C$1:$C$18,MATCH(E436,'Loan - Strength'!$A$1:$A$18,1)))","v":""},{"$f":"IF(LEN(F436)=0,\"\",INDEX('Loan - Micronaire'!$C$1:$C$20,MATCH($F436,'Loan - Micronaire'!$A$1:$A$20,1)))","v":""},{"$f":"IF(LEN(G436)=0,\"\",INDEX('Loan - Uniformity'!$C$1:$C$20,MATCH($G436,'Loan - Uniformity'!$A$1:$A$20,1)))","v":""},"","",{"$f":"IF(OR(LEN(B436)=0,LEN(C436)=0,LEN(D436)=0,LEN(E436)=0,LEN(F436)=0,LEN(G436)=0),\"\",IF('Base Values'!$B$8+(SUM($L436:$P436)/100)<0,0,'Base Values'!$B$8+(SUM(L436:P436)/100)))","v":""},null,{"$f":"IF(AND($T$13=TRUE,H436=1),'Loan - Extraneous'!B$3,IF(AND($T$13=TRUE,H436=2),'Loan - Extraneous'!C$3,0))","v":0},{"$f":"IF(I436=1,'Loan - Extraneous'!$B$4,IF(I436=2,'Loan - Extraneous'!$C$4,0))","v":0},{"$f":"IF(J436=1,'Loan - Extraneous'!$B$5,IF(J436=2,'Loan - Extraneous'!$C$5,0))","v":0}]
[null,null,null,null,null,null,null,null,null,null,"",{"$f":"IF(OR(LEN(B437)=0,LEN(C437)=0,LEN(D437)=0),\"\",IF(K437>=38,INDEX('Loan - Grade & Staple'!$A$1:$K$1000,MATCH($B437&$C437,'Loan - Grade & Staple'!$B$1:$B$1000&'Loan - Grade & Staple'!$C$1:$C$1000,0),MATCH(\"38+\",'Loan - Grade & Staple'!$A$3:$K$3,0)),IF(K437<=31,INDEX('Loan - Grade & Staple'!$A$1:$K$1000,MATCH($B437&$C437,'Loan - Grade & Staple'!$B$1:$B$1000&'Loan - Grade & Staple'!$C$1:$C$1000,0),MATCH(\"26-31\",'Loan - Grade & Staple'!$A$3:$K$3,0)),IF(ISNA(INDEX('Loan - Grade & Staple'!$A$1:$K$1000,MATCH($B437&C437,'Loan - Grade & Staple'!$B$1:$B$1000&'Loan - Grade & Staple'!$C$1:$C$1000,0),MATCH($K437,'Loan - Grade & Staple'!$A$3:$K$3,0))),-4000,INDEX('Loan - Grade & Staple'!$A$1:$K$1000,MATCH($B437&C437,'Loan - Grade & Staple'!$B$1:$B$1000&'Loan - Grade & Staple'!$C$1:$C$1000,0),MATCH($K437,'Loan - Grade & Staple'!$A$3:$K$3,0))))))","v":""},{"$f":"IF(LEN(E437)=0,\"\",INDEX('Loan - Strength'!$C$1:$C$18,MATCH(E437,'Loan - Strength'!$A$1:$A$18,1)))","v":""},{"$f":"IF(LEN(F437)=0,\"\",INDEX('Loan - Micronaire'!$C$1:$C$20,MATCH($F437,'Loan - Micronaire'!$A$1:$A$20,1)))","v":""},{"$f":"IF(LEN(G437)=0,\"\",INDEX('Loan - Uniformity'!$C$1:$C$20,MATCH($G437,'Loan - Uniformity'!$A$1:$A$20,1)))","v":""},"","",{"$f":"IF(OR(LEN(B437)=0,LEN(C437)=0,LEN(D437)=0,LEN(E437)=0,LEN(F437)=0,LEN(G437)=0),\"\",IF('Base Values'!$B$8+(SUM($L437:$P437)/100)<0,0,'Base Values'!$B$8+(SUM(L437:P437)/100)))","v":""},null,{"$f":"IF(AND($T$13=TRUE,H437=1),'Loan - Extraneous'!B$3,IF(AND($T$13=TRUE,H437=2),'Loan - Extraneous'!C$3,0))","v":0},{"$f":"IF(I437=1,'Loan - Extraneous'!$B$4,IF(I437=2,'Loan - Extraneous'!$C$4,0))","v":0},{"$f":"IF(J437=1,'Loan - Extraneous'!$B$5,IF(J437=2,'Loan - Extraneous'!$C$5,0))","v":0}]
[null,null,null,null,null,null,null,null,null,null,"",{"$f":"IF(OR(LEN(B438)=0,LEN(C438)=0,LEN(D438)=0),\"\",IF(K438>=38,INDEX('Loan - Grade & Staple'!$A$1:$K$1000,MATCH($B438&$C438,'Loan - Grade & Staple'!$B$1:$B$1000&'Loan - Grade & Staple'!$C$1:$C$1000,0),MATCH(\"38+\",'Loan - Grade & Staple'!$A$3:$K$3,0)),IF(K438<=31,INDEX('Loan - Grade & Staple'!$A$1:$K$1000,MATCH($B438&$C438,'Loan - Grade & Staple'!$B$1:$B$1000&'Loan - Grade & Staple'!$C$1:$C$1000,0),MATCH(\"26-31\",'Loan - Grade & Staple'!$A$3:$K$3,0)),IF(ISNA(INDEX('Loan - Grade & Staple'!$A$1:$K$1000,MATCH($B438&C438,'Loan - Grade & Staple'!$B$1:$B$1000&'Loan - Grade & Staple'!$C$1:$C$1000,0),MATCH($K438,'Loan - Grade & Staple'!$A$3:$K$3,0))),-4000,INDEX('Loan - Grade & Staple'!$A$1:$K$1000,MATCH($B438&C438,'Loan - Grade & Staple'!$B$1:$B$1000&'Loan - Grade & Staple'!$C$1:$C$1000,0),MATCH($K438,'Loan - Grade & Staple'!$A$3:$K$3,0))))))","v":""},{"$f":"IF(LEN(E438)=0,\"\",INDEX('Loan - Strength'!$C$1:$C$18,MATCH(E438,'Loan - Strength'!$A$1:$A$18,1)))","v":""},{"$f":"IF(LEN(F438)=0,\"\",INDEX('Loan - Micronaire'!$C$1:$C$20,MATCH($F438,'Loan - Micronaire'!$A$1:$A$20,1)))","v":""},{"$f":"IF(LEN(G438)=0,\"\",INDEX('Loan - Uniformity'!$C$1:$C$20,MATCH($G438,'Loan - Uniformity'!$A$1:$A$20,1)))","v":""},"","",{"$f":"IF(OR(LEN(B438)=0,LEN(C438)=0,LEN(D438)=0,LEN(E438)=0,LEN(F438)=0,LEN(G438)=0),\"\",IF('Base Values'!$B$8+(SUM($L438:$P438)/100)<0,0,'Base Values'!$B$8+(SUM(L438:P438)/100)))","v":""},null,{"$f":"IF(AND($T$13=TRUE,H438=1),'Loan - Extraneous'!B$3,IF(AND($T$13=TRUE,H438=2),'Loan - Extraneous'!C$3,0))","v":0},{"$f":"IF(I438=1,'Loan - Extraneous'!$B$4,IF(I438=2,'Loan - Extraneous'!$C$4,0))","v":0},{"$f":"IF(J438=1,'Loan - Extraneous'!$B$5,IF(J438=2,'Loan - Extraneous'!$C$5,0))","v":0}]
[null,null,null,null,null,null,null,null,null,null,"",{"$f":"IF(OR(LEN(B439)=0,LEN(C439)=0,LEN(D439)=0),\"\",IF(K439>=38,INDEX('Loan - Grade & Staple'!$A$1:$K$1000,MATCH($B439&$C439,'Loan - Grade & Staple'!$B$1:$B$1000&'Loan - Grade & Staple'!$C$1:$C$1000,0),MATCH(\"38+\",'Loan - Grade & Staple'!$A$3:$K$3,0)),IF(K439<=31,INDEX('Loan - Grade & Staple'!$A$1:$K$1000,MATCH($B439&$C439,'Loan - Grade & Staple'!$B$1:$B$1000&'Loan - Grade & Staple'!$C$1:$C$1000,0),MATCH(\"26-31\",'Loan - Grade & Staple'!$A$3:$K$3,0)),IF(ISNA(INDEX('Loan - Grade & Staple'!$A$1:$K$1000,MATCH($B439&C439,'Loan - Grade & Staple'!$B$1:$B$1000&'Loan - Grade & Staple'!$C$1:$C$1000,0),MATCH($K439,'Loan - Grade & Staple'!$A$3:$K$3,0))),-4000,INDEX('Loan - Grade & Staple'!$A$1:$K$1000,MATCH($B439&C439,'Loan - Grade & Staple'!$B$1:$B$1000&'Loan - Grade & Staple'!$C$1:$C$1000,0),MATCH($K439,'Loan - Grade & Staple'!$A$3:$K$3,0))))))","v":""},{"$f":"IF(LEN(E439)=0,\"\",INDEX('Loan - Strength'!$C$1:$C$18,MATCH(E439,'Loan - Strength'!$A$1:$A$18,1)))","v":""},{"$f":"IF(LEN(F439)=0,\"\",INDEX('Loan - Micronaire'!$C$1:$C$20,MATCH($F439,'Loan - Micronaire'!$A$1:$A$20,1)))","v":""},{"$f":"IF(LEN(G439)=0,\"\",INDEX('Loan - Uniformity'!$C$1:$C$20,MATCH($G439,'Loan - Uniformity'!$A$1:$A$20,1)))","v":""},"","",{"$f":"IF(OR(LEN(B439)=0,LEN(C439)=0,LEN(D439)=0,LEN(E439)=0,LEN(F439)=0,LEN(G439)=0),\"\",IF('Base Values'!$B$8+(SUM($L439:$P439)/100)<0,0,'Base Values'!$B$8+(SUM(L439:P439)/100)))","v":""},null,{"$f":"IF(AND($T$13=TRUE,H439=1),'Loan - Extraneous'!B$3,IF(AND($T$13=TRUE,H439=2),'Loan - Extraneous'!C$3,0))","v":0},{"$f":"IF(I439=1,'Loan - Extraneous'!$B$4,IF(I439=2,'Loan - Extraneous'!$C$4,0))","v":0},{"$f":"IF(J439=1,'Loan - Extraneous'!$B$5,IF(J439=2,'Loan - Extraneous'!$C$5,0))","v":0}]
[null,null,null,null,null,null,null,null,null,null,"",{"$f":"IF(OR(LEN(B440)=0,LEN(C440)=0,LEN(D440)=0),\"\",IF(K440>=38,INDEX('Loan - Grade & Staple'!$A$1:$K$1000,MATCH($B440&$C440,'Loan - Grade & Staple'!$B$1:$B$1000&'Loan - Grade & Staple'!$C$1:$C$1000,0),MATCH(\"38+\",'Loan - Grade & Staple'!$A$3:$K$3,0)),IF(K440<=31,INDEX('Loan - Grade & Staple'!$A$1:$K$1000,MATCH($B440&$C440,'Loan - Grade & Staple'!$B$1:$B$1000&'Loan - Grade & Staple'!$C$1:$C$1000,0),MATCH(\"26-31\",'Loan - Grade & Staple'!$A$3:$K$3,0)),IF(ISNA(INDEX('Loan - Grade & Staple'!$A$1:$K$1000,MATCH($B440&C440,'Loan - Grade & Staple'!$B$1:$B$1000&'Loan - Grade & Staple'!$C$1:$C$1000,0),MATCH($K440,'Loan - Grade & Staple'!$A$3:$K$3,0))),-4000,INDEX('Loan - Grade & Staple'!$A$1:$K$1000,MATCH($B440&C440,'Loan - Grade & Staple'!$B$1:$B$1000&'Loan - Grade & Staple'!$C$1:$C$1000,0),MATCH($K440,'Loan - Grade & Staple'!$A$3:$K$3,0))))))","v":""},{"$f":"IF(LEN(E440)=0,\"\",INDEX('Loan - Strength'!$C$1:$C$18,MATCH(E440,'Loan - Strength'!$A$1:$A$18,1)))","v":""},{"$f":"IF(LEN(F440)=0,\"\",INDEX('Loan - Micronaire'!$C$1:$C$20,MATCH($F440,'Loan - Micronaire'!$A$1:$A$20,1)))","v":""},{"$f":"IF(LEN(G440)=0,\"\",INDEX('Loan - Uniformity'!$C$1:$C$20,MATCH($G440,'Loan - Uniformity'!$A$1:$A$20,1)))","v":""},"","",{"$f":"IF(OR(LEN(B440)=0,LEN(C440)=0,LEN(D440)=0,LEN(E440)=0,LEN(F440)=0,LEN(G440)=0),\"\",IF('Base Values'!$B$8+(SUM($L440:$P440)/100)<0,0,'Base Values'!$B$8+(SUM(L440:P440)/100)))","v":""},null,{"$f":"IF(AND($T$13=TRUE,H440=1),'Loan - Extraneous'!B$3,IF(AND($T$13=TRUE,H440=2),'Loan - Extraneous'!C$3,0))","v":0},{"$f":"IF(I440=1,'Loan - Extraneous'!$B$4,IF(I440=2,'Loan - Extraneous'!$C$4,0))","v":0},{"$f":"IF(J440=1,'Loan - Extraneous'!$B$5,IF(J440=2,'Loan - Extraneous'!$C$5,0))","v":0}]
[null,null,null,null,null,null,null,null,null,null,"",{"$f":"IF(OR(LEN(B441)=0,LEN(C441)=0,LEN(D441)=0),\"\",IF(K441>=38,INDEX('Loan - Grade & Staple'!$A$1:$K$1000,MATCH($B441&$C441,'Loan - Grade & Staple'!$B$1:$B$1000&'Loan - Grade & Staple'!$C$1:$C$1000,0),MATCH(\"38+\",'Loan - Grade & Staple'!$A$3:$K$3,0)),IF(K441<=31,INDEX('Loan - Grade & Staple'!$A$1:$K$1000,MATCH($B441&$C441,'Loan - Grade & Staple'!$B$1:$B$1000&'Loan - Grade & Staple'!$C$1:$C$1000,0),MATCH(\"26-31\",'Loan - Grade & Staple'!$A$3:$K$3,0)),IF(ISNA(INDEX('Loan - Grade & Staple'!$A$1:$K$1000,MATCH($B441&C441,'Loan - Grade & Staple'!$B$1:$B$1000&'Loan - Grade & Staple'!$C$1:$C$1000,0),MATCH($K441,'Loan - Grade & Staple'!$A$3:$K$3,0))),-4000,INDEX('Loan - Grade & Staple'!$A$1:$K$1000,MATCH($B441&C441,'Loan - Grade & Staple'!$B$1:$B$1000&'Loan - Grade & Staple'!$C$1:$C$1000,0),MATCH($K441,'Loan - Grade & Staple'!$A$3:$K$3,0))))))","v":""},{"$f":"IF(LEN(E441)=0,\"\",INDEX('Loan - Strength'!$C$1:$C$18,MATCH(E441,'Loan - Strength'!$A$1:$A$18,1)))","v":""},{"$f":"IF(LEN(F441)=0,\"\",INDEX('Loan - Micronaire'!$C$1:$C$20,MATCH($F441,'Loan - Micronaire'!$A$1:$A$20,1)))","v":""},{"$f":"IF(LEN(G441)=0,\"\",INDEX('Loan - Uniformity'!$C$1:$C$20,MATCH($G441,'Loan - Uniformity'!$A$1:$A$20,1)))","v":""},"","",{"$f":"IF(OR(LEN(B441)=0,LEN(C441)=0,LEN(D441)=0,LEN(E441)=0,LEN(F441)=0,LEN(G441)=0),\"\",IF('Base Values'!$B$8+(SUM($L441:$P441)/100)<0,0,'Base Values'!$B$8+(SUM(L441:P441)/100)))","v":""},null,{"$f":"IF(AND($T$13=TRUE,H441=1),'Loan - Extraneous'!B$3,IF(AND($T$13=TRUE,H441=2),'Loan - Extraneous'!C$3,0))","v":0},{"$f":"IF(I441=1,'Loan - Extraneous'!$B$4,IF(I441=2,'Loan - Extraneous'!$C$4,0))","v":0},{"$f":"IF(J441=1,'Loan - Extraneous'!$B$5,IF(J441=2,'Loan - Extraneous'!$C$5,0))","v":0}]
[null,null,null,null,null,null,null,null,null,null,"",{"$f":"IF(OR(LEN(B442)=0,LEN(C442)=0,LEN(D442)=0),\"\",IF(K442>=38,INDEX('Loan - Grade & Staple'!$A$1:$K$1000,MATCH($B442&$C442,'Loan - Grade & Staple'!$B$1:$B$1000&'Loan - Grade & Staple'!$C$1:$C$1000,0),MATCH(\"38+\",'Loan - Grade & Staple'!$A$3:$K$3,0)),IF(K442<=31,INDEX('Loan - Grade & Staple'!$A$1:$K$1000,MATCH($B442&$C442,'Loan - Grade & Staple'!$B$1:$B$1000&'Loan - Grade & Staple'!$C$1:$C$1000,0),MATCH(\"26-31\",'Loan - Grade & Staple'!$A$3:$K$3,0)),IF(ISNA(INDEX('Loan - Grade & Staple'!$A$1:$K$1000,MATCH($B442&C442,'Loan - Grade & Staple'!$B$1:$B$1000&'Loan - Grade & Staple'!$C$1:$C$1000,0),MATCH($K442,'Loan - Grade & Staple'!$A$3:$K$3,0))),-4000,INDEX('Loan - Grade & Staple'!$A$1:$K$1000,MATCH($B442&C442,'Loan - Grade & Staple'!$B$1:$B$1000&'Loan - Grade & Staple'!$C$1:$C$1000,0),MATCH($K442,'Loan - Grade & Staple'!$A$3:$K$3,0))))))","v":""},{"$f":"IF(LEN(E442)=0,\"\",INDEX('Loan - Strength'!$C$1:$C$18,MATCH(E442,'Loan - Strength'!$A$1:$A$18,1)))","v":""},{"$f":"IF(LEN(F442)=0,\"\",INDEX('Loan - Micronaire'!$C$1:$C$20,MATCH($F442,'Loan - Micronaire'!$A$1:$A$20,1)))","v":""},{"$f":"IF(LEN(G442)=0,\"\",INDEX('Loan - Uniformity'!$C$1:$C$20,MATCH($G442,'Loan - Uniformity'!$A$1:$A$20,1)))","v":""},"","",{"$f":"IF(OR(LEN(B442)=0,LEN(C442)=0,LEN(D442)=0,LEN(E442)=0,LEN(F442)=0,LEN(G442)=0),\"\",IF('Base Values'!$B$8+(SUM($L442:$P442)/100)<0,0,'Base Values'!$B$8+(SUM(L442:P442)/100)))","v":""},null,{"$f":"IF(AND($T$13=TRUE,H442=1),'Loan - Extraneous'!B$3,IF(AND($T$13=TRUE,H442=2),'Loan - Extraneous'!C$3,0))","v":0},{"$f":"IF(I442=1,'Loan - Extraneous'!$B$4,IF(I442=2,'Loan - Extraneous'!$C$4,0))","v":0},{"$f":"IF(J442=1,'Loan - Extraneous'!$B$5,IF(J442=2,'Loan - Extraneous'!$C$5,0))","v":0}]
[null,null,null,null,null,null,null,null,null,null,"",{"$f":"IF(OR(LEN(B443)=0,LEN(C443)=0,LEN(D443)=0),\"\",IF(K443>=38,INDEX('Loan - Grade & Staple'!$A$1:$K$1000,MATCH($B443&$C443,'Loan - Grade & Staple'!$B$1:$B$1000&'Loan - Grade & Staple'!$C$1:$C$1000,0),MATCH(\"38+\",'Loan - Grade & Staple'!$A$3:$K$3,0)),IF(K443<=31,INDEX('Loan - Grade & Staple'!$A$1:$K$1000,MATCH($B443&$C443,'Loan - Grade & Staple'!$B$1:$B$1000&'Loan - Grade & Staple'!$C$1:$C$1000,0),MATCH(\"26-31\",'Loan - Grade & Staple'!$A$3:$K$3,0)),IF(ISNA(INDEX('Loan - Grade & Staple'!$A$1:$K$1000,MATCH($B443&C443,'Loan - Grade & Staple'!$B$1:$B$1000&'Loan - Grade & Staple'!$C$1:$C$1000,0),MATCH($K443,'Loan - Grade & Staple'!$A$3:$K$3,0))),-4000,INDEX('Loan - Grade & Staple'!$A$1:$K$1000,MATCH($B443&C443,'Loan - Grade & Staple'!$B$1:$B$1000&'Loan - Grade & Staple'!$C$1:$C$1000,0),MATCH($K443,'Loan - Grade & Staple'!$A$3:$K$3,0))))))","v":""},{"$f":"IF(LEN(E443)=0,\"\",INDEX('Loan - Strength'!$C$1:$C$18,MATCH(E443,'Loan - Strength'!$A$1:$A$18,1)))","v":""},{"$f":"IF(LEN(F443)=0,\"\",INDEX('Loan - Micronaire'!$C$1:$C$20,MATCH($F443,'Loan - Micronaire'!$A$1:$A$20,1)))","v":""},{"$f":"IF(LEN(G443)=0,\"\",INDEX('Loan - Uniformity'!$C$1:$C$20,MATCH($G443,'Loan - Uniformity'!$A$1:$A$20,1)))","v":""},"","",{"$f":"IF(OR(LEN(B443)=0,LEN(C443)=0,LEN(D443)=0,LEN(E443)=0,LEN(F443)=0,LEN(G443)=0),\"\",IF('Base Values'!$B$8+(SUM($L443:$P443)/100)<0,0,'Base Values'!$B$8+(SUM(L443:P443)/100)))","v":""},null,{"$f":"IF(AND($T$13=TRUE,H443=1),'Loan - Extraneous'!B$3,IF(AND($T$13=TRUE,H443=2),'Loan - Extraneous'!C$3,0))","v":0},{"$f":"IF(I443=1,'Loan - Extraneous'!$B$4,IF(I443=2,'Loan - Extraneous'!$C$4,0))","v":0},{"$f":"IF(J443=1,'Loan - Extraneous'!$B$5,IF(J443=2,'Loan - Extraneous'!$C$5,0))","v":0}]
[null,null,null,null,null,null,null,null,null,null,"",{"$f":"IF(OR(LEN(B444)=0,LEN(C444)=0,LEN(D444)=0),\"\",IF(K444>=38,INDEX('Loan - Grade & Staple'!$A$1:$K$1000,MATCH($B444&$C444,'Loan - Grade & Staple'!$B$1:$B$1000&'Loan - Grade & Staple'!$C$1:$C$1000,0),MATCH(\"38+\",'Loan - Grade & Staple'!$A$3:$K$3,0)),IF(K444<=31,INDEX('Loan - Grade & Staple'!$A$1:$K$1000,MATCH($B444&$C444,'Loan - Grade & Staple'!$B$1:$B$1000&'Loan - Grade & Staple'!$C$1:$C$1000,0),MATCH(\"26-31\",'Loan - Grade & Staple'!$A$3:$K$3,0)),IF(ISNA(INDEX('Loan - Grade & Staple'!$A$1:$K$1000,MATCH($B444&C444,'Loan - Grade & Staple'!$B$1:$B$1000&'Loan - Grade & Staple'!$C$1:$C$1000,0),MATCH($K444,'Loan - Grade & Staple'!$A$3:$K$3,0))),-4000,INDEX('Loan - Grade & Staple'!$A$1:$K$1000,MATCH($B444&C444,'Loan - Grade & Staple'!$B$1:$B$1000&'Loan - Grade & Staple'!$C$1:$C$1000,0),MATCH($K444,'Loan - Grade & Staple'!$A$3:$K$3,0))))))","v":""},{"$f":"IF(LEN(E444)=0,\"\",INDEX('Loan - Strength'!$C$1:$C$18,MATCH(E444,'Loan - Strength'!$A$1:$A$18,1)))","v":""},{"$f":"IF(LEN(F444)=0,\"\",INDEX('Loan - Micronaire'!$C$1:$C$20,MATCH($F444,'Loan - Micronaire'!$A$1:$A$20,1)))","v":""},{"$f":"IF(LEN(G444)=0,\"\",INDEX('Loan - Uniformity'!$C$1:$C$20,MATCH($G444,'Loan - Uniformity'!$A$1:$A$20,1)))","v":""},"","",{"$f":"IF(OR(LEN(B444)=0,LEN(C444)=0,LEN(D444)=0,LEN(E444)=0,LEN(F444)=0,LEN(G444)=0),\"\",IF('Base Values'!$B$8+(SUM($L444:$P444)/100)<0,0,'Base Values'!$B$8+(SUM(L444:P444)/100)))","v":""},null,{"$f":"IF(AND($T$13=TRUE,H444=1),'Loan - Extraneous'!B$3,IF(AND($T$13=TRUE,H444=2),'Loan - Extraneous'!C$3,0))","v":0},{"$f":"IF(I444=1,'Loan - Extraneous'!$B$4,IF(I444=2,'Loan - Extraneous'!$C$4,0))","v":0},{"$f":"IF(J444=1,'Loan - Extraneous'!$B$5,IF(J444=2,'Loan - Extraneous'!$C$5,0))","v":0}]
[null,null,null,null,null,null,null,null,null,null,"",{"$f":"IF(OR(LEN(B445)=0,LEN(C445)=0,LEN(D445)=0),\"\",IF(K445>=38,INDEX('Loan - Grade & Staple'!$A$1:$K$1000,MATCH($B445&$C445,'Loan - Grade & Staple'!$B$1:$B$1000&'Loan - Grade & Staple'!$C$1:$C$1000,0),MATCH(\"38+\",'Loan - Grade & Staple'!$A$3:$K$3,0)),IF(K445<=31,INDEX('Loan - Grade & Staple'!$A$1:$K$1000,MATCH($B445&$C445,'Loan - Grade & Staple'!$B$1:$B$1000&'Loan - Grade & Staple'!$C$1:$C$1000,0),MATCH(\"26-31\",'Loan - Grade & Staple'!$A$3:$K$3,0)),IF(ISNA(INDEX('Loan - Grade & Staple'!$A$1:$K$1000,MATCH($B445&C445,'Loan - Grade & Staple'!$B$1:$B$1000&'Loan - Grade & Staple'!$C$1:$C$1000,0),MATCH($K445,'Loan - Grade & Staple'!$A$3:$K$3,0))),-4000,INDEX('Loan - Grade & Staple'!$A$1:$K$1000,MATCH($B445&C445,'Loan - Grade & Staple'!$B$1:$B$1000&'Loan - Grade & Staple'!$C$1:$C$1000,0),MATCH($K445,'Loan - Grade & Staple'!$A$3:$K$3,0))))))","v":""},{"$f":"IF(LEN(E445)=0,\"\",INDEX('Loan - Strength'!$C$1:$C$18,MATCH(E445,'Loan - Strength'!$A$1:$A$18,1)))","v":""},{"$f":"IF(LEN(F445)=0,\"\",INDEX('Loan - Micronaire'!$C$1:$C$20,MATCH($F445,'Loan - Micronaire'!$A$1:$A$20,1)))","v":""},{"$f":"IF(LEN(G445)=0,\"\",INDEX('Loan - Uniformity'!$C$1:$C$20,MATCH($G445,'Loan - Uniformity'!$A$1:$A$20,1)))","v":""},"","",{"$f":"IF(OR(LEN(B445)=0,LEN(C445)=0,LEN(D445)=0,LEN(E445)=0,LEN(F445)=0,LEN(G445)=0),\"\",IF('Base Values'!$B$8+(SUM($L445:$P445)/100)<0,0,'Base Values'!$B$8+(SUM(L445:P445)/100)))","v":""},null,{"$f":"IF(AND($T$13=TRUE,H445=1),'Loan - Extraneous'!B$3,IF(AND($T$13=TRUE,H445=2),'Loan - Extraneous'!C$3,0))","v":0},{"$f":"IF(I445=1,'Loan - Extraneous'!$B$4,IF(I445=2,'Loan - Extraneous'!$C$4,0))","v":0},{"$f":"IF(J445=1,'Loan - Extraneous'!$B$5,IF(J445=2,'Loan - Extraneous'!$C$5,0))","v":0}]
[null,null,null,null,null,null,null,null,null,null,"",{"$f":"IF(OR(LEN(B446)=0,LEN(C446)=0,LEN(D446)=0),\"\",IF(K446>=38,INDEX('Loan - Grade & Staple'!$A$1:$K$1000,MATCH($B446&$C446,'Loan - Grade & Staple'!$B$1:$B$1000&'Loan - Grade & Staple'!$C$1:$C$1000,0),MATCH(\"38+\",'Loan - Grade & Staple'!$A$3:$K$3,0)),IF(K446<=31,INDEX('Loan - Grade & Staple'!$A$1:$K$1000,MATCH($B446&$C446,'Loan - Grade & Staple'!$B$1:$B$1000&'Loan - Grade & Staple'!$C$1:$C$1000,0),MATCH(\"26-31\",'Loan - Grade & Staple'!$A$3:$K$3,0)),IF(ISNA(INDEX('Loan - Grade & Staple'!$A$1:$K$1000,MATCH($B446&C446,'Loan - Grade & Staple'!$B$1:$B$1000&'Loan - Grade & Staple'!$C$1:$C$1000,0),MATCH($K446,'Loan - Grade & Staple'!$A$3:$K$3,0))),-4000,INDEX('Loan - Grade & Staple'!$A$1:$K$1000,MATCH($B446&C446,'Loan - Grade & Staple'!$B$1:$B$1000&'Loan - Grade & Staple'!$C$1:$C$1000,0),MATCH($K446,'Loan - Grade & Staple'!$A$3:$K$3,0))))))","v":""},{"$f":"IF(LEN(E446)=0,\"\",INDEX('Loan - Strength'!$C$1:$C$18,MATCH(E446,'Loan - Strength'!$A$1:$A$18,1)))","v":""},{"$f":"IF(LEN(F446)=0,\"\",INDEX('Loan - Micronaire'!$C$1:$C$20,MATCH($F446,'Loan - Micronaire'!$A$1:$A$20,1)))","v":""},{"$f":"IF(LEN(G446)=0,\"\",INDEX('Loan - Uniformity'!$C$1:$C$20,MATCH($G446,'Loan - Uniformity'!$A$1:$A$20,1)))","v":""},"","",{"$f":"IF(OR(LEN(B446)=0,LEN(C446)=0,LEN(D446)=0,LEN(E446)=0,LEN(F446)=0,LEN(G446)=0),\"\",IF('Base Values'!$B$8+(SUM($L446:$P446)/100)<0,0,'Base Values'!$B$8+(SUM(L446:P446)/100)))","v":""},null,{"$f":"IF(AND($T$13=TRUE,H446=1),'Loan - Extraneous'!B$3,IF(AND($T$13=TRUE,H446=2),'Loan - Extraneous'!C$3,0))","v":0},{"$f":"IF(I446=1,'Loan - Extraneous'!$B$4,IF(I446=2,'Loan - Extraneous'!$C$4,0))","v":0},{"$f":"IF(J446=1,'Loan - Extraneous'!$B$5,IF(J446=2,'Loan - Extraneous'!$C$5,0))","v":0}]
[null,null,null,null,null,null,null,null,null,null,"",{"$f":"IF(OR(LEN(B447)=0,LEN(C447)=0,LEN(D447)=0),\"\",IF(K447>=38,INDEX('Loan - Grade & Staple'!$A$1:$K$1000,MATCH($B447&$C447,'Loan - Grade & Staple'!$B$1:$B$1000&'Loan - Grade & Staple'!$C$1:$C$1000,0),MATCH(\"38+\",'Loan - Grade & Staple'!$A$3:$K$3,0)),IF(K447<=31,INDEX('Loan - Grade & Staple'!$A$1:$K$1000,MATCH($B447&$C447,'Loan - Grade & Staple'!$B$1:$B$1000&'Loan - Grade & Staple'!$C$1:$C$1000,0),MATCH(\"26-31\",'Loan - Grade & Staple'!$A$3:$K$3,0)),IF(ISNA(INDEX('Loan - Grade & Staple'!$A$1:$K$1000,MATCH($B447&C447,'Loan - Grade & Staple'!$B$1:$B$1000&'Loan - Grade & Staple'!$C$1:$C$1000,0),MATCH($K447,'Loan - Grade & Staple'!$A$3:$K$3,0))),-4000,INDEX('Loan - Grade & Staple'!$A$1:$K$1000,MATCH($B447&C447,'Loan - Grade & Staple'!$B$1:$B$1000&'Loan - Grade & Staple'!$C$1:$C$1000,0),MATCH($K447,'Loan - Grade & Staple'!$A$3:$K$3,0))))))","v":""},{"$f":"IF(LEN(E447)=0,\"\",INDEX('Loan - Strength'!$C$1:$C$18,MATCH(E447,'Loan - Strength'!$A$1:$A$18,1)))","v":""},{"$f":"IF(LEN(F447)=0,\"\",INDEX('Loan - Micronaire'!$C$1:$C$20,MATCH($F447,'Loan - Micronaire'!$A$1:$A$20,1)))","v":""},{"$f":"IF(LEN(G447)=0,\"\",INDEX('Loan - Uniformity'!$C$1:$C$20,MATCH($G447,'Loan - Uniformity'!$A$1:$A$20,1)))","v":""},"","",{"$f":"IF(OR(LEN(B447)=0,LEN(C447)=0,LEN(D447)=0,LEN(E447)=0,LEN(F447)=0,LEN(G447)=0),\"\",IF('Base Values'!$B$8+(SUM($L447:$P447)/100)<0,0,'Base Values'!$B$8+(SUM(L447:P447)/100)))","v":""},null,{"$f":"IF(AND($T$13=TRUE,H447=1),'Loan - Extraneous'!B$3,IF(AND($T$13=TRUE,H447=2),'Loan - Extraneous'!C$3,0))","v":0},{"$f":"IF(I447=1,'Loan - Extraneous'!$B$4,IF(I447=2,'Loan - Extraneous'!$C$4,0))","v":0},{"$f":"IF(J447=1,'Loan - Extraneous'!$B$5,IF(J447=2,'Loan - Extraneous'!$C$5,0))","v":0}]
[null,null,null,null,null,null,null,null,null,null,"",{"$f":"IF(OR(LEN(B448)=0,LEN(C448)=0,LEN(D448)=0),\"\",IF(K448>=38,INDEX('Loan - Grade & Staple'!$A$1:$K$1000,MATCH($B448&$C448,'Loan - Grade & Staple'!$B$1:$B$1000&'Loan - Grade & Staple'!$C$1:$C$1000,0),MATCH(\"38+\",'Loan - Grade & Staple'!$A$3:$K$3,0)),IF(K448<=31,INDEX('Loan - Grade & Staple'!$A$1:$K$1000,MATCH($B448&$C448,'Loan - Grade & Staple'!$B$1:$B$1000&'Loan - Grade & Staple'!$C$1:$C$1000,0),MATCH(\"26-31\",'Loan - Grade & Staple'!$A$3:$K$3,0)),IF(ISNA(INDEX('Loan - Grade & Staple'!$A$1:$K$1000,MATCH($B448&C448,'Loan - Grade & Staple'!$B$1:$B$1000&'Loan - Grade & Staple'!$C$1:$C$1000,0),MATCH($K448,'Loan - Grade & Staple'!$A$3:$K$3,0))),-4000,INDEX('Loan - Grade & Staple'!$A$1:$K$1000,MATCH($B448&C448,'Loan - Grade & Staple'!$B$1:$B$1000&'Loan - Grade & Staple'!$C$1:$C$1000,0),MATCH($K448,'Loan - Grade & Staple'!$A$3:$K$3,0))))))","v":""},{"$f":"IF(LEN(E448)=0,\"\",INDEX('Loan - Strength'!$C$1:$C$18,MATCH(E448,'Loan - Strength'!$A$1:$A$18,1)))","v":""},{"$f":"IF(LEN(F448)=0,\"\",INDEX('Loan - Micronaire'!$C$1:$C$20,MATCH($F448,'Loan - Micronaire'!$A$1:$A$20,1)))","v":""},{"$f":"IF(LEN(G448)=0,\"\",INDEX('Loan - Uniformity'!$C$1:$C$20,MATCH($G448,'Loan - Uniformity'!$A$1:$A$20,1)))","v":""},"","",{"$f":"IF(OR(LEN(B448)=0,LEN(C448)=0,LEN(D448)=0,LEN(E448)=0,LEN(F448)=0,LEN(G448)=0),\"\",IF('Base Values'!$B$8+(SUM($L448:$P448)/100)<0,0,'Base Values'!$B$8+(SUM(L448:P448)/100)))","v":""},null,{"$f":"IF(AND($T$13=TRUE,H448=1),'Loan - Extraneous'!B$3,IF(AND($T$13=TRUE,H448=2),'Loan - Extraneous'!C$3,0))","v":0},{"$f":"IF(I448=1,'Loan - Extraneous'!$B$4,IF(I448=2,'Loan - Extraneous'!$C$4,0))","v":0},{"$f":"IF(J448=1,'Loan - Extraneous'!$B$5,IF(J448=2,'Loan - Extraneous'!$C$5,0))","v":0}]
[null,null,null,null,null,null,null,null,null,null,"",{"$f":"IF(OR(LEN(B449)=0,LEN(C449)=0,LEN(D449)=0),\"\",IF(K449>=38,INDEX('Loan - Grade & Staple'!$A$1:$K$1000,MATCH($B449&$C449,'Loan - Grade & Staple'!$B$1:$B$1000&'Loan - Grade & Staple'!$C$1:$C$1000,0),MATCH(\"38+\",'Loan - Grade & Staple'!$A$3:$K$3,0)),IF(K449<=31,INDEX('Loan - Grade & Staple'!$A$1:$K$1000,MATCH($B449&$C449,'Loan - Grade & Staple'!$B$1:$B$1000&'Loan - Grade & Staple'!$C$1:$C$1000,0),MATCH(\"26-31\",'Loan - Grade & Staple'!$A$3:$K$3,0)),IF(ISNA(INDEX('Loan - Grade & Staple'!$A$1:$K$1000,MATCH($B449&C449,'Loan - Grade & Staple'!$B$1:$B$1000&'Loan - Grade & Staple'!$C$1:$C$1000,0),MATCH($K449,'Loan - Grade & Staple'!$A$3:$K$3,0))),-4000,INDEX('Loan - Grade & Staple'!$A$1:$K$1000,MATCH($B449&C449,'Loan - Grade & Staple'!$B$1:$B$1000&'Loan - Grade & Staple'!$C$1:$C$1000,0),MATCH($K449,'Loan - Grade & Staple'!$A$3:$K$3,0))))))","v":""},{"$f":"IF(LEN(E449)=0,\"\",INDEX('Loan - Strength'!$C$1:$C$18,MATCH(E449,'Loan - Strength'!$A$1:$A$18,1)))","v":""},{"$f":"IF(LEN(F449)=0,\"\",INDEX('Loan - Micronaire'!$C$1:$C$20,MATCH($F449,'Loan - Micronaire'!$A$1:$A$20,1)))","v":""},{"$f":"IF(LEN(G449)=0,\"\",INDEX('Loan - Uniformity'!$C$1:$C$20,MATCH($G449,'Loan - Uniformity'!$A$1:$A$20,1)))","v":""},"","",{"$f":"IF(OR(LEN(B449)=0,LEN(C449)=0,LEN(D449)=0,LEN(E449)=0,LEN(F449)=0,LEN(G449)=0),\"\",IF('Base Values'!$B$8+(SUM($L449:$P449)/100)<0,0,'Base Values'!$B$8+(SUM(L449:P449)/100)))","v":""},null,{"$f":"IF(AND($T$13=TRUE,H449=1),'Loan - Extraneous'!B$3,IF(AND($T$13=TRUE,H449=2),'Loan - Extraneous'!C$3,0))","v":0},{"$f":"IF(I449=1,'Loan - Extraneous'!$B$4,IF(I449=2,'Loan - Extraneous'!$C$4,0))","v":0},{"$f":"IF(J449=1,'Loan - Extraneous'!$B$5,IF(J449=2,'Loan - Extraneous'!$C$5,0))","v":0}]
[null,null,null,null,null,null,null,null,null,null,"",{"$f":"IF(OR(LEN(B450)=0,LEN(C450)=0,LEN(D450)=0),\"\",IF(K450>=38,INDEX('Loan - Grade & Staple'!$A$1:$K$1000,MATCH($B450&$C450,'Loan - Grade & Staple'!$B$1:$B$1000&'Loan - Grade & Staple'!$C$1:$C$1000,0),MATCH(\"38+\",'Loan - Grade & Staple'!$A$3:$K$3,0)),IF(K450<=31,INDEX('Loan - Grade & Staple'!$A$1:$K$1000,MATCH($B450&$C450,'Loan - Grade & Staple'!$B$1:$B$1000&'Loan - Grade & Staple'!$C$1:$C$1000,0),MATCH(\"26-31\",'Loan - Grade & Staple'!$A$3:$K$3,0)),IF(ISNA(INDEX('Loan - Grade & Staple'!$A$1:$K$1000,MATCH($B450&C450,'Loan - Grade & Staple'!$B$1:$B$1000&'Loan - Grade & Staple'!$C$1:$C$1000,0),MATCH($K450,'Loan - Grade & Staple'!$A$3:$K$3,0))),-4000,INDEX('Loan - Grade & Staple'!$A$1:$K$1000,MATCH($B450&C450,'Loan - Grade & Staple'!$B$1:$B$1000&'Loan - Grade & Staple'!$C$1:$C$1000,0),MATCH($K450,'Loan - Grade & Staple'!$A$3:$K$3,0))))))","v":""},{"$f":"IF(LEN(E450)=0,\"\",INDEX('Loan - Strength'!$C$1:$C$18,MATCH(E450,'Loan - Strength'!$A$1:$A$18,1)))","v":""},{"$f":"IF(LEN(F450)=0,\"\",INDEX('Loan - Micronaire'!$C$1:$C$20,MATCH($F450,'Loan - Micronaire'!$A$1:$A$20,1)))","v":""},{"$f":"IF(LEN(G450)=0,\"\",INDEX('Loan - Uniformity'!$C$1:$C$20,MATCH($G450,'Loan - Uniformity'!$A$1:$A$20,1)))","v":""},"","",{"$f":"IF(OR(LEN(B450)=0,LEN(C450)=0,LEN(D450)=0,LEN(E450)=0,LEN(F450)=0,LEN(G450)=0),\"\",IF('Base Values'!$B$8+(SUM($L450:$P450)/100)<0,0,'Base Values'!$B$8+(SUM(L450:P450)/100)))","v":""},null,{"$f":"IF(AND($T$13=TRUE,H450=1),'Loan - Extraneous'!B$3,IF(AND($T$13=TRUE,H450=2),'Loan - Extraneous'!C$3,0))","v":0},{"$f":"IF(I450=1,'Loan - Extraneous'!$B$4,IF(I450=2,'Loan - Extraneous'!$C$4,0))","v":0},{"$f":"IF(J450=1,'Loan - Extraneous'!$B$5,IF(J450=2,'Loan - Extraneous'!$C$5,0))","v":0}]
[null,null,null,null,null,null,null,null,null,null,"",{"$f":"IF(OR(LEN(B451)=0,LEN(C451)=0,LEN(D451)=0),\"\",IF(K451>=38,INDEX('Loan - Grade & Staple'!$A$1:$K$1000,MATCH($B451&$C451,'Loan - Grade & Staple'!$B$1:$B$1000&'Loan - Grade & Staple'!$C$1:$C$1000,0),MATCH(\"38+\",'Loan - Grade & Staple'!$A$3:$K$3,0)),IF(K451<=31,INDEX('Loan - Grade & Staple'!$A$1:$K$1000,MATCH($B451&$C451,'Loan - Grade & Staple'!$B$1:$B$1000&'Loan - Grade & Staple'!$C$1:$C$1000,0),MATCH(\"26-31\",'Loan - Grade & Staple'!$A$3:$K$3,0)),IF(ISNA(INDEX('Loan - Grade & Staple'!$A$1:$K$1000,MATCH($B451&C451,'Loan - Grade & Staple'!$B$1:$B$1000&'Loan - Grade & Staple'!$C$1:$C$1000,0),MATCH($K451,'Loan - Grade & Staple'!$A$3:$K$3,0))),-4000,INDEX('Loan - Grade & Staple'!$A$1:$K$1000,MATCH($B451&C451,'Loan - Grade & Staple'!$B$1:$B$1000&'Loan - Grade & Staple'!$C$1:$C$1000,0),MATCH($K451,'Loan - Grade & Staple'!$A$3:$K$3,0))))))","v":""},{"$f":"IF(LEN(E451)=0,\"\",INDEX('Loan - Strength'!$C$1:$C$18,MATCH(E451,'Loan - Strength'!$A$1:$A$18,1)))","v":""},{"$f":"IF(LEN(F451)=0,\"\",INDEX('Loan - Micronaire'!$C$1:$C$20,MATCH($F451,'Loan - Micronaire'!$A$1:$A$20,1)))","v":""},{"$f":"IF(LEN(G451)=0,\"\",INDEX('Loan - Uniformity'!$C$1:$C$20,MATCH($G451,'Loan - Uniformity'!$A$1:$A$20,1)))","v":""},"","",{"$f":"IF(OR(LEN(B451)=0,LEN(C451)=0,LEN(D451)=0,LEN(E451)=0,LEN(F451)=0,LEN(G451)=0),\"\",IF('Base Values'!$B$8+(SUM($L451:$P451)/100)<0,0,'Base Values'!$B$8+(SUM(L451:P451)/100)))","v":""},null,{"$f":"IF(AND($T$13=TRUE,H451=1),'Loan - Extraneous'!B$3,IF(AND($T$13=TRUE,H451=2),'Loan - Extraneous'!C$3,0))","v":0},{"$f":"IF(I451=1,'Loan - Extraneous'!$B$4,IF(I451=2,'Loan - Extraneous'!$C$4,0))","v":0},{"$f":"IF(J451=1,'Loan - Extraneous'!$B$5,IF(J451=2,'Loan - Extraneous'!$C$5,0))","v":0}]
[null,null,null,null,null,null,null,null,null,null,"",{"$f":"IF(OR(LEN(B452)=0,LEN(C452)=0,LEN(D452)=0),\"\",IF(K452>=38,INDEX('Loan - Grade & Staple'!$A$1:$K$1000,MATCH($B452&$C452,'Loan - Grade & Staple'!$B$1:$B$1000&'Loan - Grade & Staple'!$C$1:$C$1000,0),MATCH(\"38+\",'Loan - Grade & Staple'!$A$3:$K$3,0)),IF(K452<=31,INDEX('Loan - Grade & Staple'!$A$1:$K$1000,MATCH($B452&$C452,'Loan - Grade & Staple'!$B$1:$B$1000&'Loan - Grade & Staple'!$C$1:$C$1000,0),MATCH(\"26-31\",'Loan - Grade & Staple'!$A$3:$K$3,0)),IF(ISNA(INDEX('Loan - Grade & Staple'!$A$1:$K$1000,MATCH($B452&C452,'Loan - Grade & Staple'!$B$1:$B$1000&'Loan - Grade & Staple'!$C$1:$C$1000,0),MATCH($K452,'Loan - Grade & Staple'!$A$3:$K$3,0))),-4000,INDEX('Loan - Grade & Staple'!$A$1:$K$1000,MATCH($B452&C452,'Loan - Grade & Staple'!$B$1:$B$1000&'Loan - Grade & Staple'!$C$1:$C$1000,0),MATCH($K452,'Loan - Grade & Staple'!$A$3:$K$3,0))))))","v":""},{"$f":"IF(LEN(E452)=0,\"\",INDEX('Loan - Strength'!$C$1:$C$18,MATCH(E452,'Loan - Strength'!$A$1:$A$18,1)))","v":""},{"$f":"IF(LEN(F452)=0,\"\",INDEX('Loan - Micronaire'!$C$1:$C$20,MATCH($F452,'Loan - Micronaire'!$A$1:$A$20,1)))","v":""},{"$f":"IF(LEN(G452)=0,\"\",INDEX('Loan - Uniformity'!$C$1:$C$20,MATCH($G452,'Loan - Uniformity'!$A$1:$A$20,1)))","v":""},"","",{"$f":"IF(OR(LEN(B452)=0,LEN(C452)=0,LEN(D452)=0,LEN(E452)=0,LEN(F452)=0,LEN(G452)=0),\"\",IF('Base Values'!$B$8+(SUM($L452:$P452)/100)<0,0,'Base Values'!$B$8+(SUM(L452:P452)/100)))","v":""},null,{"$f":"IF(AND($T$13=TRUE,H452=1),'Loan - Extraneous'!B$3,IF(AND($T$13=TRUE,H452=2),'Loan - Extraneous'!C$3,0))","v":0},{"$f":"IF(I452=1,'Loan - Extraneous'!$B$4,IF(I452=2,'Loan - Extraneous'!$C$4,0))","v":0},{"$f":"IF(J452=1,'Loan - Extraneous'!$B$5,IF(J452=2,'Loan - Extraneous'!$C$5,0))","v":0}]
[null,null,null,null,null,null,null,null,null,null,"",{"$f":"IF(OR(LEN(B453)=0,LEN(C453)=0,LEN(D453)=0),\"\",IF(K453>=38,INDEX('Loan - Grade & Staple'!$A$1:$K$1000,MATCH($B453&$C453,'Loan - Grade & Staple'!$B$1:$B$1000&'Loan - Grade & Staple'!$C$1:$C$1000,0),MATCH(\"38+\",'Loan - Grade & Staple'!$A$3:$K$3,0)),IF(K453<=31,INDEX('Loan - Grade & Staple'!$A$1:$K$1000,MATCH($B453&$C453,'Loan - Grade & Staple'!$B$1:$B$1000&'Loan - Grade & Staple'!$C$1:$C$1000,0),MATCH(\"26-31\",'Loan - Grade & Staple'!$A$3:$K$3,0)),IF(ISNA(INDEX('Loan - Grade & Staple'!$A$1:$K$1000,MATCH($B453&C453,'Loan - Grade & Staple'!$B$1:$B$1000&'Loan - Grade & Staple'!$C$1:$C$1000,0),MATCH($K453,'Loan - Grade & Staple'!$A$3:$K$3,0))),-4000,INDEX('Loan - Grade & Staple'!$A$1:$K$1000,MATCH($B453&C453,'Loan - Grade & Staple'!$B$1:$B$1000&'Loan - Grade & Staple'!$C$1:$C$1000,0),MATCH($K453,'Loan - Grade & Staple'!$A$3:$K$3,0))))))","v":""},{"$f":"IF(LEN(E453)=0,\"\",INDEX('Loan - Strength'!$C$1:$C$18,MATCH(E453,'Loan - Strength'!$A$1:$A$18,1)))","v":""},{"$f":"IF(LEN(F453)=0,\"\",INDEX('Loan - Micronaire'!$C$1:$C$20,MATCH($F453,'Loan - Micronaire'!$A$1:$A$20,1)))","v":""},{"$f":"IF(LEN(G453)=0,\"\",INDEX('Loan - Uniformity'!$C$1:$C$20,MATCH($G453,'Loan - Uniformity'!$A$1:$A$20,1)))","v":""},"","",{"$f":"IF(OR(LEN(B453)=0,LEN(C453)=0,LEN(D453)=0,LEN(E453)=0,LEN(F453)=0,LEN(G453)=0),\"\",IF('Base Values'!$B$8+(SUM($L453:$P453)/100)<0,0,'Base Values'!$B$8+(SUM(L453:P453)/100)))","v":""},null,{"$f":"IF(AND($T$13=TRUE,H453=1),'Loan - Extraneous'!B$3,IF(AND($T$13=TRUE,H453=2),'Loan - Extraneous'!C$3,0))","v":0},{"$f":"IF(I453=1,'Loan - Extraneous'!$B$4,IF(I453=2,'Loan - Extraneous'!$C$4,0))","v":0},{"$f":"IF(J453=1,'Loan - Extraneous'!$B$5,IF(J453=2,'Loan - Extraneous'!$C$5,0))","v":0}]
[null,null,null,null,null,null,null,null,null,null,"",{"$f":"IF(OR(LEN(B454)=0,LEN(C454)=0,LEN(D454)=0),\"\",IF(K454>=38,INDEX('Loan - Grade & Staple'!$A$1:$K$1000,MATCH($B454&$C454,'Loan - Grade & Staple'!$B$1:$B$1000&'Loan - Grade & Staple'!$C$1:$C$1000,0),MATCH(\"38+\",'Loan - Grade & Staple'!$A$3:$K$3,0)),IF(K454<=31,INDEX('Loan - Grade & Staple'!$A$1:$K$1000,MATCH($B454&$C454,'Loan - Grade & Staple'!$B$1:$B$1000&'Loan - Grade & Staple'!$C$1:$C$1000,0),MATCH(\"26-31\",'Loan - Grade & Staple'!$A$3:$K$3,0)),IF(ISNA(INDEX('Loan - Grade & Staple'!$A$1:$K$1000,MATCH($B454&C454,'Loan - Grade & Staple'!$B$1:$B$1000&'Loan - Grade & Staple'!$C$1:$C$1000,0),MATCH($K454,'Loan - Grade & Staple'!$A$3:$K$3,0))),-4000,INDEX('Loan - Grade & Staple'!$A$1:$K$1000,MATCH($B454&C454,'Loan - Grade & Staple'!$B$1:$B$1000&'Loan - Grade & Staple'!$C$1:$C$1000,0),MATCH($K454,'Loan - Grade & Staple'!$A$3:$K$3,0))))))","v":""},{"$f":"IF(LEN(E454)=0,\"\",INDEX('Loan - Strength'!$C$1:$C$18,MATCH(E454,'Loan - Strength'!$A$1:$A$18,1)))","v":""},{"$f":"IF(LEN(F454)=0,\"\",INDEX('Loan - Micronaire'!$C$1:$C$20,MATCH($F454,'Loan - Micronaire'!$A$1:$A$20,1)))","v":""},{"$f":"IF(LEN(G454)=0,\"\",INDEX('Loan - Uniformity'!$C$1:$C$20,MATCH($G454,'Loan - Uniformity'!$A$1:$A$20,1)))","v":""},"","",{"$f":"IF(OR(LEN(B454)=0,LEN(C454)=0,LEN(D454)=0,LEN(E454)=0,LEN(F454)=0,LEN(G454)=0),\"\",IF('Base Values'!$B$8+(SUM($L454:$P454)/100)<0,0,'Base Values'!$B$8+(SUM(L454:P454)/100)))","v":""},null,{"$f":"IF(AND($T$13=TRUE,H454=1),'Loan - Extraneous'!B$3,IF(AND($T$13=TRUE,H454=2),'Loan - Extraneous'!C$3,0))","v":0},{"$f":"IF(I454=1,'Loan - Extraneous'!$B$4,IF(I454=2,'Loan - Extraneous'!$C$4,0))","v":0},{"$f":"IF(J454=1,'Loan - Extraneous'!$B$5,IF(J454=2,'Loan - Extraneous'!$C$5,0))","v":0}]
[null,null,null,null,null,null,null,null,null,null,"",{"$f":"IF(OR(LEN(B455)=0,LEN(C455)=0,LEN(D455)=0),\"\",IF(K455>=38,INDEX('Loan - Grade & Staple'!$A$1:$K$1000,MATCH($B455&$C455,'Loan - Grade & Staple'!$B$1:$B$1000&'Loan - Grade & Staple'!$C$1:$C$1000,0),MATCH(\"38+\",'Loan - Grade & Staple'!$A$3:$K$3,0)),IF(K455<=31,INDEX('Loan - Grade & Staple'!$A$1:$K$1000,MATCH($B455&$C455,'Loan - Grade & Staple'!$B$1:$B$1000&'Loan - Grade & Staple'!$C$1:$C$1000,0),MATCH(\"26-31\",'Loan - Grade & Staple'!$A$3:$K$3,0)),IF(ISNA(INDEX('Loan - Grade & Staple'!$A$1:$K$1000,MATCH($B455&C455,'Loan - Grade & Staple'!$B$1:$B$1000&'Loan - Grade & Staple'!$C$1:$C$1000,0),MATCH($K455,'Loan - Grade & Staple'!$A$3:$K$3,0))),-4000,INDEX('Loan - Grade & Staple'!$A$1:$K$1000,MATCH($B455&C455,'Loan - Grade & Staple'!$B$1:$B$1000&'Loan - Grade & Staple'!$C$1:$C$1000,0),MATCH($K455,'Loan - Grade & Staple'!$A$3:$K$3,0))))))","v":""},{"$f":"IF(LEN(E455)=0,\"\",INDEX('Loan - Strength'!$C$1:$C$18,MATCH(E455,'Loan - Strength'!$A$1:$A$18,1)))","v":""},{"$f":"IF(LEN(F455)=0,\"\",INDEX('Loan - Micronaire'!$C$1:$C$20,MATCH($F455,'Loan - Micronaire'!$A$1:$A$20,1)))","v":""},{"$f":"IF(LEN(G455)=0,\"\",INDEX('Loan - Uniformity'!$C$1:$C$20,MATCH($G455,'Loan - Uniformity'!$A$1:$A$20,1)))","v":""},"","",{"$f":"IF(OR(LEN(B455)=0,LEN(C455)=0,LEN(D455)=0,LEN(E455)=0,LEN(F455)=0,LEN(G455)=0),\"\",IF('Base Values'!$B$8+(SUM($L455:$P455)/100)<0,0,'Base Values'!$B$8+(SUM(L455:P455)/100)))","v":""},null,{"$f":"IF(AND($T$13=TRUE,H455=1),'Loan - Extraneous'!B$3,IF(AND($T$13=TRUE,H455=2),'Loan - Extraneous'!C$3,0))","v":0},{"$f":"IF(I455=1,'Loan - Extraneous'!$B$4,IF(I455=2,'Loan - Extraneous'!$C$4,0))","v":0},{"$f":"IF(J455=1,'Loan - Extraneous'!$B$5,IF(J455=2,'Loan - Extraneous'!$C$5,0))","v":0}]
[null,null,null,null,null,null,null,null,null,null,"",{"$f":"IF(OR(LEN(B456)=0,LEN(C456)=0,LEN(D456)=0),\"\",IF(K456>=38,INDEX('Loan - Grade & Staple'!$A$1:$K$1000,MATCH($B456&$C456,'Loan - Grade & Staple'!$B$1:$B$1000&'Loan - Grade & Staple'!$C$1:$C$1000,0),MATCH(\"38+\",'Loan - Grade & Staple'!$A$3:$K$3,0)),IF(K456<=31,INDEX('Loan - Grade & Staple'!$A$1:$K$1000,MATCH($B456&$C456,'Loan - Grade & Staple'!$B$1:$B$1000&'Loan - Grade & Staple'!$C$1:$C$1000,0),MATCH(\"26-31\",'Loan - Grade & Staple'!$A$3:$K$3,0)),IF(ISNA(INDEX('Loan - Grade & Staple'!$A$1:$K$1000,MATCH($B456&C456,'Loan - Grade & Staple'!$B$1:$B$1000&'Loan - Grade & Staple'!$C$1:$C$1000,0),MATCH($K456,'Loan - Grade & Staple'!$A$3:$K$3,0))),-4000,INDEX('Loan - Grade & Staple'!$A$1:$K$1000,MATCH($B456&C456,'Loan - Grade & Staple'!$B$1:$B$1000&'Loan - Grade & Staple'!$C$1:$C$1000,0),MATCH($K456,'Loan - Grade & Staple'!$A$3:$K$3,0))))))","v":""},{"$f":"IF(LEN(E456)=0,\"\",INDEX('Loan - Strength'!$C$1:$C$18,MATCH(E456,'Loan - Strength'!$A$1:$A$18,1)))","v":""},{"$f":"IF(LEN(F456)=0,\"\",INDEX('Loan - Micronaire'!$C$1:$C$20,MATCH($F456,'Loan - Micronaire'!$A$1:$A$20,1)))","v":""},{"$f":"IF(LEN(G456)=0,\"\",INDEX('Loan - Uniformity'!$C$1:$C$20,MATCH($G456,'Loan - Uniformity'!$A$1:$A$20,1)))","v":""},"","",{"$f":"IF(OR(LEN(B456)=0,LEN(C456)=0,LEN(D456)=0,LEN(E456)=0,LEN(F456)=0,LEN(G456)=0),\"\",IF('Base Values'!$B$8+(SUM($L456:$P456)/100)<0,0,'Base Values'!$B$8+(SUM(L456:P456)/100)))","v":""},null,{"$f":"IF(AND($T$13=TRUE,H456=1),'Loan - Extraneous'!B$3,IF(AND($T$13=TRUE,H456=2),'Loan - Extraneous'!C$3,0))","v":0},{"$f":"IF(I456=1,'Loan - Extraneous'!$B$4,IF(I456=2,'Loan - Extraneous'!$C$4,0))","v":0},{"$f":"IF(J456=1,'Loan - Extraneous'!$B$5,IF(J456=2,'Loan - Extraneous'!$C$5,0))","v":0}]
[null,null,null,null,null,null,null,null,null,null,"",{"$f":"IF(OR(LEN(B457)=0,LEN(C457)=0,LEN(D457)=0),\"\",IF(K457>=38,INDEX('Loan - Grade & Staple'!$A$1:$K$1000,MATCH($B457&$C457,'Loan - Grade & Staple'!$B$1:$B$1000&'Loan - Grade & Staple'!$C$1:$C$1000,0),MATCH(\"38+\",'Loan - Grade & Staple'!$A$3:$K$3,0)),IF(K457<=31,INDEX('Loan - Grade & Staple'!$A$1:$K$1000,MATCH($B457&$C457,'Loan - Grade & Staple'!$B$1:$B$1000&'Loan - Grade & Staple'!$C$1:$C$1000,0),MATCH(\"26-31\",'Loan - Grade & Staple'!$A$3:$K$3,0)),IF(ISNA(INDEX('Loan - Grade & Staple'!$A$1:$K$1000,MATCH($B457&C457,'Loan - Grade & Staple'!$B$1:$B$1000&'Loan - Grade & Staple'!$C$1:$C$1000,0),MATCH($K457,'Loan - Grade & Staple'!$A$3:$K$3,0))),-4000,INDEX('Loan - Grade & Staple'!$A$1:$K$1000,MATCH($B457&C457,'Loan - Grade & Staple'!$B$1:$B$1000&'Loan - Grade & Staple'!$C$1:$C$1000,0),MATCH($K457,'Loan - Grade & Staple'!$A$3:$K$3,0))))))","v":""},{"$f":"IF(LEN(E457)=0,\"\",INDEX('Loan - Strength'!$C$1:$C$18,MATCH(E457,'Loan - Strength'!$A$1:$A$18,1)))","v":""},{"$f":"IF(LEN(F457)=0,\"\",INDEX('Loan - Micronaire'!$C$1:$C$20,MATCH($F457,'Loan - Micronaire'!$A$1:$A$20,1)))","v":""},{"$f":"IF(LEN(G457)=0,\"\",INDEX('Loan - Uniformity'!$C$1:$C$20,MATCH($G457,'Loan - Uniformity'!$A$1:$A$20,1)))","v":""},"","",{"$f":"IF(OR(LEN(B457)=0,LEN(C457)=0,LEN(D457)=0,LEN(E457)=0,LEN(F457)=0,LEN(G457)=0),\"\",IF('Base Values'!$B$8+(SUM($L457:$P457)/100)<0,0,'Base Values'!$B$8+(SUM(L457:P457)/100)))","v":""},null,{"$f":"IF(AND($T$13=TRUE,H457=1),'Loan - Extraneous'!B$3,IF(AND($T$13=TRUE,H457=2),'Loan - Extraneous'!C$3,0))","v":0},{"$f":"IF(I457=1,'Loan - Extraneous'!$B$4,IF(I457=2,'Loan - Extraneous'!$C$4,0))","v":0},{"$f":"IF(J457=1,'Loan - Extraneous'!$B$5,IF(J457=2,'Loan - Extraneous'!$C$5,0))","v":0}]
[null,null,null,null,null,null,null,null,null,null,"",{"$f":"IF(OR(LEN(B458)=0,LEN(C458)=0,LEN(D458)=0),\"\",IF(K458>=38,INDEX('Loan - Grade & Staple'!$A$1:$K$1000,MATCH($B458&$C458,'Loan - Grade & Staple'!$B$1:$B$1000&'Loan - Grade & Staple'!$C$1:$C$1000,0),MATCH(\"38+\",'Loan - Grade & Staple'!$A$3:$K$3,0)),IF(K458<=31,INDEX('Loan - Grade & Staple'!$A$1:$K$1000,MATCH($B458&$C458,'Loan - Grade & Staple'!$B$1:$B$1000&'Loan - Grade & Staple'!$C$1:$C$1000,0),MATCH(\"26-31\",'Loan - Grade & Staple'!$A$3:$K$3,0)),IF(ISNA(INDEX('Loan - Grade & Staple'!$A$1:$K$1000,MATCH($B458&C458,'Loan - Grade & Staple'!$B$1:$B$1000&'Loan - Grade & Staple'!$C$1:$C$1000,0),MATCH($K458,'Loan - Grade & Staple'!$A$3:$K$3,0))),-4000,INDEX('Loan - Grade & Staple'!$A$1:$K$1000,MATCH($B458&C458,'Loan - Grade & Staple'!$B$1:$B$1000&'Loan - Grade & Staple'!$C$1:$C$1000,0),MATCH($K458,'Loan - Grade & Staple'!$A$3:$K$3,0))))))","v":""},{"$f":"IF(LEN(E458)=0,\"\",INDEX('Loan - Strength'!$C$1:$C$18,MATCH(E458,'Loan - Strength'!$A$1:$A$18,1)))","v":""},{"$f":"IF(LEN(F458)=0,\"\",INDEX('Loan - Micronaire'!$C$1:$C$20,MATCH($F458,'Loan - Micronaire'!$A$1:$A$20,1)))","v":""},{"$f":"IF(LEN(G458)=0,\"\",INDEX('Loan - Uniformity'!$C$1:$C$20,MATCH($G458,'Loan - Uniformity'!$A$1:$A$20,1)))","v":""},"","",{"$f":"IF(OR(LEN(B458)=0,LEN(C458)=0,LEN(D458)=0,LEN(E458)=0,LEN(F458)=0,LEN(G458)=0),\"\",IF('Base Values'!$B$8+(SUM($L458:$P458)/100)<0,0,'Base Values'!$B$8+(SUM(L458:P458)/100)))","v":""},null,{"$f":"IF(AND($T$13=TRUE,H458=1),'Loan - Extraneous'!B$3,IF(AND($T$13=TRUE,H458=2),'Loan - Extraneous'!C$3,0))","v":0},{"$f":"IF(I458=1,'Loan - Extraneous'!$B$4,IF(I458=2,'Loan - Extraneous'!$C$4,0))","v":0},{"$f":"IF(J458=1,'Loan - Extraneous'!$B$5,IF(J458=2,'Loan - Extraneous'!$C$5,0))","v":0}]
[null,null,null,null,null,null,null,null,null,null,"",{"$f":"IF(OR(LEN(B459)=0,LEN(C459)=0,LEN(D459)=0),\"\",IF(K459>=38,INDEX('Loan - Grade & Staple'!$A$1:$K$1000,MATCH($B459&$C459,'Loan - Grade & Staple'!$B$1:$B$1000&'Loan - Grade & Staple'!$C$1:$C$1000,0),MATCH(\"38+\",'Loan - Grade & Staple'!$A$3:$K$3,0)),IF(K459<=31,INDEX('Loan - Grade & Staple'!$A$1:$K$1000,MATCH($B459&$C459,'Loan - Grade & Staple'!$B$1:$B$1000&'Loan - Grade & Staple'!$C$1:$C$1000,0),MATCH(\"26-31\",'Loan - Grade & Staple'!$A$3:$K$3,0)),IF(ISNA(INDEX('Loan - Grade & Staple'!$A$1:$K$1000,MATCH($B459&C459,'Loan - Grade & Staple'!$B$1:$B$1000&'Loan - Grade & Staple'!$C$1:$C$1000,0),MATCH($K459,'Loan - Grade & Staple'!$A$3:$K$3,0))),-4000,INDEX('Loan - Grade & Staple'!$A$1:$K$1000,MATCH($B459&C459,'Loan - Grade & Staple'!$B$1:$B$1000&'Loan - Grade & Staple'!$C$1:$C$1000,0),MATCH($K459,'Loan - Grade & Staple'!$A$3:$K$3,0))))))","v":""},{"$f":"IF(LEN(E459)=0,\"\",INDEX('Loan - Strength'!$C$1:$C$18,MATCH(E459,'Loan - Strength'!$A$1:$A$18,1)))","v":""},{"$f":"IF(LEN(F459)=0,\"\",INDEX('Loan - Micronaire'!$C$1:$C$20,MATCH($F459,'Loan - Micronaire'!$A$1:$A$20,1)))","v":""},{"$f":"IF(LEN(G459)=0,\"\",INDEX('Loan - Uniformity'!$C$1:$C$20,MATCH($G459,'Loan - Uniformity'!$A$1:$A$20,1)))","v":""},"","",{"$f":"IF(OR(LEN(B459)=0,LEN(C459)=0,LEN(D459)=0,LEN(E459)=0,LEN(F459)=0,LEN(G459)=0),\"\",IF('Base Values'!$B$8+(SUM($L459:$P459)/100)<0,0,'Base Values'!$B$8+(SUM(L459:P459)/100)))","v":""},null,{"$f":"IF(AND($T$13=TRUE,H459=1),'Loan - Extraneous'!B$3,IF(AND($T$13=TRUE,H459=2),'Loan - Extraneous'!C$3,0))","v":0},{"$f":"IF(I459=1,'Loan - Extraneous'!$B$4,IF(I459=2,'Loan - Extraneous'!$C$4,0))","v":0},{"$f":"IF(J459=1,'Loan - Extraneous'!$B$5,IF(J459=2,'Loan - Extraneous'!$C$5,0))","v":0}]
[null,null,null,null,null,null,null,null,null,null,"",{"$f":"IF(OR(LEN(B460)=0,LEN(C460)=0,LEN(D460)=0),\"\",IF(K460>=38,INDEX('Loan - Grade & Staple'!$A$1:$K$1000,MATCH($B460&$C460,'Loan - Grade & Staple'!$B$1:$B$1000&'Loan - Grade & Staple'!$C$1:$C$1000,0),MATCH(\"38+\",'Loan - Grade & Staple'!$A$3:$K$3,0)),IF(K460<=31,INDEX('Loan - Grade & Staple'!$A$1:$K$1000,MATCH($B460&$C460,'Loan - Grade & Staple'!$B$1:$B$1000&'Loan - Grade & Staple'!$C$1:$C$1000,0),MATCH(\"26-31\",'Loan - Grade & Staple'!$A$3:$K$3,0)),IF(ISNA(INDEX('Loan - Grade & Staple'!$A$1:$K$1000,MATCH($B460&C460,'Loan - Grade & Staple'!$B$1:$B$1000&'Loan - Grade & Staple'!$C$1:$C$1000,0),MATCH($K460,'Loan - Grade & Staple'!$A$3:$K$3,0))),-4000,INDEX('Loan - Grade & Staple'!$A$1:$K$1000,MATCH($B460&C460,'Loan - Grade & Staple'!$B$1:$B$1000&'Loan - Grade & Staple'!$C$1:$C$1000,0),MATCH($K460,'Loan - Grade & Staple'!$A$3:$K$3,0))))))","v":""},{"$f":"IF(LEN(E460)=0,\"\",INDEX('Loan - Strength'!$C$1:$C$18,MATCH(E460,'Loan - Strength'!$A$1:$A$18,1)))","v":""},{"$f":"IF(LEN(F460)=0,\"\",INDEX('Loan - Micronaire'!$C$1:$C$20,MATCH($F460,'Loan - Micronaire'!$A$1:$A$20,1)))","v":""},{"$f":"IF(LEN(G460)=0,\"\",INDEX('Loan - Uniformity'!$C$1:$C$20,MATCH($G460,'Loan - Uniformity'!$A$1:$A$20,1)))","v":""},"","",{"$f":"IF(OR(LEN(B460)=0,LEN(C460)=0,LEN(D460)=0,LEN(E460)=0,LEN(F460)=0,LEN(G460)=0),\"\",IF('Base Values'!$B$8+(SUM($L460:$P460)/100)<0,0,'Base Values'!$B$8+(SUM(L460:P460)/100)))","v":""},null,{"$f":"IF(AND($T$13=TRUE,H460=1),'Loan - Extraneous'!B$3,IF(AND($T$13=TRUE,H460=2),'Loan - Extraneous'!C$3,0))","v":0},{"$f":"IF(I460=1,'Loan - Extraneous'!$B$4,IF(I460=2,'Loan - Extraneous'!$C$4,0))","v":0},{"$f":"IF(J460=1,'Loan - Extraneous'!$B$5,IF(J460=2,'Loan - Extraneous'!$C$5,0))","v":0}]
[null,null,null,null,null,null,null,null,null,null,"",{"$f":"IF(OR(LEN(B461)=0,LEN(C461)=0,LEN(D461)=0),\"\",IF(K461>=38,INDEX('Loan - Grade & Staple'!$A$1:$K$1000,MATCH($B461&$C461,'Loan - Grade & Staple'!$B$1:$B$1000&'Loan - Grade & Staple'!$C$1:$C$1000,0),MATCH(\"38+\",'Loan - Grade & Staple'!$A$3:$K$3,0)),IF(K461<=31,INDEX('Loan - Grade & Staple'!$A$1:$K$1000,MATCH($B461&$C461,'Loan - Grade & Staple'!$B$1:$B$1000&'Loan - Grade & Staple'!$C$1:$C$1000,0),MATCH(\"26-31\",'Loan - Grade & Staple'!$A$3:$K$3,0)),IF(ISNA(INDEX('Loan - Grade & Staple'!$A$1:$K$1000,MATCH($B461&C461,'Loan - Grade & Staple'!$B$1:$B$1000&'Loan - Grade & Staple'!$C$1:$C$1000,0),MATCH($K461,'Loan - Grade & Staple'!$A$3:$K$3,0))),-4000,INDEX('Loan - Grade & Staple'!$A$1:$K$1000,MATCH($B461&C461,'Loan - Grade & Staple'!$B$1:$B$1000&'Loan - Grade & Staple'!$C$1:$C$1000,0),MATCH($K461,'Loan - Grade & Staple'!$A$3:$K$3,0))))))","v":""},{"$f":"IF(LEN(E461)=0,\"\",INDEX('Loan - Strength'!$C$1:$C$18,MATCH(E461,'Loan - Strength'!$A$1:$A$18,1)))","v":""},{"$f":"IF(LEN(F461)=0,\"\",INDEX('Loan - Micronaire'!$C$1:$C$20,MATCH($F461,'Loan - Micronaire'!$A$1:$A$20,1)))","v":""},{"$f":"IF(LEN(G461)=0,\"\",INDEX('Loan - Uniformity'!$C$1:$C$20,MATCH($G461,'Loan - Uniformity'!$A$1:$A$20,1)))","v":""},"","",{"$f":"IF(OR(LEN(B461)=0,LEN(C461)=0,LEN(D461)=0,LEN(E461)=0,LEN(F461)=0,LEN(G461)=0),\"\",IF('Base Values'!$B$8+(SUM($L461:$P461)/100)<0,0,'Base Values'!$B$8+(SUM(L461:P461)/100)))","v":""},null,{"$f":"IF(AND($T$13=TRUE,H461=1),'Loan - Extraneous'!B$3,IF(AND($T$13=TRUE,H461=2),'Loan - Extraneous'!C$3,0))","v":0},{"$f":"IF(I461=1,'Loan - Extraneous'!$B$4,IF(I461=2,'Loan - Extraneous'!$C$4,0))","v":0},{"$f":"IF(J461=1,'Loan - Extraneous'!$B$5,IF(J461=2,'Loan - Extraneous'!$C$5,0))","v":0}]
[null,null,null,null,null,null,null,null,null,null,"",{"$f":"IF(OR(LEN(B462)=0,LEN(C462)=0,LEN(D462)=0),\"\",IF(K462>=38,INDEX('Loan - Grade & Staple'!$A$1:$K$1000,MATCH($B462&$C462,'Loan - Grade & Staple'!$B$1:$B$1000&'Loan - Grade & Staple'!$C$1:$C$1000,0),MATCH(\"38+\",'Loan - Grade & Staple'!$A$3:$K$3,0)),IF(K462<=31,INDEX('Loan - Grade & Staple'!$A$1:$K$1000,MATCH($B462&$C462,'Loan - Grade & Staple'!$B$1:$B$1000&'Loan - Grade & Staple'!$C$1:$C$1000,0),MATCH(\"26-31\",'Loan - Grade & Staple'!$A$3:$K$3,0)),IF(ISNA(INDEX('Loan - Grade & Staple'!$A$1:$K$1000,MATCH($B462&C462,'Loan - Grade & Staple'!$B$1:$B$1000&'Loan - Grade & Staple'!$C$1:$C$1000,0),MATCH($K462,'Loan - Grade & Staple'!$A$3:$K$3,0))),-4000,INDEX('Loan - Grade & Staple'!$A$1:$K$1000,MATCH($B462&C462,'Loan - Grade & Staple'!$B$1:$B$1000&'Loan - Grade & Staple'!$C$1:$C$1000,0),MATCH($K462,'Loan - Grade & Staple'!$A$3:$K$3,0))))))","v":""},{"$f":"IF(LEN(E462)=0,\"\",INDEX('Loan - Strength'!$C$1:$C$18,MATCH(E462,'Loan - Strength'!$A$1:$A$18,1)))","v":""},{"$f":"IF(LEN(F462)=0,\"\",INDEX('Loan - Micronaire'!$C$1:$C$20,MATCH($F462,'Loan - Micronaire'!$A$1:$A$20,1)))","v":""},{"$f":"IF(LEN(G462)=0,\"\",INDEX('Loan - Uniformity'!$C$1:$C$20,MATCH($G462,'Loan - Uniformity'!$A$1:$A$20,1)))","v":""},"","",{"$f":"IF(OR(LEN(B462)=0,LEN(C462)=0,LEN(D462)=0,LEN(E462)=0,LEN(F462)=0,LEN(G462)=0),\"\",IF('Base Values'!$B$8+(SUM($L462:$P462)/100)<0,0,'Base Values'!$B$8+(SUM(L462:P462)/100)))","v":""},null,{"$f":"IF(AND($T$13=TRUE,H462=1),'Loan - Extraneous'!B$3,IF(AND($T$13=TRUE,H462=2),'Loan - Extraneous'!C$3,0))","v":0},{"$f":"IF(I462=1,'Loan - Extraneous'!$B$4,IF(I462=2,'Loan - Extraneous'!$C$4,0))","v":0},{"$f":"IF(J462=1,'Loan - Extraneous'!$B$5,IF(J462=2,'Loan - Extraneous'!$C$5,0))","v":0}]
[null,null,null,null,null,null,null,null,null,null,"",{"$f":"IF(OR(LEN(B463)=0,LEN(C463)=0,LEN(D463)=0),\"\",IF(K463>=38,INDEX('Loan - Grade & Staple'!$A$1:$K$1000,MATCH($B463&$C463,'Loan - Grade & Staple'!$B$1:$B$1000&'Loan - Grade & Staple'!$C$1:$C$1000,0),MATCH(\"38+\",'Loan - Grade & Staple'!$A$3:$K$3,0)),IF(K463<=31,INDEX('Loan - Grade & Staple'!$A$1:$K$1000,MATCH($B463&$C463,'Loan - Grade & Staple'!$B$1:$B$1000&'Loan - Grade & Staple'!$C$1:$C$1000,0),MATCH(\"26-31\",'Loan - Grade & Staple'!$A$3:$K$3,0)),IF(ISNA(INDEX('Loan - Grade & Staple'!$A$1:$K$1000,MATCH($B463&C463,'Loan - Grade & Staple'!$B$1:$B$1000&'Loan - Grade & Staple'!$C$1:$C$1000,0),MATCH($K463,'Loan - Grade & Staple'!$A$3:$K$3,0))),-4000,INDEX('Loan - Grade & Staple'!$A$1:$K$1000,MATCH($B463&C463,'Loan - Grade & Staple'!$B$1:$B$1000&'Loan - Grade & Staple'!$C$1:$C$1000,0),MATCH($K463,'Loan - Grade & Staple'!$A$3:$K$3,0))))))","v":""},{"$f":"IF(LEN(E463)=0,\"\",INDEX('Loan - Strength'!$C$1:$C$18,MATCH(E463,'Loan - Strength'!$A$1:$A$18,1)))","v":""},{"$f":"IF(LEN(F463)=0,\"\",INDEX('Loan - Micronaire'!$C$1:$C$20,MATCH($F463,'Loan - Micronaire'!$A$1:$A$20,1)))","v":""},{"$f":"IF(LEN(G463)=0,\"\",INDEX('Loan - Uniformity'!$C$1:$C$20,MATCH($G463,'Loan - Uniformity'!$A$1:$A$20,1)))","v":""},"","",{"$f":"IF(OR(LEN(B463)=0,LEN(C463)=0,LEN(D463)=0,LEN(E463)=0,LEN(F463)=0,LEN(G463)=0),\"\",IF('Base Values'!$B$8+(SUM($L463:$P463)/100)<0,0,'Base Values'!$B$8+(SUM(L463:P463)/100)))","v":""},null,{"$f":"IF(AND($T$13=TRUE,H463=1),'Loan - Extraneous'!B$3,IF(AND($T$13=TRUE,H463=2),'Loan - Extraneous'!C$3,0))","v":0},{"$f":"IF(I463=1,'Loan - Extraneous'!$B$4,IF(I463=2,'Loan - Extraneous'!$C$4,0))","v":0},{"$f":"IF(J463=1,'Loan - Extraneous'!$B$5,IF(J463=2,'Loan - Extraneous'!$C$5,0))","v":0}]
[null,null,null,null,null,null,null,null,null,null,"",{"$f":"IF(OR(LEN(B464)=0,LEN(C464)=0,LEN(D464)=0),\"\",IF(K464>=38,INDEX('Loan - Grade & Staple'!$A$1:$K$1000,MATCH($B464&$C464,'Loan - Grade & Staple'!$B$1:$B$1000&'Loan - Grade & Staple'!$C$1:$C$1000,0),MATCH(\"38+\",'Loan - Grade & Staple'!$A$3:$K$3,0)),IF(K464<=31,INDEX('Loan - Grade & Staple'!$A$1:$K$1000,MATCH($B464&$C464,'Loan - Grade & Staple'!$B$1:$B$1000&'Loan - Grade & Staple'!$C$1:$C$1000,0),MATCH(\"26-31\",'Loan - Grade & Staple'!$A$3:$K$3,0)),IF(ISNA(INDEX('Loan - Grade & Staple'!$A$1:$K$1000,MATCH($B464&C464,'Loan - Grade & Staple'!$B$1:$B$1000&'Loan - Grade & Staple'!$C$1:$C$1000,0),MATCH($K464,'Loan - Grade & Staple'!$A$3:$K$3,0))),-4000,INDEX('Loan - Grade & Staple'!$A$1:$K$1000,MATCH($B464&C464,'Loan - Grade & Staple'!$B$1:$B$1000&'Loan - Grade & Staple'!$C$1:$C$1000,0),MATCH($K464,'Loan - Grade & Staple'!$A$3:$K$3,0))))))","v":""},{"$f":"IF(LEN(E464)=0,\"\",INDEX('Loan - Strength'!$C$1:$C$18,MATCH(E464,'Loan - Strength'!$A$1:$A$18,1)))","v":""},{"$f":"IF(LEN(F464)=0,\"\",INDEX('Loan - Micronaire'!$C$1:$C$20,MATCH($F464,'Loan - Micronaire'!$A$1:$A$20,1)))","v":""},{"$f":"IF(LEN(G464)=0,\"\",INDEX('Loan - Uniformity'!$C$1:$C$20,MATCH($G464,'Loan - Uniformity'!$A$1:$A$20,1)))","v":""},"","",{"$f":"IF(OR(LEN(B464)=0,LEN(C464)=0,LEN(D464)=0,LEN(E464)=0,LEN(F464)=0,LEN(G464)=0),\"\",IF('Base Values'!$B$8+(SUM($L464:$P464)/100)<0,0,'Base Values'!$B$8+(SUM(L464:P464)/100)))","v":""},null,{"$f":"IF(AND($T$13=TRUE,H464=1),'Loan - Extraneous'!B$3,IF(AND($T$13=TRUE,H464=2),'Loan - Extraneous'!C$3,0))","v":0},{"$f":"IF(I464=1,'Loan - Extraneous'!$B$4,IF(I464=2,'Loan - Extraneous'!$C$4,0))","v":0},{"$f":"IF(J464=1,'Loan - Extraneous'!$B$5,IF(J464=2,'Loan - Extraneous'!$C$5,0))","v":0}]
[null,null,null,null,null,null,null,null,null,null,"",{"$f":"IF(OR(LEN(B465)=0,LEN(C465)=0,LEN(D465)=0),\"\",IF(K465>=38,INDEX('Loan - Grade & Staple'!$A$1:$K$1000,MATCH($B465&$C465,'Loan - Grade & Staple'!$B$1:$B$1000&'Loan - Grade & Staple'!$C$1:$C$1000,0),MATCH(\"38+\",'Loan - Grade & Staple'!$A$3:$K$3,0)),IF(K465<=31,INDEX('Loan - Grade & Staple'!$A$1:$K$1000,MATCH($B465&$C465,'Loan - Grade & Staple'!$B$1:$B$1000&'Loan - Grade & Staple'!$C$1:$C$1000,0),MATCH(\"26-31\",'Loan - Grade & Staple'!$A$3:$K$3,0)),IF(ISNA(INDEX('Loan - Grade & Staple'!$A$1:$K$1000,MATCH($B465&C465,'Loan - Grade & Staple'!$B$1:$B$1000&'Loan - Grade & Staple'!$C$1:$C$1000,0),MATCH($K465,'Loan - Grade & Staple'!$A$3:$K$3,0))),-4000,INDEX('Loan - Grade & Staple'!$A$1:$K$1000,MATCH($B465&C465,'Loan - Grade & Staple'!$B$1:$B$1000&'Loan - Grade & Staple'!$C$1:$C$1000,0),MATCH($K465,'Loan - Grade & Staple'!$A$3:$K$3,0))))))","v":""},{"$f":"IF(LEN(E465)=0,\"\",INDEX('Loan - Strength'!$C$1:$C$18,MATCH(E465,'Loan - Strength'!$A$1:$A$18,1)))","v":""},{"$f":"IF(LEN(F465)=0,\"\",INDEX('Loan - Micronaire'!$C$1:$C$20,MATCH($F465,'Loan - Micronaire'!$A$1:$A$20,1)))","v":""},{"$f":"IF(LEN(G465)=0,\"\",INDEX('Loan - Uniformity'!$C$1:$C$20,MATCH($G465,'Loan - Uniformity'!$A$1:$A$20,1)))","v":""},"","",{"$f":"IF(OR(LEN(B465)=0,LEN(C465)=0,LEN(D465)=0,LEN(E465)=0,LEN(F465)=0,LEN(G465)=0),\"\",IF('Base Values'!$B$8+(SUM($L465:$P465)/100)<0,0,'Base Values'!$B$8+(SUM(L465:P465)/100)))","v":""},null,{"$f":"IF(AND($T$13=TRUE,H465=1),'Loan - Extraneous'!B$3,IF(AND($T$13=TRUE,H465=2),'Loan - Extraneous'!C$3,0))","v":0},{"$f":"IF(I465=1,'Loan - Extraneous'!$B$4,IF(I465=2,'Loan - Extraneous'!$C$4,0))","v":0},{"$f":"IF(J465=1,'Loan - Extraneous'!$B$5,IF(J465=2,'Loan - Extraneous'!$C$5,0))","v":0}]
[null,null,null,null,null,null,null,null,null,null,"",{"$f":"IF(OR(LEN(B466)=0,LEN(C466)=0,LEN(D466)=0),\"\",IF(K466>=38,INDEX('Loan - Grade & Staple'!$A$1:$K$1000,MATCH($B466&$C466,'Loan - Grade & Staple'!$B$1:$B$1000&'Loan - Grade & Staple'!$C$1:$C$1000,0),MATCH(\"38+\",'Loan - Grade & Staple'!$A$3:$K$3,0)),IF(K466<=31,INDEX('Loan - Grade & Staple'!$A$1:$K$1000,MATCH($B466&$C466,'Loan - Grade & Staple'!$B$1:$B$1000&'Loan - Grade & Staple'!$C$1:$C$1000,0),MATCH(\"26-31\",'Loan - Grade & Staple'!$A$3:$K$3,0)),IF(ISNA(INDEX('Loan - Grade & Staple'!$A$1:$K$1000,MATCH($B466&C466,'Loan - Grade & Staple'!$B$1:$B$1000&'Loan - Grade & Staple'!$C$1:$C$1000,0),MATCH($K466,'Loan - Grade & Staple'!$A$3:$K$3,0))),-4000,INDEX('Loan - Grade & Staple'!$A$1:$K$1000,MATCH($B466&C466,'Loan - Grade & Staple'!$B$1:$B$1000&'Loan - Grade & Staple'!$C$1:$C$1000,0),MATCH($K466,'Loan - Grade & Staple'!$A$3:$K$3,0))))))","v":""},{"$f":"IF(LEN(E466)=0,\"\",INDEX('Loan - Strength'!$C$1:$C$18,MATCH(E466,'Loan - Strength'!$A$1:$A$18,1)))","v":""},{"$f":"IF(LEN(F466)=0,\"\",INDEX('Loan - Micronaire'!$C$1:$C$20,MATCH($F466,'Loan - Micronaire'!$A$1:$A$20,1)))","v":""},{"$f":"IF(LEN(G466)=0,\"\",INDEX('Loan - Uniformity'!$C$1:$C$20,MATCH($G466,'Loan - Uniformity'!$A$1:$A$20,1)))","v":""},"","",{"$f":"IF(OR(LEN(B466)=0,LEN(C466)=0,LEN(D466)=0,LEN(E466)=0,LEN(F466)=0,LEN(G466)=0),\"\",IF('Base Values'!$B$8+(SUM($L466:$P466)/100)<0,0,'Base Values'!$B$8+(SUM(L466:P466)/100)))","v":""},null,{"$f":"IF(AND($T$13=TRUE,H466=1),'Loan - Extraneous'!B$3,IF(AND($T$13=TRUE,H466=2),'Loan - Extraneous'!C$3,0))","v":0},{"$f":"IF(I466=1,'Loan - Extraneous'!$B$4,IF(I466=2,'Loan - Extraneous'!$C$4,0))","v":0},{"$f":"IF(J466=1,'Loan - Extraneous'!$B$5,IF(J466=2,'Loan - Extraneous'!$C$5,0))","v":0}]
[null,null,null,null,null,null,null,null,null,null,"",{"$f":"IF(OR(LEN(B467)=0,LEN(C467)=0,LEN(D467)=0),\"\",IF(K467>=38,INDEX('Loan - Grade & Staple'!$A$1:$K$1000,MATCH($B467&$C467,'Loan - Grade & Staple'!$B$1:$B$1000&'Loan - Grade & Staple'!$C$1:$C$1000,0),MATCH(\"38+\",'Loan - Grade & Staple'!$A$3:$K$3,0)),IF(K467<=31,INDEX('Loan - Grade & Staple'!$A$1:$K$1000,MATCH($B467&$C467,'Loan - Grade & Staple'!$B$1:$B$1000&'Loan - Grade & Staple'!$C$1:$C$1000,0),MATCH(\"26-31\",'Loan - Grade & Staple'!$A$3:$K$3,0)),IF(ISNA(INDEX('Loan - Grade & Staple'!$A$1:$K$1000,MATCH($B467&C467,'Loan - Grade & Staple'!$B$1:$B$1000&'Loan - Grade & Staple'!$C$1:$C$1000,0),MATCH($K467,'Loan - Grade & Staple'!$A$3:$K$3,0))),-4000,INDEX('Loan - Grade & Staple'!$A$1:$K$1000,MATCH($B467&C467,'Loan - Grade & Staple'!$B$1:$B$1000&'Loan - Grade & Staple'!$C$1:$C$1000,0),MATCH($K467,'Loan - Grade & Staple'!$A$3:$K$3,0))))))","v":""},{"$f":"IF(LEN(E467)=0,\"\",INDEX('Loan - Strength'!$C$1:$C$18,MATCH(E467,'Loan - Strength'!$A$1:$A$18,1)))","v":""},{"$f":"IF(LEN(F467)=0,\"\",INDEX('Loan - Micronaire'!$C$1:$C$20,MATCH($F467,'Loan - Micronaire'!$A$1:$A$20,1)))","v":""},{"$f":"IF(LEN(G467)=0,\"\",INDEX('Loan - Uniformity'!$C$1:$C$20,MATCH($G467,'Loan - Uniformity'!$A$1:$A$20,1)))","v":""},"","",{"$f":"IF(OR(LEN(B467)=0,LEN(C467)=0,LEN(D467)=0,LEN(E467)=0,LEN(F467)=0,LEN(G467)=0),\"\",IF('Base Values'!$B$8+(SUM($L467:$P467)/100)<0,0,'Base Values'!$B$8+(SUM(L467:P467)/100)))","v":""},null,{"$f":"IF(AND($T$13=TRUE,H467=1),'Loan - Extraneous'!B$3,IF(AND($T$13=TRUE,H467=2),'Loan - Extraneous'!C$3,0))","v":0},{"$f":"IF(I467=1,'Loan - Extraneous'!$B$4,IF(I467=2,'Loan - Extraneous'!$C$4,0))","v":0},{"$f":"IF(J467=1,'Loan - Extraneous'!$B$5,IF(J467=2,'Loan - Extraneous'!$C$5,0))","v":0}]
[null,null,null,null,null,null,null,null,null,null,"",{"$f":"IF(OR(LEN(B468)=0,LEN(C468)=0,LEN(D468)=0),\"\",IF(K468>=38,INDEX('Loan - Grade & Staple'!$A$1:$K$1000,MATCH($B468&$C468,'Loan - Grade & Staple'!$B$1:$B$1000&'Loan - Grade & Staple'!$C$1:$C$1000,0),MATCH(\"38+\",'Loan - Grade & Staple'!$A$3:$K$3,0)),IF(K468<=31,INDEX('Loan - Grade & Staple'!$A$1:$K$1000,MATCH($B468&$C468,'Loan - Grade & Staple'!$B$1:$B$1000&'Loan - Grade & Staple'!$C$1:$C$1000,0),MATCH(\"26-31\",'Loan - Grade & Staple'!$A$3:$K$3,0)),IF(ISNA(INDEX('Loan - Grade & Staple'!$A$1:$K$1000,MATCH($B468&C468,'Loan - Grade & Staple'!$B$1:$B$1000&'Loan - Grade & Staple'!$C$1:$C$1000,0),MATCH($K468,'Loan - Grade & Staple'!$A$3:$K$3,0))),-4000,INDEX('Loan - Grade & Staple'!$A$1:$K$1000,MATCH($B468&C468,'Loan - Grade & Staple'!$B$1:$B$1000&'Loan - Grade & Staple'!$C$1:$C$1000,0),MATCH($K468,'Loan - Grade & Staple'!$A$3:$K$3,0))))))","v":""},{"$f":"IF(LEN(E468)=0,\"\",INDEX('Loan - Strength'!$C$1:$C$18,MATCH(E468,'Loan - Strength'!$A$1:$A$18,1)))","v":""},{"$f":"IF(LEN(F468)=0,\"\",INDEX('Loan - Micronaire'!$C$1:$C$20,MATCH($F468,'Loan - Micronaire'!$A$1:$A$20,1)))","v":""},{"$f":"IF(LEN(G468)=0,\"\",INDEX('Loan - Uniformity'!$C$1:$C$20,MATCH($G468,'Loan - Uniformity'!$A$1:$A$20,1)))","v":""},"","",{"$f":"IF(OR(LEN(B468)=0,LEN(C468)=0,LEN(D468)=0,LEN(E468)=0,LEN(F468)=0,LEN(G468)=0),\"\",IF('Base Values'!$B$8+(SUM($L468:$P468)/100)<0,0,'Base Values'!$B$8+(SUM(L468:P468)/100)))","v":""},null,{"$f":"IF(AND($T$13=TRUE,H468=1),'Loan - Extraneous'!B$3,IF(AND($T$13=TRUE,H468=2),'Loan - Extraneous'!C$3,0))","v":0},{"$f":"IF(I468=1,'Loan - Extraneous'!$B$4,IF(I468=2,'Loan - Extraneous'!$C$4,0))","v":0},{"$f":"IF(J468=1,'Loan - Extraneous'!$B$5,IF(J468=2,'Loan - Extraneous'!$C$5,0))","v":0}]
[null,null,null,null,null,null,null,null,null,null,"",{"$f":"IF(OR(LEN(B469)=0,LEN(C469)=0,LEN(D469)=0),\"\",IF(K469>=38,INDEX('Loan - Grade & Staple'!$A$1:$K$1000,MATCH($B469&$C469,'Loan - Grade & Staple'!$B$1:$B$1000&'Loan - Grade & Staple'!$C$1:$C$1000,0),MATCH(\"38+\",'Loan - Grade & Staple'!$A$3:$K$3,0)),IF(K469<=31,INDEX('Loan - Grade & Staple'!$A$1:$K$1000,MATCH($B469&$C469,'Loan - Grade & Staple'!$B$1:$B$1000&'Loan - Grade & Staple'!$C$1:$C$1000,0),MATCH(\"26-31\",'Loan - Grade & Staple'!$A$3:$K$3,0)),IF(ISNA(INDEX('Loan - Grade & Staple'!$A$1:$K$1000,MATCH($B469&C469,'Loan - Grade & Staple'!$B$1:$B$1000&'Loan - Grade & Staple'!$C$1:$C$1000,0),MATCH($K469,'Loan - Grade & Staple'!$A$3:$K$3,0))),-4000,INDEX('Loan - Grade & Staple'!$A$1:$K$1000,MATCH($B469&C469,'Loan - Grade & Staple'!$B$1:$B$1000&'Loan - Grade & Staple'!$C$1:$C$1000,0),MATCH($K469,'Loan - Grade & Staple'!$A$3:$K$3,0))))))","v":""},{"$f":"IF(LEN(E469)=0,\"\",INDEX('Loan - Strength'!$C$1:$C$18,MATCH(E469,'Loan - Strength'!$A$1:$A$18,1)))","v":""},{"$f":"IF(LEN(F469)=0,\"\",INDEX('Loan - Micronaire'!$C$1:$C$20,MATCH($F469,'Loan - Micronaire'!$A$1:$A$20,1)))","v":""},{"$f":"IF(LEN(G469)=0,\"\",INDEX('Loan - Uniformity'!$C$1:$C$20,MATCH($G469,'Loan - Uniformity'!$A$1:$A$20,1)))","v":""},"","",{"$f":"IF(OR(LEN(B469)=0,LEN(C469)=0,LEN(D469)=0,LEN(E469)=0,LEN(F469)=0,LEN(G469)=0),\"\",IF('Base Values'!$B$8+(SUM($L469:$P469)/100)<0,0,'Base Values'!$B$8+(SUM(L469:P469)/100)))","v":""},null,{"$f":"IF(AND($T$13=TRUE,H469=1),'Loan - Extraneous'!B$3,IF(AND($T$13=TRUE,H469=2),'Loan - Extraneous'!C$3,0))","v":0},{"$f":"IF(I469=1,'Loan - Extraneous'!$B$4,IF(I469=2,'Loan - Extraneous'!$C$4,0))","v":0},{"$f":"IF(J469=1,'Loan - Extraneous'!$B$5,IF(J469=2,'Loan - Extraneous'!$C$5,0))","v":0}]
[null,null,null,null,null,null,null,null,null,null,"",{"$f":"IF(OR(LEN(B470)=0,LEN(C470)=0,LEN(D470)=0),\"\",IF(K470>=38,INDEX('Loan - Grade & Staple'!$A$1:$K$1000,MATCH($B470&$C470,'Loan - Grade & Staple'!$B$1:$B$1000&'Loan - Grade & Staple'!$C$1:$C$1000,0),MATCH(\"38+\",'Loan - Grade & Staple'!$A$3:$K$3,0)),IF(K470<=31,INDEX('Loan - Grade & Staple'!$A$1:$K$1000,MATCH($B470&$C470,'Loan - Grade & Staple'!$B$1:$B$1000&'Loan - Grade & Staple'!$C$1:$C$1000,0),MATCH(\"26-31\",'Loan - Grade & Staple'!$A$3:$K$3,0)),IF(ISNA(INDEX('Loan - Grade & Staple'!$A$1:$K$1000,MATCH($B470&C470,'Loan - Grade & Staple'!$B$1:$B$1000&'Loan - Grade & Staple'!$C$1:$C$1000,0),MATCH($K470,'Loan - Grade & Staple'!$A$3:$K$3,0))),-4000,INDEX('Loan - Grade & Staple'!$A$1:$K$1000,MATCH($B470&C470,'Loan - Grade & Staple'!$B$1:$B$1000&'Loan - Grade & Staple'!$C$1:$C$1000,0),MATCH($K470,'Loan - Grade & Staple'!$A$3:$K$3,0))))))","v":""},{"$f":"IF(LEN(E470)=0,\"\",INDEX('Loan - Strength'!$C$1:$C$18,MATCH(E470,'Loan - Strength'!$A$1:$A$18,1)))","v":""},{"$f":"IF(LEN(F470)=0,\"\",INDEX('Loan - Micronaire'!$C$1:$C$20,MATCH($F470,'Loan - Micronaire'!$A$1:$A$20,1)))","v":""},{"$f":"IF(LEN(G470)=0,\"\",INDEX('Loan - Uniformity'!$C$1:$C$20,MATCH($G470,'Loan - Uniformity'!$A$1:$A$20,1)))","v":""},"","",{"$f":"IF(OR(LEN(B470)=0,LEN(C470)=0,LEN(D470)=0,LEN(E470)=0,LEN(F470)=0,LEN(G470)=0),\"\",IF('Base Values'!$B$8+(SUM($L470:$P470)/100)<0,0,'Base Values'!$B$8+(SUM(L470:P470)/100)))","v":""},null,{"$f":"IF(AND($T$13=TRUE,H470=1),'Loan - Extraneous'!B$3,IF(AND($T$13=TRUE,H470=2),'Loan - Extraneous'!C$3,0))","v":0},{"$f":"IF(I470=1,'Loan - Extraneous'!$B$4,IF(I470=2,'Loan - Extraneous'!$C$4,0))","v":0},{"$f":"IF(J470=1,'Loan - Extraneous'!$B$5,IF(J470=2,'Loan - Extraneous'!$C$5,0))","v":0}]
[null,null,null,null,null,null,null,null,null,null,"",{"$f":"IF(OR(LEN(B471)=0,LEN(C471)=0,LEN(D471)=0),\"\",IF(K471>=38,INDEX('Loan - Grade & Staple'!$A$1:$K$1000,MATCH($B471&$C471,'Loan - Grade & Staple'!$B$1:$B$1000&'Loan - Grade & Staple'!$C$1:$C$1000,0),MATCH(\"38+\",'Loan - Grade & Staple'!$A$3:$K$3,0)),IF(K471<=31,INDEX('Loan - Grade & Staple'!$A$1:$K$1000,MATCH($B471&$C471,'Loan - Grade & Staple'!$B$1:$B$1000&'Loan - Grade & Staple'!$C$1:$C$1000,0),MATCH(\"26-31\",'Loan - Grade & Staple'!$A$3:$K$3,0)),IF(ISNA(INDEX('Loan - Grade & Staple'!$A$1:$K$1000,MATCH($B471&C471,'Loan - Grade & Staple'!$B$1:$B$1000&'Loan - Grade & Staple'!$C$1:$C$1000,0),MATCH($K471,'Loan - Grade & Staple'!$A$3:$K$3,0))),-4000,INDEX('Loan - Grade & Staple'!$A$1:$K$1000,MATCH($B471&C471,'Loan - Grade & Staple'!$B$1:$B$1000&'Loan - Grade & Staple'!$C$1:$C$1000,0),MATCH($K471,'Loan - Grade & Staple'!$A$3:$K$3,0))))))","v":""},{"$f":"IF(LEN(E471)=0,\"\",INDEX('Loan - Strength'!$C$1:$C$18,MATCH(E471,'Loan - Strength'!$A$1:$A$18,1)))","v":""},{"$f":"IF(LEN(F471)=0,\"\",INDEX('Loan - Micronaire'!$C$1:$C$20,MATCH($F471,'Loan - Micronaire'!$A$1:$A$20,1)))","v":""},{"$f":"IF(LEN(G471)=0,\"\",INDEX('Loan - Uniformity'!$C$1:$C$20,MATCH($G471,'Loan - Uniformity'!$A$1:$A$20,1)))","v":""},"","",{"$f":"IF(OR(LEN(B471)=0,LEN(C471)=0,LEN(D471)=0,LEN(E471)=0,LEN(F471)=0,LEN(G471)=0),\"\",IF('Base Values'!$B$8+(SUM($L471:$P471)/100)<0,0,'Base Values'!$B$8+(SUM(L471:P471)/100)))","v":""},null,{"$f":"IF(AND($T$13=TRUE,H471=1),'Loan - Extraneous'!B$3,IF(AND($T$13=TRUE,H471=2),'Loan - Extraneous'!C$3,0))","v":0},{"$f":"IF(I471=1,'Loan - Extraneous'!$B$4,IF(I471=2,'Loan - Extraneous'!$C$4,0))","v":0},{"$f":"IF(J471=1,'Loan - Extraneous'!$B$5,IF(J471=2,'Loan - Extraneous'!$C$5,0))","v":0}]
[null,null,null,null,null,null,null,null,null,null,"",{"$f":"IF(OR(LEN(B472)=0,LEN(C472)=0,LEN(D472)=0),\"\",IF(K472>=38,INDEX('Loan - Grade & Staple'!$A$1:$K$1000,MATCH($B472&$C472,'Loan - Grade & Staple'!$B$1:$B$1000&'Loan - Grade & Staple'!$C$1:$C$1000,0),MATCH(\"38+\",'Loan - Grade & Staple'!$A$3:$K$3,0)),IF(K472<=31,INDEX('Loan - Grade & Staple'!$A$1:$K$1000,MATCH($B472&$C472,'Loan - Grade & Staple'!$B$1:$B$1000&'Loan - Grade & Staple'!$C$1:$C$1000,0),MATCH(\"26-31\",'Loan - Grade & Staple'!$A$3:$K$3,0)),IF(ISNA(INDEX('Loan - Grade & Staple'!$A$1:$K$1000,MATCH($B472&C472,'Loan - Grade & Staple'!$B$1:$B$1000&'Loan - Grade & Staple'!$C$1:$C$1000,0),MATCH($K472,'Loan - Grade & Staple'!$A$3:$K$3,0))),-4000,INDEX('Loan - Grade & Staple'!$A$1:$K$1000,MATCH($B472&C472,'Loan - Grade & Staple'!$B$1:$B$1000&'Loan - Grade & Staple'!$C$1:$C$1000,0),MATCH($K472,'Loan - Grade & Staple'!$A$3:$K$3,0))))))","v":""},{"$f":"IF(LEN(E472)=0,\"\",INDEX('Loan - Strength'!$C$1:$C$18,MATCH(E472,'Loan - Strength'!$A$1:$A$18,1)))","v":""},{"$f":"IF(LEN(F472)=0,\"\",INDEX('Loan - Micronaire'!$C$1:$C$20,MATCH($F472,'Loan - Micronaire'!$A$1:$A$20,1)))","v":""},{"$f":"IF(LEN(G472)=0,\"\",INDEX('Loan - Uniformity'!$C$1:$C$20,MATCH($G472,'Loan - Uniformity'!$A$1:$A$20,1)))","v":""},"","",{"$f":"IF(OR(LEN(B472)=0,LEN(C472)=0,LEN(D472)=0,LEN(E472)=0,LEN(F472)=0,LEN(G472)=0),\"\",IF('Base Values'!$B$8+(SUM($L472:$P472)/100)<0,0,'Base Values'!$B$8+(SUM(L472:P472)/100)))","v":""},null,{"$f":"IF(AND($T$13=TRUE,H472=1),'Loan - Extraneous'!B$3,IF(AND($T$13=TRUE,H472=2),'Loan - Extraneous'!C$3,0))","v":0},{"$f":"IF(I472=1,'Loan - Extraneous'!$B$4,IF(I472=2,'Loan - Extraneous'!$C$4,0))","v":0},{"$f":"IF(J472=1,'Loan - Extraneous'!$B$5,IF(J472=2,'Loan - Extraneous'!$C$5,0))","v":0}]
[null,null,null,null,null,null,null,null,null,null,"",{"$f":"IF(OR(LEN(B473)=0,LEN(C473)=0,LEN(D473)=0),\"\",IF(K473>=38,INDEX('Loan - Grade & Staple'!$A$1:$K$1000,MATCH($B473&$C473,'Loan - Grade & Staple'!$B$1:$B$1000&'Loan - Grade & Staple'!$C$1:$C$1000,0),MATCH(\"38+\",'Loan - Grade & Staple'!$A$3:$K$3,0)),IF(K473<=31,INDEX('Loan - Grade & Staple'!$A$1:$K$1000,MATCH($B473&$C473,'Loan - Grade & Staple'!$B$1:$B$1000&'Loan - Grade & Staple'!$C$1:$C$1000,0),MATCH(\"26-31\",'Loan - Grade & Staple'!$A$3:$K$3,0)),IF(ISNA(INDEX('Loan - Grade & Staple'!$A$1:$K$1000,MATCH($B473&C473,'Loan - Grade & Staple'!$B$1:$B$1000&'Loan - Grade & Staple'!$C$1:$C$1000,0),MATCH($K473,'Loan - Grade & Staple'!$A$3:$K$3,0))),-4000,INDEX('Loan - Grade & Staple'!$A$1:$K$1000,MATCH($B473&C473,'Loan - Grade & Staple'!$B$1:$B$1000&'Loan - Grade & Staple'!$C$1:$C$1000,0),MATCH($K473,'Loan - Grade & Staple'!$A$3:$K$3,0))))))","v":""},{"$f":"IF(LEN(E473)=0,\"\",INDEX('Loan - Strength'!$C$1:$C$18,MATCH(E473,'Loan - Strength'!$A$1:$A$18,1)))","v":""},{"$f":"IF(LEN(F473)=0,\"\",INDEX('Loan - Micronaire'!$C$1:$C$20,MATCH($F473,'Loan - Micronaire'!$A$1:$A$20,1)))","v":""},{"$f":"IF(LEN(G473)=0,\"\",INDEX('Loan - Uniformity'!$C$1:$C$20,MATCH($G473,'Loan - Uniformity'!$A$1:$A$20,1)))","v":""},"","",{"$f":"IF(OR(LEN(B473)=0,LEN(C473)=0,LEN(D473)=0,LEN(E473)=0,LEN(F473)=0,LEN(G473)=0),\"\",IF('Base Values'!$B$8+(SUM($L473:$P473)/100)<0,0,'Base Values'!$B$8+(SUM(L473:P473)/100)))","v":""},null,{"$f":"IF(AND($T$13=TRUE,H473=1),'Loan - Extraneous'!B$3,IF(AND($T$13=TRUE,H473=2),'Loan - Extraneous'!C$3,0))","v":0},{"$f":"IF(I473=1,'Loan - Extraneous'!$B$4,IF(I473=2,'Loan - Extraneous'!$C$4,0))","v":0},{"$f":"IF(J473=1,'Loan - Extraneous'!$B$5,IF(J473=2,'Loan - Extraneous'!$C$5,0))","v":0}]
[null,null,null,null,null,null,null,null,null,null,{"$f":"IF(LEN(D474)=0,\"\",ROUND(D474*32,0))","v":""},{"$f":"IF(OR(LEN(B474)=0,LEN(C474)=0,LEN(D474)=0),\"\",IF(K474>=38,INDEX('Loan - Grade & Staple'!$A$1:$K$1000,MATCH($B474&$C474,'Loan - Grade & Staple'!$B$1:$B$1000&'Loan - Grade & Staple'!$C$1:$C$1000,0),MATCH(\"38+\",'Loan - Grade & Staple'!$A$3:$K$3,0)),IF(K474<=31,INDEX('Loan - Grade & Staple'!$A$1:$K$1000,MATCH($B474&$C474,'Loan - Grade & Staple'!$B$1:$B$1000&'Loan - Grade & Staple'!$C$1:$C$1000,0),MATCH(\"26-31\",'Loan - Grade & Staple'!$A$3:$K$3,0)),IF(ISNA(INDEX('Loan - Grade & Staple'!$A$1:$K$1000,MATCH($B474&C474,'Loan - Grade & Staple'!$B$1:$B$1000&'Loan - Grade & Staple'!$C$1:$C$1000,0),MATCH($K474,'Loan - Grade & Staple'!$A$3:$K$3,0))),-4000,INDEX('Loan - Grade & Staple'!$A$1:$K$1000,MATCH($B474&C474,'Loan - Grade & Staple'!$B$1:$B$1000&'Loan - Grade & Staple'!$C$1:$C$1000,0),MATCH($K474,'Loan - Grade & Staple'!$A$3:$K$3,0))))))","v":""},{"$f":"IF(LEN(E474)=0,\"\",INDEX('Loan - Strength'!$C$1:$C$18,MATCH(E474,'Loan - Strength'!$A$1:$A$18,1)))","v":""},{"$f":"IF(LEN(F474)=0,\"\",INDEX('Loan - Micronaire'!$C$1:$C$20,MATCH($F474,'Loan - Micronaire'!$A$1:$A$20,1)))","v":""},{"$f":"IF(LEN(G474)=0,\"\",INDEX('Loan - Uniformity'!$C$1:$C$20,MATCH($G474,'Loan - Uniformity'!$A$1:$A$20,1)))","v":""},{"$f":"IF(LEN(A474)=0,\"\",SUM(T474:V474))","v":""},{"$f":"IF(OR(LEN(B474)=0,LEN(C474)=0,LEN(D474)=0,LEN(E474)=0,LEN(F474)=0,LEN(G474)=0),\"\",SUM(L474:P474))","v":""},{"$f":"IF(OR(LEN(B474)=0,LEN(C474)=0,LEN(D474)=0,LEN(E474)=0,LEN(F474)=0,LEN(G474)=0),\"\",IF('Base Values'!$B$8+(SUM($L474:$P474)/100)<0,0,'Base Values'!$B$8+(SUM(L474:P474)/100)))","v":""},null,{"$f":"IF(AND($T$13=TRUE,H474=1),'Loan - Extraneous'!B$3,IF(AND($T$13=TRUE,H474=2),'Loan - Extraneous'!C$3,0))","v":0},{"$f":"IF(I474=1,'Loan - Extraneous'!$B$4,IF(I474=2,'Loan - Extraneous'!$C$4,0))","v":0},{"$f":"IF(J474=1,'Loan - Extraneous'!$B$5,IF(J474=2,'Loan - Extraneous'!$C$5,0))","v":0}]
[null,null,null,null,null,null,null,null,null,null,"",{"$f":"IF(OR(LEN(B475)=0,LEN(C475)=0,LEN(D475)=0),\"\",IF(K475>=38,INDEX('Loan - Grade & Staple'!$A$1:$K$1000,MATCH($B475&$C475,'Loan - Grade & Staple'!$B$1:$B$1000&'Loan - Grade & Staple'!$C$1:$C$1000,0),MATCH(\"38+\",'Loan - Grade & Staple'!$A$3:$K$3,0)),IF(K475<=31,INDEX('Loan - Grade & Staple'!$A$1:$K$1000,MATCH($B475&$C475,'Loan - Grade & Staple'!$B$1:$B$1000&'Loan - Grade & Staple'!$C$1:$C$1000,0),MATCH(\"26-31\",'Loan - Grade & Staple'!$A$3:$K$3,0)),IF(ISNA(INDEX('Loan - Grade & Staple'!$A$1:$K$1000,MATCH($B475&C475,'Loan - Grade & Staple'!$B$1:$B$1000&'Loan - Grade & Staple'!$C$1:$C$1000,0),MATCH($K475,'Loan - Grade & Staple'!$A$3:$K$3,0))),-4000,INDEX('Loan - Grade & Staple'!$A$1:$K$1000,MATCH($B475&C475,'Loan - Grade & Staple'!$B$1:$B$1000&'Loan - Grade & Staple'!$C$1:$C$1000,0),MATCH($K475,'Loan - Grade & Staple'!$A$3:$K$3,0))))))","v":""},{"$f":"IF(LEN(E475)=0,\"\",INDEX('Loan - Strength'!$C$1:$C$18,MATCH(E475,'Loan - Strength'!$A$1:$A$18,1)))","v":""},{"$f":"IF(LEN(F475)=0,\"\",INDEX('Loan - Micronaire'!$C$1:$C$20,MATCH($F475,'Loan - Micronaire'!$A$1:$A$20,1)))","v":""},{"$f":"IF(LEN(G475)=0,\"\",INDEX('Loan - Uniformity'!$C$1:$C$20,MATCH($G475,'Loan - Uniformity'!$A$1:$A$20,1)))","v":""},"","",{"$f":"IF(OR(LEN(B475)=0,LEN(C475)=0,LEN(D475)=0,LEN(E475)=0,LEN(F475)=0,LEN(G475)=0),\"\",IF('Base Values'!$B$8+(SUM($L475:$P475)/100)<0,0,'Base Values'!$B$8+(SUM(L475:P475)/100)))","v":""},null,{"$f":"IF(AND($T$13=TRUE,H475=1),'Loan - Extraneous'!B$3,IF(AND($T$13=TRUE,H475=2),'Loan - Extraneous'!C$3,0))","v":0},{"$f":"IF(I475=1,'Loan - Extraneous'!$B$4,IF(I475=2,'Loan - Extraneous'!$C$4,0))","v":0},{"$f":"IF(J475=1,'Loan - Extraneous'!$B$5,IF(J475=2,'Loan - Extraneous'!$C$5,0))","v":0}]
[null,null,null,null,null,null,null,null,null,null,"",{"$f":"IF(OR(LEN(B476)=0,LEN(C476)=0,LEN(D476)=0),\"\",IF(K476>=38,INDEX('Loan - Grade & Staple'!$A$1:$K$1000,MATCH($B476&$C476,'Loan - Grade & Staple'!$B$1:$B$1000&'Loan - Grade & Staple'!$C$1:$C$1000,0),MATCH(\"38+\",'Loan - Grade & Staple'!$A$3:$K$3,0)),IF(K476<=31,INDEX('Loan - Grade & Staple'!$A$1:$K$1000,MATCH($B476&$C476,'Loan - Grade & Staple'!$B$1:$B$1000&'Loan - Grade & Staple'!$C$1:$C$1000,0),MATCH(\"26-31\",'Loan - Grade & Staple'!$A$3:$K$3,0)),IF(ISNA(INDEX('Loan - Grade & Staple'!$A$1:$K$1000,MATCH($B476&C476,'Loan - Grade & Staple'!$B$1:$B$1000&'Loan - Grade & Staple'!$C$1:$C$1000,0),MATCH($K476,'Loan - Grade & Staple'!$A$3:$K$3,0))),-4000,INDEX('Loan - Grade & Staple'!$A$1:$K$1000,MATCH($B476&C476,'Loan - Grade & Staple'!$B$1:$B$1000&'Loan - Grade & Staple'!$C$1:$C$1000,0),MATCH($K476,'Loan - Grade & Staple'!$A$3:$K$3,0))))))","v":""},{"$f":"IF(LEN(E476)=0,\"\",INDEX('Loan - Strength'!$C$1:$C$18,MATCH(E476,'Loan - Strength'!$A$1:$A$18,1)))","v":""},{"$f":"IF(LEN(F476)=0,\"\",INDEX('Loan - Micronaire'!$C$1:$C$20,MATCH($F476,'Loan - Micronaire'!$A$1:$A$20,1)))","v":""},{"$f":"IF(LEN(G476)=0,\"\",INDEX('Loan - Uniformity'!$C$1:$C$20,MATCH($G476,'Loan - Uniformity'!$A$1:$A$20,1)))","v":""},"","",{"$f":"IF(OR(LEN(B476)=0,LEN(C476)=0,LEN(D476)=0,LEN(E476)=0,LEN(F476)=0,LEN(G476)=0),\"\",IF('Base Values'!$B$8+(SUM($L476:$P476)/100)<0,0,'Base Values'!$B$8+(SUM(L476:P476)/100)))","v":""},null,{"$f":"IF(AND($T$13=TRUE,H476=1),'Loan - Extraneous'!B$3,IF(AND($T$13=TRUE,H476=2),'Loan - Extraneous'!C$3,0))","v":0},{"$f":"IF(I476=1,'Loan - Extraneous'!$B$4,IF(I476=2,'Loan - Extraneous'!$C$4,0))","v":0},{"$f":"IF(J476=1,'Loan - Extraneous'!$B$5,IF(J476=2,'Loan - Extraneous'!$C$5,0))","v":0}]
[null,null,null,null,null,null,null,null,null,null,"",{"$f":"IF(OR(LEN(B477)=0,LEN(C477)=0,LEN(D477)=0),\"\",IF(K477>=38,INDEX('Loan - Grade & Staple'!$A$1:$K$1000,MATCH($B477&$C477,'Loan - Grade & Staple'!$B$1:$B$1000&'Loan - Grade & Staple'!$C$1:$C$1000,0),MATCH(\"38+\",'Loan - Grade & Staple'!$A$3:$K$3,0)),IF(K477<=31,INDEX('Loan - Grade & Staple'!$A$1:$K$1000,MATCH($B477&$C477,'Loan - Grade & Staple'!$B$1:$B$1000&'Loan - Grade & Staple'!$C$1:$C$1000,0),MATCH(\"26-31\",'Loan - Grade & Staple'!$A$3:$K$3,0)),IF(ISNA(INDEX('Loan - Grade & Staple'!$A$1:$K$1000,MATCH($B477&C477,'Loan - Grade & Staple'!$B$1:$B$1000&'Loan - Grade & Staple'!$C$1:$C$1000,0),MATCH($K477,'Loan - Grade & Staple'!$A$3:$K$3,0))),-4000,INDEX('Loan - Grade & Staple'!$A$1:$K$1000,MATCH($B477&C477,'Loan - Grade & Staple'!$B$1:$B$1000&'Loan - Grade & Staple'!$C$1:$C$1000,0),MATCH($K477,'Loan - Grade & Staple'!$A$3:$K$3,0))))))","v":""},{"$f":"IF(LEN(E477)=0,\"\",INDEX('Loan - Strength'!$C$1:$C$18,MATCH(E477,'Loan - Strength'!$A$1:$A$18,1)))","v":""},{"$f":"IF(LEN(F477)=0,\"\",INDEX('Loan - Micronaire'!$C$1:$C$20,MATCH($F477,'Loan - Micronaire'!$A$1:$A$20,1)))","v":""},{"$f":"IF(LEN(G477)=0,\"\",INDEX('Loan - Uniformity'!$C$1:$C$20,MATCH($G477,'Loan - Uniformity'!$A$1:$A$20,1)))","v":""},"","",{"$f":"IF(OR(LEN(B477)=0,LEN(C477)=0,LEN(D477)=0,LEN(E477)=0,LEN(F477)=0,LEN(G477)=0),\"\",IF('Base Values'!$B$8+(SUM($L477:$P477)/100)<0,0,'Base Values'!$B$8+(SUM(L477:P477)/100)))","v":""},null,{"$f":"IF(AND($T$13=TRUE,H477=1),'Loan - Extraneous'!B$3,IF(AND($T$13=TRUE,H477=2),'Loan - Extraneous'!C$3,0))","v":0},{"$f":"IF(I477=1,'Loan - Extraneous'!$B$4,IF(I477=2,'Loan - Extraneous'!$C$4,0))","v":0},{"$f":"IF(J477=1,'Loan - Extraneous'!$B$5,IF(J477=2,'Loan - Extraneous'!$C$5,0))","v":0}]
[null,null,null,null,null,null,null,null,null,null,"",{"$f":"IF(OR(LEN(B478)=0,LEN(C478)=0,LEN(D478)=0),\"\",IF(K478>=38,INDEX('Loan - Grade & Staple'!$A$1:$K$1000,MATCH($B478&$C478,'Loan - Grade & Staple'!$B$1:$B$1000&'Loan - Grade & Staple'!$C$1:$C$1000,0),MATCH(\"38+\",'Loan - Grade & Staple'!$A$3:$K$3,0)),IF(K478<=31,INDEX('Loan - Grade & Staple'!$A$1:$K$1000,MATCH($B478&$C478,'Loan - Grade & Staple'!$B$1:$B$1000&'Loan - Grade & Staple'!$C$1:$C$1000,0),MATCH(\"26-31\",'Loan - Grade & Staple'!$A$3:$K$3,0)),IF(ISNA(INDEX('Loan - Grade & Staple'!$A$1:$K$1000,MATCH($B478&C478,'Loan - Grade & Staple'!$B$1:$B$1000&'Loan - Grade & Staple'!$C$1:$C$1000,0),MATCH($K478,'Loan - Grade & Staple'!$A$3:$K$3,0))),-4000,INDEX('Loan - Grade & Staple'!$A$1:$K$1000,MATCH($B478&C478,'Loan - Grade & Staple'!$B$1:$B$1000&'Loan - Grade & Staple'!$C$1:$C$1000,0),MATCH($K478,'Loan - Grade & Staple'!$A$3:$K$3,0))))))","v":""},{"$f":"IF(LEN(E478)=0,\"\",INDEX('Loan - Strength'!$C$1:$C$18,MATCH(E478,'Loan - Strength'!$A$1:$A$18,1)))","v":""},{"$f":"IF(LEN(F478)=0,\"\",INDEX('Loan - Micronaire'!$C$1:$C$20,MATCH($F478,'Loan - Micronaire'!$A$1:$A$20,1)))","v":""},{"$f":"IF(LEN(G478)=0,\"\",INDEX('Loan - Uniformity'!$C$1:$C$20,MATCH($G478,'Loan - Uniformity'!$A$1:$A$20,1)))","v":""},"","",{"$f":"IF(OR(LEN(B478)=0,LEN(C478)=0,LEN(D478)=0,LEN(E478)=0,LEN(F478)=0,LEN(G478)=0),\"\",IF('Base Values'!$B$8+(SUM($L478:$P478)/100)<0,0,'Base Values'!$B$8+(SUM(L478:P478)/100)))","v":""},null,{"$f":"IF(AND($T$13=TRUE,H478=1),'Loan - Extraneous'!B$3,IF(AND($T$13=TRUE,H478=2),'Loan - Extraneous'!C$3,0))","v":0},{"$f":"IF(I478=1,'Loan - Extraneous'!$B$4,IF(I478=2,'Loan - Extraneous'!$C$4,0))","v":0},{"$f":"IF(J478=1,'Loan - Extraneous'!$B$5,IF(J478=2,'Loan - Extraneous'!$C$5,0))","v":0}]
[null,null,null,null,null,null,null,null,null,null,"",{"$f":"IF(OR(LEN(B479)=0,LEN(C479)=0,LEN(D479)=0),\"\",IF(K479>=38,INDEX('Loan - Grade & Staple'!$A$1:$K$1000,MATCH($B479&$C479,'Loan - Grade & Staple'!$B$1:$B$1000&'Loan - Grade & Staple'!$C$1:$C$1000,0),MATCH(\"38+\",'Loan - Grade & Staple'!$A$3:$K$3,0)),IF(K479<=31,INDEX('Loan - Grade & Staple'!$A$1:$K$1000,MATCH($B479&$C479,'Loan - Grade & Staple'!$B$1:$B$1000&'Loan - Grade & Staple'!$C$1:$C$1000,0),MATCH(\"26-31\",'Loan - Grade & Staple'!$A$3:$K$3,0)),IF(ISNA(INDEX('Loan - Grade & Staple'!$A$1:$K$1000,MATCH($B479&C479,'Loan - Grade & Staple'!$B$1:$B$1000&'Loan - Grade & Staple'!$C$1:$C$1000,0),MATCH($K479,'Loan - Grade & Staple'!$A$3:$K$3,0))),-4000,INDEX('Loan - Grade & Staple'!$A$1:$K$1000,MATCH($B479&C479,'Loan - Grade & Staple'!$B$1:$B$1000&'Loan - Grade & Staple'!$C$1:$C$1000,0),MATCH($K479,'Loan - Grade & Staple'!$A$3:$K$3,0))))))","v":""},{"$f":"IF(LEN(E479)=0,\"\",INDEX('Loan - Strength'!$C$1:$C$18,MATCH(E479,'Loan - Strength'!$A$1:$A$18,1)))","v":""},{"$f":"IF(LEN(F479)=0,\"\",INDEX('Loan - Micronaire'!$C$1:$C$20,MATCH($F479,'Loan - Micronaire'!$A$1:$A$20,1)))","v":""},{"$f":"IF(LEN(G479)=0,\"\",INDEX('Loan - Uniformity'!$C$1:$C$20,MATCH($G479,'Loan - Uniformity'!$A$1:$A$20,1)))","v":""},"","",{"$f":"IF(OR(LEN(B479)=0,LEN(C479)=0,LEN(D479)=0,LEN(E479)=0,LEN(F479)=0,LEN(G479)=0),\"\",IF('Base Values'!$B$8+(SUM($L479:$P479)/100)<0,0,'Base Values'!$B$8+(SUM(L479:P479)/100)))","v":""},null,{"$f":"IF(AND($T$13=TRUE,H479=1),'Loan - Extraneous'!B$3,IF(AND($T$13=TRUE,H479=2),'Loan - Extraneous'!C$3,0))","v":0},{"$f":"IF(I479=1,'Loan - Extraneous'!$B$4,IF(I479=2,'Loan - Extraneous'!$C$4,0))","v":0},{"$f":"IF(J479=1,'Loan - Extraneous'!$B$5,IF(J479=2,'Loan - Extraneous'!$C$5,0))","v":0}]
[null,null,null,null,null,null,null,null,null,null,"",{"$f":"IF(OR(LEN(B480)=0,LEN(C480)=0,LEN(D480)=0),\"\",IF(K480>=38,INDEX('Loan - Grade & Staple'!$A$1:$K$1000,MATCH($B480&$C480,'Loan - Grade & Staple'!$B$1:$B$1000&'Loan - Grade & Staple'!$C$1:$C$1000,0),MATCH(\"38+\",'Loan - Grade & Staple'!$A$3:$K$3,0)),IF(K480<=31,INDEX('Loan - Grade & Staple'!$A$1:$K$1000,MATCH($B480&$C480,'Loan - Grade & Staple'!$B$1:$B$1000&'Loan - Grade & Staple'!$C$1:$C$1000,0),MATCH(\"26-31\",'Loan - Grade & Staple'!$A$3:$K$3,0)),IF(ISNA(INDEX('Loan - Grade & Staple'!$A$1:$K$1000,MATCH($B480&C480,'Loan - Grade & Staple'!$B$1:$B$1000&'Loan - Grade & Staple'!$C$1:$C$1000,0),MATCH($K480,'Loan - Grade & Staple'!$A$3:$K$3,0))),-4000,INDEX('Loan - Grade & Staple'!$A$1:$K$1000,MATCH($B480&C480,'Loan - Grade & Staple'!$B$1:$B$1000&'Loan - Grade & Staple'!$C$1:$C$1000,0),MATCH($K480,'Loan - Grade & Staple'!$A$3:$K$3,0))))))","v":""},{"$f":"IF(LEN(E480)=0,\"\",INDEX('Loan - Strength'!$C$1:$C$18,MATCH(E480,'Loan - Strength'!$A$1:$A$18,1)))","v":""},{"$f":"IF(LEN(F480)=0,\"\",INDEX('Loan - Micronaire'!$C$1:$C$20,MATCH($F480,'Loan - Micronaire'!$A$1:$A$20,1)))","v":""},{"$f":"IF(LEN(G480)=0,\"\",INDEX('Loan - Uniformity'!$C$1:$C$20,MATCH($G480,'Loan - Uniformity'!$A$1:$A$20,1)))","v":""},"","",{"$f":"IF(OR(LEN(B480)=0,LEN(C480)=0,LEN(D480)=0,LEN(E480)=0,LEN(F480)=0,LEN(G480)=0),\"\",IF('Base Values'!$B$8+(SUM($L480:$P480)/100)<0,0,'Base Values'!$B$8+(SUM(L480:P480)/100)))","v":""},null,{"$f":"IF(AND($T$13=TRUE,H480=1),'Loan - Extraneous'!B$3,IF(AND($T$13=TRUE,H480=2),'Loan - Extraneous'!C$3,0))","v":0},{"$f":"IF(I480=1,'Loan - Extraneous'!$B$4,IF(I480=2,'Loan - Extraneous'!$C$4,0))","v":0},{"$f":"IF(J480=1,'Loan - Extraneous'!$B$5,IF(J480=2,'Loan - Extraneous'!$C$5,0))","v":0}]
[null,null,null,null,null,null,null,null,null,null,"",{"$f":"IF(OR(LEN(B481)=0,LEN(C481)=0,LEN(D481)=0),\"\",IF(K481>=38,INDEX('Loan - Grade & Staple'!$A$1:$K$1000,MATCH($B481&$C481,'Loan - Grade & Staple'!$B$1:$B$1000&'Loan - Grade & Staple'!$C$1:$C$1000,0),MATCH(\"38+\",'Loan - Grade & Staple'!$A$3:$K$3,0)),IF(K481<=31,INDEX('Loan - Grade & Staple'!$A$1:$K$1000,MATCH($B481&$C481,'Loan - Grade & Staple'!$B$1:$B$1000&'Loan - Grade & Staple'!$C$1:$C$1000,0),MATCH(\"26-31\",'Loan - Grade & Staple'!$A$3:$K$3,0)),IF(ISNA(INDEX('Loan - Grade & Staple'!$A$1:$K$1000,MATCH($B481&C481,'Loan - Grade & Staple'!$B$1:$B$1000&'Loan - Grade & Staple'!$C$1:$C$1000,0),MATCH($K481,'Loan - Grade & Staple'!$A$3:$K$3,0))),-4000,INDEX('Loan - Grade & Staple'!$A$1:$K$1000,MATCH($B481&C481,'Loan - Grade & Staple'!$B$1:$B$1000&'Loan - Grade & Staple'!$C$1:$C$1000,0),MATCH($K481,'Loan - Grade & Staple'!$A$3:$K$3,0))))))","v":""},{"$f":"IF(LEN(E481)=0,\"\",INDEX('Loan - Strength'!$C$1:$C$18,MATCH(E481,'Loan - Strength'!$A$1:$A$18,1)))","v":""},{"$f":"IF(LEN(F481)=0,\"\",INDEX('Loan - Micronaire'!$C$1:$C$20,MATCH($F481,'Loan - Micronaire'!$A$1:$A$20,1)))","v":""},{"$f":"IF(LEN(G481)=0,\"\",INDEX('Loan - Uniformity'!$C$1:$C$20,MATCH($G481,'Loan - Uniformity'!$A$1:$A$20,1)))","v":""},"","",{"$f":"IF(OR(LEN(B481)=0,LEN(C481)=0,LEN(D481)=0,LEN(E481)=0,LEN(F481)=0,LEN(G481)=0),\"\",IF('Base Values'!$B$8+(SUM($L481:$P481)/100)<0,0,'Base Values'!$B$8+(SUM(L481:P481)/100)))","v":""},null,{"$f":"IF(AND($T$13=TRUE,H481=1),'Loan - Extraneous'!B$3,IF(AND($T$13=TRUE,H481=2),'Loan - Extraneous'!C$3,0))","v":0},{"$f":"IF(I481=1,'Loan - Extraneous'!$B$4,IF(I481=2,'Loan - Extraneous'!$C$4,0))","v":0},{"$f":"IF(J481=1,'Loan - Extraneous'!$B$5,IF(J481=2,'Loan - Extraneous'!$C$5,0))","v":0}]
[null,null,null,null,null,null,null,null,null,null,"",{"$f":"IF(OR(LEN(B482)=0,LEN(C482)=0,LEN(D482)=0),\"\",IF(K482>=38,INDEX('Loan - Grade & Staple'!$A$1:$K$1000,MATCH($B482&$C482,'Loan - Grade & Staple'!$B$1:$B$1000&'Loan - Grade & Staple'!$C$1:$C$1000,0),MATCH(\"38+\",'Loan - Grade & Staple'!$A$3:$K$3,0)),IF(K482<=31,INDEX('Loan - Grade & Staple'!$A$1:$K$1000,MATCH($B482&$C482,'Loan - Grade & Staple'!$B$1:$B$1000&'Loan - Grade & Staple'!$C$1:$C$1000,0),MATCH(\"26-31\",'Loan - Grade & Staple'!$A$3:$K$3,0)),IF(ISNA(INDEX('Loan - Grade & Staple'!$A$1:$K$1000,MATCH($B482&C482,'Loan - Grade & Staple'!$B$1:$B$1000&'Loan - Grade & Staple'!$C$1:$C$1000,0),MATCH($K482,'Loan - Grade & Staple'!$A$3:$K$3,0))),-4000,INDEX('Loan - Grade & Staple'!$A$1:$K$1000,MATCH($B482&C482,'Loan - Grade & Staple'!$B$1:$B$1000&'Loan - Grade & Staple'!$C$1:$C$1000,0),MATCH($K482,'Loan - Grade & Staple'!$A$3:$K$3,0))))))","v":""},{"$f":"IF(LEN(E482)=0,\"\",INDEX('Loan - Strength'!$C$1:$C$18,MATCH(E482,'Loan - Strength'!$A$1:$A$18,1)))","v":""},{"$f":"IF(LEN(F482)=0,\"\",INDEX('Loan - Micronaire'!$C$1:$C$20,MATCH($F482,'Loan - Micronaire'!$A$1:$A$20,1)))","v":""},{"$f":"IF(LEN(G482)=0,\"\",INDEX('Loan - Uniformity'!$C$1:$C$20,MATCH($G482,'Loan - Uniformity'!$A$1:$A$20,1)))","v":""},"","",{"$f":"IF(OR(LEN(B482)=0,LEN(C482)=0,LEN(D482)=0,LEN(E482)=0,LEN(F482)=0,LEN(G482)=0),\"\",IF('Base Values'!$B$8+(SUM($L482:$P482)/100)<0,0,'Base Values'!$B$8+(SUM(L482:P482)/100)))","v":""},null,{"$f":"IF(AND($T$13=TRUE,H482=1),'Loan - Extraneous'!B$3,IF(AND($T$13=TRUE,H482=2),'Loan - Extraneous'!C$3,0))","v":0},{"$f":"IF(I482=1,'Loan - Extraneous'!$B$4,IF(I482=2,'Loan - Extraneous'!$C$4,0))","v":0},{"$f":"IF(J482=1,'Loan - Extraneous'!$B$5,IF(J482=2,'Loan - Extraneous'!$C$5,0))","v":0}]
[null,null,null,null,null,null,null,null,null,null,"",{"$f":"IF(OR(LEN(B483)=0,LEN(C483)=0,LEN(D483)=0),\"\",IF(K483>=38,INDEX('Loan - Grade & Staple'!$A$1:$K$1000,MATCH($B483&$C483,'Loan - Grade & Staple'!$B$1:$B$1000&'Loan - Grade & Staple'!$C$1:$C$1000,0),MATCH(\"38+\",'Loan - Grade & Staple'!$A$3:$K$3,0)),IF(K483<=31,INDEX('Loan - Grade & Staple'!$A$1:$K$1000,MATCH($B483&$C483,'Loan - Grade & Staple'!$B$1:$B$1000&'Loan - Grade & Staple'!$C$1:$C$1000,0),MATCH(\"26-31\",'Loan - Grade & Staple'!$A$3:$K$3,0)),IF(ISNA(INDEX('Loan - Grade & Staple'!$A$1:$K$1000,MATCH($B483&C483,'Loan - Grade & Staple'!$B$1:$B$1000&'Loan - Grade & Staple'!$C$1:$C$1000,0),MATCH($K483,'Loan - Grade & Staple'!$A$3:$K$3,0))),-4000,INDEX('Loan - Grade & Staple'!$A$1:$K$1000,MATCH($B483&C483,'Loan - Grade & Staple'!$B$1:$B$1000&'Loan - Grade & Staple'!$C$1:$C$1000,0),MATCH($K483,'Loan - Grade & Staple'!$A$3:$K$3,0))))))","v":""},{"$f":"IF(LEN(E483)=0,\"\",INDEX('Loan - Strength'!$C$1:$C$18,MATCH(E483,'Loan - Strength'!$A$1:$A$18,1)))","v":""},{"$f":"IF(LEN(F483)=0,\"\",INDEX('Loan - Micronaire'!$C$1:$C$20,MATCH($F483,'Loan - Micronaire'!$A$1:$A$20,1)))","v":""},{"$f":"IF(LEN(G483)=0,\"\",INDEX('Loan - Uniformity'!$C$1:$C$20,MATCH($G483,'Loan - Uniformity'!$A$1:$A$20,1)))","v":""},"","",{"$f":"IF(OR(LEN(B483)=0,LEN(C483)=0,LEN(D483)=0,LEN(E483)=0,LEN(F483)=0,LEN(G483)=0),\"\",IF('Base Values'!$B$8+(SUM($L483:$P483)/100)<0,0,'Base Values'!$B$8+(SUM(L483:P483)/100)))","v":""},null,{"$f":"IF(AND($T$13=TRUE,H483=1),'Loan - Extraneous'!B$3,IF(AND($T$13=TRUE,H483=2),'Loan - Extraneous'!C$3,0))","v":0},{"$f":"IF(I483=1,'Loan - Extraneous'!$B$4,IF(I483=2,'Loan - Extraneous'!$C$4,0))","v":0},{"$f":"IF(J483=1,'Loan - Extraneous'!$B$5,IF(J483=2,'Loan - Extraneous'!$C$5,0))","v":0}]
[null,null,null,null,null,null,null,null,null,null,"",{"$f":"IF(OR(LEN(B484)=0,LEN(C484)=0,LEN(D484)=0),\"\",IF(K484>=38,INDEX('Loan - Grade & Staple'!$A$1:$K$1000,MATCH($B484&$C484,'Loan - Grade & Staple'!$B$1:$B$1000&'Loan - Grade & Staple'!$C$1:$C$1000,0),MATCH(\"38+\",'Loan - Grade & Staple'!$A$3:$K$3,0)),IF(K484<=31,INDEX('Loan - Grade & Staple'!$A$1:$K$1000,MATCH($B484&$C484,'Loan - Grade & Staple'!$B$1:$B$1000&'Loan - Grade & Staple'!$C$1:$C$1000,0),MATCH(\"26-31\",'Loan - Grade & Staple'!$A$3:$K$3,0)),IF(ISNA(INDEX('Loan - Grade & Staple'!$A$1:$K$1000,MATCH($B484&C484,'Loan - Grade & Staple'!$B$1:$B$1000&'Loan - Grade & Staple'!$C$1:$C$1000,0),MATCH($K484,'Loan - Grade & Staple'!$A$3:$K$3,0))),-4000,INDEX('Loan - Grade & Staple'!$A$1:$K$1000,MATCH($B484&C484,'Loan - Grade & Staple'!$B$1:$B$1000&'Loan - Grade & Staple'!$C$1:$C$1000,0),MATCH($K484,'Loan - Grade & Staple'!$A$3:$K$3,0))))))","v":""},{"$f":"IF(LEN(E484)=0,\"\",INDEX('Loan - Strength'!$C$1:$C$18,MATCH(E484,'Loan - Strength'!$A$1:$A$18,1)))","v":""},{"$f":"IF(LEN(F484)=0,\"\",INDEX('Loan - Micronaire'!$C$1:$C$20,MATCH($F484,'Loan - Micronaire'!$A$1:$A$20,1)))","v":""},{"$f":"IF(LEN(G484)=0,\"\",INDEX('Loan - Uniformity'!$C$1:$C$20,MATCH($G484,'Loan - Uniformity'!$A$1:$A$20,1)))","v":""},"","",{"$f":"IF(OR(LEN(B484)=0,LEN(C484)=0,LEN(D484)=0,LEN(E484)=0,LEN(F484)=0,LEN(G484)=0),\"\",IF('Base Values'!$B$8+(SUM($L484:$P484)/100)<0,0,'Base Values'!$B$8+(SUM(L484:P484)/100)))","v":""},null,{"$f":"IF(AND($T$13=TRUE,H484=1),'Loan - Extraneous'!B$3,IF(AND($T$13=TRUE,H484=2),'Loan - Extraneous'!C$3,0))","v":0},{"$f":"IF(I484=1,'Loan - Extraneous'!$B$4,IF(I484=2,'Loan - Extraneous'!$C$4,0))","v":0},{"$f":"IF(J484=1,'Loan - Extraneous'!$B$5,IF(J484=2,'Loan - Extraneous'!$C$5,0))","v":0}]
[null,null,null,null,null,null,null,null,null,null,"",{"$f":"IF(OR(LEN(B485)=0,LEN(C485)=0,LEN(D485)=0),\"\",IF(K485>=38,INDEX('Loan - Grade & Staple'!$A$1:$K$1000,MATCH($B485&$C485,'Loan - Grade & Staple'!$B$1:$B$1000&'Loan - Grade & Staple'!$C$1:$C$1000,0),MATCH(\"38+\",'Loan - Grade & Staple'!$A$3:$K$3,0)),IF(K485<=31,INDEX('Loan - Grade & Staple'!$A$1:$K$1000,MATCH($B485&$C485,'Loan - Grade & Staple'!$B$1:$B$1000&'Loan - Grade & Staple'!$C$1:$C$1000,0),MATCH(\"26-31\",'Loan - Grade & Staple'!$A$3:$K$3,0)),IF(ISNA(INDEX('Loan - Grade & Staple'!$A$1:$K$1000,MATCH($B485&C485,'Loan - Grade & Staple'!$B$1:$B$1000&'Loan - Grade & Staple'!$C$1:$C$1000,0),MATCH($K485,'Loan - Grade & Staple'!$A$3:$K$3,0))),-4000,INDEX('Loan - Grade & Staple'!$A$1:$K$1000,MATCH($B485&C485,'Loan - Grade & Staple'!$B$1:$B$1000&'Loan - Grade & Staple'!$C$1:$C$1000,0),MATCH($K485,'Loan - Grade & Staple'!$A$3:$K$3,0))))))","v":""},{"$f":"IF(LEN(E485)=0,\"\",INDEX('Loan - Strength'!$C$1:$C$18,MATCH(E485,'Loan - Strength'!$A$1:$A$18,1)))","v":""},{"$f":"IF(LEN(F485)=0,\"\",INDEX('Loan - Micronaire'!$C$1:$C$20,MATCH($F485,'Loan - Micronaire'!$A$1:$A$20,1)))","v":""},{"$f":"IF(LEN(G485)=0,\"\",INDEX('Loan - Uniformity'!$C$1:$C$20,MATCH($G485,'Loan - Uniformity'!$A$1:$A$20,1)))","v":""},"","",{"$f":"IF(OR(LEN(B485)=0,LEN(C485)=0,LEN(D485)=0,LEN(E485)=0,LEN(F485)=0,LEN(G485)=0),\"\",IF('Base Values'!$B$8+(SUM($L485:$P485)/100)<0,0,'Base Values'!$B$8+(SUM(L485:P485)/100)))","v":""},null,{"$f":"IF(AND($T$13=TRUE,H485=1),'Loan - Extraneous'!B$3,IF(AND($T$13=TRUE,H485=2),'Loan - Extraneous'!C$3,0))","v":0},{"$f":"IF(I485=1,'Loan - Extraneous'!$B$4,IF(I485=2,'Loan - Extraneous'!$C$4,0))","v":0},{"$f":"IF(J485=1,'Loan - Extraneous'!$B$5,IF(J485=2,'Loan - Extraneous'!$C$5,0))","v":0}]
[null,null,null,null,null,null,null,null,null,null,"",{"$f":"IF(OR(LEN(B486)=0,LEN(C486)=0,LEN(D486)=0),\"\",IF(K486>=38,INDEX('Loan - Grade & Staple'!$A$1:$K$1000,MATCH($B486&$C486,'Loan - Grade & Staple'!$B$1:$B$1000&'Loan - Grade & Staple'!$C$1:$C$1000,0),MATCH(\"38+\",'Loan - Grade & Staple'!$A$3:$K$3,0)),IF(K486<=31,INDEX('Loan - Grade & Staple'!$A$1:$K$1000,MATCH($B486&$C486,'Loan - Grade & Staple'!$B$1:$B$1000&'Loan - Grade & Staple'!$C$1:$C$1000,0),MATCH(\"26-31\",'Loan - Grade & Staple'!$A$3:$K$3,0)),IF(ISNA(INDEX('Loan - Grade & Staple'!$A$1:$K$1000,MATCH($B486&C486,'Loan - Grade & Staple'!$B$1:$B$1000&'Loan - Grade & Staple'!$C$1:$C$1000,0),MATCH($K486,'Loan - Grade & Staple'!$A$3:$K$3,0))),-4000,INDEX('Loan - Grade & Staple'!$A$1:$K$1000,MATCH($B486&C486,'Loan - Grade & Staple'!$B$1:$B$1000&'Loan - Grade & Staple'!$C$1:$C$1000,0),MATCH($K486,'Loan - Grade & Staple'!$A$3:$K$3,0))))))","v":""},{"$f":"IF(LEN(E486)=0,\"\",INDEX('Loan - Strength'!$C$1:$C$18,MATCH(E486,'Loan - Strength'!$A$1:$A$18,1)))","v":""},{"$f":"IF(LEN(F486)=0,\"\",INDEX('Loan - Micronaire'!$C$1:$C$20,MATCH($F486,'Loan - Micronaire'!$A$1:$A$20,1)))","v":""},{"$f":"IF(LEN(G486)=0,\"\",INDEX('Loan - Uniformity'!$C$1:$C$20,MATCH($G486,'Loan - Uniformity'!$A$1:$A$20,1)))","v":""},"","",{"$f":"IF(OR(LEN(B486)=0,LEN(C486)=0,LEN(D486)=0,LEN(E486)=0,LEN(F486)=0,LEN(G486)=0),\"\",IF('Base Values'!$B$8+(SUM($L486:$P486)/100)<0,0,'Base Values'!$B$8+(SUM(L486:P486)/100)))","v":""},null,{"$f":"IF(AND($T$13=TRUE,H486=1),'Loan - Extraneous'!B$3,IF(AND($T$13=TRUE,H486=2),'Loan - Extraneous'!C$3,0))","v":0},{"$f":"IF(I486=1,'Loan - Extraneous'!$B$4,IF(I486=2,'Loan - Extraneous'!$C$4,0))","v":0},{"$f":"IF(J486=1,'Loan - Extraneous'!$B$5,IF(J486=2,'Loan - Extraneous'!$C$5,0))","v":0}]
[null,null,null,null,null,null,null,null,null,null,"",{"$f":"IF(OR(LEN(B487)=0,LEN(C487)=0,LEN(D487)=0),\"\",IF(K487>=38,INDEX('Loan - Grade & Staple'!$A$1:$K$1000,MATCH($B487&$C487,'Loan - Grade & Staple'!$B$1:$B$1000&'Loan - Grade & Staple'!$C$1:$C$1000,0),MATCH(\"38+\",'Loan - Grade & Staple'!$A$3:$K$3,0)),IF(K487<=31,INDEX('Loan - Grade & Staple'!$A$1:$K$1000,MATCH($B487&$C487,'Loan - Grade & Staple'!$B$1:$B$1000&'Loan - Grade & Staple'!$C$1:$C$1000,0),MATCH(\"26-31\",'Loan - Grade & Staple'!$A$3:$K$3,0)),IF(ISNA(INDEX('Loan - Grade & Staple'!$A$1:$K$1000,MATCH($B487&C487,'Loan - Grade & Staple'!$B$1:$B$1000&'Loan - Grade & Staple'!$C$1:$C$1000,0),MATCH($K487,'Loan - Grade & Staple'!$A$3:$K$3,0))),-4000,INDEX('Loan - Grade & Staple'!$A$1:$K$1000,MATCH($B487&C487,'Loan - Grade & Staple'!$B$1:$B$1000&'Loan - Grade & Staple'!$C$1:$C$1000,0),MATCH($K487,'Loan - Grade & Staple'!$A$3:$K$3,0))))))","v":""},{"$f":"IF(LEN(E487)=0,\"\",INDEX('Loan - Strength'!$C$1:$C$18,MATCH(E487,'Loan - Strength'!$A$1:$A$18,1)))","v":""},{"$f":"IF(LEN(F487)=0,\"\",INDEX('Loan - Micronaire'!$C$1:$C$20,MATCH($F487,'Loan - Micronaire'!$A$1:$A$20,1)))","v":""},{"$f":"IF(LEN(G487)=0,\"\",INDEX('Loan - Uniformity'!$C$1:$C$20,MATCH($G487,'Loan - Uniformity'!$A$1:$A$20,1)))","v":""},"","",{"$f":"IF(OR(LEN(B487)=0,LEN(C487)=0,LEN(D487)=0,LEN(E487)=0,LEN(F487)=0,LEN(G487)=0),\"\",IF('Base Values'!$B$8+(SUM($L487:$P487)/100)<0,0,'Base Values'!$B$8+(SUM(L487:P487)/100)))","v":""},null,{"$f":"IF(AND($T$13=TRUE,H487=1),'Loan - Extraneous'!B$3,IF(AND($T$13=TRUE,H487=2),'Loan - Extraneous'!C$3,0))","v":0},{"$f":"IF(I487=1,'Loan - Extraneous'!$B$4,IF(I487=2,'Loan - Extraneous'!$C$4,0))","v":0},{"$f":"IF(J487=1,'Loan - Extraneous'!$B$5,IF(J487=2,'Loan - Extraneous'!$C$5,0))","v":0}]
[null,null,null,null,null,null,null,null,null,null,"",{"$f":"IF(OR(LEN(B488)=0,LEN(C488)=0,LEN(D488)=0),\"\",IF(K488>=38,INDEX('Loan - Grade & Staple'!$A$1:$K$1000,MATCH($B488&$C488,'Loan - Grade & Staple'!$B$1:$B$1000&'Loan - Grade & Staple'!$C$1:$C$1000,0),MATCH(\"38+\",'Loan - Grade & Staple'!$A$3:$K$3,0)),IF(K488<=31,INDEX('Loan - Grade & Staple'!$A$1:$K$1000,MATCH($B488&$C488,'Loan - Grade & Staple'!$B$1:$B$1000&'Loan - Grade & Staple'!$C$1:$C$1000,0),MATCH(\"26-31\",'Loan - Grade & Staple'!$A$3:$K$3,0)),IF(ISNA(INDEX('Loan - Grade & Staple'!$A$1:$K$1000,MATCH($B488&C488,'Loan - Grade & Staple'!$B$1:$B$1000&'Loan - Grade & Staple'!$C$1:$C$1000,0),MATCH($K488,'Loan - Grade & Staple'!$A$3:$K$3,0))),-4000,INDEX('Loan - Grade & Staple'!$A$1:$K$1000,MATCH($B488&C488,'Loan - Grade & Staple'!$B$1:$B$1000&'Loan - Grade & Staple'!$C$1:$C$1000,0),MATCH($K488,'Loan - Grade & Staple'!$A$3:$K$3,0))))))","v":""},{"$f":"IF(LEN(E488)=0,\"\",INDEX('Loan - Strength'!$C$1:$C$18,MATCH(E488,'Loan - Strength'!$A$1:$A$18,1)))","v":""},{"$f":"IF(LEN(F488)=0,\"\",INDEX('Loan - Micronaire'!$C$1:$C$20,MATCH($F488,'Loan - Micronaire'!$A$1:$A$20,1)))","v":""},{"$f":"IF(LEN(G488)=0,\"\",INDEX('Loan - Uniformity'!$C$1:$C$20,MATCH($G488,'Loan - Uniformity'!$A$1:$A$20,1)))","v":""},"","",{"$f":"IF(OR(LEN(B488)=0,LEN(C488)=0,LEN(D488)=0,LEN(E488)=0,LEN(F488)=0,LEN(G488)=0),\"\",IF('Base Values'!$B$8+(SUM($L488:$P488)/100)<0,0,'Base Values'!$B$8+(SUM(L488:P488)/100)))","v":""},null,{"$f":"IF(AND($T$13=TRUE,H488=1),'Loan - Extraneous'!B$3,IF(AND($T$13=TRUE,H488=2),'Loan - Extraneous'!C$3,0))","v":0},{"$f":"IF(I488=1,'Loan - Extraneous'!$B$4,IF(I488=2,'Loan - Extraneous'!$C$4,0))","v":0},{"$f":"IF(J488=1,'Loan - Extraneous'!$B$5,IF(J488=2,'Loan - Extraneous'!$C$5,0))","v":0}]
[null,null,null,null,null,null,null,null,null,null,"",{"$f":"IF(OR(LEN(B489)=0,LEN(C489)=0,LEN(D489)=0),\"\",IF(K489>=38,INDEX('Loan - Grade & Staple'!$A$1:$K$1000,MATCH($B489&$C489,'Loan - Grade & Staple'!$B$1:$B$1000&'Loan - Grade & Staple'!$C$1:$C$1000,0),MATCH(\"38+\",'Loan - Grade & Staple'!$A$3:$K$3,0)),IF(K489<=31,INDEX('Loan - Grade & Staple'!$A$1:$K$1000,MATCH($B489&$C489,'Loan - Grade & Staple'!$B$1:$B$1000&'Loan - Grade & Staple'!$C$1:$C$1000,0),MATCH(\"26-31\",'Loan - Grade & Staple'!$A$3:$K$3,0)),IF(ISNA(INDEX('Loan - Grade & Staple'!$A$1:$K$1000,MATCH($B489&C489,'Loan - Grade & Staple'!$B$1:$B$1000&'Loan - Grade & Staple'!$C$1:$C$1000,0),MATCH($K489,'Loan - Grade & Staple'!$A$3:$K$3,0))),-4000,INDEX('Loan - Grade & Staple'!$A$1:$K$1000,MATCH($B489&C489,'Loan - Grade & Staple'!$B$1:$B$1000&'Loan - Grade & Staple'!$C$1:$C$1000,0),MATCH($K489,'Loan - Grade & Staple'!$A$3:$K$3,0))))))","v":""},{"$f":"IF(LEN(E489)=0,\"\",INDEX('Loan - Strength'!$C$1:$C$18,MATCH(E489,'Loan - Strength'!$A$1:$A$18,1)))","v":""},{"$f":"IF(LEN(F489)=0,\"\",INDEX('Loan - Micronaire'!$C$1:$C$20,MATCH($F489,'Loan - Micronaire'!$A$1:$A$20,1)))","v":""},{"$f":"IF(LEN(G489)=0,\"\",INDEX('Loan - Uniformity'!$C$1:$C$20,MATCH($G489,'Loan - Uniformity'!$A$1:$A$20,1)))","v":""},"","",{"$f":"IF(OR(LEN(B489)=0,LEN(C489)=0,LEN(D489)=0,LEN(E489)=0,LEN(F489)=0,LEN(G489)=0),\"\",IF('Base Values'!$B$8+(SUM($L489:$P489)/100)<0,0,'Base Values'!$B$8+(SUM(L489:P489)/100)))","v":""},null,{"$f":"IF(AND($T$13=TRUE,H489=1),'Loan - Extraneous'!B$3,IF(AND($T$13=TRUE,H489=2),'Loan - Extraneous'!C$3,0))","v":0},{"$f":"IF(I489=1,'Loan - Extraneous'!$B$4,IF(I489=2,'Loan - Extraneous'!$C$4,0))","v":0},{"$f":"IF(J489=1,'Loan - Extraneous'!$B$5,IF(J489=2,'Loan - Extraneous'!$C$5,0))","v":0}]
[null,null,null,null,null,null,null,null,null,null,"",{"$f":"IF(OR(LEN(B490)=0,LEN(C490)=0,LEN(D490)=0),\"\",IF(K490>=38,INDEX('Loan - Grade & Staple'!$A$1:$K$1000,MATCH($B490&$C490,'Loan - Grade & Staple'!$B$1:$B$1000&'Loan - Grade & Staple'!$C$1:$C$1000,0),MATCH(\"38+\",'Loan - Grade & Staple'!$A$3:$K$3,0)),IF(K490<=31,INDEX('Loan - Grade & Staple'!$A$1:$K$1000,MATCH($B490&$C490,'Loan - Grade & Staple'!$B$1:$B$1000&'Loan - Grade & Staple'!$C$1:$C$1000,0),MATCH(\"26-31\",'Loan - Grade & Staple'!$A$3:$K$3,0)),IF(ISNA(INDEX('Loan - Grade & Staple'!$A$1:$K$1000,MATCH($B490&C490,'Loan - Grade & Staple'!$B$1:$B$1000&'Loan - Grade & Staple'!$C$1:$C$1000,0),MATCH($K490,'Loan - Grade & Staple'!$A$3:$K$3,0))),-4000,INDEX('Loan - Grade & Staple'!$A$1:$K$1000,MATCH($B490&C490,'Loan - Grade & Staple'!$B$1:$B$1000&'Loan - Grade & Staple'!$C$1:$C$1000,0),MATCH($K490,'Loan - Grade & Staple'!$A$3:$K$3,0))))))","v":""},{"$f":"IF(LEN(E490)=0,\"\",INDEX('Loan - Strength'!$C$1:$C$18,MATCH(E490,'Loan - Strength'!$A$1:$A$18,1)))","v":""},{"$f":"IF(LEN(F490)=0,\"\",INDEX('Loan - Micronaire'!$C$1:$C$20,MATCH($F490,'Loan - Micronaire'!$A$1:$A$20,1)))","v":""},{"$f":"IF(LEN(G490)=0,\"\",INDEX('Loan - Uniformity'!$C$1:$C$20,MATCH($G490,'Loan - Uniformity'!$A$1:$A$20,1)))","v":""},"","",{"$f":"IF(OR(LEN(B490)=0,LEN(C490)=0,LEN(D490)=0,LEN(E490)=0,LEN(F490)=0,LEN(G490)=0),\"\",IF('Base Values'!$B$8+(SUM($L490:$P490)/100)<0,0,'Base Values'!$B$8+(SUM(L490:P490)/100)))","v":""},null,{"$f":"IF(AND($T$13=TRUE,H490=1),'Loan - Extraneous'!B$3,IF(AND($T$13=TRUE,H490=2),'Loan - Extraneous'!C$3,0))","v":0},{"$f":"IF(I490=1,'Loan - Extraneous'!$B$4,IF(I490=2,'Loan - Extraneous'!$C$4,0))","v":0},{"$f":"IF(J490=1,'Loan - Extraneous'!$B$5,IF(J490=2,'Loan - Extraneous'!$C$5,0))","v":0}]
[null,null,null,null,null,null,null,null,null,null,"",{"$f":"IF(OR(LEN(B491)=0,LEN(C491)=0,LEN(D491)=0),\"\",IF(K491>=38,INDEX('Loan - Grade & Staple'!$A$1:$K$1000,MATCH($B491&$C491,'Loan - Grade & Staple'!$B$1:$B$1000&'Loan - Grade & Staple'!$C$1:$C$1000,0),MATCH(\"38+\",'Loan - Grade & Staple'!$A$3:$K$3,0)),IF(K491<=31,INDEX('Loan - Grade & Staple'!$A$1:$K$1000,MATCH($B491&$C491,'Loan - Grade & Staple'!$B$1:$B$1000&'Loan - Grade & Staple'!$C$1:$C$1000,0),MATCH(\"26-31\",'Loan - Grade & Staple'!$A$3:$K$3,0)),IF(ISNA(INDEX('Loan - Grade & Staple'!$A$1:$K$1000,MATCH($B491&C491,'Loan - Grade & Staple'!$B$1:$B$1000&'Loan - Grade & Staple'!$C$1:$C$1000,0),MATCH($K491,'Loan - Grade & Staple'!$A$3:$K$3,0))),-4000,INDEX('Loan - Grade & Staple'!$A$1:$K$1000,MATCH($B491&C491,'Loan - Grade & Staple'!$B$1:$B$1000&'Loan - Grade & Staple'!$C$1:$C$1000,0),MATCH($K491,'Loan - Grade & Staple'!$A$3:$K$3,0))))))","v":""},{"$f":"IF(LEN(E491)=0,\"\",INDEX('Loan - Strength'!$C$1:$C$18,MATCH(E491,'Loan - Strength'!$A$1:$A$18,1)))","v":""},{"$f":"IF(LEN(F491)=0,\"\",INDEX('Loan - Micronaire'!$C$1:$C$20,MATCH($F491,'Loan - Micronaire'!$A$1:$A$20,1)))","v":""},{"$f":"IF(LEN(G491)=0,\"\",INDEX('Loan - Uniformity'!$C$1:$C$20,MATCH($G491,'Loan - Uniformity'!$A$1:$A$20,1)))","v":""},"","",{"$f":"IF(OR(LEN(B491)=0,LEN(C491)=0,LEN(D491)=0,LEN(E491)=0,LEN(F491)=0,LEN(G491)=0),\"\",IF('Base Values'!$B$8+(SUM($L491:$P491)/100)<0,0,'Base Values'!$B$8+(SUM(L491:P491)/100)))","v":""},null,{"$f":"IF(AND($T$13=TRUE,H491=1),'Loan - Extraneous'!B$3,IF(AND($T$13=TRUE,H491=2),'Loan - Extraneous'!C$3,0))","v":0},{"$f":"IF(I491=1,'Loan - Extraneous'!$B$4,IF(I491=2,'Loan - Extraneous'!$C$4,0))","v":0},{"$f":"IF(J491=1,'Loan - Extraneous'!$B$5,IF(J491=2,'Loan - Extraneous'!$C$5,0))","v":0}]
[null,null,null,null,null,null,null,null,null,null,"",{"$f":"IF(OR(LEN(B492)=0,LEN(C492)=0,LEN(D492)=0),\"\",IF(K492>=38,INDEX('Loan - Grade & Staple'!$A$1:$K$1000,MATCH($B492&$C492,'Loan - Grade & Staple'!$B$1:$B$1000&'Loan - Grade & Staple'!$C$1:$C$1000,0),MATCH(\"38+\",'Loan - Grade & Staple'!$A$3:$K$3,0)),IF(K492<=31,INDEX('Loan - Grade & Staple'!$A$1:$K$1000,MATCH($B492&$C492,'Loan - Grade & Staple'!$B$1:$B$1000&'Loan - Grade & Staple'!$C$1:$C$1000,0),MATCH(\"26-31\",'Loan - Grade & Staple'!$A$3:$K$3,0)),IF(ISNA(INDEX('Loan - Grade & Staple'!$A$1:$K$1000,MATCH($B492&C492,'Loan - Grade & Staple'!$B$1:$B$1000&'Loan - Grade & Staple'!$C$1:$C$1000,0),MATCH($K492,'Loan - Grade & Staple'!$A$3:$K$3,0))),-4000,INDEX('Loan - Grade & Staple'!$A$1:$K$1000,MATCH($B492&C492,'Loan - Grade & Staple'!$B$1:$B$1000&'Loan - Grade & Staple'!$C$1:$C$1000,0),MATCH($K492,'Loan - Grade & Staple'!$A$3:$K$3,0))))))","v":""},{"$f":"IF(LEN(E492)=0,\"\",INDEX('Loan - Strength'!$C$1:$C$18,MATCH(E492,'Loan - Strength'!$A$1:$A$18,1)))","v":""},{"$f":"IF(LEN(F492)=0,\"\",INDEX('Loan - Micronaire'!$C$1:$C$20,MATCH($F492,'Loan - Micronaire'!$A$1:$A$20,1)))","v":""},{"$f":"IF(LEN(G492)=0,\"\",INDEX('Loan - Uniformity'!$C$1:$C$20,MATCH($G492,'Loan - Uniformity'!$A$1:$A$20,1)))","v":""},"","",{"$f":"IF(OR(LEN(B492)=0,LEN(C492)=0,LEN(D492)=0,LEN(E492)=0,LEN(F492)=0,LEN(G492)=0),\"\",IF('Base Values'!$B$8+(SUM($L492:$P492)/100)<0,0,'Base Values'!$B$8+(SUM(L492:P492)/100)))","v":""},null,{"$f":"IF(AND($T$13=TRUE,H492=1),'Loan - Extraneous'!B$3,IF(AND($T$13=TRUE,H492=2),'Loan - Extraneous'!C$3,0))","v":0},{"$f":"IF(I492=1,'Loan - Extraneous'!$B$4,IF(I492=2,'Loan - Extraneous'!$C$4,0))","v":0},{"$f":"IF(J492=1,'Loan - Extraneous'!$B$5,IF(J492=2,'Loan - Extraneous'!$C$5,0))","v":0}]
[null,null,null,null,null,null,null,null,null,null,"",{"$f":"IF(OR(LEN(B493)=0,LEN(C493)=0,LEN(D493)=0),\"\",IF(K493>=38,INDEX('Loan - Grade & Staple'!$A$1:$K$1000,MATCH($B493&$C493,'Loan - Grade & Staple'!$B$1:$B$1000&'Loan - Grade & Staple'!$C$1:$C$1000,0),MATCH(\"38+\",'Loan - Grade & Staple'!$A$3:$K$3,0)),IF(K493<=31,INDEX('Loan - Grade & Staple'!$A$1:$K$1000,MATCH($B493&$C493,'Loan - Grade & Staple'!$B$1:$B$1000&'Loan - Grade & Staple'!$C$1:$C$1000,0),MATCH(\"26-31\",'Loan - Grade & Staple'!$A$3:$K$3,0)),IF(ISNA(INDEX('Loan - Grade & Staple'!$A$1:$K$1000,MATCH($B493&C493,'Loan - Grade & Staple'!$B$1:$B$1000&'Loan - Grade & Staple'!$C$1:$C$1000,0),MATCH($K493,'Loan - Grade & Staple'!$A$3:$K$3,0))),-4000,INDEX('Loan - Grade & Staple'!$A$1:$K$1000,MATCH($B493&C493,'Loan - Grade & Staple'!$B$1:$B$1000&'Loan - Grade & Staple'!$C$1:$C$1000,0),MATCH($K493,'Loan - Grade & Staple'!$A$3:$K$3,0))))))","v":""},{"$f":"IF(LEN(E493)=0,\"\",INDEX('Loan - Strength'!$C$1:$C$18,MATCH(E493,'Loan - Strength'!$A$1:$A$18,1)))","v":""},{"$f":"IF(LEN(F493)=0,\"\",INDEX('Loan - Micronaire'!$C$1:$C$20,MATCH($F493,'Loan - Micronaire'!$A$1:$A$20,1)))","v":""},{"$f":"IF(LEN(G493)=0,\"\",INDEX('Loan - Uniformity'!$C$1:$C$20,MATCH($G493,'Loan - Uniformity'!$A$1:$A$20,1)))","v":""},"","",{"$f":"IF(OR(LEN(B493)=0,LEN(C493)=0,LEN(D493)=0,LEN(E493)=0,LEN(F493)=0,LEN(G493)=0),\"\",IF('Base Values'!$B$8+(SUM($L493:$P493)/100)<0,0,'Base Values'!$B$8+(SUM(L493:P493)/100)))","v":""},null,{"$f":"IF(AND($T$13=TRUE,H493=1),'Loan - Extraneous'!B$3,IF(AND($T$13=TRUE,H493=2),'Loan - Extraneous'!C$3,0))","v":0},{"$f":"IF(I493=1,'Loan - Extraneous'!$B$4,IF(I493=2,'Loan - Extraneous'!$C$4,0))","v":0},{"$f":"IF(J493=1,'Loan - Extraneous'!$B$5,IF(J493=2,'Loan - Extraneous'!$C$5,0))","v":0}]
[null,null,null,null,null,null,null,null,null,null,"",{"$f":"IF(OR(LEN(B494)=0,LEN(C494)=0,LEN(D494)=0),\"\",IF(K494>=38,INDEX('Loan - Grade & Staple'!$A$1:$K$1000,MATCH($B494&$C494,'Loan - Grade & Staple'!$B$1:$B$1000&'Loan - Grade & Staple'!$C$1:$C$1000,0),MATCH(\"38+\",'Loan - Grade & Staple'!$A$3:$K$3,0)),IF(K494<=31,INDEX('Loan - Grade & Staple'!$A$1:$K$1000,MATCH($B494&$C494,'Loan - Grade & Staple'!$B$1:$B$1000&'Loan - Grade & Staple'!$C$1:$C$1000,0),MATCH(\"26-31\",'Loan - Grade & Staple'!$A$3:$K$3,0)),IF(ISNA(INDEX('Loan - Grade & Staple'!$A$1:$K$1000,MATCH($B494&C494,'Loan - Grade & Staple'!$B$1:$B$1000&'Loan - Grade & Staple'!$C$1:$C$1000,0),MATCH($K494,'Loan - Grade & Staple'!$A$3:$K$3,0))),-4000,INDEX('Loan - Grade & Staple'!$A$1:$K$1000,MATCH($B494&C494,'Loan - Grade & Staple'!$B$1:$B$1000&'Loan - Grade & Staple'!$C$1:$C$1000,0),MATCH($K494,'Loan - Grade & Staple'!$A$3:$K$3,0))))))","v":""},{"$f":"IF(LEN(E494)=0,\"\",INDEX('Loan - Strength'!$C$1:$C$18,MATCH(E494,'Loan - Strength'!$A$1:$A$18,1)))","v":""},{"$f":"IF(LEN(F494)=0,\"\",INDEX('Loan - Micronaire'!$C$1:$C$20,MATCH($F494,'Loan - Micronaire'!$A$1:$A$20,1)))","v":""},{"$f":"IF(LEN(G494)=0,\"\",INDEX('Loan - Uniformity'!$C$1:$C$20,MATCH($G494,'Loan - Uniformity'!$A$1:$A$20,1)))","v":""},"","",{"$f":"IF(OR(LEN(B494)=0,LEN(C494)=0,LEN(D494)=0,LEN(E494)=0,LEN(F494)=0,LEN(G494)=0),\"\",IF('Base Values'!$B$8+(SUM($L494:$P494)/100)<0,0,'Base Values'!$B$8+(SUM(L494:P494)/100)))","v":""},null,{"$f":"IF(AND($T$13=TRUE,H494=1),'Loan - Extraneous'!B$3,IF(AND($T$13=TRUE,H494=2),'Loan - Extraneous'!C$3,0))","v":0},{"$f":"IF(I494=1,'Loan - Extraneous'!$B$4,IF(I494=2,'Loan - Extraneous'!$C$4,0))","v":0},{"$f":"IF(J494=1,'Loan - Extraneous'!$B$5,IF(J494=2,'Loan - Extraneous'!$C$5,0))","v":0}]
[null,null,null,null,null,null,null,null,null,null,"",{"$f":"IF(OR(LEN(B495)=0,LEN(C495)=0,LEN(D495)=0),\"\",IF(K495>=38,INDEX('Loan - Grade & Staple'!$A$1:$K$1000,MATCH($B495&$C495,'Loan - Grade & Staple'!$B$1:$B$1000&'Loan - Grade & Staple'!$C$1:$C$1000,0),MATCH(\"38+\",'Loan - Grade & Staple'!$A$3:$K$3,0)),IF(K495<=31,INDEX('Loan - Grade & Staple'!$A$1:$K$1000,MATCH($B495&$C495,'Loan - Grade & Staple'!$B$1:$B$1000&'Loan - Grade & Staple'!$C$1:$C$1000,0),MATCH(\"26-31\",'Loan - Grade & Staple'!$A$3:$K$3,0)),IF(ISNA(INDEX('Loan - Grade & Staple'!$A$1:$K$1000,MATCH($B495&C495,'Loan - Grade & Staple'!$B$1:$B$1000&'Loan - Grade & Staple'!$C$1:$C$1000,0),MATCH($K495,'Loan - Grade & Staple'!$A$3:$K$3,0))),-4000,INDEX('Loan - Grade & Staple'!$A$1:$K$1000,MATCH($B495&C495,'Loan - Grade & Staple'!$B$1:$B$1000&'Loan - Grade & Staple'!$C$1:$C$1000,0),MATCH($K495,'Loan - Grade & Staple'!$A$3:$K$3,0))))))","v":""},{"$f":"IF(LEN(E495)=0,\"\",INDEX('Loan - Strength'!$C$1:$C$18,MATCH(E495,'Loan - Strength'!$A$1:$A$18,1)))","v":""},{"$f":"IF(LEN(F495)=0,\"\",INDEX('Loan - Micronaire'!$C$1:$C$20,MATCH($F495,'Loan - Micronaire'!$A$1:$A$20,1)))","v":""},{"$f":"IF(LEN(G495)=0,\"\",INDEX('Loan - Uniformity'!$C$1:$C$20,MATCH($G495,'Loan - Uniformity'!$A$1:$A$20,1)))","v":""},"","",{"$f":"IF(OR(LEN(B495)=0,LEN(C495)=0,LEN(D495)=0,LEN(E495)=0,LEN(F495)=0,LEN(G495)=0),\"\",IF('Base Values'!$B$8+(SUM($L495:$P495)/100)<0,0,'Base Values'!$B$8+(SUM(L495:P495)/100)))","v":""},null,{"$f":"IF(AND($T$13=TRUE,H495=1),'Loan - Extraneous'!B$3,IF(AND($T$13=TRUE,H495=2),'Loan - Extraneous'!C$3,0))","v":0},{"$f":"IF(I495=1,'Loan - Extraneous'!$B$4,IF(I495=2,'Loan - Extraneous'!$C$4,0))","v":0},{"$f":"IF(J495=1,'Loan - Extraneous'!$B$5,IF(J495=2,'Loan - Extraneous'!$C$5,0))","v":0}]
[null,null,null,null,null,null,null,null,null,null,"",{"$f":"IF(OR(LEN(B496)=0,LEN(C496)=0,LEN(D496)=0),\"\",IF(K496>=38,INDEX('Loan - Grade & Staple'!$A$1:$K$1000,MATCH($B496&$C496,'Loan - Grade & Staple'!$B$1:$B$1000&'Loan - Grade & Staple'!$C$1:$C$1000,0),MATCH(\"38+\",'Loan - Grade & Staple'!$A$3:$K$3,0)),IF(K496<=31,INDEX('Loan - Grade & Staple'!$A$1:$K$1000,MATCH($B496&$C496,'Loan - Grade & Staple'!$B$1:$B$1000&'Loan - Grade & Staple'!$C$1:$C$1000,0),MATCH(\"26-31\",'Loan - Grade & Staple'!$A$3:$K$3,0)),IF(ISNA(INDEX('Loan - Grade & Staple'!$A$1:$K$1000,MATCH($B496&C496,'Loan - Grade & Staple'!$B$1:$B$1000&'Loan - Grade & Staple'!$C$1:$C$1000,0),MATCH($K496,'Loan - Grade & Staple'!$A$3:$K$3,0))),-4000,INDEX('Loan - Grade & Staple'!$A$1:$K$1000,MATCH($B496&C496,'Loan - Grade & Staple'!$B$1:$B$1000&'Loan - Grade & Staple'!$C$1:$C$1000,0),MATCH($K496,'Loan - Grade & Staple'!$A$3:$K$3,0))))))","v":""},{"$f":"IF(LEN(E496)=0,\"\",INDEX('Loan - Strength'!$C$1:$C$18,MATCH(E496,'Loan - Strength'!$A$1:$A$18,1)))","v":""},{"$f":"IF(LEN(F496)=0,\"\",INDEX('Loan - Micronaire'!$C$1:$C$20,MATCH($F496,'Loan - Micronaire'!$A$1:$A$20,1)))","v":""},{"$f":"IF(LEN(G496)=0,\"\",INDEX('Loan - Uniformity'!$C$1:$C$20,MATCH($G496,'Loan - Uniformity'!$A$1:$A$20,1)))","v":""},"","",{"$f":"IF(OR(LEN(B496)=0,LEN(C496)=0,LEN(D496)=0,LEN(E496)=0,LEN(F496)=0,LEN(G496)=0),\"\",IF('Base Values'!$B$8+(SUM($L496:$P496)/100)<0,0,'Base Values'!$B$8+(SUM(L496:P496)/100)))","v":""},null,{"$f":"IF(AND($T$13=TRUE,H496=1),'Loan - Extraneous'!B$3,IF(AND($T$13=TRUE,H496=2),'Loan - Extraneous'!C$3,0))","v":0},{"$f":"IF(I496=1,'Loan - Extraneous'!$B$4,IF(I496=2,'Loan - Extraneous'!$C$4,0))","v":0},{"$f":"IF(J496=1,'Loan - Extraneous'!$B$5,IF(J496=2,'Loan - Extraneous'!$C$5,0))","v":0}]
[null,null,null,null,null,null,null,null,null,null,"",{"$f":"IF(OR(LEN(B497)=0,LEN(C497)=0,LEN(D497)=0),\"\",IF(K497>=38,INDEX('Loan - Grade & Staple'!$A$1:$K$1000,MATCH($B497&$C497,'Loan - Grade & Staple'!$B$1:$B$1000&'Loan - Grade & Staple'!$C$1:$C$1000,0),MATCH(\"38+\",'Loan - Grade & Staple'!$A$3:$K$3,0)),IF(K497<=31,INDEX('Loan - Grade & Staple'!$A$1:$K$1000,MATCH($B497&$C497,'Loan - Grade & Staple'!$B$1:$B$1000&'Loan - Grade & Staple'!$C$1:$C$1000,0),MATCH(\"26-31\",'Loan - Grade & Staple'!$A$3:$K$3,0)),IF(ISNA(INDEX('Loan - Grade & Staple'!$A$1:$K$1000,MATCH($B497&C497,'Loan - Grade & Staple'!$B$1:$B$1000&'Loan - Grade & Staple'!$C$1:$C$1000,0),MATCH($K497,'Loan - Grade & Staple'!$A$3:$K$3,0))),-4000,INDEX('Loan - Grade & Staple'!$A$1:$K$1000,MATCH($B497&C497,'Loan - Grade & Staple'!$B$1:$B$1000&'Loan - Grade & Staple'!$C$1:$C$1000,0),MATCH($K497,'Loan - Grade & Staple'!$A$3:$K$3,0))))))","v":""},{"$f":"IF(LEN(E497)=0,\"\",INDEX('Loan - Strength'!$C$1:$C$18,MATCH(E497,'Loan - Strength'!$A$1:$A$18,1)))","v":""},{"$f":"IF(LEN(F497)=0,\"\",INDEX('Loan - Micronaire'!$C$1:$C$20,MATCH($F497,'Loan - Micronaire'!$A$1:$A$20,1)))","v":""},{"$f":"IF(LEN(G497)=0,\"\",INDEX('Loan - Uniformity'!$C$1:$C$20,MATCH($G497,'Loan - Uniformity'!$A$1:$A$20,1)))","v":""},"","",{"$f":"IF(OR(LEN(B497)=0,LEN(C497)=0,LEN(D497)=0,LEN(E497)=0,LEN(F497)=0,LEN(G497)=0),\"\",IF('Base Values'!$B$8+(SUM($L497:$P497)/100)<0,0,'Base Values'!$B$8+(SUM(L497:P497)/100)))","v":""},null,{"$f":"IF(AND($T$13=TRUE,H497=1),'Loan - Extraneous'!B$3,IF(AND($T$13=TRUE,H497=2),'Loan - Extraneous'!C$3,0))","v":0},{"$f":"IF(I497=1,'Loan - Extraneous'!$B$4,IF(I497=2,'Loan - Extraneous'!$C$4,0))","v":0},{"$f":"IF(J497=1,'Loan - Extraneous'!$B$5,IF(J497=2,'Loan - Extraneous'!$C$5,0))","v":0}]
[null,null,null,null,null,null,null,null,null,null,"",{"$f":"IF(OR(LEN(B498)=0,LEN(C498)=0,LEN(D498)=0),\"\",IF(K498>=38,INDEX('Loan - Grade & Staple'!$A$1:$K$1000,MATCH($B498&$C498,'Loan - Grade & Staple'!$B$1:$B$1000&'Loan - Grade & Staple'!$C$1:$C$1000,0),MATCH(\"38+\",'Loan - Grade & Staple'!$A$3:$K$3,0)),IF(K498<=31,INDEX('Loan - Grade & Staple'!$A$1:$K$1000,MATCH($B498&$C498,'Loan - Grade & Staple'!$B$1:$B$1000&'Loan - Grade & Staple'!$C$1:$C$1000,0),MATCH(\"26-31\",'Loan - Grade & Staple'!$A$3:$K$3,0)),IF(ISNA(INDEX('Loan - Grade & Staple'!$A$1:$K$1000,MATCH($B498&C498,'Loan - Grade & Staple'!$B$1:$B$1000&'Loan - Grade & Staple'!$C$1:$C$1000,0),MATCH($K498,'Loan - Grade & Staple'!$A$3:$K$3,0))),-4000,INDEX('Loan - Grade & Staple'!$A$1:$K$1000,MATCH($B498&C498,'Loan - Grade & Staple'!$B$1:$B$1000&'Loan - Grade & Staple'!$C$1:$C$1000,0),MATCH($K498,'Loan - Grade & Staple'!$A$3:$K$3,0))))))","v":""},{"$f":"IF(LEN(E498)=0,\"\",INDEX('Loan - Strength'!$C$1:$C$18,MATCH(E498,'Loan - Strength'!$A$1:$A$18,1)))","v":""},{"$f":"IF(LEN(F498)=0,\"\",INDEX('Loan - Micronaire'!$C$1:$C$20,MATCH($F498,'Loan - Micronaire'!$A$1:$A$20,1)))","v":""},{"$f":"IF(LEN(G498)=0,\"\",INDEX('Loan - Uniformity'!$C$1:$C$20,MATCH($G498,'Loan - Uniformity'!$A$1:$A$20,1)))","v":""},"","",{"$f":"IF(OR(LEN(B498)=0,LEN(C498)=0,LEN(D498)=0,LEN(E498)=0,LEN(F498)=0,LEN(G498)=0),\"\",IF('Base Values'!$B$8+(SUM($L498:$P498)/100)<0,0,'Base Values'!$B$8+(SUM(L498:P498)/100)))","v":""},null,{"$f":"IF(AND($T$13=TRUE,H498=1),'Loan - Extraneous'!B$3,IF(AND($T$13=TRUE,H498=2),'Loan - Extraneous'!C$3,0))","v":0},{"$f":"IF(I498=1,'Loan - Extraneous'!$B$4,IF(I498=2,'Loan - Extraneous'!$C$4,0))","v":0},{"$f":"IF(J498=1,'Loan - Extraneous'!$B$5,IF(J498=2,'Loan - Extraneous'!$C$5,0))","v":0}]
[null,null,null,null,null,null,null,null,null,null,"",{"$f":"IF(OR(LEN(B499)=0,LEN(C499)=0,LEN(D499)=0),\"\",IF(K499>=38,INDEX('Loan - Grade & Staple'!$A$1:$K$1000,MATCH($B499&$C499,'Loan - Grade & Staple'!$B$1:$B$1000&'Loan - Grade & Staple'!$C$1:$C$1000,0),MATCH(\"38+\",'Loan - Grade & Staple'!$A$3:$K$3,0)),IF(K499<=31,INDEX('Loan - Grade & Staple'!$A$1:$K$1000,MATCH($B499&$C499,'Loan - Grade & Staple'!$B$1:$B$1000&'Loan - Grade & Staple'!$C$1:$C$1000,0),MATCH(\"26-31\",'Loan - Grade & Staple'!$A$3:$K$3,0)),IF(ISNA(INDEX('Loan - Grade & Staple'!$A$1:$K$1000,MATCH($B499&C499,'Loan - Grade & Staple'!$B$1:$B$1000&'Loan - Grade & Staple'!$C$1:$C$1000,0),MATCH($K499,'Loan - Grade & Staple'!$A$3:$K$3,0))),-4000,INDEX('Loan - Grade & Staple'!$A$1:$K$1000,MATCH($B499&C499,'Loan - Grade & Staple'!$B$1:$B$1000&'Loan - Grade & Staple'!$C$1:$C$1000,0),MATCH($K499,'Loan - Grade & Staple'!$A$3:$K$3,0))))))","v":""},{"$f":"IF(LEN(E499)=0,\"\",INDEX('Loan - Strength'!$C$1:$C$18,MATCH(E499,'Loan - Strength'!$A$1:$A$18,1)))","v":""},{"$f":"IF(LEN(F499)=0,\"\",INDEX('Loan - Micronaire'!$C$1:$C$20,MATCH($F499,'Loan - Micronaire'!$A$1:$A$20,1)))","v":""},{"$f":"IF(LEN(G499)=0,\"\",INDEX('Loan - Uniformity'!$C$1:$C$20,MATCH($G499,'Loan - Uniformity'!$A$1:$A$20,1)))","v":""},"","",{"$f":"IF(OR(LEN(B499)=0,LEN(C499)=0,LEN(D499)=0,LEN(E499)=0,LEN(F499)=0,LEN(G499)=0),\"\",IF('Base Values'!$B$8+(SUM($L499:$P499)/100)<0,0,'Base Values'!$B$8+(SUM(L499:P499)/100)))","v":""},null,{"$f":"IF(AND($T$13=TRUE,H499=1),'Loan - Extraneous'!B$3,IF(AND($T$13=TRUE,H499=2),'Loan - Extraneous'!C$3,0))","v":0},{"$f":"IF(I499=1,'Loan - Extraneous'!$B$4,IF(I499=2,'Loan - Extraneous'!$C$4,0))","v":0},{"$f":"IF(J499=1,'Loan - Extraneous'!$B$5,IF(J499=2,'Loan - Extraneous'!$C$5,0))","v":0}]
[null,null,null,null,null,null,null,null,null,null,"",{"$f":"IF(OR(LEN(B500)=0,LEN(C500)=0,LEN(D500)=0),\"\",IF(K500>=38,INDEX('Loan - Grade & Staple'!$A$1:$K$1000,MATCH($B500&$C500,'Loan - Grade & Staple'!$B$1:$B$1000&'Loan - Grade & Staple'!$C$1:$C$1000,0),MATCH(\"38+\",'Loan - Grade & Staple'!$A$3:$K$3,0)),IF(K500<=31,INDEX('Loan - Grade & Staple'!$A$1:$K$1000,MATCH($B500&$C500,'Loan - Grade & Staple'!$B$1:$B$1000&'Loan - Grade & Staple'!$C$1:$C$1000,0),MATCH(\"26-31\",'Loan - Grade & Staple'!$A$3:$K$3,0)),IF(ISNA(INDEX('Loan - Grade & Staple'!$A$1:$K$1000,MATCH($B500&C500,'Loan - Grade & Staple'!$B$1:$B$1000&'Loan - Grade & Staple'!$C$1:$C$1000,0),MATCH($K500,'Loan - Grade & Staple'!$A$3:$K$3,0))),-4000,INDEX('Loan - Grade & Staple'!$A$1:$K$1000,MATCH($B500&C500,'Loan - Grade & Staple'!$B$1:$B$1000&'Loan - Grade & Staple'!$C$1:$C$1000,0),MATCH($K500,'Loan - Grade & Staple'!$A$3:$K$3,0))))))","v":""},{"$f":"IF(LEN(E500)=0,\"\",INDEX('Loan - Strength'!$C$1:$C$18,MATCH(E500,'Loan - Strength'!$A$1:$A$18,1)))","v":""},{"$f":"IF(LEN(F500)=0,\"\",INDEX('Loan - Micronaire'!$C$1:$C$20,MATCH($F500,'Loan - Micronaire'!$A$1:$A$20,1)))","v":""},{"$f":"IF(LEN(G500)=0,\"\",INDEX('Loan - Uniformity'!$C$1:$C$20,MATCH($G500,'Loan - Uniformity'!$A$1:$A$20,1)))","v":""},"","",{"$f":"IF(OR(LEN(B500)=0,LEN(C500)=0,LEN(D500)=0,LEN(E500)=0,LEN(F500)=0,LEN(G500)=0),\"\",IF('Base Values'!$B$8+(SUM($L500:$P500)/100)<0,0,'Base Values'!$B$8+(SUM(L500:P500)/100)))","v":""},null,{"$f":"IF(AND($T$13=TRUE,H500=1),'Loan - Extraneous'!B$3,IF(AND($T$13=TRUE,H500=2),'Loan - Extraneous'!C$3,0))","v":0},{"$f":"IF(I500=1,'Loan - Extraneous'!$B$4,IF(I500=2,'Loan - Extraneous'!$C$4,0))","v":0},{"$f":"IF(J500=1,'Loan - Extraneous'!$B$5,IF(J500=2,'Loan - Extraneous'!$C$5,0))","v":0}]

{"sheet":"Yield and Turnout Data","index":3,"n_rows":500,"n_cols":10,"rows_kept":500,"cut":false,"hidden":false,"merged":[]}
["Enter Yield and Turnout Data for Each Sample"]
["Enter yield and turnout data in boxes with blue font."]
[]
[]
[null,null,null,null,"Note: Seed yield is the product of lint yield and estimated pounds of seed per pound of lint entered on the Base Values sheet."]
[]
[]
[]
[]
[]
[null,null,null,null,"Estimated",null,null,"Picking"]
[null,"Lint",null,"Lint","Seed","Seed","Gross","& Moduling","Ginning","Net"]
[null,"Yield","Turnout","Value","Yield","Value","Return","Cost","Cost","Return"]
["Variety/Sample Name","(lbs/Acre)","(%)","($/Acre)","(lbs/Acre)","($/Acre)","($/Acre)","($/Acre)","($/Acre)","($/Acre)"]
[{"$f":"IF(LEN('HVI Quality Data'!A15)>0,'HVI Quality Data'!A15,\"\")","v":"Variety 1"},615,34.5,{"$f":"IF(LEN(B15)=0,\"\",ROUND($B15*'HVI Quality Data'!R15/100,0))","v":220},{"$f":"IF(LEN(B15)=0,\"\",ROUND(B15*'Base Values'!$B$16,0))","v":868},{"$f":"IF(LEN(B15)=0,\"\",ROUND(E15/2000*'Base Values'!$B$10,0))","v":80},{"$f":"IF(LEN(B15)=0,\"\",SUM(D15,F15))","v":300},{"$f":"IF(OR(LEN(B15)=0,LEN(C15)=0),\"\",ROUND(B15/(C15/100)*'Base Values'!$B$12/100,0))","v":57},{"$f":"IF(LEN(B15)=0,\"\",ROUND(B15*'Base Values'!$B$14,0))","v":74},{"$f":"IF(OR(LEN(B15)=0,LEN(C15)=0),\"\",G15-H15-I15)","v":169}]
[{"$f":"IF(LEN('HVI Quality Data'!A16)>0,'HVI Quality Data'!A16,\"\")","v":"Variety 2"},635,34.799999999999997,{"$f":"IF(LEN(B16)=0,\"\",ROUND($B16*'HVI Quality Data'!R16/100,0))","v":231},{"$f":"IF(LEN(B16)=0,\"\",ROUND(B16*'Base Values'!$B$16,0))","v":897},{"$f":"IF(LEN(B16)=0,\"\",ROUND(E16/2000*'Base Values'!$B$10,0))","v":83},{"$f":"IF(LEN(B16)=0,\"\",SUM(D16,F16))","v":314},{"$f":"IF(OR(LEN(B16)=0,LEN(C16)=0),\"\",ROUND(B16/(C16/100)*'Base Values'!$B$12/100,0))","v":58},{"$f":"IF(LEN(B16)=0,\"\",ROUND(B16*'Base Values'!$B$14,0))","v":76},{"$f":"IF(OR(LEN(B16)=0,LEN(C16)=0),\"\",G16-H16-I16)","v":180}]
[{"$f":"IF(LEN('HVI Quality Data'!A17)>0,'HVI Quality Data'!A17,\"\")","v":"Variety 3"},655,35.299999999999997,{"$f":"IF(LEN(B17)=0,\"\",ROUND($B17*'HVI Quality Data'!R17/100,0))","v":244},{"$f":"IF(LEN(B17)=0,\"\",ROUND(B17*'Base Values'!$B$16,0))","v":925},{"$f":"IF(LEN(B17)=0,\"\",ROUND(E17/2000*'Base Values'!$B$10,0))","v":86},330,{"$f":"IF(OR(LEN(B17)=0,LEN(C17)=0),\"\",ROUND(B17/(C17/100)*'Base Values'!$B$12/100,0))","v":59},{"$f":"IF(LEN(B17)=0,\"\",ROUND(B17*'Base Values'!$B$14,0))","v":79},192]
[{"$f":"IF(LEN('HVI Quality Data'!A18)>0,'HVI Quality Data'!A18,\"\")","v":"Variety 4"},675,35.6,{"$f":"IF(LEN(B18)=0,\"\",ROUND($B18*'HVI Quality Data'!R18/100,0))","v":316},{"$f":"IF(LEN(B18)=0,\"\",ROUND(B18*'Base Values'!$B$16,0))","v":953},{"$f":"IF(LEN(B18)=0,\"\",ROUND(E18/2000*'Base Values'!$B$10,0))","v":88},404,{"$f":"IF(OR(LEN(B18)=0,LEN(C18)=0),\"\",ROUND(B18/(C18/100)*'Base Values'!$B$12/100,0))","v":61},{"$f":"IF(LEN(B18)=0,\"\",ROUND(B18*'Base Values'!$B$14,0))","v":81},262]
[{"$f":"IF(LEN('HVI Quality Data'!A19)>0,'HVI Quality Data'!A19,\"\")","v":"Variety 5"},695,35.9,{"$f":"IF(LEN(B19)=0,\"\",ROUND($B19*'HVI Quality Data'!R19/100,0))","v":329},{"$f":"IF(LEN(B19)=0,\"\",ROUND(B19*'Base Values'!$B$16,0))","v":981},{"$f":"IF(LEN(B19)=0,\"\",ROUND(E19/2000*'Base Values'!$B$10,0))","v":91},420,{"$f":"IF(OR(LEN(B19)=0,LEN(C19)=0),\"\",ROUND(B19/(C19/100)*'Base Values'!$B$12/100,0))","v":62},{"$f":"IF(LEN(B19)=0,\"\",ROUND(B19*'Base Values'!$B$14,0))","v":83},275]
[{"$f":"IF(LEN('HVI Quality Data'!A20)>0,'HVI Quality Data'!A20,\"\")","v":"Variety 6"},715,36.299999999999997,{"$f":"IF(LEN(B20)=0,\"\",ROUND($B20*'HVI Quality Data'!R20/100,0))","v":322},{"$f":"IF(LEN(B20)=0,\"\",ROUND(B20*'Base Values'!$B$16,0))","v":1010},{"$f":"IF(LEN(B20)=0,\"\",ROUND(E20/2000*'Base Values'!$B$10,0))","v":93},415,{"$f":"IF(OR(LEN(B20)=0,LEN(C20)=0),\"\",ROUND(B20/(C20/100)*'Base Values'!$B$12/100,0))","v":63},{"$f":"IF(LEN(B20)=0,\"\",ROUND(B20*'Base Values'!$B$14,0))","v":86},266]
[{"$f":"IF(LEN('HVI Quality Data'!A21)>0,'HVI Quality Data'!A21,\"\")","v":"Variety 7"},735,36.5,{"$f":"IF(LEN(B21)=0,\"\",ROUND($B21*'HVI Quality Data'!R21/100,0))","v":318},{"$f":"IF(LEN(B21)=0,\"\",ROUND(B21*'Base Values'!$B$16,0))","v":1038},{"$f":"IF(LEN(B21)=0,\"\",ROUND(E21/2000*'Base Values'!$B$10,0))","v":96},414,{"$f":"IF(OR(LEN(B21)=0,LEN(C21)=0),\"\",ROUND(B21/(C21/100)*'Base Values'!$B$12/100,0))","v":64},{"$f":"IF(LEN(B21)=0,\"\",ROUND(B21*'Base Values'!$B$14,0))","v":88},262]
[{"$f":"IF(LEN('HVI Quality Data'!A22)>0,'HVI Quality Data'!A22,\"\")","v":"Variety 8"},755,36.700000000000003,{"$f":"IF(LEN(B22)=0,\"\",ROUND($B22*'HVI Quality Data'!R22/100,0))","v":432},{"$f":"IF(LEN(B22)=0,\"\",ROUND(B22*'Base Values'!$B$16,0))","v":1066},{"$f":"IF(LEN(B22)=0,\"\",ROUND(E22/2000*'Base Values'!$B$10,0))","v":99},531,{"$f":"IF(OR(LEN(B22)=0,LEN(C22)=0),\"\",ROUND(B22/(C22/100)*'Base Values'!$B$12/100,0))","v":66},{"$f":"IF(LEN(B22)=0,\"\",ROUND(B22*'Base Values'!$B$14,0))","v":91},374]
[{"$f":"IF(LEN('HVI Quality Data'!A23)>0,'HVI Quality Data'!A23,\"\")","v":"Variety 9"},775,36.9,{"$f":"IF(LEN(B23)=0,\"\",ROUND($B23*'HVI Quality Data'!R23/100,0))","v":445},{"$f":"IF(LEN(B23)=0,\"\",ROUND(B23*'Base Values'!$B$16,0))","v":1094},{"$f":"IF(LEN(B23)=0,\"\",ROUND(E23/2000*'Base Values'!$B$10,0))","v":101},546,{"$f":"IF(OR(LEN(B23)=0,LEN(C23)=0),\"\",ROUND(B23/(C23/100)*'Base Values'!$B$12/100,0))","v":67},{"$f":"IF(LEN(B23)=0,\"\",ROUND(B23*'Base Values'!$B$14,0))","v":93},386]
[{"$f":"IF(LEN('HVI Quality Data'!A24)>0,'HVI Quality Data'!A24,\"\")","v":"Variety 10"},795,37.1,{"$f":"IF(LEN(B24)=0,\"\",ROUND($B24*'HVI Quality Data'!R24/100,0))","v":421},{"$f":"IF(LEN(B24)=0,\"\",ROUND(B24*'Base Values'!$B$16,0))","v":1123},{"$f":"IF(LEN(B24)=0,\"\",ROUND(E24/2000*'Base Values'!$B$10,0))","v":104},525,{"$f":"IF(OR(LEN(B24)=0,LEN(C24)=0),\"\",ROUND(B24/(C24/100)*'Base Values'!$B$12/100,0))","v":69},{"$f":"IF(LEN(B24)=0,\"\",ROUND(B24*'Base Values'!$B$14,0))","v":95},361]
[{"$f":"IF(LEN('HVI Quality Data'!A25)>0,'HVI Quality Data'!A25,\"\")","v":""},null,null,{"$f":"IF(LEN(B25)=0,\"\",ROUND($B25*'HVI Quality Data'!R25/100,0))","v":""},{"$f":"IF(LEN(B25)=0,\"\",ROUND(B25*'Base Values'!$B$16,0))","v":""},{"$f":"IF(LEN(B25)=0,\"\",ROUND(E25/2000*'Base Values'!$B$10,0))","v":""},"",{"$f":"IF(OR(LEN(B25)=0,LEN(C25)=0),\"\",ROUND(B25/(C25/100)*'Base Values'!$B$12/100,0))","v":""},{"$f":"IF(LEN(B25)=0,\"\",ROUND(B25*'Base Values'!$B$14,0))","v":""},""]
[{"$f":"IF(LEN('HVI Quality Data'!A26)>0,'HVI Quality Data'!A26,\"\")","v":""},null,null,{"$f":"IF(LEN(B26)=0,\"\",ROUND($B26*'HVI Quality Data'!R26/100,0))","v":""},{"$f":"IF(LEN(B26)=0,\"\",ROUND(B26*'Base Values'!$B$16,0))","v":""},{"$f":"IF(LEN(B26)=0,\"\",ROUND(E26/2000*'Base Values'!$B$10,0))","v":""},"",{"$f":"IF(OR(LEN(B26)=0,LEN(C26)=0),\"\",ROUND(B26/(C26/100)*'Base Values'!$B$12/100,0))","v":""},{"$f":"IF(LEN(B26)=0,\"\",ROUND(B26*'Base Values'!$B$14,0))","v":""},""]
[{"$f":"IF(LEN('HVI Quality Data'!A27)>0,'HVI Quality Data'!A27,\"\")","v":""},null,null,{"$f":"IF(LEN(B27)=0,\"\",ROUND($B27*'HVI Quality Data'!R27/100,0))","v":""},{"$f":"IF(LEN(B27)=0,\"\",ROUND(B27*'Base Values'!$B$16,0))","v":""},{"$f":"IF(LEN(B27)=0,\"\",ROUND(E27/2000*'Base Values'!$B$10,0))","v":""},"",{"$f":"IF(OR(LEN(B27)=0,LEN(C27)=0),\"\",ROUND(B27/(C27/100)*'Base Values'!$B$12/100,0))","v":""},{"$f":"IF(LEN(B27)=0,\"\",ROUND(B27*'Base Values'!$B$14,0))","v":""},""]
[{"$f":"IF(LEN('HVI Quality Data'!A28)>0,'HVI Quality Data'!A28,\"\")","v":""},null,null,{"$f":"IF(LEN(B28)=0,\"\",ROUND($B28*'HVI Quality Data'!R28/100,0))","v":""},{"$f":"IF(LEN(B28)=0,\"\",ROUND(B28*'Base Values'!$B$16,0))","v":""},{"$f":"IF(LEN(B28)=0,\"\",ROUND(E28/2000*'Base Values'!$B$10,0))","v":""},"",{"$f":"IF(OR(LEN(B28)=0,LEN(C28)=0),\"\",ROUND(B28/(C28/100)*'Base Values'!$B$12/100,0))","v":""},{"$f":"IF(LEN(B28)=0,\"\",ROUND(B28*'Base Values'!$B$14,0))","v":""},""]
[{"$f":"IF(LEN('HVI Quality Data'!A29)>0,'HVI Quality Data'!A29,\"\")","v":""},null,null,{"$f":"IF(LEN(B29)=0,\"\",ROUND($B29*'HVI Quality Data'!R29/100,0))","v":""},{"$f":"IF(LEN(B29)=0,\"\",ROUND(B29*'Base Values'!$B$16,0))","v":""},{"$f":"IF(LEN(B29)=0,\"\",ROUND(E29/2000*'Base Values'!$B$10,0))","v":""},"",{"$f":"IF(OR(LEN(B29)=0,LEN(C29)=0),\"\",ROUND(B29/(C29/100)*'Base Values'!$B$12/100,0))","v":""},{"$f":"IF(LEN(B29)=0,\"\",ROUND(B29*'Base Values'!$B$14,0))","v":""},""]
[{"$f":"IF(LEN('HVI Quality Data'!A30)>0,'HVI Quality Data'!A30,\"\")","v":""},null,null,{"$f":"IF(LEN(B30)=0,\"\",ROUND($B30*'HVI Quality Data'!R30/100,0))","v":""},{"$f":"IF(LEN(B30)=0,\"\",ROUND(B30*'Base Values'!$B$16,0))","v":""},{"$f":"IF(LEN(B30)=0,\"\",ROUND(E30/2000*'Base Values'!$B$10,0))","v":""},"",{"$f":"IF(OR(LEN(B30)=0,LEN(C30)=0),\"\",ROUND(B30/(C30/100)*'Base Values'!$B$12/100,0))","v":""},{"$f":"IF(LEN(B30)=0,\"\",ROUND(B30*'Base Values'!$B$14,0))","v":""},""]
[{"$f":"IF(LEN('HVI Quality Data'!A31)>0,'HVI Quality Data'!A31,\"\")","v":""},null,null,{"$f":"IF(LEN(B31)=0,\"\",ROUND($B31*'HVI Quality Data'!R31/100,0))","v":""},{"$f":"IF(LEN(B31)=0,\"\",ROUND(B31*'Base Values'!$B$16,0))","v":""},{"$f":"IF(LEN(B31)=0,\"\",ROUND(E31/2000*'Base Values'!$B$10,0))","v":""},"",{"$f":"IF(OR(LEN(B31)=0,LEN(C31)=0),\"\",ROUND(B31/(C31/100)*'Base Values'!$B$12/100,0))","v":""},{"$f":"IF(LEN(B31)=0,\"\",ROUND(B31*'Base Values'!$B$14,0))","v":""},""]
[{"$f":"IF(LEN('HVI Quality Data'!A32)>0,'HVI Quality Data'!A32,\"\")","v":""},null,null,{"$f":"IF(LEN(B32)=0,\"\",ROUND($B32*'HVI Quality Data'!R32/100,0))","v":""},{"$f":"IF(LEN(B32)=0,\"\",ROUND(B32*'Base Values'!$B$16,0))","v":""},{"$f":"IF(LEN(B32)=0,\"\",ROUND(E32/2000*'Base Values'!$B$10,0))","v":""},"",{"$f":"IF(OR(LEN(B32)=0,LEN(C32)=0),\"\",ROUND(B32/(C32/100)*'Base Values'!$B$12/100,0))","v":""},{"$f":"IF(LEN(B32)=0,\"\",ROUND(B32*'Base Values'!$B$14,0))","v":""},""]
[{"$f":"IF(LEN('HVI Quality Data'!A33)>0,'HVI Quality Data'!A33,\"\")","v":""},null,null,{"$f":"IF(LEN(B33)=0,\"\",ROUND($B33*'HVI Quality Data'!R33/100,0))","v":""},{"$f":"IF(LEN(B33)=0,\"\",ROUND(B33*'Base Values'!$B$16,0))","v":""},{"$f":"IF(LEN(B33)=0,\"\",ROUND(E33/2000*'Base Values'!$B$10,0))","v":""},"",{"$f":"IF(OR(LEN(B33)=0,LEN(C33)=0),\"\",ROUND(B33/(C33/100)*'Base Values'!$B$12/100,0))","v":""},{"$f":"IF(LEN(B33)=0,\"\",ROUND(B33*'Base Values'!$B$14,0))","v":""},""]
[{"$f":"IF(LEN('HVI Quality Data'!A34)>0,'HVI Quality Data'!A34,\"\")","v":""},null,null,{"$f":"IF(LEN(B34)=0,\"\",ROUND($B34*'HVI Quality Data'!R34/100,0))","v":""},{"$f":"IF(LEN(B34)=0,\"\",ROUND(B34*'Base Values'!$B$16,0))","v":""},{"$f":"IF(LEN(B34)=0,\"\",ROUND(E34/2000*'Base Values'!$B$10,0))","v":""},"",{"$f":"IF(OR(LEN(B34)=0,LEN(C34)=0),\"\",ROUND(B34/(C34/100)*'Base Values'!$B$12/100,0))","v":""},{"$f":"IF(LEN(B34)=0,\"\",ROUND(B34*'Base Values'!$B$14,0))","v":""},""]
[{"$f":"IF(LEN('HVI Quality Data'!A35)>0,'HVI Quality Data'!A35,\"\")","v":""},null,null,{"$f":"IF(LEN(B35)=0,\"\",ROUND($B35*'HVI Quality Data'!R35/100,0))","v":""},{"$f":"IF(LEN(B35)=0,\"\",ROUND(B35*'Base Values'!$B$16,0))","v":""},{"$f":"IF(LEN(B35)=0,\"\",ROUND(E35/2000*'Base Values'!$B$10,0))","v":""},"",{"$f":"IF(OR(LEN(B35)=0,LEN(C35)=0),\"\",ROUND(B35/(C35/100)*'Base Values'!$B$12/100,0))","v":""},{"$f":"IF(LEN(B35)=0,\"\",ROUND(B35*'Base Values'!$B$14,0))","v":""},""]
[{"$f":"IF(LEN('HVI Quality Data'!A36)>0,'HVI Quality Data'!A36,\"\")","v":""},null,null,{"$f":"IF(LEN(B36)=0,\"\",ROUND($B36*'HVI Quality Data'!R36/100,0))","v":""},{"$f":"IF(LEN(B36)=0,\"\",ROUND(B36*'Base Values'!$B$16,0))","v":""},{"$f":"IF(LEN(B36)=0,\"\",ROUND(E36/2000*'Base Values'!$B$10,0))","v":""},"",{"$f":"IF(OR(LEN(B36)=0,LEN(C36)=0),\"\",ROUND(B36/(C36/100)*'Base Values'!$B$12/100,0))","v":""},{"$f":"IF(LEN(B36)=0,\"\",ROUND(B36*'Base Values'!$B$14,0))","v":""},""]
[{"$f":"IF(LEN('HVI Quality Data'!A37)>0,'HVI Quality Data'!A37,\"\")","v":""},null,null,{"$f":"IF(LEN(B37)=0,\"\",ROUND($B37*'HVI Quality Data'!R37/100,0))","v":""},{"$f":"IF(LEN(B37)=0,\"\",ROUND(B37*'Base Values'!$B$16,0))","v":""},{"$f":"IF(LEN(B37)=0,\"\",ROUND(E37/2000*'Base Values'!$B$10,0))","v":""},"",{"$f":"IF(OR(LEN(B37)=0,LEN(C37)=0),\"\",ROUND(B37/(C37/100)*'Base Values'!$B$12/100,0))","v":""},{"$f":"IF(LEN(B37)=0,\"\",ROUND(B37*'Base Values'!$B$14,0))","v":""},""]
[{"$f":"IF(LEN('HVI Quality Data'!A38)>0,'HVI Quality Data'!A38,\"\")","v":""},null,null,{"$f":"IF(LEN(B38)=0,\"\",ROUND($B38*'HVI Quality Data'!R38/100,0))","v":""},{"$f":"IF(LEN(B38)=0,\"\",ROUND(B38*'Base Values'!$B$16,0))","v":""},{"$f":"IF(LEN(B38)=0,\"\",ROUND(E38/2000*'Base Values'!$B$10,0))","v":""},"",{"$f":"IF(OR(LEN(B38)=0,LEN(C38)=0),\"\",ROUND(B38/(C38/100)*'Base Values'!$B$12/100,0))","v":""},{"$f":"IF(LEN(B38)=0,\"\",ROUND(B38*'Base Values'!$B$14,0))","v":""},""]
[{"$f":"IF(LEN('HVI Quality Data'!A39)>0,'HVI Quality Data'!A39,\"\")","v":""},null,null,{"$f":"IF(LEN(B39)=0,\"\",ROUND($B39*'HVI Quality Data'!R39/100,0))","v":""},{"$f":"IF(LEN(B39)=0,\"\",ROUND(B39*'Base Values'!$B$16,0))","v":""},{"$f":"IF(LEN(B39)=0,\"\",ROUND(E39/2000*'Base Values'!$B$10,0))","v":""},"",{"$f":"IF(OR(LEN(B39)=0,LEN(C39)=0),\"\",ROUND(B39/(C39/100)*'Base Values'!$B$12/100,0))","v":""},{"$f":"IF(LEN(B39)=0,\"\",ROUND(B39*'Base Values'!$B$14,0))","v":""},""]
[{"$f":"IF(LEN('HVI Quality Data'!A40)>0,'HVI Quality Data'!A40,\"\")","v":""},null,null,{"$f":"IF(LEN(B40)=0,\"\",ROUND($B40*'HVI Quality Data'!R40/100,0))","v":""},{"$f":"IF(LEN(B40)=0,\"\",ROUND(B40*'Base Values'!$B$16,0))","v":""},{"$f":"IF(LEN(B40)=0,\"\",ROUND(E40/2000*'Base Values'!$B$10,0))","v":""},"",{"$f":"IF(OR(LEN(B40)=0,LEN(C40)=0),\"\",ROUND(B40/(C40/100)*'Base Values'!$B$12/100,0))","v":""},{"$f":"IF(LEN(B40)=0,\"\",ROUND(B40*'Base Values'!$B$14,0))","v":""},""]
[{"$f":"IF(LEN('HVI Quality Data'!A41)>0,'HVI Quality Data'!A41,\"\")","v":""},null,null,{"$f":"IF(LEN(B41)=0,\"\",ROUND($B41*'HVI Quality Data'!R41/100,0))","v":""},{"$f":"IF(LEN(B41)=0,\"\",ROUND(B41*'Base Values'!$B$16,0))","v":""},{"$f":"IF(LEN(B41)=0,\"\",ROUND(E41/2000*'Base Values'!$B$10,0))","v":""},"",{"$f":"IF(OR(LEN(B41)=0,LEN(C41)=0),\"\",ROUND(B41/(C41/100)*'Base Values'!$B$12/100,0))","v":""},{"$f":"IF(LEN(B41)=0,\"\",ROUND(B41*'Base Values'!$B$14,0))","v":""},""]
[{"$f":"IF(LEN('HVI Quality Data'!A42)>0,'HVI Quality Data'!A42,\"\")","v":""},null,null,{"$f":"IF(LEN(B42)=0,\"\",ROUND($B42*'HVI Quality Data'!R42/100,0))","v":""},{"$f":"IF(LEN(B42)=0,\"\",ROUND(B42*'Base Values'!$B$16,0))","v":""},{"$f":"IF(LEN(B42)=0,\"\",ROUND(E42/2000*'Base Values'!$B$10,0))","v":""},"",{"$f":"IF(OR(LEN(B42)=0,LEN(C42)=0),\"\",ROUND(B42/(C42/100)*'Base Values'!$B$12/100,0))","v":""},{"$f":"IF(LEN(B42)=0,\"\",ROUND(B42*'Base Values'!$B$14,0))","v":""},""]
[{"$f":"IF(LEN('HVI Quality Data'!A43)>0,'HVI Quality Data'!A43,\"\")","v":""},null,null,{"$f":"IF(LEN(B43)=0,\"\",ROUND($B43*'HVI Quality Data'!R43/100,0))","v":""},{"$f":"IF(LEN(B43)=0,\"\",ROUND(B43*'Base Values'!$B$16,0))","v":""},{"$f":"IF(LEN(B43)=0,\"\",ROUND(E43/2000*'Base Values'!$B$10,0))","v":""},"",{"$f":"IF(OR(LEN(B43)=0,LEN(C43)=0),\"\",ROUND(B43/(C43/100)*'Base Values'!$B$12/100,0))","v":""},{"$f":"IF(LEN(B43)=0,\"\",ROUND(B43*'Base Values'!$B$14,0))","v":""},""]
[{"$f":"IF(LEN('HVI Quality Data'!A44)>0,'HVI Quality Data'!A44,\"\")","v":""},null,null,{"$f":"IF(LEN(B44)=0,\"\",ROUND($B44*'HVI Quality Data'!R44/100,0))","v":""},{"$f":"IF(LEN(B44)=0,\"\",ROUND(B44*'Base Values'!$B$16,0))","v":""},{"$f":"IF(LEN(B44)=0,\"\",ROUND(E44/2000*'Base Values'!$B$10,0))","v":""},"",{"$f":"IF(OR(LEN(B44)=0,LEN(C44)=0),\"\",ROUND(B44/(C44/100)*'Base Values'!$B$12/100,0))","v":""},{"$f":"IF(LEN(B44)=0,\"\",ROUND(B44*'Base Values'!$B$14,0))","v":""},""]
[{"$f":"IF(LEN('HVI Quality Data'!A45)>0,'HVI Quality Data'!A45,\"\")","v":""},null,null,{"$f":"IF(LEN(B45)=0,\"\",ROUND($B45*'HVI Quality Data'!R45/100,0))","v":""},{"$f":"IF(LEN(B45)=0,\"\",ROUND(B45*'Base Values'!$B$16,0))","v":""},{"$f":"IF(LEN(B45)=0,\"\",ROUND(E45/2000*'Base Values'!$B$10,0))","v":""},"",{"$f":"IF(OR(LEN(B45)=0,LEN(C45)=0),\"\",ROUND(B45/(C45/100)*'Base Values'!$B$12/100,0))","v":""},{"$f":"IF(LEN(B45)=0,\"\",ROUND(B45*'Base Values'!$B$14,0))","v":""},""]
[{"$f":"IF(LEN('HVI Quality Data'!A46)>0,'HVI Quality Data'!A46,\"\")","v":""},null,null,{"$f":"IF(LEN(B46)=0,\"\",ROUND($B46*'HVI Quality Data'!R46/100,0))","v":""},{"$f":"IF(LEN(B46)=0,\"\",ROUND(B46*'Base Values'!$B$16,0))","v":""},{"$f":"IF(LEN(B46)=0,\"\",ROUND(E46/2000*'Base Values'!$B$10,0))","v":""},"",{"$f":"IF(OR(LEN(B46)=0,LEN(C46)=0),\"\",ROUND(B46/(C46/100)*'Base Values'!$B$12/100,0))","v":""},{"$f":"IF(LEN(B46)=0,\"\",ROUND(B46*'Base Values'!$B$14,0))","v":""},""]
[{"$f":"IF(LEN('HVI Quality Data'!A47)>0,'HVI Quality Data'!A47,\"\")","v":""},null,null,{"$f":"IF(LEN(B47)=0,\"\",ROUND($B47*'HVI Quality Data'!R47/100,0))","v":""},{"$f":"IF(LEN(B47)=0,\"\",ROUND(B47*'Base Values'!$B$16,0))","v":""},{"$f":"IF(LEN(B47)=0,\"\",ROUND(E47/2000*'Base Values'!$B$10,0))","v":""},"",{"$f":"IF(OR(LEN(B47)=0,LEN(C47)=0),\"\",ROUND(B47/(C47/100)*'Base Values'!$B$12/100,0))","v":""},{"$f":"IF(LEN(B47)=0,\"\",ROUND(B47*'Base Values'!$B$14,0))","v":""},""]
[{"$f":"IF(LEN('HVI Quality Data'!A48)>0,'HVI Quality Data'!A48,\"\")","v":""},null,null,{"$f":"IF(LEN(B48)=0,\"\",ROUND($B48*'HVI Quality Data'!R48/100,0))","v":""},{"$f":"IF(LEN(B48)=0,\"\",ROUND(B48*'Base Values'!$B$16,0))","v":""},{"$f":"IF(LEN(B48)=0,\"\",ROUND(E48/2000*'Base Values'!$B$10,0))","v":""},"",{"$f":"IF(OR(LEN(B48)=0,LEN(C48)=0),\"\",ROUND(B48/(C48/100)*'Base Values'!$B$12/100,0))","v":""},{"$f":"IF(LEN(B48)=0,\"\",ROUND(B48*'Base Values'!$B$14,0))","v":""},""]
[{"$f":"IF(LEN('HVI Quality Data'!A49)>0,'HVI Quality Data'!A49,\"\")","v":""},null,null,{"$f":"IF(LEN(B49)=0,\"\",ROUND($B49*'HVI Quality Data'!R49/100,0))","v":""},{"$f":"IF(LEN(B49)=0,\"\",ROUND(B49*'Base Values'!$B$16,0))","v":""},{"$f":"IF(LEN(B49)=0,\"\",ROUND(E49/2000*'Base Values'!$B$10,0))","v":""},"",{"$f":"IF(OR(LEN(B49)=0,LEN(C49)=0),\"\",ROUND(B49/(C49/100)*'Base Values'!$B$12/100,0))","v":""},{"$f":"IF(LEN(B49)=0,\"\",ROUND(B49*'Base Values'!$B$14,0))","v":""},""]
[{"$f":"IF(LEN('HVI Quality Data'!A50)>0,'HVI Quality Data'!A50,\"\")","v":""},null,null,{"$f":"IF(LEN(B50)=0,\"\",ROUND($B50*'HVI Quality Data'!R50/100,0))","v":""},{"$f":"IF(LEN(B50)=0,\"\",ROUND(B50*'Base Values'!$B$16,0))","v":""},{"$f":"IF(LEN(B50)=0,\"\",ROUND(E50/2000*'Base Values'!$B$10,0))","v":""},"",{"$f":"IF(OR(LEN(B50)=0,LEN(C50)=0),\"\",ROUND(B50/(C50/100)*'Base Values'!$B$12/100,0))","v":""},{"$f":"IF(LEN(B50)=0,\"\",ROUND(B50*'Base Values'!$B$14,0))","v":""},""]
[{"$f":"IF(LEN('HVI Quality Data'!A51)>0,'HVI Quality Data'!A51,\"\")","v":""},null,null,{"$f":"IF(LEN(B51)=0,\"\",ROUND($B51*'HVI Quality Data'!R51/100,0))","v":""},{"$f":"IF(LEN(B51)=0,\"\",ROUND(B51*'Base Values'!$B$16,0))","v":""},{"$f":"IF(LEN(B51)=0,\"\",ROUND(E51/2000*'Base Values'!$B$10,0))","v":""},"",{"$f":"IF(OR(LEN(B51)=0,LEN(C51)=0),\"\",ROUND(B51/(C51/100)*'Base Values'!$B$12/100,0))","v":""},{"$f":"IF(LEN(B51)=0,\"\",ROUND(B51*'Base Values'!$B$14,0))","v":""},""]
[{"$f":"IF(LEN('HVI Quality Data'!A52)>0,'HVI Quality Data'!A52,\"\")","v":""},null,null,{"$f":"IF(LEN(B52)=0,\"\",ROUND($B52*'HVI Quality Data'!R52/100,0))","v":""},{"$f":"IF(LEN(B52)=0,\"\",ROUND(B52*'Base Values'!$B$16,0))","v":""},{"$f":"IF(LEN(B52)=0,\"\",ROUND(E52/2000*'Base Values'!$B$10,0))","v":""},"",{"$f":"IF(OR(LEN(B52)=0,LEN(C52)=0),\"\",ROUND(B52/(C52/100)*'Base Values'!$B$12/100,0))","v":""},{"$f":"IF(LEN(B52)=0,\"\",ROUND(B52*'Base Values'!$B$14,0))","v":""},""]
[{"$f":"IF(LEN('HVI Quality Data'!A53)>0,'HVI Quality Data'!A53,\"\")","v":""},null,null,{"$f":"IF(LEN(B53)=0,\"\",ROUND($B53*'HVI Quality Data'!R53/100,0))","v":""},{"$f":"IF(LEN(B53)=0,\"\",ROUND(B53*'Base Values'!$B$16,0))","v":""},{"$f":"IF(LEN(B53)=0,\"\",ROUND(E53/2000*'Base Values'!$B$10,0))","v":""},"",{"$f":"IF(OR(LEN(B53)=0,LEN(C53)=0),\"\",ROUND(B53/(C53/100)*'Base Values'!$B$12/100,0))","v":""},{"$f":"IF(LEN(B53)=0,\"\",ROUND(B53*'Base Values'!$B$14,0))","v":""},""]
[{"$f":"IF(LEN('HVI Quality Data'!A54)>0,'HVI Quality Data'!A54,\"\")","v":""},null,null,{"$f":"IF(LEN(B54)=0,\"\",ROUND($B54*'HVI Quality Data'!R54/100,0))","v":""},{"$f":"IF(LEN(B54)=0,\"\",ROUND(B54*'Base Values'!$B$16,0))","v":""},{"$f":"IF(LEN(B54)=0,\"\",ROUND(E54/2000*'Base Values'!$B$10,0))","v":""},"",{"$f":"IF(OR(LEN(B54)=0,LEN(C54)=0),\"\",ROUND(B54/(C54/100)*'Base Values'!$B$12/100,0))","v":""},{"$f":"IF(LEN(B54)=0,\"\",ROUND(B54*'Base Values'!$B$14,0))","v":""},""]
[{"$f":"IF(LEN('HVI Quality Data'!A55)>0,'HVI Quality Data'!A55,\"\")","v":""},null,null,{"$f":"IF(LEN(B55)=0,\"\",ROUND($B55*'HVI Quality Data'!R55/100,0))","v":""},{"$f":"IF(LEN(B55)=0,\"\",ROUND(B55*'Base Values'!$B$16,0))","v":""},{"$f":"IF(LEN(B55)=0,\"\",ROUND(E55/2000*'Base Values'!$B$10,0))","v":""},"",{"$f":"IF(OR(LEN(B55)=0,LEN(C55)=0),\"\",ROUND(B55/(C55/100)*'Base Values'!$B$12/100,0))","v":""},{"$f":"IF(LEN(B55)=0,\"\",ROUND(B55*'Base Values'!$B$14,0))","v":""},""]
[{"$f":"IF(LEN('HVI Quality Data'!A56)>0,'HVI Quality Data'!A56,\"\")","v":""},null,null,{"$f":"IF(LEN(B56)=0,\"\",ROUND($B56*'HVI Quality Data'!R56/100,0))","v":""},{"$f":"IF(LEN(B56)=0,\"\",ROUND(B56*'Base Values'!$B$16,0))","v":""},{"$f":"IF(LEN(B56)=0,\"\",ROUND(E56/2000*'Base Values'!$B$10,0))","v":""},"",{"$f":"IF(OR(LEN(B56)=0,LEN(C56)=0),\"\",ROUND(B56/(C56/100)*'Base Values'!$B$12/100,0))","v":""},{"$f":"IF(LEN(B56)=0,\"\",ROUND(B56*'Base Values'!$B$14,0))","v":""},""]
[{"$f":"IF(LEN('HVI Quality Data'!A57)>0,'HVI Quality Data'!A57,\"\")","v":""},null,null,{"$f":"IF(LEN(B57)=0,\"\",ROUND($B57*'HVI Quality Data'!R57/100,0))","v":""},{"$f":"IF(LEN(B57)=0,\"\",ROUND(B57*'Base Values'!$B$16,0))","v":""},{"$f":"IF(LEN(B57)=0,\"\",ROUND(E57/2000*'Base Values'!$B$10,0))","v":""},"",{"$f":"IF(OR(LEN(B57)=0,LEN(C57)=0),\"\",ROUND(B57/(C57/100)*'Base Values'!$B$12/100,0))","v":""},{"$f":"IF(LEN(B57)=0,\"\",ROUND(B57*'Base Values'!$B$14,0))","v":""},""]
[{"$f":"IF(LEN('HVI Quality Data'!A58)>0,'HVI Quality Data'!A58,\"\")","v":""},null,null,{"$f":"IF(LEN(B58)=0,\"\",ROUND($B58*'HVI Quality Data'!R58/100,0))","v":""},{"$f":"IF(LEN(B58)=0,\"\",ROUND(B58*'Base Values'!$B$16,0))","v":""},{"$f":"IF(LEN(B58)=0,\"\",ROUND(E58/2000*'Base Values'!$B$10,0))","v":""},"",{"$f":"IF(OR(LEN(B58)=0,LEN(C58)=0),\"\",ROUND(B58/(C58/100)*'Base Values'!$B$12/100,0))","v":""},{"$f":"IF(LEN(B58)=0,\"\",ROUND(B58*'Base Values'!$B$14,0))","v":""},""]
[{"$f":"IF(LEN('HVI Quality Data'!A59)>0,'HVI Quality Data'!A59,\"\")","v":""},null,null,{"$f":"IF(LEN(B59)=0,\"\",ROUND($B59*'HVI Quality Data'!R59/100,0))","v":""},{"$f":"IF(LEN(B59)=0,\"\",ROUND(B59*'Base Values'!$B$16,0))","v":""},{"$f":"IF(LEN(B59)=0,\"\",ROUND(E59/2000*'Base Values'!$B$10,0))","v":""},"",{"$f":"IF(OR(LEN(B59)=0,LEN(C59)=0),\"\",ROUND(B59/(C59/100)*'Base Values'!$B$12/100,0))","v":""},{"$f":"IF(LEN(B59)=0,\"\",ROUND(B59*'Base Values'!$B$14,0))","v":""},""]
[{"$f":"IF(LEN('HVI Quality Data'!A60)>0,'HVI Quality Data'!A60,\"\")","v":""},null,null,{"$f":"IF(LEN(B60)=0,\"\",ROUND($B60*'HVI Quality Data'!R60/100,0))","v":""},{"$f":"IF(LEN(B60)=0,\"\",ROUND(B60*'Base Values'!$B$16,0))","v":""},{"$f":"IF(LEN(B60)=0,\"\",ROUND(E60/2000*'Base Values'!$B$10,0))","v":""},"",{"$f":"IF(OR(LEN(B60)=0,LEN(C60)=0),\"\",ROUND(B60/(C60/100)*'Base Values'!$B$12/100,0))","v":""},{"$f":"IF(LEN(B60)=0,\"\",ROUND(B60*'Base Values'!$B$14,0))","v":""},""]
[{"$f":"IF(LEN('HVI Quality Data'!A61)>0,'HVI Quality Data'!A61,\"\")","v":""},null,null,{"$f":"IF(LEN(B61)=0,\"\",ROUND($B61*'HVI Quality Data'!R61/100,0))","v":""},{"$f":"IF(LEN(B61)=0,\"\",ROUND(B61*'Base Values'!$B$16,0))","v":""},{"$f":"IF(LEN(B61)=0,\"\",ROUND(E61/2000*'Base Values'!$B$10,0))","v":""},"",{"$f":"IF(OR(LEN(B61)=0,LEN(C61)=0),\"\",ROUND(B61/(C61/100)*'Base Values'!$B$12/100,0))","v":""},{"$f":"IF(LEN(B61)=0,\"\",ROUND(B61*'Base Values'!$B$14,0))","v":""},""]
[{"$f":"IF(LEN('HVI Quality Data'!A62)>0,'HVI Quality Data'!A62,\"\")","v":""},null,null,{"$f":"IF(LEN(B62)=0,\"\",ROUND($B62*'HVI Quality Data'!R62/100,0))","v":""},{"$f":"IF(LEN(B62)=0,\"\",ROUND(B62*'Base Values'!$B$16,0))","v":""},{"$f":"IF(LEN(B62)=0,\"\",ROUND(E62/2000*'Base Values'!$B$10,0))","v":""},"",{"$f":"IF(OR(LEN(B62)=0,LEN(C62)=0),\"\",ROUND(B62/(C62/100)*'Base Values'!$B$12/100,0))","v":""},{"$f":"IF(LEN(B62)=0,\"\",ROUND(B62*'Base Values'!$B$14,0))","v":""},""]
[{"$f":"IF(LEN('HVI Quality Data'!A63)>0,'HVI Quality Data'!A63,\"\")","v":""},null,null,{"$f":"IF(LEN(B63)=0,\"\",ROUND($B63*'HVI Quality Data'!R63/100,0))","v":""},{"$f":"IF(LEN(B63)=0,\"\",ROUND(B63*'Base Values'!$B$16,0))","v":""},{"$f":"IF(LEN(B63)=0,\"\",ROUND(E63/2000*'Base Values'!$B$10,0))","v":""},"",{"$f":"IF(OR(LEN(B63)=0,LEN(C63)=0),\"\",ROUND(B63/(C63/100)*'Base Values'!$B$12/100,0))","v":""},{"$f":"IF(LEN(B63)=0,\"\",ROUND(B63*'Base Values'!$B$14,0))","v":""},""]
[{"$f":"IF(LEN('HVI Quality Data'!A64)>0,'HVI Quality Data'!A64,\"\")","v":""},null,null,{"$f":"IF(LEN(B64)=0,\"\",ROUND($B64*'HVI Quality Data'!R64/100,0))","v":""},{"$f":"IF(LEN(B64)=0,\"\",ROUND(B64*'Base Values'!$B$16,0))","v":""},{"$f":"IF(LEN(B64)=0,\"\",ROUND(E64/2000*'Base Values'!$B$10,0))","v":""},"",{"$f":"IF(OR(LEN(B64)=0,LEN(C64)=0),\"\",ROUND(B64/(C64/100)*'Base Values'!$B$12/100,0))","v":""},{"$f":"IF(LEN(B64)=0,\"\",ROUND(B64*'Base Values'!$B$14,0))","v":""},""]
[{"$f":"IF(LEN('HVI Quality Data'!A65)>0,'HVI Quality Data'!A65,\"\")","v":""},null,null,{"$f":"IF(LEN(B65)=0,\"\",ROUND($B65*'HVI Quality Data'!R65/100,0))","v":""},{"$f":"IF(LEN(B65)=0,\"\",ROUND(B65*'Base Values'!$B$16,0))","v":""},{"$f":"IF(LEN(B65)=0,\"\",ROUND(E65/2000*'Base Values'!$B$10,0))","v":""},"",{"$f":"IF(OR(LEN(B65)=0,LEN(C65)=0),\"\",ROUND(B65/(C65/100)*'Base Values'!$B$12/100,0))","v":""},{"$f":"IF(LEN(B65)=0,\"\",ROUND(B65*'Base Values'!$B$14,0))","v":""},""]
[{"$f":"IF(LEN('HVI Quality Data'!A66)>0,'HVI Quality Data'!A66,\"\")","v":""},null,null,{"$f":"IF(LEN(B66)=0,\"\",ROUND($B66*'HVI Quality Data'!R66/100,0))","v":""},{"$f":"IF(LEN(B66)=0,\"\",ROUND(B66*'Base Values'!$B$16,0))","v":""},{"$f":"IF(LEN(B66)=0,\"\",ROUND(E66/2000*'Base Values'!$B$10,0))","v":""},"",{"$f":"IF(OR(LEN(B66)=0,LEN(C66)=0),\"\",ROUND(B66/(C66/100)*'Base Values'!$B$12/100,0))","v":""},{"$f":"IF(LEN(B66)=0,\"\",ROUND(B66*'Base Values'!$B$14,0))","v":""},""]
[{"$f":"IF(LEN('HVI Quality Data'!A67)>0,'HVI Quality Data'!A67,\"\")","v":""},null,null,{"$f":"IF(LEN(B67)=0,\"\",ROUND($B67*'HVI Quality Data'!R67/100,0))","v":""},{"$f":"IF(LEN(B67)=0,\"\",ROUND(B67*'Base Values'!$B$16,0))","v":""},{"$f":"IF(LEN(B67)=0,\"\",ROUND(E67/2000*'Base Values'!$B$10,0))","v":""},"",{"$f":"IF(OR(LEN(B67)=0,LEN(C67)=0),\"\",ROUND(B67/(C67/100)*'Base Values'!$B$12/100,0))","v":""},{"$f":"IF(LEN(B67)=0,\"\",ROUND(B67*'Base Values'!$B$14,0))","v":""},""]
[{"$f":"IF(LEN('HVI Quality Data'!A68)>0,'HVI Quality Data'!A68,\"\")","v":""},null,null,{"$f":"IF(LEN(B68)=0,\"\",ROUND($B68*'HVI Quality Data'!R68/100,0))","v":""},{"$f":"IF(LEN(B68)=0,\"\",ROUND(B68*'Base Values'!$B$16,0))","v":""},{"$f":"IF(LEN(B68)=0,\"\",ROUND(E68/2000*'Base Values'!$B$10,0))","v":""},"",{"$f":"IF(OR(LEN(B68)=0,LEN(C68)=0),\"\",ROUND(B68/(C68/100)*'Base Values'!$B$12/100,0))","v":""},{"$f":"IF(LEN(B68)=0,\"\",ROUND(B68*'Base Values'!$B$14,0))","v":""},""]
[{"$f":"IF(LEN('HVI Quality Data'!A69)>0,'HVI Quality Data'!A69,\"\")","v":""},null,null,{"$f":"IF(LEN(B69)=0,\"\",ROUND($B69*'HVI Quality Data'!R69/100,0))","v":""},{"$f":"IF(LEN(B69)=0,\"\",ROUND(B69*'Base Values'!$B$16,0))","v":""},{"$f":"IF(LEN(B69)=0,\"\",ROUND(E69/2000*'Base Values'!$B$10,0))","v":""},"",{"$f":"IF(OR(LEN(B69)=0,LEN(C69)=0),\"\",ROUND(B69/(C69/100)*'Base Values'!$B$12/100,0))","v":""},{"$f":"IF(LEN(B69)=0,\"\",ROUND(B69*'Base Values'!$B$14,0))","v":""},""]
[{"$f":"IF(LEN('HVI Quality Data'!A70)>0,'HVI Quality Data'!A70,\"\")","v":""},null,null,{"$f":"IF(LEN(B70)=0,\"\",ROUND($B70*'HVI Quality Data'!R70/100,0))","v":""},{"$f":"IF(LEN(B70)=0,\"\",ROUND(B70*'Base Values'!$B$16,0))","v":""},{"$f":"IF(LEN(B70)=0,\"\",ROUND(E70/2000*'Base Values'!$B$10,0))","v":""},"",{"$f":"IF(OR(LEN(B70)=0,LEN(C70)=0),\"\",ROUND(B70/(C70/100)*'Base Values'!$B$12/100,0))","v":""},{"$f":"IF(LEN(B70)=0,\"\",ROUND(B70*'Base Values'!$B$14,0))","v":""},""]
[{"$f":"IF(LEN('HVI Quality Data'!A71)>0,'HVI Quality Data'!A71,\"\")","v":""},null,null,{"$f":"IF(LEN(B71)=0,\"\",ROUND($B71*'HVI Quality Data'!R71/100,0))","v":""},{"$f":"IF(LEN(B71)=0,\"\",ROUND(B71*'Base Values'!$B$16,0))","v":""},{"$f":"IF(LEN(B71)=0,\"\",ROUND(E71/2000*'Base Values'!$B$10,0))","v":""},"",{"$f":"IF(OR(LEN(B71)=0,LEN(C71)=0),\"\",ROUND(B71/(C71/100)*'Base Values'!$B$12/100,0))","v":""},{"$f":"IF(LEN(B71)=0,\"\",ROUND(B71*'Base Values'!$B$14,0))","v":""},""]
[{"$f":"IF(LEN('HVI Quality Data'!A72)>0,'HVI Quality Data'!A72,\"\")","v":""},null,null,{"$f":"IF(LEN(B72)=0,\"\",ROUND($B72*'HVI Quality Data'!R72/100,0))","v":""},{"$f":"IF(LEN(B72)=0,\"\",ROUND(B72*'Base Values'!$B$16,0))","v":""},{"$f":"IF(LEN(B72)=0,\"\",ROUND(E72/2000*'Base Values'!$B$10,0))","v":""},"",{"$f":"IF(OR(LEN(B72)=0,LEN(C72)=0),\"\",ROUND(B72/(C72/100)*'Base Values'!$B$12/100,0))","v":""},{"$f":"IF(LEN(B72)=0,\"\",ROUND(B72*'Base Values'!$B$14,0))","v":""},""]
[{"$f":"IF(LEN('HVI Quality Data'!A73)>0,'HVI Quality Data'!A73,\"\")","v":""},null,null,{"$f":"IF(LEN(B73)=0,\"\",ROUND($B73*'HVI Quality Data'!R73/100,0))","v":""},{"$f":"IF(LEN(B73)=0,\"\",ROUND(B73*'Base Values'!$B$16,0))","v":""},{"$f":"IF(LEN(B73)=0,\"\",ROUND(E73/2000*'Base Values'!$B$10,0))","v":""},"",{"$f":"IF(OR(LEN(B73)=0,LEN(C73)=0),\"\",ROUND(B73/(C73/100)*'Base Values'!$B$12/100,0))","v":""},{"$f":"IF(LEN(B73)=0,\"\",ROUND(B73*'Base Values'!$B$14,0))","v":""},""]
[{"$f":"IF(LEN('HVI Quality Data'!A74)>0,'HVI Quality Data'!A74,\"\")","v":""},null,null,{"$f":"IF(LEN(B74)=0,\"\",ROUND($B74*'HVI Quality Data'!R74/100,0))","v":""},{"$f":"IF(LEN(B74)=0,\"\",ROUND(B74*'Base Values'!$B$16,0))","v":""},{"$f":"IF(LEN(B74)=0,\"\",ROUND(E74/2000*'Base Values'!$B$10,0))","v":""},"",{"$f":"IF(OR(LEN(B74)=0,LEN(C74)=0),\"\",ROUND(B74/(C74/100)*'Base Values'!$B$12/100,0))","v":""},{"$f":"IF(LEN(B74)=0,\"\",ROUND(B74*'Base Values'!$B$14,0))","v":""},""]
[{"$f":"IF(LEN('HVI Quality Data'!A75)>0,'HVI Quality Data'!A75,\"\")","v":""},null,null,{"$f":"IF(LEN(B75)=0,\"\",ROUND($B75*'HVI Quality Data'!R75/100,0))","v":""},{"$f":"IF(LEN(B75)=0,\"\",ROUND(B75*'Base Values'!$B$16,0))","v":""},{"$f":"IF(LEN(B75)=0,\"\",ROUND(E75/2000*'Base Values'!$B$10,0))","v":""},"",{"$f":"IF(OR(LEN(B75)=0,LEN(C75)=0),\"\",ROUND(B75/(C75/100)*'Base Values'!$B$12/100,0))","v":""},{"$f":"IF(LEN(B75)=0,\"\",ROUND(B75*'Base Values'!$B$14,0))","v":""},""]
[{"$f":"IF(LEN('HVI Quality Data'!A76)>0,'HVI Quality Data'!A76,\"\")","v":""},null,null,{"$f":"IF(LEN(B76)=0,\"\",ROUND($B76*'HVI Quality Data'!R76/100,0))","v":""},{"$f":"IF(LEN(B76)=0,\"\",ROUND(B76*'Base Values'!$B$16,0))","v":""},{"$f":"IF(LEN(B76)=0,\"\",ROUND(E76/2000*'Base Values'!$B$10,0))","v":""},"",{"$f":"IF(OR(LEN(B76)=0,LEN(C76)=0),\"\",ROUND(B76/(C76/100)*'Base Values'!$B$12/100,0))","v":""},{"$f":"IF(LEN(B76)=0,\"\",ROUND(B76*'Base Values'!$B$14,0))","v":""},""]
[{"$f":"IF(LEN('HVI Quality Data'!A77)>0,'HVI Quality Data'!A77,\"\")","v":""},null,null,{"$f":"IF(LEN(B77)=0,\"\",ROUND($B77*'HVI Quality Data'!R77/100,0))","v":""},{"$f":"IF(LEN(B77)=0,\"\",ROUND(B77*'Base Values'!$B$16,0))","v":""},{"$f":"IF(LEN(B77)=0,\"\",ROUND(E77/2000*'Base Values'!$B$10,0))","v":""},"",{"$f":"IF(OR(LEN(B77)=0,LEN(C77)=0),\"\",ROUND(B77/(C77/100)*'Base Values'!$B$12/100,0))","v":""},{"$f":"IF(LEN(B77)=0,\"\",ROUND(B77*'Base Values'!$B$14,0))","v":""},""]
[{"$f":"IF(LEN('HVI Quality Data'!A78)>0,'HVI Quality Data'!A78,\"\")","v":""},null,null,{"$f":"IF(LEN(B78)=0,\"\",ROUND($B78*'HVI Quality Data'!R78/100,0))","v":""},{"$f":"IF(LEN(B78)=0,\"\",ROUND(B78*'Base Values'!$B$16,0))","v":""},{"$f":"IF(LEN(B78)=0,\"\",ROUND(E78/2000*'Base Values'!$B$10,0))","v":""},"",{"$f":"IF(OR(LEN(B78)=0,LEN(C78)=0),\"\",ROUND(B78/(C78/100)*'Base Values'!$B$12/100,0))","v":""},{"$f":"IF(LEN(B78)=0,\"\",ROUND(B78*'Base Values'!$B$14,0))","v":""},""]
[{"$f":"IF(LEN('HVI Quality Data'!A79)>0,'HVI Quality Data'!A79,\"\")","v":""},null,null,{"$f":"IF(LEN(B79)=0,\"\",ROUND($B79*'HVI Quality Data'!R79/100,0))","v":""},{"$f":"IF(LEN(B79)=0,\"\",ROUND(B79*'Base Values'!$B$16,0))","v":""},{"$f":"IF(LEN(B79)=0,\"\",ROUND(E79/2000*'Base Values'!$B$10,0))","v":""},"",{"$f":"IF(OR(LEN(B79)=0,LEN(C79)=0),\"\",ROUND(B79/(C79/100)*'Base Values'!$B$12/100,0))","v":""},{"$f":"IF(LEN(B79)=0,\"\",ROUND(B79*'Base Values'!$B$14,0))","v":""},""]
[{"$f":"IF(LEN('HVI Quality Data'!A80)>0,'HVI Quality Data'!A80,\"\")","v":""},null,null,{"$f":"IF(LEN(B80)=0,\"\",ROUND($B80*'HVI Quality Data'!R80/100,0))","v":""},{"$f":"IF(LEN(B80)=0,\"\",ROUND(B80*'Base Values'!$B$16,0))","v":""},{"$f":"IF(LEN(B80)=0,\"\",ROUND(E80/2000*'Base Values'!$B$10,0))","v":""},{"$f":"IF(LEN(B80)=0,\"\",SUM(D80,F80))","v":""},{"$f":"IF(OR(LEN(B80)=0,LEN(C80)=0),\"\",ROUND(B80/(C80/100)*'Base Values'!$B$12/100,0))","v":""},{"$f":"IF(LEN(B80)=0,\"\",ROUND(B80*'Base Values'!$B$14,0))","v":""},{"$f":"IF(OR(LEN(B80)=0,LEN(C80)=0),\"\",G80-H80-I80)","v":""}]
[{"$f":"IF(LEN('HVI Quality Data'!A81)>0,'HVI Quality Data'!A81,\"\")","v":""},null,null,{"$f":"IF(LEN(B81)=0,\"\",ROUND($B81*'HVI Quality Data'!R81/100,0))","v":""},{"$f":"IF(LEN(B81)=0,\"\",ROUND(B81*'Base Values'!$B$16,0))","v":""},{"$f":"IF(LEN(B81)=0,\"\",ROUND(E81/2000*'Base Values'!$B$10,0))","v":""},"",{"$f":"IF(OR(LEN(B81)=0,LEN(C81)=0),\"\",ROUND(B81/(C81/100)*'Base Values'!$B$12/100,0))","v":""},{"$f":"IF(LEN(B81)=0,\"\",ROUND(B81*'Base Values'!$B$14,0))","v":""},""]
[{"$f":"IF(LEN('HVI Quality Data'!A82)>0,'HVI Quality Data'!A82,\"\")","v":""},null,null,{"$f":"IF(LEN(B82)=0,\"\",ROUND($B82*'HVI Quality Data'!R82/100,0))","v":""},{"$f":"IF(LEN(B82)=0,\"\",ROUND(B82*'Base Values'!$B$16,0))","v":""},{"$f":"IF(LEN(B82)=0,\"\",ROUND(E82/2000*'Base Values'!$B$10,0))","v":""},"",{"$f":"IF(OR(LEN(B82)=0,LEN(C82)=0),\"\",ROUND(B82/(C82/100)*'Base Values'!$B$12/100,0))","v":""},{"$f":"IF(LEN(B82)=0,\"\",ROUND(B82*'Base Values'!$B$14,0))","v":""},""]
[{"$f":"IF(LEN('HVI Quality Data'!A83)>0,'HVI Quality Data'!A83,\"\")","v":""},null,null,{"$f":"IF(LEN(B83)=0,\"\",ROUND($B83*'HVI Quality Data'!R83/100,0))","v":""},{"$f":"IF(LEN(B83)=0,\"\",ROUND(B83*'Base Values'!$B$16,0))","v":""},{"$f":"IF(LEN(B83)=0,\"\",ROUND(E83/2000*'Base Values'!$B$10,0))","v":""},"",{"$f":"IF(OR(LEN(B83)=0,LEN(C83)=0),\"\",ROUND(B83/(C83/100)*'Base Values'!$B$12/100,0))","v":""},{"$f":"IF(LEN(B83)=0,\"\",ROUND(B83*'Base Values'!$B$14,0))","v":""},""]
[{"$f":"IF(LEN('HVI Quality Data'!A84)>0,'HVI Quality Data'!A84,\"\")","v":""},null,null,{"$f":"IF(LEN(B84)=0,\"\",ROUND($B84*'HVI Quality Data'!R84/100,0))","v":""},{"$f":"IF(LEN(B84)=0,\"\",ROUND(B84*'Base Values'!$B$16,0))","v":""},{"$f":"IF(LEN(B84)=0,\"\",ROUND(E84/2000*'Base Values'!$B$10,0))","v":""},"",{"$f":"IF(OR(LEN(B84)=0,LEN(C84)=0),\"\",ROUND(B84/(C84/100)*'Base Values'!$B$12/100,0))","v":""},{"$f":"IF(LEN(B84)=0,\"\",ROUND(B84*'Base Values'!$B$14,0))","v":""},""]
[{"$f":"IF(LEN('HVI Quality Data'!A85)>0,'HVI Quality Data'!A85,\"\")","v":""},null,null,{"$f":"IF(LEN(B85)=0,\"\",ROUND($B85*'HVI Quality Data'!R85/100,0))","v":""},{"$f":"IF(LEN(B85)=0,\"\",ROUND(B85*'Base Values'!$B$16,0))","v":""},{"$f":"IF(LEN(B85)=0,\"\",ROUND(E85/2000*'Base Values'!$B$10,0))","v":""},"",{"$f":"IF(OR(LEN(B85)=0,LEN(C85)=0),\"\",ROUND(B85/(C85/100)*'Base Values'!$B$12/100,0))","v":""},{"$f":"IF(LEN(B85)=0,\"\",ROUND(B85*'Base Values'!$B$14,0))","v":""},""]
[{"$f":"IF(LEN('HVI Quality Data'!A86)>0,'HVI Quality Data'!A86,\"\")","v":""},null,null,{"$f":"IF(LEN(B86)=0,\"\",ROUND($B86*'HVI Quality Data'!R86/100,0))","v":""},{"$f":"IF(LEN(B86)=0,\"\",ROUND(B86*'Base Values'!$B$16,0))","v":""},{"$f":"IF(LEN(B86)=0,\"\",ROUND(E86/2000*'Base Values'!$B$10,0))","v":""},"",{"$f":"IF(OR(LEN(B86)=0,LEN(C86)=0),\"\",ROUND(B86/(C86/100)*'Base Values'!$B$12/100,0))","v":""},{"$f":"IF(LEN(B86)=0,\"\",ROUND(B86*'Base Values'!$B$14,0))","v":""},""]
[{"$f":"IF(LEN('HVI Quality Data'!A87)>0,'HVI Quality Data'!A87,\"\")","v":""},null,null,{"$f":"IF(LEN(B87)=0,\"\",ROUND($B87*'HVI Quality Data'!R87/100,0))","v":""},{"$f":"IF(LEN(B87)=0,\"\",ROUND(B87*'Base Values'!$B$16,0))","v":""},{"$f":"IF(LEN(B87)=0,\"\",ROUND(E87/2000*'Base Values'!$B$10,0))","v":""},"",{"$f":"IF(OR(LEN(B87)=0,LEN(C87)=0),\"\",ROUND(B87/(C87/100)*'Base Values'!$B$12/100,0))","v":""},{"$f":"IF(LEN(B87)=0,\"\",ROUND(B87*'Base Values'!$B$14,0))","v":""},""]
[{"$f":"IF(LEN('HVI Quality Data'!A88)>0,'HVI Quality Data'!A88,\"\")","v":""},null,null,{"$f":"IF(LEN(B88)=0,\"\",ROUND($B88*'HVI Quality Data'!R88/100,0))","v":""},{"$f":"IF(LEN(B88)=0,\"\",ROUND(B88*'Base Values'!$B$16,0))","v":""},{"$f":"IF(LEN(B88)=0,\"\",ROUND(E88/2000*'Base Values'!$B$10,0))","v":""},"",{"$f":"IF(OR(LEN(B88)=0,LEN(C88)=0),\"\",ROUND(B88/(C88/100)*'Base Values'!$B$12/100,0))","v":""},{"$f":"IF(LEN(B88)=0,\"\",ROUND(B88*'Base Values'!$B$14,0))","v":""},""]
[{"$f":"IF(LEN('HVI Quality Data'!A89)>0,'HVI Quality Data'!A89,\"\")","v":""},null,null,{"$f":"IF(LEN(B89)=0,\"\",ROUND($B89*'HVI Quality Data'!R89/100,0))","v":""},{"$f":"IF(LEN(B89)=0,\"\",ROUND(B89*'Base Values'!$B$16,0))","v":""},{"$f":"IF(LEN(B89)=0,\"\",ROUND(E89/2000*'Base Values'!$B$10,0))","v":""},"",{"$f":"IF(OR(LEN(B89)=0,LEN(C89)=0),\"\",ROUND(B89/(C89/100)*'Base Values'!$B$12/100,0))","v":""},{"$f":"IF(LEN(B89)=0,\"\",ROUND(B89*'Base Values'!$B$14,0))","v":""},""]
[{"$f":"IF(LEN('HVI Quality Data'!A90)>0,'HVI Quality Data'!A90,\"\")","v":""},null,null,{"$f":"IF(LEN(B90)=0,\"\",ROUND($B90*'HVI Quality Data'!R90/100,0))","v":""},{"$f":"IF(LEN(B90)=0,\"\",ROUND(B90*'Base Values'!$B$16,0))","v":""},{"$f":"IF(LEN(B90)=0,\"\",ROUND(E90/2000*'Base Values'!$B$10,0))","v":""},"",{"$f":"IF(OR(LEN(B90)=0,LEN(C90)=0),\"\",ROUND(B90/(C90/100)*'Base Values'!$B$12/100,0))","v":""},{"$f":"IF(LEN(B90)=0,\"\",ROUND(B90*'Base Values'!$B$14,0))","v":""},""]
[{"$f":"IF(LEN('HVI Quality Data'!A91)>0,'HVI Quality Data'!A91,\"\")","v":""},null,null,{"$f":"IF(LEN(B91)=0,\"\",ROUND($B91*'HVI Quality Data'!R91/100,0))","v":""},{"$f":"IF(LEN(B91)=0,\"\",ROUND(B91*'Base Values'!$B$16,0))","v":""},{"$f":"IF(LEN(B91)=0,\"\",ROUND(E91/2000*'Base Values'!$B$10,0))","v":""},"",{"$f":"IF(OR(LEN(B91)=0,LEN(C91)=0),\"\",ROUND(B91/(C91/100)*'Base Values'!$B$12/100,0))","v":""},{"$f":"IF(LEN(B91)=0,\"\",ROUND(B91*'Base Values'!$B$14,0))","v":""},""]
[{"$f":"IF(LEN('HVI Quality Data'!A92)>0,'HVI Quality Data'!A92,\"\")","v":""},null,null,{"$f":"IF(LEN(B92)=0,\"\",ROUND($B92*'HVI Quality Data'!R92/100,0))","v":""},{"$f":"IF(LEN(B92)=0,\"\",ROUND(B92*'Base Values'!$B$16,0))","v":""},{"$f":"IF(LEN(B92)=0,\"\",ROUND(E92/2000*'Base Values'!$B$10,0))","v":""},"",{"$f":"IF(OR(LEN(B92)=0,LEN(C92)=0),\"\",ROUND(B92/(C92/100)*'Base Values'!$B$12/100,0))","v":""},{"$f":"IF(LEN(B92)=0,\"\",ROUND(B92*'Base Values'!$B$14,0))","v":""},""]
[{"$f":"IF(LEN('HVI Quality Data'!A93)>0,'HVI Quality Data'!A93,\"\")","v":""},null,null,{"$f":"IF(LEN(B93)=0,\"\",ROUND($B93*'HVI Quality Data'!R93/100,0))","v":""},{"$f":"IF(LEN(B93)=0,\"\",ROUND(B93*'Base Values'!$B$16,0))","v":""},{"$f":"IF(LEN(B93)=0,\"\",ROUND(E93/2000*'Base Values'!$B$10,0))","v":""},"",{"$f":"IF(OR(LEN(B93)=0,LEN(C93)=0),\"\",ROUND(B93/(C93/100)*'Base Values'!$B$12/100,0))","v":""},{"$f":"IF(LEN(B93)=0,\"\",ROUND(B93*'Base Values'!$B$14,0))","v":""},""]
[{"$f":"IF(LEN('HVI Quality Data'!A94)>0,'HVI Quality Data'!A94,\"\")","v":""},null,null,{"$f":"IF(LEN(B94)=0,\"\",ROUND($B94*'HVI Quality Data'!R94/100,0))","v":""},{"$f":"IF(LEN(B94)=0,\"\",ROUND(B94*'Base Values'!$B$16,0))","v":""},{"$f":"IF(LEN(B94)=0,\"\",ROUND(E94/2000*'Base Values'!$B$10,0))","v":""},"",{"$f":"IF(OR(LEN(B94)=0,LEN(C94)=0),\"\",ROUND(B94/(C94/100)*'Base Values'!$B$12/100,0))","v":""},{"$f":"IF(LEN(B94)=0,\"\",ROUND(B94*'Base Values'!$B$14,0))","v":""},""]
[{"$f":"IF(LEN('HVI Quality Data'!A95)>0,'HVI Quality Data'!A95,\"\")","v":""},null,null,{"$f":"IF(LEN(B95)=0,\"\",ROUND($B95*'HVI Quality Data'!R95/100,0))","v":""},{"$f":"IF(LEN(B95)=0,\"\",ROUND(B95*'Base Values'!$B$16,0))","v":""},{"$f":"IF(LEN(B95)=0,\"\",ROUND(E95/2000*'Base Values'!$B$10,0))","v":""},"",{"$f":"IF(OR(LEN(B95)=0,LEN(C95)=0),\"\",ROUND(B95/(C95/100)*'Base Values'!$B$12/100,0))","v":""},{"$f":"IF(LEN(B95)=0,\"\",ROUND(B95*'Base Values'!$B$14,0))","v":""},""]
[{"$f":"IF(LEN('HVI Quality Data'!A96)>0,'HVI Quality Data'!A96,\"\")","v":""},null,null,{"$f":"IF(LEN(B96)=0,\"\",ROUND($B96*'HVI Quality Data'!R96/100,0))","v":""},{"$f":"IF(LEN(B96)=0,\"\",ROUND(B96*'Base Values'!$B$16,0))","v":""},{"$f":"IF(LEN(B96)=0,\"\",ROUND(E96/2000*'Base Values'!$B$10,0))","v":""},"",{"$f":"IF(OR(LEN(B96)=0,LEN(C96)=0),\"\",ROUND(B96/(C96/100)*'Base Values'!$B$12/100,0))","v":""},{"$f":"IF(LEN(B96)=0,\"\",ROUND(B96*'Base Values'!$B$14,0))","v":""},""]
[{"$f":"IF(LEN('HVI Quality Data'!A97)>0,'HVI Quality Data'!A97,\"\")","v":""},null,null,{"$f":"IF(LEN(B97)=0,\"\",ROUND($B97*'HVI Quality Data'!R97/100,0))","v":""},{"$f":"IF(LEN(B97)=0,\"\",ROUND(B97*'Base Values'!$B$16,0))","v":""},{"$f":"IF(LEN(B97)=0,\"\",ROUND(E97/2000*'Base Values'!$B$10,0))","v":""},"",{"$f":"IF(OR(LEN(B97)=0,LEN(C97)=0),\"\",ROUND(B97/(C97/100)*'Base Values'!$B$12/100,0))","v":""},{"$f":"IF(LEN(B97)=0,\"\",ROUND(B97*'Base Values'!$B$14,0))","v":""},""]
[{"$f":"IF(LEN('HVI Quality Data'!A98)>0,'HVI Quality Data'!A98,\"\")","v":""},null,null,{"$f":"IF(LEN(B98)=0,\"\",ROUND($B98*'HVI Quality Data'!R98/100,0))","v":""},{"$f":"IF(LEN(B98)=0,\"\",ROUND(B98*'Base Values'!$B$16,0))","v":""},{"$f":"IF(LEN(B98)=0,\"\",ROUND(E98/2000*'Base Values'!$B$10,0))","v":""},"",{"$f":"IF(OR(LEN(B98)=0,LEN(C98)=0),\"\",ROUND(B98/(C98/100)*'Base Values'!$B$12/100,0))","v":""},{"$f":"IF(LEN(B98)=0,\"\",ROUND(B98*'Base Values'!$B$14,0))","v":""},""]
[{"$f":"IF(LEN('HVI Quality Data'!A99)>0,'HVI Quality Data'!A99,\"\")","v":""},null,null,{"$f":"IF(LEN(B99)=0,\"\",ROUND($B99*'HVI Quality Data'!R99/100,0))","v":""},{"$f":"IF(LEN(B99)=0,\"\",ROUND(B99*'Base Values'!$B$16,0))","v":""},{"$f":"IF(LEN(B99)=0,\"\",ROUND(E99/2000*'Base Values'!$B$10,0))","v":""},"",{"$f":"IF(OR(LEN(B99)=0,LEN(C99)=0),\"\",ROUND(B99/(C99/100)*'Base Values'!$B$12/100,0))","v":""},{"$f":"IF(LEN(B99)=0,\"\",ROUND(B99*'Base Values'!$B$14,0))","v":""},""]
[{"$f":"IF(LEN('HVI Quality Data'!A100)>0,'HVI Quality Data'!A100,\"\")","v":""},null,null,{"$f":"IF(LEN(B100)=0,\"\",ROUND($B100*'HVI Quality Data'!R100/100,0))","v":""},{"$f":"IF(LEN(B100)=0,\"\",ROUND(B100*'Base Values'!$B$16,0))","v":""},{"$f":"IF(LEN(B100)=0,\"\",ROUND(E100/2000*'Base Values'!$B$10,0))","v":""},"",{"$f":"IF(OR(LEN(B100)=0,LEN(C100)=0),\"\",ROUND(B100/(C100/100)*'Base Values'!$B$12/100,0))","v":""},{"$f":"IF(LEN(B100)=0,\"\",ROUND(B100*'Base Values'!$B$14,0))","v":""},""]
[{"$f":"IF(LEN('HVI Quality Data'!A101)>0,'HVI Quality Data'!A101,\"\")","v":""},null,null,{"$f":"IF(LEN(B101)=0,\"\",ROUND($B101*'HVI Quality Data'!R101/100,0))","v":""},{"$f":"IF(LEN(B101)=0,\"\",ROUND(B101*'Base Values'!$B$16,0))","v":""},{"$f":"IF(LEN(B101)=0,\"\",ROUND(E101/2000*'Base Values'!$B$10,0))","v":""},"",{"$f":"IF(OR(LEN(B101)=0,LEN(C101)=0),\"\",ROUND(B101/(C101/100)*'Base Values'!$B$12/100,0))","v":""},{"$f":"IF(LEN(B101)=0,\"\",ROUND(B101*'Base Values'!$B$14,0))","v":""},""]
[{"$f":"IF(LEN('HVI Quality Data'!A102)>0,'HVI Quality Data'!A102,\"\")","v":""},null,null,{"$f":"IF(LEN(B102)=0,\"\",ROUND($B102*'HVI Quality Data'!R102/100,0))","v":""},{"$f":"IF(LEN(B102)=0,\"\",ROUND(B102*'Base Values'!$B$16,0))","v":""},{"$f":"IF(LEN(B102)=0,\"\",ROUND(E102/2000*'Base Values'!$B$10,0))","v":""},"",{"$f":"IF(OR(LEN(B102)=0,LEN(C102)=0),\"\",ROUND(B102/(C102/100)*'Base Values'!$B$12/100,0))","v":""},{"$f":"IF(LEN(B102)=0,\"\",ROUND(B102*'Base Values'!$B$14,0))","v":""},""]
[{"$f":"IF(LEN('HVI Quality Data'!A103)>0,'HVI Quality Data'!A103,\"\")","v":""},null,null,{"$f":"IF(LEN(B103)=0,\"\",ROUND($B103*'HVI Quality Data'!R103/100,0))","v":""},{"$f":"IF(LEN(B103)=0,\"\",ROUND(B103*'Base Values'!$B$16,0))","v":""},{"$f":"IF(LEN(B103)=0,\"\",ROUND(E103/2000*'Base Values'!$B$10,0))","v":""},"",{"$f":"IF(OR(LEN(B103)=0,LEN(C103)=0),\"\",ROUND(B103/(C103/100)*'Base Values'!$B$12/100,0))","v":""},{"$f":"IF(LEN(B103)=0,\"\",ROUND(B103*'Base Values'!$B$14,0))","v":""},""]
[{"$f":"IF(LEN('HVI Quality Data'!A104)>0,'HVI Quality Data'!A104,\"\")","v":""},null,null,{"$f":"IF(LEN(B104)=0,\"\",ROUND($B104*'HVI Quality Data'!R104/100,0))","v":""},{"$f":"IF(LEN(B104)=0,\"\",ROUND(B104*'Base Values'!$B$16,0))","v":""},{"$f":"IF(LEN(B104)=0,\"\",ROUND(E104/2000*'Base Values'!$B$10,0))","v":""},"",{"$f":"IF(OR(LEN(B104)=0,LEN(C104)=0),\"\",ROUND(B104/(C104/100)*'Base Values'!$B$12/100,0))","v":""},{"$f":"IF(LEN(B104)=0,\"\",ROUND(B104*'Base Values'!$B$14,0))","v":""},""]
[{"$f":"IF(LEN('HVI Quality Data'!A105)>0,'HVI Quality Data'!A105,\"\")","v":""},null,null,{"$f":"IF(LEN(B105)=0,\"\",ROUND($B105*'HVI Quality Data'!R105/100,0))","v":""},{"$f":"IF(LEN(B105)=0,\"\",ROUND(B105*'Base Values'!$B$16,0))","v":""},{"$f":"IF(LEN(B105)=0,\"\",ROUND(E105/2000*'Base Values'!$B$10,0))","v":""},"",{"$f":"IF(OR(LEN(B105)=0,LEN(C105)=0),\"\",ROUND(B105/(C105/100)*'Base Values'!$B$12/100,0))","v":""},{"$f":"IF(LEN(B105)=0,\"\",ROUND(B105*'Base Values'!$B$14,0))","v":""},""]
[{"$f":"IF(LEN('HVI Quality Data'!A106)>0,'HVI Quality Data'!A106,\"\")","v":""},null,null,{"$f":"IF(LEN(B106)=0,\"\",ROUND($B106*'HVI Quality Data'!R106/100,0))","v":""},{"$f":"IF(LEN(B106)=0,\"\",ROUND(B106*'Base Values'!$B$16,0))","v":""},{"$f":"IF(LEN(B106)=0,\"\",ROUND(E106/2000*'Base Values'!$B$10,0))","v":""},"",{"$f":"IF(OR(LEN(B106)=0,LEN(C106)=0),\"\",ROUND(B106/(C106/100)*'Base Values'!$B$12/100,0))","v":""},{"$f":"IF(LEN(B106)=0,\"\",ROUND(B106*'Base Values'!$B$14,0))","v":""},""]
[{"$f":"IF(LEN('HVI Quality Data'!A107)>0,'HVI Quality Data'!A107,\"\")","v":""},null,null,{"$f":"IF(LEN(B107)=0,\"\",ROUND($B107*'HVI Quality Data'!R107/100,0))","v":""},{"$f":"IF(LEN(B107)=0,\"\",ROUND(B107*'Base Values'!$B$16,0))","v":""},{"$f":"IF(LEN(B107)=0,\"\",ROUND(E107/2000*'Base Values'!$B$10,0))","v":""},"",{"$f":"IF(OR(LEN(B107)=0,LEN(C107)=0),\"\",ROUND(B107/(C107/100)*'Base Values'!$B$12/100,0))","v":""},{"$f":"IF(LEN(B107)=0,\"\",ROUND(B107*'Base Values'!$B$14,0))","v":""},""]
[{"$f":"IF(LEN('HVI Quality Data'!A108)>0,'HVI Quality Data'!A108,\"\")","v":""},null,null,{"$f":"IF(LEN(B108)=0,\"\",ROUND($B108*'HVI Quality Data'!R108/100,0))","v":""},{"$f":"IF(LEN(B108)=0,\"\",ROUND(B108*'Base Values'!$B$16,0))","v":""},{"$f":"IF(LEN(B108)=0,\"\",ROUND(E108/2000*'Base Values'!$B$10,0))","v":""},"",{"$f":"IF(OR(LEN(B108)=0,LEN(C108)=0),\"\",ROUND(B108/(C108/100)*'Base Values'!$B$12/100,0))","v":""},{"$f":"IF(LEN(B108)=0,\"\",ROUND(B108*'Base Values'!$B$14,0))","v":""},""]
[{"$f":"IF(LEN('HVI Quality Data'!A109)>0,'HVI Quality Data'!A109,\"\")","v":""},null,null,{"$f":"IF(LEN(B109)=0,\"\",ROUND($B109*'HVI Quality Data'!R109/100,0))","v":""},{"$f":"IF(LEN(B109)=0,\"\",ROUND(B109*'Base Values'!$B$16,0))","v":""},{"$f":"IF(LEN(B109)=0,\"\",ROUND(E109/2000*'Base Values'!$B$10,0))","v":""},"",{"$f":"IF(OR(LEN(B109)=0,LEN(C109)=0),\"\",ROUND(B109/(C109/100)*'Base Values'!$B$12/100,0))","v":""},{"$f":"IF(LEN(B109)=0,\"\",ROUND(B109*'Base Values'!$B$14,0))","v":""},""]
[{"$f":"IF(LEN('HVI Quality Data'!A110)>0,'HVI Quality Data'!A110,\"\")","v":""},null,null,{"$f":"IF(LEN(B110)=0,\"\",ROUND($B110*'HVI Quality Data'!R110/100,0))","v":""},{"$f":"IF(LEN(B110)=0,\"\",ROUND(B110*'Base Values'!$B$16,0))","v":""},{"$f":"IF(LEN(B110)=0,\"\",ROUND(E110/2000*'Base Values'!$B$10,0))","v":""},"",{"$f":"IF(OR(LEN(B110)=0,LEN(C110)=0),\"\",ROUND(B110/(C110/100)*'Base Values'!$B$12/100,0))","v":""},{"$f":"IF(LEN(B110)=0,\"\",ROUND(B110*'Base Values'!$B$14,0))","v":""},""]
[{"$f":"IF(LEN('HVI Quality Data'!A111)>0,'HVI Quality Data'!A111,\"\")","v":""},null,null,{"$f":"IF(LEN(B111)=0,\"\",ROUND($B111*'HVI Quality Data'!R111/100,0))","v":""},{"$f":"IF(LEN(B111)=0,\"\",ROUND(B111*'Base Values'!$B$16,0))","v":""},{"$f":"IF(LEN(B111)=0,\"\",ROUND(E111/2000*'Base Values'!$B$10,0))","v":""},"",{"$f":"IF(OR(LEN(B111)=0,LEN(C111)=0),\"\",ROUND(B111/(C111/100)*'Base Values'!$B$12/100,0))","v":""},{"$f":"IF(LEN(B111)=0,\"\",ROUND(B111*'Base Values'!$B$14,0))","v":""},""]
[{"$f":"IF(LEN('HVI Quality Data'!A112)>0,'HVI Quality Data'!A112,\"\")","v":""},null,null,{"$f":"IF(LEN(B112)=0,\"\",ROUND($B112*'HVI Quality Data'!R112/100,0))","v":""},{"$f":"IF(LEN(B112)=0,\"\",ROUND(B112*'Base Values'!$B$16,0))","v":""},{"$f":"IF(LEN(B112)=0,\"\",ROUND(E112/2000*'Base Values'!$B$10,0))","v":""},"",{"$f":"IF(OR(LEN(B112)=0,LEN(C112)=0),\"\",ROUND(B112/(C112/100)*'Base Values'!$B$12/100,0))","v":""},{"$f":"IF(LEN(B112)=0,\"\",ROUND(B112*'Base Values'!$B$14,0))","v":""},""]
[{"$f":"IF(LEN('HVI Quality Data'!A113)>0,'HVI Quality Data'!A113,\"\")","v":""},null,null,{"$f":"IF(LEN(B113)=0,\"\",ROUND($B113*'HVI Quality Data'!R113/100,0))","v":""},{"$f":"IF(LEN(B113)=0,\"\",ROUND(B113*'Base Values'!$B$16,0))","v":""},{"$f":"IF(LEN(B113)=0,\"\",ROUND(E113/2000*'Base Values'!$B$10,0))","v":""},"",{"$f":"IF(OR(LEN(B113)=0,LEN(C113)=0),\"\",ROUND(B113/(C113/100)*'Base Values'!$B$12/100,0))","v":""},{"$f":"IF(LEN(B113)=0,\"\",ROUND(B113*'Base Values'!$B$14,0))","v":""},""]
[{"$f":"IF(LEN('HVI Quality Data'!A114)>0,'HVI Quality Data'!A114,\"\")","v":""},null,null,{"$f":"IF(LEN(B114)=0,\"\",ROUND($B114*'HVI Quality Data'!R114/100,0))","v":""},{"$f":"IF(LEN(B114)=0,\"\",ROUND(B114*'Base Values'!$B$16,0))","v":""},{"$f":"IF(LEN(B114)=0,\"\",ROUND(E114/2000*'Base Values'!$B$10,0))","v":""},"",{"$f":"IF(OR(LEN(B114)=0,LEN(C114)=0),\"\",ROUND(B114/(C114/100)*'Base Values'!$B$12/100,0))","v":""},{"$f":"IF(LEN(B114)=0,\"\",ROUND(B114*'Base Values'!$B$14,0))","v":""},""]
[{"$f":"IF(LEN('HVI Quality Data'!A115)>0,'HVI Quality Data'!A115,\"\")","v":""},null,null,{"$f":"IF(LEN(B115)=0,\"\",ROUND($B115*'HVI Quality Data'!R115/100,0))","v":""},{"$f":"IF(LEN(B115)=0,\"\",ROUND(B115*'Base Values'!$B$16,0))","v":""},{"$f":"IF(LEN(B115)=0,\"\",ROUND(E115/2000*'Base Values'!$B$10,0))","v":""},"",{"$f":"IF(OR(LEN(B115)=0,LEN(C115)=0),\"\",ROUND(B115/(C115/100)*'Base Values'!$B$12/100,0))","v":""},{"$f":"IF(LEN(B115)=0,\"\",ROUND(B115*'Base Values'!$B$14,0))","v":""},""]
[{"$f":"IF(LEN('HVI Quality Data'!A116)>0,'HVI Quality Data'!A116,\"\")","v":""},null,null,{"$f":"IF(LEN(B116)=0,\"\",ROUND($B116*'HVI Quality Data'!R116/100,0))","v":""},{"$f":"IF(LEN(B116)=0,\"\",ROUND(B116*'Base Values'!$B$16,0))","v":""},{"$f":"IF(LEN(B116)=0,\"\",ROUND(E116/2000*'Base Values'!$B$10,0))","v":""},"",{"$f":"IF(OR(LEN(B116)=0,LEN(C116)=0),\"\",ROUND(B116/(C116/100)*'Base Values'!$B$12/100,0))","v":""},{"$f":"IF(LEN(B116)=0,\"\",ROUND(B116*'Base Values'!$B$14,0))","v":""},""]
[{"$f":"IF(LEN('HVI Quality Data'!A117)>0,'HVI Quality Data'!A117,\"\")","v":""},null,null,{"$f":"IF(LEN(B117)=0,\"\",ROUND($B117*'HVI Quality Data'!R117/100,0))","v":""},{"$f":"IF(LEN(B117)=0,\"\",ROUND(B117*'Base Values'!$B$16,0))","v":""},{"$f":"IF(LEN(B117)=0,\"\",ROUND(E117/2000*'Base Values'!$B$10,0))","v":""},"",{"$f":"IF(OR(LEN(B117)=0,LEN(C117)=0),\"\",ROUND(B117/(C117/100)*'Base Values'!$B$12/100,0))","v":""},{"$f":"IF(LEN(B117)=0,\"\",ROUND(B117*'Base Values'!$B$14,0))","v":""},""]
[{"$f":"IF(LEN('HVI Quality Data'!A118)>0,'HVI Quality Data'!A118,\"\")","v":""},null,null,{"$f":"IF(LEN(B118)=0,\"\",ROUND($B118*'HVI Quality Data'!R118/100,0))","v":""},{"$f":"IF(LEN(B118)=0,\"\",ROUND(B118*'Base Values'!$B$16,0))","v":""},{"$f":"IF(LEN(B118)=0,\"\",ROUND(E118/2000*'Base Values'!$B$10,0))","v":""},"",{"$f":"IF(OR(LEN(B118)=0,LEN(C118)=0),\"\",ROUND(B118/(C118/100)*'Base Values'!$B$12/100,0))","v":""},{"$f":"IF(LEN(B118)=0,\"\",ROUND(B118*'Base Values'!$B$14,0))","v":""},""]
[{"$f":"IF(LEN('HVI Quality Data'!A119)>0,'HVI Quality Data'!A119,\"\")","v":""},null,null,{"$f":"IF(LEN(B119)=0,\"\",ROUND($B119*'HVI Quality Data'!R119/100,0))","v":""},{"$f":"IF(LEN(B119)=0,\"\",ROUND(B119*'Base Values'!$B$16,0))","v":""},{"$f":"IF(LEN(B119)=0,\"\",ROUND(E119/2000*'Base Values'!$B$10,0))","v":""},"",{"$f":"IF(OR(LEN(B119)=0,LEN(C119)=0),\"\",ROUND(B119/(C119/100)*'Base Values'!$B$12/100,0))","v":""},{"$f":"IF(LEN(B119)=0,\"\",ROUND(B119*'Base Values'!$B$14,0))","v":""},""]
[{"$f":"IF(LEN('HVI Quality Data'!A120)>0,'HVI Quality Data'!A120,\"\")","v":""},null,null,{"$f":"IF(LEN(B120)=0,\"\",ROUND($B120*'HVI Quality Data'!R120/100,0))","v":""},{"$f":"IF(LEN(B120)=0,\"\",ROUND(B120*'Base Values'!$B$16,0))","v":""},{"$f":"IF(LEN(B120)=0,\"\",ROUND(E120/2000*'Base Values'!$B$10,0))","v":""},"",{"$f":"IF(OR(LEN(B120)=0,LEN(C120)=0),\"\",ROUND(B120/(C120/100)*'Base Values'!$B$12/100,0))","v":""},{"$f":"IF(LEN(B120)=0,\"\",ROUND(B120*'Base Values'!$B$14,0))","v":""},""]
[{"$f":"IF(LEN('HVI Quality Data'!A121)>0,'HVI Quality Data'!A121,\"\")","v":""},null,null,{"$f":"IF(LEN(B121)=0,\"\",ROUND($B121*'HVI Quality Data'!R121/100,0))","v":""},{"$f":"IF(LEN(B121)=0,\"\",ROUND(B121*'Base Values'!$B$16,0))","v":""},{"$f":"IF(LEN(B121)=0,\"\",ROUND(E121/2000*'Base Values'!$B$10,0))","v":""},"",{"$f":"IF(OR(LEN(B121)=0,LEN(C121)=0),\"\",ROUND(B121/(C121/100)*'Base Values'!$B$12/100,0))","v":""},{"$f":"IF(LEN(B121)=0,\"\",ROUND(B121*'Base Values'!$B$14,0))","v":""},""]
[{"$f":"IF(LEN('HVI Quality Data'!A122)>0,'HVI Quality Data'!A122,\"\")","v":""},null,null,{"$f":"IF(LEN(B122)=0,\"\",ROUND($B122*'HVI Quality Data'!R122/100,0))","v":""},{"$f":"IF(LEN(B122)=0,\"\",ROUND(B122*'Base Values'!$B$16,0))","v":""},{"$f":"IF(LEN(B122)=0,\"\",ROUND(E122/2000*'Base Values'!$B$10,0))","v":""},"",{"$f":"IF(OR(LEN(B122)=0,LEN(C122)=0),\"\",ROUND(B122/(C122/100)*'Base Values'!$B$12/100,0))","v":""},{"$f":"IF(LEN(B122)=0,\"\",ROUND(B122*'Base Values'!$B$14,0))","v":""},""]
[{"$f":"IF(LEN('HVI Quality Data'!A123)>0,'HVI Quality Data'!A123,\"\")","v":""},null,null,{"$f":"IF(LEN(B123)=0,\"\",ROUND($B123*'HVI Quality Data'!R123/100,0))","v":""},{"$f":"IF(LEN(B123)=0,\"\",ROUND(B123*'Base Values'!$B$16,0))","v":""},{"$f":"IF(LEN(B123)=0,\"\",ROUND(E123/2000*'Base Values'!$B$10,0))","v":""},"",{"$f":"IF(OR(LEN(B123)=0,LEN(C123)=0),\"\",ROUND(B123/(C123/100)*'Base Values'!$B$12/100,0))","v":""},{"$f":"IF(LEN(B123)=0,\"\",ROUND(B123*'Base Values'!$B$14,0))","v":""},""]
[{"$f":"IF(LEN('HVI Quality Data'!A124)>0,'HVI Quality Data'!A124,\"\")","v":""},null,null,{"$f":"IF(LEN(B124)=0,\"\",ROUND($B124*'HVI Quality Data'!R124/100,0))","v":""},{"$f":"IF(LEN(B124)=0,\"\",ROUND(B124*'Base Values'!$B$16,0))","v":""},{"$f":"IF(LEN(B124)=0,\"\",ROUND(E124/2000*'Base Values'!$B$10,0))","v":""},"",{"$f":"IF(OR(LEN(B124)=0,LEN(C124)=0),\"\",ROUND(B124/(C124/100)*'Base Values'!$B$12/100,0))","v":""},{"$f":"IF(LEN(B124)=0,\"\",ROUND(B124*'Base Values'!$B$14,0))","v":""},""]
[{"$f":"IF(LEN('HVI Quality Data'!A125)>0,'HVI Quality Data'!A125,\"\")","v":""},null,null,{"$f":"IF(LEN(B125)=0,\"\",ROUND($B125*'HVI Quality Data'!R125/100,0))","v":""},{"$f":"IF(LEN(B125)=0,\"\",ROUND(B125*'Base Values'!$B$16,0))","v":""},{"$f":"IF(LEN(B125)=0,\"\",ROUND(E125/2000*'Base Values'!$B$10,0))","v":""},"",{"$f":"IF(OR(LEN(B125)=0,LEN(C125)=0),\"\",ROUND(B125/(C125/100)*'Base Values'!$B$12/100,0))","v":""},{"$f":"IF(LEN(B125)=0,\"\",ROUND(B125*'Base Values'!$B$14,0))","v":""},""]
[{"$f":"IF(LEN('HVI Quality Data'!A126)>0,'HVI Quality Data'!A126,\"\")","v":""},null,null,{"$f":"IF(LEN(B126)=0,\"\",ROUND($B126*'HVI Quality Data'!R126/100,0))","v":""},{"$f":"IF(LEN(B126)=0,\"\",ROUND(B126*'Base Values'!$B$16,0))","v":""},{"$f":"IF(LEN(B126)=0,\"\",ROUND(E126/2000*'Base Values'!$B$10,0))","v":""},"",{"$f":"IF(OR(LEN(B126)=0,LEN(C126)=0),\"\",ROUND(B126/(C126/100)*'Base Values'!$B$12/100,0))","v":""},{"$f":"IF(LEN(B126)=0,\"\",ROUND(B126*'Base Values'!$B$14,0))","v":""},""]
[{"$f":"IF(LEN('HVI Quality Data'!A127)>0,'HVI Quality Data'!A127,\"\")","v":""},null,null,{"$f":"IF(LEN(B127)=0,\"\",ROUND($B127*'HVI Quality Data'!R127/100,0))","v":""},{"$f":"IF(LEN(B127)=0,\"\",ROUND(B127*'Base Values'!$B$16,0))","v":""},{"$f":"IF(LEN(B127)=0,\"\",ROUND(E127/2000*'Base Values'!$B$10,0))","v":""},"",{"$f":"IF(OR(LEN(B127)=0,LEN(C127)=0),\"\",ROUND(B127/(C127/100)*'Base Values'!$B$12/100,0))","v":""},{"$f":"IF(LEN(B127)=0,\"\",ROUND(B127*'Base Values'!$B$14,0))","v":""},""]
[{"$f":"IF(LEN('HVI Quality Data'!A128)>0,'HVI Quality Data'!A128,\"\")","v":""},null,null,{"$f":"IF(LEN(B128)=0,\"\",ROUND($B128*'HVI Quality Data'!R128/100,0))","v":""},{"$f":"IF(LEN(B128)=0,\"\",ROUND(B128*'Base Values'!$B$16,0))","v":""},{"$f":"IF(LEN(B128)=0,\"\",ROUND(E128/2000*'Base Values'!$B$10,0))","v":""},"",{"$f":"IF(OR(LEN(B128)=0,LEN(C128)=0),\"\",ROUND(B128/(C128/100)*'Base Values'!$B$12/100,0))","v":""},{"$f":"IF(LEN(B128)=0,\"\",ROUND(B128*'Base Values'!$B$14,0))","v":""},""]
[{"$f":"IF(LEN('HVI Quality Data'!A129)>0,'HVI Quality Data'!A129,\"\")","v":""},null,null,{"$f":"IF(LEN(B129)=0,\"\",ROUND($B129*'HVI Quality Data'!R129/100,0))","v":""},{"$f":"IF(LEN(B129)=0,\"\",ROUND(B129*'Base Values'!$B$16,0))","v":""},{"$f":"IF(LEN(B129)=0,\"\",ROUND(E129/2000*'Base Values'!$B$10,0))","v":""},"",{"$f":"IF(OR(LEN(B129)=0,LEN(C129)=0),\"\",ROUND(B129/(C129/100)*'Base Values'!$B$12/100,0))","v":""},{"$f":"IF(LEN(B129)=0,\"\",ROUND(B129*'Base Values'!$B$14,0))","v":""},""]
[{"$f":"IF(LEN('HVI Quality Data'!A130)>0,'HVI Quality Data'!A130,\"\")","v":""},null,null,{"$f":"IF(LEN(B130)=0,\"\",ROUND($B130*'HVI Quality Data'!R130/100,0))","v":""},{"$f":"IF(LEN(B130)=0,\"\",ROUND(B130*'Base Values'!$B$16,0))","v":""},{"$f":"IF(LEN(B130)=0,\"\",ROUND(E130/2000*'Base Values'!$B$10,0))","v":""},"",{"$f":"IF(OR(LEN(B130)=0,LEN(C130)=0),\"\",ROUND(B130/(C130/100)*'Base Values'!$B$12/100,0))","v":""},{"$f":"IF(LEN(B130)=0,\"\",ROUND(B130*'Base Values'!$B$14,0))","v":""},""]
[{"$f":"IF(LEN('HVI Quality Data'!A131)>0,'HVI Quality Data'!A131,\"\")","v":""},null,null,{"$f":"IF(LEN(B131)=0,\"\",ROUND($B131*'HVI Quality Data'!R131/100,0))","v":""},{"$f":"IF(LEN(B131)=0,\"\",ROUND(B131*'Base Values'!$B$16,0))","v":""},{"$f":"IF(LEN(B131)=0,\"\",ROUND(E131/2000*'Base Values'!$B$10,0))","v":""},"",{"$f":"IF(OR(LEN(B131)=0,LEN(C131)=0),\"\",ROUND(B131/(C131/100)*'Base Values'!$B$12/100,0))","v":""},{"$f":"IF(LEN(B131)=0,\"\",ROUND(B131*'Base Values'!$B$14,0))","v":""},""]
[{"$f":"IF(LEN('HVI Quality Data'!A132)>0,'HVI Quality Data'!A132,\"\")","v":""},null,null,{"$f":"IF(LEN(B132)=0,\"\",ROUND($B132*'HVI Quality Data'!R132/100,0))","v":""},{"$f":"IF(LEN(B132)=0,\"\",ROUND(B132*'Base Values'!$B$16,0))","v":""},{"$f":"IF(LEN(B132)=0,\"\",ROUND(E132/2000*'Base Values'!$B$10,0))","v":""},"",{"$f":"IF(OR(LEN(B132)=0,LEN(C132)=0),\"\",ROUND(B132/(C132/100)*'Base Values'!$B$12/100,0))","v":""},{"$f":"IF(LEN(B132)=0,\"\",ROUND(B132*'Base Values'!$B$14,0))","v":""},""]
[{"$f":"IF(LEN('HVI Quality Data'!A133)>0,'HVI Quality Data'!A133,\"\")","v":""},null,null,{"$f":"IF(LEN(B133)=0,\"\",ROUND($B133*'HVI Quality Data'!R133/100,0))","v":""},{"$f":"IF(LEN(B133)=0,\"\",ROUND(B133*'Base Values'!$B$16,0))","v":""},{"$f":"IF(LEN(B133)=0,\"\",ROUND(E133/2000*'Base Values'!$B$10,0))","v":""},"",{"$f":"IF(OR(LEN(B133)=0,LEN(C133)=0),\"\",ROUND(B133/(C133/100)*'Base Values'!$B$12/100,0))","v":""},{"$f":"IF(LEN(B133)=0,\"\",ROUND(B133*'Base Values'!$B$14,0))","v":""},""]
[{"$f":"IF(LEN('HVI Quality Data'!A134)>0,'HVI Quality Data'!A134,\"\")","v":""},null,null,{"$f":"IF(LEN(B134)=0,\"\",ROUND($B134*'HVI Quality Data'!R134/100,0))","v":""},{"$f":"IF(LEN(B134)=0,\"\",ROUND(B134*'Base Values'!$B$16,0))","v":""},{"$f":"IF(LEN(B134)=0,\"\",ROUND(E134/2000*'Base Values'!$B$10,0))","v":""},"",{"$f":"IF(OR(LEN(B134)=0,LEN(C134)=0),\"\",ROUND(B134/(C134/100)*'Base Values'!$B$12/100,0))","v":""},{"$f":"IF(LEN(B134)=0,\"\",ROUND(B134*'Base Values'!$B$14,0))","v":""},""]
[{"$f":"IF(LEN('HVI Quality Data'!A135)>0,'HVI Quality Data'!A135,\"\")","v":""},null,null,{"$f":"IF(LEN(B135)=0,\"\",ROUND($B135*'HVI Quality Data'!R135/100,0))","v":""},{"$f":"IF(LEN(B135)=0,\"\",ROUND(B135*'Base Values'!$B$16,0))","v":""},{"$f":"IF(LEN(B135)=0,\"\",ROUND(E135/2000*'Base Values'!$B$10,0))","v":""},"",{"$f":"IF(OR(LEN(B135)=0,LEN(C135)=0),\"\",ROUND(B135/(C135/100)*'Base Values'!$B$12/100,0))","v":""},{"$f":"IF(LEN(B135)=0,\"\",ROUND(B135*'Base Values'!$B$14,0))","v":""},""]
[{"$f":"IF(LEN('HVI Quality Data'!A136)>0,'HVI Quality Data'!A136,\"\")","v":""},null,null,{"$f":"IF(LEN(B136)=0,\"\",ROUND($B136*'HVI Quality Data'!R136/100,0))","v":""},{"$f":"IF(LEN(B136)=0,\"\",ROUND(B136*'Base Values'!$B$16,0))","v":""},{"$f":"IF(LEN(B136)=0,\"\",ROUND(E136/2000*'Base Values'!$B$10,0))","v":""},"",{"$f":"IF(OR(LEN(B136)=0,LEN(C136)=0),\"\",ROUND(B136/(C136/100)*'Base Values'!$B$12/100,0))","v":""},{"$f":"IF(LEN(B136)=0,\"\",ROUND(B136*'Base Values'!$B$14,0))","v":""},""]
[{"$f":"IF(LEN('HVI Quality Data'!A137)>0,'HVI Quality Data'!A137,\"\")","v":""},null,null,{"$f":"IF(LEN(B137)=0,\"\",ROUND($B137*'HVI Quality Data'!R137/100,0))","v":""},{"$f":"IF(LEN(B137)=0,\"\",ROUND(B137*'Base Values'!$B$16,0))","v":""},{"$f":"IF(LEN(B137)=0,\"\",ROUND(E137/2000*'Base Values'!$B$10,0))","v":""},"",{"$f":"IF(OR(LEN(B137)=0,LEN(C137)=0),\"\",ROUND(B137/(C137/100)*'Base Values'!$B$12/100,0))","v":""},{"$f":"IF(LEN(B137)=0,\"\",ROUND(B137*'Base Values'!$B$14,0))","v":""},""]
[{"$f":"IF(LEN('HVI Quality Data'!A138)>0,'HVI Quality Data'!A138,\"\")","v":""},null,null,{"$f":"IF(LEN(B138)=0,\"\",ROUND($B138*'HVI Quality Data'!R138/100,0))","v":""},{"$f":"IF(LEN(B138)=0,\"\",ROUND(B138*'Base Values'!$B$16,0))","v":""},{"$f":"IF(LEN(B138)=0,\"\",ROUND(E138/2000*'Base Values'!$B$10,0))","v":""},"",{"$f":"IF(OR(LEN(B138)=0,LEN(C138)=0),\"\",ROUND(B138/(C138/100)*'Base Values'!$B$12/100,0))","v":""},{"$f":"IF(LEN(B138)=0,\"\",ROUND(B138*'Base Values'!$B$14,0))","v":""},""]
[{"$f":"IF(LEN('HVI Quality Data'!A139)>0,'HVI Quality Data'!A139,\"\")","v":""},null,null,{"$f":"IF(LEN(B139)=0,\"\",ROUND($B139*'HVI Quality Data'!R139/100,0))","v":""},{"$f":"IF(LEN(B139)=0,\"\",ROUND(B139*'Base Values'!$B$16,0))","v":""},{"$f":"IF(LEN(B139)=0,\"\",ROUND(E139/2000*'Base Values'!$B$10,0))","v":""},"",{"$f":"IF(OR(LEN(B139)=0,LEN(C139)=0),\"\",ROUND(B139/(C139/100)*'Base Values'!$B$12/100,0))","v":""},{"$f":"IF(LEN(B139)=0,\"\",ROUND(B139*'Base Values'!$B$14,0))","v":""},""]
[{"$f":"IF(LEN('HVI Quality Data'!A140)>0,'HVI Quality Data'!A140,\"\")","v":""},null,null,{"$f":"IF(LEN(B140)=0,\"\",ROUND($B140*'HVI Quality Data'!R140/100,0))","v":""},{"$f":"IF(LEN(B140)=0,\"\",ROUND(B140*'Base Values'!$B$16,0))","v":""},{"$f":"IF(LEN(B140)=0,\"\",ROUND(E140/2000*'Base Values'!$B$10,0))","v":""},"",{"$f":"IF(OR(LEN(B140)=0,LEN(C140)=0),\"\",ROUND(B140/(C140/100)*'Base Values'!$B$12/100,0))","v":""},{"$f":"IF(LEN(B140)=0,\"\",ROUND(B140*'Base Values'!$B$14,0))","v":""},""]
[{"$f":"IF(LEN('HVI Quality Data'!A141)>0,'HVI Quality Data'!A141,\"\")","v":""},null,null,{"$f":"IF(LEN(B141)=0,\"\",ROUND($B141*'HVI Quality Data'!R141/100,0))","v":""},{"$f":"IF(LEN(B141)=0,\"\",ROUND(B141*'Base Values'!$B$16,0))","v":""},{"$f":"IF(LEN(B141)=0,\"\",ROUND(E141/2000*'Base Values'!$B$10,0))","v":""},"",{"$f":"IF(OR(LEN(B141)=0,LEN(C141)=0),\"\",ROUND(B141/(C141/100)*'Base Values'!$B$12/100,0))","v":""},{"$f":"IF(LEN(B141)=0,\"\",ROUND(B141*'Base Values'!$B$14,0))","v":""},""]
[{"$f":"IF(LEN('HVI Quality Data'!A142)>0,'HVI Quality Data'!A142,\"\")","v":""},null,null,{"$f":"IF(LEN(B142)=0,\"\",ROUND($B142*'HVI Quality Data'!R142/100,0))","v":""},{"$f":"IF(LEN(B142)=0,\"\",ROUND(B142*'Base Values'!$B$16,0))","v":""},{"$f":"IF(LEN(B142)=0,\"\",ROUND(E142/2000*'Base Values'!$B$10,0))","v":""},"",{"$f":"IF(OR(LEN(B142)=0,LEN(C142)=0),\"\",ROUND(B142/(C142/100)*'Base Values'!$B$12/100,0))","v":""},{"$f":"IF(LEN(B142)=0,\"\",ROUND(B142*'Base Values'!$B$14,0))","v":""},""]
[{"$f":"IF(LEN('HVI Quality Data'!A143)>0,'HVI Quality Data'!A143,\"\")","v":""},null,null,{"$f":"IF(LEN(B143)=0,\"\",ROUND($B143*'HVI Quality Data'!R143/100,0))","v":""},{"$f":"IF(LEN(B143)=0,\"\",ROUND(B143*'Base Values'!$B$16,0))","v":""},{"$f":"IF(LEN(B143)=0,\"\",ROUND(E143/2000*'Base Values'!$B$10,0))","v":""},"",{"$f":"IF(OR(LEN(B143)=0,LEN(C143)=0),\"\",ROUND(B143/(C143/100)*'Base Values'!$B$12/100,0))","v":""},{"$f":"IF(LEN(B143)=0,\"\",ROUND(B143*'Base Values'!$B$14,0))","v":""},""]
[{"$f":"IF(LEN('HVI Quality Data'!A144)>0,'HVI Quality Data'!A144,\"\")","v":""},null,null,{"$f":"IF(LEN(B144)=0,\"\",ROUND($B144*'HVI Quality Data'!R144/100,0))","v":""},{"$f":"IF(LEN(B144)=0,\"\",ROUND(B144*'Base Values'!$B$16,0))","v":""},{"$f":"IF(LEN(B144)=0,\"\",ROUND(E144/2000*'Base Values'!$B$10,0))","v":""},{"$f":"IF(LEN(B144)=0,\"\",SUM(D144,F144))","v":""},{"$f":"IF(OR(LEN(B144)=0,LEN(C144)=0),\"\",ROUND(B144/(C144/100)*'Base Values'!$B$12/100,0))","v":""},{"$f":"IF(LEN(B144)=0,\"\",ROUND(B144*'Base Values'!$B$14,0))","v":""},{"$f":"IF(OR(LEN(B144)=0,LEN(C144)=0),\"\",G144-H144-I144)","v":""}]
[{"$f":"IF(LEN('HVI Quality Data'!A145)>0,'HVI Quality Data'!A145,\"\")","v":""},null,null,{"$f":"IF(LEN(B145)=0,\"\",ROUND($B145*'HVI Quality Data'!R145/100,0))","v":""},{"$f":"IF(LEN(B145)=0,\"\",ROUND(B145*'Base Values'!$B$16,0))","v":""},{"$f":"IF(LEN(B145)=0,\"\",ROUND(E145/2000*'Base Values'!$B$10,0))","v":""},"",{"$f":"IF(OR(LEN(B145)=0,LEN(C145)=0),\"\",ROUND(B145/(C145/100)*'Base Values'!$B$12/100,0))","v":""},{"$f":"IF(LEN(B145)=0,\"\",ROUND(B145*'Base Values'!$B$14,0))","v":""},""]
[{"$f":"IF(LEN('HVI Quality Data'!A146)>0,'HVI Quality Data'!A146,\"\")","v":""},null,null,{"$f":"IF(LEN(B146)=0,\"\",ROUND($B146*'HVI Quality Data'!R146/100,0))","v":""},{"$f":"IF(LEN(B146)=0,\"\",ROUND(B146*'Base Values'!$B$16,0))","v":""},{"$f":"IF(LEN(B146)=0,\"\",ROUND(E146/2000*'Base Values'!$B$10,0))","v":""},"",{"$f":"IF(OR(LEN(B146)=0,LEN(C146)=0),\"\",ROUND(B146/(C146/100)*'Base Values'!$B$12/100,0))","v":""},{"$f":"IF(LEN(B146)=0,\"\",ROUND(B146*'Base Values'!$B$14,0))","v":""},""]
[{"$f":"IF(LEN('HVI Quality Data'!A147)>0,'HVI Quality Data'!A147,\"\")","v":""},null,null,{"$f":"IF(LEN(B147)=0,\"\",ROUND($B147*'HVI Quality Data'!R147/100,0))","v":""},{"$f":"IF(LEN(B147)=0,\"\",ROUND(B147*'Base Values'!$B$16,0))","v":""},{"$f":"IF(LEN(B147)=0,\"\",ROUND(E147/2000*'Base Values'!$B$10,0))","v":""},"",{"$f":"IF(OR(LEN(B147)=0,LEN(C147)=0),\"\",ROUND(B147/(C147/100)*'Base Values'!$B$12/100,0))","v":""},{"$f":"IF(LEN(B147)=0,\"\",ROUND(B147*'Base Values'!$B$14,0))","v":""},""]
[{"$f":"IF(LEN('HVI Quality Data'!A148)>0,'HVI Quality Data'!A148,\"\")","v":""},null,null,{"$f":"IF(LEN(B148)=0,\"\",ROUND($B148*'HVI Quality Data'!R148/100,0))","v":""},{"$f":"IF(LEN(B148)=0,\"\",ROUND(B148*'Base Values'!$B$16,0))","v":""},{"$f":"IF(LEN(B148)=0,\"\",ROUND(E148/2000*'Base Values'!$B$10,0))","v":""},"",{"$f":"IF(OR(LEN(B148)=0,LEN(C148)=0),\"\",ROUND(B148/(C148/100)*'Base Values'!$B$12/100,0))","v":""},{"$f":"IF(LEN(B148)=0,\"\",ROUND(B148*'Base Values'!$B$14,0))","v":""},""]
[{"$f":"IF(LEN('HVI Quality Data'!A149)>0,'HVI Quality Data'!A149,\"\")","v":""},null,null,{"$f":"IF(LEN(B149)=0,\"\",ROUND($B149*'HVI Quality Data'!R149/100,0))","v":""},{"$f":"IF(LEN(B149)=0,\"\",ROUND(B149*'Base Values'!$B$16,0))","v":""},{"$f":"IF(LEN(B149)=0,\"\",ROUND(E149/2000*'Base Values'!$B$10,0))","v":""},"",{"$f":"IF(OR(LEN(B149)=0,LEN(C149)=0),\"\",ROUND(B149/(C149/100)*'Base Values'!$B$12/100,0))","v":""},{"$f":"IF(LEN(B149)=0,\"\",ROUND(B149*'Base Values'!$B$14,0))","v":""},""]
[{"$f":"IF(LEN('HVI Quality Data'!A150)>0,'HVI Quality Data'!A150,\"\")","v":""},null,null,{"$f":"IF(LEN(B150)=0,\"\",ROUND($B150*'HVI Quality Data'!R150/100,0))","v":""},{"$f":"IF(LEN(B150)=0,\"\",ROUND(B150*'Base Values'!$B$16,0))","v":""},{"$f":"IF(LEN(B150)=0,\"\",ROUND(E150/2000*'Base Values'!$B$10,0))","v":""},"",{"$f":"IF(OR(LEN(B150)=0,LEN(C150)=0),\"\",ROUND(B150/(C150/100)*'Base Values'!$B$12/100,0))","v":""},{"$f":"IF(LEN(B150)=0,\"\",ROUND(B150*'Base Values'!$B$14,0))","v":""},""]
[{"$f":"IF(LEN('HVI Quality Data'!A151)>0,'HVI Quality Data'!A151,\"\")","v":""},null,null,{"$f":"IF(LEN(B151)=0,\"\",ROUND($B151*'HVI Quality Data'!R151/100,0))","v":""},{"$f":"IF(LEN(B151)=0,\"\",ROUND(B151*'Base Values'!$B$16,0))","v":""},{"$f":"IF(LEN(B151)=0,\"\",ROUND(E151/2000*'Base Values'!$B$10,0))","v":""},"",{"$f":"IF(OR(LEN(B151)=0,LEN(C151)=0),\"\",ROUND(B151/(C151/100)*'Base Values'!$B$12/100,0))","v":""},{"$f":"IF(LEN(B151)=0,\"\",ROUND(B151*'Base Values'!$B$14,0))","v":""},""]
[{"$f":"IF(LEN('HVI Quality Data'!A152)>0,'HVI Quality Data'!A152,\"\")","v":""},null,null,{"$f":"IF(LEN(B152)=0,\"\",ROUND($B152*'HVI Quality Data'!R152/100,0))","v":""},{"$f":"IF(LEN(B152)=0,\"\",ROUND(B152*'Base Values'!$B$16,0))","v":""},{"$f":"IF(LEN(B152)=0,\"\",ROUND(E152/2000*'Base Values'!$B$10,0))","v":""},"",{"$f":"IF(OR(LEN(B152)=0,LEN(C152)=0),\"\",ROUND(B152/(C152/100)*'Base Values'!$B$12/100,0))","v":""},{"$f":"IF(LEN(B152)=0,\"\",ROUND(B152*'Base Values'!$B$14,0))","v":""},""]
[{"$f":"IF(LEN('HVI Quality Data'!A153)>0,'HVI Quality Data'!A153,\"\")","v":""},null,null,{"$f":"IF(LEN(B153)=0,\"\",ROUND($B153*'HVI Quality Data'!R153/100,0))","v":""},{"$f":"IF(LEN(B153)=0,\"\",ROUND(B153*'Base Values'!$B$16,0))","v":""},{"$f":"IF(LEN(B153)=0,\"\",ROUND(E153/2000*'Base Values'!$B$10,0))","v":""},"",{"$f":"IF(OR(LEN(B153)=0,LEN(C153)=0),\"\",ROUND(B153/(C153/100)*'Base Values'!$B$12/100,0))","v":""},{"$f":"IF(LEN(B153)=0,\"\",ROUND(B153*'Base Values'!$B$14,0))","v":""},""]
[{"$f":"IF(LEN('HVI Quality Data'!A154)>0,'HVI Quality Data'!A154,\"\")","v":""},null,null,{"$f":"IF(LEN(B154)=0,\"\",ROUND($B154*'HVI Quality Data'!R154/100,0))","v":""},{"$f":"IF(LEN(B154)=0,\"\",ROUND(B154*'Base Values'!$B$16,0))","v":""},{"$f":"IF(LEN(B154)=0,\"\",ROUND(E154/2000*'Base Values'!$B$10,0))","v":""},"",{"$f":"IF(OR(LEN(B154)=0,LEN(C154)=0),\"\",ROUND(B154/(C154/100)*'Base Values'!$B$12/100,0))","v":""},{"$f":"IF(LEN(B154)=0,\"\",ROUND(B154*'Base Values'!$B$14,0))","v":""},""]
[{"$f":"IF(LEN('HVI Quality Data'!A155)>0,'HVI Quality Data'!A155,\"\")","v":""},null,null,{"$f":"IF(LEN(B155)=0,\"\",ROUND($B155*'HVI Quality Data'!R155/100,0))","v":""},{"$f":"IF(LEN(B155)=0,\"\",ROUND(B155*'Base Values'!$B$16,0))","v":""},{"$f":"IF(LEN(B155)=0,\"\",ROUND(E155/2000*'Base Values'!$B$10,0))","v":""},"",{"$f":"IF(OR(LEN(B155)=0,LEN(C155)=0),\"\",ROUND(B155/(C155/100)*'Base Values'!$B$12/100,0))","v":""},{"$f":"IF(LEN(B155)=0,\"\",ROUND(B155*'Base Values'!$B$14,0))","v":""},""]
[{"$f":"IF(LEN('HVI Quality Data'!A156)>0,'HVI Quality Data'!A156,\"\")","v":""},null,null,{"$f":"IF(LEN(B156)=0,\"\",ROUND($B156*'HVI Quality Data'!R156/100,0))","v":""},{"$f":"IF(LEN(B156)=0,\"\",ROUND(B156*'Base Values'!$B$16,0))","v":""},{"$f":"IF(LEN(B156)=0,\"\",ROUND(E156/2000*'Base Values'!$B$10,0))","v":""},"",{"$f":"IF(OR(LEN(B156)=0,LEN(C156)=0),\"\",ROUND(B156/(C156/100)*'Base Values'!$B$12/100,0))","v":""},{"$f":"IF(LEN(B156)=0,\"\",ROUND(B156*'Base Values'!$B$14,0))","v":""},""]
[{"$f":"IF(LEN('HVI Quality Data'!A157)>0,'HVI Quality Data'!A157,\"\")","v":""},null,null,{"$f":"IF(LEN(B157)=0,\"\",ROUND($B157*'HVI Quality Data'!R157/100,0))","v":""},{"$f":"IF(LEN(B157)=0,\"\",ROUND(B157*'Base Values'!$B$16,0))","v":""},{"$f":"IF(LEN(B157)=0,\"\",ROUND(E157/2000*'Base Values'!$B$10,0))","v":""},"",{"$f":"IF(OR(LEN(B157)=0,LEN(C157)=0),\"\",ROUND(B157/(C157/100)*'Base Values'!$B$12/100,0))","v":""},{"$f":"IF(LEN(B157)=0,\"\",ROUND(B157*'Base Values'!$B$14,0))","v":""},""]
[{"$f":"IF(LEN('HVI Quality Data'!A158)>0,'HVI Quality Data'!A158,\"\")","v":""},null,null,{"$f":"IF(LEN(B158)=0,\"\",ROUND($B158*'HVI Quality Data'!R158/100,0))","v":""},{"$f":"IF(LEN(B158)=0,\"\",ROUND(B158*'Base Values'!$B$16,0))","v":""},{"$f":"IF(LEN(B158)=0,\"\",ROUND(E158/2000*'Base Values'!$B$10,0))","v":""},"",{"$f":"IF(OR(LEN(B158)=0,LEN(C158)=0),\"\",ROUND(B158/(C158/100)*'Base Values'!$B$12/100,0))","v":""},{"$f":"IF(LEN(B158)=0,\"\",ROUND(B158*'Base Values'!$B$14,0))","v":""},""]
[{"$f":"IF(LEN('HVI Quality Data'!A159)>0,'HVI Quality Data'!A159,\"\")","v":""},null,null,{"$f":"IF(LEN(B159)=0,\"\",ROUND($B159*'HVI Quality Data'!R159/100,0))","v":""},{"$f":"IF(LEN(B159)=0,\"\",ROUND(B159*'Base Values'!$B$16,0))","v":""},{"$f":"IF(LEN(B159)=0,\"\",ROUND(E159/2000*'Base Values'!$B$10,0))","v":""},"",{"$f":"IF(OR(LEN(B159)=0,LEN(C159)=0),\"\",ROUND(B159/(C159/100)*'Base Values'!$B$12/100,0))","v":""},{"$f":"IF(LEN(B159)=0,\"\",ROUND(B159*'Base Values'!$B$14,0))","v":""},""]
[{"$f":"IF(LEN('HVI Quality Data'!A160)>0,'HVI Quality Data'!A160,\"\")","v":""},null,null,{"$f":"IF(LEN(B160)=0,\"\",ROUND($B160*'HVI Quality Data'!R160/100,0))","v":""},{"$f":"IF(LEN(B160)=0,\"\",ROUND(B160*'Base Values'!$B$16,0))","v":""},{"$f":"IF(LEN(B160)=0,\"\",ROUND(E160/2000*'Base Values'!$B$10,0))","v":""},"",{"$f":"IF(OR(LEN(B160)=0,LEN(C160)=0),\"\",ROUND(B160/(C160/100)*'Base Values'!$B$12/100,0))","v":""},{"$f":"IF(LEN(B160)=0,\"\",ROUND(B160*'Base Values'!$B$14,0))","v":""},""]
[{"$f":"IF(LEN('HVI Quality Data'!A161)>0,'HVI Quality Data'!A161,\"\")","v":""},null,null,{"$f":"IF(LEN(B161)=0,\"\",ROUND($B161*'HVI Quality Data'!R161/100,0))","v":""},{"$f":"IF(LEN(B161)=0,\"\",ROUND(B161*'Base Values'!$B$16,0))","v":""},{"$f":"IF(LEN(B161)=0,\"\",ROUND(E161/2000*'Base Values'!$B$10,0))","v":""},"",{"$f":"IF(OR(LEN(B161)=0,LEN(C161)=0),\"\",ROUND(B161/(C161/100)*'Base Values'!$B$12/100,0))","v":""},{"$f":"IF(LEN(B161)=0,\"\",ROUND(B161*'Base Values'!$B$14,0))","v":""},""]
[{"$f":"IF(LEN('HVI Quality Data'!A162)>0,'HVI Quality Data'!A162,\"\")","v":""},null,null,{"$f":"IF(LEN(B162)=0,\"\",ROUND($B162*'HVI Quality Data'!R162/100,0))","v":""},{"$f":"IF(LEN(B162)=0,\"\",ROUND(B162*'Base Values'!$B$16,0))","v":""},{"$f":"IF(LEN(B162)=0,\"\",ROUND(E162/2000*'Base Values'!$B$10,0))","v":""},"",{"$f":"IF(OR(LEN(B162)=0,LEN(C162)=0),\"\",ROUND(B162/(C162/100)*'Base Values'!$B$12/100,0))","v":""},{"$f":"IF(LEN(B162)=0,\"\",ROUND(B162*'Base Values'!$B$14,0))","v":""},""]
[{"$f":"IF(LEN('HVI Quality Data'!A163)>0,'HVI Quality Data'!A163,\"\")","v":""},null,null,{"$f":"IF(LEN(B163)=0,\"\",ROUND($B163*'HVI Quality Data'!R163/100,0))","v":""},{"$f":"IF(LEN(B163)=0,\"\",ROUND(B163*'Base Values'!$B$16,0))","v":""},{"$f":"IF(LEN(B163)=0,\"\",ROUND(E163/2000*'Base Values'!$B$10,0))","v":""},"",{"$f":"IF(OR(LEN(B163)=0,LEN(C163)=0),\"\",ROUND(B163/(C163/100)*'Base Values'!$B$12/100,0))","v":""},{"$f":"IF(LEN(B163)=0,\"\",ROUND(B163*'Base Values'!$B$14,0))","v":""},""]
[{"$f":"IF(LEN('HVI Quality Data'!A164)>0,'HVI Quality Data'!A164,\"\")","v":""},null,null,{"$f":"IF(LEN(B164)=0,\"\",ROUND($B164*'HVI Quality Data'!R164/100,0))","v":""},{"$f":"IF(LEN(B164)=0,\"\",ROUND(B164*'Base Values'!$B$16,0))","v":""},{"$f":"IF(LEN(B164)=0,\"\",ROUND(E164/2000*'Base Values'!$B$10,0))","v":""},"",{"$f":"IF(OR(LEN(B164)=0,LEN(C164)=0),\"\",ROUND(B164/(C164/100)*'Base Values'!$B$12/100,0))","v":""},{"$f":"IF(LEN(B164)=0,\"\",ROUND(B164*'Base Values'!$B$14,0))","v":""},""]
[{"$f":"IF(LEN('HVI Quality Data'!A165)>0,'HVI Quality Data'!A165,\"\")","v":""},null,null,{"$f":"IF(LEN(B165)=0,\"\",ROUND($B165*'HVI Quality Data'!R165/100,0))","v":""},{"$f":"IF(LEN(B165)=0,\"\",ROUND(B165*'Base Values'!$B$16,0))","v":""},{"$f":"IF(LEN(B165)=0,\"\",ROUND(E165/2000*'Base Values'!$B$10,0))","v":""},"",{"$f":"IF(OR(LEN(B165)=0,LEN(C165)=0),\"\",ROUND(B165/(C165/100)*'Base Values'!$B$12/100,0))","v":""},{"$f":"IF(LEN(B165)=0,\"\",ROUND(B165*'Base Values'!$B$14,0))","v":""},""]
[{"$f":"IF(LEN('HVI Quality Data'!A166)>0,'HVI Quality Data'!A166,\"\")","v":""},null,null,{"$f":"IF(LEN(B166)=0,\"\",ROUND($B166*'HVI Quality Data'!R166/100,0))","v":""},{"$f":"IF(LEN(B166)=0,\"\",ROUND(B166*'Base Values'!$B$16,0))","v":""},{"$f":"IF(LEN(B166)=0,\"\",ROUND(E166/2000*'Base Values'!$B$10,0))","v":""},"",{"$f":"IF(OR(LEN(B166)=0,LEN(C166)=0),\"\",ROUND(B166/(C166/100)*'Base Values'!$B$12/100,0))","v":""},{"$f":"IF(LEN(B166)=0,\"\",ROUND(B166*'Base Values'!$B$14,0))","v":""},""]
[{"$f":"IF(LEN('HVI Quality Data'!A167)>0,'HVI Quality Data'!A167,\"\")","v":""},null,null,{"$f":"IF(LEN(B167)=0,\"\",ROUND($B167*'HVI Quality Data'!R167/100,0))","v":""},{"$f":"IF(LEN(B167)=0,\"\",ROUND(B167*'Base Values'!$B$16,0))","v":""},{"$f":"IF(LEN(B167)=0,\"\",ROUND(E167/2000*'Base Values'!$B$10,0))","v":""},"",{"$f":"IF(OR(LEN(B167)=0,LEN(C167)=0),\"\",ROUND(B167/(C167/100)*'Base Values'!$B$12/100,0))","v":""},{"$f":"IF(LEN(B167)=0,\"\",ROUND(B167*'Base Values'!$B$14,0))","v":""},""]
[{"$f":"IF(LEN('HVI Quality Data'!A168)>0,'HVI Quality Data'!A168,\"\")","v":""},null,null,{"$f":"IF(LEN(B168)=0,\"\",ROUND($B168*'HVI Quality Data'!R168/100,0))","v":""},{"$f":"IF(LEN(B168)=0,\"\",ROUND(B168*'Base Values'!$B$16,0))","v":""},{"$f":"IF(LEN(B168)=0,\"\",ROUND(E168/2000*'Base Values'!$B$10,0))","v":""},"",{"$f":"IF(OR(LEN(B168)=0,LEN(C168)=0),\"\",ROUND(B168/(C168/100)*'Base Values'!$B$12/100,0))","v":""},{"$f":"IF(LEN(B168)=0,\"\",ROUND(B168*'Base Values'!$B$14,0))","v":""},""]
[{"$f":"IF(LEN('HVI Quality Data'!A169)>0,'HVI Quality Data'!A169,\"\")","v":""},null,null,{"$f":"IF(LEN(B169)=0,\"\",ROUND($B169*'HVI Quality Data'!R169/100,0))","v":""},{"$f":"IF(LEN(B169)=0,\"\",ROUND(B169*'Base Values'!$B$16,0))","v":""},{"$f":"IF(LEN(B169)=0,\"\",ROUND(E169/2000*'Base Values'!$B$10,0))","v":""},"",{"$f":"IF(OR(LEN(B169)=0,LEN(C169)=0),\"\",ROUND(B169/(C169/100)*'Base Values'!$B$12/100,0))","v":""},{"$f":"IF(LEN(B169)=0,\"\",ROUND(B169*'Base Values'!$B$14,0))","v":""},""]
[{"$f":"IF(LEN('HVI Quality Data'!A170)>0,'HVI Quality Data'!A170,\"\")","v":""},null,null,{"$f":"IF(LEN(B170)=0,\"\",ROUND($B170*'HVI Quality Data'!R170/100,0))","v":""},{"$f":"IF(LEN(B170)=0,\"\",ROUND(B170*'Base Values'!$B$16,0))","v":""},{"$f":"IF(LEN(B170)=0,\"\",ROUND(E170/2000*'Base Values'!$B$10,0))","v":""},"",{"$f":"IF(OR(LEN(B170)=0,LEN(C170)=0),\"\",ROUND(B170/(C170/100)*'Base Values'!$B$12/100,0))","v":""},{"$f":"IF(LEN(B170)=0,\"\",ROUND(B170*'Base Values'!$B$14,0))","v":""},""]
[{"$f":"IF(LEN('HVI Quality Data'!A171)>0,'HVI Quality Data'!A171,\"\")","v":""},null,null,{"$f":"IF(LEN(B171)=0,\"\",ROUND($B171*'HVI Quality Data'!R171/100,0))","v":""},{"$f":"IF(LEN(B171)=0,\"\",ROUND(B171*'Base Values'!$B$16,0))","v":""},{"$f":"IF(LEN(B171)=0,\"\",ROUND(E171/2000*'Base Values'!$B$10,0))","v":""},"",{"$f":"IF(OR(LEN(B171)=0,LEN(C171)=0),\"\",ROUND(B171/(C171/100)*'Base Values'!$B$12/100,0))","v":""},{"$f":"IF(LEN(B171)=0,\"\",ROUND(B171*'Base Values'!$B$14,0))","v":""},""]
[{"$f":"IF(LEN('HVI Quality Data'!A172)>0,'HVI Quality Data'!A172,\"\")","v":""},null,null,{"$f":"IF(LEN(B172)=0,\"\",ROUND($B172*'HVI Quality Data'!R172/100,0))","v":""},{"$f":"IF(LEN(B172)=0,\"\",ROUND(B172*'Base Values'!$B$16,0))","v":""},{"$f":"IF(LEN(B172)=0,\"\",ROUND(E172/2000*'Base Values'!$B$10,0))","v":""},"",{"$f":"IF(OR(LEN(B172)=0,LEN(C172)=0),\"\",ROUND(B172/(C172/100)*'Base Values'!$B$12/100,0))","v":""},{"$f":"IF(LEN(B172)=0,\"\",ROUND(B172*'Base Values'!$B$14,0))","v":""},""]
[{"$f":"IF(LEN('HVI Quality Data'!A173)>0,'HVI Quality Data'!A173,\"\")","v":""},null,null,{"$f":"IF(LEN(B173)=0,\"\",ROUND($B173*'HVI Quality Data'!R173/100,0))","v":""},{"$f":"IF(LEN(B173)=0,\"\",ROUND(B173*'Base Values'!$B$16,0))","v":""},{"$f":"IF(LEN(B173)=0,\"\",ROUND(E173/2000*'Base Values'!$B$10,0))","v":""},"",{"$f":"IF(OR(LEN(B173)=0,LEN(C173)=0),\"\",ROUND(B173/(C173/100)*'Base Values'!$B$12/100,0))","v":""},{"$f":"IF(LEN(B173)=0,\"\",ROUND(B173*'Base Values'!$B$14,0))","v":""},""]
[{"$f":"IF(LEN('HVI Quality Data'!A174)>0,'HVI Quality Data'!A174,\"\")","v":""},null,null,{"$f":"IF(LEN(B174)=0,\"\",ROUND($B174*'HVI Quality Data'!R174/100,0))","v":""},{"$f":"IF(LEN(B174)=0,\"\",ROUND(B174*'Base Values'!$B$16,0))","v":""},{"$f":"IF(LEN(B174)=0,\"\",ROUND(E174/2000*'Base Values'!$B$10,0))","v":""},"",{"$f":"IF(OR(LEN(B174)=0,LEN(C174)=0),\"\",ROUND(B174/(C174/100)*'Base Values'!$B$12/100,0))","v":""},{"$f":"IF(LEN(B174)=0,\"\",ROUND(B174*'Base Values'!$B$14,0))","v":""},""]
[{"$f":"IF(LEN('HVI Quality Data'!A175)>0,'HVI Quality Data'!A175,\"\")","v":""},null,null,{"$f":"IF(LEN(B175)=0,\"\",ROUND($B175*'HVI Quality Data'!R175/100,0))","v":""},{"$f":"IF(LEN(B175)=0,\"\",ROUND(B175*'Base Values'!$B$16,0))","v":""},{"$f":"IF(LEN(B175)=0,\"\",ROUND(E175/2000*'Base Values'!$B$10,0))","v":""},"",{"$f":"IF(OR(LEN(B175)=0,LEN(C175)=0),\"\",ROUND(B175/(C175/100)*'Base Values'!$B$12/100,0))","v":""},{"$f":"IF(LEN(B175)=0,\"\",ROUND(B175*'Base Values'!$B$14,0))","v":""},""]
[{"$f":"IF(LEN('HVI Quality Data'!A176)>0,'HVI Quality Data'!A176,\"\")","v":""},null,null,{"$f":"IF(LEN(B176)=0,\"\",ROUND($B176*'HVI Quality Data'!R176/100,0))","v":""},{"$f":"IF(LEN(B176)=0,\"\",ROUND(B176*'Base Values'!$B$16,0))","v":""},{"$f":"IF(LEN(B176)=0,\"\",ROUND(E176/2000*'Base Values'!$B$10,0))","v":""},"",{"$f":"IF(OR(LEN(B176)=0,LEN(C176)=0),\"\",ROUND(B176/(C176/100)*'Base Values'!$B$12/100,0))","v":""},{"$f":"IF(LEN(B176)=0,\"\",ROUND(B176*'Base Values'!$B$14,0))","v":""},""]
[{"$f":"IF(LEN('HVI Quality Data'!A177)>0,'HVI Quality Data'!A177,\"\")","v":""},null,null,{"$f":"IF(LEN(B177)=0,\"\",ROUND($B177*'HVI Quality Data'!R177/100,0))","v":""},{"$f":"IF(LEN(B177)=0,\"\",ROUND(B177*'Base Values'!$B$16,0))","v":""},{"$f":"IF(LEN(B177)=0,\"\",ROUND(E177/2000*'Base Values'!$B$10,0))","v":""},"",{"$f":"IF(OR(LEN(B177)=0,LEN(C177)=0),\"\",ROUND(B177/(C177/100)*'Base Values'!$B$12/100,0))","v":""},{"$f":"IF(LEN(B177)=0,\"\",ROUND(B177*'Base Values'!$B$14,0))","v":""},""]
[{"$f":"IF(LEN('HVI Quality Data'!A178)>0,'HVI Quality Data'!A178,\"\")","v":""},null,null,{"$f":"IF(LEN(B178)=0,\"\",ROUND($B178*'HVI Quality Data'!R178/100,0))","v":""},{"$f":"IF(LEN(B178)=0,\"\",ROUND(B178*'Base Values'!$B$16,0))","v":""},{"$f":"IF(LEN(B178)=0,\"\",ROUND(E178/2000*'Base Values'!$B$10,0))","v":""},"",{"$f":"IF(OR(LEN(B178)=0,LEN(C178)=0),\"\",ROUND(B178/(C178/100)*'Base Values'!$B$12/100,0))","v":""},{"$f":"IF(LEN(B178)=0,\"\",ROUND(B178*'Base Values'!$B$14,0))","v":""},""]
[{"$f":"IF(LEN('HVI Quality Data'!A179)>0,'HVI Quality Data'!A179,\"\")","v":""},null,null,{"$f":"IF(LEN(B179)=0,\"\",ROUND($B179*'HVI Quality Data'!R179/100,0))","v":""},{"$f":"IF(LEN(B179)=0,\"\",ROUND(B179*'Base Values'!$B$16,0))","v":""},{"$f":"IF(LEN(B179)=0,\"\",ROUND(E179/2000*'Base Values'!$B$10,0))","v":""},"",{"$f":"IF(OR(LEN(B179)=0,LEN(C179)=0),\"\",ROUND(B179/(C179/100)*'Base Values'!$B$12/100,0))","v":""},{"$f":"IF(LEN(B179)=0,\"\",ROUND(B179*'Base Values'!$B$14,0))","v":""},""]
[{"$f":"IF(LEN('HVI Quality Data'!A180)>0,'HVI Quality Data'!A180,\"\")","v":""},null,null,{"$f":"IF(LEN(B180)=0,\"\",ROUND($B180*'HVI Quality Data'!R180/100,0))","v":""},{"$f":"IF(LEN(B180)=0,\"\",ROUND(B180*'Base Values'!$B$16,0))","v":""},{"$f":"IF(LEN(B180)=0,\"\",ROUND(E180/2000*'Base Values'!$B$10,0))","v":""},"",{"$f":"IF(OR(LEN(B180)=0,LEN(C180)=0),\"\",ROUND(B180/(C180/100)*'Base Values'!$B$12/100,0))","v":""},{"$f":"IF(LEN(B180)=0,\"\",ROUND(B180*'Base Values'!$B$14,0))","v":""},""]
[{"$f":"IF(LEN('HVI Quality Data'!A181)>0,'HVI Quality Data'!A181,\"\")","v":""},null,null,{"$f":"IF(LEN(B181)=0,\"\",ROUND($B181*'HVI Quality Data'!R181/100,0))","v":""},{"$f":"IF(LEN(B181)=0,\"\",ROUND(B181*'Base Values'!$B$16,0))","v":""},{"$f":"IF(LEN(B181)=0,\"\",ROUND(E181/2000*'Base Values'!$B$10,0))","v":""},"",{"$f":"IF(OR(LEN(B181)=0,LEN(C181)=0),\"\",ROUND(B181/(C181/100)*'Base Values'!$B$12/100,0))","v":""},{"$f":"IF(LEN(B181)=0,\"\",ROUND(B181*'Base Values'!$B$14,0))","v":""},""]
[{"$f":"IF(LEN('HVI Quality Data'!A182)>0,'HVI Quality Data'!A182,\"\")","v":""},null,null,{"$f":"IF(LEN(B182)=0,\"\",ROUND($B182*'HVI Quality Data'!R182/100,0))","v":""},{"$f":"IF(LEN(B182)=0,\"\",ROUND(B182*'Base Values'!$B$16,0))","v":""},{"$f":"IF(LEN(B182)=0,\"\",ROUND(E182/2000*'Base Values'!$B$10,0))","v":""},"",{"$f":"IF(OR(LEN(B182)=0,LEN(C182)=0),\"\",ROUND(B182/(C182/100)*'Base Values'!$B$12/100,0))","v":""},{"$f":"IF(LEN(B182)=0,\"\",ROUND(B182*'Base Values'!$B$14,0))","v":""},""]
[{"$f":"IF(LEN('HVI Quality Data'!A183)>0,'HVI Quality Data'!A183,\"\")","v":""},null,null,{"$f":"IF(LEN(B183)=0,\"\",ROUND($B183*'HVI Quality Data'!R183/100,0))","v":""},{"$f":"IF(LEN(B183)=0,\"\",ROUND(B183*'Base Values'!$B$16,0))","v":""},{"$f":"IF(LEN(B183)=0,\"\",ROUND(E183/2000*'Base Values'!$B$10,0))","v":""},"",{"$f":"IF(OR(LEN(B183)=0,LEN(C183)=0),\"\",ROUND(B183/(C183/100)*'Base Values'!$B$12/100,0))","v":""},{"$f":"IF(LEN(B183)=0,\"\",ROUND(B183*'Base Values'!$B$14,0))","v":""},""]
[{"$f":"IF(LEN('HVI Quality Data'!A184)>0,'HVI Quality Data'!A184,\"\")","v":""},null,null,{"$f":"IF(LEN(B184)=0,\"\",ROUND($B184*'HVI Quality Data'!R184/100,0))","v":""},{"$f":"IF(LEN(B184)=0,\"\",ROUND(B184*'Base Values'!$B$16,0))","v":""},{"$f":"IF(LEN(B184)=0,\"\",ROUND(E184/2000*'Base Values'!$B$10,0))","v":""},"",{"$f":"IF(OR(LEN(B184)=0,LEN(C184)=0),\"\",ROUND(B184/(C184/100)*'Base Values'!$B$12/100,0))","v":""},{"$f":"IF(LEN(B184)=0,\"\",ROUND(B184*'Base Values'!$B$14,0))","v":""},""]
[{"$f":"IF(LEN('HVI Quality Data'!A185)>0,'HVI Quality Data'!A185,\"\")","v":""},null,null,{"$f":"IF(LEN(B185)=0,\"\",ROUND($B185*'HVI Quality Data'!R185/100,0))","v":""},{"$f":"IF(LEN(B185)=0,\"\",ROUND(B185*'Base Values'!$B$16,0))","v":""},{"$f":"IF(LEN(B185)=0,\"\",ROUND(E185/2000*'Base Values'!$B$10,0))","v":""},"",{"$f":"IF(OR(LEN(B185)=0,LEN(C185)=0),\"\",ROUND(B185/(C185/100)*'Base Values'!$B$12/100,0))","v":""},{"$f":"IF(LEN(B185)=0,\"\",ROUND(B185*'Base Values'!$B$14,0))","v":""},""]
[{"$f":"IF(LEN('HVI Quality Data'!A186)>0,'HVI Quality Data'!A186,\"\")","v":""},null,null,{"$f":"IF(LEN(B186)=0,\"\",ROUND($B186*'HVI Quality Data'!R186/100,0))","v":""},{"$f":"IF(LEN(B186)=0,\"\",ROUND(B186*'Base Values'!$B$16,0))","v":""},{"$f":"IF(LEN(B186)=0,\"\",ROUND(E186/2000*'Base Values'!$B$10,0))","v":""},"",{"$f":"IF(OR(LEN(B186)=0,LEN(C186)=0),\"\",ROUND(B186/(C186/100)*'Base Values'!$B$12/100,0))","v":""},{"$f":"IF(LEN(B186)=0,\"\",ROUND(B186*'Base Values'!$B$14,0))","v":""},""]
[{"$f":"IF(LEN('HVI Quality Data'!A187)>0,'HVI Quality Data'!A187,\"\")","v":""},null,null,{"$f":"IF(LEN(B187)=0,\"\",ROUND($B187*'HVI Quality Data'!R187/100,0))","v":""},{"$f":"IF(LEN(B187)=0,\"\",ROUND(B187*'Base Values'!$B$16,0))","v":""},{"$f":"IF(LEN(B187)=0,\"\",ROUND(E187/2000*'Base Values'!$B$10,0))","v":""},"",{"$f":"IF(OR(LEN(B187)=0,LEN(C187)=0),\"\",ROUND(B187/(C187/100)*'Base Values'!$B$12/100,0))","v":""},{"$f":"IF(LEN(B187)=0,\"\",ROUND(B187*'Base Values'!$B$14,0))","v":""},""]
[{"$f":"IF(LEN('HVI Quality Data'!A188)>0,'HVI Quality Data'!A188,\"\")","v":""},null,null,{"$f":"IF(LEN(B188)=0,\"\",ROUND($B188*'HVI Quality Data'!R188/100,0))","v":""},{"$f":"IF(LEN(B188)=0,\"\",ROUND(B188*'Base Values'!$B$16,0))","v":""},{"$f":"IF(LEN(B188)=0,\"\",ROUND(E188/2000*'Base Values'!$B$10,0))","v":""},"",{"$f":"IF(OR(LEN(B188)=0,LEN(C188)=0),\"\",ROUND(B188/(C188/100)*'Base Values'!$B$12/100,0))","v":""},{"$f":"IF(LEN(B188)=0,\"\",ROUND(B188*'Base Values'!$B$14,0))","v":""},""]
[{"$f":"IF(LEN('HVI Quality Data'!A189)>0,'HVI Quality Data'!A189,\"\")","v":""},null,null,{"$f":"IF(LEN(B189)=0,\"\",ROUND($B189*'HVI Quality Data'!R189/100,0))","v":""},{"$f":"IF(LEN(B189)=0,\"\",ROUND(B189*'Base Values'!$B$16,0))","v":""},{"$f":"IF(LEN(B189)=0,\"\",ROUND(E189/2000*'Base Values'!$B$10,0))","v":""},"",{"$f":"IF(OR(LEN(B189)=0,LEN(C189)=0),\"\",ROUND(B189/(C189/100)*'Base Values'!$B$12/100,0))","v":""},{"$f":"IF(LEN(B189)=0,\"\",ROUND(B189*'Base Values'!$B$14,0))","v":""},""]
[{"$f":"IF(LEN('HVI Quality Data'!A190)>0,'HVI Quality Data'!A190,\"\")","v":""},null,null,{"$f":"IF(LEN(B190)=0,\"\",ROUND($B190*'HVI Quality Data'!R190/100,0))","v":""},{"$f":"IF(LEN(B190)=0,\"\",ROUND(B190*'Base Values'!$B$16,0))","v":""},{"$f":"IF(LEN(B190)=0,\"\",ROUND(E190/2000*'Base Values'!$B$10,0))","v":""},"",{"$f":"IF(OR(LEN(B190)=0,LEN(C190)=0),\"\",ROUND(B190/(C190/100)*'Base Values'!$B$12/100,0))","v":""},{"$f":"IF(LEN(B190)=0,\"\",ROUND(B190*'Base Values'!$B$14,0))","v":""},""]
[{"$f":"IF(LEN('HVI Quality Data'!A191)>0,'HVI Quality Data'!A191,\"\")","v":""},null,null,{"$f":"IF(LEN(B191)=0,\"\",ROUND($B191*'HVI Quality Data'!R191/100,0))","v":""},{"$f":"IF(LEN(B191)=0,\"\",ROUND(B191*'Base Values'!$B$16,0))","v":""},{"$f":"IF(LEN(B191)=0,\"\",ROUND(E191/2000*'Base Values'!$B$10,0))","v":""},"",{"$f":"IF(OR(LEN(B191)=0,LEN(C191)=0),\"\",ROUND(B191/(C191/100)*'Base Values'!$B$12/100,0))","v":""},{"$f":"IF(LEN(B191)=0,\"\",ROUND(B191*'Base Values'!$B$14,0))","v":""},""]
[{"$f":"IF(LEN('HVI Quality Data'!A192)>0,'HVI Quality Data'!A192,\"\")","v":""},null,null,{"$f":"IF(LEN(B192)=0,\"\",ROUND($B192*'HVI Quality Data'!R192/100,0))","v":""},{"$f":"IF(LEN(B192)=0,\"\",ROUND(B192*'Base Values'!$B$16,0))","v":""},{"$f":"IF(LEN(B192)=0,\"\",ROUND(E192/2000*'Base Values'!$B$10,0))","v":""},"",{"$f":"IF(OR(LEN(B192)=0,LEN(C192)=0),\"\",ROUND(B192/(C192/100)*'Base Values'!$B$12/100,0))","v":""},{"$f":"IF(LEN(B192)=0,\"\",ROUND(B192*'Base Values'!$B$14,0))","v":""},""]
[{"$f":"IF(LEN('HVI Quality Data'!A193)>0,'HVI Quality Data'!A193,\"\")","v":""},null,null,{"$f":"IF(LEN(B193)=0,\"\",ROUND($B193*'HVI Quality Data'!R193/100,0))","v":""},{"$f":"IF(LEN(B193)=0,\"\",ROUND(B193*'Base Values'!$B$16,0))","v":""},{"$f":"IF(LEN(B193)=0,\"\",ROUND(E193/2000*'Base Values'!$B$10,0))","v":""},"",{"$f":"IF(OR(LEN(B193)=0,LEN(C193)=0),\"\",ROUND(B193/(C193/100)*'Base Values'!$B$12/100,0))","v":""},{"$f":"IF(LEN(B193)=0,\"\",ROUND(B193*'Base Values'!$B$14,0))","v":""},""]
[{"$f":"IF(LEN('HVI Quality Data'!A194)>0,'HVI Quality Data'!A194,\"\")","v":""},null,null,{"$f":"IF(LEN(B194)=0,\"\",ROUND($B194*'HVI Quality Data'!R194/100,0))","v":""},{"$f":"IF(LEN(B194)=0,\"\",ROUND(B194*'Base Values'!$B$16,0))","v":""},{"$f":"IF(LEN(B194)=0,\"\",ROUND(E194/2000*'Base Values'!$B$10,0))","v":""},"",{"$f":"IF(OR(LEN(B194)=0,LEN(C194)=0),\"\",ROUND(B194/(C194/100)*'Base Values'!$B$12/100,0))","v":""},{"$f":"IF(LEN(B194)=0,\"\",ROUND(B194*'Base Values'!$B$14,0))","v":""},""]
[{"$f":"IF(LEN('HVI Quality Data'!A195)>0,'HVI Quality Data'!A195,\"\")","v":""},null,null,{"$f":"IF(LEN(B195)=0,\"\",ROUND($B195*'HVI Quality Data'!R195/100,0))","v":""},{"$f":"IF(LEN(B195)=0,\"\",ROUND(B195*'Base Values'!$B$16,0))","v":""},{"$f":"IF(LEN(B195)=0,\"\",ROUND(E195/2000*'Base Values'!$B$10,0))","v":""},"",{"$f":"IF(OR(LEN(B195)=0,LEN(C195)=0),\"\",ROUND(B195/(C195/100)*'Base Values'!$B$12/100,0))","v":""},{"$f":"IF(LEN(B195)=0,\"\",ROUND(B195*'Base Values'!$B$14,0))","v":""},""]
[{"$f":"IF(LEN('HVI Quality Data'!A196)>0,'HVI Quality Data'!A196,\"\")","v":""},null,null,{"$f":"IF(LEN(B196)=0,\"\",ROUND($B196*'HVI Quality Data'!R196/100,0))","v":""},{"$f":"IF(LEN(B196)=0,\"\",ROUND(B196*'Base Values'!$B$16,0))","v":""},{"$f":"IF(LEN(B196)=0,\"\",ROUND(E196/2000*'Base Values'!$B$10,0))","v":""},"",{"$f":"IF(OR(LEN(B196)=0,LEN(C196)=0),\"\",ROUND(B196/(C196/100)*'Base Values'!$B$12/100,0))","v":""},{"$f":"IF(LEN(B196)=0,\"\",ROUND(B196*'Base Values'!$B$14,0))","v":""},""]
[{"$f":"IF(LEN('HVI Quality Data'!A197)>0,'HVI Quality Data'!A197,\"\")","v":""},null,null,{"$f":"IF(LEN(B197)=0,\"\",ROUND($B197*'HVI Quality Data'!R197/100,0))","v":""},{"$f":"IF(LEN(B197)=0,\"\",ROUND(B197*'Base Values'!$B$16,0))","v":""},{"$f":"IF(LEN(B197)=0,\"\",ROUND(E197/2000*'Base Values'!$B$10,0))","v":""},"",{"$f":"IF(OR(LEN(B197)=0,LEN(C197)=0),\"\",ROUND(B197/(C197/100)*'Base Values'!$B$12/100,0))","v":""},{"$f":"IF(LEN(B197)=0,\"\",ROUND(B197*'Base Values'!$B$14,0))","v":""},""]
[{"$f":"IF(LEN('HVI Quality Data'!A198)>0,'HVI Quality Data'!A198,\"\")","v":""},null,null,{"$f":"IF(LEN(B198)=0,\"\",ROUND($B198*'HVI Quality Data'!R198/100,0))","v":""},{"$f":"IF(LEN(B198)=0,\"\",ROUND(B198*'Base Values'!$B$16,0))","v":""},{"$f":"IF(LEN(B198)=0,\"\",ROUND(E198/2000*'Base Values'!$B$10,0))","v":""},"",{"$f":"IF(OR(LEN(B198)=0,LEN(C198)=0),\"\",ROUND(B198/(C198/100)*'Base Values'!$B$12/100,0))","v":""},{"$f":"IF(LEN(B198)=0,\"\",ROUND(B198*'Base Values'!$B$14,0))","v":""},""]
[{"$f":"IF(LEN('HVI Quality Data'!A199)>0,'HVI Quality Data'!A199,\"\")","v":""},null,null,{"$f":"IF(LEN(B199)=0,\"\",ROUND($B199*'HVI Quality Data'!R199/100,0))","v":""},{"$f":"IF(LEN(B199)=0,\"\",ROUND(B199*'Base Values'!$B$16,0))","v":""},{"$f":"IF(LEN(B199)=0,\"\",ROUND(E199/2000*'Base Values'!$B$10,0))","v":""},"",{"$f":"IF(OR(LEN(B199)=0,LEN(C199)=0),\"\",ROUND(B199/(C199/100)*'Base Values'!$B$12/100,0))","v":""},{"$f":"IF(LEN(B199)=0,\"\",ROUND(B199*'Base Values'!$B$14,0))","v":""},""]
[{"$f":"IF(LEN('HVI Quality Data'!A200)>0,'HVI Quality Data'!A200,\"\")","v":""},null,null,{"$f":"IF(LEN(B200)=0,\"\",ROUND($B200*'HVI Quality Data'!R200/100,0))","v":""},{"$f":"IF(LEN(B200)=0,\"\",ROUND(B200*'Base Values'!$B$16,0))","v":""},{"$f":"IF(LEN(B200)=0,\"\",ROUND(E200/2000*'Base Values'!$B$10,0))","v":""},"",{"$f":"IF(OR(LEN(B200)=0,LEN(C200)=0),\"\",ROUND(B200/(C200/100)*'Base Values'!$B$12/100,0))","v":""},{"$f":"IF(LEN(B200)=0,\"\",ROUND(B200*'Base Values'!$B$14,0))","v":""},""]
[{"$f":"IF(LEN('HVI Quality Data'!A201)>0,'HVI Quality Data'!A201,\"\")","v":""},null,null,{"$f":"IF(LEN(B201)=0,\"\",ROUND($B201*'HVI Quality Data'!R201/100,0))","v":""},{"$f":"IF(LEN(B201)=0,\"\",ROUND(B201*'Base Values'!$B$16,0))","v":""},{"$f":"IF(LEN(B201)=0,\"\",ROUND(E201/2000*'Base Values'!$B$10,0))","v":""},"",{"$f":"IF(OR(LEN(B201)=0,LEN(C201)=0),\"\",ROUND(B201/(C201/100)*'Base Values'!$B$12/100,0))","v":""},{"$f":"IF(LEN(B201)=0,\"\",ROUND(B201*'Base Values'!$B$14,0))","v":""},""]
[{"$f":"IF(LEN('HVI Quality Data'!A202)>0,'HVI Quality Data'!A202,\"\")","v":""},null,null,{"$f":"IF(LEN(B202)=0,\"\",ROUND($B202*'HVI Quality Data'!R202/100,0))","v":""},{"$f":"IF(LEN(B202)=0,\"\",ROUND(B202*'Base Values'!$B$16,0))","v":""},{"$f":"IF(LEN(B202)=0,\"\",ROUND(E202/2000*'Base Values'!$B$10,0))","v":""},"",{"$f":"IF(OR(LEN(B202)=0,LEN(C202)=0),\"\",ROUND(B202/(C202/100)*'Base Values'!$B$12/100,0))","v":""},{"$f":"IF(LEN(B202)=0,\"\",ROUND(B202*'Base Values'!$B$14,0))","v":""},""]
[{"$f":"IF(LEN('HVI Quality Data'!A203)>0,'HVI Quality Data'!A203,\"\")","v":""},null,null,{"$f":"IF(LEN(B203)=0,\"\",ROUND($B203*'HVI Quality Data'!R203/100,0))","v":""},{"$f":"IF(LEN(B203)=0,\"\",ROUND(B203*'Base Values'!$B$16,0))","v":""},{"$f":"IF(LEN(B203)=0,\"\",ROUND(E203/2000*'Base Values'!$B$10,0))","v":""},"",{"$f":"IF(OR(LEN(B203)=0,LEN(C203)=0),\"\",ROUND(B203/(C203/100)*'Base Values'!$B$12/100,0))","v":""},{"$f":"IF(LEN(B203)=0,\"\",ROUND(B203*'Base Values'!$B$14,0))","v":""},""]
[{"$f":"IF(LEN('HVI Quality Data'!A204)>0,'HVI Quality Data'!A204,\"\")","v":""},null,null,{"$f":"IF(LEN(B204)=0,\"\",ROUND($B204*'HVI Quality Data'!R204/100,0))","v":""},{"$f":"IF(LEN(B204)=0,\"\",ROUND(B204*'Base Values'!$B$16,0))","v":""},{"$f":"IF(LEN(B204)=0,\"\",ROUND(E204/2000*'Base Values'!$B$10,0))","v":""},"",{"$f":"IF(OR(LEN(B204)=0,LEN(C204)=0),\"\",ROUND(B204/(C204/100)*'Base Values'!$B$12/100,0))","v":""},{"$f":"IF(LEN(B204)=0,\"\",ROUND(B204*'Base Values'!$B$14,0))","v":""},""]
[{"$f":"IF(LEN('HVI Quality Data'!A205)>0,'HVI Quality Data'!A205,\"\")","v":""},null,null,{"$f":"IF(LEN(B205)=0,\"\",ROUND($B205*'HVI Quality Data'!R205/100,0))","v":""},{"$f":"IF(LEN(B205)=0,\"\",ROUND(B205*'Base Values'!$B$16,0))","v":""},{"$f":"IF(LEN(B205)=0,\"\",ROUND(E205/2000*'Base Values'!$B$10,0))","v":""},"",{"$f":"IF(OR(LEN(B205)=0,LEN(C205)=0),\"\",ROUND(B205/(C205/100)*'Base Values'!$B$12/100,0))","v":""},{"$f":"IF(LEN(B205)=0,\"\",ROUND(B205*'Base Values'!$B$14,0))","v":""},""]
[{"$f":"IF(LEN('HVI Quality Data'!A206)>0,'HVI Quality Data'!A206,\"\")","v":""},null,null,{"$f":"IF(LEN(B206)=0,\"\",ROUND($B206*'HVI Quality Data'!R206/100,0))","v":""},{"$f":"IF(LEN(B206)=0,\"\",ROUND(B206*'Base Values'!$B$16,0))","v":""},{"$f":"IF(LEN(B206)=0,\"\",ROUND(E206/2000*'Base Values'!$B$10,0))","v":""},"",{"$f":"IF(OR(LEN(B206)=0,LEN(C206)=0),\"\",ROUND(B206/(C206/100)*'Base Values'!$B$12/100,0))","v":""},{"$f":"IF(LEN(B206)=0,\"\",ROUND(B206*'Base Values'!$B$14,0))","v":""},""]
[{"$f":"IF(LEN('HVI Quality Data'!A207)>0,'HVI Quality Data'!A207,\"\")","v":""},null,null,{"$f":"IF(LEN(B207)=0,\"\",ROUND($B207*'HVI Quality Data'!R207/100,0))","v":""},{"$f":"IF(LEN(B207)=0,\"\",ROUND(B207*'Base Values'!$B$16,0))","v":""},{"$f":"IF(LEN(B207)=0,\"\",ROUND(E207/2000*'Base Values'!$B$10,0))","v":""},"",{"$f":"IF(OR(LEN(B207)=0,LEN(C207)=0),\"\",ROUND(B207/(C207/100)*'Base Values'!$B$12/100,0))","v":""},{"$f":"IF(LEN(B207)=0,\"\",ROUND(B207*'Base Values'!$B$14,0))","v":""},""]
[{"$f":"IF(LEN('HVI Quality Data'!A208)>0,'HVI Quality Data'!A208,\"\")","v":""},null,null,{"$f":"IF(LEN(B208)=0,\"\",ROUND($B208*'HVI Quality Data'!R208/100,0))","v":""},{"$f":"IF(LEN(B208)=0,\"\",ROUND(B208*'Base Values'!$B$16,0))","v":""},{"$f":"IF(LEN(B208)=0,\"\",ROUND(E208/2000*'Base Values'!$B$10,0))","v":""},{"$f":"IF(LEN(B208)=0,\"\",SUM(D208,F208))","v":""},{"$f":"IF(OR(LEN(B208)=0,LEN(C208)=0),\"\",ROUND(B208/(C208/100)*'Base Values'!$B$12/100,0))","v":""},{"$f":"IF(LEN(B208)=0,\"\",ROUND(B208*'Base Values'!$B$14,0))","v":""},{"$f":"IF(OR(LEN(B208)=0,LEN(C208)=0),\"\",G208-H208-I208)","v":""}]
[{"$f":"IF(LEN('HVI Quality Data'!A209)>0,'HVI Quality Data'!A209,\"\")","v":""},null,null,{"$f":"IF(LEN(B209)=0,\"\",ROUND($B209*'HVI Quality Data'!R209/100,0))","v":""},{"$f":"IF(LEN(B209)=0,\"\",ROUND(B209*'Base Values'!$B$16,0))","v":""},{"$f":"IF(LEN(B209)=0,\"\",ROUND(E209/2000*'Base Values'!$B$10,0))","v":""},"",{"$f":"IF(OR(LEN(B209)=0,LEN(C209)=0),\"\",ROUND(B209/(C209/100)*'Base Values'!$B$12/100,0))","v":""},{"$f":"IF(LEN(B209)=0,\"\",ROUND(B209*'Base Values'!$B$14,0))","v":""},""]
[{"$f":"IF(LEN('HVI Quality Data'!A210)>0,'HVI Quality Data'!A210,\"\")","v":""},null,null,{"$f":"IF(LEN(B210)=0,\"\",ROUND($B210*'HVI Quality Data'!R210/100,0))","v":""},{"$f":"IF(LEN(B210)=0,\"\",ROUND(B210*'Base Values'!$B$16,0))","v":""},{"$f":"IF(LEN(B210)=0,\"\",ROUND(E210/2000*'Base Values'!$B$10,0))","v":""},"",{"$f":"IF(OR(LEN(B210)=0,LEN(C210)=0),\"\",ROUND(B210/(C210/100)*'Base Values'!$B$12/100,0))","v":""},{"$f":"IF(LEN(B210)=0,\"\",ROUND(B210*'Base Values'!$B$14,0))","v":""},""]
[{"$f":"IF(LEN('HVI Quality Data'!A211)>0,'HVI Quality Data'!A211,\"\")","v":""},null,null,{"$f":"IF(LEN(B211)=0,\"\",ROUND($B211*'HVI Quality Data'!R211/100,0))","v":""},{"$f":"IF(LEN(B211)=0,\"\",ROUND(B211*'Base Values'!$B$16,0))","v":""},{"$f":"IF(LEN(B211)=0,\"\",ROUND(E211/2000*'Base Values'!$B$10,0))","v":""},"",{"$f":"IF(OR(LEN(B211)=0,LEN(C211)=0),\"\",ROUND(B211/(C211/100)*'Base Values'!$B$12/100,0))","v":""},{"$f":"IF(LEN(B211)=0,\"\",ROUND(B211*'Base Values'!$B$14,0))","v":""},""]
[{"$f":"IF(LEN('HVI Quality Data'!A212)>0,'HVI Quality Data'!A212,\"\")","v":""},null,null,{"$f":"IF(LEN(B212)=0,\"\",ROUND($B212*'HVI Quality Data'!R212/100,0))","v":""},{"$f":"IF(LEN(B212)=0,\"\",ROUND(B212*'Base Values'!$B$16,0))","v":""},{"$f":"IF(LEN(B212)=0,\"\",ROUND(E212/2000*'Base Values'!$B$10,0))","v":""},"",{"$f":"IF(OR(LEN(B212)=0,LEN(C212)=0),\"\",ROUND(B212/(C212/100)*'Base Values'!$B$12/100,0))","v":""},{"$f":"IF(LEN(B212)=0,\"\",ROUND(B212*'Base Values'!$B$14,0))","v":""},""]
[{"$f":"IF(LEN('HVI Quality Data'!A213)>0,'HVI Quality Data'!A213,\"\")","v":""},null,null,{"$f":"IF(LEN(B213)=0,\"\",ROUND($B213*'HVI Quality Data'!R213/100,0))","v":""},{"$f":"IF(LEN(B213)=0,\"\",ROUND(B213*'Base Values'!$B$16,0))","v":""},{"$f":"IF(LEN(B213)=0,\"\",ROUND(E213/2000*'Base Values'!$B$10,0))","v":""},"",{"$f":"IF(OR(LEN(B213)=0,LEN(C213)=0),\"\",ROUND(B213/(C213/100)*'Base Values'!$B$12/100,0))","v":""},{"$f":"IF(LEN(B213)=0,\"\",ROUND(B213*'Base Values'!$B$14,0))","v":""},""]
[{"$f":"IF(LEN('HVI Quality Data'!A214)>0,'HVI Quality Data'!A214,\"\")","v":""},null,null,{"$f":"IF(LEN(B214)=0,\"\",ROUND($B214*'HVI Quality Data'!R214/100,0))","v":""},{"$f":"IF(LEN(B214)=0,\"\",ROUND(B214*'Base Values'!$B$16,0))","v":""},{"$f":"IF(LEN(B214)=0,\"\",ROUND(E214/2000*'Base Values'!$B$10,0))","v":""},"",{"$f":"IF(OR(LEN(B214)=0,LEN(C214)=0),\"\",ROUND(B214/(C214/100)*'Base Values'!$B$12/100,0))","v":""},{"$f":"IF(LEN(B214)=0,\"\",ROUND(B214*'Base Values'!$B$14,0))","v":""},""]
[{"$f":"IF(LEN('HVI Quality Data'!A215)>0,'HVI Quality Data'!A215,\"\")","v":""},null,null,{"$f":"IF(LEN(B215)=0,\"\",ROUND($B215*'HVI Quality Data'!R215/100,0))","v":""},{"$f":"IF(LEN(B215)=0,\"\",ROUND(B215*'Base Values'!$B$16,0))","v":""},{"$f":"IF(LEN(B215)=0,\"\",ROUND(E215/2000*'Base Values'!$B$10,0))","v":""},"",{"$f":"IF(OR(LEN(B215)=0,LEN(C215)=0),\"\",ROUND(B215/(C215/100)*'Base Values'!$B$12/100,0))","v":""},{"$f":"IF(LEN(B215)=0,\"\",ROUND(B215*'Base Values'!$B$14,0))","v":""},""]
[{"$f":"IF(LEN('HVI Quality Data'!A216)>0,'HVI Quality Data'!A216,\"\")","v":""},null,null,{"$f":"IF(LEN(B216)=0,\"\",ROUND($B216*'HVI Quality Data'!R216/100,0))","v":""},{"$f":"IF(LEN(B216)=0,\"\",ROUND(B216*'Base Values'!$B$16,0))","v":""},{"$f":"IF(LEN(B216)=0,\"\",ROUND(E216/2000*'Base Values'!$B$10,0))","v":""},"",{"$f":"IF(OR(LEN(B216)=0,LEN(C216)=0),\"\",ROUND(B216/(C216/100)*'Base Values'!$B$12/100,0))","v":""},{"$f":"IF(LEN(B216)=0,\"\",ROUND(B216*'Base Values'!$B$14,0))","v":""},""]
[{"$f":"IF(LEN('HVI Quality Data'!A217)>0,'HVI Quality Data'!A217,\"\")","v":""},null,null,{"$f":"IF(LEN(B217)=0,\"\",ROUND($B217*'HVI Quality Data'!R217/100,0))","v":""},{"$f":"IF(LEN(B217)=0,\"\",ROUND(B217*'Base Values'!$B$16,0))","v":""},{"$f":"IF(LEN(B217)=0,\"\",ROUND(E217/2000*'Base Values'!$B$10,0))","v":""},"",{"$f":"IF(OR(LEN(B217)=0,LEN(C217)=0),\"\",ROUND(B217/(C217/100)*'Base Values'!$B$12/100,0))","v":""},{"$f":"IF(LEN(B217)=0,\"\",ROUND(B217*'Base Values'!$B$14,0))","v":""},""]
[{"$f":"IF(LEN('HVI Quality Data'!A218)>0,'HVI Quality Data'!A218,\"\")","v":""},null,null,{"$f":"IF(LEN(B218)=0,\"\",ROUND($B218*'HVI Quality Data'!R218/100,0))","v":""},{"$f":"IF(LEN(B218)=0,\"\",ROUND(B218*'Base Values'!$B$16,0))","v":""},{"$f":"IF(LEN(B218)=0,\"\",ROUND(E218/2000*'Base Values'!$B$10,0))","v":""},"",{"$f":"IF(OR(LEN(B218)=0,LEN(C218)=0),\"\",ROUND(B218/(C218/100)*'Base Values'!$B$12/100,0))","v":""},{"$f":"IF(LEN(B218)=0,\"\",ROUND(B218*'Base Values'!$B$14,0))","v":""},""]
[{"$f":"IF(LEN('HVI Quality Data'!A219)>0,'HVI Quality Data'!A219,\"\")","v":""},null,null,{"$f":"IF(LEN(B219)=0,\"\",ROUND($B219*'HVI Quality Data'!R219/100,0))","v":""},{"$f":"IF(LEN(B219)=0,\"\",ROUND(B219*'Base Values'!$B$16,0))","v":""},{"$f":"IF(LEN(B219)=0,\"\",ROUND(E219/2000*'Base Values'!$B$10,0))","v":""},"",{"$f":"IF(OR(LEN(B219)=0,LEN(C219)=0),\"\",ROUND(B219/(C219/100)*'Base Values'!$B$12/100,0))","v":""},{"$f":"IF(LEN(B219)=0,\"\",ROUND(B219*'Base Values'!$B$14,0))","v":""},""]
[{"$f":"IF(LEN('HVI Quality Data'!A220)>0,'HVI Quality Data'!A220,\"\")","v":""},null,null,{"$f":"IF(LEN(B220)=0,\"\",ROUND($B220*'HVI Quality Data'!R220/100,0))","v":""},{"$f":"IF(LEN(B220)=0,\"\",ROUND(B220*'Base Values'!$B$16,0))","v":""},{"$f":"IF(LEN(B220)=0,\"\",ROUND(E220/2000*'Base Values'!$B$10,0))","v":""},"",{"$f":"IF(OR(LEN(B220)=0,LEN(C220)=0),\"\",ROUND(B220/(C220/100)*'Base Values'!$B$12/100,0))","v":""},{"$f":"IF(LEN(B220)=0,\"\",ROUND(B220*'Base Values'!$B$14,0))","v":""},""]
[{"$f":"IF(LEN('HVI Quality Data'!A221)>0,'HVI Quality Data'!A221,\"\")","v":""},null,null,{"$f":"IF(LEN(B221)=0,\"\",ROUND($B221*'HVI Quality Data'!R221/100,0))","v":""},{"$f":"IF(LEN(B221)=0,\"\",ROUND(B221*'Base Values'!$B$16,0))","v":""},{"$f":"IF(LEN(B221)=0,\"\",ROUND(E221/2000*'Base Values'!$B$10,0))","v":""},"",{"$f":"IF(OR(LEN(B221)=0,LEN(C221)=0),\"\",ROUND(B221/(C221/100)*'Base Values'!$B$12/100,0))","v":""},{"$f":"IF(LEN(B221)=0,\"\",ROUND(B221*'Base Values'!$B$14,0))","v":""},""]
[{"$f":"IF(LEN('HVI Quality Data'!A222)>0,'HVI Quality Data'!A222,\"\")","v":""},null,null,{"$f":"IF(LEN(B222)=0,\"\",ROUND($B222*'HVI Quality Data'!R222/100,0))","v":""},{"$f":"IF(LEN(B222)=0,\"\",ROUND(B222*'Base Values'!$B$16,0))","v":""},{"$f":"IF(LEN(B222)=0,\"\",ROUND(E222/2000*'Base Values'!$B$10,0))","v":""},"",{"$f":"IF(OR(LEN(B222)=0,LEN(C222)=0),\"\",ROUND(B222/(C222/100)*'Base Values'!$B$12/100,0))","v":""},{"$f":"IF(LEN(B222)=0,\"\",ROUND(B222*'Base Values'!$B$14,0))","v":""},""]
[{"$f":"IF(LEN('HVI Quality Data'!A223)>0,'HVI Quality Data'!A223,\"\")","v":""},null,null,{"$f":"IF(LEN(B223)=0,\"\",ROUND($B223*'HVI Quality Data'!R223/100,0))","v":""},{"$f":"IF(LEN(B223)=0,\"\",ROUND(B223*'Base Values'!$B$16,0))","v":""},{"$f":"IF(LEN(B223)=0,\"\",ROUND(E223/2000*'Base Values'!$B$10,0))","v":""},"",{"$f":"IF(OR(LEN(B223)=0,LEN(C223)=0),\"\",ROUND(B223/(C223/100)*'Base Values'!$B$12/100,0))","v":""},{"$f":"IF(LEN(B223)=0,\"\",ROUND(B223*'Base Values'!$B$14,0))","v":""},""]
[{"$f":"IF(LEN('HVI Quality Data'!A224)>0,'HVI Quality Data'!A224,\"\")","v":""},null,null,{"$f":"IF(LEN(B224)=0,\"\",ROUND($B224*'HVI Quality Data'!R224/100,0))","v":""},{"$f":"IF(LEN(B224)=0,\"\",ROUND(B224*'Base Values'!$B$16,0))","v":""},{"$f":"IF(LEN(B224)=0,\"\",ROUND(E224/2000*'Base Values'!$B$10,0))","v":""},"",{"$f":"IF(OR(LEN(B224)=0,LEN(C224)=0),\"\",ROUND(B224/(C224/100)*'Base Values'!$B$12/100,0))","v":""},{"$f":"IF(LEN(B224)=0,\"\",ROUND(B224*'Base Values'!$B$14,0))","v":""},""]
[{"$f":"IF(LEN('HVI Quality Data'!A225)>0,'HVI Quality Data'!A225,\"\")","v":""},null,null,{"$f":"IF(LEN(B225)=0,\"\",ROUND($B225*'HVI Quality Data'!R225/100,0))","v":""},{"$f":"IF(LEN(B225)=0,\"\",ROUND(B225*'Base Values'!$B$16,0))","v":""},{"$f":"IF(LEN(B225)=0,\"\",ROUND(E225/2000*'Base Values'!$B$10,0))","v":""},"",{"$f":"IF(OR(LEN(B225)=0,LEN(C225)=0),\"\",ROUND(B225/(C225/100)*'Base Values'!$B$12/100,0))","v":""},{"$f":"IF(LEN(B225)=0,\"\",ROUND(B225*'Base Values'!$B$14,0))","v":""},""]
[{"$f":"IF(LEN('HVI Quality Data'!A226)>0,'HVI Quality Data'!A226,\"\")","v":""},null,null,{"$f":"IF(LEN(B226)=0,\"\",ROUND($B226*'HVI Quality Data'!R226/100,0))","v":""},{"$f":"IF(LEN(B226)=0,\"\",ROUND(B226*'Base Values'!$B$16,0))","v":""},{"$f":"IF(LEN(B226)=0,\"\",ROUND(E226/2000*'Base Values'!$B$10,0))","v":""},"",{"$f":"IF(OR(LEN(B226)=0,LEN(C226)=0),\"\",ROUND(B226/(C226/100)*'Base Values'!$B$12/100,0))","v":""},{"$f":"IF(LEN(B226)=0,\"\",ROUND(B226*'Base Values'!$B$14,0))","v":""},""]
[{"$f":"IF(LEN('HVI Quality Data'!A227)>0,'HVI Quality Data'!A227,\"\")","v":""},null,null,{"$f":"IF(LEN(B227)=0,\"\",ROUND($B227*'HVI Quality Data'!R227/100,0))","v":""},{"$f":"IF(LEN(B227)=0,\"\",ROUND(B227*'Base Values'!$B$16,0))","v":""},{"$f":"IF(LEN(B227)=0,\"\",ROUND(E227/2000*'Base Values'!$B$10,0))","v":""},"",{"$f":"IF(OR(LEN(B227)=0,LEN(C227)=0),\"\",ROUND(B227/(C227/100)*'Base Values'!$B$12/100,0))","v":""},{"$f":"IF(LEN(B227)=0,\"\",ROUND(B227*'Base Values'!$B$14,0))","v":""},""]
[{"$f":"IF(LEN('HVI Quality Data'!A228)>0,'HVI Quality Data'!A228,\"\")","v":""},null,null,{"$f":"IF(LEN(B228)=0,\"\",ROUND($B228*'HVI Quality Data'!R228/100,0))","v":""},{"$f":"IF(LEN(B228)=0,\"\",ROUND(B228*'Base Values'!$B$16,0))","v":""},{"$f":"IF(LEN(B228)=0,\"\",ROUND(E228/2000*'Base Values'!$B$10,0))","v":""},"",{"$f":"IF(OR(LEN(B228)=0,LEN(C228)=0),\"\",ROUND(B228/(C228/100)*'Base Values'!$B$12/100,0))","v":""},{"$f":"IF(LEN(B228)=0,\"\",ROUND(B228*'Base Values'!$B$14,0))","v":""},""]
[{"$f":"IF(LEN('HVI Quality Data'!A229)>0,'HVI Quality Data'!A229,\"\")","v":""},null,null,{"$f":"IF(LEN(B229)=0,\"\",ROUND($B229*'HVI Quality Data'!R229/100,0))","v":""},{"$f":"IF(LEN(B229)=0,\"\",ROUND(B229*'Base Values'!$B$16,0))","v":""},{"$f":"IF(LEN(B229)=0,\"\",ROUND(E229/2000*'Base Values'!$B$10,0))","v":""},"",{"$f":"IF(OR(LEN(B229)=0,LEN(C229)=0),\"\",ROUND(B229/(C229/100)*'Base Values'!$B$12/100,0))","v":""},{"$f":"IF(LEN(B229)=0,\"\",ROUND(B229*'Base Values'!$B$14,0))","v":""},""]
[{"$f":"IF(LEN('HVI Quality Data'!A230)>0,'HVI Quality Data'!A230,\"\")","v":""},null,null,{"$f":"IF(LEN(B230)=0,\"\",ROUND($B230*'HVI Quality Data'!R230/100,0))","v":""},{"$f":"IF(LEN(B230)=0,\"\",ROUND(B230*'Base Values'!$B$16,0))","v":""},{"$f":"IF(LEN(B230)=0,\"\",ROUND(E230/2000*'Base Values'!$B$10,0))","v":""},"",{"$f":"IF(OR(LEN(B230)=0,LEN(C230)=0),\"\",ROUND(B230/(C230/100)*'Base Values'!$B$12/100,0))","v":""},{"$f":"IF(LEN(B230)=0,\"\",ROUND(B230*'Base Values'!$B$14,0))","v":""},""]
[{"$f":"IF(LEN('HVI Quality Data'!A231)>0,'HVI Quality Data'!A231,\"\")","v":""},null,null,{"$f":"IF(LEN(B231)=0,\"\",ROUND($B231*'HVI Quality Data'!R231/100,0))","v":""},{"$f":"IF(LEN(B231)=0,\"\",ROUND(B231*'Base Values'!$B$16,0))","v":""},{"$f":"IF(LEN(B231)=0,\"\",ROUND(E231/2000*'Base Values'!$B$10,0))","v":""},"",{"$f":"IF(OR(LEN(B231)=0,LEN(C231)=0),\"\",ROUND(B231/(C231/100)*'Base Values'!$B$12/100,0))","v":""},{"$f":"IF(LEN(B231)=0,\"\",ROUND(B231*'Base Values'!$B$14,0))","v":""},""]
[{"$f":"IF(LEN('HVI Quality Data'!A232)>0,'HVI Quality Data'!A232,\"\")","v":""},null,null,{"$f":"IF(LEN(B232)=0,\"\",ROUND($B232*'HVI Quality Data'!R232/100,0))","v":""},{"$f":"IF(LEN(B232)=0,\"\",ROUND(B232*'Base Values'!$B$16,0))","v":""},{"$f":"IF(LEN(B232)=0,\"\",ROUND(E232/2000*'Base Values'!$B$10,0))","v":""},"",{"$f":"IF(OR(LEN(B232)=0,LEN(C232)=0),\"\",ROUND(B232/(C232/100)*'Base Values'!$B$12/100,0))","v":""},{"$f":"IF(LEN(B232)=0,\"\",ROUND(B232*'Base Values'!$B$14,0))","v":""},""]
[{"$f":"IF(LEN('HVI Quality Data'!A233)>0,'HVI Quality Data'!A233,\"\")","v":""},null,null,{"$f":"IF(LEN(B233)=0,\"\",ROUND($B233*'HVI Quality Data'!R233/100,0))","v":""},{"$f":"IF(LEN(B233)=0,\"\",ROUND(B233*'Base Values'!$B$16,0))","v":""},{"$f":"IF(LEN(B233)=0,\"\",ROUND(E233/2000*'Base Values'!$B$10,0))","v":""},"",{"$f":"IF(OR(LEN(B233)=0,LEN(C233)=0),\"\",ROUND(B233/(C233/100)*'Base Values'!$B$12/100,0))","v":""},{"$f":"IF(LEN(B233)=0,\"\",ROUND(B233*'Base Values'!$B$14,0))","v":""},""]
[{"$f":"IF(LEN('HVI Quality Data'!A234)>0,'HVI Quality Data'!A234,\"\")","v":""},null,null,{"$f":"IF(LEN(B234)=0,\"\",ROUND($B234*'HVI Quality Data'!R234/100,0))","v":""},{"$f":"IF(LEN(B234)=0,\"\",ROUND(B234*'Base Values'!$B$16,0))","v":""},{"$f":"IF(LEN(B234)=0,\"\",ROUND(E234/2000*'Base Values'!$B$10,0))","v":""},"",{"$f":"IF(OR(LEN(B234)=0,LEN(C234)=0),\"\",ROUND(B234/(C234/100)*'Base Values'!$B$12/100,0))","v":""},{"$f":"IF(LEN(B234)=0,\"\",ROUND(B234*'Base Values'!$B$14,0))","v":""},""]
[{"$f":"IF(LEN('HVI Quality Data'!A235)>0,'HVI Quality Data'!A235,\"\")","v":""},null,null,{"$f":"IF(LEN(B235)=0,\"\",ROUND($B235*'HVI Quality Data'!R235/100,0))","v":""},{"$f":"IF(LEN(B235)=0,\"\",ROUND(B235*'Base Values'!$B$16,0))","v":""},{"$f":"IF(LEN(B235)=0,\"\",ROUND(E235/2000*'Base Values'!$B$10,0))","v":""},"",{"$f":"IF(OR(LEN(B235)=0,LEN(C235)=0),\"\",ROUND(B235/(C235/100)*'Base Values'!$B$12/100,0))","v":""},{"$f":"IF(LEN(B235)=0,\"\",ROUND(B235*'Base Values'!$B$14,0))","v":""},""]
[{"$f":"IF(LEN('HVI Quality Data'!A236)>0,'HVI Quality Data'!A236,\"\")","v":""},null,null,{"$f":"IF(LEN(B236)=0,\"\",ROUND($B236*'HVI Quality Data'!R236/100,0))","v":""},{"$f":"IF(LEN(B236)=0,\"\",ROUND(B236*'Base Values'!$B$16,0))","v":""},{"$f":"IF(LEN(B236)=0,\"\",ROUND(E236/2000*'Base Values'!$B$10,0))","v":""},"",{"$f":"IF(OR(LEN(B236)=0,LEN(C236)=0),\"\",ROUND(B236/(C236/100)*'Base Values'!$B$12/100,0))","v":""},{"$f":"IF(LEN(B236)=0,\"\",ROUND(B236*'Base Values'!$B$14,0))","v":""},""]
[{"$f":"IF(LEN('HVI Quality Data'!A237)>0,'HVI Quality Data'!A237,\"\")","v":""},null,null,{"$f":"IF(LEN(B237)=0,\"\",ROUND($B237*'HVI Quality Data'!R237/100,0))","v":""},{"$f":"IF(LEN(B237)=0,\"\",ROUND(B237*'Base Values'!$B$16,0))","v":""},{"$f":"IF(LEN(B237)=0,\"\",ROUND(E237/2000*'Base Values'!$B$10,0))","v":""},"",{"$f":"IF(OR(LEN(B237)=0,LEN(C237)=0),\"\",ROUND(B237/(C237/100)*'Base Values'!$B$12/100,0))","v":""},{"$f":"IF(LEN(B237)=0,\"\",ROUND(B237*'Base Values'!$B$14,0))","v":""},""]
[{"$f":"IF(LEN('HVI Quality Data'!A238)>0,'HVI Quality Data'!A238,\"\")","v":""},null,null,{"$f":"IF(LEN(B238)=0,\"\",ROUND($B238*'HVI Quality Data'!R238/100,0))","v":""},{"$f":"IF(LEN(B238)=0,\"\",ROUND(B238*'Base Values'!$B$16,0))","v":""},{"$f":"IF(LEN(B238)=0,\"\",ROUND(E238/2000*'Base Values'!$B$10,0))","v":""},"",{"$f":"IF(OR(LEN(B238)=0,LEN(C238)=0),\"\",ROUND(B238/(C238/100)*'Base Values'!$B$12/100,0))","v":""},{"$f":"IF(LEN(B238)=0,\"\",ROUND(B238*'Base Values'!$B$14,0))","v":""},""]
[{"$f":"IF(LEN('HVI Quality Data'!A239)>0,'HVI Quality Data'!A239,\"\")","v":""},null,null,{"$f":"IF(LEN(B239)=0,\"\",ROUND($B239*'HVI Quality Data'!R239/100,0))","v":""},{"$f":"IF(LEN(B239)=0,\"\",ROUND(B239*'Base Values'!$B$16,0))","v":""},{"$f":"IF(LEN(B239)=0,\"\",ROUND(E239/2000*'Base Values'!$B$10,0))","v":""},"",{"$f":"IF(OR(LEN(B239)=0,LEN(C239)=0),\"\",ROUND(B239/(C239/100)*'Base Values'!$B$12/100,0))","v":""},{"$f":"IF(LEN(B239)=0,\"\",ROUND(B239*'Base Values'!$B$14,0))","v":""},""]
[{"$f":"IF(LEN('HVI Quality Data'!A240)>0,'HVI Quality Data'!A240,\"\")","v":""},null,null,{"$f":"IF(LEN(B240)=0,\"\",ROUND($B240*'HVI Quality Data'!R240/100,0))","v":""},{"$f":"IF(LEN(B240)=0,\"\",ROUND(B240*'Base Values'!$B$16,0))","v":""},{"$f":"IF(LEN(B240)=0,\"\",ROUND(E240/2000*'Base Values'!$B$10,0))","v":""},"",{"$f":"IF(OR(LEN(B240)=0,LEN(C240)=0),\"\",ROUND(B240/(C240/100)*'Base Values'!$B$12/100,0))","v":""},{"$f":"IF(LEN(B240)=0,\"\",ROUND(B240*'Base Values'!$B$14,0))","v":""},""]
[{"$f":"IF(LEN('HVI Quality Data'!A241)>0,'HVI Quality Data'!A241,\"\")","v":""},null,null,{"$f":"IF(LEN(B241)=0,\"\",ROUND($B241*'HVI Quality Data'!R241/100,0))","v":""},{"$f":"IF(LEN(B241)=0,\"\",ROUND(B241*'Base Values'!$B$16,0))","v":""},{"$f":"IF(LEN(B241)=0,\"\",ROUND(E241/2000*'Base Values'!$B$10,0))","v":""},"",{"$f":"IF(OR(LEN(B241)=0,LEN(C241)=0),\"\",ROUND(B241/(C241/100)*'Base Values'!$B$12/100,0))","v":""},{"$f":"IF(LEN(B241)=0,\"\",ROUND(B241*'Base Values'!$B$14,0))","v":""},""]
[{"$f":"IF(LEN('HVI Quality Data'!A242)>0,'HVI Quality Data'!A242,\"\")","v":""},null,null,{"$f":"IF(LEN(B242)=0,\"\",ROUND($B242*'HVI Quality Data'!R242/100,0))","v":""},{"$f":"IF(LEN(B242)=0,\"\",ROUND(B242*'Base Values'!$B$16,0))","v":""},{"$f":"IF(LEN(B242)=0,\"\",ROUND(E242/2000*'Base Values'!$B$10,0))","v":""},"",{"$f":"IF(OR(LEN(B242)=0,LEN(C242)=0),\"\",ROUND(B242/(C242/100)*'Base Values'!$B$12/100,0))","v":""},{"$f":"IF(LEN(B242)=0,\"\",ROUND(B242*'Base Values'!$B$14,0))","v":""},""]
[{"$f":"IF(LEN('HVI Quality Data'!A243)>0,'HVI Quality Data'!A243,\"\")","v":""},null,null,{"$f":"IF(LEN(B243)=0,\"\",ROUND($B243*'HVI Quality Data'!R243/100,0))","v":""},{"$f":"IF(LEN(B243)=0,\"\",ROUND(B243*'Base Values'!$B$16,0))","v":""},{"$f":"IF(LEN(B243)=0,\"\",ROUND(E243/2000*'Base Values'!$B$10,0))","v":""},"",{"$f":"IF(OR(LEN(B243)=0,LEN(C243)=0),\"\",ROUND(B243/(C243/100)*'Base Values'!$B$12/100,0))","v":""},{"$f":"IF(LEN(B243)=0,\"\",ROUND(B243*'Base Values'!$B$14,0))","v":""},""]
[{"$f":"IF(LEN('HVI Quality Data'!A244)>0,'HVI Quality Data'!A244,\"\")","v":""},null,null,{"$f":"IF(LEN(B244)=0,\"\",ROUND($B244*'HVI Quality Data'!R244/100,0))","v":""},{"$f":"IF(LEN(B244)=0,\"\",ROUND(B244*'Base Values'!$B$16,0))","v":""},{"$f":"IF(LEN(B244)=0,\"\",ROUND(E244/2000*'Base Values'!$B$10,0))","v":""},"",{"$f":"IF(OR(LEN(B244)=0,LEN(C244)=0),\"\",ROUND(B244/(C244/100)*'Base Values'!$B$12/100,0))","v":""},{"$f":"IF(LEN(B244)=0,\"\",ROUND(B244*'Base Values'!$B$14,0))","v":""},""]
[{"$f":"IF(LEN('HVI Quality Data'!A245)>0,'HVI Quality Data'!A245,\"\")","v":""},null,null,{"$f":"IF(LEN(B245)=0,\"\",ROUND($B245*'HVI Quality Data'!R245/100,0))","v":""},{"$f":"IF(LEN(B245)=0,\"\",ROUND(B245*'Base Values'!$B$16,0))","v":""},{"$f":"IF(LEN(B245)=0,\"\",ROUND(E245/2000*'Base Values'!$B$10,0))","v":""},"",{"$f":"IF(OR(LEN(B245)=0,LEN(C245)=0),\"\",ROUND(B245/(C245/100)*'Base Values'!$B$12/100,0))","v":""},{"$f":"IF(LEN(B245)=0,\"\",ROUND(B245*'Base Values'!$B$14,0))","v":""},""]
[{"$f":"IF(LEN('HVI Quality Data'!A246)>0,'HVI Quality Data'!A246,\"\")","v":""},null,null,{"$f":"IF(LEN(B246)=0,\"\",ROUND($B246*'HVI Quality Data'!R246/100,0))","v":""},{"$f":"IF(LEN(B246)=0,\"\",ROUND(B246*'Base Values'!$B$16,0))","v":""},{"$f":"IF(LEN(B246)=0,\"\",ROUND(E246/2000*'Base Values'!$B$10,0))","v":""},"",{"$f":"IF(OR(LEN(B246)=0,LEN(C246)=0),\"\",ROUND(B246/(C246/100)*'Base Values'!$B$12/100,0))","v":""},{"$f":"IF(LEN(B246)=0,\"\",ROUND(B246*'Base Values'!$B$14,0))","v":""},""]
[{"$f":"IF(LEN('HVI Quality Data'!A247)>0,'HVI Quality Data'!A247,\"\")","v":""},null,null,{"$f":"IF(LEN(B247)=0,\"\",ROUND($B247*'HVI Quality Data'!R247/100,0))","v":""},{"$f":"IF(LEN(B247)=0,\"\",ROUND(B247*'Base Values'!$B$16,0))","v":""},{"$f":"IF(LEN(B247)=0,\"\",ROUND(E247/2000*'Base Values'!$B$10,0))","v":""},"",{"$f":"IF(OR(LEN(B247)=0,LEN(C247)=0),\"\",ROUND(B247/(C247/100)*'Base Values'!$B$12/100,0))","v":""},{"$f":"IF(LEN(B247)=0,\"\",ROUND(B247*'Base Values'!$B$14,0))","v":""},""]
[{"$f":"IF(LEN('HVI Quality Data'!A248)>0,'HVI Quality Data'!A248,\"\")","v":""},null,null,{"$f":"IF(LEN(B248)=0,\"\",ROUND($B248*'HVI Quality Data'!R248/100,0))","v":""},{"$f":"IF(LEN(B248)=0,\"\",ROUND(B248*'Base Values'!$B$16,0))","v":""},{"$f":"IF(LEN(B248)=0,\"\",ROUND(E248/2000*'Base Values'!$B$10,0))","v":""},"",{"$f":"IF(OR(LEN(B248)=0,LEN(C248)=0),\"\",ROUND(B248/(C248/100)*'Base Values'!$B$12/100,0))","v":""},{"$f":"IF(LEN(B248)=0,\"\",ROUND(B248*'Base Values'!$B$14,0))","v":""},""]
[{"$f":"IF(LEN('HVI Quality Data'!A249)>0,'HVI Quality Data'!A249,\"\")","v":""},null,null,{"$f":"IF(LEN(B249)=0,\"\",ROUND($B249*'HVI Quality Data'!R249/100,0))","v":""},{"$f":"IF(LEN(B249)=0,\"\",ROUND(B249*'Base Values'!$B$16,0))","v":""},{"$f":"IF(LEN(B249)=0,\"\",ROUND(E249/2000*'Base Values'!$B$10,0))","v":""},"",{"$f":"IF(OR(LEN(B249)=0,LEN(C249)=0),\"\",ROUND(B249/(C249/100)*'Base Values'!$B$12/100,0))","v":""},{"$f":"IF(LEN(B249)=0,\"\",ROUND(B249*'Base Values'!$B$14,0))","v":""},""]
[{"$f":"IF(LEN('HVI Quality Data'!A250)>0,'HVI Quality Data'!A250,\"\")","v":""},null,null,{"$f":"IF(LEN(B250)=0,\"\",ROUND($B250*'HVI Quality Data'!R250/100,0))","v":""},{"$f":"IF(LEN(B250)=0,\"\",ROUND(B250*'Base Values'!$B$16,0))","v":""},{"$f":"IF(LEN(B250)=0,\"\",ROUND(E250/2000*'Base Values'!$B$10,0))","v":""},"",{"$f":"IF(OR(LEN(B250)=0,LEN(C250)=0),\"\",ROUND(B250/(C250/100)*'Base Values'!$B$12/100,0))","v":""},{"$f":"IF(LEN(B250)=0,\"\",ROUND(B250*'Base Values'!$B$14,0))","v":""},""]
[{"$f":"IF(LEN('HVI Quality Data'!A251)>0,'HVI Quality Data'!A251,\"\")","v":""},null,null,{"$f":"IF(LEN(B251)=0,\"\",ROUND($B251*'HVI Quality Data'!R251/100,0))","v":""},{"$f":"IF(LEN(B251)=0,\"\",ROUND(B251*'Base Values'!$B$16,0))","v":""},{"$f":"IF(LEN(B251)=0,\"\",ROUND(E251/2000*'Base Values'!$B$10,0))","v":""},"",{"$f":"IF(OR(LEN(B251)=0,LEN(C251)=0),\"\",ROUND(B251/(C251/100)*'Base Values'!$B$12/100,0))","v":""},{"$f":"IF(LEN(B251)=0,\"\",ROUND(B251*'Base Values'!$B$14,0))","v":""},""]
[{"$f":"IF(LEN('HVI Quality Data'!A252)>0,'HVI Quality Data'!A252,\"\")","v":""},null,null,{"$f":"IF(LEN(B252)=0,\"\",ROUND($B252*'HVI Quality Data'!R252/100,0))","v":""},{"$f":"IF(LEN(B252)=0,\"\",ROUND(B252*'Base Values'!$B$16,0))","v":""},{"$f":"IF(LEN(B252)=0,\"\",ROUND(E252/2000*'Base Values'!$B$10,0))","v":""},"",{"$f":"IF(OR(LEN(B252)=0,LEN(C252)=0),\"\",ROUND(B252/(C252/100)*'Base Values'!$B$12/100,0))","v":""},{"$f":"IF(LEN(B252)=0,\"\",ROUND(B252*'Base Values'!$B$14,0))","v":""},""]
[{"$f":"IF(LEN('HVI Quality Data'!A253)>0,'HVI Quality Data'!A253,\"\")","v":""},null,null,{"$f":"IF(LEN(B253)=0,\"\",ROUND($B253*'HVI Quality Data'!R253/100,0))","v":""},{"$f":"IF(LEN(B253)=0,\"\",ROUND(B253*'Base Values'!$B$16,0))","v":""},{"$f":"IF(LEN(B253)=0,\"\",ROUND(E253/2000*'Base Values'!$B$10,0))","v":""},"",{"$f":"IF(OR(LEN(B253)=0,LEN(C253)=0),\"\",ROUND(B253/(C253/100)*'Base Values'!$B$12/100,0))","v":""},{"$f":"IF(LEN(B253)=0,\"\",ROUND(B253*'Base Values'!$B$14,0))","v":""},""]
[{"$f":"IF(LEN('HVI Quality Data'!A254)>0,'HVI Quality Data'!A254,\"\")","v":""},null,null,{"$f":"IF(LEN(B254)=0,\"\",ROUND($B254*'HVI Quality Data'!R254/100,0))","v":""},{"$f":"IF(LEN(B254)=0,\"\",ROUND(B254*'Base Values'!$B$16,0))","v":""},{"$f":"IF(LEN(B254)=0,\"\",ROUND(E254/2000*'Base Values'!$B$10,0))","v":""},"",{"$f":"IF(OR(LEN(B254)=0,LEN(C254)=0),\"\",ROUND(B254/(C254/100)*'Base Values'!$B$12/100,0))","v":""},{"$f":"IF(LEN(B254)=0,\"\",ROUND(B254*'Base Values'!$B$14,0))","v":""},""]
[{"$f":"IF(LEN('HVI Quality Data'!A255)>0,'HVI Quality Data'!A255,\"\")","v":""},null,null,{"$f":"IF(LEN(B255)=0,\"\",ROUND($B255*'HVI Quality Data'!R255/100,0))","v":""},{"$f":"IF(LEN(B255)=0,\"\",ROUND(B255*'Base Values'!$B$16,0))","v":""},{"$f":"IF(LEN(B255)=0,\"\",ROUND(E255/2000*'Base Values'!$B$10,0))","v":""},"",{"$f":"IF(OR(LEN(B255)=0,LEN(C255)=0),\"\",ROUND(B255/(C255/100)*'Base Values'!$B$12/100,0))","v":""},{"$f":"IF(LEN(B255)=0,\"\",ROUND(B255*'Base Values'!$B$14,0))","v":""},""]
[{"$f":"IF(LEN('HVI Quality Data'!A256)>0,'HVI Quality Data'!A256,\"\")","v":""},null,null,{"$f":"IF(LEN(B256)=0,\"\",ROUND($B256*'HVI Quality Data'!R256/100,0))","v":""},{"$f":"IF(LEN(B256)=0,\"\",ROUND(B256*'Base Values'!$B$16,0))","v":""},{"$f":"IF(LEN(B256)=0,\"\",ROUND(E256/2000*'Base Values'!$B$10,0))","v":""},"",{"$f":"IF(OR(LEN(B256)=0,LEN(C256)=0),\"\",ROUND(B256/(C256/100)*'Base Values'!$B$12/100,0))","v":""},{"$f":"IF(LEN(B256)=0,\"\",ROUND(B256*'Base Values'!$B$14,0))","v":""},""]
[{"$f":"IF(LEN('HVI Quality Data'!A257)>0,'HVI Quality Data'!A257,\"\")","v":""},null,null,{"$f":"IF(LEN(B257)=0,\"\",ROUND($B257*'HVI Quality Data'!R257/100,0))","v":""},{"$f":"IF(LEN(B257)=0,\"\",ROUND(B257*'Base Values'!$B$16,0))","v":""},{"$f":"IF(LEN(B257)=0,\"\",ROUND(E257/2000*'Base Values'!$B$10,0))","v":""},"",{"$f":"IF(OR(LEN(B257)=0,LEN(C257)=0),\"\",ROUND(B257/(C257/100)*'Base Values'!$B$12/100,0))","v":""},{"$f":"IF(LEN(B257)=0,\"\",ROUND(B257*'Base Values'!$B$14,0))","v":""},""]
[{"$f":"IF(LEN('HVI Quality Data'!A258)>0,'HVI Quality Data'!A258,\"\")","v":""},null,null,{"$f":"IF(LEN(B258)=0,\"\",ROUND($B258*'HVI Quality Data'!R258/100,0))","v":""},{"$f":"IF(LEN(B258)=0,\"\",ROUND(B258*'Base Values'!$B$16,0))","v":""},{"$f":"IF(LEN(B258)=0,\"\",ROUND(E258/2000*'Base Values'!$B$10,0))","v":""},"",{"$f":"IF(OR(LEN(B258)=0,LEN(C258)=0),\"\",ROUND(B258/(C258/100)*'Base Values'!$B$12/100,0))","v":""},{"$f":"IF(LEN(B258)=0,\"\",ROUND(B258*'Base Values'!$B$14,0))","v":""},""]
[{"$f":"IF(LEN('HVI Quality Data'!A259)>0,'HVI Quality Data'!A259,\"\")","v":""},null,null,{"$f":"IF(LEN(B259)=0,\"\",ROUND($B259*'HVI Quality Data'!R259/100,0))","v":""},{"$f":"IF(LEN(B259)=0,\"\",ROUND(B259*'Base Values'!$B$16,0))","v":""},{"$f":"IF(LEN(B259)=0,\"\",ROUND(E259/2000*'Base Values'!$B$10,0))","v":""},"",{"$f":"IF(OR(LEN(B259)=0,LEN(C259)=0),\"\",ROUND(B259/(C259/100)*'Base Values'!$B$12/100,0))","v":""},{"$f":"IF(LEN(B259)=0,\"\",ROUND(B259*'Base Values'!$B$14,0))","v":""},""]
[{"$f":"IF(LEN('HVI Quality Data'!A260)>0,'HVI Quality Data'!A260,\"\")","v":""},null,null,{"$f":"IF(LEN(B260)=0,\"\",ROUND($B260*'HVI Quality Data'!R260/100,0))","v":""},{"$f":"IF(LEN(B260)=0,\"\",ROUND(B260*'Base Values'!$B$16,0))","v":""},{"$f":"IF(LEN(B260)=0,\"\",ROUND(E260/2000*'Base Values'!$B$10,0))","v":""},"",{"$f":"IF(OR(LEN(B260)=0,LEN(C260)=0),\"\",ROUND(B260/(C260/100)*'Base Values'!$B$12/100,0))","v":""},{"$f":"IF(LEN(B260)=0,\"\",ROUND(B260*'Base Values'!$B$14,0))","v":""},""]
[{"$f":"IF(LEN('HVI Quality Data'!A261)>0,'HVI Quality Data'!A261,\"\")","v":""},null,null,{"$f":"IF(LEN(B261)=0,\"\",ROUND($B261*'HVI Quality Data'!R261/100,0))","v":""},{"$f":"IF(LEN(B261)=0,\"\",ROUND(B261*'Base Values'!$B$16,0))","v":""},{"$f":"IF(LEN(B261)=0,\"\",ROUND(E261/2000*'Base Values'!$B$10,0))","v":""},"",{"$f":"IF(OR(LEN(B261)=0,LEN(C261)=0),\"\",ROUND(B261/(C261/100)*'Base Values'!$B$12/100,0))","v":""},{"$f":"IF(LEN(B261)=0,\"\",ROUND(B261*'Base Values'!$B$14,0))","v":""},""]
[{"$f":"IF(LEN('HVI Quality Data'!A262)>0,'HVI Quality Data'!A262,\"\")","v":""},null,null,{"$f":"IF(LEN(B262)=0,\"\",ROUND($B262*'HVI Quality Data'!R262/100,0))","v":""},{"$f":"IF(LEN(B262)=0,\"\",ROUND(B262*'Base Values'!$B$16,0))","v":""},{"$f":"IF(LEN(B262)=0,\"\",ROUND(E262/2000*'Base Values'!$B$10,0))","v":""},"",{"$f":"IF(OR(LEN(B262)=0,LEN(C262)=0),\"\",ROUND(B262/(C262/100)*'Base Values'!$B$12/100,0))","v":""},{"$f":"IF(LEN(B262)=0,\"\",ROUND(B262*'Base Values'!$B$14,0))","v":""},""]
[{"$f":"IF(LEN('HVI Quality Data'!A263)>0,'HVI Quality Data'!A263,\"\")","v":""},null,null,{"$f":"IF(LEN(B263)=0,\"\",ROUND($B263*'HVI Quality Data'!R263/100,0))","v":""},{"$f":"IF(LEN(B263)=0,\"\",ROUND(B263*'Base Values'!$B$16,0))","v":""},{"$f":"IF(LEN(B263)=0,\"\",ROUND(E263/2000*'Base Values'!$B$10,0))","v":""},"",{"$f":"IF(OR(LEN(B263)=0,LEN(C263)=0),\"\",ROUND(B263/(C263/100)*'Base Values'!$B$12/100,0))","v":""},{"$f":"IF(LEN(B263)=0,\"\",ROUND(B263*'Base Values'!$B$14,0))","v":""},""]
[{"$f":"IF(LEN('HVI Quality Data'!A264)>0,'HVI Quality Data'!A264,\"\")","v":""},null,null,{"$f":"IF(LEN(B264)=0,\"\",ROUND($B264*'HVI Quality Data'!R264/100,0))","v":""},{"$f":"IF(LEN(B264)=0,\"\",ROUND(B264*'Base Values'!$B$16,0))","v":""},{"$f":"IF(LEN(B264)=0,\"\",ROUND(E264/2000*'Base Values'!$B$10,0))","v":""},"",{"$f":"IF(OR(LEN(B264)=0,LEN(C264)=0),\"\",ROUND(B264/(C264/100)*'Base Values'!$B$12/100,0))","v":""},{"$f":"IF(LEN(B264)=0,\"\",ROUND(B264*'Base Values'!$B$14,0))","v":""},""]
[{"$f":"IF(LEN('HVI Quality Data'!A265)>0,'HVI Quality Data'!A265,\"\")","v":""},null,null,{"$f":"IF(LEN(B265)=0,\"\",ROUND($B265*'HVI Quality Data'!R265/100,0))","v":""},{"$f":"IF(LEN(B265)=0,\"\",ROUND(B265*'Base Values'!$B$16,0))","v":""},{"$f":"IF(LEN(B265)=0,\"\",ROUND(E265/2000*'Base Values'!$B$10,0))","v":""},"",{"$f":"IF(OR(LEN(B265)=0,LEN(C265)=0),\"\",ROUND(B265/(C265/100)*'Base Values'!$B$12/100,0))","v":""},{"$f":"IF(LEN(B265)=0,\"\",ROUND(B265*'Base Values'!$B$14,0))","v":""},""]
[{"$f":"IF(LEN('HVI Quality Data'!A266)>0,'HVI Quality Data'!A266,\"\")","v":""},null,null,{"$f":"IF(LEN(B266)=0,\"\",ROUND($B266*'HVI Quality Data'!R266/100,0))","v":""},{"$f":"IF(LEN(B266)=0,\"\",ROUND(B266*'Base Values'!$B$16,0))","v":""},{"$f":"IF(LEN(B266)=0,\"\",ROUND(E266/2000*'Base Values'!$B$10,0))","v":""},"",{"$f":"IF(OR(LEN(B266)=0,LEN(C266)=0),\"\",ROUND(B266/(C266/100)*'Base Values'!$B$12/100,0))","v":""},{"$f":"IF(LEN(B266)=0,\"\",ROUND(B266*'Base Values'!$B$14,0))","v":""},""]
[{"$f":"IF(LEN('HVI Quality Data'!A267)>0,'HVI Quality Data'!A267,\"\")","v":""},null,null,{"$f":"IF(LEN(B267)=0,\"\",ROUND($B267*'HVI Quality Data'!R267/100,0))","v":""},{"$f":"IF(LEN(B267)=0,\"\",ROUND(B267*'Base Values'!$B$16,0))","v":""},{"$f":"IF(LEN(B267)=0,\"\",ROUND(E267/2000*'Base Values'!$B$10,0))","v":""},"",{"$f":"IF(OR(LEN(B267)=0,LEN(C267)=0),\"\",ROUND(B267/(C267/100)*'Base Values'!$B$12/100,0))","v":""},{"$f":"IF(LEN(B267)=0,\"\",ROUND(B267*'Base Values'!$B$14,0))","v":""},""]
[{"$f":"IF(LEN('HVI Quality Data'!A268)>0,'HVI Quality Data'!A268,\"\")","v":""},null,null,{"$f":"IF(LEN(B268)=0,\"\",ROUND($B268*'HVI Quality Data'!R268/100,0))","v":""},{"$f":"IF(LEN(B268)=0,\"\",ROUND(B268*'Base Values'!$B$16,0))","v":""},{"$f":"IF(LEN(B268)=0,\"\",ROUND(E268/2000*'Base Values'!$B$10,0))","v":""},"",{"$f":"IF(OR(LEN(B268)=0,LEN(C268)=0),\"\",ROUND(B268/(C268/100)*'Base Values'!$B$12/100,0))","v":""},{"$f":"IF(LEN(B268)=0,\"\",ROUND(B268*'Base Values'!$B$14,0))","v":""},""]
[{"$f":"IF(LEN('HVI Quality Data'!A269)>0,'HVI Quality Data'!A269,\"\")","v":""},null,null,{"$f":"IF(LEN(B269)=0,\"\",ROUND($B269*'HVI Quality Data'!R269/100,0))","v":""},{"$f":"IF(LEN(B269)=0,\"\",ROUND(B269*'Base Values'!$B$16,0))","v":""},{"$f":"IF(LEN(B269)=0,\"\",ROUND(E269/2000*'Base Values'!$B$10,0))","v":""},"",{"$f":"IF(OR(LEN(B269)=0,LEN(C269)=0),\"\",ROUND(B269/(C269/100)*'Base Values'!$B$12/100,0))","v":""},{"$f":"IF(LEN(B269)=0,\"\",ROUND(B269*'Base Values'!$B$14,0))","v":""},""]
[{"$f":"IF(LEN('HVI Quality Data'!A270)>0,'HVI Quality Data'!A270,\"\")","v":""},null,null,{"$f":"IF(LEN(B270)=0,\"\",ROUND($B270*'HVI Quality Data'!R270/100,0))","v":""},{"$f":"IF(LEN(B270)=0,\"\",ROUND(B270*'Base Values'!$B$16,0))","v":""},{"$f":"IF(LEN(B270)=0,\"\",ROUND(E270/2000*'Base Values'!$B$10,0))","v":""},"",{"$f":"IF(OR(LEN(B270)=0,LEN(C270)=0),\"\",ROUND(B270/(C270/100)*'Base Values'!$B$12/100,0))","v":""},{"$f":"IF(LEN(B270)=0,\"\",ROUND(B270*'Base Values'!$B$14,0))","v":""},""]
[{"$f":"IF(LEN('HVI Quality Data'!A271)>0,'HVI Quality Data'!A271,\"\")","v":""},null,null,{"$f":"IF(LEN(B271)=0,\"\",ROUND($B271*'HVI Quality Data'!R271/100,0))","v":""},{"$f":"IF(LEN(B271)=0,\"\",ROUND(B271*'Base Values'!$B$16,0))","v":""},{"$f":"IF(LEN(B271)=0,\"\",ROUND(E271/2000*'Base Values'!$B$10,0))","v":""},"",{"$f":"IF(OR(LEN(B271)=0,LEN(C271)=0),\"\",ROUND(B271/(C271/100)*'Base Values'!$B$12/100,0))","v":""},{"$f":"IF(LEN(B271)=0,\"\",ROUND(B271*'Base Values'!$B$14,0))","v":""},""]
[{"$f":"IF(LEN('HVI Quality Data'!A272)>0,'HVI Quality Data'!A272,\"\")","v":""},null,null,{"$f":"IF(LEN(B272)=0,\"\",ROUND($B272*'HVI Quality Data'!R272/100,0))","v":""},{"$f":"IF(LEN(B272)=0,\"\",ROUND(B272*'Base Values'!$B$16,0))","v":""},{"$f":"IF(LEN(B272)=0,\"\",ROUND(E272/2000*'Base Values'!$B$10,0))","v":""},{"$f":"IF(LEN(B272)=0,\"\",SUM(D272,F272))","v":""},{"$f":"IF(OR(LEN(B272)=0,LEN(C272)=0),\"\",ROUND(B272/(C272/100)*'Base Values'!$B$12/100,0))","v":""},{"$f":"IF(LEN(B272)=0,\"\",ROUND(B272*'Base Values'!$B$14,0))","v":""},{"$f":"IF(OR(LEN(B272)=0,LEN(C272)=0),\"\",G272-H272-I272)","v":""}]
[{"$f":"IF(LEN('HVI Quality Data'!A273)>0,'HVI Quality Data'!A273,\"\")","v":""},null,null,{"$f":"IF(LEN(B273)=0,\"\",ROUND($B273*'HVI Quality Data'!R273/100,0))","v":""},{"$f":"IF(LEN(B273)=0,\"\",ROUND(B273*'Base Values'!$B$16,0))","v":""},{"$f":"IF(LEN(B273)=0,\"\",ROUND(E273/2000*'Base Values'!$B$10,0))","v":""},"",{"$f":"IF(OR(LEN(B273)=0,LEN(C273)=0),\"\",ROUND(B273/(C273/100)*'Base Values'!$B$12/100,0))","v":""},{"$f":"IF(LEN(B273)=0,\"\",ROUND(B273*'Base Values'!$B$14,0))","v":""},""]
[{"$f":"IF(LEN('HVI Quality Data'!A274)>0,'HVI Quality Data'!A274,\"\")","v":""},null,null,{"$f":"IF(LEN(B274)=0,\"\",ROUND($B274*'HVI Quality Data'!R274/100,0))","v":""},{"$f":"IF(LEN(B274)=0,\"\",ROUND(B274*'Base Values'!$B$16,0))","v":""},{"$f":"IF(LEN(B274)=0,\"\",ROUND(E274/2000*'Base Values'!$B$10,0))","v":""},"",{"$f":"IF(OR(LEN(B274)=0,LEN(C274)=0),\"\",ROUND(B274/(C274/100)*'Base Values'!$B$12/100,0))","v":""},{"$f":"IF(LEN(B274)=0,\"\",ROUND(B274*'Base Values'!$B$14,0))","v":""},""]
[{"$f":"IF(LEN('HVI Quality Data'!A275)>0,'HVI Quality Data'!A275,\"\")","v":""},null,null,{"$f":"IF(LEN(B275)=0,\"\",ROUND($B275*'HVI Quality Data'!R275/100,0))","v":""},{"$f":"IF(LEN(B275)=0,\"\",ROUND(B275*'Base Values'!$B$16,0))","v":""},{"$f":"IF(LEN(B275)=0,\"\",ROUND(E275/2000*'Base Values'!$B$10,0))","v":""},"",{"$f":"IF(OR(LEN(B275)=0,LEN(C275)=0),\"\",ROUND(B275/(C275/100)*'Base Values'!$B$12/100,0))","v":""},{"$f":"IF(LEN(B275)=0,\"\",ROUND(B275*'Base Values'!$B$14,0))","v":""},""]
[{"$f":"IF(LEN('HVI Quality Data'!A276)>0,'HVI Quality Data'!A276,\"\")","v":""},null,null,{"$f":"IF(LEN(B276)=0,\"\",ROUND($B276*'HVI Quality Data'!R276/100,0))","v":""},{"$f":"IF(LEN(B276)=0,\"\",ROUND(B276*'Base Values'!$B$16,0))","v":""},{"$f":"IF(LEN(B276)=0,\"\",ROUND(E276/2000*'Base Values'!$B$10,0))","v":""},"",{"$f":"IF(OR(LEN(B276)=0,LEN(C276)=0),\"\",ROUND(B276/(C276/100)*'Base Values'!$B$12/100,0))","v":""},{"$f":"IF(LEN(B276)=0,\"\",ROUND(B276*'Base Values'!$B$14,0))","v":""},""]
[{"$f":"IF(LEN('HVI Quality Data'!A277)>0,'HVI Quality Data'!A277,\"\")","v":""},null,null,{"$f":"IF(LEN(B277)=0,\"\",ROUND($B277*'HVI Quality Data'!R277/100,0))","v":""},{"$f":"IF(LEN(B277)=0,\"\",ROUND(B277*'Base Values'!$B$16,0))","v":""},{"$f":"IF(LEN(B277)=0,\"\",ROUND(E277/2000*'Base Values'!$B$10,0))","v":""},"",{"$f":"IF(OR(LEN(B277)=0,LEN(C277)=0),\"\",ROUND(B277/(C277/100)*'Base Values'!$B$12/100,0))","v":""},{"$f":"IF(LEN(B277)=0,\"\",ROUND(B277*'Base Values'!$B$14,0))","v":""},""]
[{"$f":"IF(LEN('HVI Quality Data'!A278)>0,'HVI Quality Data'!A278,\"\")","v":""},null,null,{"$f":"IF(LEN(B278)=0,\"\",ROUND($B278*'HVI Quality Data'!R278/100,0))","v":""},{"$f":"IF(LEN(B278)=0,\"\",ROUND(B278*'Base Values'!$B$16,0))","v":""},{"$f":"IF(LEN(B278)=0,\"\",ROUND(E278/2000*'Base Values'!$B$10,0))","v":""},"",{"$f":"IF(OR(LEN(B278)=0,LEN(C278)=0),\"\",ROUND(B278/(C278/100)*'Base Values'!$B$12/100,0))","v":""},{"$f":"IF(LEN(B278)=0,\"\",ROUND(B278*'Base Values'!$B$14,0))","v":""},""]
[{"$f":"IF(LEN('HVI Quality Data'!A279)>0,'HVI Quality Data'!A279,\"\")","v":""},null,null,{"$f":"IF(LEN(B279)=0,\"\",ROUND($B279*'HVI Quality Data'!R279/100,0))","v":""},{"$f":"IF(LEN(B279)=0,\"\",ROUND(B279*'Base Values'!$B$16,0))","v":""},{"$f":"IF(LEN(B279)=0,\"\",ROUND(E279/2000*'Base Values'!$B$10,0))","v":""},"",{"$f":"IF(OR(LEN(B279)=0,LEN(C279)=0),\"\",ROUND(B279/(C279/100)*'Base Values'!$B$12/100,0))","v":""},{"$f":"IF(LEN(B279)=0,\"\",ROUND(B279*'Base Values'!$B$14,0))","v":""},""]
[{"$f":"IF(LEN('HVI Quality Data'!A280)>0,'HVI Quality Data'!A280,\"\")","v":""},null,null,{"$f":"IF(LEN(B280)=0,\"\",ROUND($B280*'HVI Quality Data'!R280/100,0))","v":""},{"$f":"IF(LEN(B280)=0,\"\",ROUND(B280*'Base Values'!$B$16,0))","v":""},{"$f":"IF(LEN(B280)=0,\"\",ROUND(E280/2000*'Base Values'!$B$10,0))","v":""},"",{"$f":"IF(OR(LEN(B280)=0,LEN(C280)=0),\"\",ROUND(B280/(C280/100)*'Base Values'!$B$12/100,0))","v":""},{"$f":"IF(LEN(B280)=0,\"\",ROUND(B280*'Base Values'!$B$14,0))","v":""},""]
[{"$f":"IF(LEN('HVI Quality Data'!A281)>0,'HVI Quality Data'!A281,\"\")","v":""},null,null,{"$f":"IF(LEN(B281)=0,\"\",ROUND($B281*'HVI Quality Data'!R281/100,0))","v":""},{"$f":"IF(LEN(B281)=0,\"\",ROUND(B281*'Base Values'!$B$16,0))","v":""},{"$f":"IF(LEN(B281)=0,\"\",ROUND(E281/2000*'Base Values'!$B$10,0))","v":""},"",{"$f":"IF(OR(LEN(B281)=0,LEN(C281)=0),\"\",ROUND(B281/(C281/100)*'Base Values'!$B$12/100,0))","v":""},{"$f":"IF(LEN(B281)=0,\"\",ROUND(B281*'Base Values'!$B$14,0))","v":""},""]
[{"$f":"IF(LEN('HVI Quality Data'!A282)>0,'HVI Quality Data'!A282,\"\")","v":""},null,null,{"$f":"IF(LEN(B282)=0,\"\",ROUND($B282*'HVI Quality Data'!R282/100,0))","v":""},{"$f":"IF(LEN(B282)=0,\"\",ROUND(B282*'Base Values'!$B$16,0))","v":""},{"$f":"IF(LEN(B282)=0,\"\",ROUND(E282/2000*'Base Values'!$B$10,0))","v":""},"",{"$f":"IF(OR(LEN(B282)=0,LEN(C282)=0),\"\",ROUND(B282/(C282/100)*'Base Values'!$B$12/100,0))","v":""},{"$f":"IF(LEN(B282)=0,\"\",ROUND(B282*'Base Values'!$B$14,0))","v":""},""]
[{"$f":"IF(LEN('HVI Quality Data'!A283)>0,'HVI Quality Data'!A283,\"\")","v":""},null,null,{"$f":"IF(LEN(B283)=0,\"\",ROUND($B283*'HVI Quality Data'!R283/100,0))","v":""},{"$f":"IF(LEN(B283)=0,\"\",ROUND(B283*'Base Values'!$B$16,0))","v":""},{"$f":"IF(LEN(B283)=0,\"\",ROUND(E283/2000*'Base Values'!$B$10,0))","v":""},"",{"$f":"IF(OR(LEN(B283)=0,LEN(C283)=0),\"\",ROUND(B283/(C283/100)*'Base Values'!$B$12/100,0))","v":""},{"$f":"IF(LEN(B283)=0,\"\",ROUND(B283*'Base Values'!$B$14,0))","v":""},""]
[{"$f":"IF(LEN('HVI Quality Data'!A284)>0,'HVI Quality Data'!A284,\"\")","v":""},null,null,{"$f":"IF(LEN(B284)=0,\"\",ROUND($B284*'HVI Quality Data'!R284/100,0))","v":""},{"$f":"IF(LEN(B284)=0,\"\",ROUND(B284*'Base Values'!$B$16,0))","v":""},{"$f":"IF(LEN(B284)=0,\"\",ROUND(E284/2000*'Base Values'!$B$10,0))","v":""},"",{"$f":"IF(OR(LEN(B284)=0,LEN(C284)=0),\"\",ROUND(B284/(C284/100)*'Base Values'!$B$12/100,0))","v":""},{"$f":"IF(LEN(B284)=0,\"\",ROUND(B284*'Base Values'!$B$14,0))","v":""},""]
[{"$f":"IF(LEN('HVI Quality Data'!A285)>0,'HVI Quality Data'!A285,\"\")","v":""},null,null,{"$f":"IF(LEN(B285)=0,\"\",ROUND($B285*'HVI Quality Data'!R285/100,0))","v":""},{"$f":"IF(LEN(B285)=0,\"\",ROUND(B285*'Base Values'!$B$16,0))","v":""},{"$f":"IF(LEN(B285)=0,\"\",ROUND(E285/2000*'Base Values'!$B$10,0))","v":""},"",{"$f":"IF(OR(LEN(B285)=0,LEN(C285)=0),\"\",ROUND(B285/(C285/100)*'Base Values'!$B$12/100,0))","v":""},{"$f":"IF(LEN(B285)=0,\"\",ROUND(B285*'Base Values'!$B$14,0))","v":""},""]
[{"$f":"IF(LEN('HVI Quality Data'!A286)>0,'HVI Quality Data'!A286,\"\")","v":""},null,null,{"$f":"IF(LEN(B286)=0,\"\",ROUND($B286*'HVI Quality Data'!R286/100,0))","v":""},{"$f":"IF(LEN(B286)=0,\"\",ROUND(B286*'Base Values'!$B$16,0))","v":""},{"$f":"IF(LEN(B286)=0,\"\",ROUND(E286/2000*'Base Values'!$B$10,0))","v":""},"",{"$f":"IF(OR(LEN(B286)=0,LEN(C286)=0),\"\",ROUND(B286/(C286/100)*'Base Values'!$B$12/100,0))","v":""},{"$f":"IF(LEN(B286)=0,\"\",ROUND(B286*'Base Values'!$B$14,0))","v":""},""]
[{"$f":"IF(LEN('HVI Quality Data'!A287)>0,'HVI Quality Data'!A287,\"\")","v":""},null,null,{"$f":"IF(LEN(B287)=0,\"\",ROUND($B287*'HVI Quality Data'!R287/100,0))","v":""},{"$f":"IF(LEN(B287)=0,\"\",ROUND(B287*'Base Values'!$B$16,0))","v":""},{"$f":"IF(LEN(B287)=0,\"\",ROUND(E287/2000*'Base Values'!$B$10,0))","v":""},"",{"$f":"IF(OR(LEN(B287)=0,LEN(C287)=0),\"\",ROUND(B287/(C287/100)*'Base Values'!$B$12/100,0))","v":""},{"$f":"IF(LEN(B287)=0,\"\",ROUND(B287*'Base Values'!$B$14,0))","v":""},""]
[{"$f":"IF(LEN('HVI Quality Data'!A288)>0,'HVI Quality Data'!A288,\"\")","v":""},null,null,{"$f":"IF(LEN(B288)=0,\"\",ROUND($B288*'HVI Quality Data'!R288/100,0))","v":""},{"$f":"IF(LEN(B288)=0,\"\",ROUND(B288*'Base Values'!$B$16,0))","v":""},{"$f":"IF(LEN(B288)=0,\"\",ROUND(E288/2000*'Base Values'!$B$10,0))","v":""},"",{"$f":"IF(OR(LEN(B288)=0,LEN(C288)=0),\"\",ROUND(B288/(C288/100)*'Base Values'!$B$12/100,0))","v":""},{"$f":"IF(LEN(B288)=0,\"\",ROUND(B288*'Base Values'!$B$14,0))","v":""},""]
[{"$f":"IF(LEN('HVI Quality Data'!A289)>0,'HVI Quality Data'!A289,\"\")","v":""},null,null,{"$f":"IF(LEN(B289)=0,\"\",ROUND($B289*'HVI Quality Data'!R289/100,0))","v":""},{"$f":"IF(LEN(B289)=0,\"\",ROUND(B289*'Base Values'!$B$16,0))","v":""},{"$f":"IF(LEN(B289)=0,\"\",ROUND(E289/2000*'Base Values'!$B$10,0))","v":""},"",{"$f":"IF(OR(LEN(B289)=0,LEN(C289)=0),\"\",ROUND(B289/(C289/100)*'Base Values'!$B$12/100,0))","v":""},{"$f":"IF(LEN(B289)=0,\"\",ROUND(B289*'Base Values'!$B$14,0))","v":""},""]
[{"$f":"IF(LEN('HVI Quality Data'!A290)>0,'HVI Quality Data'!A290,\"\")","v":""},null,null,{"$f":"IF(LEN(B290)=0,\"\",ROUND($B290*'HVI Quality Data'!R290/100,0))","v":""},{"$f":"IF(LEN(B290)=0,\"\",ROUND(B290*'Base Values'!$B$16,0))","v":""},{"$f":"IF(LEN(B290)=0,\"\",ROUND(E290/2000*'Base Values'!$B$10,0))","v":""},"",{"$f":"IF(OR(LEN(B290)=0,LEN(C290)=0),\"\",ROUND(B290/(C290/100)*'Base Values'!$B$12/100,0))","v":""},{"$f":"IF(LEN(B290)=0,\"\",ROUND(B290*'Base Values'!$B$14,0))","v":""},""]
[{"$f":"IF(LEN('HVI Quality Data'!A291)>0,'HVI Quality Data'!A291,\"\")","v":""},null,null,{"$f":"IF(LEN(B291)=0,\"\",ROUND($B291*'HVI Quality Data'!R291/100,0))","v":""},{"$f":"IF(LEN(B291)=0,\"\",ROUND(B291*'Base Values'!$B$16,0))","v":""},{"$f":"IF(LEN(B291)=0,\"\",ROUND(E291/2000*'Base Values'!$B$10,0))","v":""},"",{"$f":"IF(OR(LEN(B291)=0,LEN(C291)=0),\"\",ROUND(B291/(C291/100)*'Base Values'!$B$12/100,0))","v":""},{"$f":"IF(LEN(B291)=0,\"\",ROUND(B291*'Base Values'!$B$14,0))","v":""},""]
[{"$f":"IF(LEN('HVI Quality Data'!A292)>0,'HVI Quality Data'!A292,\"\")","v":""},null,null,{"$f":"IF(LEN(B292)=0,\"\",ROUND($B292*'HVI Quality Data'!R292/100,0))","v":""},{"$f":"IF(LEN(B292)=0,\"\",ROUND(B292*'Base Values'!$B$16,0))","v":""},{"$f":"IF(LEN(B292)=0,\"\",ROUND(E292/2000*'Base Values'!$B$10,0))","v":""},"",{"$f":"IF(OR(LEN(B292)=0,LEN(C292)=0),\"\",ROUND(B292/(C292/100)*'Base Values'!$B$12/100,0))","v":""},{"$f":"IF(LEN(B292)=0,\"\",ROUND(B292*'Base Values'!$B$14,0))","v":""},""]
[{"$f":"IF(LEN('HVI Quality Data'!A293)>0,'HVI Quality Data'!A293,\"\")","v":""},null,null,{"$f":"IF(LEN(B293)=0,\"\",ROUND($B293*'HVI Quality Data'!R293/100,0))","v":""},{"$f":"IF(LEN(B293)=0,\"\",ROUND(B293*'Base Values'!$B$16,0))","v":""},{"$f":"IF(LEN(B293)=0,\"\",ROUND(E293/2000*'Base Values'!$B$10,0))","v":""},"",{"$f":"IF(OR(LEN(B293)=0,LEN(C293)=0),\"\",ROUND(B293/(C293/100)*'Base Values'!$B$12/100,0))","v":""},{"$f":"IF(LEN(B293)=0,\"\",ROUND(B293*'Base Values'!$B$14,0))","v":""},""]
[{"$f":"IF(LEN('HVI Quality Data'!A294)>0,'HVI Quality Data'!A294,\"\")","v":""},null,null,{"$f":"IF(LEN(B294)=0,\"\",ROUND($B294*'HVI Quality Data'!R294/100,0))","v":""},{"$f":"IF(LEN(B294)=0,\"\",ROUND(B294*'Base Values'!$B$16,0))","v":""},{"$f":"IF(LEN(B294)=0,\"\",ROUND(E294/2000*'Base Values'!$B$10,0))","v":""},"",{"$f":"IF(OR(LEN(B294)=0,LEN(C294)=0),\"\",ROUND(B294/(C294/100)*'Base Values'!$B$12/100,0))","v":""},{"$f":"IF(LEN(B294)=0,\"\",ROUND(B294*'Base Values'!$B$14,0))","v":""},""]
[{"$f":"IF(LEN('HVI Quality Data'!A295)>0,'HVI Quality Data'!A295,\"\")","v":""},null,null,{"$f":"IF(LEN(B295)=0,\"\",ROUND($B295*'HVI Quality Data'!R295/100,0))","v":""},{"$f":"IF(LEN(B295)=0,\"\",ROUND(B295*'Base Values'!$B$16,0))","v":""},{"$f":"IF(LEN(B295)=0,\"\",ROUND(E295/2000*'Base Values'!$B$10,0))","v":""},"",{"$f":"IF(OR(LEN(B295)=0,LEN(C295)=0),\"\",ROUND(B295/(C295/100)*'Base Values'!$B$12/100,0))","v":""},{"$f":"IF(LEN(B295)=0,\"\",ROUND(B295*'Base Values'!$B$14,0))","v":""},""]
[{"$f":"IF(LEN('HVI Quality Data'!A296)>0,'HVI Quality Data'!A296,\"\")","v":""},null,null,{"$f":"IF(LEN(B296)=0,\"\",ROUND($B296*'HVI Quality Data'!R296/100,0))","v":""},{"$f":"IF(LEN(B296)=0,\"\",ROUND(B296*'Base Values'!$B$16,0))","v":""},{"$f":"IF(LEN(B296)=0,\"\",ROUND(E296/2000*'Base Values'!$B$10,0))","v":""},"",{"$f":"IF(OR(LEN(B296)=0,LEN(C296)=0),\"\",ROUND(B296/(C296/100)*'Base Values'!$B$12/100,0))","v":""},{"$f":"IF(LEN(B296)=0,\"\",ROUND(B296*'Base Values'!$B$14,0))","v":""},""]
[{"$f":"IF(LEN('HVI Quality Data'!A297)>0,'HVI Quality Data'!A297,\"\")","v":""},null,null,{"$f":"IF(LEN(B297)=0,\"\",ROUND($B297*'HVI Quality Data'!R297/100,0))","v":""},{"$f":"IF(LEN(B297)=0,\"\",ROUND(B297*'Base Values'!$B$16,0))","v":""},{"$f":"IF(LEN(B297)=0,\"\",ROUND(E297/2000*'Base Values'!$B$10,0))","v":""},"",{"$f":"IF(OR(LEN(B297)=0,LEN(C297)=0),\"\",ROUND(B297/(C297/100)*'Base Values'!$B$12/100,0))","v":""},{"$f":"IF(LEN(B297)=0,\"\",ROUND(B297*'Base Values'!$B$14,0))","v":""},""]
[{"$f":"IF(LEN('HVI Quality Data'!A298)>0,'HVI Quality Data'!A298,\"\")","v":""},null,null,{"$f":"IF(LEN(B298)=0,\"\",ROUND($B298*'HVI Quality Data'!R298/100,0))","v":""},{"$f":"IF(LEN(B298)=0,\"\",ROUND(B298*'Base Values'!$B$16,0))","v":""},{"$f":"IF(LEN(B298)=0,\"\",ROUND(E298/2000*'Base Values'!$B$10,0))","v":""},"",{"$f":"IF(OR(LEN(B298)=0,LEN(C298)=0),\"\",ROUND(B298/(C298/100)*'Base Values'!$B$12/100,0))","v":""},{"$f":"IF(LEN(B298)=0,\"\",ROUND(B298*'Base Values'!$B$14,0))","v":""},""]
[{"$f":"IF(LEN('HVI Quality Data'!A299)>0,'HVI Quality Data'!A299,\"\")","v":""},null,null,{"$f":"IF(LEN(B299)=0,\"\",ROUND($B299*'HVI Quality Data'!R299/100,0))","v":""},{"$f":"IF(LEN(B299)=0,\"\",ROUND(B299*'Base Values'!$B$16,0))","v":""},{"$f":"IF(LEN(B299)=0,\"\",ROUND(E299/2000*'Base Values'!$B$10,0))","v":""},"",{"$f":"IF(OR(LEN(B299)=0,LEN(C299)=0),\"\",ROUND(B299/(C299/100)*'Base Values'!$B$12/100,0))","v":""},{"$f":"IF(LEN(B299)=0,\"\",ROUND(B299*'Base Values'!$B$14,0))","v":""},""]
[{"$f":"IF(LEN('HVI Quality Data'!A300)>0,'HVI Quality Data'!A300,\"\")","v":""},null,null,{"$f":"IF(LEN(B300)=0,\"\",ROUND($B300*'HVI Quality Data'!R300/100,0))","v":""},{"$f":"IF(LEN(B300)=0,\"\",ROUND(B300*'Base Values'!$B$16,0))","v":""},{"$f":"IF(LEN(B300)=0,\"\",ROUND(E300/2000*'Base Values'!$B$10,0))","v":""},"",{"$f":"IF(OR(LEN(B300)=0,LEN(C300)=0),\"\",ROUND(B300/(C300/100)*'Base Values'!$B$12/100,0))","v":""},{"$f":"IF(LEN(B300)=0,\"\",ROUND(B300*'Base Values'!$B$14,0))","v":""},""]
[{"$f":"IF(LEN('HVI Quality Data'!A301)>0,'HVI Quality Data'!A301,\"\")","v":""},null,null,{"$f":"IF(LEN(B301)=0,\"\",ROUND($B301*'HVI Quality Data'!R301/100,0))","v":""},{"$f":"IF(LEN(B301)=0,\"\",ROUND(B301*'Base Values'!$B$16,0))","v":""},{"$f":"IF(LEN(B301)=0,\"\",ROUND(E301/2000*'Base Values'!$B$10,0))","v":""},"",{"$f":"IF(OR(LEN(B301)=0,LEN(C301)=0),\"\",ROUND(B301/(C301/100)*'Base Values'!$B$12/100,0))","v":""},{"$f":"IF(LEN(B301)=0,\"\",ROUND(B301*'Base Values'!$B$14,0))","v":""},""]
[{"$f":"IF(LEN('HVI Quality Data'!A302)>0,'HVI Quality Data'!A302,\"\")","v":""},null,null,{"$f":"IF(LEN(B302)=0,\"\",ROUND($B302*'HVI Quality Data'!R302/100,0))","v":""},{"$f":"IF(LEN(B302)=0,\"\",ROUND(B302*'Base Values'!$B$16,0))","v":""},{"$f":"IF(LEN(B302)=0,\"\",ROUND(E302/2000*'Base Values'!$B$10,0))","v":""},"",{"$f":"IF(OR(LEN(B302)=0,LEN(C302)=0),\"\",ROUND(B302/(C302/100)*'Base Values'!$B$12/100,0))","v":""},{"$f":"IF(LEN(B302)=0,\"\",ROUND(B302*'Base Values'!$B$14,0))","v":""},""]
[{"$f":"IF(LEN('HVI Quality Data'!A303)>0,'HVI Quality Data'!A303,\"\")","v":""},null,null,{"$f":"IF(LEN(B303)=0,\"\",ROUND($B303*'HVI Quality Data'!R303/100,0))","v":""},{"$f":"IF(LEN(B303)=0,\"\",ROUND(B303*'Base Values'!$B$16,0))","v":""},{"$f":"IF(LEN(B303)=0,\"\",ROUND(E303/2000*'Base Values'!$B$10,0))","v":""},"",{"$f":"IF(OR(LEN(B303)=0,LEN(C303)=0),\"\",ROUND(B303/(C303/100)*'Base Values'!$B$12/100,0))","v":""},{"$f":"IF(LEN(B303)=0,\"\",ROUND(B303*'Base Values'!$B$14,0))","v":""},""]
[{"$f":"IF(LEN('HVI Quality Data'!A304)>0,'HVI Quality Data'!A304,\"\")","v":""},null,null,{"$f":"IF(LEN(B304)=0,\"\",ROUND($B304*'HVI Quality Data'!R304/100,0))","v":""},{"$f":"IF(LEN(B304)=0,\"\",ROUND(B304*'Base Values'!$B$16,0))","v":""},{"$f":"IF(LEN(B304)=0,\"\",ROUND(E304/2000*'Base Values'!$B$10,0))","v":""},"",{"$f":"IF(OR(LEN(B304)=0,LEN(C304)=0),\"\",ROUND(B304/(C304/100)*'Base Values'!$B$12/100,0))","v":""},{"$f":"IF(LEN(B304)=0,\"\",ROUND(B304*'Base Values'!$B$14,0))","v":""},""]
[{"$f":"IF(LEN('HVI Quality Data'!A305)>0,'HVI Quality Data'!A305,\"\")","v":""},null,null,{"$f":"IF(LEN(B305)=0,\"\",ROUND($B305*'HVI Quality Data'!R305/100,0))","v":""},{"$f":"IF(LEN(B305)=0,\"\",ROUND(B305*'Base Values'!$B$16,0))","v":""},{"$f":"IF(LEN(B305)=0,\"\",ROUND(E305/2000*'Base Values'!$B$10,0))","v":""},"",{"$f":"IF(OR(LEN(B305)=0,LEN(C305)=0),\"\",ROUND(B305/(C305/100)*'Base Values'!$B$12/100,0))","v":""},{"$f":"IF(LEN(B305)=0,\"\",ROUND(B305*'Base Values'!$B$14,0))","v":""},""]
[{"$f":"IF(LEN('HVI Quality Data'!A306)>0,'HVI Quality Data'!A306,\"\")","v":""},null,null,{"$f":"IF(LEN(B306)=0,\"\",ROUND($B306*'HVI Quality Data'!R306/100,0))","v":""},{"$f":"IF(LEN(B306)=0,\"\",ROUND(B306*'Base Values'!$B$16,0))","v":""},{"$f":"IF(LEN(B306)=0,\"\",ROUND(E306/2000*'Base Values'!$B$10,0))","v":""},"",{"$f":"IF(OR(LEN(B306)=0,LEN(C306)=0),\"\",ROUND(B306/(C306/100)*'Base Values'!$B$12/100,0))","v":""},{"$f":"IF(LEN(B306)=0,\"\",ROUND(B306*'Base Values'!$B$14,0))","v":""},""]
[{"$f":"IF(LEN('HVI Quality Data'!A307)>0,'HVI Quality Data'!A307,\"\")","v":""},null,null,{"$f":"IF(LEN(B307)=0,\"\",ROUND($B307*'HVI Quality Data'!R307/100,0))","v":""},{"$f":"IF(LEN(B307)=0,\"\",ROUND(B307*'Base Values'!$B$16,0))","v":""},{"$f":"IF(LEN(B307)=0,\"\",ROUND(E307/2000*'Base Values'!$B$10,0))","v":""},"",{"$f":"IF(OR(LEN(B307)=0,LEN(C307)=0),\"\",ROUND(B307/(C307/100)*'Base Values'!$B$12/100,0))","v":""},{"$f":"IF(LEN(B307)=0,\"\",ROUND(B307*'Base Values'!$B$14,0))","v":""},""]
[{"$f":"IF(LEN('HVI Quality Data'!A308)>0,'HVI Quality Data'!A308,\"\")","v":""},null,null,{"$f":"IF(LEN(B308)=0,\"\",ROUND($B308*'HVI Quality Data'!R308/100,0))","v":""},{"$f":"IF(LEN(B308)=0,\"\",ROUND(B308*'Base Values'!$B$16,0))","v":""},{"$f":"IF(LEN(B308)=0,\"\",ROUND(E308/2000*'Base Values'!$B$10,0))","v":""},"",{"$f":"IF(OR(LEN(B308)=0,LEN(C308)=0),\"\",ROUND(B308/(C308/100)*'Base Values'!$B$12/100,0))","v":""},{"$f":"IF(LEN(B308)=0,\"\",ROUND(B308*'Base Values'!$B$14,0))","v":""},""]
[{"$f":"IF(LEN('HVI Quality Data'!A309)>0,'HVI Quality Data'!A309,\"\")","v":""},null,null,{"$f":"IF(LEN(B309)=0,\"\",ROUND($B309*'HVI Quality Data'!R309/100,0))","v":""},{"$f":"IF(LEN(B309)=0,\"\",ROUND(B309*'Base Values'!$B$16,0))","v":""},{"$f":"IF(LEN(B309)=0,\"\",ROUND(E309/2000*'Base Values'!$B$10,0))","v":""},"",{"$f":"IF(OR(LEN(B309)=0,LEN(C309)=0),\"\",ROUND(B309/(C309/100)*'Base Values'!$B$12/100,0))","v":""},{"$f":"IF(LEN(B309)=0,\"\",ROUND(B309*'Base Values'!$B$14,0))","v":""},""]
[{"$f":"IF(LEN('HVI Quality Data'!A310)>0,'HVI Quality Data'!A310,\"\")","v":""},null,null,{"$f":"IF(LEN(B310)=0,\"\",ROUND($B310*'HVI Quality Data'!R310/100,0))","v":""},{"$f":"IF(LEN(B310)=0,\"\",ROUND(B310*'Base Values'!$B$16,0))","v":""},{"$f":"IF(LEN(B310)=0,\"\",ROUND(E310/2000*'Base Values'!$B$10,0))","v":""},"",{"$f":"IF(OR(LEN(B310)=0,LEN(C310)=0),\"\",ROUND(B310/(C310/100)*'Base Values'!$B$12/100,0))","v":""},{"$f":"IF(LEN(B310)=0,\"\",ROUND(B310*'Base Values'!$B$14,0))","v":""},""]
[{"$f":"IF(LEN('HVI Quality Data'!A311)>0,'HVI Quality Data'!A311,\"\")","v":""},null,null,{"$f":"IF(LEN(B311)=0,\"\",ROUND($B311*'HVI Quality Data'!R311/100,0))","v":""},{"$f":"IF(LEN(B311)=0,\"\",ROUND(B311*'Base Values'!$B$16,0))","v":""},{"$f":"IF(LEN(B311)=0,\"\",ROUND(E311/2000*'Base Values'!$B$10,0))","v":""},"",{"$f":"IF(OR(LEN(B311)=0,LEN(C311)=0),\"\",ROUND(B311/(C311/100)*'Base Values'!$B$12/100,0))","v":""},{"$f":"IF(LEN(B311)=0,\"\",ROUND(B311*'Base Values'!$B$14,0))","v":""},""]
[{"$f":"IF(LEN('HVI Quality Data'!A312)>0,'HVI Quality Data'!A312,\"\")","v":""},null,null,{"$f":"IF(LEN(B312)=0,\"\",ROUND($B312*'HVI Quality Data'!R312/100,0))","v":""},{"$f":"IF(LEN(B312)=0,\"\",ROUND(B312*'Base Values'!$B$16,0))","v":""},{"$f":"IF(LEN(B312)=0,\"\",ROUND(E312/2000*'Base Values'!$B$10,0))","v":""},"",{"$f":"IF(OR(LEN(B312)=0,LEN(C312)=0),\"\",ROUND(B312/(C312/100)*'Base Values'!$B$12/100,0))","v":""},{"$f":"IF(LEN(B312)=0,\"\",ROUND(B312*'Base Values'!$B$14,0))","v":""},""]
[{"$f":"IF(LEN('HVI Quality Data'!A313)>0,'HVI Quality Data'!A313,\"\")","v":""},null,null,{"$f":"IF(LEN(B313)=0,\"\",ROUND($B313*'HVI Quality Data'!R313/100,0))","v":""},{"$f":"IF(LEN(B313)=0,\"\",ROUND(B313*'Base Values'!$B$16,0))","v":""},{"$f":"IF(LEN(B313)=0,\"\",ROUND(E313/2000*'Base Values'!$B$10,0))","v":""},"",{"$f":"IF(OR(LEN(B313)=0,LEN(C313)=0),\"\",ROUND(B313/(C313/100)*'Base Values'!$B$12/100,0))","v":""},{"$f":"IF(LEN(B313)=0,\"\",ROUND(B313*'Base Values'!$B$14,0))","v":""},""]
[{"$f":"IF(LEN('HVI Quality Data'!A314)>0,'HVI Quality Data'!A314,\"\")","v":""},null,null,{"$f":"IF(LEN(B314)=0,\"\",ROUND($B314*'HVI Quality Data'!R314/100,0))","v":""},{"$f":"IF(LEN(B314)=0,\"\",ROUND(B314*'Base Values'!$B$16,0))","v":""},{"$f":"IF(LEN(B314)=0,\"\",ROUND(E314/2000*'Base Values'!$B$10,0))","v":""},"",{"$f":"IF(OR(LEN(B314)=0,LEN(C314)=0),\"\",ROUND(B314/(C314/100)*'Base Values'!$B$12/100,0))","v":""},{"$f":"IF(LEN(B314)=0,\"\",ROUND(B314*'Base Values'!$B$14,0))","v":""},""]
[{"$f":"IF(LEN('HVI Quality Data'!A315)>0,'HVI Quality Data'!A315,\"\")","v":""},null,null,{"$f":"IF(LEN(B315)=0,\"\",ROUND($B315*'HVI Quality Data'!R315/100,0))","v":""},{"$f":"IF(LEN(B315)=0,\"\",ROUND(B315*'Base Values'!$B$16,0))","v":""},{"$f":"IF(LEN(B315)=0,\"\",ROUND(E315/2000*'Base Values'!$B$10,0))","v":""},"",{"$f":"IF(OR(LEN(B315)=0,LEN(C315)=0),\"\",ROUND(B315/(C315/100)*'Base Values'!$B$12/100,0))","v":""},{"$f":"IF(LEN(B315)=0,\"\",ROUND(B315*'Base Values'!$B$14,0))","v":""},""]
[{"$f":"IF(LEN('HVI Quality Data'!A316)>0,'HVI Quality Data'!A316,\"\")","v":""},null,null,{"$f":"IF(LEN(B316)=0,\"\",ROUND($B316*'HVI Quality Data'!R316/100,0))","v":""},{"$f":"IF(LEN(B316)=0,\"\",ROUND(B316*'Base Values'!$B$16,0))","v":""},{"$f":"IF(LEN(B316)=0,\"\",ROUND(E316/2000*'Base Values'!$B$10,0))","v":""},"",{"$f":"IF(OR(LEN(B316)=0,LEN(C316)=0),\"\",ROUND(B316/(C316/100)*'Base Values'!$B$12/100,0))","v":""},{"$f":"IF(LEN(B316)=0,\"\",ROUND(B316*'Base Values'!$B$14,0))","v":""},""]
[{"$f":"IF(LEN('HVI Quality Data'!A317)>0,'HVI Quality Data'!A317,\"\")","v":""},null,null,{"$f":"IF(LEN(B317)=0,\"\",ROUND($B317*'HVI Quality Data'!R317/100,0))","v":""},{"$f":"IF(LEN(B317)=0,\"\",ROUND(B317*'Base Values'!$B$16,0))","v":""},{"$f":"IF(LEN(B317)=0,\"\",ROUND(E317/2000*'Base Values'!$B$10,0))","v":""},"",{"$f":"IF(OR(LEN(B317)=0,LEN(C317)=0),\"\",ROUND(B317/(C317/100)*'Base Values'!$B$12/100,0))","v":""},{"$f":"IF(LEN(B317)=0,\"\",ROUND(B317*'Base Values'!$B$14,0))","v":""},""]
[{"$f":"IF(LEN('HVI Quality Data'!A318)>0,'HVI Quality Data'!A318,\"\")","v":""},null,null,{"$f":"IF(LEN(B318)=0,\"\",ROUND($B318*'HVI Quality Data'!R318/100,0))","v":""},{"$f":"IF(LEN(B318)=0,\"\",ROUND(B318*'Base Values'!$B$16,0))","v":""},{"$f":"IF(LEN(B318)=0,\"\",ROUND(E318/2000*'Base Values'!$B$10,0))","v":""},"",{"$f":"IF(OR(LEN(B318)=0,LEN(C318)=0),\"\",ROUND(B318/(C318/100)*'Base Values'!$B$12/100,0))","v":""},{"$f":"IF(LEN(B318)=0,\"\",ROUND(B318*'Base Values'!$B$14,0))","v":""},""]
[{"$f":"IF(LEN('HVI Quality Data'!A319)>0,'HVI Quality Data'!A319,\"\")","v":""},null,null,{"$f":"IF(LEN(B319)=0,\"\",ROUND($B319*'HVI Quality Data'!R319/100,0))","v":""},{"$f":"IF(LEN(B319)=0,\"\",ROUND(B319*'Base Values'!$B$16,0))","v":""},{"$f":"IF(LEN(B319)=0,\"\",ROUND(E319/2000*'Base Values'!$B$10,0))","v":""},"",{"$f":"IF(OR(LEN(B319)=0,LEN(C319)=0),\"\",ROUND(B319/(C319/100)*'Base Values'!$B$12/100,0))","v":""},{"$f":"IF(LEN(B319)=0,\"\",ROUND(B319*'Base Values'!$B$14,0))","v":""},""]
[{"$f":"IF(LEN('HVI Quality Data'!A320)>0,'HVI Quality Data'!A320,\"\")","v":""},null,null,{"$f":"IF(LEN(B320)=0,\"\",ROUND($B320*'HVI Quality Data'!R320/100,0))","v":""},{"$f":"IF(LEN(B320)=0,\"\",ROUND(B320*'Base Values'!$B$16,0))","v":""},{"$f":"IF(LEN(B320)=0,\"\",ROUND(E320/2000*'Base Values'!$B$10,0))","v":""},"",{"$f":"IF(OR(LEN(B320)=0,LEN(C320)=0),\"\",ROUND(B320/(C320/100)*'Base Values'!$B$12/100,0))","v":""},{"$f":"IF(LEN(B320)=0,\"\",ROUND(B320*'Base Values'!$B$14,0))","v":""},""]
[{"$f":"IF(LEN('HVI Quality Data'!A321)>0,'HVI Quality Data'!A321,\"\")","v":""},null,null,{"$f":"IF(LEN(B321)=0,\"\",ROUND($B321*'HVI Quality Data'!R321/100,0))","v":""},{"$f":"IF(LEN(B321)=0,\"\",ROUND(B321*'Base Values'!$B$16,0))","v":""},{"$f":"IF(LEN(B321)=0,\"\",ROUND(E321/2000*'Base Values'!$B$10,0))","v":""},"",{"$f":"IF(OR(LEN(B321)=0,LEN(C321)=0),\"\",ROUND(B321/(C321/100)*'Base Values'!$B$12/100,0))","v":""},{"$f":"IF(LEN(B321)=0,\"\",ROUND(B321*'Base Values'!$B$14,0))","v":""},""]
[{"$f":"IF(LEN('HVI Quality Data'!A322)>0,'HVI Quality Data'!A322,\"\")","v":""},null,null,{"$f":"IF(LEN(B322)=0,\"\",ROUND($B322*'HVI Quality Data'!R322/100,0))","v":""},{"$f":"IF(LEN(B322)=0,\"\",ROUND(B322*'Base Values'!$B$16,0))","v":""},{"$f":"IF(LEN(B322)=0,\"\",ROUND(E322/2000*'Base Values'!$B$10,0))","v":""},"",{"$f":"IF(OR(LEN(B322)=0,LEN(C322)=0),\"\",ROUND(B322/(C322/100)*'Base Values'!$B$12/100,0))","v":""},{"$f":"IF(LEN(B322)=0,\"\",ROUND(B322*'Base Values'!$B$14,0))","v":""},""]
[{"$f":"IF(LEN('HVI Quality Data'!A323)>0,'HVI Quality Data'!A323,\"\")","v":""},null,null,{"$f":"IF(LEN(B323)=0,\"\",ROUND($B323*'HVI Quality Data'!R323/100,0))","v":""},{"$f":"IF(LEN(B323)=0,\"\",ROUND(B323*'Base Values'!$B$16,0))","v":""},{"$f":"IF(LEN(B323)=0,\"\",ROUND(E323/2000*'Base Values'!$B$10,0))","v":""},"",{"$f":"IF(OR(LEN(B323)=0,LEN(C323)=0),\"\",ROUND(B323/(C323/100)*'Base Values'!$B$12/100,0))","v":""},{"$f":"IF(LEN(B323)=0,\"\",ROUND(B323*'Base Values'!$B$14,0))","v":""},""]
[{"$f":"IF(LEN('HVI Quality Data'!A324)>0,'HVI Quality Data'!A324,\"\")","v":""},null,null,{"$f":"IF(LEN(B324)=0,\"\",ROUND($B324*'HVI Quality Data'!R324/100,0))","v":""},{"$f":"IF(LEN(B324)=0,\"\",ROUND(B324*'Base Values'!$B$16,0))","v":""},{"$f":"IF(LEN(B324)=0,\"\",ROUND(E324/2000*'Base Values'!$B$10,0))","v":""},"",{"$f":"IF(OR(LEN(B324)=0,LEN(C324)=0),\"\",ROUND(B324/(C324/100)*'Base Values'!$B$12/100,0))","v":""},{"$f":"IF(LEN(B324)=0,\"\",ROUND(B324*'Base Values'!$B$14,0))","v":""},""]
[{"$f":"IF(LEN('HVI Quality Data'!A325)>0,'HVI Quality Data'!A325,\"\")","v":""},null,null,{"$f":"IF(LEN(B325)=0,\"\",ROUND($B325*'HVI Quality Data'!R325/100,0))","v":""},{"$f":"IF(LEN(B325)=0,\"\",ROUND(B325*'Base Values'!$B$16,0))","v":""},{"$f":"IF(LEN(B325)=0,\"\",ROUND(E325/2000*'Base Values'!$B$10,0))","v":""},"",{"$f":"IF(OR(LEN(B325)=0,LEN(C325)=0),\"\",ROUND(B325/(C325/100)*'Base Values'!$B$12/100,0))","v":""},{"$f":"IF(LEN(B325)=0,\"\",ROUND(B325*'Base Values'!$B$14,0))","v":""},""]
[{"$f":"IF(LEN('HVI Quality Data'!A326)>0,'HVI Quality Data'!A326,\"\")","v":""},null,null,{"$f":"IF(LEN(B326)=0,\"\",ROUND($B326*'HVI Quality Data'!R326/100,0))","v":""},{"$f":"IF(LEN(B326)=0,\"\",ROUND(B326*'Base Values'!$B$16,0))","v":""},{"$f":"IF(LEN(B326)=0,\"\",ROUND(E326/2000*'Base Values'!$B$10,0))","v":""},"",{"$f":"IF(OR(LEN(B326)=0,LEN(C326)=0),\"\",ROUND(B326/(C326/100)*'Base Values'!$B$12/100,0))","v":""},{"$f":"IF(LEN(B326)=0,\"\",ROUND(B326*'Base Values'!$B$14,0))","v":""},""]
[{"$f":"IF(LEN('HVI Quality Data'!A327)>0,'HVI Quality Data'!A327,\"\")","v":""},null,null,{"$f":"IF(LEN(B327)=0,\"\",ROUND($B327*'HVI Quality Data'!R327/100,0))","v":""},{"$f":"IF(LEN(B327)=0,\"\",ROUND(B327*'Base Values'!$B$16,0))","v":""},{"$f":"IF(LEN(B327)=0,\"\",ROUND(E327/2000*'Base Values'!$B$10,0))","v":""},"",{"$f":"IF(OR(LEN(B327)=0,LEN(C327)=0),\"\",ROUND(B327/(C327/100)*'Base Values'!$B$12/100,0))","v":""},{"$f":"IF(LEN(B327)=0,\"\",ROUND(B327*'Base Values'!$B$14,0))","v":""},""]
[{"$f":"IF(LEN('HVI Quality Data'!A328)>0,'HVI Quality Data'!A328,\"\")","v":""},null,null,{"$f":"IF(LEN(B328)=0,\"\",ROUND($B328*'HVI Quality Data'!R328/100,0))","v":""},{"$f":"IF(LEN(B328)=0,\"\",ROUND(B328*'Base Values'!$B$16,0))","v":""},{"$f":"IF(LEN(B328)=0,\"\",ROUND(E328/2000*'Base Values'!$B$10,0))","v":""},"",{"$f":"IF(OR(LEN(B328)=0,LEN(C328)=0),\"\",ROUND(B328/(C328/100)*'Base Values'!$B$12/100,0))","v":""},{"$f":"IF(LEN(B328)=0,\"\",ROUND(B328*'Base Values'!$B$14,0))","v":""},""]
[{"$f":"IF(LEN('HVI Quality Data'!A329)>0,'HVI Quality Data'!A329,\"\")","v":""},null,null,{"$f":"IF(LEN(B329)=0,\"\",ROUND($B329*'HVI Quality Data'!R329/100,0))","v":""},{"$f":"IF(LEN(B329)=0,\"\",ROUND(B329*'Base Values'!$B$16,0))","v":""},{"$f":"IF(LEN(B329)=0,\"\",ROUND(E329/2000*'Base Values'!$B$10,0))","v":""},"",{"$f":"IF(OR(LEN(B329)=0,LEN(C329)=0),\"\",ROUND(B329/(C329/100)*'Base Values'!$B$12/100,0))","v":""},{"$f":"IF(LEN(B329)=0,\"\",ROUND(B329*'Base Values'!$B$14,0))","v":""},""]
[{"$f":"IF(LEN('HVI Quality Data'!A330)>0,'HVI Quality Data'!A330,\"\")","v":""},null,null,{"$f":"IF(LEN(B330)=0,\"\",ROUND($B330*'HVI Quality Data'!R330/100,0))","v":""},{"$f":"IF(LEN(B330)=0,\"\",ROUND(B330*'Base Values'!$B$16,0))","v":""},{"$f":"IF(LEN(B330)=0,\"\",ROUND(E330/2000*'Base Values'!$B$10,0))","v":""},"",{"$f":"IF(OR(LEN(B330)=0,LEN(C330)=0),\"\",ROUND(B330/(C330/100)*'Base Values'!$B$12/100,0))","v":""},{"$f":"IF(LEN(B330)=0,\"\",ROUND(B330*'Base Values'!$B$14,0))","v":""},""]
[{"$f":"IF(LEN('HVI Quality Data'!A331)>0,'HVI Quality Data'!A331,\"\")","v":""},null,null,{"$f":"IF(LEN(B331)=0,\"\",ROUND($B331*'HVI Quality Data'!R331/100,0))","v":""},{"$f":"IF(LEN(B331)=0,\"\",ROUND(B331*'Base Values'!$B$16,0))","v":""},{"$f":"IF(LEN(B331)=0,\"\",ROUND(E331/2000*'Base Values'!$B$10,0))","v":""},"",{"$f":"IF(OR(LEN(B331)=0,LEN(C331)=0),\"\",ROUND(B331/(C331/100)*'Base Values'!$B$12/100,0))","v":""},{"$f":"IF(LEN(B331)=0,\"\",ROUND(B331*'Base Values'!$B$14,0))","v":""},""]
[{"$f":"IF(LEN('HVI Quality Data'!A332)>0,'HVI Quality Data'!A332,\"\")","v":""},null,null,{"$f":"IF(LEN(B332)=0,\"\",ROUND($B332*'HVI Quality Data'!R332/100,0))","v":""},{"$f":"IF(LEN(B332)=0,\"\",ROUND(B332*'Base Values'!$B$16,0))","v":""},{"$f":"IF(LEN(B332)=0,\"\",ROUND(E332/2000*'Base Values'!$B$10,0))","v":""},"",{"$f":"IF(OR(LEN(B332)=0,LEN(C332)=0),\"\",ROUND(B332/(C332/100)*'Base Values'!$B$12/100,0))","v":""},{"$f":"IF(LEN(B332)=0,\"\",ROUND(B332*'Base Values'!$B$14,0))","v":""},""]
[{"$f":"IF(LEN('HVI Quality Data'!A333)>0,'HVI Quality Data'!A333,\"\")","v":""},null,null,{"$f":"IF(LEN(B333)=0,\"\",ROUND($B333*'HVI Quality Data'!R333/100,0))","v":""},{"$f":"IF(LEN(B333)=0,\"\",ROUND(B333*'Base Values'!$B$16,0))","v":""},{"$f":"IF(LEN(B333)=0,\"\",ROUND(E333/2000*'Base Values'!$B$10,0))","v":""},"",{"$f":"IF(OR(LEN(B333)=0,LEN(C333)=0),\"\",ROUND(B333/(C333/100)*'Base Values'!$B$12/100,0))","v":""},{"$f":"IF(LEN(B333)=0,\"\",ROUND(B333*'Base Values'!$B$14,0))","v":""},""]
[{"$f":"IF(LEN('HVI Quality Data'!A334)>0,'HVI Quality Data'!A334,\"\")","v":""},null,null,{"$f":"IF(LEN(B334)=0,\"\",ROUND($B334*'HVI Quality Data'!R334/100,0))","v":""},{"$f":"IF(LEN(B334)=0,\"\",ROUND(B334*'Base Values'!$B$16,0))","v":""},{"$f":"IF(LEN(B334)=0,\"\",ROUND(E334/2000*'Base Values'!$B$10,0))","v":""},"",{"$f":"IF(OR(LEN(B334)=0,LEN(C334)=0),\"\",ROUND(B334/(C334/100)*'Base Values'!$B$12/100,0))","v":""},{"$f":"IF(LEN(B334)=0,\"\",ROUND(B334*'Base Values'!$B$14,0))","v":""},""]
[{"$f":"IF(LEN('HVI Quality Data'!A335)>0,'HVI Quality Data'!A335,\"\")","v":""},null,null,{"$f":"IF(LEN(B335)=0,\"\",ROUND($B335*'HVI Quality Data'!R335/100,0))","v":""},{"$f":"IF(LEN(B335)=0,\"\",ROUND(B335*'Base Values'!$B$16,0))","v":""},{"$f":"IF(LEN(B335)=0,\"\",ROUND(E335/2000*'Base Values'!$B$10,0))","v":""},"",{"$f":"IF(OR(LEN(B335)=0,LEN(C335)=0),\"\",ROUND(B335/(C335/100)*'Base Values'!$B$12/100,0))","v":""},{"$f":"IF(LEN(B335)=0,\"\",ROUND(B335*'Base Values'!$B$14,0))","v":""},""]
[{"$f":"IF(LEN('HVI Quality Data'!A336)>0,'HVI Quality Data'!A336,\"\")","v":""},null,null,{"$f":"IF(LEN(B336)=0,\"\",ROUND($B336*'HVI Quality Data'!R336/100,0))","v":""},{"$f":"IF(LEN(B336)=0,\"\",ROUND(B336*'Base Values'!$B$16,0))","v":""},{"$f":"IF(LEN(B336)=0,\"\",ROUND(E336/2000*'Base Values'!$B$10,0))","v":""},{"$f":"IF(LEN(B336)=0,\"\",SUM(D336,F336))","v":""},{"$f":"IF(OR(LEN(B336)=0,LEN(C336)=0),\"\",ROUND(B336/(C336/100)*'Base Values'!$B$12/100,0))","v":""},{"$f":"IF(LEN(B336)=0,\"\",ROUND(B336*'Base Values'!$B$14,0))","v":""},{"$f":"IF(OR(LEN(B336)=0,LEN(C336)=0),\"\",G336-H336-I336)","v":""}]
[{"$f":"IF(LEN('HVI Quality Data'!A337)>0,'HVI Quality Data'!A337,\"\")","v":""},null,null,{"$f":"IF(LEN(B337)=0,\"\",ROUND($B337*'HVI Quality Data'!R337/100,0))","v":""},{"$f":"IF(LEN(B337)=0,\"\",ROUND(B337*'Base Values'!$B$16,0))","v":""},{"$f":"IF(LEN(B337)=0,\"\",ROUND(E337/2000*'Base Values'!$B$10,0))","v":""},"",{"$f":"IF(OR(LEN(B337)=0,LEN(C337)=0),\"\",ROUND(B337/(C337/100)*'Base Values'!$B$12/100,0))","v":""},{"$f":"IF(LEN(B337)=0,\"\",ROUND(B337*'Base Values'!$B$14,0))","v":""},""]
[{"$f":"IF(LEN('HVI Quality Data'!A338)>0,'HVI Quality Data'!A338,\"\")","v":""},null,null,{"$f":"IF(LEN(B338)=0,\"\",ROUND($B338*'HVI Quality Data'!R338/100,0))","v":""},{"$f":"IF(LEN(B338)=0,\"\",ROUND(B338*'Base Values'!$B$16,0))","v":""},{"$f":"IF(LEN(B338)=0,\"\",ROUND(E338/2000*'Base Values'!$B$10,0))","v":""},"",{"$f":"IF(OR(LEN(B338)=0,LEN(C338)=0),\"\",ROUND(B338/(C338/100)*'Base Values'!$B$12/100,0))","v":""},{"$f":"IF(LEN(B338)=0,\"\",ROUND(B338*'Base Values'!$B$14,0))","v":""},""]
[{"$f":"IF(LEN('HVI Quality Data'!A339)>0,'HVI Quality Data'!A339,\"\")","v":""},null,null,{"$f":"IF(LEN(B339)=0,\"\",ROUND($B339*'HVI Quality Data'!R339/100,0))","v":""},{"$f":"IF(LEN(B339)=0,\"\",ROUND(B339*'Base Values'!$B$16,0))","v":""},{"$f":"IF(LEN(B339)=0,\"\",ROUND(E339/2000*'Base Values'!$B$10,0))","v":""},"",{"$f":"IF(OR(LEN(B339)=0,LEN(C339)=0),\"\",ROUND(B339/(C339/100)*'Base Values'!$B$12/100,0))","v":""},{"$f":"IF(LEN(B339)=0,\"\",ROUND(B339*'Base Values'!$B$14,0))","v":""},""]
[{"$f":"IF(LEN('HVI Quality Data'!A340)>0,'HVI Quality Data'!A340,\"\")","v":""},null,null,{"$f":"IF(LEN(B340)=0,\"\",ROUND($B340*'HVI Quality Data'!R340/100,0))","v":""},{"$f":"IF(LEN(B340)=0,\"\",ROUND(B340*'Base Values'!$B$16,0))","v":""},{"$f":"IF(LEN(B340)=0,\"\",ROUND(E340/2000*'Base Values'!$B$10,0))","v":""},"",{"$f":"IF(OR(LEN(B340)=0,LEN(C340)=0),\"\",ROUND(B340/(C340/100)*'Base Values'!$B$12/100,0))","v":""},{"$f":"IF(LEN(B340)=0,\"\",ROUND(B340*'Base Values'!$B$14,0))","v":""},""]
[{"$f":"IF(LEN('HVI Quality Data'!A341)>0,'HVI Quality Data'!A341,\"\")","v":""},null,null,{"$f":"IF(LEN(B341)=0,\"\",ROUND($B341*'HVI Quality Data'!R341/100,0))","v":""},{"$f":"IF(LEN(B341)=0,\"\",ROUND(B341*'Base Values'!$B$16,0))","v":""},{"$f":"IF(LEN(B341)=0,\"\",ROUND(E341/2000*'Base Values'!$B$10,0))","v":""},"",{"$f":"IF(OR(LEN(B341)=0,LEN(C341)=0),\"\",ROUND(B341/(C341/100)*'Base Values'!$B$12/100,0))","v":""},{"$f":"IF(LEN(B341)=0,\"\",ROUND(B341*'Base Values'!$B$14,0))","v":""},""]
[{"$f":"IF(LEN('HVI Quality Data'!A342)>0,'HVI Quality Data'!A342,\"\")","v":""},null,null,{"$f":"IF(LEN(B342)=0,\"\",ROUND($B342*'HVI Quality Data'!R342/100,0))","v":""},{"$f":"IF(LEN(B342)=0,\"\",ROUND(B342*'Base Values'!$B$16,0))","v":""},{"$f":"IF(LEN(B342)=0,\"\",ROUND(E342/2000*'Base Values'!$B$10,0))","v":""},"",{"$f":"IF(OR(LEN(B342)=0,LEN(C342)=0),\"\",ROUND(B342/(C342/100)*'Base Values'!$B$12/100,0))","v":""},{"$f":"IF(LEN(B342)=0,\"\",ROUND(B342*'Base Values'!$B$14,0))","v":""},""]
[{"$f":"IF(LEN('HVI Quality Data'!A343)>0,'HVI Quality Data'!A343,\"\")","v":""},null,null,{"$f":"IF(LEN(B343)=0,\"\",ROUND($B343*'HVI Quality Data'!R343/100,0))","v":""},{"$f":"IF(LEN(B343)=0,\"\",ROUND(B343*'Base Values'!$B$16,0))","v":""},{"$f":"IF(LEN(B343)=0,\"\",ROUND(E343/2000*'Base Values'!$B$10,0))","v":""},"",{"$f":"IF(OR(LEN(B343)=0,LEN(C343)=0),\"\",ROUND(B343/(C343/100)*'Base Values'!$B$12/100,0))","v":""},{"$f":"IF(LEN(B343)=0,\"\",ROUND(B343*'Base Values'!$B$14,0))","v":""},""]
[{"$f":"IF(LEN('HVI Quality Data'!A344)>0,'HVI Quality Data'!A344,\"\")","v":""},null,null,{"$f":"IF(LEN(B344)=0,\"\",ROUND($B344*'HVI Quality Data'!R344/100,0))","v":""},{"$f":"IF(LEN(B344)=0,\"\",ROUND(B344*'Base Values'!$B$16,0))","v":""},{"$f":"IF(LEN(B344)=0,\"\",ROUND(E344/2000*'Base Values'!$B$10,0))","v":""},"",{"$f":"IF(OR(LEN(B344)=0,LEN(C344)=0),\"\",ROUND(B344/(C344/100)*'Base Values'!$B$12/100,0))","v":""},{"$f":"IF(LEN(B344)=0,\"\",ROUND(B344*'Base Values'!$B$14,0))","v":""},""]
[{"$f":"IF(LEN('HVI Quality Data'!A345)>0,'HVI Quality Data'!A345,\"\")","v":""},null,null,{"$f":"IF(LEN(B345)=0,\"\",ROUND($B345*'HVI Quality Data'!R345/100,0))","v":""},{"$f":"IF(LEN(B345)=0,\"\",ROUND(B345*'Base Values'!$B$16,0))","v":""},{"$f":"IF(LEN(B345)=0,\"\",ROUND(E345/2000*'Base Values'!$B$10,0))","v":""},"",{"$f":"IF(OR(LEN(B345)=0,LEN(C345)=0),\"\",ROUND(B345/(C345/100)*'Base Values'!$B$12/100,0))","v":""},{"$f":"IF(LEN(B345)=0,\"\",ROUND(B345*'Base Values'!$B$14,0))","v":""},""]
[{"$f":"IF(LEN('HVI Quality Data'!A346)>0,'HVI Quality Data'!A346,\"\")","v":""},null,null,{"$f":"IF(LEN(B346)=0,\"\",ROUND($B346*'HVI Quality Data'!R346/100,0))","v":""},{"$f":"IF(LEN(B346)=0,\"\",ROUND(B346*'Base Values'!$B$16,0))","v":""},{"$f":"IF(LEN(B346)=0,\"\",ROUND(E346/2000*'Base Values'!$B$10,0))","v":""},"",{"$f":"IF(OR(LEN(B346)=0,LEN(C346)=0),\"\",ROUND(B346/(C346/100)*'Base Values'!$B$12/100,0))","v":""},{"$f":"IF(LEN(B346)=0,\"\",ROUND(B346*'Base Values'!$B$14,0))","v":""},""]
[{"$f":"IF(LEN('HVI Quality Data'!A347)>0,'HVI Quality Data'!A347,\"\")","v":""},null,null,{"$f":"IF(LEN(B347)=0,\"\",ROUND($B347*'HVI Quality Data'!R347/100,0))","v":""},{"$f":"IF(LEN(B347)=0,\"\",ROUND(B347*'Base Values'!$B$16,0))","v":""},{"$f":"IF(LEN(B347)=0,\"\",ROUND(E347/2000*'Base Values'!$B$10,0))","v":""},"",{"$f":"IF(OR(LEN(B347)=0,LEN(C347)=0),\"\",ROUND(B347/(C347/100)*'Base Values'!$B$12/100,0))","v":""},{"$f":"IF(LEN(B347)=0,\"\",ROUND(B347*'Base Values'!$B$14,0))","v":""},""]
[{"$f":"IF(LEN('HVI Quality Data'!A348)>0,'HVI Quality Data'!A348,\"\")","v":""},null,null,{"$f":"IF(LEN(B348)=0,\"\",ROUND($B348*'HVI Quality Data'!R348/100,0))","v":""},{"$f":"IF(LEN(B348)=0,\"\",ROUND(B348*'Base Values'!$B$16,0))","v":""},{"$f":"IF(LEN(B348)=0,\"\",ROUND(E348/2000*'Base Values'!$B$10,0))","v":""},"",{"$f":"IF(OR(LEN(B348)=0,LEN(C348)=0),\"\",ROUND(B348/(C348/100)*'Base Values'!$B$12/100,0))","v":""},{"$f":"IF(LEN(B348)=0,\"\",ROUND(B348*'Base Values'!$B$14,0))","v":""},""]
[{"$f":"IF(LEN('HVI Quality Data'!A349)>0,'HVI Quality Data'!A349,\"\")","v":""},null,null,{"$f":"IF(LEN(B349)=0,\"\",ROUND($B349*'HVI Quality Data'!R349/100,0))","v":""},{"$f":"IF(LEN(B349)=0,\"\",ROUND(B349*'Base Values'!$B$16,0))","v":""},{"$f":"IF(LEN(B349)=0,\"\",ROUND(E349/2000*'Base Values'!$B$10,0))","v":""},"",{"$f":"IF(OR(LEN(B349)=0,LEN(C349)=0),\"\",ROUND(B349/(C349/100)*'Base Values'!$B$12/100,0))","v":""},{"$f":"IF(LEN(B349)=0,\"\",ROUND(B349*'Base Values'!$B$14,0))","v":""},""]
[{"$f":"IF(LEN('HVI Quality Data'!A350)>0,'HVI Quality Data'!A350,\"\")","v":""},null,null,{"$f":"IF(LEN(B350)=0,\"\",ROUND($B350*'HVI Quality Data'!R350/100,0))","v":""},{"$f":"IF(LEN(B350)=0,\"\",ROUND(B350*'Base Values'!$B$16,0))","v":""},{"$f":"IF(LEN(B350)=0,\"\",ROUND(E350/2000*'Base Values'!$B$10,0))","v":""},"",{"$f":"IF(OR(LEN(B350)=0,LEN(C350)=0),\"\",ROUND(B350/(C350/100)*'Base Values'!$B$12/100,0))","v":""},{"$f":"IF(LEN(B350)=0,\"\",ROUND(B350*'Base Values'!$B$14,0))","v":""},""]
[{"$f":"IF(LEN('HVI Quality Data'!A351)>0,'HVI Quality Data'!A351,\"\")","v":""},null,null,{"$f":"IF(LEN(B351)=0,\"\",ROUND($B351*'HVI Quality Data'!R351/100,0))","v":""},{"$f":"IF(LEN(B351)=0,\"\",ROUND(B351*'Base Values'!$B$16,0))","v":""},{"$f":"IF(LEN(B351)=0,\"\",ROUND(E351/2000*'Base Values'!$B$10,0))","v":""},"",{"$f":"IF(OR(LEN(B351)=0,LEN(C351)=0),\"\",ROUND(B351/(C351/100)*'Base Values'!$B$12/100,0))","v":""},{"$f":"IF(LEN(B351)=0,\"\",ROUND(B351*'Base Values'!$B$14,0))","v":""},""]
[{"$f":"IF(LEN('HVI Quality Data'!A352)>0,'HVI Quality Data'!A352,\"\")","v":""},null,null,{"$f":"IF(LEN(B352)=0,\"\",ROUND($B352*'HVI Quality Data'!R352/100,0))","v":""},{"$f":"IF(LEN(B352)=0,\"\",ROUND(B352*'Base Values'!$B$16,0))","v":""},{"$f":"IF(LEN(B352)=0,\"\",ROUND(E352/2000*'Base Values'!$B$10,0))","v":""},"",{"$f":"IF(OR(LEN(B352)=0,LEN(C352)=0),\"\",ROUND(B352/(C352/100)*'Base Values'!$B$12/100,0))","v":""},{"$f":"IF(LEN(B352)=0,\"\",ROUND(B352*'Base Values'!$B$14,0))","v":""},""]
[{"$f":"IF(LEN('HVI Quality Data'!A353)>0,'HVI Quality Data'!A353,\"\")","v":""},null,null,{"$f":"IF(LEN(B353)=0,\"\",ROUND($B353*'HVI Quality Data'!R353/100,0))","v":""},{"$f":"IF(LEN(B353)=0,\"\",ROUND(B353*'Base Values'!$B$16,0))","v":""},{"$f":"IF(LEN(B353)=0,\"\",ROUND(E353/2000*'Base Values'!$B$10,0))","v":""},"",{"$f":"IF(OR(LEN(B353)=0,LEN(C353)=0),\"\",ROUND(B353/(C353/100)*'Base Values'!$B$12/100,0))","v":""},{"$f":"IF(LEN(B353)=0,\"\",ROUND(B353*'Base Values'!$B$14,0))","v":""},""]
[{"$f":"IF(LEN('HVI Quality Data'!A354)>0,'HVI Quality Data'!A354,\"\")","v":""},null,null,{"$f":"IF(LEN(B354)=0,\"\",ROUND($B354*'HVI Quality Data'!R354/100,0))","v":""},{"$f":"IF(LEN(B354)=0,\"\",ROUND(B354*'Base Values'!$B$16,0))","v":""},{"$f":"IF(LEN(B354)=0,\"\",ROUND(E354/2000*'Base Values'!$B$10,0))","v":""},"",{"$f":"IF(OR(LEN(B354)=0,LEN(C354)=0),\"\",ROUND(B354/(C354/100)*'Base Values'!$B$12/100,0))","v":""},{"$f":"IF(LEN(B354)=0,\"\",ROUND(B354*'Base Values'!$B$14,0))","v":""},""]
[{"$f":"IF(LEN('HVI Quality Data'!A355)>0,'HVI Quality Data'!A355,\"\")","v":""},null,null,{"$f":"IF(LEN(B355)=0,\"\",ROUND($B355*'HVI Quality Data'!R355/100,0))","v":""},{"$f":"IF(LEN(B355)=0,\"\",ROUND(B355*'Base Values'!$B$16,0))","v":""},{"$f":"IF(LEN(B355)=0,\"\",ROUND(E355/2000*'Base Values'!$B$10,0))","v":""},"",{"$f":"IF(OR(LEN(B355)=0,LEN(C355)=0),\"\",ROUND(B355/(C355/100)*'Base Values'!$B$12/100,0))","v":""},{"$f":"IF(LEN(B355)=0,\"\",ROUND(B355*'Base Values'!$B$14,0))","v":""},""]
[{"$f":"IF(LEN('HVI Quality Data'!A356)>0,'HVI Quality Data'!A356,\"\")","v":""},null,null,{"$f":"IF(LEN(B356)=0,\"\",ROUND($B356*'HVI Quality Data'!R356/100,0))","v":""},{"$f":"IF(LEN(B356)=0,\"\",ROUND(B356*'Base Values'!$B$16,0))","v":""},{"$f":"IF(LEN(B356)=0,\"\",ROUND(E356/2000*'Base Values'!$B$10,0))","v":""},"",{"$f":"IF(OR(LEN(B356)=0,LEN(C356)=0),\"\",ROUND(B356/(C356/100)*'Base Values'!$B$12/100,0))","v":""},{"$f":"IF(LEN(B356)=0,\"\",ROUND(B356*'Base Values'!$B$14,0))","v":""},""]
[{"$f":"IF(LEN('HVI Quality Data'!A357)>0,'HVI Quality Data'!A357,\"\")","v":""},null,null,{"$f":"IF(LEN(B357)=0,\"\",ROUND($B357*'HVI Quality Data'!R357/100,0))","v":""},{"$f":"IF(LEN(B357)=0,\"\",ROUND(B357*'Base Values'!$B$16,0))","v":""},{"$f":"IF(LEN(B357)=0,\"\",ROUND(E357/2000*'Base Values'!$B$10,0))","v":""},"",{"$f":"IF(OR(LEN(B357)=0,LEN(C357)=0),\"\",ROUND(B357/(C357/100)*'Base Values'!$B$12/100,0))","v":""},{"$f":"IF(LEN(B357)=0,\"\",ROUND(B357*'Base Values'!$B$14,0))","v":""},""]
[{"$f":"IF(LEN('HVI Quality Data'!A358)>0,'HVI Quality Data'!A358,\"\")","v":""},null,null,{"$f":"IF(LEN(B358)=0,\"\",ROUND($B358*'HVI Quality Data'!R358/100,0))","v":""},{"$f":"IF(LEN(B358)=0,\"\",ROUND(B358*'Base Values'!$B$16,0))","v":""},{"$f":"IF(LEN(B358)=0,\"\",ROUND(E358/2000*'Base Values'!$B$10,0))","v":""},"",{"$f":"IF(OR(LEN(B358)=0,LEN(C358)=0),\"\",ROUND(B358/(C358/100)*'Base Values'!$B$12/100,0))","v":""},{"$f":"IF(LEN(B358)=0,\"\",ROUND(B358*'Base Values'!$B$14,0))","v":""},""]
[{"$f":"IF(LEN('HVI Quality Data'!A359)>0,'HVI Quality Data'!A359,\"\")","v":""},null,null,{"$f":"IF(LEN(B359)=0,\"\",ROUND($B359*'HVI Quality Data'!R359/100,0))","v":""},{"$f":"IF(LEN(B359)=0,\"\",ROUND(B359*'Base Values'!$B$16,0))","v":""},{"$f":"IF(LEN(B359)=0,\"\",ROUND(E359/2000*'Base Values'!$B$10,0))","v":""},"",{"$f":"IF(OR(LEN(B359)=0,LEN(C359)=0),\"\",ROUND(B359/(C359/100)*'Base Values'!$B$12/100,0))","v":""},{"$f":"IF(LEN(B359)=0,\"\",ROUND(B359*'Base Values'!$B$14,0))","v":""},""]
[{"$f":"IF(LEN('HVI Quality Data'!A360)>0,'HVI Quality Data'!A360,\"\")","v":""},null,null,{"$f":"IF(LEN(B360)=0,\"\",ROUND($B360*'HVI Quality Data'!R360/100,0))","v":""},{"$f":"IF(LEN(B360)=0,\"\",ROUND(B360*'Base Values'!$B$16,0))","v":""},{"$f":"IF(LEN(B360)=0,\"\",ROUND(E360/2000*'Base Values'!$B$10,0))","v":""},"",{"$f":"IF(OR(LEN(B360)=0,LEN(C360)=0),\"\",ROUND(B360/(C360/100)*'Base Values'!$B$12/100,0))","v":""},{"$f":"IF(LEN(B360)=0,\"\",ROUND(B360*'Base Values'!$B$14,0))","v":""},""]
[{"$f":"IF(LEN('HVI Quality Data'!A361)>0,'HVI Quality Data'!A361,\"\")","v":""},null,null,{"$f":"IF(LEN(B361)=0,\"\",ROUND($B361*'HVI Quality Data'!R361/100,0))","v":""},{"$f":"IF(LEN(B361)=0,\"\",ROUND(B361*'Base Values'!$B$16,0))","v":""},{"$f":"IF(LEN(B361)=0,\"\",ROUND(E361/2000*'Base Values'!$B$10,0))","v":""},"",{"$f":"IF(OR(LEN(B361)=0,LEN(C361)=0),\"\",ROUND(B361/(C361/100)*'Base Values'!$B$12/100,0))","v":""},{"$f":"IF(LEN(B361)=0,\"\",ROUND(B361*'Base Values'!$B$14,0))","v":""},""]
[{"$f":"IF(LEN('HVI Quality Data'!A362)>0,'HVI Quality Data'!A362,\"\")","v":""},null,null,{"$f":"IF(LEN(B362)=0,\"\",ROUND($B362*'HVI Quality Data'!R362/100,0))","v":""},{"$f":"IF(LEN(B362)=0,\"\",ROUND(B362*'Base Values'!$B$16,0))","v":""},{"$f":"IF(LEN(B362)=0,\"\",ROUND(E362/2000*'Base Values'!$B$10,0))","v":""},"",{"$f":"IF(OR(LEN(B362)=0,LEN(C362)=0),\"\",ROUND(B362/(C362/100)*'Base Values'!$B$12/100,0))","v":""},{"$f":"IF(LEN(B362)=0,\"\",ROUND(B362*'Base Values'!$B$14,0))","v":""},""]
[{"$f":"IF(LEN('HVI Quality Data'!A363)>0,'HVI Quality Data'!A363,\"\")","v":""},null,null,{"$f":"IF(LEN(B363)=0,\"\",ROUND($B363*'HVI Quality Data'!R363/100,0))","v":""},{"$f":"IF(LEN(B363)=0,\"\",ROUND(B363*'Base Values'!$B$16,0))","v":""},{"$f":"IF(LEN(B363)=0,\"\",ROUND(E363/2000*'Base Values'!$B$10,0))","v":""},"",{"$f":"IF(OR(LEN(B363)=0,LEN(C363)=0),\"\",ROUND(B363/(C363/100)*'Base Values'!$B$12/100,0))","v":""},{"$f":"IF(LEN(B363)=0,\"\",ROUND(B363*'Base Values'!$B$14,0))","v":""},""]
[{"$f":"IF(LEN('HVI Quality Data'!A364)>0,'HVI Quality Data'!A364,\"\")","v":""},null,null,{"$f":"IF(LEN(B364)=0,\"\",ROUND($B364*'HVI Quality Data'!R364/100,0))","v":""},{"$f":"IF(LEN(B364)=0,\"\",ROUND(B364*'Base Values'!$B$16,0))","v":""},{"$f":"IF(LEN(B364)=0,\"\",ROUND(E364/2000*'Base Values'!$B$10,0))","v":""},"",{"$f":"IF(OR(LEN(B364)=0,LEN(C364)=0),\"\",ROUND(B364/(C364/100)*'Base Values'!$B$12/100,0))","v":""},{"$f":"IF(LEN(B364)=0,\"\",ROUND(B364*'Base Values'!$B$14,0))","v":""},""]
[{"$f":"IF(LEN('HVI Quality Data'!A365)>0,'HVI Quality Data'!A365,\"\")","v":""},null,null,{"$f":"IF(LEN(B365)=0,\"\",ROUND($B365*'HVI Quality Data'!R365/100,0))","v":""},{"$f":"IF(LEN(B365)=0,\"\",ROUND(B365*'Base Values'!$B$16,0))","v":""},{"$f":"IF(LEN(B365)=0,\"\",ROUND(E365/2000*'Base Values'!$B$10,0))","v":""},"",{"$f":"IF(OR(LEN(B365)=0,LEN(C365)=0),\"\",ROUND(B365/(C365/100)*'Base Values'!$B$12/100,0))","v":""},{"$f":"IF(LEN(B365)=0,\"\",ROUND(B365*'Base Values'!$B$14,0))","v":""},""]
[{"$f":"IF(LEN('HVI Quality Data'!A366)>0,'HVI Quality Data'!A366,\"\")","v":""},null,null,{"$f":"IF(LEN(B366)=0,\"\",ROUND($B366*'HVI Quality Data'!R366/100,0))","v":""},{"$f":"IF(LEN(B366)=0,\"\",ROUND(B366*'Base Values'!$B$16,0))","v":""},{"$f":"IF(LEN(B366)=0,\"\",ROUND(E366/2000*'Base Values'!$B$10,0))","v":""},"",{"$f":"IF(OR(LEN(B366)=0,LEN(C366)=0),\"\",ROUND(B366/(C366/100)*'Base Values'!$B$12/100,0))","v":""},{"$f":"IF(LEN(B366)=0,\"\",ROUND(B366*'Base Values'!$B$14,0))","v":""},""]
[{"$f":"IF(LEN('HVI Quality Data'!A367)>0,'HVI Quality Data'!A367,\"\")","v":""},null,null,{"$f":"IF(LEN(B367)=0,\"\",ROUND($B367*'HVI Quality Data'!R367/100,0))","v":""},{"$f":"IF(LEN(B367)=0,\"\",ROUND(B367*'Base Values'!$B$16,0))","v":""},{"$f":"IF(LEN(B367)=0,\"\",ROUND(E367/2000*'Base Values'!$B$10,0))","v":""},"",{"$f":"IF(OR(LEN(B367)=0,LEN(C367)=0),\"\",ROUND(B367/(C367/100)*'Base Values'!$B$12/100,0))","v":""},{"$f":"IF(LEN(B367)=0,\"\",ROUND(B367*'Base Values'!$B$14,0))","v":""},""]
[{"$f":"IF(LEN('HVI Quality Data'!A368)>0,'HVI Quality Data'!A368,\"\")","v":""},null,null,{"$f":"IF(LEN(B368)=0,\"\",ROUND($B368*'HVI Quality Data'!R368/100,0))","v":""},{"$f":"IF(LEN(B368)=0,\"\",ROUND(B368*'Base Values'!$B$16,0))","v":""},{"$f":"IF(LEN(B368)=0,\"\",ROUND(E368/2000*'Base Values'!$B$10,0))","v":""},"",{"$f":"IF(OR(LEN(B368)=0,LEN(C368)=0),\"\",ROUND(B368/(C368/100)*'Base Values'!$B$12/100,0))","v":""},{"$f":"IF(LEN(B368)=0,\"\",ROUND(B368*'Base Values'!$B$14,0))","v":""},""]
[{"$f":"IF(LEN('HVI Quality Data'!A369)>0,'HVI Quality Data'!A369,\"\")","v":""},null,null,{"$f":"IF(LEN(B369)=0,\"\",ROUND($B369*'HVI Quality Data'!R369/100,0))","v":""},{"$f":"IF(LEN(B369)=0,\"\",ROUND(B369*'Base Values'!$B$16,0))","v":""},{"$f":"IF(LEN(B369)=0,\"\",ROUND(E369/2000*'Base Values'!$B$10,0))","v":""},"",{"$f":"IF(OR(LEN(B369)=0,LEN(C369)=0),\"\",ROUND(B369/(C369/100)*'Base Values'!$B$12/100,0))","v":""},{"$f":"IF(LEN(B369)=0,\"\",ROUND(B369*'Base Values'!$B$14,0))","v":""},""]
[{"$f":"IF(LEN('HVI Quality Data'!A370)>0,'HVI Quality Data'!A370,\"\")","v":""},null,null,{"$f":"IF(LEN(B370)=0,\"\",ROUND($B370*'HVI Quality Data'!R370/100,0))","v":""},{"$f":"IF(LEN(B370)=0,\"\",ROUND(B370*'Base Values'!$B$16,0))","v":""},{"$f":"IF(LEN(B370)=0,\"\",ROUND(E370/2000*'Base Values'!$B$10,0))","v":""},"",{"$f":"IF(OR(LEN(B370)=0,LEN(C370)=0),\"\",ROUND(B370/(C370/100)*'Base Values'!$B$12/100,0))","v":""},{"$f":"IF(LEN(B370)=0,\"\",ROUND(B370*'Base Values'!$B$14,0))","v":""},""]
[{"$f":"IF(LEN('HVI Quality Data'!A371)>0,'HVI Quality Data'!A371,\"\")","v":""},null,null,{"$f":"IF(LEN(B371)=0,\"\",ROUND($B371*'HVI Quality Data'!R371/100,0))","v":""},{"$f":"IF(LEN(B371)=0,\"\",ROUND(B371*'Base Values'!$B$16,0))","v":""},{"$f":"IF(LEN(B371)=0,\"\",ROUND(E371/2000*'Base Values'!$B$10,0))","v":""},"",{"$f":"IF(OR(LEN(B371)=0,LEN(C371)=0),\"\",ROUND(B371/(C371/100)*'Base Values'!$B$12/100,0))","v":""},{"$f":"IF(LEN(B371)=0,\"\",ROUND(B371*'Base Values'!$B$14,0))","v":""},""]
[{"$f":"IF(LEN('HVI Quality Data'!A372)>0,'HVI Quality Data'!A372,\"\")","v":""},null,null,{"$f":"IF(LEN(B372)=0,\"\",ROUND($B372*'HVI Quality Data'!R372/100,0))","v":""},{"$f":"IF(LEN(B372)=0,\"\",ROUND(B372*'Base Values'!$B$16,0))","v":""},{"$f":"IF(LEN(B372)=0,\"\",ROUND(E372/2000*'Base Values'!$B$10,0))","v":""},"",{"$f":"IF(OR(LEN(B372)=0,LEN(C372)=0),\"\",ROUND(B372/(C372/100)*'Base Values'!$B$12/100,0))","v":""},{"$f":"IF(LEN(B372)=0,\"\",ROUND(B372*'Base Values'!$B$14,0))","v":""},""]
[{"$f":"IF(LEN('HVI Quality Data'!A373)>0,'HVI Quality Data'!A373,\"\")","v":""},null,null,{"$f":"IF(LEN(B373)=0,\"\",ROUND($B373*'HVI Quality Data'!R373/100,0))","v":""},{"$f":"IF(LEN(B373)=0,\"\",ROUND(B373*'Base Values'!$B$16,0))","v":""},{"$f":"IF(LEN(B373)=0,\"\",ROUND(E373/2000*'Base Values'!$B$10,0))","v":""},"",{"$f":"IF(OR(LEN(B373)=0,LEN(C373)=0),\"\",ROUND(B373/(C373/100)*'Base Values'!$B$12/100,0))","v":""},{"$f":"IF(LEN(B373)=0,\"\",ROUND(B373*'Base Values'!$B$14,0))","v":""},""]
[{"$f":"IF(LEN('HVI Quality Data'!A374)>0,'HVI Quality Data'!A374,\"\")","v":""},null,null,{"$f":"IF(LEN(B374)=0,\"\",ROUND($B374*'HVI Quality Data'!R374/100,0))","v":""},{"$f":"IF(LEN(B374)=0,\"\",ROUND(B374*'Base Values'!$B$16,0))","v":""},{"$f":"IF(LEN(B374)=0,\"\",ROUND(E374/2000*'Base Values'!$B$10,0))","v":""},"",{"$f":"IF(OR(LEN(B374)=0,LEN(C374)=0),\"\",ROUND(B374/(C374/100)*'Base Values'!$B$12/100,0))","v":""},{"$f":"IF(LEN(B374)=0,\"\",ROUND(B374*'Base Values'!$B$14,0))","v":""},""]
[{"$f":"IF(LEN('HVI Quality Data'!A375)>0,'HVI Quality Data'!A375,\"\")","v":""},null,null,{"$f":"IF(LEN(B375)=0,\"\",ROUND($B375*'HVI Quality Data'!R375/100,0))","v":""},{"$f":"IF(LEN(B375)=0,\"\",ROUND(B375*'Base Values'!$B$16,0))","v":""},{"$f":"IF(LEN(B375)=0,\"\",ROUND(E375/2000*'Base Values'!$B$10,0))","v":""},"",{"$f":"IF(OR(LEN(B375)=0,LEN(C375)=0),\"\",ROUND(B375/(C375/100)*'Base Values'!$B$12/100,0))","v":""},{"$f":"IF(LEN(B375)=0,\"\",ROUND(B375*'Base Values'!$B$14,0))","v":""},""]
[{"$f":"IF(LEN('HVI Quality Data'!A376)>0,'HVI Quality Data'!A376,\"\")","v":""},null,null,{"$f":"IF(LEN(B376)=0,\"\",ROUND($B376*'HVI Quality Data'!R376/100,0))","v":""},{"$f":"IF(LEN(B376)=0,\"\",ROUND(B376*'Base Values'!$B$16,0))","v":""},{"$f":"IF(LEN(B376)=0,\"\",ROUND(E376/2000*'Base Values'!$B$10,0))","v":""},"",{"$f":"IF(OR(LEN(B376)=0,LEN(C376)=0),\"\",ROUND(B376/(C376/100)*'Base Values'!$B$12/100,0))","v":""},{"$f":"IF(LEN(B376)=0,\"\",ROUND(B376*'Base Values'!$B$14,0))","v":""},""]
[{"$f":"IF(LEN('HVI Quality Data'!A377)>0,'HVI Quality Data'!A377,\"\")","v":""},null,null,{"$f":"IF(LEN(B377)=0,\"\",ROUND($B377*'HVI Quality Data'!R377/100,0))","v":""},{"$f":"IF(LEN(B377)=0,\"\",ROUND(B377*'Base Values'!$B$16,0))","v":""},{"$f":"IF(LEN(B377)=0,\"\",ROUND(E377/2000*'Base Values'!$B$10,0))","v":""},"",{"$f":"IF(OR(LEN(B377)=0,LEN(C377)=0),\"\",ROUND(B377/(C377/100)*'Base Values'!$B$12/100,0))","v":""},{"$f":"IF(LEN(B377)=0,\"\",ROUND(B377*'Base Values'!$B$14,0))","v":""},""]
[{"$f":"IF(LEN('HVI Quality Data'!A378)>0,'HVI Quality Data'!A378,\"\")","v":""},null,null,{"$f":"IF(LEN(B378)=0,\"\",ROUND($B378*'HVI Quality Data'!R378/100,0))","v":""},{"$f":"IF(LEN(B378)=0,\"\",ROUND(B378*'Base Values'!$B$16,0))","v":""},{"$f":"IF(LEN(B378)=0,\"\",ROUND(E378/2000*'Base Values'!$B$10,0))","v":""},"",{"$f":"IF(OR(LEN(B378)=0,LEN(C378)=0),\"\",ROUND(B378/(C378/100)*'Base Values'!$B$12/100,0))","v":""},{"$f":"IF(LEN(B378)=0,\"\",ROUND(B378*'Base Values'!$B$14,0))","v":""},""]
[{"$f":"IF(LEN('HVI Quality Data'!A379)>0,'HVI Quality Data'!A379,\"\")","v":""},null,null,{"$f":"IF(LEN(B379)=0,\"\",ROUND($B379*'HVI Quality Data'!R379/100,0))","v":""},{"$f":"IF(LEN(B379)=0,\"\",ROUND(B379*'Base Values'!$B$16,0))","v":""},{"$f":"IF(LEN(B379)=0,\"\",ROUND(E379/2000*'Base Values'!$B$10,0))","v":""},"",{"$f":"IF(OR(LEN(B379)=0,LEN(C379)=0),\"\",ROUND(B379/(C379/100)*'Base Values'!$B$12/100,0))","v":""},{"$f":"IF(LEN(B379)=0,\"\",ROUND(B379*'Base Values'!$B$14,0))","v":""},""]
[{"$f":"IF(LEN('HVI Quality Data'!A380)>0,'HVI Quality Data'!A380,\"\")","v":""},null,null,{"$f":"IF(LEN(B380)=0,\"\",ROUND($B380*'HVI Quality Data'!R380/100,0))","v":""},{"$f":"IF(LEN(B380)=0,\"\",ROUND(B380*'Base Values'!$B$16,0))","v":""},{"$f":"IF(LEN(B380)=0,\"\",ROUND(E380/2000*'Base Values'!$B$10,0))","v":""},"",{"$f":"IF(OR(LEN(B380)=0,LEN(C380)=0),\"\",ROUND(B380/(C380/100)*'Base Values'!$B$12/100,0))","v":""},{"$f":"IF(LEN(B380)=0,\"\",ROUND(B380*'Base Values'!$B$14,0))","v":""},""]
[{"$f":"IF(LEN('HVI Quality Data'!A381)>0,'HVI Quality Data'!A381,\"\")","v":""},null,null,{"$f":"IF(LEN(B381)=0,\"\",ROUND($B381*'HVI Quality Data'!R381/100,0))","v":""},{"$f":"IF(LEN(B381)=0,\"\",ROUND(B381*'Base Values'!$B$16,0))","v":""},{"$f":"IF(LEN(B381)=0,\"\",ROUND(E381/2000*'Base Values'!$B$10,0))","v":""},"",{"$f":"IF(OR(LEN(B381)=0,LEN(C381)=0),\"\",ROUND(B381/(C381/100)*'Base Values'!$B$12/100,0))","v":""},{"$f":"IF(LEN(B381)=0,\"\",ROUND(B381*'Base Values'!$B$14,0))","v":""},""]
[{"$f":"IF(LEN('HVI Quality Data'!A382)>0,'HVI Quality Data'!A382,\"\")","v":""},null,null,{"$f":"IF(LEN(B382)=0,\"\",ROUND($B382*'HVI Quality Data'!R382/100,0))","v":""},{"$f":"IF(LEN(B382)=0,\"\",ROUND(B382*'Base Values'!$B$16,0))","v":""},{"$f":"IF(LEN(B382)=0,\"\",ROUND(E382/2000*'Base Values'!$B$10,0))","v":""},"",{"$f":"IF(OR(LEN(B382)=0,LEN(C382)=0),\"\",ROUND(B382/(C382/100)*'Base Values'!$B$12/100,0))","v":""},{"$f":"IF(LEN(B382)=0,\"\",ROUND(B382*'Base Values'!$B$14,0))","v":""},""]
[{"$f":"IF(LEN('HVI Quality Data'!A383)>0,'HVI Quality Data'!A383,\"\")","v":""},null,null,{"$f":"IF(LEN(B383)=0,\"\",ROUND($B383*'HVI Quality Data'!R383/100,0))","v":""},{"$f":"IF(LEN(B383)=0,\"\",ROUND(B383*'Base Values'!$B$16,0))","v":""},{"$f":"IF(LEN(B383)=0,\"\",ROUND(E383/2000*'Base Values'!$B$10,0))","v":""},"",{"$f":"IF(OR(LEN(B383)=0,LEN(C383)=0),\"\",ROUND(B383/(C383/100)*'Base Values'!$B$12/100,0))","v":""},{"$f":"IF(LEN(B383)=0,\"\",ROUND(B383*'Base Values'!$B$14,0))","v":""},""]
[{"$f":"IF(LEN('HVI Quality Data'!A384)>0,'HVI Quality Data'!A384,\"\")","v":""},null,null,{"$f":"IF(LEN(B384)=0,\"\",ROUND($B384*'HVI Quality Data'!R384/100,0))","v":""},{"$f":"IF(LEN(B384)=0,\"\",ROUND(B384*'Base Values'!$B$16,0))","v":""},{"$f":"IF(LEN(B384)=0,\"\",ROUND(E384/2000*'Base Values'!$B$10,0))","v":""},"",{"$f":"IF(OR(LEN(B384)=0,LEN(C384)=0),\"\",ROUND(B384/(C384/100)*'Base Values'!$B$12/100,0))","v":""},{"$f":"IF(LEN(B384)=0,\"\",ROUND(B384*'Base Values'!$B$14,0))","v":""},""]
[{"$f":"IF(LEN('HVI Quality Data'!A385)>0,'HVI Quality Data'!A385,\"\")","v":""},null,null,{"$f":"IF(LEN(B385)=0,\"\",ROUND($B385*'HVI Quality Data'!R385/100,0))","v":""},{"$f":"IF(LEN(B385)=0,\"\",ROUND(B385*'Base Values'!$B$16,0))","v":""},{"$f":"IF(LEN(B385)=0,\"\",ROUND(E385/2000*'Base Values'!$B$10,0))","v":""},"",{"$f":"IF(OR(LEN(B385)=0,LEN(C385)=0),\"\",ROUND(B385/(C385/100)*'Base Values'!$B$12/100,0))","v":""},{"$f":"IF(LEN(B385)=0,\"\",ROUND(B385*'Base Values'!$B$14,0))","v":""},""]
[{"$f":"IF(LEN('HVI Quality Data'!A386)>0,'HVI Quality Data'!A386,\"\")","v":""},null,null,{"$f":"IF(LEN(B386)=0,\"\",ROUND($B386*'HVI Quality Data'!R386/100,0))","v":""},{"$f":"IF(LEN(B386)=0,\"\",ROUND(B386*'Base Values'!$B$16,0))","v":""},{"$f":"IF(LEN(B386)=0,\"\",ROUND(E386/2000*'Base Values'!$B$10,0))","v":""},"",{"$f":"IF(OR(LEN(B386)=0,LEN(C386)=0),\"\",ROUND(B386/(C386/100)*'Base Values'!$B$12/100,0))","v":""},{"$f":"IF(LEN(B386)=0,\"\",ROUND(B386*'Base Values'!$B$14,0))","v":""},""]
[{"$f":"IF(LEN('HVI Quality Data'!A387)>0,'HVI Quality Data'!A387,\"\")","v":""},null,null,{"$f":"IF(LEN(B387)=0,\"\",ROUND($B387*'HVI Quality Data'!R387/100,0))","v":""},{"$f":"IF(LEN(B387)=0,\"\",ROUND(B387*'Base Values'!$B$16,0))","v":""},{"$f":"IF(LEN(B387)=0,\"\",ROUND(E387/2000*'Base Values'!$B$10,0))","v":""},"",{"$f":"IF(OR(LEN(B387)=0,LEN(C387)=0),\"\",ROUND(B387/(C387/100)*'Base Values'!$B$12/100,0))","v":""},{"$f":"IF(LEN(B387)=0,\"\",ROUND(B387*'Base Values'!$B$14,0))","v":""},""]
[{"$f":"IF(LEN('HVI Quality Data'!A388)>0,'HVI Quality Data'!A388,\"\")","v":""},null,null,{"$f":"IF(LEN(B388)=0,\"\",ROUND($B388*'HVI Quality Data'!R388/100,0))","v":""},{"$f":"IF(LEN(B388)=0,\"\",ROUND(B388*'Base Values'!$B$16,0))","v":""},{"$f":"IF(LEN(B388)=0,\"\",ROUND(E388/2000*'Base Values'!$B$10,0))","v":""},"",{"$f":"IF(OR(LEN(B388)=0,LEN(C388)=0),\"\",ROUND(B388/(C388/100)*'Base Values'!$B$12/100,0))","v":""},{"$f":"IF(LEN(B388)=0,\"\",ROUND(B388*'Base Values'!$B$14,0))","v":""},""]
[{"$f":"IF(LEN('HVI Quality Data'!A389)>0,'HVI Quality Data'!A389,\"\")","v":""},null,null,{"$f":"IF(LEN(B389)=0,\"\",ROUND($B389*'HVI Quality Data'!R389/100,0))","v":""},{"$f":"IF(LEN(B389)=0,\"\",ROUND(B389*'Base Values'!$B$16,0))","v":""},{"$f":"IF(LEN(B389)=0,\"\",ROUND(E389/2000*'Base Values'!$B$10,0))","v":""},"",{"$f":"IF(OR(LEN(B389)=0,LEN(C389)=0),\"\",ROUND(B389/(C389/100)*'Base Values'!$B$12/100,0))","v":""},{"$f":"IF(LEN(B389)=0,\"\",ROUND(B389*'Base Values'!$B$14,0))","v":""},""]
[{"$f":"IF(LEN('HVI Quality Data'!A390)>0,'HVI Quality Data'!A390,\"\")","v":""},null,null,{"$f":"IF(LEN(B390)=0,\"\",ROUND($B390*'HVI Quality Data'!R390/100,0))","v":""},{"$f":"IF(LEN(B390)=0,\"\",ROUND(B390*'Base Values'!$B$16,0))","v":""},{"$f":"IF(LEN(B390)=0,\"\",ROUND(E390/2000*'Base Values'!$B$10,0))","v":""},"",{"$f":"IF(OR(LEN(B390)=0,LEN(C390)=0),\"\",ROUND(B390/(C390/100)*'Base Values'!$B$12/100,0))","v":""},{"$f":"IF(LEN(B390)=0,\"\",ROUND(B390*'Base Values'!$B$14,0))","v":""},""]
[{"$f":"IF(LEN('HVI Quality Data'!A391)>0,'HVI Quality Data'!A391,\"\")","v":""},null,null,{"$f":"IF(LEN(B391)=0,\"\",ROUND($B391*'HVI Quality Data'!R391/100,0))","v":""},{"$f":"IF(LEN(B391)=0,\"\",ROUND(B391*'Base Values'!$B$16,0))","v":""},{"$f":"IF(LEN(B391)=0,\"\",ROUND(E391/2000*'Base Values'!$B$10,0))","v":""},"",{"$f":"IF(OR(LEN(B391)=0,LEN(C391)=0),\"\",ROUND(B391/(C391/100)*'Base Values'!$B$12/100,0))","v":""},{"$f":"IF(LEN(B391)=0,\"\",ROUND(B391*'Base Values'!$B$14,0))","v":""},""]
[{"$f":"IF(LEN('HVI Quality Data'!A392)>0,'HVI Quality Data'!A392,\"\")","v":""},null,null,{"$f":"IF(LEN(B392)=0,\"\",ROUND($B392*'HVI Quality Data'!R392/100,0))","v":""},{"$f":"IF(LEN(B392)=0,\"\",ROUND(B392*'Base Values'!$B$16,0))","v":""},{"$f":"IF(LEN(B392)=0,\"\",ROUND(E392/2000*'Base Values'!$B$10,0))","v":""},"",{"$f":"IF(OR(LEN(B392)=0,LEN(C392)=0),\"\",ROUND(B392/(C392/100)*'Base Values'!$B$12/100,0))","v":""},{"$f":"IF(LEN(B392)=0,\"\",ROUND(B392*'Base Values'!$B$14,0))","v":""},""]
[{"$f":"IF(LEN('HVI Quality Data'!A393)>0,'HVI Quality Data'!A393,\"\")","v":""},null,null,{"$f":"IF(LEN(B393)=0,\"\",ROUND($B393*'HVI Quality Data'!R393/100,0))","v":""},{"$f":"IF(LEN(B393)=0,\"\",ROUND(B393*'Base Values'!$B$16,0))","v":""},{"$f":"IF(LEN(B393)=0,\"\",ROUND(E393/2000*'Base Values'!$B$10,0))","v":""},"",{"$f":"IF(OR(LEN(B393)=0,LEN(C393)=0),\"\",ROUND(B393/(C393/100)*'Base Values'!$B$12/100,0))","v":""},{"$f":"IF(LEN(B393)=0,\"\",ROUND(B393*'Base Values'!$B$14,0))","v":""},""]
[{"$f":"IF(LEN('HVI Quality Data'!A394)>0,'HVI Quality Data'!A394,\"\")","v":""},null,null,{"$f":"IF(LEN(B394)=0,\"\",ROUND($B394*'HVI Quality Data'!R394/100,0))","v":""},{"$f":"IF(LEN(B394)=0,\"\",ROUND(B394*'Base Values'!$B$16,0))","v":""},{"$f":"IF(LEN(B394)=0,\"\",ROUND(E394/2000*'Base Values'!$B$10,0))","v":""},"",{"$f":"IF(OR(LEN(B394)=0,LEN(C394)=0),\"\",ROUND(B394/(C394/100)*'Base Values'!$B$12/100,0))","v":""},{"$f":"IF(LEN(B394)=0,\"\",ROUND(B394*'Base Values'!$B$14,0))","v":""},""]
[{"$f":"IF(LEN('HVI Quality Data'!A395)>0,'HVI Quality Data'!A395,\"\")","v":""},null,null,{"$f":"IF(LEN(B395)=0,\"\",ROUND($B395*'HVI Quality Data'!R395/100,0))","v":""},{"$f":"IF(LEN(B395)=0,\"\",ROUND(B395*'Base Values'!$B$16,0))","v":""},{"$f":"IF(LEN(B395)=0,\"\",ROUND(E395/2000*'Base Values'!$B$10,0))","v":""},"",{"$f":"IF(OR(LEN(B395)=0,LEN(C395)=0),\"\",ROUND(B395/(C395/100)*'Base Values'!$B$12/100,0))","v":""},{"$f":"IF(LEN(B395)=0,\"\",ROUND(B395*'Base Values'!$B$14,0))","v":""},""]
[{"$f":"IF(LEN('HVI Quality Data'!A396)>0,'HVI Quality Data'!A396,\"\")","v":""},null,null,{"$f":"IF(LEN(B396)=0,\"\",ROUND($B396*'HVI Quality Data'!R396/100,0))","v":""},{"$f":"IF(LEN(B396)=0,\"\",ROUND(B396*'Base Values'!$B$16,0))","v":""},{"$f":"IF(LEN(B396)=0,\"\",ROUND(E396/2000*'Base Values'!$B$10,0))","v":""},"",{"$f":"IF(OR(LEN(B396)=0,LEN(C396)=0),\"\",ROUND(B396/(C396/100)*'Base Values'!$B$12/100,0))","v":""},{"$f":"IF(LEN(B396)=0,\"\",ROUND(B396*'Base Values'!$B$14,0))","v":""},""]
[{"$f":"IF(LEN('HVI Quality Data'!A397)>0,'HVI Quality Data'!A397,\"\")","v":""},null,null,{"$f":"IF(LEN(B397)=0,\"\",ROUND($B397*'HVI Quality Data'!R397/100,0))","v":""},{"$f":"IF(LEN(B397)=0,\"\",ROUND(B397*'Base Values'!$B$16,0))","v":""},{"$f":"IF(LEN(B397)=0,\"\",ROUND(E397/2000*'Base Values'!$B$10,0))","v":""},"",{"$f":"IF(OR(LEN(B397)=0,LEN(C397)=0),\"\",ROUND(B397/(C397/100)*'Base Values'!$B$12/100,0))","v":""},{"$f":"IF(LEN(B397)=0,\"\",ROUND(B397*'Base Values'!$B$14,0))","v":""},""]
[{"$f":"IF(LEN('HVI Quality Data'!A398)>0,'HVI Quality Data'!A398,\"\")","v":""},null,null,{"$f":"IF(LEN(B398)=0,\"\",ROUND($B398*'HVI Quality Data'!R398/100,0))","v":""},{"$f":"IF(LEN(B398)=0,\"\",ROUND(B398*'Base Values'!$B$16,0))","v":""},{"$f":"IF(LEN(B398)=0,\"\",ROUND(E398/2000*'Base Values'!$B$10,0))","v":""},"",{"$f":"IF(OR(LEN(B398)=0,LEN(C398)=0),\"\",ROUND(B398/(C398/100)*'Base Values'!$B$12/100,0))","v":""},{"$f":"IF(LEN(B398)=0,\"\",ROUND(B398*'Base Values'!$B$14,0))","v":""},""]
[{"$f":"IF(LEN('HVI Quality Data'!A399)>0,'HVI Quality Data'!A399,\"\")","v":""},null,null,{"$f":"IF(LEN(B399)=0,\"\",ROUND($B399*'HVI Quality Data'!R399/100,0))","v":""},{"$f":"IF(LEN(B399)=0,\"\",ROUND(B399*'Base Values'!$B$16,0))","v":""},{"$f":"IF(LEN(B399)=0,\"\",ROUND(E399/2000*'Base Values'!$B$10,0))","v":""},"",{"$f":"IF(OR(LEN(B399)=0,LEN(C399)=0),\"\",ROUND(B399/(C399/100)*'Base Values'!$B$12/100,0))","v":""},{"$f":"IF(LEN(B399)=0,\"\",ROUND(B399*'Base Values'!$B$14,0))","v":""},""]
[{"$f":"IF(LEN('HVI Quality Data'!A400)>0,'HVI Quality Data'!A400,\"\")","v":""},null,null,{"$f":"IF(LEN(B400)=0,\"\",ROUND($B400*'HVI Quality Data'!R400/100,0))","v":""},{"$f":"IF(LEN(B400)=0,\"\",ROUND(B400*'Base Values'!$B$16,0))","v":""},{"$f":"IF(LEN(B400)=0,\"\",ROUND(E400/2000*'Base Values'!$B$10,0))","v":""},{"$f":"IF(LEN(B400)=0,\"\",SUM(D400,F400))","v":""},{"$f":"IF(OR(LEN(B400)=0,LEN(C400)=0),\"\",ROUND(B400/(C400/100)*'Base Values'!$B$12/100,0))","v":""},{"$f":"IF(LEN(B400)=0,\"\",ROUND(B400*'Base Values'!$B$14,0))","v":""},{"$f":"IF(OR(LEN(B400)=0,LEN(C400)=0),\"\",G400-H400-I400)","v":""}]
[{"$f":"IF(LEN('HVI Quality Data'!A401)>0,'HVI Quality Data'!A401,\"\")","v":""},null,null,{"$f":"IF(LEN(B401)=0,\"\",ROUND($B401*'HVI Quality Data'!R401/100,0))","v":""},{"$f":"IF(LEN(B401)=0,\"\",ROUND(B401*'Base Values'!$B$16,0))","v":""},{"$f":"IF(LEN(B401)=0,\"\",ROUND(E401/2000*'Base Values'!$B$10,0))","v":""},"",{"$f":"IF(OR(LEN(B401)=0,LEN(C401)=0),\"\",ROUND(B401/(C401/100)*'Base Values'!$B$12/100,0))","v":""},{"$f":"IF(LEN(B401)=0,\"\",ROUND(B401*'Base Values'!$B$14,0))","v":""},""]
[{"$f":"IF(LEN('HVI Quality Data'!A402)>0,'HVI Quality Data'!A402,\"\")","v":""},null,null,{"$f":"IF(LEN(B402)=0,\"\",ROUND($B402*'HVI Quality Data'!R402/100,0))","v":""},{"$f":"IF(LEN(B402)=0,\"\",ROUND(B402*'Base Values'!$B$16,0))","v":""},{"$f":"IF(LEN(B402)=0,\"\",ROUND(E402/2000*'Base Values'!$B$10,0))","v":""},"",{"$f":"IF(OR(LEN(B402)=0,LEN(C402)=0),\"\",ROUND(B402/(C402/100)*'Base Values'!$B$12/100,0))","v":""},{"$f":"IF(LEN(B402)=0,\"\",ROUND(B402*'Base Values'!$B$14,0))","v":""},""]
[{"$f":"IF(LEN('HVI Quality Data'!A403)>0,'HVI Quality Data'!A403,\"\")","v":""},null,null,{"$f":"IF(LEN(B403)=0,\"\",ROUND($B403*'HVI Quality Data'!R403/100,0))","v":""},{"$f":"IF(LEN(B403)=0,\"\",ROUND(B403*'Base Values'!$B$16,0))","v":""},{"$f":"IF(LEN(B403)=0,\"\",ROUND(E403/2000*'Base Values'!$B$10,0))","v":""},"",{"$f":"IF(OR(LEN(B403)=0,LEN(C403)=0),\"\",ROUND(B403/(C403/100)*'Base Values'!$B$12/100,0))","v":""},{"$f":"IF(LEN(B403)=0,\"\",ROUND(B403*'Base Values'!$B$14,0))","v":""},""]
[{"$f":"IF(LEN('HVI Quality Data'!A404)>0,'HVI Quality Data'!A404,\"\")","v":""},null,null,{"$f":"IF(LEN(B404)=0,\"\",ROUND($B404*'HVI Quality Data'!R404/100,0))","v":""},{"$f":"IF(LEN(B404)=0,\"\",ROUND(B404*'Base Values'!$B$16,0))","v":""},{"$f":"IF(LEN(B404)=0,\"\",ROUND(E404/2000*'Base Values'!$B$10,0))","v":""},"",{"$f":"IF(OR(LEN(B404)=0,LEN(C404)=0),\"\",ROUND(B404/(C404/100)*'Base Values'!$B$12/100,0))","v":""},{"$f":"IF(LEN(B404)=0,\"\",ROUND(B404*'Base Values'!$B$14,0))","v":""},""]
[{"$f":"IF(LEN('HVI Quality Data'!A405)>0,'HVI Quality Data'!A405,\"\")","v":""},null,null,{"$f":"IF(LEN(B405)=0,\"\",ROUND($B405*'HVI Quality Data'!R405/100,0))","v":""},{"$f":"IF(LEN(B405)=0,\"\",ROUND(B405*'Base Values'!$B$16,0))","v":""},{"$f":"IF(LEN(B405)=0,\"\",ROUND(E405/2000*'Base Values'!$B$10,0))","v":""},"",{"$f":"IF(OR(LEN(B405)=0,LEN(C405)=0),\"\",ROUND(B405/(C405/100)*'Base Values'!$B$12/100,0))","v":""},{"$f":"IF(LEN(B405)=0,\"\",ROUND(B405*'Base Values'!$B$14,0))","v":""},""]
[{"$f":"IF(LEN('HVI Quality Data'!A406)>0,'HVI Quality Data'!A406,\"\")","v":""},null,null,{"$f":"IF(LEN(B406)=0,\"\",ROUND($B406*'HVI Quality Data'!R406/100,0))","v":""},{"$f":"IF(LEN(B406)=0,\"\",ROUND(B406*'Base Values'!$B$16,0))","v":""},{"$f":"IF(LEN(B406)=0,\"\",ROUND(E406/2000*'Base Values'!$B$10,0))","v":""},"",{"$f":"IF(OR(LEN(B406)=0,LEN(C406)=0),\"\",ROUND(B406/(C406/100)*'Base Values'!$B$12/100,0))","v":""},{"$f":"IF(LEN(B406)=0,\"\",ROUND(B406*'Base Values'!$B$14,0))","v":""},""]
[{"$f":"IF(LEN('HVI Quality Data'!A407)>0,'HVI Quality Data'!A407,\"\")","v":""},null,null,{"$f":"IF(LEN(B407)=0,\"\",ROUND($B407*'HVI Quality Data'!R407/100,0))","v":""},{"$f":"IF(LEN(B407)=0,\"\",ROUND(B407*'Base Values'!$B$16,0))","v":""},{"$f":"IF(LEN(B407)=0,\"\",ROUND(E407/2000*'Base Values'!$B$10,0))","v":""},"",{"$f":"IF(OR(LEN(B407)=0,LEN(C407)=0),\"\",ROUND(B407/(C407/100)*'Base Values'!$B$12/100,0))","v":""},{"$f":"IF(LEN(B407)=0,\"\",ROUND(B407*'Base Values'!$B$14,0))","v":""},""]
[{"$f":"IF(LEN('HVI Quality Data'!A408)>0,'HVI Quality Data'!A408,\"\")","v":""},null,null,{"$f":"IF(LEN(B408)=0,\"\",ROUND($B408*'HVI Quality Data'!R408/100,0))","v":""},{"$f":"IF(LEN(B408)=0,\"\",ROUND(B408*'Base Values'!$B$16,0))","v":""},{"$f":"IF(LEN(B408)=0,\"\",ROUND(E408/2000*'Base Values'!$B$10,0))","v":""},"",{"$f":"IF(OR(LEN(B408)=0,LEN(C408)=0),\"\",ROUND(B408/(C408/100)*'Base Values'!$B$12/100,0))","v":""},{"$f":"IF(LEN(B408)=0,\"\",ROUND(B408*'Base Values'!$B$14,0))","v":""},""]
[{"$f":"IF(LEN('HVI Quality Data'!A409)>0,'HVI Quality Data'!A409,\"\")","v":""},null,null,{"$f":"IF(LEN(B409)=0,\"\",ROUND($B409*'HVI Quality Data'!R409/100,0))","v":""},{"$f":"IF(LEN(B409)=0,\"\",ROUND(B409*'Base Values'!$B$16,0))","v":""},{"$f":"IF(LEN(B409)=0,\"\",ROUND(E409/2000*'Base Values'!$B$10,0))","v":""},"",{"$f":"IF(OR(LEN(B409)=0,LEN(C409)=0),\"\",ROUND(B409/(C409/100)*'Base Values'!$B$12/100,0))","v":""},{"$f":"IF(LEN(B409)=0,\"\",ROUND(B409*'Base Values'!$B$14,0))","v":""},""]
[{"$f":"IF(LEN('HVI Quality Data'!A410)>0,'HVI Quality Data'!A410,\"\")","v":""},null,null,{"$f":"IF(LEN(B410)=0,\"\",ROUND($B410*'HVI Quality Data'!R410/100,0))","v":""},{"$f":"IF(LEN(B410)=0,\"\",ROUND(B410*'Base Values'!$B$16,0))","v":""},{"$f":"IF(LEN(B410)=0,\"\",ROUND(E410/2000*'Base Values'!$B$10,0))","v":""},"",{"$f":"IF(OR(LEN(B410)=0,LEN(C410)=0),\"\",ROUND(B410/(C410/100)*'Base Values'!$B$12/100,0))","v":""},{"$f":"IF(LEN(B410)=0,\"\",ROUND(B410*'Base Values'!$B$14,0))","v":""},""]
[{"$f":"IF(LEN('HVI Quality Data'!A411)>0,'HVI Quality Data'!A411,\"\")","v":""},null,null,{"$f":"IF(LEN(B411)=0,\"\",ROUND($B411*'HVI Quality Data'!R411/100,0))","v":""},{"$f":"IF(LEN(B411)=0,\"\",ROUND(B411*'Base Values'!$B$16,0))","v":""},{"$f":"IF(LEN(B411)=0,\"\",ROUND(E411/2000*'Base Values'!$B$10,0))","v":""},"",{"$f":"IF(OR(LEN(B411)=0,LEN(C411)=0),\"\",ROUND(B411/(C411/100)*'Base Values'!$B$12/100,0))","v":""},{"$f":"IF(LEN(B411)=0,\"\",ROUND(B411*'Base Values'!$B$14,0))","v":""},""]
[{"$f":"IF(LEN('HVI Quality Data'!A412)>0,'HVI Quality Data'!A412,\"\")","v":""},null,null,{"$f":"IF(LEN(B412)=0,\"\",ROUND($B412*'HVI Quality Data'!R412/100,0))","v":""},{"$f":"IF(LEN(B412)=0,\"\",ROUND(B412*'Base Values'!$B$16,0))","v":""},{"$f":"IF(LEN(B412)=0,\"\",ROUND(E412/2000*'Base Values'!$B$10,0))","v":""},"",{"$f":"IF(OR(LEN(B412)=0,LEN(C412)=0),\"\",ROUND(B412/(C412/100)*'Base Values'!$B$12/100,0))","v":""},{"$f":"IF(LEN(B412)=0,\"\",ROUND(B412*'Base Values'!$B$14,0))","v":""},""]
[{"$f":"IF(LEN('HVI Quality Data'!A413)>0,'HVI Quality Data'!A413,\"\")","v":""},null,null,{"$f":"IF(LEN(B413)=0,\"\",ROUND($B413*'HVI Quality Data'!R413/100,0))","v":""},{"$f":"IF(LEN(B413)=0,\"\",ROUND(B413*'Base Values'!$B$16,0))","v":""},{"$f":"IF(LEN(B413)=0,\"\",ROUND(E413/2000*'Base Values'!$B$10,0))","v":""},"",{"$f":"IF(OR(LEN(B413)=0,LEN(C413)=0),\"\",ROUND(B413/(C413/100)*'Base Values'!$B$12/100,0))","v":""},{"$f":"IF(LEN(B413)=0,\"\",ROUND(B413*'Base Values'!$B$14,0))","v":""},""]
[{"$f":"IF(LEN('HVI Quality Data'!A414)>0,'HVI Quality Data'!A414,\"\")","v":""},null,null,{"$f":"IF(LEN(B414)=0,\"\",ROUND($B414*'HVI Quality Data'!R414/100,0))","v":""},{"$f":"IF(LEN(B414)=0,\"\",ROUND(B414*'Base Values'!$B$16,0))","v":""},{"$f":"IF(LEN(B414)=0,\"\",ROUND(E414/2000*'Base Values'!$B$10,0))","v":""},"",{"$f":"IF(OR(LEN(B414)=0,LEN(C414)=0),\"\",ROUND(B414/(C414/100)*'Base Values'!$B$12/100,0))","v":""},{"$f":"IF(LEN(B414)=0,\"\",ROUND(B414*'Base Values'!$B$14,0))","v":""},""]
[{"$f":"IF(LEN('HVI Quality Data'!A415)>0,'HVI Quality Data'!A415,\"\")","v":""},null,null,{"$f":"IF(LEN(B415)=0,\"\",ROUND($B415*'HVI Quality Data'!R415/100,0))","v":""},{"$f":"IF(LEN(B415)=0,\"\",ROUND(B415*'Base Values'!$B$16,0))","v":""},{"$f":"IF(LEN(B415)=0,\"\",ROUND(E415/2000*'Base Values'!$B$10,0))","v":""},"",{"$f":"IF(OR(LEN(B415)=0,LEN(C415)=0),\"\",ROUND(B415/(C415/100)*'Base Values'!$B$12/100,0))","v":""},{"$f":"IF(LEN(B415)=0,\"\",ROUND(B415*'Base Values'!$B$14,0))","v":""},""]
[{"$f":"IF(LEN('HVI Quality Data'!A416)>0,'HVI Quality Data'!A416,\"\")","v":""},null,null,{"$f":"IF(LEN(B416)=0,\"\",ROUND($B416*'HVI Quality Data'!R416/100,0))","v":""},{"$f":"IF(LEN(B416)=0,\"\",ROUND(B416*'Base Values'!$B$16,0))","v":""},{"$f":"IF(LEN(B416)=0,\"\",ROUND(E416/2000*'Base Values'!$B$10,0))","v":""},"",{"$f":"IF(OR(LEN(B416)=0,LEN(C416)=0),\"\",ROUND(B416/(C416/100)*'Base Values'!$B$12/100,0))","v":""},{"$f":"IF(LEN(B416)=0,\"\",ROUND(B416*'Base Values'!$B$14,0))","v":""},""]
[{"$f":"IF(LEN('HVI Quality Data'!A417)>0,'HVI Quality Data'!A417,\"\")","v":""},null,null,{"$f":"IF(LEN(B417)=0,\"\",ROUND($B417*'HVI Quality Data'!R417/100,0))","v":""},{"$f":"IF(LEN(B417)=0,\"\",ROUND(B417*'Base Values'!$B$16,0))","v":""},{"$f":"IF(LEN(B417)=0,\"\",ROUND(E417/2000*'Base Values'!$B$10,0))","v":""},"",{"$f":"IF(OR(LEN(B417)=0,LEN(C417)=0),\"\",ROUND(B417/(C417/100)*'Base Values'!$B$12/100,0))","v":""},{"$f":"IF(LEN(B417)=0,\"\",ROUND(B417*'Base Values'!$B$14,0))","v":""},""]
[{"$f":"IF(LEN('HVI Quality Data'!A418)>0,'HVI Quality Data'!A418,\"\")","v":""},null,null,{"$f":"IF(LEN(B418)=0,\"\",ROUND($B418*'HVI Quality Data'!R418/100,0))","v":""},{"$f":"IF(LEN(B418)=0,\"\",ROUND(B418*'Base Values'!$B$16,0))","v":""},{"$f":"IF(LEN(B418)=0,\"\",ROUND(E418/2000*'Base Values'!$B$10,0))","v":""},"",{"$f":"IF(OR(LEN(B418)=0,LEN(C418)=0),\"\",ROUND(B418/(C418/100)*'Base Values'!$B$12/100,0))","v":""},{"$f":"IF(LEN(B418)=0,\"\",ROUND(B418*'Base Values'!$B$14,0))","v":""},""]
[{"$f":"IF(LEN('HVI Quality Data'!A419)>0,'HVI Quality Data'!A419,\"\")","v":""},null,null,{"$f":"IF(LEN(B419)=0,\"\",ROUND($B419*'HVI Quality Data'!R419/100,0))","v":""},{"$f":"IF(LEN(B419)=0,\"\",ROUND(B419*'Base Values'!$B$16,0))","v":""},{"$f":"IF(LEN(B419)=0,\"\",ROUND(E419/2000*'Base Values'!$B$10,0))","v":""},"",{"$f":"IF(OR(LEN(B419)=0,LEN(C419)=0),\"\",ROUND(B419/(C419/100)*'Base Values'!$B$12/100,0))","v":""},{"$f":"IF(LEN(B419)=0,\"\",ROUND(B419*'Base Values'!$B$14,0))","v":""},""]
[{"$f":"IF(LEN('HVI Quality Data'!A420)>0,'HVI Quality Data'!A420,\"\")","v":""},null,null,{"$f":"IF(LEN(B420)=0,\"\",ROUND($B420*'HVI Quality Data'!R420/100,0))","v":""},{"$f":"IF(LEN(B420)=0,\"\",ROUND(B420*'Base Values'!$B$16,0))","v":""},{"$f":"IF(LEN(B420)=0,\"\",ROUND(E420/2000*'Base Values'!$B$10,0))","v":""},"",{"$f":"IF(OR(LEN(B420)=0,LEN(C420)=0),\"\",ROUND(B420/(C420/100)*'Base Values'!$B$12/100,0))","v":""},{"$f":"IF(LEN(B420)=0,\"\",ROUND(B420*'Base Values'!$B$14,0))","v":""},""]
[{"$f":"IF(LEN('HVI Quality Data'!A421)>0,'HVI Quality Data'!A421,\"\")","v":""},null,null,{"$f":"IF(LEN(B421)=0,\"\",ROUND($B421*'HVI Quality Data'!R421/100,0))","v":""},{"$f":"IF(LEN(B421)=0,\"\",ROUND(B421*'Base Values'!$B$16,0))","v":""},{"$f":"IF(LEN(B421)=0,\"\",ROUND(E421/2000*'Base Values'!$B$10,0))","v":""},"",{"$f":"IF(OR(LEN(B421)=0,LEN(C421)=0),\"\",ROUND(B421/(C421/100)*'Base Values'!$B$12/100,0))","v":""},{"$f":"IF(LEN(B421)=0,\"\",ROUND(B421*'Base Values'!$B$14,0))","v":""},""]
[{"$f":"IF(LEN('HVI Quality Data'!A422)>0,'HVI Quality Data'!A422,\"\")","v":""},null,null,{"$f":"IF(LEN(B422)=0,\"\",ROUND($B422*'HVI Quality Data'!R422/100,0))","v":""},{"$f":"IF(LEN(B422)=0,\"\",ROUND(B422*'Base Values'!$B$16,0))","v":""},{"$f":"IF(LEN(B422)=0,\"\",ROUND(E422/2000*'Base Values'!$B$10,0))","v":""},"",{"$f":"IF(OR(LEN(B422)=0,LEN(C422)=0),\"\",ROUND(B422/(C422/100)*'Base Values'!$B$12/100,0))","v":""},{"$f":"IF(LEN(B422)=0,\"\",ROUND(B422*'Base Values'!$B$14,0))","v":""},""]
[{"$f":"IF(LEN('HVI Quality Data'!A423)>0,'HVI Quality Data'!A423,\"\")","v":""},null,null,{"$f":"IF(LEN(B423)=0,\"\",ROUND($B423*'HVI Quality Data'!R423/100,0))","v":""},{"$f":"IF(LEN(B423)=0,\"\",ROUND(B423*'Base Values'!$B$16,0))","v":""},{"$f":"IF(LEN(B423)=0,\"\",ROUND(E423/2000*'Base Values'!$B$10,0))","v":""},"",{"$f":"IF(OR(LEN(B423)=0,LEN(C423)=0),\"\",ROUND(B423/(C423/100)*'Base Values'!$B$12/100,0))","v":""},{"$f":"IF(LEN(B423)=0,\"\",ROUND(B423*'Base Values'!$B$14,0))","v":""},""]
[{"$f":"IF(LEN('HVI Quality Data'!A424)>0,'HVI Quality Data'!A424,\"\")","v":""},null,null,{"$f":"IF(LEN(B424)=0,\"\",ROUND($B424*'HVI Quality Data'!R424/100,0))","v":""},{"$f":"IF(LEN(B424)=0,\"\",ROUND(B424*'Base Values'!$B$16,0))","v":""},{"$f":"IF(LEN(B424)=0,\"\",ROUND(E424/2000*'Base Values'!$B$10,0))","v":""},"",{"$f":"IF(OR(LEN(B424)=0,LEN(C424)=0),\"\",ROUND(B424/(C424/100)*'Base Values'!$B$12/100,0))","v":""},{"$f":"IF(LEN(B424)=0,\"\",ROUND(B424*'Base Values'!$B$14,0))","v":""},""]
[{"$f":"IF(LEN('HVI Quality Data'!A425)>0,'HVI Quality Data'!A425,\"\")","v":""},null,null,{"$f":"IF(LEN(B425)=0,\"\",ROUND($B425*'HVI Quality Data'!R425/100,0))","v":""},{"$f":"IF(LEN(B425)=0,\"\",ROUND(B425*'Base Values'!$B$16,0))","v":""},{"$f":"IF(LEN(B425)=0,\"\",ROUND(E425/2000*'Base Values'!$B$10,0))","v":""},"",{"$f":"IF(OR(LEN(B425)=0,LEN(C425)=0),\"\",ROUND(B425/(C425/100)*'Base Values'!$B$12/100,0))","v":""},{"$f":"IF(LEN(B425)=0,\"\",ROUND(B425*'Base Values'!$B$14,0))","v":""},""]
[{"$f":"IF(LEN('HVI Quality Data'!A426)>0,'HVI Quality Data'!A426,\"\")","v":""},null,null,{"$f":"IF(LEN(B426)=0,\"\",ROUND($B426*'HVI Quality Data'!R426/100,0))","v":""},{"$f":"IF(LEN(B426)=0,\"\",ROUND(B426*'Base Values'!$B$16,0))","v":""},{"$f":"IF(LEN(B426)=0,\"\",ROUND(E426/2000*'Base Values'!$B$10,0))","v":""},"",{"$f":"IF(OR(LEN(B426)=0,LEN(C426)=0),\"\",ROUND(B426/(C426/100)*'Base Values'!$B$12/100,0))","v":""},{"$f":"IF(LEN(B426)=0,\"\",ROUND(B426*'Base Values'!$B$14,0))","v":""},""]
[{"$f":"IF(LEN('HVI Quality Data'!A427)>0,'HVI Quality Data'!A427,\"\")","v":""},null,null,{"$f":"IF(LEN(B427)=0,\"\",ROUND($B427*'HVI Quality Data'!R427/100,0))","v":""},{"$f":"IF(LEN(B427)=0,\"\",ROUND(B427*'Base Values'!$B$16,0))","v":""},{"$f":"IF(LEN(B427)=0,\"\",ROUND(E427/2000*'Base Values'!$B$10,0))","v":""},"",{"$f":"IF(OR(LEN(B427)=0,LEN(C427)=0),\"\",ROUND(B427/(C427/100)*'Base Values'!$B$12/100,0))","v":""},{"$f":"IF(LEN(B427)=0,\"\",ROUND(B427*'Base Values'!$B$14,0))","v":""},""]
[{"$f":"IF(LEN('HVI Quality Data'!A428)>0,'HVI Quality Data'!A428,\"\")","v":""},null,null,{"$f":"IF(LEN(B428)=0,\"\",ROUND($B428*'HVI Quality Data'!R428/100,0))","v":""},{"$f":"IF(LEN(B428)=0,\"\",ROUND(B428*'Base Values'!$B$16,0))","v":""},{"$f":"IF(LEN(B428)=0,\"\",ROUND(E428/2000*'Base Values'!$B$10,0))","v":""},"",{"$f":"IF(OR(LEN(B428)=0,LEN(C428)=0),\"\",ROUND(B428/(C428/100)*'Base Values'!$B$12/100,0))","v":""},{"$f":"IF(LEN(B428)=0,\"\",ROUND(B428*'Base Values'!$B$14,0))","v":""},""]
[{"$f":"IF(LEN('HVI Quality Data'!A429)>0,'HVI Quality Data'!A429,\"\")","v":""},null,null,{"$f":"IF(LEN(B429)=0,\"\",ROUND($B429*'HVI Quality Data'!R429/100,0))","v":""},{"$f":"IF(LEN(B429)=0,\"\",ROUND(B429*'Base Values'!$B$16,0))","v":""},{"$f":"IF(LEN(B429)=0,\"\",ROUND(E429/2000*'Base Values'!$B$10,0))","v":""},"",{"$f":"IF(OR(LEN(B429)=0,LEN(C429)=0),\"\",ROUND(B429/(C429/100)*'Base Values'!$B$12/100,0))","v":""},{"$f":"IF(LEN(B429)=0,\"\",ROUND(B429*'Base Values'!$B$14,0))","v":""},""]
[{"$f":"IF(LEN('HVI Quality Data'!A430)>0,'HVI Quality Data'!A430,\"\")","v":""},null,null,{"$f":"IF(LEN(B430)=0,\"\",ROUND($B430*'HVI Quality Data'!R430/100,0))","v":""},{"$f":"IF(LEN(B430)=0,\"\",ROUND(B430*'Base Values'!$B$16,0))","v":""},{"$f":"IF(LEN(B430)=0,\"\",ROUND(E430/2000*'Base Values'!$B$10,0))","v":""},"",{"$f":"IF(OR(LEN(B430)=0,LEN(C430)=0),\"\",ROUND(B430/(C430/100)*'Base Values'!$B$12/100,0))","v":""},{"$f":"IF(LEN(B430)=0,\"\",ROUND(B430*'Base Values'!$B$14,0))","v":""},""]
[{"$f":"IF(LEN('HVI Quality Data'!A431)>0,'HVI Quality Data'!A431,\"\")","v":""},null,null,{"$f":"IF(LEN(B431)=0,\"\",ROUND($B431*'HVI Quality Data'!R431/100,0))","v":""},{"$f":"IF(LEN(B431)=0,\"\",ROUND(B431*'Base Values'!$B$16,0))","v":""},{"$f":"IF(LEN(B431)=0,\"\",ROUND(E431/2000*'Base Values'!$B$10,0))","v":""},"",{"$f":"IF(OR(LEN(B431)=0,LEN(C431)=0),\"\",ROUND(B431/(C431/100)*'Base Values'!$B$12/100,0))","v":""},{"$f":"IF(LEN(B431)=0,\"\",ROUND(B431*'Base Values'!$B$14,0))","v":""},""]
[{"$f":"IF(LEN('HVI Quality Data'!A432)>0,'HVI Quality Data'!A432,\"\")","v":""},null,null,{"$f":"IF(LEN(B432)=0,\"\",ROUND($B432*'HVI Quality Data'!R432/100,0))","v":""},{"$f":"IF(LEN(B432)=0,\"\",ROUND(B432*'Base Values'!$B$16,0))","v":""},{"$f":"IF(LEN(B432)=0,\"\",ROUND(E432/2000*'Base Values'!$B$10,0))","v":""},"",{"$f":"IF(OR(LEN(B432)=0,LEN(C432)=0),\"\",ROUND(B432/(C432/100)*'Base Values'!$B$12/100,0))","v":""},{"$f":"IF(LEN(B432)=0,\"\",ROUND(B432*'Base Values'!$B$14,0))","v":""},""]
[{"$f":"IF(LEN('HVI Quality Data'!A433)>0,'HVI Quality Data'!A433,\"\")","v":""},null,null,{"$f":"IF(LEN(B433)=0,\"\",ROUND($B433*'HVI Quality Data'!R433/100,0))","v":""},{"$f":"IF(LEN(B433)=0,\"\",ROUND(B433*'Base Values'!$B$16,0))","v":""},{"$f":"IF(LEN(B433)=0,\"\",ROUND(E433/2000*'Base Values'!$B$10,0))","v":""},"",{"$f":"IF(OR(LEN(B433)=0,LEN(C433)=0),\"\",ROUND(B433/(C433/100)*'Base Values'!$B$12/100,0))","v":""},{"$f":"IF(LEN(B433)=0,\"\",ROUND(B433*'Base Values'!$B$14,0))","v":""},""]
[{"$f":"IF(LEN('HVI Quality Data'!A434)>0,'HVI Quality Data'!A434,\"\")","v":""},null,null,{"$f":"IF(LEN(B434)=0,\"\",ROUND($B434*'HVI Quality Data'!R434/100,0))","v":""},{"$f":"IF(LEN(B434)=0,\"\",ROUND(B434*'Base Values'!$B$16,0))","v":""},{"$f":"IF(LEN(B434)=0,\"\",ROUND(E434/2000*'Base Values'!$B$10,0))","v":""},"",{"$f":"IF(OR(LEN(B434)=0,LEN(C434)=0),\"\",ROUND(B434/(C434/100)*'Base Values'!$B$12/100,0))","v":""},{"$f":"IF(LEN(B434)=0,\"\",ROUND(B434*'Base Values'!$B$14,0))","v":""},""]
[{"$f":"IF(LEN('HVI Quality Data'!A435)>0,'HVI Quality Data'!A435,\"\")","v":""},null,null,{"$f":"IF(LEN(B435)=0,\"\",ROUND($B435*'HVI Quality Data'!R435/100,0))","v":""},{"$f":"IF(LEN(B435)=0,\"\",ROUND(B435*'Base Values'!$B$16,0))","v":""},{"$f":"IF(LEN(B435)=0,\"\",ROUND(E435/2000*'Base Values'!$B$10,0))","v":""},"",{"$f":"IF(OR(LEN(B435)=0,LEN(C435)=0),\"\",ROUND(B435/(C435/100)*'Base Values'!$B$12/100,0))","v":""},{"$f":"IF(LEN(B435)=0,\"\",ROUND(B435*'Base Values'!$B$14,0))","v":""},""]
[{"$f":"IF(LEN('HVI Quality Data'!A436)>0,'HVI Quality Data'!A436,\"\")","v":""},null,null,{"$f":"IF(LEN(B436)=0,\"\",ROUND($B436*'HVI Quality Data'!R436/100,0))","v":""},{"$f":"IF(LEN(B436)=0,\"\",ROUND(B436*'Base Values'!$B$16,0))","v":""},{"$f":"IF(LEN(B436)=0,\"\",ROUND(E436/2000*'Base Values'!$B$10,0))","v":""},"",{"$f":"IF(OR(LEN(B436)=0,LEN(C436)=0),\"\",ROUND(B436/(C436/100)*'Base Values'!$B$12/100,0))","v":""},{"$f":"IF(LEN(B436)=0,\"\",ROUND(B436*'Base Values'!$B$14,0))","v":""},""]
[{"$f":"IF(LEN('HVI Quality Data'!A437)>0,'HVI Quality Data'!A437,\"\")","v":""},null,null,{"$f":"IF(LEN(B437)=0,\"\",ROUND($B437*'HVI Quality Data'!R437/100,0))","v":""},{"$f":"IF(LEN(B437)=0,\"\",ROUND(B437*'Base Values'!$B$16,0))","v":""},{"$f":"IF(LEN(B437)=0,\"\",ROUND(E437/2000*'Base Values'!$B$10,0))","v":""},"",{"$f":"IF(OR(LEN(B437)=0,LEN(C437)=0),\"\",ROUND(B437/(C437/100)*'Base Values'!$B$12/100,0))","v":""},{"$f":"IF(LEN(B437)=0,\"\",ROUND(B437*'Base Values'!$B$14,0))","v":""},""]
[{"$f":"IF(LEN('HVI Quality Data'!A438)>0,'HVI Quality Data'!A438,\"\")","v":""},null,null,{"$f":"IF(LEN(B438)=0,\"\",ROUND($B438*'HVI Quality Data'!R438/100,0))","v":""},{"$f":"IF(LEN(B438)=0,\"\",ROUND(B438*'Base Values'!$B$16,0))","v":""},{"$f":"IF(LEN(B438)=0,\"\",ROUND(E438/2000*'Base Values'!$B$10,0))","v":""},"",{"$f":"IF(OR(LEN(B438)=0,LEN(C438)=0),\"\",ROUND(B438/(C438/100)*'Base Values'!$B$12/100,0))","v":""},{"$f":"IF(LEN(B438)=0,\"\",ROUND(B438*'Base Values'!$B$14,0))","v":""},""]
[{"$f":"IF(LEN('HVI Quality Data'!A439)>0,'HVI Quality Data'!A439,\"\")","v":""},null,null,{"$f":"IF(LEN(B439)=0,\"\",ROUND($B439*'HVI Quality Data'!R439/100,0))","v":""},{"$f":"IF(LEN(B439)=0,\"\",ROUND(B439*'Base Values'!$B$16,0))","v":""},{"$f":"IF(LEN(B439)=0,\"\",ROUND(E439/2000*'Base Values'!$B$10,0))","v":""},"",{"$f":"IF(OR(LEN(B439)=0,LEN(C439)=0),\"\",ROUND(B439/(C439/100)*'Base Values'!$B$12/100,0))","v":""},{"$f":"IF(LEN(B439)=0,\"\",ROUND(B439*'Base Values'!$B$14,0))","v":""},""]
[{"$f":"IF(LEN('HVI Quality Data'!A440)>0,'HVI Quality Data'!A440,\"\")","v":""},null,null,{"$f":"IF(LEN(B440)=0,\"\",ROUND($B440*'HVI Quality Data'!R440/100,0))","v":""},{"$f":"IF(LEN(B440)=0,\"\",ROUND(B440*'Base Values'!$B$16,0))","v":""},{"$f":"IF(LEN(B440)=0,\"\",ROUND(E440/2000*'Base Values'!$B$10,0))","v":""},"",{"$f":"IF(OR(LEN(B440)=0,LEN(C440)=0),\"\",ROUND(B440/(C440/100)*'Base Values'!$B$12/100,0))","v":""},{"$f":"IF(LEN(B440)=0,\"\",ROUND(B440*'Base Values'!$B$14,0))","v":""},""]
[{"$f":"IF(LEN('HVI Quality Data'!A441)>0,'HVI Quality Data'!A441,\"\")","v":""},null,null,{"$f":"IF(LEN(B441)=0,\"\",ROUND($B441*'HVI Quality Data'!R441/100,0))","v":""},{"$f":"IF(LEN(B441)=0,\"\",ROUND(B441*'Base Values'!$B$16,0))","v":""},{"$f":"IF(LEN(B441)=0,\"\",ROUND(E441/2000*'Base Values'!$B$10,0))","v":""},"",{"$f":"IF(OR(LEN(B441)=0,LEN(C441)=0),\"\",ROUND(B441/(C441/100)*'Base Values'!$B$12/100,0))","v":""},{"$f":"IF(LEN(B441)=0,\"\",ROUND(B441*'Base Values'!$B$14,0))","v":""},""]
[{"$f":"IF(LEN('HVI Quality Data'!A442)>0,'HVI Quality Data'!A442,\"\")","v":""},null,null,{"$f":"IF(LEN(B442)=0,\"\",ROUND($B442*'HVI Quality Data'!R442/100,0))","v":""},{"$f":"IF(LEN(B442)=0,\"\",ROUND(B442*'Base Values'!$B$16,0))","v":""},{"$f":"IF(LEN(B442)=0,\"\",ROUND(E442/2000*'Base Values'!$B$10,0))","v":""},"",{"$f":"IF(OR(LEN(B442)=0,LEN(C442)=0),\"\",ROUND(B442/(C442/100)*'Base Values'!$B$12/100,0))","v":""},{"$f":"IF(LEN(B442)=0,\"\",ROUND(B442*'Base Values'!$B$14,0))","v":""},""]
[{"$f":"IF(LEN('HVI Quality Data'!A443)>0,'HVI Quality Data'!A443,\"\")","v":""},null,null,{"$f":"IF(LEN(B443)=0,\"\",ROUND($B443*'HVI Quality Data'!R443/100,0))","v":""},{"$f":"IF(LEN(B443)=0,\"\",ROUND(B443*'Base Values'!$B$16,0))","v":""},{"$f":"IF(LEN(B443)=0,\"\",ROUND(E443/2000*'Base Values'!$B$10,0))","v":""},"",{"$f":"IF(OR(LEN(B443)=0,LEN(C443)=0),\"\",ROUND(B443/(C443/100)*'Base Values'!$B$12/100,0))","v":""},{"$f":"IF(LEN(B443)=0,\"\",ROUND(B443*'Base Values'!$B$14,0))","v":""},""]
[{"$f":"IF(LEN('HVI Quality Data'!A444)>0,'HVI Quality Data'!A444,\"\")","v":""},null,null,{"$f":"IF(LEN(B444)=0,\"\",ROUND($B444*'HVI Quality Data'!R444/100,0))","v":""},{"$f":"IF(LEN(B444)=0,\"\",ROUND(B444*'Base Values'!$B$16,0))","v":""},{"$f":"IF(LEN(B444)=0,\"\",ROUND(E444/2000*'Base Values'!$B$10,0))","v":""},"",{"$f":"IF(OR(LEN(B444)=0,LEN(C444)=0),\"\",ROUND(B444/(C444/100)*'Base Values'!$B$12/100,0))","v":""},{"$f":"IF(LEN(B444)=0,\"\",ROUND(B444*'Base Values'!$B$14,0))","v":""},""]
[{"$f":"IF(LEN('HVI Quality Data'!A445)>0,'HVI Quality Data'!A445,\"\")","v":""},null,null,{"$f":"IF(LEN(B445)=0,\"\",ROUND($B445*'HVI Quality Data'!R445/100,0))","v":""},{"$f":"IF(LEN(B445)=0,\"\",ROUND(B445*'Base Values'!$B$16,0))","v":""},{"$f":"IF(LEN(B445)=0,\"\",ROUND(E445/2000*'Base Values'!$B$10,0))","v":""},"",{"$f":"IF(OR(LEN(B445)=0,LEN(C445)=0),\"\",ROUND(B445/(C445/100)*'Base Values'!$B$12/100,0))","v":""},{"$f":"IF(LEN(B445)=0,\"\",ROUND(B445*'Base Values'!$B$14,0))","v":""},""]
[{"$f":"IF(LEN('HVI Quality Data'!A446)>0,'HVI Quality Data'!A446,\"\")","v":""},null,null,{"$f":"IF(LEN(B446)=0,\"\",ROUND($B446*'HVI Quality Data'!R446/100,0))","v":""},{"$f":"IF(LEN(B446)=0,\"\",ROUND(B446*'Base Values'!$B$16,0))","v":""},{"$f":"IF(LEN(B446)=0,\"\",ROUND(E446/2000*'Base Values'!$B$10,0))","v":""},"",{"$f":"IF(OR(LEN(B446)=0,LEN(C446)=0),\"\",ROUND(B446/(C446/100)*'Base Values'!$B$12/100,0))","v":""},{"$f":"IF(LEN(B446)=0,\"\",ROUND(B446*'Base Values'!$B$14,0))","v":""},""]
[{"$f":"IF(LEN('HVI Quality Data'!A447)>0,'HVI Quality Data'!A447,\"\")","v":""},null,null,{"$f":"IF(LEN(B447)=0,\"\",ROUND($B447*'HVI Quality Data'!R447/100,0))","v":""},{"$f":"IF(LEN(B447)=0,\"\",ROUND(B447*'Base Values'!$B$16,0))","v":""},{"$f":"IF(LEN(B447)=0,\"\",ROUND(E447/2000*'Base Values'!$B$10,0))","v":""},"",{"$f":"IF(OR(LEN(B447)=0,LEN(C447)=0),\"\",ROUND(B447/(C447/100)*'Base Values'!$B$12/100,0))","v":""},{"$f":"IF(LEN(B447)=0,\"\",ROUND(B447*'Base Values'!$B$14,0))","v":""},""]
[{"$f":"IF(LEN('HVI Quality Data'!A448)>0,'HVI Quality Data'!A448,\"\")","v":""},null,null,{"$f":"IF(LEN(B448)=0,\"\",ROUND($B448*'HVI Quality Data'!R448/100,0))","v":""},{"$f":"IF(LEN(B448)=0,\"\",ROUND(B448*'Base Values'!$B$16,0))","v":""},{"$f":"IF(LEN(B448)=0,\"\",ROUND(E448/2000*'Base Values'!$B$10,0))","v":""},"",{"$f":"IF(OR(LEN(B448)=0,LEN(C448)=0),\"\",ROUND(B448/(C448/100)*'Base Values'!$B$12/100,0))","v":""},{"$f":"IF(LEN(B448)=0,\"\",ROUND(B448*'Base Values'!$B$14,0))","v":""},""]
[{"$f":"IF(LEN('HVI Quality Data'!A449)>0,'HVI Quality Data'!A449,\"\")","v":""},null,null,{"$f":"IF(LEN(B449)=0,\"\",ROUND($B449*'HVI Quality Data'!R449/100,0))","v":""},{"$f":"IF(LEN(B449)=0,\"\",ROUND(B449*'Base Values'!$B$16,0))","v":""},{"$f":"IF(LEN(B449)=0,\"\",ROUND(E449/2000*'Base Values'!$B$10,0))","v":""},"",{"$f":"IF(OR(LEN(B449)=0,LEN(C449)=0),\"\",ROUND(B449/(C449/100)*'Base Values'!$B$12/100,0))","v":""},{"$f":"IF(LEN(B449)=0,\"\",ROUND(B449*'Base Values'!$B$14,0))","v":""},""]
[{"$f":"IF(LEN('HVI Quality Data'!A450)>0,'HVI Quality Data'!A450,\"\")","v":""},null,null,{"$f":"IF(LEN(B450)=0,\"\",ROUND($B450*'HVI Quality Data'!R450/100,0))","v":""},{"$f":"IF(LEN(B450)=0,\"\",ROUND(B450*'Base Values'!$B$16,0))","v":""},{"$f":"IF(LEN(B450)=0,\"\",ROUND(E450/2000*'Base Values'!$B$10,0))","v":""},"",{"$f":"IF(OR(LEN(B450)=0,LEN(C450)=0),\"\",ROUND(B450/(C450/100)*'Base Values'!$B$12/100,0))","v":""},{"$f":"IF(LEN(B450)=0,\"\",ROUND(B450*'Base Values'!$B$14,0))","v":""},""]
[{"$f":"IF(LEN('HVI Quality Data'!A451)>0,'HVI Quality Data'!A451,\"\")","v":""},null,null,{"$f":"IF(LEN(B451)=0,\"\",ROUND($B451*'HVI Quality Data'!R451/100,0))","v":""},{"$f":"IF(LEN(B451)=0,\"\",ROUND(B451*'Base Values'!$B$16,0))","v":""},{"$f":"IF(LEN(B451)=0,\"\",ROUND(E451/2000*'Base Values'!$B$10,0))","v":""},"",{"$f":"IF(OR(LEN(B451)=0,LEN(C451)=0),\"\",ROUND(B451/(C451/100)*'Base Values'!$B$12/100,0))","v":""},{"$f":"IF(LEN(B451)=0,\"\",ROUND(B451*'Base Values'!$B$14,0))","v":""},""]
[{"$f":"IF(LEN('HVI Quality Data'!A452)>0,'HVI Quality Data'!A452,\"\")","v":""},null,null,{"$f":"IF(LEN(B452)=0,\"\",ROUND($B452*'HVI Quality Data'!R452/100,0))","v":""},{"$f":"IF(LEN(B452)=0,\"\",ROUND(B452*'Base Values'!$B$16,0))","v":""},{"$f":"IF(LEN(B452)=0,\"\",ROUND(E452/2000*'Base Values'!$B$10,0))","v":""},"",{"$f":"IF(OR(LEN(B452)=0,LEN(C452)=0),\"\",ROUND(B452/(C452/100)*'Base Values'!$B$12/100,0))","v":""},{"$f":"IF(LEN(B452)=0,\"\",ROUND(B452*'Base Values'!$B$14,0))","v":""},""]
[{"$f":"IF(LEN('HVI Quality Data'!A453)>0,'HVI Quality Data'!A453,\"\")","v":""},null,null,{"$f":"IF(LEN(B453)=0,\"\",ROUND($B453*'HVI Quality Data'!R453/100,0))","v":""},{"$f":"IF(LEN(B453)=0,\"\",ROUND(B453*'Base Values'!$B$16,0))","v":""},{"$f":"IF(LEN(B453)=0,\"\",ROUND(E453/2000*'Base Values'!$B$10,0))","v":""},"",{"$f":"IF(OR(LEN(B453)=0,LEN(C453)=0),\"\",ROUND(B453/(C453/100)*'Base Values'!$B$12/100,0))","v":""},{"$f":"IF(LEN(B453)=0,\"\",ROUND(B453*'Base Values'!$B$14,0))","v":""},""]
[{"$f":"IF(LEN('HVI Quality Data'!A454)>0,'HVI Quality Data'!A454,\"\")","v":""},null,null,{"$f":"IF(LEN(B454)=0,\"\",ROUND($B454*'HVI Quality Data'!R454/100,0))","v":""},{"$f":"IF(LEN(B454)=0,\"\",ROUND(B454*'Base Values'!$B$16,0))","v":""},{"$f":"IF(LEN(B454)=0,\"\",ROUND(E454/2000*'Base Values'!$B$10,0))","v":""},"",{"$f":"IF(OR(LEN(B454)=0,LEN(C454)=0),\"\",ROUND(B454/(C454/100)*'Base Values'!$B$12/100,0))","v":""},{"$f":"IF(LEN(B454)=0,\"\",ROUND(B454*'Base Values'!$B$14,0))","v":""},""]
[{"$f":"IF(LEN('HVI Quality Data'!A455)>0,'HVI Quality Data'!A455,\"\")","v":""},null,null,{"$f":"IF(LEN(B455)=0,\"\",ROUND($B455*'HVI Quality Data'!R455/100,0))","v":""},{"$f":"IF(LEN(B455)=0,\"\",ROUND(B455*'Base Values'!$B$16,0))","v":""},{"$f":"IF(LEN(B455)=0,\"\",ROUND(E455/2000*'Base Values'!$B$10,0))","v":""},"",{"$f":"IF(OR(LEN(B455)=0,LEN(C455)=0),\"\",ROUND(B455/(C455/100)*'Base Values'!$B$12/100,0))","v":""},{"$f":"IF(LEN(B455)=0,\"\",ROUND(B455*'Base Values'!$B$14,0))","v":""},""]
[{"$f":"IF(LEN('HVI Quality Data'!A456)>0,'HVI Quality Data'!A456,\"\")","v":""},null,null,{"$f":"IF(LEN(B456)=0,\"\",ROUND($B456*'HVI Quality Data'!R456/100,0))","v":""},{"$f":"IF(LEN(B456)=0,\"\",ROUND(B456*'Base Values'!$B$16,0))","v":""},{"$f":"IF(LEN(B456)=0,\"\",ROUND(E456/2000*'Base Values'!$B$10,0))","v":""},"",{"$f":"IF(OR(LEN(B456)=0,LEN(C456)=0),\"\",ROUND(B456/(C456/100)*'Base Values'!$B$12/100,0))","v":""},{"$f":"IF(LEN(B456)=0,\"\",ROUND(B456*'Base Values'!$B$14,0))","v":""},""]
[{"$f":"IF(LEN('HVI Quality Data'!A457)>0,'HVI Quality Data'!A457,\"\")","v":""},null,null,{"$f":"IF(LEN(B457)=0,\"\",ROUND($B457*'HVI Quality Data'!R457/100,0))","v":""},{"$f":"IF(LEN(B457)=0,\"\",ROUND(B457*'Base Values'!$B$16,0))","v":""},{"$f":"IF(LEN(B457)=0,\"\",ROUND(E457/2000*'Base Values'!$B$10,0))","v":""},"",{"$f":"IF(OR(LEN(B457)=0,LEN(C457)=0),\"\",ROUND(B457/(C457/100)*'Base Values'!$B$12/100,0))","v":""},{"$f":"IF(LEN(B457)=0,\"\",ROUND(B457*'Base Values'!$B$14,0))","v":""},""]
[{"$f":"IF(LEN('HVI Quality Data'!A458)>0,'HVI Quality Data'!A458,\"\")","v":""},null,null,{"$f":"IF(LEN(B458)=0,\"\",ROUND($B458*'HVI Quality Data'!R458/100,0))","v":""},{"$f":"IF(LEN(B458)=0,\"\",ROUND(B458*'Base Values'!$B$16,0))","v":""},{"$f":"IF(LEN(B458)=0,\"\",ROUND(E458/2000*'Base Values'!$B$10,0))","v":""},"",{"$f":"IF(OR(LEN(B458)=0,LEN(C458)=0),\"\",ROUND(B458/(C458/100)*'Base Values'!$B$12/100,0))","v":""},{"$f":"IF(LEN(B458)=0,\"\",ROUND(B458*'Base Values'!$B$14,0))","v":""},""]
[{"$f":"IF(LEN('HVI Quality Data'!A459)>0,'HVI Quality Data'!A459,\"\")","v":""},null,null,{"$f":"IF(LEN(B459)=0,\"\",ROUND($B459*'HVI Quality Data'!R459/100,0))","v":""},{"$f":"IF(LEN(B459)=0,\"\",ROUND(B459*'Base Values'!$B$16,0))","v":""},{"$f":"IF(LEN(B459)=0,\"\",ROUND(E459/2000*'Base Values'!$B$10,0))","v":""},"",{"$f":"IF(OR(LEN(B459)=0,LEN(C459)=0),\"\",ROUND(B459/(C459/100)*'Base Values'!$B$12/100,0))","v":""},{"$f":"IF(LEN(B459)=0,\"\",ROUND(B459*'Base Values'!$B$14,0))","v":""},""]
[{"$f":"IF(LEN('HVI Quality Data'!A460)>0,'HVI Quality Data'!A460,\"\")","v":""},null,null,{"$f":"IF(LEN(B460)=0,\"\",ROUND($B460*'HVI Quality Data'!R460/100,0))","v":""},{"$f":"IF(LEN(B460)=0,\"\",ROUND(B460*'Base Values'!$B$16,0))","v":""},{"$f":"IF(LEN(B460)=0,\"\",ROUND(E460/2000*'Base Values'!$B$10,0))","v":""},"",{"$f":"IF(OR(LEN(B460)=0,LEN(C460)=0),\"\",ROUND(B460/(C460/100)*'Base Values'!$B$12/100,0))","v":""},{"$f":"IF(LEN(B460)=0,\"\",ROUND(B460*'Base Values'!$B$14,0))","v":""},""]
[{"$f":"IF(LEN('HVI Quality Data'!A461)>0,'HVI Quality Data'!A461,\"\")","v":""},null,null,{"$f":"IF(LEN(B461)=0,\"\",ROUND($B461*'HVI Quality Data'!R461/100,0))","v":""},{"$f":"IF(LEN(B461)=0,\"\",ROUND(B461*'Base Values'!$B$16,0))","v":""},{"$f":"IF(LEN(B461)=0,\"\",ROUND(E461/2000*'Base Values'!$B$10,0))","v":""},"",{"$f":"IF(OR(LEN(B461)=0,LEN(C461)=0),\"\",ROUND(B461/(C461/100)*'Base Values'!$B$12/100,0))","v":""},{"$f":"IF(LEN(B461)=0,\"\",ROUND(B461*'Base Values'!$B$14,0))","v":""},""]
[{"$f":"IF(LEN('HVI Quality Data'!A462)>0,'HVI Quality Data'!A462,\"\")","v":""},null,null,{"$f":"IF(LEN(B462)=0,\"\",ROUND($B462*'HVI Quality Data'!R462/100,0))","v":""},{"$f":"IF(LEN(B462)=0,\"\",ROUND(B462*'Base Values'!$B$16,0))","v":""},{"$f":"IF(LEN(B462)=0,\"\",ROUND(E462/2000*'Base Values'!$B$10,0))","v":""},"",{"$f":"IF(OR(LEN(B462)=0,LEN(C462)=0),\"\",ROUND(B462/(C462/100)*'Base Values'!$B$12/100,0))","v":""},{"$f":"IF(LEN(B462)=0,\"\",ROUND(B462*'Base Values'!$B$14,0))","v":""},""]
[{"$f":"IF(LEN('HVI Quality Data'!A463)>0,'HVI Quality Data'!A463,\"\")","v":""},null,null,{"$f":"IF(LEN(B463)=0,\"\",ROUND($B463*'HVI Quality Data'!R463/100,0))","v":""},{"$f":"IF(LEN(B463)=0,\"\",ROUND(B463*'Base Values'!$B$16,0))","v":""},{"$f":"IF(LEN(B463)=0,\"\",ROUND(E463/2000*'Base Values'!$B$10,0))","v":""},"",{"$f":"IF(OR(LEN(B463)=0,LEN(C463)=0),\"\",ROUND(B463/(C463/100)*'Base Values'!$B$12/100,0))","v":""},{"$f":"IF(LEN(B463)=0,\"\",ROUND(B463*'Base Values'!$B$14,0))","v":""},""]
[{"$f":"IF(LEN('HVI Quality Data'!A464)>0,'HVI Quality Data'!A464,\"\")","v":""},null,null,{"$f":"IF(LEN(B464)=0,\"\",ROUND($B464*'HVI Quality Data'!R464/100,0))","v":""},{"$f":"IF(LEN(B464)=0,\"\",ROUND(B464*'Base Values'!$B$16,0))","v":""},{"$f":"IF(LEN(B464)=0,\"\",ROUND(E464/2000*'Base Values'!$B$10,0))","v":""},{"$f":"IF(LEN(B464)=0,\"\",SUM(D464,F464))","v":""},{"$f":"IF(OR(LEN(B464)=0,LEN(C464)=0),\"\",ROUND(B464/(C464/100)*'Base Values'!$B$12/100,0))","v":""},{"$f":"IF(LEN(B464)=0,\"\",ROUND(B464*'Base Values'!$B$14,0))","v":""},{"$f":"IF(OR(LEN(B464)=0,LEN(C464)=0),\"\",G464-H464-I464)","v":""}]
[{"$f":"IF(LEN('HVI Quality Data'!A465)>0,'HVI Quality Data'!A465,\"\")","v":""},null,null,{"$f":"IF(LEN(B465)=0,\"\",ROUND($B465*'HVI Quality Data'!R465/100,0))","v":""},{"$f":"IF(LEN(B465)=0,\"\",ROUND(B465*'Base Values'!$B$16,0))","v":""},{"$f":"IF(LEN(B465)=0,\"\",ROUND(E465/2000*'Base Values'!$B$10,0))","v":""},"",{"$f":"IF(OR(LEN(B465)=0,LEN(C465)=0),\"\",ROUND(B465/(C465/100)*'Base Values'!$B$12/100,0))","v":""},{"$f":"IF(LEN(B465)=0,\"\",ROUND(B465*'Base Values'!$B$14,0))","v":""},""]
[{"$f":"IF(LEN('HVI Quality Data'!A466)>0,'HVI Quality Data'!A466,\"\")","v":""},null,null,{"$f":"IF(LEN(B466)=0,\"\",ROUND($B466*'HVI Quality Data'!R466/100,0))","v":""},{"$f":"IF(LEN(B466)=0,\"\",ROUND(B466*'Base Values'!$B$16,0))","v":""},{"$f":"IF(LEN(B466)=0,\"\",ROUND(E466/2000*'Base Values'!$B$10,0))","v":""},"",{"$f":"IF(OR(LEN(B466)=0,LEN(C466)=0),\"\",ROUND(B466/(C466/100)*'Base Values'!$B$12/100,0))","v":""},{"$f":"IF(LEN(B466)=0,\"\",ROUND(B466*'Base Values'!$B$14,0))","v":""},""]
[{"$f":"IF(LEN('HVI Quality Data'!A467)>0,'HVI Quality Data'!A467,\"\")","v":""},null,null,{"$f":"IF(LEN(B467)=0,\"\",ROUND($B467*'HVI Quality Data'!R467/100,0))","v":""},{"$f":"IF(LEN(B467)=0,\"\",ROUND(B467*'Base Values'!$B$16,0))","v":""},{"$f":"IF(LEN(B467)=0,\"\",ROUND(E467/2000*'Base Values'!$B$10,0))","v":""},"",{"$f":"IF(OR(LEN(B467)=0,LEN(C467)=0),\"\",ROUND(B467/(C467/100)*'Base Values'!$B$12/100,0))","v":""},{"$f":"IF(LEN(B467)=0,\"\",ROUND(B467*'Base Values'!$B$14,0))","v":""},""]
[{"$f":"IF(LEN('HVI Quality Data'!A468)>0,'HVI Quality Data'!A468,\"\")","v":""},null,null,{"$f":"IF(LEN(B468)=0,\"\",ROUND($B468*'HVI Quality Data'!R468/100,0))","v":""},{"$f":"IF(LEN(B468)=0,\"\",ROUND(B468*'Base Values'!$B$16,0))","v":""},{"$f":"IF(LEN(B468)=0,\"\",ROUND(E468/2000*'Base Values'!$B$10,0))","v":""},"",{"$f":"IF(OR(LEN(B468)=0,LEN(C468)=0),\"\",ROUND(B468/(C468/100)*'Base Values'!$B$12/100,0))","v":""},{"$f":"IF(LEN(B468)=0,\"\",ROUND(B468*'Base Values'!$B$14,0))","v":""},""]
[{"$f":"IF(LEN('HVI Quality Data'!A469)>0,'HVI Quality Data'!A469,\"\")","v":""},null,null,{"$f":"IF(LEN(B469)=0,\"\",ROUND($B469*'HVI Quality Data'!R469/100,0))","v":""},{"$f":"IF(LEN(B469)=0,\"\",ROUND(B469*'Base Values'!$B$16,0))","v":""},{"$f":"IF(LEN(B469)=0,\"\",ROUND(E469/2000*'Base Values'!$B$10,0))","v":""},"",{"$f":"IF(OR(LEN(B469)=0,LEN(C469)=0),\"\",ROUND(B469/(C469/100)*'Base Values'!$B$12/100,0))","v":""},{"$f":"IF(LEN(B469)=0,\"\",ROUND(B469*'Base Values'!$B$14,0))","v":""},""]
[{"$f":"IF(LEN('HVI Quality Data'!A470)>0,'HVI Quality Data'!A470,\"\")","v":""},null,null,{"$f":"IF(LEN(B470)=0,\"\",ROUND($B470*'HVI Quality Data'!R470/100,0))","v":""},{"$f":"IF(LEN(B470)=0,\"\",ROUND(B470*'Base Values'!$B$16,0))","v":""},{"$f":"IF(LEN(B470)=0,\"\",ROUND(E470/2000*'Base Values'!$B$10,0))","v":""},"",{"$f":"IF(OR(LEN(B470)=0,LEN(C470)=0),\"\",ROUND(B470/(C470/100)*'Base Values'!$B$12/100,0))","v":""},{"$f":"IF(LEN(B470)=0,\"\",ROUND(B470*'Base Values'!$B$14,0))","v":""},""]
[{"$f":"IF(LEN('HVI Quality Data'!A471)>0,'HVI Quality Data'!A471,\"\")","v":""},null,null,{"$f":"IF(LEN(B471)=0,\"\",ROUND($B471*'HVI Quality Data'!R471/100,0))","v":""},{"$f":"IF(LEN(B471)=0,\"\",ROUND(B471*'Base Values'!$B$16,0))","v":""},{"$f":"IF(LEN(B471)=0,\"\",ROUND(E471/2000*'Base Values'!$B$10,0))","v":""},"",{"$f":"IF(OR(LEN(B471)=0,LEN(C471)=0),\"\",ROUND(B471/(C471/100)*'Base Values'!$B$12/100,0))","v":""},{"$f":"IF(LEN(B471)=0,\"\",ROUND(B471*'Base Values'!$B$14,0))","v":""},""]
[{"$f":"IF(LEN('HVI Quality Data'!A472)>0,'HVI Quality Data'!A472,\"\")","v":""},null,null,{"$f":"IF(LEN(B472)=0,\"\",ROUND($B472*'HVI Quality Data'!R472/100,0))","v":""},{"$f":"IF(LEN(B472)=0,\"\",ROUND(B472*'Base Values'!$B$16,0))","v":""},{"$f":"IF(LEN(B472)=0,\"\",ROUND(E472/2000*'Base Values'!$B$10,0))","v":""},"",{"$f":"IF(OR(LEN(B472)=0,LEN(C472)=0),\"\",ROUND(B472/(C472/100)*'Base Values'!$B$12/100,0))","v":""},{"$f":"IF(LEN(B472)=0,\"\",ROUND(B472*'Base Values'!$B$14,0))","v":""},""]
[{"$f":"IF(LEN('HVI Quality Data'!A473)>0,'HVI Quality Data'!A473,\"\")","v":""},null,null,{"$f":"IF(LEN(B473)=0,\"\",ROUND($B473*'HVI Quality Data'!R473/100,0))","v":""},{"$f":"IF(LEN(B473)=0,\"\",ROUND(B473*'Base Values'!$B$16,0))","v":""},{"$f":"IF(LEN(B473)=0,\"\",ROUND(E473/2000*'Base Values'!$B$10,0))","v":""},"",{"$f":"IF(OR(LEN(B473)=0,LEN(C473)=0),\"\",ROUND(B473/(C473/100)*'Base Values'!$B$12/100,0))","v":""},{"$f":"IF(LEN(B473)=0,\"\",ROUND(B473*'Base Values'!$B$14,0))","v":""},""]
[{"$f":"IF(LEN('HVI Quality Data'!A474)>0,'HVI Quality Data'!A474,\"\")","v":""},null,null,{"$f":"IF(LEN(B474)=0,\"\",ROUND($B474*'HVI Quality Data'!R474/100,0))","v":""},{"$f":"IF(LEN(B474)=0,\"\",ROUND(B474*'Base Values'!$B$16,0))","v":""},{"$f":"IF(LEN(B474)=0,\"\",ROUND(E474/2000*'Base Values'!$B$10,0))","v":""},"",{"$f":"IF(OR(LEN(B474)=0,LEN(C474)=0),\"\",ROUND(B474/(C474/100)*'Base Values'!$B$12/100,0))","v":""},{"$f":"IF(LEN(B474)=0,\"\",ROUND(B474*'Base Values'!$B$14,0))","v":""},""]
[{"$f":"IF(LEN('HVI Quality Data'!A475)>0,'HVI Quality Data'!A475,\"\")","v":""},null,null,{"$f":"IF(LEN(B475)=0,\"\",ROUND($B475*'HVI Quality Data'!R475/100,0))","v":""},{"$f":"IF(LEN(B475)=0,\"\",ROUND(B475*'Base Values'!$B$16,0))","v":""},{"$f":"IF(LEN(B475)=0,\"\",ROUND(E475/2000*'Base Values'!$B$10,0))","v":""},"",{"$f":"IF(OR(LEN(B475)=0,LEN(C475)=0),\"\",ROUND(B475/(C475/100)*'Base Values'!$B$12/100,0))","v":""},{"$f":"IF(LEN(B475)=0,\"\",ROUND(B475*'Base Values'!$B$14,0))","v":""},""]
[{"$f":"IF(LEN('HVI Quality Data'!A476)>0,'HVI Quality Data'!A476,\"\")","v":""},null,null,{"$f":"IF(LEN(B476)=0,\"\",ROUND($B476*'HVI Quality Data'!R476/100,0))","v":""},{"$f":"IF(LEN(B476)=0,\"\",ROUND(B476*'Base Values'!$B$16,0))","v":""},{"$f":"IF(LEN(B476)=0,\"\",ROUND(E476/2000*'Base Values'!$B$10,0))","v":""},"",{"$f":"IF(OR(LEN(B476)=0,LEN(C476)=0),\"\",ROUND(B476/(C476/100)*'Base Values'!$B$12/100,0))","v":""},{"$f":"IF(LEN(B476)=0,\"\",ROUND(B476*'Base Values'!$B$14,0))","v":""},""]
[{"$f":"IF(LEN('HVI Quality Data'!A477)>0,'HVI Quality Data'!A477,\"\")","v":""},null,null,{"$f":"IF(LEN(B477)=0,\"\",ROUND($B477*'HVI Quality Data'!R477/100,0))","v":""},{"$f":"IF(LEN(B477)=0,\"\",ROUND(B477*'Base Values'!$B$16,0))","v":""},{"$f":"IF(LEN(B477)=0,\"\",ROUND(E477/2000*'Base Values'!$B$10,0))","v":""},"",{"$f":"IF(OR(LEN(B477)=0,LEN(C477)=0),\"\",ROUND(B477/(C477/100)*'Base Values'!$B$12/100,0))","v":""},{"$f":"IF(LEN(B477)=0,\"\",ROUND(B477*'Base Values'!$B$14,0))","v":""},""]
[{"$f":"IF(LEN('HVI Quality Data'!A478)>0,'HVI Quality Data'!A478,\"\")","v":""},null,null,{"$f":"IF(LEN(B478)=0,\"\",ROUND($B478*'HVI Quality Data'!R478/100,0))","v":""},{"$f":"IF(LEN(B478)=0,\"\",ROUND(B478*'Base Values'!$B$16,0))","v":""},{"$f":"IF(LEN(B478)=0,\"\",ROUND(E478/2000*'Base Values'!$B$10,0))","v":""},"",{"$f":"IF(OR(LEN(B478)=0,LEN(C478)=0),\"\",ROUND(B478/(C478/100)*'Base Values'!$B$12/100,0))","v":""},{"$f":"IF(LEN(B478)=0,\"\",ROUND(B478*'Base Values'!$B$14,0))","v":""},""]
[{"$f":"IF(LEN('HVI Quality Data'!A479)>0,'HVI Quality Data'!A479,\"\")","v":""},null,null,{"$f":"IF(LEN(B479)=0,\"\",ROUND($B479*'HVI Quality Data'!R479/100,0))","v":""},{"$f":"IF(LEN(B479)=0,\"\",ROUND(B479*'Base Values'!$B$16,0))","v":""},{"$f":"IF(LEN(B479)=0,\"\",ROUND(E479/2000*'Base Values'!$B$10,0))","v":""},"",{"$f":"IF(OR(LEN(B479)=0,LEN(C479)=0),\"\",ROUND(B479/(C479/100)*'Base Values'!$B$12/100,0))","v":""},{"$f":"IF(LEN(B479)=0,\"\",ROUND(B479*'Base Values'!$B$14,0))","v":""},""]
[{"$f":"IF(LEN('HVI Quality Data'!A480)>0,'HVI Quality Data'!A480,\"\")","v":""},null,null,{"$f":"IF(LEN(B480)=0,\"\",ROUND($B480*'HVI Quality Data'!R480/100,0))","v":""},{"$f":"IF(LEN(B480)=0,\"\",ROUND(B480*'Base Values'!$B$16,0))","v":""},{"$f":"IF(LEN(B480)=0,\"\",ROUND(E480/2000*'Base Values'!$B$10,0))","v":""},"",{"$f":"IF(OR(LEN(B480)=0,LEN(C480)=0),\"\",ROUND(B480/(C480/100)*'Base Values'!$B$12/100,0))","v":""},{"$f":"IF(LEN(B480)=0,\"\",ROUND(B480*'Base Values'!$B$14,0))","v":""},""]
[{"$f":"IF(LEN('HVI Quality Data'!A481)>0,'HVI Quality Data'!A481,\"\")","v":""},null,null,{"$f":"IF(LEN(B481)=0,\"\",ROUND($B481*'HVI Quality Data'!R481/100,0))","v":""},{"$f":"IF(LEN(B481)=0,\"\",ROUND(B481*'Base Values'!$B$16,0))","v":""},{"$f":"IF(LEN(B481)=0,\"\",ROUND(E481/2000*'Base Values'!$B$10,0))","v":""},"",{"$f":"IF(OR(LEN(B481)=0,LEN(C481)=0),\"\",ROUND(B481/(C481/100)*'Base Values'!$B$12/100,0))","v":""},{"$f":"IF(LEN(B481)=0,\"\",ROUND(B481*'Base Values'!$B$14,0))","v":""},""]
[{"$f":"IF(LEN('HVI Quality Data'!A482)>0,'HVI Quality Data'!A482,\"\")","v":""},null,null,{"$f":"IF(LEN(B482)=0,\"\",ROUND($B482*'HVI Quality Data'!R482/100,0))","v":""},{"$f":"IF(LEN(B482)=0,\"\",ROUND(B482*'Base Values'!$B$16,0))","v":""},{"$f":"IF(LEN(B482)=0,\"\",ROUND(E482/2000*'Base Values'!$B$10,0))","v":""},"",{"$f":"IF(OR(LEN(B482)=0,LEN(C482)=0),\"\",ROUND(B482/(C482/100)*'Base Values'!$B$12/100,0))","v":""},{"$f":"IF(LEN(B482)=0,\"\",ROUND(B482*'Base Values'!$B$14,0))","v":""},""]
[{"$f":"IF(LEN('HVI Quality Data'!A483)>0,'HVI Quality Data'!A483,\"\")","v":""},null,null,{"$f":"IF(LEN(B483)=0,\"\",ROUND($B483*'HVI Quality Data'!R483/100,0))","v":""},{"$f":"IF(LEN(B483)=0,\"\",ROUND(B483*'Base Values'!$B$16,0))","v":""},{"$f":"IF(LEN(B483)=0,\"\",ROUND(E483/2000*'Base Values'!$B$10,0))","v":""},"",{"$f":"IF(OR(LEN(B483)=0,LEN(C483)=0),\"\",ROUND(B483/(C483/100)*'Base Values'!$B$12/100,0))","v":""},{"$f":"IF(LEN(B483)=0,\"\",ROUND(B483*'Base Values'!$B$14,0))","v":""},""]
[{"$f":"IF(LEN('HVI Quality Data'!A484)>0,'HVI Quality Data'!A484,\"\")","v":""},null,null,{"$f":"IF(LEN(B484)=0,\"\",ROUND($B484*'HVI Quality Data'!R484/100,0))","v":""},{"$f":"IF(LEN(B484)=0,\"\",ROUND(B484*'Base Values'!$B$16,0))","v":""},{"$f":"IF(LEN(B484)=0,\"\",ROUND(E484/2000*'Base Values'!$B$10,0))","v":""},"",{"$f":"IF(OR(LEN(B484)=0,LEN(C484)=0),\"\",ROUND(B484/(C484/100)*'Base Values'!$B$12/100,0))","v":""},{"$f":"IF(LEN(B484)=0,\"\",ROUND(B484*'Base Values'!$B$14,0))","v":""},""]
[{"$f":"IF(LEN('HVI Quality Data'!A485)>0,'HVI Quality Data'!A485,\"\")","v":""},null,null,{"$f":"IF(LEN(B485)=0,\"\",ROUND($B485*'HVI Quality Data'!R485/100,0))","v":""},{"$f":"IF(LEN(B485)=0,\"\",ROUND(B485*'Base Values'!$B$16,0))","v":""},{"$f":"IF(LEN(B485)=0,\"\",ROUND(E485/2000*'Base Values'!$B$10,0))","v":""},"",{"$f":"IF(OR(LEN(B485)=0,LEN(C485)=0),\"\",ROUND(B485/(C485/100)*'Base Values'!$B$12/100,0))","v":""},{"$f":"IF(LEN(B485)=0,\"\",ROUND(B485*'Base Values'!$B$14,0))","v":""},""]
[{"$f":"IF(LEN('HVI Quality Data'!A486)>0,'HVI Quality Data'!A486,\"\")","v":""},null,null,{"$f":"IF(LEN(B486)=0,\"\",ROUND($B486*'HVI Quality Data'!R486/100,0))","v":""},{"$f":"IF(LEN(B486)=0,\"\",ROUND(B486*'Base Values'!$B$16,0))","v":""},{"$f":"IF(LEN(B486)=0,\"\",ROUND(E486/2000*'Base Values'!$B$10,0))","v":""},"",{"$f":"IF(OR(LEN(B486)=0,LEN(C486)=0),\"\",ROUND(B486/(C486/100)*'Base Values'!$B$12/100,0))","v":""},{"$f":"IF(LEN(B486)=0,\"\",ROUND(B486*'Base Values'!$B$14,0))","v":""},""]
[{"$f":"IF(LEN('HVI Quality Data'!A487)>0,'HVI Quality Data'!A487,\"\")","v":""},null,null,{"$f":"IF(LEN(B487)=0,\"\",ROUND($B487*'HVI Quality Data'!R487/100,0))","v":""},{"$f":"IF(LEN(B487)=0,\"\",ROUND(B487*'Base Values'!$B$16,0))","v":""},{"$f":"IF(LEN(B487)=0,\"\",ROUND(E487/2000*'Base Values'!$B$10,0))","v":""},"",{"$f":"IF(OR(LEN(B487)=0,LEN(C487)=0),\"\",ROUND(B487/(C487/100)*'Base Values'!$B$12/100,0))","v":""},{"$f":"IF(LEN(B487)=0,\"\",ROUND(B487*'Base Values'!$B$14,0))","v":""},""]
[{"$f":"IF(LEN('HVI Quality Data'!A488)>0,'HVI Quality Data'!A488,\"\")","v":""},null,null,{"$f":"IF(LEN(B488)=0,\"\",ROUND($B488*'HVI Quality Data'!R488/100,0))","v":""},{"$f":"IF(LEN(B488)=0,\"\",ROUND(B488*'Base Values'!$B$16,0))","v":""},{"$f":"IF(LEN(B488)=0,\"\",ROUND(E488/2000*'Base Values'!$B$10,0))","v":""},"",{"$f":"IF(OR(LEN(B488)=0,LEN(C488)=0),\"\",ROUND(B488/(C488/100)*'Base Values'!$B$12/100,0))","v":""},{"$f":"IF(LEN(B488)=0,\"\",ROUND(B488*'Base Values'!$B$14,0))","v":""},""]
[{"$f":"IF(LEN('HVI Quality Data'!A489)>0,'HVI Quality Data'!A489,\"\")","v":""},null,null,{"$f":"IF(LEN(B489)=0,\"\",ROUND($B489*'HVI Quality Data'!R489/100,0))","v":""},{"$f":"IF(LEN(B489)=0,\"\",ROUND(B489*'Base Values'!$B$16,0))","v":""},{"$f":"IF(LEN(B489)=0,\"\",ROUND(E489/2000*'Base Values'!$B$10,0))","v":""},"",{"$f":"IF(OR(LEN(B489)=0,LEN(C489)=0),\"\",ROUND(B489/(C489/100)*'Base Values'!$B$12/100,0))","v":""},{"$f":"IF(LEN(B489)=0,\"\",ROUND(B489*'Base Values'!$B$14,0))","v":""},""]
[{"$f":"IF(LEN('HVI Quality Data'!A490)>0,'HVI Quality Data'!A490,\"\")","v":""},null,null,{"$f":"IF(LEN(B490)=0,\"\",ROUND($B490*'HVI Quality Data'!R490/100,0))","v":""},{"$f":"IF(LEN(B490)=0,\"\",ROUND(B490*'Base Values'!$B$16,0))","v":""},{"$f":"IF(LEN(B490)=0,\"\",ROUND(E490/2000*'Base Values'!$B$10,0))","v":""},"",{"$f":"IF(OR(LEN(B490)=0,LEN(C490)=0),\"\",ROUND(B490/(C490/100)*'Base Values'!$B$12/100,0))","v":""},{"$f":"IF(LEN(B490)=0,\"\",ROUND(B490*'Base Values'!$B$14,0))","v":""},""]
[{"$f":"IF(LEN('HVI Quality Data'!A491)>0,'HVI Quality Data'!A491,\"\")","v":""},null,null,{"$f":"IF(LEN(B491)=0,\"\",ROUND($B491*'HVI Quality Data'!R491/100,0))","v":""},{"$f":"IF(LEN(B491)=0,\"\",ROUND(B491*'Base Values'!$B$16,0))","v":""},{"$f":"IF(LEN(B491)=0,\"\",ROUND(E491/2000*'Base Values'!$B$10,0))","v":""},"",{"$f":"IF(OR(LEN(B491)=0,LEN(C491)=0),\"\",ROUND(B491/(C491/100)*'Base Values'!$B$12/100,0))","v":""},{"$f":"IF(LEN(B491)=0,\"\",ROUND(B491*'Base Values'!$B$14,0))","v":""},""]
[{"$f":"IF(LEN('HVI Quality Data'!A492)>0,'HVI Quality Data'!A492,\"\")","v":""},null,null,{"$f":"IF(LEN(B492)=0,\"\",ROUND($B492*'HVI Quality Data'!R492/100,0))","v":""},{"$f":"IF(LEN(B492)=0,\"\",ROUND(B492*'Base Values'!$B$16,0))","v":""},{"$f":"IF(LEN(B492)=0,\"\",ROUND(E492/2000*'Base Values'!$B$10,0))","v":""},"",{"$f":"IF(OR(LEN(B492)=0,LEN(C492)=0),\"\",ROUND(B492/(C492/100)*'Base Values'!$B$12/100,0))","v":""},{"$f":"IF(LEN(B492)=0,\"\",ROUND(B492*'Base Values'!$B$14,0))","v":""},""]
[{"$f":"IF(LEN('HVI Quality Data'!A493)>0,'HVI Quality Data'!A493,\"\")","v":""},null,null,{"$f":"IF(LEN(B493)=0,\"\",ROUND($B493*'HVI Quality Data'!R493/100,0))","v":""},{"$f":"IF(LEN(B493)=0,\"\",ROUND(B493*'Base Values'!$B$16,0))","v":""},{"$f":"IF(LEN(B493)=0,\"\",ROUND(E493/2000*'Base Values'!$B$10,0))","v":""},"",{"$f":"IF(OR(LEN(B493)=0,LEN(C493)=0),\"\",ROUND(B493/(C493/100)*'Base Values'!$B$12/100,0))","v":""},{"$f":"IF(LEN(B493)=0,\"\",ROUND(B493*'Base Values'!$B$14,0))","v":""},""]
[{"$f":"IF(LEN('HVI Quality Data'!A494)>0,'HVI Quality Data'!A494,\"\")","v":""},null,null,{"$f":"IF(LEN(B494)=0,\"\",ROUND($B494*'HVI Quality Data'!R494/100,0))","v":""},{"$f":"IF(LEN(B494)=0,\"\",ROUND(B494*'Base Values'!$B$16,0))","v":""},{"$f":"IF(LEN(B494)=0,\"\",ROUND(E494/2000*'Base Values'!$B$10,0))","v":""},"",{"$f":"IF(OR(LEN(B494)=0,LEN(C494)=0),\"\",ROUND(B494/(C494/100)*'Base Values'!$B$12/100,0))","v":""},{"$f":"IF(LEN(B494)=0,\"\",ROUND(B494*'Base Values'!$B$14,0))","v":""},""]
[{"$f":"IF(LEN('HVI Quality Data'!A495)>0,'HVI Quality Data'!A495,\"\")","v":""},null,null,{"$f":"IF(LEN(B495)=0,\"\",ROUND($B495*'HVI Quality Data'!R495/100,0))","v":""},{"$f":"IF(LEN(B495)=0,\"\",ROUND(B495*'Base Values'!$B$16,0))","v":""},{"$f":"IF(LEN(B495)=0,\"\",ROUND(E495/2000*'Base Values'!$B$10,0))","v":""},"",{"$f":"IF(OR(LEN(B495)=0,LEN(C495)=0),\"\",ROUND(B495/(C495/100)*'Base Values'!$B$12/100,0))","v":""},{"$f":"IF(LEN(B495)=0,\"\",ROUND(B495*'Base Values'!$B$14,0))","v":""},""]
[{"$f":"IF(LEN('HVI Quality Data'!A496)>0,'HVI Quality Data'!A496,\"\")","v":""},null,null,{"$f":"IF(LEN(B496)=0,\"\",ROUND($B496*'HVI Quality Data'!R496/100,0))","v":""},{"$f":"IF(LEN(B496)=0,\"\",ROUND(B496*'Base Values'!$B$16,0))","v":""},{"$f":"IF(LEN(B496)=0,\"\",ROUND(E496/2000*'Base Values'!$B$10,0))","v":""},"",{"$f":"IF(OR(LEN(B496)=0,LEN(C496)=0),\"\",ROUND(B496/(C496/100)*'Base Values'!$B$12/100,0))","v":""},{"$f":"IF(LEN(B496)=0,\"\",ROUND(B496*'Base Values'!$B$14,0))","v":""},""]
[{"$f":"IF(LEN('HVI Quality Data'!A497)>0,'HVI Quality Data'!A497,\"\")","v":""},null,null,{"$f":"IF(LEN(B497)=0,\"\",ROUND($B497*'HVI Quality Data'!R497/100,0))","v":""},{"$f":"IF(LEN(B497)=0,\"\",ROUND(B497*'Base Values'!$B$16,0))","v":""},{"$f":"IF(LEN(B497)=0,\"\",ROUND(E497/2000*'Base Values'!$B$10,0))","v":""},"",{"$f":"IF(OR(LEN(B497)=0,LEN(C497)=0),\"\",ROUND(B497/(C497/100)*'Base Values'!$B$12/100,0))","v":""},{"$f":"IF(LEN(B497)=0,\"\",ROUND(B497*'Base Values'!$B$14,0))","v":""},""]
[{"$f":"IF(LEN('HVI Quality Data'!A498)>0,'HVI Quality Data'!A498,\"\")","v":""},null,null,{"$f":"IF(LEN(B498)=0,\"\",ROUND($B498*'HVI Quality Data'!R498/100,0))","v":""},{"$f":"IF(LEN(B498)=0,\"\",ROUND(B498*'Base Values'!$B$16,0))","v":""},{"$f":"IF(LEN(B498)=0,\"\",ROUND(E498/2000*'Base Values'!$B$10,0))","v":""},"",{"$f":"IF(OR(LEN(B498)=0,LEN(C498)=0),\"\",ROUND(B498/(C498/100)*'Base Values'!$B$12/100,0))","v":""},{"$f":"IF(LEN(B498)=0,\"\",ROUND(B498*'Base Values'!$B$14,0))","v":""},""]
[{"$f":"IF(LEN('HVI Quality Data'!A499)>0,'HVI Quality Data'!A499,\"\")","v":""},null,null,{"$f":"IF(LEN(B499)=0,\"\",ROUND($B499*'HVI Quality Data'!R499/100,0))","v":""},{"$f":"IF(LEN(B499)=0,\"\",ROUND(B499*'Base Values'!$B$16,0))","v":""},{"$f":"IF(LEN(B499)=0,\"\",ROUND(E499/2000*'Base Values'!$B$10,0))","v":""},"",{"$f":"IF(OR(LEN(B499)=0,LEN(C499)=0),\"\",ROUND(B499/(C499/100)*'Base Values'!$B$12/100,0))","v":""},{"$f":"IF(LEN(B499)=0,\"\",ROUND(B499*'Base Values'!$B$14,0))","v":""},""]
[{"$f":"IF(LEN('HVI Quality Data'!A500)>0,'HVI Quality Data'!A500,\"\")","v":""},null,null,{"$f":"IF(LEN(B500)=0,\"\",ROUND($B500*'HVI Quality Data'!R500/100,0))","v":""},{"$f":"IF(LEN(B500)=0,\"\",ROUND(B500*'Base Values'!$B$16,0))","v":""},{"$f":"IF(LEN(B500)=0,\"\",ROUND(E500/2000*'Base Values'!$B$10,0))","v":""},"",{"$f":"IF(OR(LEN(B500)=0,LEN(C500)=0),\"\",ROUND(B500/(C500/100)*'Base Values'!$B$12/100,0))","v":""},{"$f":"IF(LEN(B500)=0,\"\",ROUND(B500*'Base Values'!$B$14,0))","v":""},""]

{"sheet":"Charts - Loan Value","index":4,"n_rows":6,"n_cols":12,"rows_kept":6,"cut":false,"hidden":false,"merged":[]}
[]
[]
[]
[]
[null,null,null,null,null,null,null,null,null,null,null,{"$f":"CONCATENATE('Base Values'!$B$6,\" - Loan Values (cents/lb)\")","v":"2017/18 Sample Loan Values - Loan Values (cents/lb)"}]
[null,null,null,null,null,null,null,null,null,null,null,"cents/lb"]

{"sheet":"Charts - Net Return","index":5,"n_rows":37,"n_cols":20,"rows_kept":37,"cut":false,"hidden":false,"merged":[]}
[]
[]
[]
[]
[null,null,null,null,null,null,null,null,null,null,null,null,null,null,null,null,null,null,null,{"$f":"CONCATENATE('Base Values'!$B$6,\" - Loan Values (cents/lb)\")","v":"2017/18 Sample Loan Values - Loan Values (cents/lb)"}]
[null,null,null,null,null,null,null,null,null,null,null,null,null,null,null,null,null,null,null,"cents/lb"]
[]
[null,null,null,null,null,null,null,null,null,null,null,null,null,null,null,null,null,null,null,{"$f":"CONCATENATE('Base Values'!$B$6,\" - Lint Yield (lb/acre)\")","v":"2017/18 Sample Loan Values - Lint Yield (lb/acre)"}]
[null,null,null,null,null,null,null,null,null,null,null,null,null,null,null,null,null,null,null,"lb/acre"]
[]
[]
[]
[]
[]
[]
[]
[]
[]
[]
[]
[]
[null,null,null,null,null,null,null,null,null,null,null,null,null,null,null,null,null,null,null,{"$f":"CONCATENATE('Base Values'!$B$6,\" - Gross Return (lint & seed, $/acre)\")","v":"2017/18 Sample Loan Values - Gross Return (lint & seed, $/acre)"}]
[null,null,null,null,null,null,null,null,null,null,null,null,null,null,null,null,null,null,null,"$/acre"]
[]
[null,null,null,null,null,null,null,null,null,null,null,null,null,null,null,null,null,null,null,{"$f":"CONCATENATE('Base Values'!$B$6,\" - Net Return\n(lint & seed value above harvesting & ginning costs, $/acre)\")","v":"2017/18 Sample Loan Values - Net Return\n(lint & seed value above harvesting & ginning costs, $/acre)"}]
[null,null,null,null,null,null,null,null,null,null,null,null,null,null,null,null,null,null,null,"$/acre"]
[]
[]
[]
[]
[]
[]
[]
[]
[]
[]
[null,null,null,null,null,null,null,null,null,null,"Note: Net return refers to the return above harvesting and ginning costs."]

{"sheet":"Loan - Grade & Staple","index":6,"n_rows":178,"n_cols":13,"rows_kept":178,"cut":false,"hidden":true,"merged":[]}
[]
[]
[null,"Color","Leaf","26-31",32,33,34,35,36,37,"38+"]
["White",11,1,-305,-220,-55,125,350,470,520,535,null,"Note: Data have to be manually copied over from the pdf (then transposed)"]
["White",11,2,-305,-220,-55,125,350,470,520,535,null,"New section created to break out color grades 11 and 21"]
["White",11,3,-375,-245,-85,100,285,400,445,460,null,"Gaps in coverage are assigned -4000, handled by formulas."]
["White",11,4,-415,-265,-160,60,195,310,340,340]
["White",11,5,-525,-360,-270,-70,105,180,190,190]
["White",11,6,-695,-510,-435,-280,-210,-175,-170,-170]
["White",11,7,-770,-600,-535,-380,-320,-285,-280,-280]
["White",21,1,-305,-220,-55,125,350,470,520,535]
["White",21,2,-305,-220,-55,125,350,470,520,535]
["White",21,3,-375,-245,-85,100,285,400,445,460]
["White",21,4,-415,-265,-160,60,195,310,340,340]
["White",21,5,-525,-360,-270,-70,105,180,190,190]
["White",21,6,-695,-510,-435,-280,-210,-175,-170,-170]
["White",21,7,-770,-600,-535,-380,-320,-285,-280,-280]
["White",31,1,-395,-245,-100,85,285,420,450,460]
["White",31,2,-395,-245,-100,85,285,420,450,460]
["White",31,3,-440,-255,-110,80,255,375,405,415]
["White",31,4,-500,-295,-210,40,140,235,260,270]
["White",31,5,-575,-390,-295,-125,45,110,120,120]
["White",31,6,-740,-535,-440,-295,-245,-215,-210,-210]
["White",31,7,-830,-620,-540,-385,-345,-315,-315,-315]
["White",41,1,-560,-345,-195,40,140,240,260,270]
["White",41,2,-560,-345,-195,40,140,240,260,270]
["White",41,3,-560,-345,-195,40,140,240,260,270]
["White",41,4,-610,-370,-285,0,95,185,205,215]
["White",41,5,-650,-470,-385,-205,-95,-25,-20,-20]
["White",41,6,-800,-595,-525,-375,-315,-275,-275,-275]
["White",41,7,-920,-700,-645,-490,-425,-405,-400,-400]
["White",51,1,-715,-565,-425,-260,-180,-150,-145,-145]
["White",51,2,-715,-565,-425,-260,-180,-150,-145,-145]
["White",51,3,-715,-565,-425,-260,-180,-150,-145,-145]
["White",51,4,-715,-565,-425,-260,-180,-150,-145,-145]
["White",51,5,-765,-660,-595,-400,-315,-275,-275,-275]
["White",51,6,-925,-750,-690,-520,-470,-435,-435,-435]
["White",51,7,-1025,-825,-800,-640,-585,-560,-560,-560]
["White",61,1,-790,-705,-650,-470,-410,-395,-395,-395]
["White",61,2,-790,-705,-650,-470,-410,-395,-395,-395]
["White",61,3,-790,-705,-650,-470,-410,-395,-395,-395]
["White",61,4,-790,-705,-650,-470,-410,-395,-395,-395]
["White",61,5,-790,-705,-650,-470,-410,-395,-395,-395]
["White",61,6,-935,-825,-780,-655,-600,-575,-575,-575]
["White",61,7,-1035,-955,-890,-740,-685,-670,-670,-670]
["White",71,1,-995,-990,-930,-780,-730,-725,-725,-725]
["White",71,2,-995,-990,-930,-780,-730,-725,-725,-725]
["White",71,3,-995,-990,-930,-780,-730,-725,-725,-725]
["White",71,4,-995,-990,-930,-780,-730,-725,-725,-725]
["White",71,5,-995,-990,-930,-780,-730,-725,-725,-725]
["White",71,6,-995,-990,-930,-780,-730,-725,-725,-725]
["White",71,7,-1075,-1025,-980,-815,-785,-780,-780,-780]
["Light Spotted",12,1,-480,-280,-130,65,215,325,335,340]
["Light Spotted",12,2,-480,-280,-130,65,215,325,335,340]
["Light Spotted",12,3,-525,-305,-145,50,170,280,295,300]
["Light Spotted",12,4,-555,-330,-240,-60,110,235,245,250]
["Light Spotted",12,5,-670,-485,-430,-255,-105,-70,-65,-65]
["Light Spotted",12,6,-830,-605,-560,-435,-350,-335,-325,-325]
["Light Spotted",12,7,-910,-700,-660,-535,-470,-450,-445,-445]
["Light Spotted",22,1,-480,-280,-130,65,215,325,335,340]
["Light Spotted",22,2,-480,-280,-130,65,215,325,335,340]
["Light Spotted",22,3,-525,-305,-145,50,170,280,295,300]
["Light Spotted",22,4,-555,-330,-240,-60,110,235,245,250]
["Light Spotted",22,5,-670,-485,-430,-255,-105,-70,-65,-65]
["Light Spotted",22,6,-830,-605,-560,-435,-350,-335,-325,-325]
["Light Spotted",22,7,-910,-700,-660,-535,-470,-450,-445,-445]
["Light Spotted",32,1,-525,-355,-210,-50,25,90,95,95]
["Light Spotted",32,2,-525,-355,-210,-50,25,90,95,95]
["Light Spotted",32,3,-570,-385,-230,-75,-10,75,75,75]
["Light Spotted",32,4,-630,-445,-305,-170,-75,5,5,5]
["Light Spotted",32,5,-750,-590,-490,-330,-245,-210,-210,-210]
["Light Spotted",32,6,-905,-680,-620,-485,-430,-410,-410,-410]
["Light Spotted",32,7,-1015,-780,-715,-595,-535,-520,-520,-520]
["Light Spotted",42,1,-640,-490,-390,-215,-130,-55,-55,-55]
["Light Spotted",42,2,-640,-490,-390,-215,-130,-55,-55,-55]
["Light Spotted",42,3,-640,-490,-390,-215,-130,-55,-55,-55]
["Light Spotted",42,4,-690,-545,-405,-250,-180,-110,-110,-110]
["Light Spotted",42,5,-805,-680,-565,-405,-310,-295,-295,-295]
["Light Spotted",42,6,-1010,-760,-705,-540,-490,-470,-470,-470]
["Light Spotted",42,7,-1095,-870,-795,-665,-595,-585,-585,-585]
["Light Spotted",52,1,-850,-675,-570,-470,-395,-390,-390,-390]
["Light Spotted",52,2,-850,-675,-570,-470,-395,-390,-390,-390]
["Light Spotted",52,3,-850,-675,-570,-470,-395,-390,-390,-390]
["Light Spotted",52,4,-850,-675,-570,-470,-395,-390,-390,-390]
["Light Spotted",52,5,-925,-755,-690,-560,-495,-490,-490,-490]
["Light Spotted",52,6,-1135,-910,-860,-715,-660,-655,-655,-655]
["Light Spotted",52,7,-1210,-1020,-970,-830,-775,-770,-770,-770]
["Light Spotted",62,1,-975,-870,-815,-680,-640,-635,-635,-635]
["Light Spotted",62,2,-975,-870,-815,-680,-640,-635,-635,-635]
["Light Spotted",62,3,-975,-870,-815,-680,-640,-635,-635,-635]
["Light Spotted",62,4,-975,-870,-815,-680,-640,-635,-635,-635]
["Light Spotted",62,5,-975,-870,-815,-680,-640,-635,-635,-635]
["Light Spotted",62,6,-1160,-1045,-990,-845,-815,-810,-810,-810]
["Light Spotted",62,7,-4000,-4000,-4000,-4000,-4000,-4000,-4000,-4000]
["Spotted",13,1,-655,-470,-415,-205,-135,-115,-115,-115]
["Spotted",13,2,-655,-470,-415,-205,-135,-115,-115,-115]
["Spotted",13,3,-700,-495,-440,-230,-160,-140,-140,-140]
["Spotted",13,4,-730,-570,-510,-280,-210,-190,-190,-190]
["Spotted",13,5,-855,-670,-635,-405,-335,-310,-310,-310]
["Spotted",13,6,-960,-750,-705,-475,-415,-390,-390,-390]
["Spotted",13,7,-1040,-845,-790,-540,-515,-495,-495,-495]
["Spotted",23,1,-655,-470,-415,-205,-135,-115,-115,-115]
["Spotted",23,2,-655,-470,-415,-205,-135,-115,-115,-115]
["Spotted",23,3,-700,-495,-440,-230,-160,-140,-140,-140]
["Spotted",23,4,-730,-570,-510,-280,-210,-190,-190,-190]
["Spotted",23,5,-855,-670,-635,-405,-335,-310,-310,-310]
["Spotted",23,6,-960,-750,-705,-475,-415,-390,-390,-390]
["Spotted",23,7,-1040,-845,-790,-540,-515,-495,-495,-495]
["Spotted",33,1,-775,-545,-490,-260,-210,-195,-195,-195]
["Spotted",33,2,-775,-545,-490,-260,-210,-195,-195,-195]
["Spotted",33,3,-775,-545,-490,-260,-210,-195,-195,-195]
["Spotted",33,4,-850,-620,-560,-315,-265,-245,-245,-245]
["Spotted",33,5,-1000,-740,-680,-460,-390,-370,-370,-370]
["Spotted",33,6,-1055,-820,-800,-520,-500,-480,-480,-480]
["Spotted",33,7,-1135,-920,-860,-645,-605,-585,-585,-585]
["Spotted",43,1,-825,-710,-615,-445,-400,-380,-380,-380]
["Spotted",43,2,-825,-710,-615,-445,-400,-380,-380,-380]
["Spotted",43,3,-825,-710,-615,-445,-400,-380,-380,-380]
["Spotted",43,4,-900,-760,-660,-480,-415,-395,-395,-395]
["Spotted",43,5,-1025,-845,-765,-610,-560,-545,-545,-545]
["Spotted",43,6,-1105,-935,-870,-720,-695,-685,-685,-685]
["Spotted",43,7,-1185,-1055,-960,-815,-790,-780,-780,-780]
["Spotted",53,1,-990,-875,-790,-620,-585,-575,-575,-575]
["Spotted",53,2,-990,-875,-790,-620,-585,-575,-575,-575]
["Spotted",53,3,-990,-875,-790,-620,-585,-575,-575,-575]
["Spotted",53,4,-990,-875,-790,-620,-585,-575,-575,-575]
["Spotted",53,5,-1090,-960,-905,-735,-705,-700,-700,-700]
["Spotted",53,6,-1205,-1090,-1020,-850,-830,-825,-825,-825]
["Spotted",53,7,-1285,-1165,-1135,-955,-940,-930,-930,-930]
["Spotted",63,1,-1205,-1065,-995,-790,-740,-730,-730,-730]
["Spotted",63,2,-1205,-1065,-995,-790,-740,-730,-730,-730]
["Spotted",63,3,-1205,-1065,-995,-790,-740,-730,-730,-730]
["Spotted",63,4,-1205,-1065,-995,-790,-740,-730,-730,-730]
["Spotted",63,5,-1205,-1065,-995,-790,-740,-730,-730,-730]
["Spotted",63,6,-1285,-1175,-1095,-925,-900,-890,-890,-890]
["Spotted",63,7,-4000,-4000,-4000,-4000,-4000,-4000,-4000,-4000]
["Tinged",24,1,-835,-660,-610,-380,-360,-350,-350,-350]
["Tinged",24,2,-835,-660,-610,-380,-360,-350,-350,-350]
["Tinged",24,3,-835,-660,-610,-380,-360,-350,-350,-350]
["Tinged",24,4,-960,-785,-710,-480,-460,-450,-450,-450]
["Tinged",24,5,-1060,-885,-835,-605,-585,-575,-575,-575]
["Tinged",24,6,-1215,-1035,-985,-780,-760,-750,-750,-750]
["Tinged",24,7,-4000,-4000,-4000,-4000,-4000,-4000,-4000,-4000]
["Tinged",34,1,-850,-675,-625,-395,-375,-365,-365,-365]
["Tinged",34,2,-850,-675,-625,-395,-375,-365,-365,-365]
["Tinged",34,3,-850,-675,-625,-395,-375,-365,-365,-365]
["Tinged",34,4,-975,-800,-725,-495,-475,-465,-465,-465]
["Tinged",34,5,-1075,-900,-850,-620,-600,-590,-590,-590]
["Tinged",34,6,-1230,-1050,-1000,-795,-775,-765,-765,-765]
["Tinged",34,7,-4000,-4000,-4000,-4000,-4000,-4000,-4000,-4000]
["Tinged",44,1,-970,-795,-745,-515,-495,-485,-485,-485]
["Tinged",44,2,-970,-795,-745,-515,-495,-485,-485,-485]
["Tinged",44,3,-970,-795,-745,-515,-495,-485,-485,-485]
["Tinged",44,4,-1045,-895,-795,-565,-545,-535,-535,-535]
["Tinged",44,5,-1140,-970,-895,-665,-645,-635,-635,-635]
["Tinged",44,6,-1290,-1115,-1065,-855,-840,-830,-830,-830]
["Tinged",44,7,-4000,-4000,-4000,-4000,-4000,-4000,-4000,-4000]
["Tinged",54,1,-1070,-920,-870,-640,-620,-610,-610,-610]
["Tinged",54,2,-1070,-920,-870,-640,-620,-610,-610,-610]
["Tinged",54,3,-1070,-920,-870,-640,-620,-610,-610,-610]
["Tinged",54,4,-1070,-920,-870,-640,-620,-610,-610,-610]
["Tinged",54,5,-1165,-995,-920,-735,-710,-700,-700,-700]
["Tinged",54,6,-4000,-4000,-4000,-4000,-4000,-4000,-4000,-4000]
["Tinged",54,7,-4000,-4000,-4000,-4000,-4000,-4000,-4000,-4000]
["Yellow Stained",25,1,-1095,-920,-870,-640,-620,-610,-610,-610]
["Yellow Stained",25,2,-1095,-920,-870,-640,-620,-610,-610,-610]
["Yellow Stained",25,3,-1095,-920,-870,-640,-620,-610,-610,-610]
["Yellow Stained",25,4,-1220,-1045,-970,-740,-720,-710,-710,-710]
["Yellow Stained",25,5,-4000,-4000,-4000,-4000,-4000,-4000,-4000,-4000]
["Yellow Stained",25,6,-4000,-4000,-4000,-4000,-4000,-4000,-4000,-4000]
["Yellow Stained",25,7,-4000,-4000,-4000,-4000,-4000,-4000,-4000,-4000]
["Yellow Stained",35,1,-1110,-935,-885,-655,-635,-625,-625,-625]
["Yellow Stained",35,2,-1110,-935,-885,-655,-635,-625,-625,-625]
["Yellow Stained",35,3,-1110,-935,-885,-655,-635,-625,-625,-625]
["Yellow Stained",35,4,-4000,-4000,-4000,-4000,-4000,-4000,-4000,-4000]
["Yellow Stained",35,5,-4000,-4000,-4000,-4000,-4000,-4000,-4000,-4000]
["Yellow Stained",35,6,-4000,-4000,-4000,-4000,-4000,-4000,-4000,-4000]
["Yellow Stained",35,7,-4000,-4000,-4000,-4000,-4000,-4000,-4000,-4000]

{"sheet":"Loan - Strength","index":7,"n_rows":18,"n_cols":3,"rows_kept":18,"cut":false,"hidden":true,"merged":[]}
["Strength"]
["Lower","Upper","Points"]
[0,17.899999999999999,-500]
[18,18.899999999999999,-250]
[19,19.899999999999999,-250]
[20,20.9,-250]
[21,21.9,-250]
[22,22.9,-205]
[23,23.9,-175]
[24,24.9,-165]
[25,25.9,-145]
[26,26.9,0]
[27,27.9,0]
[28,28.9,0]
[29,29.9,10]
[30,30.9,30]
[31,32.9,50]
[33,200,60]

{"sheet":"Loan - Micronaire","index":8,"n_rows":12,"n_cols":3,"rows_kept":12,"cut":false,"hidden":true,"merged":[]}
["Micronaire"]
["Lower","Upper","Points"]
[0,2.4,-975]
[2.5,2.6,-910]
[2.7,2.9,-605]
[3,3.2,-365]
[3.3,3.4,-200]
[3.5,3.6,0]
[3.7,4.2,10]
[4.3,4.9000000000000004,0]
[5,5.2,-230]
[5.3,20,-380]

{"sheet":"Loan - Uniformity","index":9,"n_rows":12,"n_cols":3,"rows_kept":12,"cut":false,"hidden":true,"merged":[]}
["Length Uniformity"]
["Lower","Upper","Points"]
[0,77.900000000000006,-100]
[78,78.900000000000006,-85]
[79,79.900000000000006,-75]
[80,80.900000000000006,0]
[81,81.900000000000006,0]
[82,82.9,5]
[83,83.9,15]
[84,84.9,25]
[85,85.9,35]
[86,200,45]

{"sheet":"Loan - Extraneous","index":10,"n_rows":5,"n_cols":3,"rows_kept":5,"cut":false,"hidden":true,"merged":[]}
["Extraneous Matter"]
[null,"Level 1","Level 2"]
["TX-NM-OK-KS",-340,-505]
["Prep All Locations",-175,-610]
["Other",-455,-695]