BEGIN:VCALENDAR
VERSION:2.0
PRODID:-//Cotton Incorporated - ECPv6.15.20//NONSGML v1.0//EN
CALSCALE:GREGORIAN
METHOD:PUBLISH
X-WR-CALNAME:Cotton Incorporated
X-ORIGINAL-URL:https://www.cottoninc.com
X-WR-CALDESC:Events for Cotton Incorporated
REFRESH-INTERVAL;VALUE=DURATION:PT1H
X-Robots-Tag:noindex
X-PUBLISHED-TTL:PT1H
BEGIN:VTIMEZONE
TZID:America/New_York
BEGIN:DAYLIGHT
TZOFFSETFROM:-0500
TZOFFSETTO:-0400
TZNAME:EDT
DTSTART:20250309T070000
END:DAYLIGHT
BEGIN:STANDARD
TZOFFSETFROM:-0400
TZOFFSETTO:-0500
TZNAME:EST
DTSTART:20251102T060000
END:STANDARD
BEGIN:DAYLIGHT
TZOFFSETFROM:-0500
TZOFFSETTO:-0400
TZNAME:EDT
DTSTART:20260308T070000
END:DAYLIGHT
BEGIN:STANDARD
TZOFFSETFROM:-0400
TZOFFSETTO:-0500
TZNAME:EST
DTSTART:20261101T060000
END:STANDARD
BEGIN:DAYLIGHT
TZOFFSETFROM:-0500
TZOFFSETTO:-0400
TZNAME:EDT
DTSTART:20270314T070000
END:DAYLIGHT
BEGIN:STANDARD
TZOFFSETFROM:-0400
TZOFFSETTO:-0500
TZNAME:EST
DTSTART:20271107T060000
END:STANDARD
END:VTIMEZONE
BEGIN:VEVENT
DTSTART;VALUE=DATE:20260427
DTEND;VALUE=DATE:20260501
DTSTAMP:20260424T154234
CREATED:20251201T155732Z
LAST-MODIFIED:20251201T155732Z
UID:41529-1777248000-1777593599@www.cottoninc.com
SUMMARY:Hong Kong Fashion Instyle
DESCRIPTION:
URL:https://www.cottoninc.com/event/hong-kong-fashion-instyle/
LOCATION:Hong Kong\, Hong Kong\, China
END:VEVENT
BEGIN:VEVENT
DTSTART;VALUE=DATE:20260515
DTEND;VALUE=DATE:20260516
DTSTAMP:20260424T154234
CREATED:20251201T160036Z
LAST-MODIFIED:20251201T160036Z
UID:41539-1778803200-1778889599@www.cottoninc.com
SUMMARY:Cotton Day Japan
DESCRIPTION:
URL:https://www.cottoninc.com/event/cotton-day-japan/
LOCATION:Tokyo\, Japan\, Tokyo\, Japan
END:VEVENT
BEGIN:VEVENT
DTSTART;VALUE=DATE:20260603
DTEND;VALUE=DATE:20260607
DTSTAMP:20260424T154234
CREATED:20251201T160128Z
LAST-MODIFIED:20251201T160128Z
UID:41541-1780444800-1780790399@www.cottoninc.com
SUMMARY:Dye + Chem Asia
DESCRIPTION:
URL:https://www.cottoninc.com/event/dye-chem-asia/
LOCATION:Bangkok\, Thailand\, Bangkok\, Thailand
END:VEVENT
BEGIN:VEVENT
DTSTART;VALUE=DATE:20260609
DTEND;VALUE=DATE:20260612
DTSTAMP:20260424T154234
CREATED:20251201T160248Z
LAST-MODIFIED:20251201T160248Z
UID:41543-1780963200-1781222399@www.cottoninc.com
SUMMARY:Intertextile Shenzhen Apparel Fabrics
DESCRIPTION:
URL:https://www.cottoninc.com/event/intertextile-shenzhen-apparel-fabrics/
LOCATION:Shenzhen\, China
END:VEVENT
BEGIN:VEVENT
DTSTART;VALUE=DATE:20260617
DTEND;VALUE=DATE:20260620
DTSTAMP:20260424T154234
CREATED:20251201T160343Z
LAST-MODIFIED:20251201T160343Z
UID:41545-1781654400-1781913599@www.cottoninc.com
SUMMARY:Intex South Asia – Bangladesh
DESCRIPTION:
URL:https://www.cottoninc.com/event/intex-south-asia-bangladesh/
LOCATION:Dhaka\, Bangladesh
END:VEVENT
BEGIN:VEVENT
DTSTART;VALUE=DATE:20260625
DTEND;VALUE=DATE:20260628
DTSTAMP:20260424T154234
CREATED:20251201T160417Z
LAST-MODIFIED:20251201T160417Z
UID:41547-1782345600-1782604799@www.cottoninc.com
SUMMARY:Print Tech Bangladesh 2026
DESCRIPTION:
URL:https://www.cottoninc.com/event/print-tech-bangladesh-2026/
LOCATION:Dhaka\, Bangladesh
END:VEVENT
BEGIN:VEVENT
DTSTART;VALUE=DATE:20260701
DTEND;VALUE=DATE:20260705
DTSTAMP:20260424T154234
CREATED:20251201T160453Z
LAST-MODIFIED:20251201T160453Z
UID:41549-1782864000-1783209599@www.cottoninc.com
SUMMARY:Garment Manufacturers Sourcing Expo
DESCRIPTION:
URL:https://www.cottoninc.com/event/garment-manufacturers-sourcing-expo/
LOCATION:Bangkok\, Thailand\, Bangkok\, Thailand
END:VEVENT
BEGIN:VEVENT
DTSTART;VALUE=DATE:20260701
DTEND;VALUE=DATE:20260705
DTSTAMP:20260424T154234
CREATED:20251201T160529Z
LAST-MODIFIED:20251201T160529Z
UID:41551-1782864000-1783209599@www.cottoninc.com
SUMMARY:GFT
DESCRIPTION:
URL:https://www.cottoninc.com/event/gft/
LOCATION:Bangkok\, Thailand\, Bangkok\, Thailand
END:VEVENT
BEGIN:VEVENT
DTSTART;VALUE=DATE:20260710
DTEND;VALUE=DATE:20260714
DTSTAMP:20260424T154234
CREATED:20251201T160621Z
LAST-MODIFIED:20251201T160621Z
UID:41553-1783641600-1783987199@www.cottoninc.com
SUMMARY:Asia Fashion (Thailand) Show
DESCRIPTION:
URL:https://www.cottoninc.com/event/asia-fashion-thailand-show/
LOCATION:Bangkok\, Thailand\, Bangkok\, Thailand
END:VEVENT
BEGIN:VEVENT
DTSTART;VALUE=DATE:20260718
DTEND;VALUE=DATE:20260721
DTSTAMP:20260424T154234
CREATED:20251201T160655Z
LAST-MODIFIED:20251201T160655Z
UID:41555-1784332800-1784591999@www.cottoninc.com
SUMMARY:Digital Textile Printing Industry Expo
DESCRIPTION:
URL:https://www.cottoninc.com/event/digital-textile-printing-industry-expo/
LOCATION:Lahore\, Pakistan\, Lahore\, Pakistan
END:VEVENT
BEGIN:VEVENT
DTSTART;VALUE=DATE:20260805
DTEND;VALUE=DATE:20260808
DTSTAMP:20260424T154234
CREATED:20251201T160742Z
LAST-MODIFIED:20251201T160742Z
UID:41557-1785888000-1786147199@www.cottoninc.com
SUMMARY:Indo Garment & Textile Expo (Indogartexexpo)
DESCRIPTION:
URL:https://www.cottoninc.com/event/indo-garment-textile-expo-indogartexexpo/
LOCATION:Jakarta\, Indonesia\, Jakarta\, Indonesia
END:VEVENT
BEGIN:VEVENT
DTSTART;VALUE=DATE:20260805
DTEND;VALUE=DATE:20260808
DTSTAMP:20260424T154234
CREATED:20251201T160817Z
LAST-MODIFIED:20251201T160817Z
UID:41559-1785888000-1786147199@www.cottoninc.com
SUMMARY:Indo Fashion Textile & Apparel Expo
DESCRIPTION:
URL:https://www.cottoninc.com/event/indo-fashion-textile-apparel-expo/
LOCATION:Jakarta\, Indonesia\, Jakarta\, Indonesia
END:VEVENT
BEGIN:VEVENT
DTSTART;VALUE=DATE:20260818
DTEND;VALUE=DATE:20260821
DTSTAMP:20260424T154234
CREATED:20251201T160930Z
LAST-MODIFIED:20251201T160951Z
UID:41563-1787011200-1787270399@www.cottoninc.com
SUMMARY:Intertextile Shanghai Home Textile (Autumn Edition)
DESCRIPTION:
URL:https://www.cottoninc.com/event/intertextile-shanghai-home-textile/
LOCATION:Shanghai\, China
END:VEVENT
BEGIN:VEVENT
DTSTART;VALUE=DATE:20260818
DTEND;VALUE=DATE:20260821
DTSTAMP:20260424T154234
CREATED:20251201T161026Z
LAST-MODIFIED:20251201T161026Z
UID:41566-1787011200-1787270399@www.cottoninc.com
SUMMARY:Intertextile Shanghai Apparel Fabrics (Autumn Edition)
DESCRIPTION:
URL:https://www.cottoninc.com/event/intertextile-shanghai-apparel-fabrics-autumn-edition-2/
LOCATION:Shanghai\, China
END:VEVENT
BEGIN:VEVENT
DTSTART;VALUE=DATE:20260818
DTEND;VALUE=DATE:20260821
DTSTAMP:20260424T154234
CREATED:20251201T161100Z
LAST-MODIFIED:20251201T161100Z
UID:41568-1787011200-1787270399@www.cottoninc.com
SUMMARY:CHIC – China International Fashion Fair
DESCRIPTION:
URL:https://www.cottoninc.com/event/chic-china-international-fashion-fair-3/
LOCATION:Shanghai\, China
END:VEVENT
BEGIN:VEVENT
DTSTART;VALUE=DATE:20260818
DTEND;VALUE=DATE:20260821
DTSTAMP:20260424T154234
CREATED:20251201T161153Z
LAST-MODIFIED:20251201T161153Z
UID:41570-1787011200-1787270399@www.cottoninc.com
SUMMARY:Yarn Expo
DESCRIPTION:
URL:https://www.cottoninc.com/event/yarn-expo-aug-2026/
LOCATION:Shanghai\, China
END:VEVENT
BEGIN:VEVENT
DTSTART;VALUE=DATE:20260819
DTEND;VALUE=DATE:20260822
DTSTAMP:20260424T154234
CREATED:20251201T160851Z
LAST-MODIFIED:20251201T160851Z
UID:41561-1787097600-1787356799@www.cottoninc.com
SUMMARY:Preview in Seoul
DESCRIPTION:
URL:https://www.cottoninc.com/event/preview-in-seoul/
LOCATION:Seoul\, S. Korea
END:VEVENT
BEGIN:VEVENT
DTSTART;VALUE=DATE:20260901
DTEND;VALUE=DATE:20260904
DTSTAMP:20260424T154234
CREATED:20251201T161232Z
LAST-MODIFIED:20251201T161232Z
UID:41572-1788220800-1788479999@www.cottoninc.com
SUMMARY:China Int’L Trade Fair for Technical Textiles and Nonwovens (Cinte)
DESCRIPTION:
URL:https://www.cottoninc.com/event/china-intl-trade-fair-for-technical-textiles-and-nonwovens-cinte/
LOCATION:Shanghai\, China
END:VEVENT
BEGIN:VEVENT
DTSTART;VALUE=DATE:20260902
DTEND;VALUE=DATE:20260906
DTSTAMP:20260424T154234
CREATED:20251201T161307Z
LAST-MODIFIED:20251201T161307Z
UID:41574-1788307200-1788652799@www.cottoninc.com
SUMMARY:Centrestage 2026
DESCRIPTION:
URL:https://www.cottoninc.com/event/centrestage-2026/
LOCATION:Hong Kong\, Hong Kong\, China
END:VEVENT
BEGIN:VEVENT
DTSTART;VALUE=DATE:20260902
DTEND;VALUE=DATE:20260906
DTSTAMP:20260424T154234
CREATED:20251201T161346Z
LAST-MODIFIED:20251201T161346Z
UID:41576-1788307200-1788652799@www.cottoninc.com
SUMMARY:Dye + Chem Bangladesh Expo 2026
DESCRIPTION:
URL:https://www.cottoninc.com/event/dye-chem-bangladesh-expo-2026/
LOCATION:Dhaka\, Bangladesh
END:VEVENT
BEGIN:VEVENT
DTSTART;VALUE=DATE:20260902
DTEND;VALUE=DATE:20260906
DTSTAMP:20260424T154234
CREATED:20251201T161418Z
LAST-MODIFIED:20251201T161418Z
UID:41578-1788307200-1788652799@www.cottoninc.com
SUMMARY:Dhaka Int’l Yarn and Fabric show – Summer 2026
DESCRIPTION:
URL:https://www.cottoninc.com/event/dhaka-intl-yarn-and-fabric-show-summer-2026/
LOCATION:Dhaka\, Bangladesh
END:VEVENT
BEGIN:VEVENT
DTSTART;VALUE=DATE:20260902
DTEND;VALUE=DATE:20260906
DTSTAMP:20260424T154234
CREATED:20251201T161452Z
LAST-MODIFIED:20251201T161452Z
UID:41580-1788307200-1788652799@www.cottoninc.com
SUMMARY:Textech International Expo – Bangladesh
DESCRIPTION:
URL:https://www.cottoninc.com/event/textech-international-expo-bangladesh/
LOCATION:Dhaka\, Bangladesh
END:VEVENT
BEGIN:VEVENT
DTSTART;VALUE=DATE:20260924
DTEND;VALUE=DATE:20260927
DTSTAMP:20260424T154234
CREATED:20251201T161528Z
LAST-MODIFIED:20251201T161528Z
UID:41582-1790208000-1790467199@www.cottoninc.com
SUMMARY:Non-Woven Expo Bangladesh 2026
DESCRIPTION:
URL:https://www.cottoninc.com/event/non-woven-expo-bangladesh-2026/
LOCATION:Dhaka\, Bangladesh
END:VEVENT
BEGIN:VEVENT
DTSTART;VALUE=DATE:20261205
DTEND;VALUE=DATE:20261209
DTSTAMP:20260424T154234
CREATED:20251201T161609Z
LAST-MODIFIED:20251201T161609Z
UID:41584-1796428800-1796774399@www.cottoninc.com
SUMMARY:Clothing Textile Fair Asia
DESCRIPTION:
URL:https://www.cottoninc.com/event/clothing-textile-fair-asia/
LOCATION:Karachi\,Pakistan\, Karachi\, Pakistan
END:VEVENT
BEGIN:VEVENT
DTSTART;VALUE=DATE:20261205
DTEND;VALUE=DATE:20261209
DTSTAMP:20260424T154234
CREATED:20251201T161647Z
LAST-MODIFIED:20251201T161647Z
UID:41586-1796428800-1796774399@www.cottoninc.com
SUMMARY:Digital Printing Asia
DESCRIPTION:
URL:https://www.cottoninc.com/event/digital-printing-asia/
LOCATION:Karachi\,Pakistan\, Karachi\, Pakistan
END:VEVENT
BEGIN:VEVENT
DTSTART;VALUE=DATE:20261205
DTEND;VALUE=DATE:20261209
DTSTAMP:20260424T154234
CREATED:20251201T161720Z
LAST-MODIFIED:20251201T161720Z
UID:41588-1796428800-1796774399@www.cottoninc.com
SUMMARY:Dyestuff and Chemical Asia
DESCRIPTION:
URL:https://www.cottoninc.com/event/dyestuff-and-chemical-asia/
LOCATION:Karachi\,Pakistan\, Karachi\, Pakistan
END:VEVENT
BEGIN:VEVENT
DTSTART;VALUE=DATE:20261205
DTEND;VALUE=DATE:20261209
DTSTAMP:20260424T154234
CREATED:20251201T161750Z
LAST-MODIFIED:20251201T161750Z
UID:41590-1796428800-1796774399@www.cottoninc.com
SUMMARY:Embroidery Machines Asia
DESCRIPTION:
URL:https://www.cottoninc.com/event/embroidery-machines-asia/
LOCATION:Karachi\,Pakistan\, Karachi\, Pakistan
END:VEVENT
BEGIN:VEVENT
DTSTART;VALUE=DATE:20261205
DTEND;VALUE=DATE:20261209
DTSTAMP:20260424T154234
CREATED:20251201T161824Z
LAST-MODIFIED:20251201T161824Z
UID:41592-1796428800-1796774399@www.cottoninc.com
SUMMARY:Sewing Machinery Asia
DESCRIPTION:
URL:https://www.cottoninc.com/event/sewing-machinery-asia/
LOCATION:Karachi\,Pakistan\, Karachi\, Pakistan
END:VEVENT
BEGIN:VEVENT
DTSTART;VALUE=DATE:20261211
DTEND;VALUE=DATE:20261214
DTSTAMP:20260424T154234
CREATED:20251201T161935Z
LAST-MODIFIED:20251201T161935Z
UID:41594-1796947200-1797206399@www.cottoninc.com
SUMMARY:Dyestuff & Chemical Asia
DESCRIPTION:
URL:https://www.cottoninc.com/event/dyestuff-chemical-asia/
LOCATION:Faisalabad\, Pakistan\, Faisalabad\, Pakistan
END:VEVENT
BEGIN:VEVENT
DTSTART;VALUE=DATE:20261211
DTEND;VALUE=DATE:20261214
DTSTAMP:20260424T154234
CREATED:20251201T162011Z
LAST-MODIFIED:20251201T162011Z
UID:41597-1796947200-1797206399@www.cottoninc.com
SUMMARY:Clothing Textile Fair Asia
DESCRIPTION:
URL:https://www.cottoninc.com/event/clothing-textile-fair-asia-2/
LOCATION:Faisalabad\, Pakistan\, Faisalabad\, Pakistan
END:VEVENT
END:VCALENDAR